{"text_format":"1","workbook":"xlsx","n_sheets":2,"sheets":["OrderForm","Pricelist"],"not_rendered":{"charts":0,"images":2,"macros":1,"external_links":1,"defined_names":5,"comments":0,"pivot_tables":0},"unopened":[],"bounds":{"document_bytes":16777216,"sheet_cells":100000,"rows_first":2000,"rows_last":500,"rows_between":2000,"halvings":0,"cell_chars":16384,"cell_head_chars":4096},"cells_cut":0,"cells_raw":0,"read":"whole","date_system":"1900"}

{"sheet":"OrderForm","index":0,"n_rows":309,"n_cols":12,"rows_kept":309,"cut":false,"hidden":false,"merged":[[3,5,3,8],[5,5,5,8],[0,2,0,4],[2,2,2,3],[4,2,4,10],[0,8,0,11]]}
[null,null,null,null,null,"Discount",null,null,"ORDER FORM"]
[]
["Date",null,{"$f":"NOW()","v":"2024-07-29T14:33:52.050"},null,null,"Ref. Number"]
[]
["Comments"]
[]
["Please fill only yellou column",null,null,null,null,null,null,"TOTAL",{"$f":"SUM(I10:I309)","v":0}]
[]
["No","Code","Q-ty","On Stock","Product","State","Basic Price","Cient price","Total",null,"Expected Delivery","Pakages"]
[1,null,null,{"$f":"IF(C10>0,IF(C10>VLOOKUP(B10,Pricelist!A:I,6,0),VLOOKUP(B10,Pricelist!A:I,6,0),C10),\"\")","v":""},{"$f":"IF(B10>0,VLOOKUP(B10,Pricelist!A:I,2,FALSE),\"\")","v":""},{"$f":"IF(B10>0,VLOOKUP(B10,Pricelist!A:I,5,0),\"\")","v":""},{"$f":"IF(B10,VLOOKUP(B10,Pricelist!A:I,3,0),\"\")","v":""},{"$f":"IF(B10>0,G10*(1-$G$1),\"\")","v":""},{"$f":"IF(J10>0,IF(B10>0,D10*H10,\"\"),\"\")","v":""},{"$f":"SUMIF(Pricelist!A:A,B10,Pricelist!A:A)","v":0},{"$f":"IF(B10>0,(IF(C10>D10,VLOOKUP(B10,Pricelist!A:I,9,FALSE),\"\")),\"\")","v":""},{"$f":"IF(B10>0,VLOOKUP(B10,Pricelist!A:I,7,FALSE),\"\")","v":""}]
[{"$f":"A10+1","v":2},null,null,{"$f":"IF(C11>0,IF(C11>VLOOKUP(B11,Pricelist!A:I,6,0),VLOOKUP(B11,Pricelist!A:I,6,0),C11),\"\")","v":""},{"$f":"IF(B11>0,VLOOKUP(B11,Pricelist!A:I,2,FALSE),\"\")","v":""},{"$f":"IF(B11>0,VLOOKUP(B11,Pricelist!A:I,5,0),\"\")","v":""},{"$f":"IF(B11,VLOOKUP(B11,Pricelist!A:I,3,0),\"\")","v":""},{"$f":"IF(B11>0,G11*(1-$G$1),\"\")","v":""},{"$f":"IF(J11>0,IF(B11>0,D11*H11,\"\"),\"\")","v":""},{"$f":"SUMIF(Pricelist!A:A,B11,Pricelist!A:A)","v":0},{"$f":"IF(B11>0,(IF(C11>D11,VLOOKUP(B11,Pricelist!A:I,9,FALSE),\"\")),\"\")","v":""},{"$f":"IF(B11>0,VLOOKUP(B11,Pricelist!A:I,7,FALSE),\"\")","v":""}]
[3,null,null,{"$f":"IF(C12>0,IF(C12>VLOOKUP(B12,Pricelist!A:I,6,0),VLOOKUP(B12,Pricelist!A:I,6,0),C12),\"\")","v":""},{"$f":"IF(B12>0,VLOOKUP(B12,Pricelist!A:I,2,FALSE),\"\")","v":""},{"$f":"IF(B12>0,VLOOKUP(B12,Pricelist!A:I,5,0),\"\")","v":""},{"$f":"IF(B12,VLOOKUP(B12,Pricelist!A:I,3,0),\"\")","v":""},"","",{"$f":"SUMIF(Pricelist!A:A,B12,Pricelist!A:A)","v":0},{"$f":"IF(B12>0,(IF(C12>D12,VLOOKUP(B12,Pricelist!A:I,9,FALSE),\"\")),\"\")","v":""},{"$f":"IF(B12>0,VLOOKUP(B12,Pricelist!A:I,7,FALSE),\"\")","v":""}]
[4,null,null,{"$f":"IF(C13>0,IF(C13>VLOOKUP(B13,Pricelist!A:I,6,0),VLOOKUP(B13,Pricelist!A:I,6,0),C13),\"\")","v":""},{"$f":"IF(B13>0,VLOOKUP(B13,Pricelist!A:I,2,FALSE),\"\")","v":""},{"$f":"IF(B13>0,VLOOKUP(B13,Pricelist!A:I,5,0),\"\")","v":""},{"$f":"IF(B13,VLOOKUP(B13,Pricelist!A:I,3,0),\"\")","v":""},"","",{"$f":"SUMIF(Pricelist!A:A,B13,Pricelist!A:A)","v":0},{"$f":"IF(B13>0,(IF(C13>D13,VLOOKUP(B13,Pricelist!A:I,9,FALSE),\"\")),\"\")","v":""},{"$f":"IF(B13>0,VLOOKUP(B13,Pricelist!A:I,7,FALSE),\"\")","v":""}]
[5,null,null,{"$f":"IF(C14>0,IF(C14>VLOOKUP(B14,Pricelist!A:I,6,0),VLOOKUP(B14,Pricelist!A:I,6,0),C14),\"\")","v":""},{"$f":"IF(B14>0,VLOOKUP(B14,Pricelist!A:I,2,FALSE),\"\")","v":""},{"$f":"IF(B14>0,VLOOKUP(B14,Pricelist!A:I,5,0),\"\")","v":""},{"$f":"IF(B14,VLOOKUP(B14,Pricelist!A:I,3,0),\"\")","v":""},"","",{"$f":"SUMIF(Pricelist!A:A,B14,Pricelist!A:A)","v":0},{"$f":"IF(B14>0,(IF(C14>D14,VLOOKUP(B14,Pricelist!A:I,9,FALSE),\"\")),\"\")","v":""},{"$f":"IF(B14>0,VLOOKUP(B14,Pricelist!A:I,7,FALSE),\"\")","v":""}]
[6,null,null,{"$f":"IF(C15>0,IF(C15>VLOOKUP(B15,Pricelist!A:I,6,0),VLOOKUP(B15,Pricelist!A:I,6,0),C15),\"\")","v":""},{"$f":"IF(B15>0,VLOOKUP(B15,Pricelist!A:I,2,FALSE),\"\")","v":""},{"$f":"IF(B15>0,VLOOKUP(B15,Pricelist!A:I,5,0),\"\")","v":""},{"$f":"IF(B15,VLOOKUP(B15,Pricelist!A:I,3,0),\"\")","v":""},"","",{"$f":"SUMIF(Pricelist!A:A,B15,Pricelist!A:A)","v":0},{"$f":"IF(B15>0,(IF(C15>D15,VLOOKUP(B15,Pricelist!A:I,9,FALSE),\"\")),\"\")","v":""},{"$f":"IF(B15>0,VLOOKUP(B15,Pricelist!A:I,7,FALSE),\"\")","v":""}]
[7,null,null,{"$f":"IF(C16>0,IF(C16>VLOOKUP(B16,Pricelist!A:I,6,0),VLOOKUP(B16,Pricelist!A:I,6,0),C16),\"\")","v":""},{"$f":"IF(B16>0,VLOOKUP(B16,Pricelist!A:I,2,FALSE),\"\")","v":""},{"$f":"IF(B16>0,VLOOKUP(B16,Pricelist!A:I,5,0),\"\")","v":""},{"$f":"IF(B16,VLOOKUP(B16,Pricelist!A:I,3,0),\"\")","v":""},"","",{"$f":"SUMIF(Pricelist!A:A,B16,Pricelist!A:A)","v":0},{"$f":"IF(B16>0,(IF(C16>D16,VLOOKUP(B16,Pricelist!A:I,9,FALSE),\"\")),\"\")","v":""},{"$f":"IF(B16>0,VLOOKUP(B16,Pricelist!A:I,7,FALSE),\"\")","v":""}]
[8,null,null,{"$f":"IF(C17>0,IF(C17>VLOOKUP(B17,Pricelist!A:I,6,0),VLOOKUP(B17,Pricelist!A:I,6,0),C17),\"\")","v":""},{"$f":"IF(B17>0,VLOOKUP(B17,Pricelist!A:I,2,FALSE),\"\")","v":""},{"$f":"IF(B17>0,VLOOKUP(B17,Pricelist!A:I,5,0),\"\")","v":""},{"$f":"IF(B17,VLOOKUP(B17,Pricelist!A:I,3,0),\"\")","v":""},"","",{"$f":"SUMIF(Pricelist!A:A,B17,Pricelist!A:A)","v":0},{"$f":"IF(B17>0,(IF(C17>D17,VLOOKUP(B17,Pricelist!A:I,9,FALSE),\"\")),\"\")","v":""},{"$f":"IF(B17>0,VLOOKUP(B17,Pricelist!A:I,7,FALSE),\"\")","v":""}]
[9,null,null,{"$f":"IF(C18>0,IF(C18>VLOOKUP(B18,Pricelist!A:I,6,0),VLOOKUP(B18,Pricelist!A:I,6,0),C18),\"\")","v":""},{"$f":"IF(B18>0,VLOOKUP(B18,Pricelist!A:I,2,FALSE),\"\")","v":""},{"$f":"IF(B18>0,VLOOKUP(B18,Pricelist!A:I,5,0),\"\")","v":""},{"$f":"IF(B18,VLOOKUP(B18,Pricelist!A:I,3,0),\"\")","v":""},"","",{"$f":"SUMIF(Pricelist!A:A,B18,Pricelist!A:A)","v":0},{"$f":"IF(B18>0,(IF(C18>D18,VLOOKUP(B18,Pricelist!A:I,9,FALSE),\"\")),\"\")","v":""},{"$f":"IF(B18>0,VLOOKUP(B18,Pricelist!A:I,7,FALSE),\"\")","v":""}]
[10,null,null,{"$f":"IF(C19>0,IF(C19>VLOOKUP(B19,Pricelist!A:I,6,0),VLOOKUP(B19,Pricelist!A:I,6,0),C19),\"\")","v":""},{"$f":"IF(B19>0,VLOOKUP(B19,Pricelist!A:I,2,FALSE),\"\")","v":""},{"$f":"IF(B19>0,VLOOKUP(B19,Pricelist!A:I,5,0),\"\")","v":""},{"$f":"IF(B19,VLOOKUP(B19,Pricelist!A:I,3,0),\"\")","v":""},"","",{"$f":"SUMIF(Pricelist!A:A,B19,Pricelist!A:A)","v":0},{"$f":"IF(B19>0,(IF(C19>D19,VLOOKUP(B19,Pricelist!A:I,9,FALSE),\"\")),\"\")","v":""},{"$f":"IF(B19>0,VLOOKUP(B19,Pricelist!A:I,7,FALSE),\"\")","v":""}]
[11,null,null,{"$f":"IF(C20>0,IF(C20>VLOOKUP(B20,Pricelist!A:I,6,0),VLOOKUP(B20,Pricelist!A:I,6,0),C20),\"\")","v":""},{"$f":"IF(B20>0,VLOOKUP(B20,Pricelist!A:I,2,FALSE),\"\")","v":""},{"$f":"IF(B20>0,VLOOKUP(B20,Pricelist!A:I,5,0),\"\")","v":""},{"$f":"IF(B20,VLOOKUP(B20,Pricelist!A:I,3,0),\"\")","v":""},"","",{"$f":"SUMIF(Pricelist!A:A,B20,Pricelist!A:A)","v":0},{"$f":"IF(B20>0,(IF(C20>D20,VLOOKUP(B20,Pricelist!A:I,9,FALSE),\"\")),\"\")","v":""},{"$f":"IF(B20>0,VLOOKUP(B20,Pricelist!A:I,7,FALSE),\"\")","v":""}]
[12,null,null,{"$f":"IF(C21>0,IF(C21>VLOOKUP(B21,Pricelist!A:I,6,0),VLOOKUP(B21,Pricelist!A:I,6,0),C21),\"\")","v":""},{"$f":"IF(B21>0,VLOOKUP(B21,Pricelist!A:I,2,FALSE),\"\")","v":""},{"$f":"IF(B21>0,VLOOKUP(B21,Pricelist!A:I,5,0),\"\")","v":""},{"$f":"IF(B21,VLOOKUP(B21,Pricelist!A:I,3,0),\"\")","v":""},"","",{"$f":"SUMIF(Pricelist!A:A,B21,Pricelist!A:A)","v":0},{"$f":"IF(B21>0,(IF(C21>D21,VLOOKUP(B21,Pricelist!A:I,9,FALSE),\"\")),\"\")","v":""},{"$f":"IF(B21>0,VLOOKUP(B21,Pricelist!A:I,7,FALSE),\"\")","v":""}]
[13,null,null,{"$f":"IF(C22>0,IF(C22>VLOOKUP(B22,Pricelist!A:I,6,0),VLOOKUP(B22,Pricelist!A:I,6,0),C22),\"\")","v":""},{"$f":"IF(B22>0,VLOOKUP(B22,Pricelist!A:I,2,FALSE),\"\")","v":""},{"$f":"IF(B22>0,VLOOKUP(B22,Pricelist!A:I,5,0),\"\")","v":""},{"$f":"IF(B22,VLOOKUP(B22,Pricelist!A:I,3,0),\"\")","v":""},"","",{"$f":"SUMIF(Pricelist!A:A,B22,Pricelist!A:A)","v":0},{"$f":"IF(B22>0,(IF(C22>D22,VLOOKUP(B22,Pricelist!A:I,9,FALSE),\"\")),\"\")","v":""},{"$f":"IF(B22>0,VLOOKUP(B22,Pricelist!A:I,7,FALSE),\"\")","v":""}]
[14,null,null,{"$f":"IF(C23>0,IF(C23>VLOOKUP(B23,Pricelist!A:I,6,0),VLOOKUP(B23,Pricelist!A:I,6,0),C23),\"\")","v":""},{"$f":"IF(B23>0,VLOOKUP(B23,Pricelist!A:I,2,FALSE),\"\")","v":""},{"$f":"IF(B23>0,VLOOKUP(B23,Pricelist!A:I,5,0),\"\")","v":""},{"$f":"IF(B23,VLOOKUP(B23,Pricelist!A:I,3,0),\"\")","v":""},{"$f":"IF(B23>0,G23*(1-$G$1),\"\")","v":""},"",{"$f":"SUMIF(Pricelist!A:A,B23,Pricelist!A:A)","v":0},{"$f":"IF(B23>0,(IF(C23>D23,VLOOKUP(B23,Pricelist!A:I,9,FALSE),\"\")),\"\")","v":""},{"$f":"IF(B23>0,VLOOKUP(B23,Pricelist!A:I,7,FALSE),\"\")","v":""}]
[15,null,null,{"$f":"IF(C24>0,IF(C24>VLOOKUP(B24,Pricelist!A:I,6,0),VLOOKUP(B24,Pricelist!A:I,6,0),C24),\"\")","v":""},{"$f":"IF(B24>0,VLOOKUP(B24,Pricelist!A:I,2,FALSE),\"\")","v":""},{"$f":"IF(B24>0,VLOOKUP(B24,Pricelist!A:I,5,0),\"\")","v":""},{"$f":"IF(B24,VLOOKUP(B24,Pricelist!A:I,3,0),\"\")","v":""},{"$f":"IF(B24>0,G24*(1-$G$1),\"\")","v":""},"",{"$f":"SUMIF(Pricelist!A:A,B24,Pricelist!A:A)","v":0},{"$f":"IF(B24>0,(IF(C24>D24,VLOOKUP(B24,Pricelist!A:I,9,FALSE),\"\")),\"\")","v":""},{"$f":"IF(B24>0,VLOOKUP(B24,Pricelist!A:I,7,FALSE),\"\")","v":""}]
[16,null,null,{"$f":"IF(C25>0,IF(C25>VLOOKUP(B25,Pricelist!A:I,6,0),VLOOKUP(B25,Pricelist!A:I,6,0),C25),\"\")","v":""},{"$f":"IF(B25>0,VLOOKUP(B25,Pricelist!A:I,2,FALSE),\"\")","v":""},{"$f":"IF(B25>0,VLOOKUP(B25,Pricelist!A:I,5,0),\"\")","v":""},{"$f":"IF(B25,VLOOKUP(B25,Pricelist!A:I,3,0),\"\")","v":""},"","",{"$f":"SUMIF(Pricelist!A:A,B25,Pricelist!A:A)","v":0},{"$f":"IF(B25>0,(IF(C25>D25,VLOOKUP(B25,Pricelist!A:I,9,FALSE),\"\")),\"\")","v":""},{"$f":"IF(B25>0,VLOOKUP(B25,Pricelist!A:I,7,FALSE),\"\")","v":""}]
[17,null,null,{"$f":"IF(C26>0,IF(C26>VLOOKUP(B26,Pricelist!A:I,6,0),VLOOKUP(B26,Pricelist!A:I,6,0),C26),\"\")","v":""},{"$f":"IF(B26>0,VLOOKUP(B26,Pricelist!A:I,2,FALSE),\"\")","v":""},{"$f":"IF(B26>0,VLOOKUP(B26,Pricelist!A:I,5,0),\"\")","v":""},{"$f":"IF(B26,VLOOKUP(B26,Pricelist!A:I,3,0),\"\")","v":""},"","",{"$f":"SUMIF(Pricelist!A:A,B26,Pricelist!A:A)","v":0},{"$f":"IF(B26>0,(IF(C26>D26,VLOOKUP(B26,Pricelist!A:I,9,FALSE),\"\")),\"\")","v":""},{"$f":"IF(B26>0,VLOOKUP(B26,Pricelist!A:I,7,FALSE),\"\")","v":""}]
[18,null,null,{"$f":"IF(C27>0,IF(C27>VLOOKUP(B27,Pricelist!A:I,6,0),VLOOKUP(B27,Pricelist!A:I,6,0),C27),\"\")","v":""},{"$f":"IF(B27>0,VLOOKUP(B27,Pricelist!A:I,2,FALSE),\"\")","v":""},{"$f":"IF(B27>0,VLOOKUP(B27,Pricelist!A:I,5,0),\"\")","v":""},{"$f":"IF(B27,VLOOKUP(B27,Pricelist!A:I,3,0),\"\")","v":""},"","",{"$f":"SUMIF(Pricelist!A:A,B27,Pricelist!A:A)","v":0},{"$f":"IF(B27>0,(IF(C27>D27,VLOOKUP(B27,Pricelist!A:I,9,FALSE),\"\")),\"\")","v":""},{"$f":"IF(B27>0,VLOOKUP(B27,Pricelist!A:I,7,FALSE),\"\")","v":""}]
[19,null,null,{"$f":"IF(C28>0,IF(C28>VLOOKUP(B28,Pricelist!A:I,6,0),VLOOKUP(B28,Pricelist!A:I,6,0),C28),\"\")","v":""},{"$f":"IF(B28>0,VLOOKUP(B28,Pricelist!A:I,2,FALSE),\"\")","v":""},{"$f":"IF(B28>0,VLOOKUP(B28,Pricelist!A:I,5,0),\"\")","v":""},{"$f":"IF(B28,VLOOKUP(B28,Pricelist!A:I,3,0),\"\")","v":""},"","",{"$f":"SUMIF(Pricelist!A:A,B28,Pricelist!A:A)","v":0},{"$f":"IF(B28>0,(IF(C28>D28,VLOOKUP(B28,Pricelist!A:I,9,FALSE),\"\")),\"\")","v":""},{"$f":"IF(B28>0,VLOOKUP(B28,Pricelist!A:I,7,FALSE),\"\")","v":""}]
[20,null,null,{"$f":"IF(C29>0,IF(C29>VLOOKUP(B29,Pricelist!A:I,6,0),VLOOKUP(B29,Pricelist!A:I,6,0),C29),\"\")","v":""},{"$f":"IF(B29>0,VLOOKUP(B29,Pricelist!A:I,2,FALSE),\"\")","v":""},{"$f":"IF(B29>0,VLOOKUP(B29,Pricelist!A:I,5,0),\"\")","v":""},{"$f":"IF(B29,VLOOKUP(B29,Pricelist!A:I,3,0),\"\")","v":""},"","",{"$f":"SUMIF(Pricelist!A:A,B29,Pricelist!A:A)","v":0},{"$f":"IF(B29>0,(IF(C29>D29,VLOOKUP(B29,Pricelist!A:I,9,FALSE),\"\")),\"\")","v":""},{"$f":"IF(B29>0,VLOOKUP(B29,Pricelist!A:I,7,FALSE),\"\")","v":""}]
[21,null,null,{"$f":"IF(C30>0,IF(C30>VLOOKUP(B30,Pricelist!A:I,6,0),VLOOKUP(B30,Pricelist!A:I,6,0),C30),\"\")","v":""},{"$f":"IF(B30>0,VLOOKUP(B30,Pricelist!A:I,2,FALSE),\"\")","v":""},{"$f":"IF(B30>0,VLOOKUP(B30,Pricelist!A:I,5,0),\"\")","v":""},{"$f":"IF(B30,VLOOKUP(B30,Pricelist!A:I,3,0),\"\")","v":""},"","",{"$f":"SUMIF(Pricelist!A:A,B30,Pricelist!A:A)","v":0},{"$f":"IF(B30>0,(IF(C30>D30,VLOOKUP(B30,Pricelist!A:I,9,FALSE),\"\")),\"\")","v":""},{"$f":"IF(B30>0,VLOOKUP(B30,Pricelist!A:I,7,FALSE),\"\")","v":""}]
[22,null,null,{"$f":"IF(C31>0,IF(C31>VLOOKUP(B31,Pricelist!A:I,6,0),VLOOKUP(B31,Pricelist!A:I,6,0),C31),\"\")","v":""},{"$f":"IF(B31>0,VLOOKUP(B31,Pricelist!A:I,2,FALSE),\"\")","v":""},{"$f":"IF(B31>0,VLOOKUP(B31,Pricelist!A:I,5,0),\"\")","v":""},{"$f":"IF(B31,VLOOKUP(B31,Pricelist!A:I,3,0),\"\")","v":""},"","",{"$f":"SUMIF(Pricelist!A:A,B31,Pricelist!A:A)","v":0},{"$f":"IF(B31>0,(IF(C31>D31,VLOOKUP(B31,Pricelist!A:I,9,FALSE),\"\")),\"\")","v":""},{"$f":"IF(B31>0,VLOOKUP(B31,Pricelist!A:I,7,FALSE),\"\")","v":""}]
[23,null,null,{"$f":"IF(C32>0,IF(C32>VLOOKUP(B32,Pricelist!A:I,6,0),VLOOKUP(B32,Pricelist!A:I,6,0),C32),\"\")","v":""},{"$f":"IF(B32>0,VLOOKUP(B32,Pricelist!A:I,2,FALSE),\"\")","v":""},{"$f":"IF(B32>0,VLOOKUP(B32,Pricelist!A:I,5,0),\"\")","v":""},{"$f":"IF(B32,VLOOKUP(B32,Pricelist!A:I,3,0),\"\")","v":""},"","",{"$f":"SUMIF(Pricelist!A:A,B32,Pricelist!A:A)","v":0},{"$f":"IF(B32>0,(IF(C32>D32,VLOOKUP(B32,Pricelist!A:I,9,FALSE),\"\")),\"\")","v":""},{"$f":"IF(B32>0,VLOOKUP(B32,Pricelist!A:I,7,FALSE),\"\")","v":""}]
[24,null,null,{"$f":"IF(C33>0,IF(C33>VLOOKUP(B33,Pricelist!A:I,6,0),VLOOKUP(B33,Pricelist!A:I,6,0),C33),\"\")","v":""},{"$f":"IF(B33>0,VLOOKUP(B33,Pricelist!A:I,2,FALSE),\"\")","v":""},{"$f":"IF(B33>0,VLOOKUP(B33,Pricelist!A:I,5,0),\"\")","v":""},{"$f":"IF(B33,VLOOKUP(B33,Pricelist!A:I,3,0),\"\")","v":""},"","",{"$f":"SUMIF(Pricelist!A:A,B33,Pricelist!A:A)","v":0},{"$f":"IF(B33>0,(IF(C33>D33,VLOOKUP(B33,Pricelist!A:I,9,FALSE),\"\")),\"\")","v":""},{"$f":"IF(B33>0,VLOOKUP(B33,Pricelist!A:I,7,FALSE),\"\")","v":""}]
[25,null,null,{"$f":"IF(C34>0,IF(C34>VLOOKUP(B34,Pricelist!A:I,6,0),VLOOKUP(B34,Pricelist!A:I,6,0),C34),\"\")","v":""},{"$f":"IF(B34>0,VLOOKUP(B34,Pricelist!A:I,2,FALSE),\"\")","v":""},{"$f":"IF(B34>0,VLOOKUP(B34,Pricelist!A:I,5,0),\"\")","v":""},{"$f":"IF(B34,VLOOKUP(B34,Pricelist!A:I,3,0),\"\")","v":""},"","",{"$f":"SUMIF(Pricelist!A:A,B34,Pricelist!A:A)","v":0},{"$f":"IF(B34>0,(IF(C34>D34,VLOOKUP(B34,Pricelist!A:I,9,FALSE),\"\")),\"\")","v":""},{"$f":"IF(B34>0,VLOOKUP(B34,Pricelist!A:I,7,FALSE),\"\")","v":""}]
[26,null,null,{"$f":"IF(C35>0,IF(C35>VLOOKUP(B35,Pricelist!A:I,6,0),VLOOKUP(B35,Pricelist!A:I,6,0),C35),\"\")","v":""},{"$f":"IF(B35>0,VLOOKUP(B35,Pricelist!A:I,2,FALSE),\"\")","v":""},{"$f":"IF(B35>0,VLOOKUP(B35,Pricelist!A:I,5,0),\"\")","v":""},{"$f":"IF(B35,VLOOKUP(B35,Pricelist!A:I,3,0),\"\")","v":""},"","",{"$f":"SUMIF(Pricelist!A:A,B35,Pricelist!A:A)","v":0},{"$f":"IF(B35>0,(IF(C35>D35,VLOOKUP(B35,Pricelist!A:I,9,FALSE),\"\")),\"\")","v":""},{"$f":"IF(B35>0,VLOOKUP(B35,Pricelist!A:I,7,FALSE),\"\")","v":""}]
[27,null,null,{"$f":"IF(C36>0,IF(C36>VLOOKUP(B36,Pricelist!A:I,6,0),VLOOKUP(B36,Pricelist!A:I,6,0),C36),\"\")","v":""},{"$f":"IF(B36>0,VLOOKUP(B36,Pricelist!A:I,2,FALSE),\"\")","v":""},{"$f":"IF(B36>0,VLOOKUP(B36,Pricelist!A:I,5,0),\"\")","v":""},{"$f":"IF(B36,VLOOKUP(B36,Pricelist!A:I,3,0),\"\")","v":""},"","",{"$f":"SUMIF(Pricelist!A:A,B36,Pricelist!A:A)","v":0},{"$f":"IF(B36>0,(IF(C36>D36,VLOOKUP(B36,Pricelist!A:I,9,FALSE),\"\")),\"\")","v":""},{"$f":"IF(B36>0,VLOOKUP(B36,Pricelist!A:I,7,FALSE),\"\")","v":""}]
[28,null,null,{"$f":"IF(C37>0,IF(C37>VLOOKUP(B37,Pricelist!A:I,6,0),VLOOKUP(B37,Pricelist!A:I,6,0),C37),\"\")","v":""},{"$f":"IF(B37>0,VLOOKUP(B37,Pricelist!A:I,2,FALSE),\"\")","v":""},{"$f":"IF(B37>0,VLOOKUP(B37,Pricelist!A:I,5,0),\"\")","v":""},{"$f":"IF(B37,VLOOKUP(B37,Pricelist!A:I,3,0),\"\")","v":""},"","",{"$f":"SUMIF(Pricelist!A:A,B37,Pricelist!A:A)","v":0},{"$f":"IF(B37>0,(IF(C37>D37,VLOOKUP(B37,Pricelist!A:I,9,FALSE),\"\")),\"\")","v":""},{"$f":"IF(B37>0,VLOOKUP(B37,Pricelist!A:I,7,FALSE),\"\")","v":""}]
[29,null,null,{"$f":"IF(C38>0,IF(C38>VLOOKUP(B38,Pricelist!A:I,6,0),VLOOKUP(B38,Pricelist!A:I,6,0),C38),\"\")","v":""},{"$f":"IF(B38>0,VLOOKUP(B38,Pricelist!A:I,2,FALSE),\"\")","v":""},{"$f":"IF(B38>0,VLOOKUP(B38,Pricelist!A:I,5,0),\"\")","v":""},{"$f":"IF(B38,VLOOKUP(B38,Pricelist!A:I,3,0),\"\")","v":""},"","",{"$f":"SUMIF(Pricelist!A:A,B38,Pricelist!A:A)","v":0},{"$f":"IF(B38>0,(IF(C38>D38,VLOOKUP(B38,Pricelist!A:I,9,FALSE),\"\")),\"\")","v":""},{"$f":"IF(B38>0,VLOOKUP(B38,Pricelist!A:I,7,FALSE),\"\")","v":""}]
[30,null,null,{"$f":"IF(C39>0,IF(C39>VLOOKUP(B39,Pricelist!A:I,6,0),VLOOKUP(B39,Pricelist!A:I,6,0),C39),\"\")","v":""},{"$f":"IF(B39>0,VLOOKUP(B39,Pricelist!A:I,2,FALSE),\"\")","v":""},{"$f":"IF(B39>0,VLOOKUP(B39,Pricelist!A:I,5,0),\"\")","v":""},{"$f":"IF(B39,VLOOKUP(B39,Pricelist!A:I,3,0),\"\")","v":""},"","",{"$f":"SUMIF(Pricelist!A:A,B39,Pricelist!A:A)","v":0},{"$f":"IF(B39>0,(IF(C39>D39,VLOOKUP(B39,Pricelist!A:I,9,FALSE),\"\")),\"\")","v":""},{"$f":"IF(B39>0,VLOOKUP(B39,Pricelist!A:I,7,FALSE),\"\")","v":""}]
[31,null,null,{"$f":"IF(C40>0,IF(C40>VLOOKUP(B40,Pricelist!A:I,6,0),VLOOKUP(B40,Pricelist!A:I,6,0),C40),\"\")","v":""},{"$f":"IF(B40>0,VLOOKUP(B40,Pricelist!A:I,2,FALSE),\"\")","v":""},{"$f":"IF(B40>0,VLOOKUP(B40,Pricelist!A:I,5,0),\"\")","v":""},{"$f":"IF(B40,VLOOKUP(B40,Pricelist!A:I,3,0),\"\")","v":""},"","",{"$f":"SUMIF(Pricelist!A:A,B40,Pricelist!A:A)","v":0},{"$f":"IF(B40>0,(IF(C40>D40,VLOOKUP(B40,Pricelist!A:I,9,FALSE),\"\")),\"\")","v":""},{"$f":"IF(B40>0,VLOOKUP(B40,Pricelist!A:I,7,FALSE),\"\")","v":""}]
[32,null,null,{"$f":"IF(C41>0,IF(C41>VLOOKUP(B41,Pricelist!A:I,6,0),VLOOKUP(B41,Pricelist!A:I,6,0),C41),\"\")","v":""},{"$f":"IF(B41>0,VLOOKUP(B41,Pricelist!A:I,2,FALSE),\"\")","v":""},{"$f":"IF(B41>0,VLOOKUP(B41,Pricelist!A:I,5,0),\"\")","v":""},{"$f":"IF(B41,VLOOKUP(B41,Pricelist!A:I,3,0),\"\")","v":""},"","",{"$f":"SUMIF(Pricelist!A:A,B41,Pricelist!A:A)","v":0},{"$f":"IF(B41>0,(IF(C41>D41,VLOOKUP(B41,Pricelist!A:I,9,FALSE),\"\")),\"\")","v":""},{"$f":"IF(B41>0,VLOOKUP(B41,Pricelist!A:I,7,FALSE),\"\")","v":""}]
[33,null,null,{"$f":"IF(C42>0,IF(C42>VLOOKUP(B42,Pricelist!A:I,6,0),VLOOKUP(B42,Pricelist!A:I,6,0),C42),\"\")","v":""},{"$f":"IF(B42>0,VLOOKUP(B42,Pricelist!A:I,2,FALSE),\"\")","v":""},{"$f":"IF(B42>0,VLOOKUP(B42,Pricelist!A:I,5,0),\"\")","v":""},{"$f":"IF(B42,VLOOKUP(B42,Pricelist!A:I,3,0),\"\")","v":""},"","",{"$f":"SUMIF(Pricelist!A:A,B42,Pricelist!A:A)","v":0},{"$f":"IF(B42>0,(IF(C42>D42,VLOOKUP(B42,Pricelist!A:I,9,FALSE),\"\")),\"\")","v":""},{"$f":"IF(B42>0,VLOOKUP(B42,Pricelist!A:I,7,FALSE),\"\")","v":""}]
[34,null,null,{"$f":"IF(C43>0,IF(C43>VLOOKUP(B43,Pricelist!A:I,6,0),VLOOKUP(B43,Pricelist!A:I,6,0),C43),\"\")","v":""},{"$f":"IF(B43>0,VLOOKUP(B43,Pricelist!A:I,2,FALSE),\"\")","v":""},{"$f":"IF(B43>0,VLOOKUP(B43,Pricelist!A:I,5,0),\"\")","v":""},{"$f":"IF(B43,VLOOKUP(B43,Pricelist!A:I,3,0),\"\")","v":""},"","",{"$f":"SUMIF(Pricelist!A:A,B43,Pricelist!A:A)","v":0},{"$f":"IF(B43>0,(IF(C43>D43,VLOOKUP(B43,Pricelist!A:I,9,FALSE),\"\")),\"\")","v":""},{"$f":"IF(B43>0,VLOOKUP(B43,Pricelist!A:I,7,FALSE),\"\")","v":""}]
[35,null,null,{"$f":"IF(C44>0,IF(C44>VLOOKUP(B44,Pricelist!A:I,6,0),VLOOKUP(B44,Pricelist!A:I,6,0),C44),\"\")","v":""},{"$f":"IF(B44>0,VLOOKUP(B44,Pricelist!A:I,2,FALSE),\"\")","v":""},{"$f":"IF(B44>0,VLOOKUP(B44,Pricelist!A:I,5,0),\"\")","v":""},{"$f":"IF(B44,VLOOKUP(B44,Pricelist!A:I,3,0),\"\")","v":""},"","",{"$f":"SUMIF(Pricelist!A:A,B44,Pricelist!A:A)","v":0},{"$f":"IF(B44>0,(IF(C44>D44,VLOOKUP(B44,Pricelist!A:I,9,FALSE),\"\")),\"\")","v":""},{"$f":"IF(B44>0,VLOOKUP(B44,Pricelist!A:I,7,FALSE),\"\")","v":""}]
[36,null,null,{"$f":"IF(C45>0,IF(C45>VLOOKUP(B45,Pricelist!A:I,6,0),VLOOKUP(B45,Pricelist!A:I,6,0),C45),\"\")","v":""},{"$f":"IF(B45>0,VLOOKUP(B45,Pricelist!A:I,2,FALSE),\"\")","v":""},{"$f":"IF(B45>0,VLOOKUP(B45,Pricelist!A:I,5,0),\"\")","v":""},{"$f":"IF(B45,VLOOKUP(B45,Pricelist!A:I,3,0),\"\")","v":""},"","",{"$f":"SUMIF(Pricelist!A:A,B45,Pricelist!A:A)","v":0},{"$f":"IF(B45>0,(IF(C45>D45,VLOOKUP(B45,Pricelist!A:I,9,FALSE),\"\")),\"\")","v":""},{"$f":"IF(B45>0,VLOOKUP(B45,Pricelist!A:I,7,FALSE),\"\")","v":""}]
[37,null,null,{"$f":"IF(C46>0,IF(C46>VLOOKUP(B46,Pricelist!A:I,6,0),VLOOKUP(B46,Pricelist!A:I,6,0),C46),\"\")","v":""},{"$f":"IF(B46>0,VLOOKUP(B46,Pricelist!A:I,2,FALSE),\"\")","v":""},{"$f":"IF(B46>0,VLOOKUP(B46,Pricelist!A:I,5,0),\"\")","v":""},{"$f":"IF(B46,VLOOKUP(B46,Pricelist!A:I,3,0),\"\")","v":""},"","",{"$f":"SUMIF(Pricelist!A:A,B46,Pricelist!A:A)","v":0},{"$f":"IF(B46>0,(IF(C46>D46,VLOOKUP(B46,Pricelist!A:I,9,FALSE),\"\")),\"\")","v":""},{"$f":"IF(B46>0,VLOOKUP(B46,Pricelist!A:I,7,FALSE),\"\")","v":""}]
[38,null,null,{"$f":"IF(C47>0,IF(C47>VLOOKUP(B47,Pricelist!A:I,6,0),VLOOKUP(B47,Pricelist!A:I,6,0),C47),\"\")","v":""},{"$f":"IF(B47>0,VLOOKUP(B47,Pricelist!A:I,2,FALSE),\"\")","v":""},{"$f":"IF(B47>0,VLOOKUP(B47,Pricelist!A:I,5,0),\"\")","v":""},{"$f":"IF(B47,VLOOKUP(B47,Pricelist!A:I,3,0),\"\")","v":""},"","",{"$f":"SUMIF(Pricelist!A:A,B47,Pricelist!A:A)","v":0},{"$f":"IF(B47>0,(IF(C47>D47,VLOOKUP(B47,Pricelist!A:I,9,FALSE),\"\")),\"\")","v":""},{"$f":"IF(B47>0,VLOOKUP(B47,Pricelist!A:I,7,FALSE),\"\")","v":""}]
[39,null,null,{"$f":"IF(C48>0,IF(C48>VLOOKUP(B48,Pricelist!A:I,6,0),VLOOKUP(B48,Pricelist!A:I,6,0),C48),\"\")","v":""},{"$f":"IF(B48>0,VLOOKUP(B48,Pricelist!A:I,2,FALSE),\"\")","v":""},{"$f":"IF(B48>0,VLOOKUP(B48,Pricelist!A:I,5,0),\"\")","v":""},{"$f":"IF(B48,VLOOKUP(B48,Pricelist!A:I,3,0),\"\")","v":""},"","",{"$f":"SUMIF(Pricelist!A:A,B48,Pricelist!A:A)","v":0},{"$f":"IF(B48>0,(IF(C48>D48,VLOOKUP(B48,Pricelist!A:I,9,FALSE),\"\")),\"\")","v":""},{"$f":"IF(B48>0,VLOOKUP(B48,Pricelist!A:I,7,FALSE),\"\")","v":""}]
[40,null,null,{"$f":"IF(C49>0,IF(C49>VLOOKUP(B49,Pricelist!A:I,6,0),VLOOKUP(B49,Pricelist!A:I,6,0),C49),\"\")","v":""},{"$f":"IF(B49>0,VLOOKUP(B49,Pricelist!A:I,2,FALSE),\"\")","v":""},{"$f":"IF(B49>0,VLOOKUP(B49,Pricelist!A:I,5,0),\"\")","v":""},{"$f":"IF(B49,VLOOKUP(B49,Pricelist!A:I,3,0),\"\")","v":""},"","",{"$f":"SUMIF(Pricelist!A:A,B49,Pricelist!A:A)","v":0},{"$f":"IF(B49>0,(IF(C49>D49,VLOOKUP(B49,Pricelist!A:I,9,FALSE),\"\")),\"\")","v":""},{"$f":"IF(B49>0,VLOOKUP(B49,Pricelist!A:I,7,FALSE),\"\")","v":""}]
[41,null,null,{"$f":"IF(C50>0,IF(C50>VLOOKUP(B50,Pricelist!A:I,6,0),VLOOKUP(B50,Pricelist!A:I,6,0),C50),\"\")","v":""},{"$f":"IF(B50>0,VLOOKUP(B50,Pricelist!A:I,2,FALSE),\"\")","v":""},{"$f":"IF(B50>0,VLOOKUP(B50,Pricelist!A:I,5,0),\"\")","v":""},{"$f":"IF(B50,VLOOKUP(B50,Pricelist!A:I,3,0),\"\")","v":""},"","",{"$f":"SUMIF(Pricelist!A:A,B50,Pricelist!A:A)","v":0},{"$f":"IF(B50>0,(IF(C50>D50,VLOOKUP(B50,Pricelist!A:I,9,FALSE),\"\")),\"\")","v":""},{"$f":"IF(B50>0,VLOOKUP(B50,Pricelist!A:I,7,FALSE),\"\")","v":""}]
[42,null,null,{"$f":"IF(C51>0,IF(C51>VLOOKUP(B51,Pricelist!A:I,6,0),VLOOKUP(B51,Pricelist!A:I,6,0),C51),\"\")","v":""},{"$f":"IF(B51>0,VLOOKUP(B51,Pricelist!A:I,2,FALSE),\"\")","v":""},{"$f":"IF(B51>0,VLOOKUP(B51,Pricelist!A:I,5,0),\"\")","v":""},{"$f":"IF(B51,VLOOKUP(B51,Pricelist!A:I,3,0),\"\")","v":""},"","",{"$f":"SUMIF(Pricelist!A:A,B51,Pricelist!A:A)","v":0},{"$f":"IF(B51>0,(IF(C51>D51,VLOOKUP(B51,Pricelist!A:I,9,FALSE),\"\")),\"\")","v":""},{"$f":"IF(B51>0,VLOOKUP(B51,Pricelist!A:I,7,FALSE),\"\")","v":""}]
[43,null,null,{"$f":"IF(C52>0,IF(C52>VLOOKUP(B52,Pricelist!A:I,6,0),VLOOKUP(B52,Pricelist!A:I,6,0),C52),\"\")","v":""},{"$f":"IF(B52>0,VLOOKUP(B52,Pricelist!A:I,2,FALSE),\"\")","v":""},{"$f":"IF(B52>0,VLOOKUP(B52,Pricelist!A:I,5,0),\"\")","v":""},{"$f":"IF(B52,VLOOKUP(B52,Pricelist!A:I,3,0),\"\")","v":""},{"$f":"IF(B52>0,G52*(1-$G$1),\"\")","v":""},"",{"$f":"SUMIF(Pricelist!A:A,B52,Pricelist!A:A)","v":0},{"$f":"IF(B52>0,(IF(C52>D52,VLOOKUP(B52,Pricelist!A:I,9,FALSE),\"\")),\"\")","v":""},{"$f":"IF(B52>0,VLOOKUP(B52,Pricelist!A:I,7,FALSE),\"\")","v":""}]
[44,null,null,{"$f":"IF(C53>0,IF(C53>VLOOKUP(B53,Pricelist!A:I,6,0),VLOOKUP(B53,Pricelist!A:I,6,0),C53),\"\")","v":""},{"$f":"IF(B53>0,VLOOKUP(B53,Pricelist!A:I,2,FALSE),\"\")","v":""},{"$f":"IF(B53>0,VLOOKUP(B53,Pricelist!A:I,5,0),\"\")","v":""},{"$f":"IF(B53,VLOOKUP(B53,Pricelist!A:I,3,0),\"\")","v":""},{"$f":"IF(B53>0,G53*(1-$G$1),\"\")","v":""},"",{"$f":"SUMIF(Pricelist!A:A,B53,Pricelist!A:A)","v":0},{"$f":"IF(B53>0,(IF(C53>D53,VLOOKUP(B53,Pricelist!A:I,9,FALSE),\"\")),\"\")","v":""},{"$f":"IF(B53>0,VLOOKUP(B53,Pricelist!A:I,7,FALSE),\"\")","v":""}]
[45,null,null,{"$f":"IF(C54>0,IF(C54>VLOOKUP(B54,Pricelist!A:I,6,0),VLOOKUP(B54,Pricelist!A:I,6,0),C54),\"\")","v":""},{"$f":"IF(B54>0,VLOOKUP(B54,Pricelist!A:I,2,FALSE),\"\")","v":""},{"$f":"IF(B54>0,VLOOKUP(B54,Pricelist!A:I,5,0),\"\")","v":""},{"$f":"IF(B54,VLOOKUP(B54,Pricelist!A:I,3,0),\"\")","v":""},"","",{"$f":"SUMIF(Pricelist!A:A,B54,Pricelist!A:A)","v":0},{"$f":"IF(B54>0,(IF(C54>D54,VLOOKUP(B54,Pricelist!A:I,9,FALSE),\"\")),\"\")","v":""},{"$f":"IF(B54>0,VLOOKUP(B54,Pricelist!A:I,7,FALSE),\"\")","v":""}]
[46,null,null,{"$f":"IF(C55>0,IF(C55>VLOOKUP(B55,Pricelist!A:I,6,0),VLOOKUP(B55,Pricelist!A:I,6,0),C55),\"\")","v":""},{"$f":"IF(B55>0,VLOOKUP(B55,Pricelist!A:I,2,FALSE),\"\")","v":""},{"$f":"IF(B55>0,VLOOKUP(B55,Pricelist!A:I,5,0),\"\")","v":""},{"$f":"IF(B55,VLOOKUP(B55,Pricelist!A:I,3,0),\"\")","v":""},"","",{"$f":"SUMIF(Pricelist!A:A,B55,Pricelist!A:A)","v":0},{"$f":"IF(B55>0,(IF(C55>D55,VLOOKUP(B55,Pricelist!A:I,9,FALSE),\"\")),\"\")","v":""},{"$f":"IF(B55>0,VLOOKUP(B55,Pricelist!A:I,7,FALSE),\"\")","v":""}]
[47,null,null,{"$f":"IF(C56>0,IF(C56>VLOOKUP(B56,Pricelist!A:I,6,0),VLOOKUP(B56,Pricelist!A:I,6,0),C56),\"\")","v":""},{"$f":"IF(B56>0,VLOOKUP(B56,Pricelist!A:I,2,FALSE),\"\")","v":""},{"$f":"IF(B56>0,VLOOKUP(B56,Pricelist!A:I,5,0),\"\")","v":""},{"$f":"IF(B56,VLOOKUP(B56,Pricelist!A:I,3,0),\"\")","v":""},"","",{"$f":"SUMIF(Pricelist!A:A,B56,Pricelist!A:A)","v":0},{"$f":"IF(B56>0,(IF(C56>D56,VLOOKUP(B56,Pricelist!A:I,9,FALSE),\"\")),\"\")","v":""},{"$f":"IF(B56>0,VLOOKUP(B56,Pricelist!A:I,7,FALSE),\"\")","v":""}]
[48,null,null,{"$f":"IF(C57>0,IF(C57>VLOOKUP(B57,Pricelist!A:I,6,0),VLOOKUP(B57,Pricelist!A:I,6,0),C57),\"\")","v":""},{"$f":"IF(B57>0,VLOOKUP(B57,Pricelist!A:I,2,FALSE),\"\")","v":""},{"$f":"IF(B57>0,VLOOKUP(B57,Pricelist!A:I,5,0),\"\")","v":""},{"$f":"IF(B57,VLOOKUP(B57,Pricelist!A:I,3,0),\"\")","v":""},"","",{"$f":"SUMIF(Pricelist!A:A,B57,Pricelist!A:A)","v":0},{"$f":"IF(B57>0,(IF(C57>D57,VLOOKUP(B57,Pricelist!A:I,9,FALSE),\"\")),\"\")","v":""},{"$f":"IF(B57>0,VLOOKUP(B57,Pricelist!A:I,7,FALSE),\"\")","v":""}]
[49,null,null,{"$f":"IF(C58>0,IF(C58>VLOOKUP(B58,Pricelist!A:I,6,0),VLOOKUP(B58,Pricelist!A:I,6,0),C58),\"\")","v":""},{"$f":"IF(B58>0,VLOOKUP(B58,Pricelist!A:I,2,FALSE),\"\")","v":""},{"$f":"IF(B58>0,VLOOKUP(B58,Pricelist!A:I,5,0),\"\")","v":""},{"$f":"IF(B58,VLOOKUP(B58,Pricelist!A:I,3,0),\"\")","v":""},"","",{"$f":"SUMIF(Pricelist!A:A,B58,Pricelist!A:A)","v":0},{"$f":"IF(B58>0,(IF(C58>D58,VLOOKUP(B58,Pricelist!A:I,9,FALSE),\"\")),\"\")","v":""},{"$f":"IF(B58>0,VLOOKUP(B58,Pricelist!A:I,7,FALSE),\"\")","v":""}]
[50,null,null,{"$f":"IF(C59>0,IF(C59>VLOOKUP(B59,Pricelist!A:I,6,0),VLOOKUP(B59,Pricelist!A:I,6,0),C59),\"\")","v":""},{"$f":"IF(B59>0,VLOOKUP(B59,Pricelist!A:I,2,FALSE),\"\")","v":""},{"$f":"IF(B59>0,VLOOKUP(B59,Pricelist!A:I,5,0),\"\")","v":""},{"$f":"IF(B59,VLOOKUP(B59,Pricelist!A:I,3,0),\"\")","v":""},"","",{"$f":"SUMIF(Pricelist!A:A,B59,Pricelist!A:A)","v":0},{"$f":"IF(B59>0,(IF(C59>D59,VLOOKUP(B59,Pricelist!A:I,9,FALSE),\"\")),\"\")","v":""},{"$f":"IF(B59>0,VLOOKUP(B59,Pricelist!A:I,7,FALSE),\"\")","v":""}]
[51,null,null,{"$f":"IF(C60>0,IF(C60>VLOOKUP(B60,Pricelist!A:I,6,0),VLOOKUP(B60,Pricelist!A:I,6,0),C60),\"\")","v":""},{"$f":"IF(B60>0,VLOOKUP(B60,Pricelist!A:I,2,FALSE),\"\")","v":""},{"$f":"IF(B60>0,VLOOKUP(B60,Pricelist!A:I,5,0),\"\")","v":""},{"$f":"IF(B60,VLOOKUP(B60,Pricelist!A:I,3,0),\"\")","v":""},"","",{"$f":"SUMIF(Pricelist!A:A,B60,Pricelist!A:A)","v":0},{"$f":"IF(B60>0,(IF(C60>D60,VLOOKUP(B60,Pricelist!A:I,9,FALSE),\"\")),\"\")","v":""},{"$f":"IF(B60>0,VLOOKUP(B60,Pricelist!A:I,7,FALSE),\"\")","v":""}]
[52,null,null,{"$f":"IF(C61>0,IF(C61>VLOOKUP(B61,Pricelist!A:I,6,0),VLOOKUP(B61,Pricelist!A:I,6,0),C61),\"\")","v":""},{"$f":"IF(B61>0,VLOOKUP(B61,Pricelist!A:I,2,FALSE),\"\")","v":""},{"$f":"IF(B61>0,VLOOKUP(B61,Pricelist!A:I,5,0),\"\")","v":""},{"$f":"IF(B61,VLOOKUP(B61,Pricelist!A:I,3,0),\"\")","v":""},"","",{"$f":"SUMIF(Pricelist!A:A,B61,Pricelist!A:A)","v":0},{"$f":"IF(B61>0,(IF(C61>D61,VLOOKUP(B61,Pricelist!A:I,9,FALSE),\"\")),\"\")","v":""},{"$f":"IF(B61>0,VLOOKUP(B61,Pricelist!A:I,7,FALSE),\"\")","v":""}]
[53,null,null,{"$f":"IF(C62>0,IF(C62>VLOOKUP(B62,Pricelist!A:I,6,0),VLOOKUP(B62,Pricelist!A:I,6,0),C62),\"\")","v":""},{"$f":"IF(B62>0,VLOOKUP(B62,Pricelist!A:I,2,FALSE),\"\")","v":""},{"$f":"IF(B62>0,VLOOKUP(B62,Pricelist!A:I,5,0),\"\")","v":""},{"$f":"IF(B62,VLOOKUP(B62,Pricelist!A:I,3,0),\"\")","v":""},"","",{"$f":"SUMIF(Pricelist!A:A,B62,Pricelist!A:A)","v":0},{"$f":"IF(B62>0,(IF(C62>D62,VLOOKUP(B62,Pricelist!A:I,9,FALSE),\"\")),\"\")","v":""},{"$f":"IF(B62>0,VLOOKUP(B62,Pricelist!A:I,7,FALSE),\"\")","v":""}]
[54,null,null,{"$f":"IF(C63>0,IF(C63>VLOOKUP(B63,Pricelist!A:I,6,0),VLOOKUP(B63,Pricelist!A:I,6,0),C63),\"\")","v":""},{"$f":"IF(B63>0,VLOOKUP(B63,Pricelist!A:I,2,FALSE),\"\")","v":""},{"$f":"IF(B63>0,VLOOKUP(B63,Pricelist!A:I,5,0),\"\")","v":""},{"$f":"IF(B63,VLOOKUP(B63,Pricelist!A:I,3,0),\"\")","v":""},"","",{"$f":"SUMIF(Pricelist!A:A,B63,Pricelist!A:A)","v":0},{"$f":"IF(B63>0,(IF(C63>D63,VLOOKUP(B63,Pricelist!A:I,9,FALSE),\"\")),\"\")","v":""},{"$f":"IF(B63>0,VLOOKUP(B63,Pricelist!A:I,7,FALSE),\"\")","v":""}]
[55,null,null,{"$f":"IF(C64>0,IF(C64>VLOOKUP(B64,Pricelist!A:I,6,0),VLOOKUP(B64,Pricelist!A:I,6,0),C64),\"\")","v":""},{"$f":"IF(B64>0,VLOOKUP(B64,Pricelist!A:I,2,FALSE),\"\")","v":""},{"$f":"IF(B64>0,VLOOKUP(B64,Pricelist!A:I,5,0),\"\")","v":""},{"$f":"IF(B64,VLOOKUP(B64,Pricelist!A:I,3,0),\"\")","v":""},"","",{"$f":"SUMIF(Pricelist!A:A,B64,Pricelist!A:A)","v":0},{"$f":"IF(B64>0,(IF(C64>D64,VLOOKUP(B64,Pricelist!A:I,9,FALSE),\"\")),\"\")","v":""},{"$f":"IF(B64>0,VLOOKUP(B64,Pricelist!A:I,7,FALSE),\"\")","v":""}]
[56,null,null,{"$f":"IF(C65>0,IF(C65>VLOOKUP(B65,Pricelist!A:I,6,0),VLOOKUP(B65,Pricelist!A:I,6,0),C65),\"\")","v":""},{"$f":"IF(B65>0,VLOOKUP(B65,Pricelist!A:I,2,FALSE),\"\")","v":""},{"$f":"IF(B65>0,VLOOKUP(B65,Pricelist!A:I,5,0),\"\")","v":""},{"$f":"IF(B65,VLOOKUP(B65,Pricelist!A:I,3,0),\"\")","v":""},"","",{"$f":"SUMIF(Pricelist!A:A,B65,Pricelist!A:A)","v":0},{"$f":"IF(B65>0,(IF(C65>D65,VLOOKUP(B65,Pricelist!A:I,9,FALSE),\"\")),\"\")","v":""},{"$f":"IF(B65>0,VLOOKUP(B65,Pricelist!A:I,7,FALSE),\"\")","v":""}]
[57,null,null,{"$f":"IF(C66>0,IF(C66>VLOOKUP(B66,Pricelist!A:I,6,0),VLOOKUP(B66,Pricelist!A:I,6,0),C66),\"\")","v":""},{"$f":"IF(B66>0,VLOOKUP(B66,Pricelist!A:I,2,FALSE),\"\")","v":""},{"$f":"IF(B66>0,VLOOKUP(B66,Pricelist!A:I,5,0),\"\")","v":""},{"$f":"IF(B66,VLOOKUP(B66,Pricelist!A:I,3,0),\"\")","v":""},"","",{"$f":"SUMIF(Pricelist!A:A,B66,Pricelist!A:A)","v":0},{"$f":"IF(B66>0,(IF(C66>D66,VLOOKUP(B66,Pricelist!A:I,9,FALSE),\"\")),\"\")","v":""},{"$f":"IF(B66>0,VLOOKUP(B66,Pricelist!A:I,7,FALSE),\"\")","v":""}]
[58,null,null,{"$f":"IF(C67>0,IF(C67>VLOOKUP(B67,Pricelist!A:I,6,0),VLOOKUP(B67,Pricelist!A:I,6,0),C67),\"\")","v":""},{"$f":"IF(B67>0,VLOOKUP(B67,Pricelist!A:I,2,FALSE),\"\")","v":""},{"$f":"IF(B67>0,VLOOKUP(B67,Pricelist!A:I,5,0),\"\")","v":""},{"$f":"IF(B67,VLOOKUP(B67,Pricelist!A:I,3,0),\"\")","v":""},"","",{"$f":"SUMIF(Pricelist!A:A,B67,Pricelist!A:A)","v":0},{"$f":"IF(B67>0,(IF(C67>D67,VLOOKUP(B67,Pricelist!A:I,9,FALSE),\"\")),\"\")","v":""},{"$f":"IF(B67>0,VLOOKUP(B67,Pricelist!A:I,7,FALSE),\"\")","v":""}]
[59,null,null,{"$f":"IF(C68>0,IF(C68>VLOOKUP(B68,Pricelist!A:I,6,0),VLOOKUP(B68,Pricelist!A:I,6,0),C68),\"\")","v":""},{"$f":"IF(B68>0,VLOOKUP(B68,Pricelist!A:I,2,FALSE),\"\")","v":""},{"$f":"IF(B68>0,VLOOKUP(B68,Pricelist!A:I,5,0),\"\")","v":""},{"$f":"IF(B68,VLOOKUP(B68,Pricelist!A:I,3,0),\"\")","v":""},"","",{"$f":"SUMIF(Pricelist!A:A,B68,Pricelist!A:A)","v":0},{"$f":"IF(B68>0,(IF(C68>D68,VLOOKUP(B68,Pricelist!A:I,9,FALSE),\"\")),\"\")","v":""},{"$f":"IF(B68>0,VLOOKUP(B68,Pricelist!A:I,7,FALSE),\"\")","v":""}]
[60,null,null,{"$f":"IF(C69>0,IF(C69>VLOOKUP(B69,Pricelist!A:I,6,0),VLOOKUP(B69,Pricelist!A:I,6,0),C69),\"\")","v":""},{"$f":"IF(B69>0,VLOOKUP(B69,Pricelist!A:I,2,FALSE),\"\")","v":""},{"$f":"IF(B69>0,VLOOKUP(B69,Pricelist!A:I,5,0),\"\")","v":""},{"$f":"IF(B69,VLOOKUP(B69,Pricelist!A:I,3,0),\"\")","v":""},"","",{"$f":"SUMIF(Pricelist!A:A,B69,Pricelist!A:A)","v":0},{"$f":"IF(B69>0,(IF(C69>D69,VLOOKUP(B69,Pricelist!A:I,9,FALSE),\"\")),\"\")","v":""},{"$f":"IF(B69>0,VLOOKUP(B69,Pricelist!A:I,7,FALSE),\"\")","v":""}]
[61,null,null,{"$f":"IF(C70>0,IF(C70>VLOOKUP(B70,Pricelist!A:I,6,0),VLOOKUP(B70,Pricelist!A:I,6,0),C70),\"\")","v":""},{"$f":"IF(B70>0,VLOOKUP(B70,Pricelist!A:I,2,FALSE),\"\")","v":""},{"$f":"IF(B70>0,VLOOKUP(B70,Pricelist!A:I,5,0),\"\")","v":""},{"$f":"IF(B70,VLOOKUP(B70,Pricelist!A:I,3,0),\"\")","v":""},"","",{"$f":"SUMIF(Pricelist!A:A,B70,Pricelist!A:A)","v":0},{"$f":"IF(B70>0,(IF(C70>D70,VLOOKUP(B70,Pricelist!A:I,9,FALSE),\"\")),\"\")","v":""},{"$f":"IF(B70>0,VLOOKUP(B70,Pricelist!A:I,7,FALSE),\"\")","v":""}]
[62,null,null,{"$f":"IF(C71>0,IF(C71>VLOOKUP(B71,Pricelist!A:I,6,0),VLOOKUP(B71,Pricelist!A:I,6,0),C71),\"\")","v":""},{"$f":"IF(B71>0,VLOOKUP(B71,Pricelist!A:I,2,FALSE),\"\")","v":""},{"$f":"IF(B71>0,VLOOKUP(B71,Pricelist!A:I,5,0),\"\")","v":""},{"$f":"IF(B71,VLOOKUP(B71,Pricelist!A:I,3,0),\"\")","v":""},"","",{"$f":"SUMIF(Pricelist!A:A,B71,Pricelist!A:A)","v":0},{"$f":"IF(B71>0,(IF(C71>D71,VLOOKUP(B71,Pricelist!A:I,9,FALSE),\"\")),\"\")","v":""},{"$f":"IF(B71>0,VLOOKUP(B71,Pricelist!A:I,7,FALSE),\"\")","v":""}]
[63,null,null,{"$f":"IF(C72>0,IF(C72>VLOOKUP(B72,Pricelist!A:I,6,0),VLOOKUP(B72,Pricelist!A:I,6,0),C72),\"\")","v":""},{"$f":"IF(B72>0,VLOOKUP(B72,Pricelist!A:I,2,FALSE),\"\")","v":""},{"$f":"IF(B72>0,VLOOKUP(B72,Pricelist!A:I,5,0),\"\")","v":""},{"$f":"IF(B72,VLOOKUP(B72,Pricelist!A:I,3,0),\"\")","v":""},"","",{"$f":"SUMIF(Pricelist!A:A,B72,Pricelist!A:A)","v":0},{"$f":"IF(B72>0,(IF(C72>D72,VLOOKUP(B72,Pricelist!A:I,9,FALSE),\"\")),\"\")","v":""},{"$f":"IF(B72>0,VLOOKUP(B72,Pricelist!A:I,7,FALSE),\"\")","v":""}]
[64,null,null,{"$f":"IF(C73>0,IF(C73>VLOOKUP(B73,Pricelist!A:I,6,0),VLOOKUP(B73,Pricelist!A:I,6,0),C73),\"\")","v":""},{"$f":"IF(B73>0,VLOOKUP(B73,Pricelist!A:I,2,FALSE),\"\")","v":""},{"$f":"IF(B73>0,VLOOKUP(B73,Pricelist!A:I,5,0),\"\")","v":""},{"$f":"IF(B73,VLOOKUP(B73,Pricelist!A:I,3,0),\"\")","v":""},"","",{"$f":"SUMIF(Pricelist!A:A,B73,Pricelist!A:A)","v":0},{"$f":"IF(B73>0,(IF(C73>D73,VLOOKUP(B73,Pricelist!A:I,9,FALSE),\"\")),\"\")","v":""},{"$f":"IF(B73>0,VLOOKUP(B73,Pricelist!A:I,7,FALSE),\"\")","v":""}]
[65,null,null,{"$f":"IF(C74>0,IF(C74>VLOOKUP(B74,Pricelist!A:I,6,0),VLOOKUP(B74,Pricelist!A:I,6,0),C74),\"\")","v":""},{"$f":"IF(B74>0,VLOOKUP(B74,Pricelist!A:I,2,FALSE),\"\")","v":""},{"$f":"IF(B74>0,VLOOKUP(B74,Pricelist!A:I,5,0),\"\")","v":""},{"$f":"IF(B74,VLOOKUP(B74,Pricelist!A:I,3,0),\"\")","v":""},"",{"$f":"IF(J74>0,IF(B74>0,D74*H74,\"\"),\"\")","v":""},{"$f":"SUMIF(Pricelist!A:A,B74,Pricelist!A:A)","v":0},{"$f":"IF(B74>0,(IF(C74>D74,VLOOKUP(B74,Pricelist!A:I,9,FALSE),\"\")),\"\")","v":""},{"$f":"IF(B74>0,VLOOKUP(B74,Pricelist!A:I,7,FALSE),\"\")","v":""}]
[66,null,null,{"$f":"IF(C75>0,IF(C75>VLOOKUP(B75,Pricelist!A:I,6,0),VLOOKUP(B75,Pricelist!A:I,6,0),C75),\"\")","v":""},{"$f":"IF(B75>0,VLOOKUP(B75,Pricelist!A:I,2,FALSE),\"\")","v":""},{"$f":"IF(B75>0,VLOOKUP(B75,Pricelist!A:I,5,0),\"\")","v":""},{"$f":"IF(B75,VLOOKUP(B75,Pricelist!A:I,3,0),\"\")","v":""},{"$f":"IF(B75>0,G75*(1-$G$1),\"\")","v":""},"",{"$f":"SUMIF(Pricelist!A:A,B75,Pricelist!A:A)","v":0},{"$f":"IF(B75>0,(IF(C75>D75,VLOOKUP(B75,Pricelist!A:I,9,FALSE),\"\")),\"\")","v":""},{"$f":"IF(B75>0,VLOOKUP(B75,Pricelist!A:I,7,FALSE),\"\")","v":""}]
[67,null,null,{"$f":"IF(C76>0,IF(C76>VLOOKUP(B76,Pricelist!A:I,6,0),VLOOKUP(B76,Pricelist!A:I,6,0),C76),\"\")","v":""},{"$f":"IF(B76>0,VLOOKUP(B76,Pricelist!A:I,2,FALSE),\"\")","v":""},{"$f":"IF(B76>0,VLOOKUP(B76,Pricelist!A:I,5,0),\"\")","v":""},{"$f":"IF(B76,VLOOKUP(B76,Pricelist!A:I,3,0),\"\")","v":""},"","",{"$f":"SUMIF(Pricelist!A:A,B76,Pricelist!A:A)","v":0},{"$f":"IF(B76>0,(IF(C76>D76,VLOOKUP(B76,Pricelist!A:I,9,FALSE),\"\")),\"\")","v":""},{"$f":"IF(B76>0,VLOOKUP(B76,Pricelist!A:I,7,FALSE),\"\")","v":""}]
[68,null,null,{"$f":"IF(C77>0,IF(C77>VLOOKUP(B77,Pricelist!A:I,6,0),VLOOKUP(B77,Pricelist!A:I,6,0),C77),\"\")","v":""},{"$f":"IF(B77>0,VLOOKUP(B77,Pricelist!A:I,2,FALSE),\"\")","v":""},{"$f":"IF(B77>0,VLOOKUP(B77,Pricelist!A:I,5,0),\"\")","v":""},{"$f":"IF(B77,VLOOKUP(B77,Pricelist!A:I,3,0),\"\")","v":""},"","",{"$f":"SUMIF(Pricelist!A:A,B77,Pricelist!A:A)","v":0},{"$f":"IF(B77>0,(IF(C77>D77,VLOOKUP(B77,Pricelist!A:I,9,FALSE),\"\")),\"\")","v":""},{"$f":"IF(B77>0,VLOOKUP(B77,Pricelist!A:I,7,FALSE),\"\")","v":""}]
[69,null,null,{"$f":"IF(C78>0,IF(C78>VLOOKUP(B78,Pricelist!A:I,6,0),VLOOKUP(B78,Pricelist!A:I,6,0),C78),\"\")","v":""},{"$f":"IF(B78>0,VLOOKUP(B78,Pricelist!A:I,2,FALSE),\"\")","v":""},{"$f":"IF(B78>0,VLOOKUP(B78,Pricelist!A:I,5,0),\"\")","v":""},{"$f":"IF(B78,VLOOKUP(B78,Pricelist!A:I,3,0),\"\")","v":""},"","",{"$f":"SUMIF(Pricelist!A:A,B78,Pricelist!A:A)","v":0},{"$f":"IF(B78>0,(IF(C78>D78,VLOOKUP(B78,Pricelist!A:I,9,FALSE),\"\")),\"\")","v":""},{"$f":"IF(B78>0,VLOOKUP(B78,Pricelist!A:I,7,FALSE),\"\")","v":""}]
[70,null,null,{"$f":"IF(C79>0,IF(C79>VLOOKUP(B79,Pricelist!A:I,6,0),VLOOKUP(B79,Pricelist!A:I,6,0),C79),\"\")","v":""},{"$f":"IF(B79>0,VLOOKUP(B79,Pricelist!A:I,2,FALSE),\"\")","v":""},{"$f":"IF(B79>0,VLOOKUP(B79,Pricelist!A:I,5,0),\"\")","v":""},{"$f":"IF(B79,VLOOKUP(B79,Pricelist!A:I,3,0),\"\")","v":""},"","",{"$f":"SUMIF(Pricelist!A:A,B79,Pricelist!A:A)","v":0},{"$f":"IF(B79>0,(IF(C79>D79,VLOOKUP(B79,Pricelist!A:I,9,FALSE),\"\")),\"\")","v":""},{"$f":"IF(B79>0,VLOOKUP(B79,Pricelist!A:I,7,FALSE),\"\")","v":""}]
[71,null,null,{"$f":"IF(C80>0,IF(C80>VLOOKUP(B80,Pricelist!A:I,6,0),VLOOKUP(B80,Pricelist!A:I,6,0),C80),\"\")","v":""},{"$f":"IF(B80>0,VLOOKUP(B80,Pricelist!A:I,2,FALSE),\"\")","v":""},{"$f":"IF(B80>0,VLOOKUP(B80,Pricelist!A:I,5,0),\"\")","v":""},{"$f":"IF(B80,VLOOKUP(B80,Pricelist!A:I,3,0),\"\")","v":""},"","",{"$f":"SUMIF(Pricelist!A:A,B80,Pricelist!A:A)","v":0},{"$f":"IF(B80>0,(IF(C80>D80,VLOOKUP(B80,Pricelist!A:I,9,FALSE),\"\")),\"\")","v":""},{"$f":"IF(B80>0,VLOOKUP(B80,Pricelist!A:I,7,FALSE),\"\")","v":""}]
[72,null,null,{"$f":"IF(C81>0,IF(C81>VLOOKUP(B81,Pricelist!A:I,6,0),VLOOKUP(B81,Pricelist!A:I,6,0),C81),\"\")","v":""},{"$f":"IF(B81>0,VLOOKUP(B81,Pricelist!A:I,2,FALSE),\"\")","v":""},{"$f":"IF(B81>0,VLOOKUP(B81,Pricelist!A:I,5,0),\"\")","v":""},{"$f":"IF(B81,VLOOKUP(B81,Pricelist!A:I,3,0),\"\")","v":""},"","",{"$f":"SUMIF(Pricelist!A:A,B81,Pricelist!A:A)","v":0},{"$f":"IF(B81>0,(IF(C81>D81,VLOOKUP(B81,Pricelist!A:I,9,FALSE),\"\")),\"\")","v":""},{"$f":"IF(B81>0,VLOOKUP(B81,Pricelist!A:I,7,FALSE),\"\")","v":""}]
[73,null,null,{"$f":"IF(C82>0,IF(C82>VLOOKUP(B82,Pricelist!A:I,6,0),VLOOKUP(B82,Pricelist!A:I,6,0),C82),\"\")","v":""},{"$f":"IF(B82>0,VLOOKUP(B82,Pricelist!A:I,2,FALSE),\"\")","v":""},{"$f":"IF(B82>0,VLOOKUP(B82,Pricelist!A:I,5,0),\"\")","v":""},{"$f":"IF(B82,VLOOKUP(B82,Pricelist!A:I,3,0),\"\")","v":""},"","",{"$f":"SUMIF(Pricelist!A:A,B82,Pricelist!A:A)","v":0},{"$f":"IF(B82>0,(IF(C82>D82,VLOOKUP(B82,Pricelist!A:I,9,FALSE),\"\")),\"\")","v":""},{"$f":"IF(B82>0,VLOOKUP(B82,Pricelist!A:I,7,FALSE),\"\")","v":""}]
[74,null,null,{"$f":"IF(C83>0,IF(C83>VLOOKUP(B83,Pricelist!A:I,6,0),VLOOKUP(B83,Pricelist!A:I,6,0),C83),\"\")","v":""},{"$f":"IF(B83>0,VLOOKUP(B83,Pricelist!A:I,2,FALSE),\"\")","v":""},{"$f":"IF(B83>0,VLOOKUP(B83,Pricelist!A:I,5,0),\"\")","v":""},{"$f":"IF(B83,VLOOKUP(B83,Pricelist!A:I,3,0),\"\")","v":""},"","",{"$f":"SUMIF(Pricelist!A:A,B83,Pricelist!A:A)","v":0},{"$f":"IF(B83>0,(IF(C83>D83,VLOOKUP(B83,Pricelist!A:I,9,FALSE),\"\")),\"\")","v":""},{"$f":"IF(B83>0,VLOOKUP(B83,Pricelist!A:I,7,FALSE),\"\")","v":""}]
[75,null,null,{"$f":"IF(C84>0,IF(C84>VLOOKUP(B84,Pricelist!A:I,6,0),VLOOKUP(B84,Pricelist!A:I,6,0),C84),\"\")","v":""},{"$f":"IF(B84>0,VLOOKUP(B84,Pricelist!A:I,2,FALSE),\"\")","v":""},{"$f":"IF(B84>0,VLOOKUP(B84,Pricelist!A:I,5,0),\"\")","v":""},{"$f":"IF(B84,VLOOKUP(B84,Pricelist!A:I,3,0),\"\")","v":""},"","",{"$f":"SUMIF(Pricelist!A:A,B84,Pricelist!A:A)","v":0},{"$f":"IF(B84>0,(IF(C84>D84,VLOOKUP(B84,Pricelist!A:I,9,FALSE),\"\")),\"\")","v":""},{"$f":"IF(B84>0,VLOOKUP(B84,Pricelist!A:I,7,FALSE),\"\")","v":""}]
[76,null,null,{"$f":"IF(C85>0,IF(C85>VLOOKUP(B85,Pricelist!A:I,6,0),VLOOKUP(B85,Pricelist!A:I,6,0),C85),\"\")","v":""},{"$f":"IF(B85>0,VLOOKUP(B85,Pricelist!A:I,2,FALSE),\"\")","v":""},{"$f":"IF(B85>0,VLOOKUP(B85,Pricelist!A:I,5,0),\"\")","v":""},{"$f":"IF(B85,VLOOKUP(B85,Pricelist!A:I,3,0),\"\")","v":""},"","",{"$f":"SUMIF(Pricelist!A:A,B85,Pricelist!A:A)","v":0},{"$f":"IF(B85>0,(IF(C85>D85,VLOOKUP(B85,Pricelist!A:I,9,FALSE),\"\")),\"\")","v":""},{"$f":"IF(B85>0,VLOOKUP(B85,Pricelist!A:I,7,FALSE),\"\")","v":""}]
[77,null,null,{"$f":"IF(C86>0,IF(C86>VLOOKUP(B86,Pricelist!A:I,6,0),VLOOKUP(B86,Pricelist!A:I,6,0),C86),\"\")","v":""},{"$f":"IF(B86>0,VLOOKUP(B86,Pricelist!A:I,2,FALSE),\"\")","v":""},{"$f":"IF(B86>0,VLOOKUP(B86,Pricelist!A:I,5,0),\"\")","v":""},{"$f":"IF(B86,VLOOKUP(B86,Pricelist!A:I,3,0),\"\")","v":""},"","",{"$f":"SUMIF(Pricelist!A:A,B86,Pricelist!A:A)","v":0},{"$f":"IF(B86>0,(IF(C86>D86,VLOOKUP(B86,Pricelist!A:I,9,FALSE),\"\")),\"\")","v":""},{"$f":"IF(B86>0,VLOOKUP(B86,Pricelist!A:I,7,FALSE),\"\")","v":""}]
[78,null,null,{"$f":"IF(C87>0,IF(C87>VLOOKUP(B87,Pricelist!A:I,6,0),VLOOKUP(B87,Pricelist!A:I,6,0),C87),\"\")","v":""},{"$f":"IF(B87>0,VLOOKUP(B87,Pricelist!A:I,2,FALSE),\"\")","v":""},{"$f":"IF(B87>0,VLOOKUP(B87,Pricelist!A:I,5,0),\"\")","v":""},{"$f":"IF(B87,VLOOKUP(B87,Pricelist!A:I,3,0),\"\")","v":""},"","",{"$f":"SUMIF(Pricelist!A:A,B87,Pricelist!A:A)","v":0},{"$f":"IF(B87>0,(IF(C87>D87,VLOOKUP(B87,Pricelist!A:I,9,FALSE),\"\")),\"\")","v":""},{"$f":"IF(B87>0,VLOOKUP(B87,Pricelist!A:I,7,FALSE),\"\")","v":""}]
[79,null,null,{"$f":"IF(C88>0,IF(C88>VLOOKUP(B88,Pricelist!A:I,6,0),VLOOKUP(B88,Pricelist!A:I,6,0),C88),\"\")","v":""},{"$f":"IF(B88>0,VLOOKUP(B88,Pricelist!A:I,2,FALSE),\"\")","v":""},{"$f":"IF(B88>0,VLOOKUP(B88,Pricelist!A:I,5,0),\"\")","v":""},{"$f":"IF(B88,VLOOKUP(B88,Pricelist!A:I,3,0),\"\")","v":""},"","",{"$f":"SUMIF(Pricelist!A:A,B88,Pricelist!A:A)","v":0},{"$f":"IF(B88>0,(IF(C88>D88,VLOOKUP(B88,Pricelist!A:I,9,FALSE),\"\")),\"\")","v":""},{"$f":"IF(B88>0,VLOOKUP(B88,Pricelist!A:I,7,FALSE),\"\")","v":""}]
[80,null,null,{"$f":"IF(C89>0,IF(C89>VLOOKUP(B89,Pricelist!A:I,6,0),VLOOKUP(B89,Pricelist!A:I,6,0),C89),\"\")","v":""},{"$f":"IF(B89>0,VLOOKUP(B89,Pricelist!A:I,2,FALSE),\"\")","v":""},{"$f":"IF(B89>0,VLOOKUP(B89,Pricelist!A:I,5,0),\"\")","v":""},{"$f":"IF(B89,VLOOKUP(B89,Pricelist!A:I,3,0),\"\")","v":""},"","",{"$f":"SUMIF(Pricelist!A:A,B89,Pricelist!A:A)","v":0},{"$f":"IF(B89>0,(IF(C89>D89,VLOOKUP(B89,Pricelist!A:I,9,FALSE),\"\")),\"\")","v":""},{"$f":"IF(B89>0,VLOOKUP(B89,Pricelist!A:I,7,FALSE),\"\")","v":""}]
[81,null,null,{"$f":"IF(C90>0,IF(C90>VLOOKUP(B90,Pricelist!A:I,6,0),VLOOKUP(B90,Pricelist!A:I,6,0),C90),\"\")","v":""},{"$f":"IF(B90>0,VLOOKUP(B90,Pricelist!A:I,2,FALSE),\"\")","v":""},{"$f":"IF(B90>0,VLOOKUP(B90,Pricelist!A:I,5,0),\"\")","v":""},{"$f":"IF(B90,VLOOKUP(B90,Pricelist!A:I,3,0),\"\")","v":""},"","",{"$f":"SUMIF(Pricelist!A:A,B90,Pricelist!A:A)","v":0},{"$f":"IF(B90>0,(IF(C90>D90,VLOOKUP(B90,Pricelist!A:I,9,FALSE),\"\")),\"\")","v":""},{"$f":"IF(B90>0,VLOOKUP(B90,Pricelist!A:I,7,FALSE),\"\")","v":""}]
[82,null,null,{"$f":"IF(C91>0,IF(C91>VLOOKUP(B91,Pricelist!A:I,6,0),VLOOKUP(B91,Pricelist!A:I,6,0),C91),\"\")","v":""},{"$f":"IF(B91>0,VLOOKUP(B91,Pricelist!A:I,2,FALSE),\"\")","v":""},{"$f":"IF(B91>0,VLOOKUP(B91,Pricelist!A:I,5,0),\"\")","v":""},{"$f":"IF(B91,VLOOKUP(B91,Pricelist!A:I,3,0),\"\")","v":""},"","",{"$f":"SUMIF(Pricelist!A:A,B91,Pricelist!A:A)","v":0},{"$f":"IF(B91>0,(IF(C91>D91,VLOOKUP(B91,Pricelist!A:I,9,FALSE),\"\")),\"\")","v":""},{"$f":"IF(B91>0,VLOOKUP(B91,Pricelist!A:I,7,FALSE),\"\")","v":""}]
[83,null,null,{"$f":"IF(C92>0,IF(C92>VLOOKUP(B92,Pricelist!A:I,6,0),VLOOKUP(B92,Pricelist!A:I,6,0),C92),\"\")","v":""},{"$f":"IF(B92>0,VLOOKUP(B92,Pricelist!A:I,2,FALSE),\"\")","v":""},{"$f":"IF(B92>0,VLOOKUP(B92,Pricelist!A:I,5,0),\"\")","v":""},{"$f":"IF(B92,VLOOKUP(B92,Pricelist!A:I,3,0),\"\")","v":""},"","",{"$f":"SUMIF(Pricelist!A:A,B92,Pricelist!A:A)","v":0},{"$f":"IF(B92>0,(IF(C92>D92,VLOOKUP(B92,Pricelist!A:I,9,FALSE),\"\")),\"\")","v":""},{"$f":"IF(B92>0,VLOOKUP(B92,Pricelist!A:I,7,FALSE),\"\")","v":""}]
[84,null,null,{"$f":"IF(C93>0,IF(C93>VLOOKUP(B93,Pricelist!A:I,6,0),VLOOKUP(B93,Pricelist!A:I,6,0),C93),\"\")","v":""},{"$f":"IF(B93>0,VLOOKUP(B93,Pricelist!A:I,2,FALSE),\"\")","v":""},{"$f":"IF(B93>0,VLOOKUP(B93,Pricelist!A:I,5,0),\"\")","v":""},{"$f":"IF(B93,VLOOKUP(B93,Pricelist!A:I,3,0),\"\")","v":""},"","",{"$f":"SUMIF(Pricelist!A:A,B93,Pricelist!A:A)","v":0},{"$f":"IF(B93>0,(IF(C93>D93,VLOOKUP(B93,Pricelist!A:I,9,FALSE),\"\")),\"\")","v":""},{"$f":"IF(B93>0,VLOOKUP(B93,Pricelist!A:I,7,FALSE),\"\")","v":""}]
[85,null,null,{"$f":"IF(C94>0,IF(C94>VLOOKUP(B94,Pricelist!A:I,6,0),VLOOKUP(B94,Pricelist!A:I,6,0),C94),\"\")","v":""},{"$f":"IF(B94>0,VLOOKUP(B94,Pricelist!A:I,2,FALSE),\"\")","v":""},{"$f":"IF(B94>0,VLOOKUP(B94,Pricelist!A:I,5,0),\"\")","v":""},{"$f":"IF(B94,VLOOKUP(B94,Pricelist!A:I,3,0),\"\")","v":""},"","",{"$f":"SUMIF(Pricelist!A:A,B94,Pricelist!A:A)","v":0},{"$f":"IF(B94>0,(IF(C94>D94,VLOOKUP(B94,Pricelist!A:I,9,FALSE),\"\")),\"\")","v":""},{"$f":"IF(B94>0,VLOOKUP(B94,Pricelist!A:I,7,FALSE),\"\")","v":""}]
[86,null,null,{"$f":"IF(C95>0,IF(C95>VLOOKUP(B95,Pricelist!A:I,6,0),VLOOKUP(B95,Pricelist!A:I,6,0),C95),\"\")","v":""},{"$f":"IF(B95>0,VLOOKUP(B95,Pricelist!A:I,2,FALSE),\"\")","v":""},{"$f":"IF(B95>0,VLOOKUP(B95,Pricelist!A:I,5,0),\"\")","v":""},{"$f":"IF(B95,VLOOKUP(B95,Pricelist!A:I,3,0),\"\")","v":""},"","",{"$f":"SUMIF(Pricelist!A:A,B95,Pricelist!A:A)","v":0},{"$f":"IF(B95>0,(IF(C95>D95,VLOOKUP(B95,Pricelist!A:I,9,FALSE),\"\")),\"\")","v":""},{"$f":"IF(B95>0,VLOOKUP(B95,Pricelist!A:I,7,FALSE),\"\")","v":""}]
[87,null,null,{"$f":"IF(C96>0,IF(C96>VLOOKUP(B96,Pricelist!A:I,6,0),VLOOKUP(B96,Pricelist!A:I,6,0),C96),\"\")","v":""},{"$f":"IF(B96>0,VLOOKUP(B96,Pricelist!A:I,2,FALSE),\"\")","v":""},{"$f":"IF(B96>0,VLOOKUP(B96,Pricelist!A:I,5,0),\"\")","v":""},{"$f":"IF(B96,VLOOKUP(B96,Pricelist!A:I,3,0),\"\")","v":""},"","",{"$f":"SUMIF(Pricelist!A:A,B96,Pricelist!A:A)","v":0},{"$f":"IF(B96>0,(IF(C96>D96,VLOOKUP(B96,Pricelist!A:I,9,FALSE),\"\")),\"\")","v":""},{"$f":"IF(B96>0,VLOOKUP(B96,Pricelist!A:I,7,FALSE),\"\")","v":""}]
[88,null,null,{"$f":"IF(C97>0,IF(C97>VLOOKUP(B97,Pricelist!A:I,6,0),VLOOKUP(B97,Pricelist!A:I,6,0),C97),\"\")","v":""},{"$f":"IF(B97>0,VLOOKUP(B97,Pricelist!A:I,2,FALSE),\"\")","v":""},{"$f":"IF(B97>0,VLOOKUP(B97,Pricelist!A:I,5,0),\"\")","v":""},{"$f":"IF(B97,VLOOKUP(B97,Pricelist!A:I,3,0),\"\")","v":""},"","",{"$f":"SUMIF(Pricelist!A:A,B97,Pricelist!A:A)","v":0},{"$f":"IF(B97>0,(IF(C97>D97,VLOOKUP(B97,Pricelist!A:I,9,FALSE),\"\")),\"\")","v":""},{"$f":"IF(B97>0,VLOOKUP(B97,Pricelist!A:I,7,FALSE),\"\")","v":""}]
[89,null,null,{"$f":"IF(C98>0,IF(C98>VLOOKUP(B98,Pricelist!A:I,6,0),VLOOKUP(B98,Pricelist!A:I,6,0),C98),\"\")","v":""},{"$f":"IF(B98>0,VLOOKUP(B98,Pricelist!A:I,2,FALSE),\"\")","v":""},{"$f":"IF(B98>0,VLOOKUP(B98,Pricelist!A:I,5,0),\"\")","v":""},{"$f":"IF(B98,VLOOKUP(B98,Pricelist!A:I,3,0),\"\")","v":""},"","",{"$f":"SUMIF(Pricelist!A:A,B98,Pricelist!A:A)","v":0},{"$f":"IF(B98>0,(IF(C98>D98,VLOOKUP(B98,Pricelist!A:I,9,FALSE),\"\")),\"\")","v":""},{"$f":"IF(B98>0,VLOOKUP(B98,Pricelist!A:I,7,FALSE),\"\")","v":""}]
[90,null,null,{"$f":"IF(C99>0,IF(C99>VLOOKUP(B99,Pricelist!A:I,6,0),VLOOKUP(B99,Pricelist!A:I,6,0),C99),\"\")","v":""},{"$f":"IF(B99>0,VLOOKUP(B99,Pricelist!A:I,2,FALSE),\"\")","v":""},{"$f":"IF(B99>0,VLOOKUP(B99,Pricelist!A:I,5,0),\"\")","v":""},{"$f":"IF(B99,VLOOKUP(B99,Pricelist!A:I,3,0),\"\")","v":""},"","",{"$f":"SUMIF(Pricelist!A:A,B99,Pricelist!A:A)","v":0},{"$f":"IF(B99>0,(IF(C99>D99,VLOOKUP(B99,Pricelist!A:I,9,FALSE),\"\")),\"\")","v":""},{"$f":"IF(B99>0,VLOOKUP(B99,Pricelist!A:I,7,FALSE),\"\")","v":""}]
[91,null,null,{"$f":"IF(C100>0,IF(C100>VLOOKUP(B100,Pricelist!A:I,6,0),VLOOKUP(B100,Pricelist!A:I,6,0),C100),\"\")","v":""},{"$f":"IF(B100>0,VLOOKUP(B100,Pricelist!A:I,2,FALSE),\"\")","v":""},{"$f":"IF(B100>0,VLOOKUP(B100,Pricelist!A:I,5,0),\"\")","v":""},{"$f":"IF(B100,VLOOKUP(B100,Pricelist!A:I,3,0),\"\")","v":""},"","",{"$f":"SUMIF(Pricelist!A:A,B100,Pricelist!A:A)","v":0},{"$f":"IF(B100>0,(IF(C100>D100,VLOOKUP(B100,Pricelist!A:I,9,FALSE),\"\")),\"\")","v":""},{"$f":"IF(B100>0,VLOOKUP(B100,Pricelist!A:I,7,FALSE),\"\")","v":""}]
[92,null,null,{"$f":"IF(C101>0,IF(C101>VLOOKUP(B101,Pricelist!A:I,6,0),VLOOKUP(B101,Pricelist!A:I,6,0),C101),\"\")","v":""},{"$f":"IF(B101>0,VLOOKUP(B101,Pricelist!A:I,2,FALSE),\"\")","v":""},{"$f":"IF(B101>0,VLOOKUP(B101,Pricelist!A:I,5,0),\"\")","v":""},{"$f":"IF(B101,VLOOKUP(B101,Pricelist!A:I,3,0),\"\")","v":""},"","",{"$f":"SUMIF(Pricelist!A:A,B101,Pricelist!A:A)","v":0},{"$f":"IF(B101>0,(IF(C101>D101,VLOOKUP(B101,Pricelist!A:I,9,FALSE),\"\")),\"\")","v":""},{"$f":"IF(B101>0,VLOOKUP(B101,Pricelist!A:I,7,FALSE),\"\")","v":""}]
[93,null,null,{"$f":"IF(C102>0,IF(C102>VLOOKUP(B102,Pricelist!A:I,6,0),VLOOKUP(B102,Pricelist!A:I,6,0),C102),\"\")","v":""},{"$f":"IF(B102>0,VLOOKUP(B102,Pricelist!A:I,2,FALSE),\"\")","v":""},{"$f":"IF(B102>0,VLOOKUP(B102,Pricelist!A:I,5,0),\"\")","v":""},{"$f":"IF(B102,VLOOKUP(B102,Pricelist!A:I,3,0),\"\")","v":""},"","",{"$f":"SUMIF(Pricelist!A:A,B102,Pricelist!A:A)","v":0},{"$f":"IF(B102>0,(IF(C102>D102,VLOOKUP(B102,Pricelist!A:I,9,FALSE),\"\")),\"\")","v":""},{"$f":"IF(B102>0,VLOOKUP(B102,Pricelist!A:I,7,FALSE),\"\")","v":""}]
[94,null,null,{"$f":"IF(C103>0,IF(C103>VLOOKUP(B103,Pricelist!A:I,6,0),VLOOKUP(B103,Pricelist!A:I,6,0),C103),\"\")","v":""},{"$f":"IF(B103>0,VLOOKUP(B103,Pricelist!A:I,2,FALSE),\"\")","v":""},{"$f":"IF(B103>0,VLOOKUP(B103,Pricelist!A:I,5,0),\"\")","v":""},{"$f":"IF(B103,VLOOKUP(B103,Pricelist!A:I,3,0),\"\")","v":""},"","",{"$f":"SUMIF(Pricelist!A:A,B103,Pricelist!A:A)","v":0},{"$f":"IF(B103>0,(IF(C103>D103,VLOOKUP(B103,Pricelist!A:I,9,FALSE),\"\")),\"\")","v":""},{"$f":"IF(B103>0,VLOOKUP(B103,Pricelist!A:I,7,FALSE),\"\")","v":""}]
[95,null,null,{"$f":"IF(C104>0,IF(C104>VLOOKUP(B104,Pricelist!A:I,6,0),VLOOKUP(B104,Pricelist!A:I,6,0),C104),\"\")","v":""},{"$f":"IF(B104>0,VLOOKUP(B104,Pricelist!A:I,2,FALSE),\"\")","v":""},{"$f":"IF(B104>0,VLOOKUP(B104,Pricelist!A:I,5,0),\"\")","v":""},{"$f":"IF(B104,VLOOKUP(B104,Pricelist!A:I,3,0),\"\")","v":""},"","",{"$f":"SUMIF(Pricelist!A:A,B104,Pricelist!A:A)","v":0},{"$f":"IF(B104>0,(IF(C104>D104,VLOOKUP(B104,Pricelist!A:I,9,FALSE),\"\")),\"\")","v":""},{"$f":"IF(B104>0,VLOOKUP(B104,Pricelist!A:I,7,FALSE),\"\")","v":""}]
[96,null,null,{"$f":"IF(C105>0,IF(C105>VLOOKUP(B105,Pricelist!A:I,6,0),VLOOKUP(B105,Pricelist!A:I,6,0),C105),\"\")","v":""},{"$f":"IF(B105>0,VLOOKUP(B105,Pricelist!A:I,2,FALSE),\"\")","v":""},{"$f":"IF(B105>0,VLOOKUP(B105,Pricelist!A:I,5,0),\"\")","v":""},{"$f":"IF(B105,VLOOKUP(B105,Pricelist!A:I,3,0),\"\")","v":""},"","",{"$f":"SUMIF(Pricelist!A:A,B105,Pricelist!A:A)","v":0},{"$f":"IF(B105>0,(IF(C105>D105,VLOOKUP(B105,Pricelist!A:I,9,FALSE),\"\")),\"\")","v":""},{"$f":"IF(B105>0,VLOOKUP(B105,Pricelist!A:I,7,FALSE),\"\")","v":""}]
[97,null,null,{"$f":"IF(C106>0,IF(C106>VLOOKUP(B106,Pricelist!A:I,6,0),VLOOKUP(B106,Pricelist!A:I,6,0),C106),\"\")","v":""},{"$f":"IF(B106>0,VLOOKUP(B106,Pricelist!A:I,2,FALSE),\"\")","v":""},{"$f":"IF(B106>0,VLOOKUP(B106,Pricelist!A:I,5,0),\"\")","v":""},{"$f":"IF(B106,VLOOKUP(B106,Pricelist!A:I,3,0),\"\")","v":""},"","",{"$f":"SUMIF(Pricelist!A:A,B106,Pricelist!A:A)","v":0},{"$f":"IF(B106>0,(IF(C106>D106,VLOOKUP(B106,Pricelist!A:I,9,FALSE),\"\")),\"\")","v":""},{"$f":"IF(B106>0,VLOOKUP(B106,Pricelist!A:I,7,FALSE),\"\")","v":""}]
[98,null,null,{"$f":"IF(C107>0,IF(C107>VLOOKUP(B107,Pricelist!A:I,6,0),VLOOKUP(B107,Pricelist!A:I,6,0),C107),\"\")","v":""},{"$f":"IF(B107>0,VLOOKUP(B107,Pricelist!A:I,2,FALSE),\"\")","v":""},{"$f":"IF(B107>0,VLOOKUP(B107,Pricelist!A:I,5,0),\"\")","v":""},{"$f":"IF(B107,VLOOKUP(B107,Pricelist!A:I,3,0),\"\")","v":""},"","",{"$f":"SUMIF(Pricelist!A:A,B107,Pricelist!A:A)","v":0},{"$f":"IF(B107>0,(IF(C107>D107,VLOOKUP(B107,Pricelist!A:I,9,FALSE),\"\")),\"\")","v":""},{"$f":"IF(B107>0,VLOOKUP(B107,Pricelist!A:I,7,FALSE),\"\")","v":""}]
[99,null,null,{"$f":"IF(C108>0,IF(C108>VLOOKUP(B108,Pricelist!A:I,6,0),VLOOKUP(B108,Pricelist!A:I,6,0),C108),\"\")","v":""},{"$f":"IF(B108>0,VLOOKUP(B108,Pricelist!A:I,2,FALSE),\"\")","v":""},{"$f":"IF(B108>0,VLOOKUP(B108,Pricelist!A:I,5,0),\"\")","v":""},{"$f":"IF(B108,VLOOKUP(B108,Pricelist!A:I,3,0),\"\")","v":""},"","",{"$f":"SUMIF(Pricelist!A:A,B108,Pricelist!A:A)","v":0},{"$f":"IF(B108>0,(IF(C108>D108,VLOOKUP(B108,Pricelist!A:I,9,FALSE),\"\")),\"\")","v":""},{"$f":"IF(B108>0,VLOOKUP(B108,Pricelist!A:I,7,FALSE),\"\")","v":""}]
[100,null,null,{"$f":"IF(C109>0,IF(C109>VLOOKUP(B109,Pricelist!A:I,6,0),VLOOKUP(B109,Pricelist!A:I,6,0),C109),\"\")","v":""},{"$f":"IF(B109>0,VLOOKUP(B109,Pricelist!A:I,2,FALSE),\"\")","v":""},{"$f":"IF(B109>0,VLOOKUP(B109,Pricelist!A:I,5,0),\"\")","v":""},{"$f":"IF(B109,VLOOKUP(B109,Pricelist!A:I,3,0),\"\")","v":""},"","",{"$f":"SUMIF(Pricelist!A:A,B109,Pricelist!A:A)","v":0},{"$f":"IF(B109>0,(IF(C109>D109,VLOOKUP(B109,Pricelist!A:I,9,FALSE),\"\")),\"\")","v":""},{"$f":"IF(B109>0,VLOOKUP(B109,Pricelist!A:I,7,FALSE),\"\")","v":""}]
[101,null,null,{"$f":"IF(C110>0,IF(C110>VLOOKUP(B110,Pricelist!A:I,6,0),VLOOKUP(B110,Pricelist!A:I,6,0),C110),\"\")","v":""},{"$f":"IF(B110>0,VLOOKUP(B110,Pricelist!A:I,2,FALSE),\"\")","v":""},{"$f":"IF(B110>0,VLOOKUP(B110,Pricelist!A:I,5,0),\"\")","v":""},{"$f":"IF(B110,VLOOKUP(B110,Pricelist!A:I,3,0),\"\")","v":""},"","",{"$f":"SUMIF(Pricelist!A:A,B110,Pricelist!A:A)","v":0},{"$f":"IF(B110>0,(IF(C110>D110,VLOOKUP(B110,Pricelist!A:I,9,FALSE),\"\")),\"\")","v":""},{"$f":"IF(B110>0,VLOOKUP(B110,Pricelist!A:I,7,FALSE),\"\")","v":""}]
[102,null,null,{"$f":"IF(C111>0,IF(C111>VLOOKUP(B111,Pricelist!A:I,6,0),VLOOKUP(B111,Pricelist!A:I,6,0),C111),\"\")","v":""},{"$f":"IF(B111>0,VLOOKUP(B111,Pricelist!A:I,2,FALSE),\"\")","v":""},{"$f":"IF(B111>0,VLOOKUP(B111,Pricelist!A:I,5,0),\"\")","v":""},{"$f":"IF(B111,VLOOKUP(B111,Pricelist!A:I,3,0),\"\")","v":""},"","",{"$f":"SUMIF(Pricelist!A:A,B111,Pricelist!A:A)","v":0},{"$f":"IF(B111>0,(IF(C111>D111,VLOOKUP(B111,Pricelist!A:I,9,FALSE),\"\")),\"\")","v":""},{"$f":"IF(B111>0,VLOOKUP(B111,Pricelist!A:I,7,FALSE),\"\")","v":""}]
[103,null,null,{"$f":"IF(C112>0,IF(C112>VLOOKUP(B112,Pricelist!A:I,6,0),VLOOKUP(B112,Pricelist!A:I,6,0),C112),\"\")","v":""},{"$f":"IF(B112>0,VLOOKUP(B112,Pricelist!A:I,2,FALSE),\"\")","v":""},{"$f":"IF(B112>0,VLOOKUP(B112,Pricelist!A:I,5,0),\"\")","v":""},{"$f":"IF(B112,VLOOKUP(B112,Pricelist!A:I,3,0),\"\")","v":""},"","",{"$f":"SUMIF(Pricelist!A:A,B112,Pricelist!A:A)","v":0},{"$f":"IF(B112>0,(IF(C112>D112,VLOOKUP(B112,Pricelist!A:I,9,FALSE),\"\")),\"\")","v":""},{"$f":"IF(B112>0,VLOOKUP(B112,Pricelist!A:I,7,FALSE),\"\")","v":""}]
[104,null,null,{"$f":"IF(C113>0,IF(C113>VLOOKUP(B113,Pricelist!A:I,6,0),VLOOKUP(B113,Pricelist!A:I,6,0),C113),\"\")","v":""},{"$f":"IF(B113>0,VLOOKUP(B113,Pricelist!A:I,2,FALSE),\"\")","v":""},{"$f":"IF(B113>0,VLOOKUP(B113,Pricelist!A:I,5,0),\"\")","v":""},{"$f":"IF(B113,VLOOKUP(B113,Pricelist!A:I,3,0),\"\")","v":""},"","",{"$f":"SUMIF(Pricelist!A:A,B113,Pricelist!A:A)","v":0},{"$f":"IF(B113>0,(IF(C113>D113,VLOOKUP(B113,Pricelist!A:I,9,FALSE),\"\")),\"\")","v":""},{"$f":"IF(B113>0,VLOOKUP(B113,Pricelist!A:I,7,FALSE),\"\")","v":""}]
[105,null,null,{"$f":"IF(C114>0,IF(C114>VLOOKUP(B114,Pricelist!A:I,6,0),VLOOKUP(B114,Pricelist!A:I,6,0),C114),\"\")","v":""},{"$f":"IF(B114>0,VLOOKUP(B114,Pricelist!A:I,2,FALSE),\"\")","v":""},{"$f":"IF(B114>0,VLOOKUP(B114,Pricelist!A:I,5,0),\"\")","v":""},{"$f":"IF(B114,VLOOKUP(B114,Pricelist!A:I,3,0),\"\")","v":""},"","",{"$f":"SUMIF(Pricelist!A:A,B114,Pricelist!A:A)","v":0},{"$f":"IF(B114>0,(IF(C114>D114,VLOOKUP(B114,Pricelist!A:I,9,FALSE),\"\")),\"\")","v":""},{"$f":"IF(B114>0,VLOOKUP(B114,Pricelist!A:I,7,FALSE),\"\")","v":""}]
[106,null,null,{"$f":"IF(C115>0,IF(C115>VLOOKUP(B115,Pricelist!A:I,6,0),VLOOKUP(B115,Pricelist!A:I,6,0),C115),\"\")","v":""},{"$f":"IF(B115>0,VLOOKUP(B115,Pricelist!A:I,2,FALSE),\"\")","v":""},{"$f":"IF(B115>0,VLOOKUP(B115,Pricelist!A:I,5,0),\"\")","v":""},{"$f":"IF(B115,VLOOKUP(B115,Pricelist!A:I,3,0),\"\")","v":""},"","",{"$f":"SUMIF(Pricelist!A:A,B115,Pricelist!A:A)","v":0},{"$f":"IF(B115>0,(IF(C115>D115,VLOOKUP(B115,Pricelist!A:I,9,FALSE),\"\")),\"\")","v":""},{"$f":"IF(B115>0,VLOOKUP(B115,Pricelist!A:I,7,FALSE),\"\")","v":""}]
[107,null,null,{"$f":"IF(C116>0,IF(C116>VLOOKUP(B116,Pricelist!A:I,6,0),VLOOKUP(B116,Pricelist!A:I,6,0),C116),\"\")","v":""},{"$f":"IF(B116>0,VLOOKUP(B116,Pricelist!A:I,2,FALSE),\"\")","v":""},{"$f":"IF(B116>0,VLOOKUP(B116,Pricelist!A:I,5,0),\"\")","v":""},{"$f":"IF(B116,VLOOKUP(B116,Pricelist!A:I,3,0),\"\")","v":""},"","",{"$f":"SUMIF(Pricelist!A:A,B116,Pricelist!A:A)","v":0},{"$f":"IF(B116>0,(IF(C116>D116,VLOOKUP(B116,Pricelist!A:I,9,FALSE),\"\")),\"\")","v":""},{"$f":"IF(B116>0,VLOOKUP(B116,Pricelist!A:I,7,FALSE),\"\")","v":""}]
[108,null,null,{"$f":"IF(C117>0,IF(C117>VLOOKUP(B117,Pricelist!A:I,6,0),VLOOKUP(B117,Pricelist!A:I,6,0),C117),\"\")","v":""},{"$f":"IF(B117>0,VLOOKUP(B117,Pricelist!A:I,2,FALSE),\"\")","v":""},{"$f":"IF(B117>0,VLOOKUP(B117,Pricelist!A:I,5,0),\"\")","v":""},{"$f":"IF(B117,VLOOKUP(B117,Pricelist!A:I,3,0),\"\")","v":""},"","",{"$f":"SUMIF(Pricelist!A:A,B117,Pricelist!A:A)","v":0},{"$f":"IF(B117>0,(IF(C117>D117,VLOOKUP(B117,Pricelist!A:I,9,FALSE),\"\")),\"\")","v":""},{"$f":"IF(B117>0,VLOOKUP(B117,Pricelist!A:I,7,FALSE),\"\")","v":""}]
[109,null,null,{"$f":"IF(C118>0,IF(C118>VLOOKUP(B118,Pricelist!A:I,6,0),VLOOKUP(B118,Pricelist!A:I,6,0),C118),\"\")","v":""},{"$f":"IF(B118>0,VLOOKUP(B118,Pricelist!A:I,2,FALSE),\"\")","v":""},{"$f":"IF(B118>0,VLOOKUP(B118,Pricelist!A:I,5,0),\"\")","v":""},{"$f":"IF(B118,VLOOKUP(B118,Pricelist!A:I,3,0),\"\")","v":""},"","",{"$f":"SUMIF(Pricelist!A:A,B118,Pricelist!A:A)","v":0},{"$f":"IF(B118>0,(IF(C118>D118,VLOOKUP(B118,Pricelist!A:I,9,FALSE),\"\")),\"\")","v":""},{"$f":"IF(B118>0,VLOOKUP(B118,Pricelist!A:I,7,FALSE),\"\")","v":""}]
[110,null,null,{"$f":"IF(C119>0,IF(C119>VLOOKUP(B119,Pricelist!A:I,6,0),VLOOKUP(B119,Pricelist!A:I,6,0),C119),\"\")","v":""},{"$f":"IF(B119>0,VLOOKUP(B119,Pricelist!A:I,2,FALSE),\"\")","v":""},{"$f":"IF(B119>0,VLOOKUP(B119,Pricelist!A:I,5,0),\"\")","v":""},{"$f":"IF(B119,VLOOKUP(B119,Pricelist!A:I,3,0),\"\")","v":""},"","",{"$f":"SUMIF(Pricelist!A:A,B119,Pricelist!A:A)","v":0},{"$f":"IF(B119>0,(IF(C119>D119,VLOOKUP(B119,Pricelist!A:I,9,FALSE),\"\")),\"\")","v":""},{"$f":"IF(B119>0,VLOOKUP(B119,Pricelist!A:I,7,FALSE),\"\")","v":""}]
[111,null,null,{"$f":"IF(C120>0,IF(C120>VLOOKUP(B120,Pricelist!A:I,6,0),VLOOKUP(B120,Pricelist!A:I,6,0),C120),\"\")","v":""},{"$f":"IF(B120>0,VLOOKUP(B120,Pricelist!A:I,2,FALSE),\"\")","v":""},{"$f":"IF(B120>0,VLOOKUP(B120,Pricelist!A:I,5,0),\"\")","v":""},{"$f":"IF(B120,VLOOKUP(B120,Pricelist!A:I,3,0),\"\")","v":""},"","",{"$f":"SUMIF(Pricelist!A:A,B120,Pricelist!A:A)","v":0},{"$f":"IF(B120>0,(IF(C120>D120,VLOOKUP(B120,Pricelist!A:I,9,FALSE),\"\")),\"\")","v":""},{"$f":"IF(B120>0,VLOOKUP(B120,Pricelist!A:I,7,FALSE),\"\")","v":""}]
[112,null,null,{"$f":"IF(C121>0,IF(C121>VLOOKUP(B121,Pricelist!A:I,6,0),VLOOKUP(B121,Pricelist!A:I,6,0),C121),\"\")","v":""},{"$f":"IF(B121>0,VLOOKUP(B121,Pricelist!A:I,2,FALSE),\"\")","v":""},{"$f":"IF(B121>0,VLOOKUP(B121,Pricelist!A:I,5,0),\"\")","v":""},{"$f":"IF(B121,VLOOKUP(B121,Pricelist!A:I,3,0),\"\")","v":""},"","",{"$f":"SUMIF(Pricelist!A:A,B121,Pricelist!A:A)","v":0},{"$f":"IF(B121>0,(IF(C121>D121,VLOOKUP(B121,Pricelist!A:I,9,FALSE),\"\")),\"\")","v":""},{"$f":"IF(B121>0,VLOOKUP(B121,Pricelist!A:I,7,FALSE),\"\")","v":""}]
[113,null,null,{"$f":"IF(C122>0,IF(C122>VLOOKUP(B122,Pricelist!A:I,6,0),VLOOKUP(B122,Pricelist!A:I,6,0),C122),\"\")","v":""},{"$f":"IF(B122>0,VLOOKUP(B122,Pricelist!A:I,2,FALSE),\"\")","v":""},{"$f":"IF(B122>0,VLOOKUP(B122,Pricelist!A:I,5,0),\"\")","v":""},{"$f":"IF(B122,VLOOKUP(B122,Pricelist!A:I,3,0),\"\")","v":""},"","",{"$f":"SUMIF(Pricelist!A:A,B122,Pricelist!A:A)","v":0},{"$f":"IF(B122>0,(IF(C122>D122,VLOOKUP(B122,Pricelist!A:I,9,FALSE),\"\")),\"\")","v":""},{"$f":"IF(B122>0,VLOOKUP(B122,Pricelist!A:I,7,FALSE),\"\")","v":""}]
[114,null,null,{"$f":"IF(C123>0,IF(C123>VLOOKUP(B123,Pricelist!A:I,6,0),VLOOKUP(B123,Pricelist!A:I,6,0),C123),\"\")","v":""},{"$f":"IF(B123>0,VLOOKUP(B123,Pricelist!A:I,2,FALSE),\"\")","v":""},{"$f":"IF(B123>0,VLOOKUP(B123,Pricelist!A:I,5,0),\"\")","v":""},{"$f":"IF(B123,VLOOKUP(B123,Pricelist!A:I,3,0),\"\")","v":""},"","",{"$f":"SUMIF(Pricelist!A:A,B123,Pricelist!A:A)","v":0},{"$f":"IF(B123>0,(IF(C123>D123,VLOOKUP(B123,Pricelist!A:I,9,FALSE),\"\")),\"\")","v":""},{"$f":"IF(B123>0,VLOOKUP(B123,Pricelist!A:I,7,FALSE),\"\")","v":""}]
[115,null,null,{"$f":"IF(C124>0,IF(C124>VLOOKUP(B124,Pricelist!A:I,6,0),VLOOKUP(B124,Pricelist!A:I,6,0),C124),\"\")","v":""},{"$f":"IF(B124>0,VLOOKUP(B124,Pricelist!A:I,2,FALSE),\"\")","v":""},{"$f":"IF(B124>0,VLOOKUP(B124,Pricelist!A:I,5,0),\"\")","v":""},{"$f":"IF(B124,VLOOKUP(B124,Pricelist!A:I,3,0),\"\")","v":""},"","",{"$f":"SUMIF(Pricelist!A:A,B124,Pricelist!A:A)","v":0},{"$f":"IF(B124>0,(IF(C124>D124,VLOOKUP(B124,Pricelist!A:I,9,FALSE),\"\")),\"\")","v":""},{"$f":"IF(B124>0,VLOOKUP(B124,Pricelist!A:I,7,FALSE),\"\")","v":""}]
[116,null,null,{"$f":"IF(C125>0,IF(C125>VLOOKUP(B125,Pricelist!A:I,6,0),VLOOKUP(B125,Pricelist!A:I,6,0),C125),\"\")","v":""},{"$f":"IF(B125>0,VLOOKUP(B125,Pricelist!A:I,2,FALSE),\"\")","v":""},{"$f":"IF(B125>0,VLOOKUP(B125,Pricelist!A:I,5,0),\"\")","v":""},{"$f":"IF(B125,VLOOKUP(B125,Pricelist!A:I,3,0),\"\")","v":""},"","",{"$f":"SUMIF(Pricelist!A:A,B125,Pricelist!A:A)","v":0},{"$f":"IF(B125>0,(IF(C125>D125,VLOOKUP(B125,Pricelist!A:I,9,FALSE),\"\")),\"\")","v":""},{"$f":"IF(B125>0,VLOOKUP(B125,Pricelist!A:I,7,FALSE),\"\")","v":""}]
[117,null,null,{"$f":"IF(C126>0,IF(C126>VLOOKUP(B126,Pricelist!A:I,6,0),VLOOKUP(B126,Pricelist!A:I,6,0),C126),\"\")","v":""},{"$f":"IF(B126>0,VLOOKUP(B126,Pricelist!A:I,2,FALSE),\"\")","v":""},{"$f":"IF(B126>0,VLOOKUP(B126,Pricelist!A:I,5,0),\"\")","v":""},{"$f":"IF(B126,VLOOKUP(B126,Pricelist!A:I,3,0),\"\")","v":""},"","",{"$f":"SUMIF(Pricelist!A:A,B126,Pricelist!A:A)","v":0},{"$f":"IF(B126>0,(IF(C126>D126,VLOOKUP(B126,Pricelist!A:I,9,FALSE),\"\")),\"\")","v":""},{"$f":"IF(B126>0,VLOOKUP(B126,Pricelist!A:I,7,FALSE),\"\")","v":""}]
[118,null,null,{"$f":"IF(C127>0,IF(C127>VLOOKUP(B127,Pricelist!A:I,6,0),VLOOKUP(B127,Pricelist!A:I,6,0),C127),\"\")","v":""},{"$f":"IF(B127>0,VLOOKUP(B127,Pricelist!A:I,2,FALSE),\"\")","v":""},{"$f":"IF(B127>0,VLOOKUP(B127,Pricelist!A:I,5,0),\"\")","v":""},{"$f":"IF(B127,VLOOKUP(B127,Pricelist!A:I,3,0),\"\")","v":""},"","",{"$f":"SUMIF(Pricelist!A:A,B127,Pricelist!A:A)","v":0},{"$f":"IF(B127>0,(IF(C127>D127,VLOOKUP(B127,Pricelist!A:I,9,FALSE),\"\")),\"\")","v":""},{"$f":"IF(B127>0,VLOOKUP(B127,Pricelist!A:I,7,FALSE),\"\")","v":""}]
[119,null,null,{"$f":"IF(C128>0,IF(C128>VLOOKUP(B128,Pricelist!A:I,6,0),VLOOKUP(B128,Pricelist!A:I,6,0),C128),\"\")","v":""},{"$f":"IF(B128>0,VLOOKUP(B128,Pricelist!A:I,2,FALSE),\"\")","v":""},{"$f":"IF(B128>0,VLOOKUP(B128,Pricelist!A:I,5,0),\"\")","v":""},{"$f":"IF(B128,VLOOKUP(B128,Pricelist!A:I,3,0),\"\")","v":""},"","",{"$f":"SUMIF(Pricelist!A:A,B128,Pricelist!A:A)","v":0},{"$f":"IF(B128>0,(IF(C128>D128,VLOOKUP(B128,Pricelist!A:I,9,FALSE),\"\")),\"\")","v":""},{"$f":"IF(B128>0,VLOOKUP(B128,Pricelist!A:I,7,FALSE),\"\")","v":""}]
[120,null,null,{"$f":"IF(C129>0,IF(C129>VLOOKUP(B129,Pricelist!A:I,6,0),VLOOKUP(B129,Pricelist!A:I,6,0),C129),\"\")","v":""},{"$f":"IF(B129>0,VLOOKUP(B129,Pricelist!A:I,2,FALSE),\"\")","v":""},{"$f":"IF(B129>0,VLOOKUP(B129,Pricelist!A:I,5,0),\"\")","v":""},{"$f":"IF(B129,VLOOKUP(B129,Pricelist!A:I,3,0),\"\")","v":""},"","",{"$f":"SUMIF(Pricelist!A:A,B129,Pricelist!A:A)","v":0},{"$f":"IF(B129>0,(IF(C129>D129,VLOOKUP(B129,Pricelist!A:I,9,FALSE),\"\")),\"\")","v":""},{"$f":"IF(B129>0,VLOOKUP(B129,Pricelist!A:I,7,FALSE),\"\")","v":""}]
[121,null,null,{"$f":"IF(C130>0,IF(C130>VLOOKUP(B130,Pricelist!A:I,6,0),VLOOKUP(B130,Pricelist!A:I,6,0),C130),\"\")","v":""},{"$f":"IF(B130>0,VLOOKUP(B130,Pricelist!A:I,2,FALSE),\"\")","v":""},{"$f":"IF(B130>0,VLOOKUP(B130,Pricelist!A:I,5,0),\"\")","v":""},{"$f":"IF(B130,VLOOKUP(B130,Pricelist!A:I,3,0),\"\")","v":""},"","",{"$f":"SUMIF(Pricelist!A:A,B130,Pricelist!A:A)","v":0},{"$f":"IF(B130>0,(IF(C130>D130,VLOOKUP(B130,Pricelist!A:I,9,FALSE),\"\")),\"\")","v":""},{"$f":"IF(B130>0,VLOOKUP(B130,Pricelist!A:I,7,FALSE),\"\")","v":""}]
[122,null,null,{"$f":"IF(C131>0,IF(C131>VLOOKUP(B131,Pricelist!A:I,6,0),VLOOKUP(B131,Pricelist!A:I,6,0),C131),\"\")","v":""},{"$f":"IF(B131>0,VLOOKUP(B131,Pricelist!A:I,2,FALSE),\"\")","v":""},{"$f":"IF(B131>0,VLOOKUP(B131,Pricelist!A:I,5,0),\"\")","v":""},{"$f":"IF(B131,VLOOKUP(B131,Pricelist!A:I,3,0),\"\")","v":""},"","",{"$f":"SUMIF(Pricelist!A:A,B131,Pricelist!A:A)","v":0},{"$f":"IF(B131>0,(IF(C131>D131,VLOOKUP(B131,Pricelist!A:I,9,FALSE),\"\")),\"\")","v":""},{"$f":"IF(B131>0,VLOOKUP(B131,Pricelist!A:I,7,FALSE),\"\")","v":""}]
[123,null,null,{"$f":"IF(C132>0,IF(C132>VLOOKUP(B132,Pricelist!A:I,6,0),VLOOKUP(B132,Pricelist!A:I,6,0),C132),\"\")","v":""},{"$f":"IF(B132>0,VLOOKUP(B132,Pricelist!A:I,2,FALSE),\"\")","v":""},{"$f":"IF(B132>0,VLOOKUP(B132,Pricelist!A:I,5,0),\"\")","v":""},{"$f":"IF(B132,VLOOKUP(B132,Pricelist!A:I,3,0),\"\")","v":""},"","",{"$f":"SUMIF(Pricelist!A:A,B132,Pricelist!A:A)","v":0},{"$f":"IF(B132>0,(IF(C132>D132,VLOOKUP(B132,Pricelist!A:I,9,FALSE),\"\")),\"\")","v":""},{"$f":"IF(B132>0,VLOOKUP(B132,Pricelist!A:I,7,FALSE),\"\")","v":""}]
[124,null,null,{"$f":"IF(C133>0,IF(C133>VLOOKUP(B133,Pricelist!A:I,6,0),VLOOKUP(B133,Pricelist!A:I,6,0),C133),\"\")","v":""},{"$f":"IF(B133>0,VLOOKUP(B133,Pricelist!A:I,2,FALSE),\"\")","v":""},{"$f":"IF(B133>0,VLOOKUP(B133,Pricelist!A:I,5,0),\"\")","v":""},{"$f":"IF(B133,VLOOKUP(B133,Pricelist!A:I,3,0),\"\")","v":""},"","",{"$f":"SUMIF(Pricelist!A:A,B133,Pricelist!A:A)","v":0},{"$f":"IF(B133>0,(IF(C133>D133,VLOOKUP(B133,Pricelist!A:I,9,FALSE),\"\")),\"\")","v":""},{"$f":"IF(B133>0,VLOOKUP(B133,Pricelist!A:I,7,FALSE),\"\")","v":""}]
[125,null,null,{"$f":"IF(C134>0,IF(C134>VLOOKUP(B134,Pricelist!A:I,6,0),VLOOKUP(B134,Pricelist!A:I,6,0),C134),\"\")","v":""},{"$f":"IF(B134>0,VLOOKUP(B134,Pricelist!A:I,2,FALSE),\"\")","v":""},{"$f":"IF(B134>0,VLOOKUP(B134,Pricelist!A:I,5,0),\"\")","v":""},{"$f":"IF(B134,VLOOKUP(B134,Pricelist!A:I,3,0),\"\")","v":""},"","",{"$f":"SUMIF(Pricelist!A:A,B134,Pricelist!A:A)","v":0},{"$f":"IF(B134>0,(IF(C134>D134,VLOOKUP(B134,Pricelist!A:I,9,FALSE),\"\")),\"\")","v":""},{"$f":"IF(B134>0,VLOOKUP(B134,Pricelist!A:I,7,FALSE),\"\")","v":""}]
[126,null,null,{"$f":"IF(C135>0,IF(C135>VLOOKUP(B135,Pricelist!A:I,6,0),VLOOKUP(B135,Pricelist!A:I,6,0),C135),\"\")","v":""},{"$f":"IF(B135>0,VLOOKUP(B135,Pricelist!A:I,2,FALSE),\"\")","v":""},{"$f":"IF(B135>0,VLOOKUP(B135,Pricelist!A:I,5,0),\"\")","v":""},{"$f":"IF(B135,VLOOKUP(B135,Pricelist!A:I,3,0),\"\")","v":""},"","",{"$f":"SUMIF(Pricelist!A:A,B135,Pricelist!A:A)","v":0},{"$f":"IF(B135>0,(IF(C135>D135,VLOOKUP(B135,Pricelist!A:I,9,FALSE),\"\")),\"\")","v":""},{"$f":"IF(B135>0,VLOOKUP(B135,Pricelist!A:I,7,FALSE),\"\")","v":""}]
[127,null,null,{"$f":"IF(C136>0,IF(C136>VLOOKUP(B136,Pricelist!A:I,6,0),VLOOKUP(B136,Pricelist!A:I,6,0),C136),\"\")","v":""},{"$f":"IF(B136>0,VLOOKUP(B136,Pricelist!A:I,2,FALSE),\"\")","v":""},{"$f":"IF(B136>0,VLOOKUP(B136,Pricelist!A:I,5,0),\"\")","v":""},{"$f":"IF(B136,VLOOKUP(B136,Pricelist!A:I,3,0),\"\")","v":""},"","",{"$f":"SUMIF(Pricelist!A:A,B136,Pricelist!A:A)","v":0},{"$f":"IF(B136>0,(IF(C136>D136,VLOOKUP(B136,Pricelist!A:I,9,FALSE),\"\")),\"\")","v":""},{"$f":"IF(B136>0,VLOOKUP(B136,Pricelist!A:I,7,FALSE),\"\")","v":""}]
[128,null,null,{"$f":"IF(C137>0,IF(C137>VLOOKUP(B137,Pricelist!A:I,6,0),VLOOKUP(B137,Pricelist!A:I,6,0),C137),\"\")","v":""},{"$f":"IF(B137>0,VLOOKUP(B137,Pricelist!A:I,2,FALSE),\"\")","v":""},{"$f":"IF(B137>0,VLOOKUP(B137,Pricelist!A:I,5,0),\"\")","v":""},{"$f":"IF(B137,VLOOKUP(B137,Pricelist!A:I,3,0),\"\")","v":""},"","",{"$f":"SUMIF(Pricelist!A:A,B137,Pricelist!A:A)","v":0},{"$f":"IF(B137>0,(IF(C137>D137,VLOOKUP(B137,Pricelist!A:I,9,FALSE),\"\")),\"\")","v":""},{"$f":"IF(B137>0,VLOOKUP(B137,Pricelist!A:I,7,FALSE),\"\")","v":""}]
[129,null,null,{"$f":"IF(C138>0,IF(C138>VLOOKUP(B138,Pricelist!A:I,6,0),VLOOKUP(B138,Pricelist!A:I,6,0),C138),\"\")","v":""},{"$f":"IF(B138>0,VLOOKUP(B138,Pricelist!A:I,2,FALSE),\"\")","v":""},{"$f":"IF(B138>0,VLOOKUP(B138,Pricelist!A:I,5,0),\"\")","v":""},{"$f":"IF(B138,VLOOKUP(B138,Pricelist!A:I,3,0),\"\")","v":""},"",{"$f":"IF(J138>0,IF(B138>0,D138*H138,\"\"),\"\")","v":""},{"$f":"SUMIF(Pricelist!A:A,B138,Pricelist!A:A)","v":0},{"$f":"IF(B138>0,(IF(C138>D138,VLOOKUP(B138,Pricelist!A:I,9,FALSE),\"\")),\"\")","v":""},{"$f":"IF(B138>0,VLOOKUP(B138,Pricelist!A:I,7,FALSE),\"\")","v":""}]
[130,null,null,{"$f":"IF(C139>0,IF(C139>VLOOKUP(B139,Pricelist!A:I,6,0),VLOOKUP(B139,Pricelist!A:I,6,0),C139),\"\")","v":""},{"$f":"IF(B139>0,VLOOKUP(B139,Pricelist!A:I,2,FALSE),\"\")","v":""},{"$f":"IF(B139>0,VLOOKUP(B139,Pricelist!A:I,5,0),\"\")","v":""},{"$f":"IF(B139,VLOOKUP(B139,Pricelist!A:I,3,0),\"\")","v":""},{"$f":"IF(B139>0,G139*(1-$G$1),\"\")","v":""},"",{"$f":"SUMIF(Pricelist!A:A,B139,Pricelist!A:A)","v":0},{"$f":"IF(B139>0,(IF(C139>D139,VLOOKUP(B139,Pricelist!A:I,9,FALSE),\"\")),\"\")","v":""},{"$f":"IF(B139>0,VLOOKUP(B139,Pricelist!A:I,7,FALSE),\"\")","v":""}]
[131,null,null,{"$f":"IF(C140>0,IF(C140>VLOOKUP(B140,Pricelist!A:I,6,0),VLOOKUP(B140,Pricelist!A:I,6,0),C140),\"\")","v":""},{"$f":"IF(B140>0,VLOOKUP(B140,Pricelist!A:I,2,FALSE),\"\")","v":""},{"$f":"IF(B140>0,VLOOKUP(B140,Pricelist!A:I,5,0),\"\")","v":""},{"$f":"IF(B140,VLOOKUP(B140,Pricelist!A:I,3,0),\"\")","v":""},"","",{"$f":"SUMIF(Pricelist!A:A,B140,Pricelist!A:A)","v":0},{"$f":"IF(B140>0,(IF(C140>D140,VLOOKUP(B140,Pricelist!A:I,9,FALSE),\"\")),\"\")","v":""},{"$f":"IF(B140>0,VLOOKUP(B140,Pricelist!A:I,7,FALSE),\"\")","v":""}]
[132,null,null,{"$f":"IF(C141>0,IF(C141>VLOOKUP(B141,Pricelist!A:I,6,0),VLOOKUP(B141,Pricelist!A:I,6,0),C141),\"\")","v":""},{"$f":"IF(B141>0,VLOOKUP(B141,Pricelist!A:I,2,FALSE),\"\")","v":""},{"$f":"IF(B141>0,VLOOKUP(B141,Pricelist!A:I,5,0),\"\")","v":""},{"$f":"IF(B141,VLOOKUP(B141,Pricelist!A:I,3,0),\"\")","v":""},"","",{"$f":"SUMIF(Pricelist!A:A,B141,Pricelist!A:A)","v":0},{"$f":"IF(B141>0,(IF(C141>D141,VLOOKUP(B141,Pricelist!A:I,9,FALSE),\"\")),\"\")","v":""},{"$f":"IF(B141>0,VLOOKUP(B141,Pricelist!A:I,7,FALSE),\"\")","v":""}]
[133,null,null,{"$f":"IF(C142>0,IF(C142>VLOOKUP(B142,Pricelist!A:I,6,0),VLOOKUP(B142,Pricelist!A:I,6,0),C142),\"\")","v":""},{"$f":"IF(B142>0,VLOOKUP(B142,Pricelist!A:I,2,FALSE),\"\")","v":""},{"$f":"IF(B142>0,VLOOKUP(B142,Pricelist!A:I,5,0),\"\")","v":""},{"$f":"IF(B142,VLOOKUP(B142,Pricelist!A:I,3,0),\"\")","v":""},"","",{"$f":"SUMIF(Pricelist!A:A,B142,Pricelist!A:A)","v":0},{"$f":"IF(B142>0,(IF(C142>D142,VLOOKUP(B142,Pricelist!A:I,9,FALSE),\"\")),\"\")","v":""},{"$f":"IF(B142>0,VLOOKUP(B142,Pricelist!A:I,7,FALSE),\"\")","v":""}]
[134,null,null,{"$f":"IF(C143>0,IF(C143>VLOOKUP(B143,Pricelist!A:I,6,0),VLOOKUP(B143,Pricelist!A:I,6,0),C143),\"\")","v":""},{"$f":"IF(B143>0,VLOOKUP(B143,Pricelist!A:I,2,FALSE),\"\")","v":""},{"$f":"IF(B143>0,VLOOKUP(B143,Pricelist!A:I,5,0),\"\")","v":""},{"$f":"IF(B143,VLOOKUP(B143,Pricelist!A:I,3,0),\"\")","v":""},"","",{"$f":"SUMIF(Pricelist!A:A,B143,Pricelist!A:A)","v":0},{"$f":"IF(B143>0,(IF(C143>D143,VLOOKUP(B143,Pricelist!A:I,9,FALSE),\"\")),\"\")","v":""},{"$f":"IF(B143>0,VLOOKUP(B143,Pricelist!A:I,7,FALSE),\"\")","v":""}]
[135,null,null,{"$f":"IF(C144>0,IF(C144>VLOOKUP(B144,Pricelist!A:I,6,0),VLOOKUP(B144,Pricelist!A:I,6,0),C144),\"\")","v":""},{"$f":"IF(B144>0,VLOOKUP(B144,Pricelist!A:I,2,FALSE),\"\")","v":""},{"$f":"IF(B144>0,VLOOKUP(B144,Pricelist!A:I,5,0),\"\")","v":""},{"$f":"IF(B144,VLOOKUP(B144,Pricelist!A:I,3,0),\"\")","v":""},"","",{"$f":"SUMIF(Pricelist!A:A,B144,Pricelist!A:A)","v":0},{"$f":"IF(B144>0,(IF(C144>D144,VLOOKUP(B144,Pricelist!A:I,9,FALSE),\"\")),\"\")","v":""},{"$f":"IF(B144>0,VLOOKUP(B144,Pricelist!A:I,7,FALSE),\"\")","v":""}]
[136,null,null,{"$f":"IF(C145>0,IF(C145>VLOOKUP(B145,Pricelist!A:I,6,0),VLOOKUP(B145,Pricelist!A:I,6,0),C145),\"\")","v":""},{"$f":"IF(B145>0,VLOOKUP(B145,Pricelist!A:I,2,FALSE),\"\")","v":""},{"$f":"IF(B145>0,VLOOKUP(B145,Pricelist!A:I,5,0),\"\")","v":""},{"$f":"IF(B145,VLOOKUP(B145,Pricelist!A:I,3,0),\"\")","v":""},"","",{"$f":"SUMIF(Pricelist!A:A,B145,Pricelist!A:A)","v":0},{"$f":"IF(B145>0,(IF(C145>D145,VLOOKUP(B145,Pricelist!A:I,9,FALSE),\"\")),\"\")","v":""},{"$f":"IF(B145>0,VLOOKUP(B145,Pricelist!A:I,7,FALSE),\"\")","v":""}]
[137,null,null,{"$f":"IF(C146>0,IF(C146>VLOOKUP(B146,Pricelist!A:I,6,0),VLOOKUP(B146,Pricelist!A:I,6,0),C146),\"\")","v":""},{"$f":"IF(B146>0,VLOOKUP(B146,Pricelist!A:I,2,FALSE),\"\")","v":""},{"$f":"IF(B146>0,VLOOKUP(B146,Pricelist!A:I,5,0),\"\")","v":""},{"$f":"IF(B146,VLOOKUP(B146,Pricelist!A:I,3,0),\"\")","v":""},"","",{"$f":"SUMIF(Pricelist!A:A,B146,Pricelist!A:A)","v":0},{"$f":"IF(B146>0,(IF(C146>D146,VLOOKUP(B146,Pricelist!A:I,9,FALSE),\"\")),\"\")","v":""},{"$f":"IF(B146>0,VLOOKUP(B146,Pricelist!A:I,7,FALSE),\"\")","v":""}]
[138,null,null,{"$f":"IF(C147>0,IF(C147>VLOOKUP(B147,Pricelist!A:I,6,0),VLOOKUP(B147,Pricelist!A:I,6,0),C147),\"\")","v":""},{"$f":"IF(B147>0,VLOOKUP(B147,Pricelist!A:I,2,FALSE),\"\")","v":""},{"$f":"IF(B147>0,VLOOKUP(B147,Pricelist!A:I,5,0),\"\")","v":""},{"$f":"IF(B147,VLOOKUP(B147,Pricelist!A:I,3,0),\"\")","v":""},"","",{"$f":"SUMIF(Pricelist!A:A,B147,Pricelist!A:A)","v":0},{"$f":"IF(B147>0,(IF(C147>D147,VLOOKUP(B147,Pricelist!A:I,9,FALSE),\"\")),\"\")","v":""},{"$f":"IF(B147>0,VLOOKUP(B147,Pricelist!A:I,7,FALSE),\"\")","v":""}]
[139,null,null,{"$f":"IF(C148>0,IF(C148>VLOOKUP(B148,Pricelist!A:I,6,0),VLOOKUP(B148,Pricelist!A:I,6,0),C148),\"\")","v":""},{"$f":"IF(B148>0,VLOOKUP(B148,Pricelist!A:I,2,FALSE),\"\")","v":""},{"$f":"IF(B148>0,VLOOKUP(B148,Pricelist!A:I,5,0),\"\")","v":""},{"$f":"IF(B148,VLOOKUP(B148,Pricelist!A:I,3,0),\"\")","v":""},"","",{"$f":"SUMIF(Pricelist!A:A,B148,Pricelist!A:A)","v":0},{"$f":"IF(B148>0,(IF(C148>D148,VLOOKUP(B148,Pricelist!A:I,9,FALSE),\"\")),\"\")","v":""},{"$f":"IF(B148>0,VLOOKUP(B148,Pricelist!A:I,7,FALSE),\"\")","v":""}]
[140,null,null,{"$f":"IF(C149>0,IF(C149>VLOOKUP(B149,Pricelist!A:I,6,0),VLOOKUP(B149,Pricelist!A:I,6,0),C149),\"\")","v":""},{"$f":"IF(B149>0,VLOOKUP(B149,Pricelist!A:I,2,FALSE),\"\")","v":""},{"$f":"IF(B149>0,VLOOKUP(B149,Pricelist!A:I,5,0),\"\")","v":""},{"$f":"IF(B149,VLOOKUP(B149,Pricelist!A:I,3,0),\"\")","v":""},"","",{"$f":"SUMIF(Pricelist!A:A,B149,Pricelist!A:A)","v":0},{"$f":"IF(B149>0,(IF(C149>D149,VLOOKUP(B149,Pricelist!A:I,9,FALSE),\"\")),\"\")","v":""},{"$f":"IF(B149>0,VLOOKUP(B149,Pricelist!A:I,7,FALSE),\"\")","v":""}]
[141,null,null,{"$f":"IF(C150>0,IF(C150>VLOOKUP(B150,Pricelist!A:I,6,0),VLOOKUP(B150,Pricelist!A:I,6,0),C150),\"\")","v":""},{"$f":"IF(B150>0,VLOOKUP(B150,Pricelist!A:I,2,FALSE),\"\")","v":""},{"$f":"IF(B150>0,VLOOKUP(B150,Pricelist!A:I,5,0),\"\")","v":""},{"$f":"IF(B150,VLOOKUP(B150,Pricelist!A:I,3,0),\"\")","v":""},"","",{"$f":"SUMIF(Pricelist!A:A,B150,Pricelist!A:A)","v":0},{"$f":"IF(B150>0,(IF(C150>D150,VLOOKUP(B150,Pricelist!A:I,9,FALSE),\"\")),\"\")","v":""},{"$f":"IF(B150>0,VLOOKUP(B150,Pricelist!A:I,7,FALSE),\"\")","v":""}]
[142,null,null,{"$f":"IF(C151>0,IF(C151>VLOOKUP(B151,Pricelist!A:I,6,0),VLOOKUP(B151,Pricelist!A:I,6,0),C151),\"\")","v":""},{"$f":"IF(B151>0,VLOOKUP(B151,Pricelist!A:I,2,FALSE),\"\")","v":""},{"$f":"IF(B151>0,VLOOKUP(B151,Pricelist!A:I,5,0),\"\")","v":""},{"$f":"IF(B151,VLOOKUP(B151,Pricelist!A:I,3,0),\"\")","v":""},"","",{"$f":"SUMIF(Pricelist!A:A,B151,Pricelist!A:A)","v":0},{"$f":"IF(B151>0,(IF(C151>D151,VLOOKUP(B151,Pricelist!A:I,9,FALSE),\"\")),\"\")","v":""},{"$f":"IF(B151>0,VLOOKUP(B151,Pricelist!A:I,7,FALSE),\"\")","v":""}]
[143,null,null,{"$f":"IF(C152>0,IF(C152>VLOOKUP(B152,Pricelist!A:I,6,0),VLOOKUP(B152,Pricelist!A:I,6,0),C152),\"\")","v":""},{"$f":"IF(B152>0,VLOOKUP(B152,Pricelist!A:I,2,FALSE),\"\")","v":""},{"$f":"IF(B152>0,VLOOKUP(B152,Pricelist!A:I,5,0),\"\")","v":""},{"$f":"IF(B152,VLOOKUP(B152,Pricelist!A:I,3,0),\"\")","v":""},"","",{"$f":"SUMIF(Pricelist!A:A,B152,Pricelist!A:A)","v":0},{"$f":"IF(B152>0,(IF(C152>D152,VLOOKUP(B152,Pricelist!A:I,9,FALSE),\"\")),\"\")","v":""},{"$f":"IF(B152>0,VLOOKUP(B152,Pricelist!A:I,7,FALSE),\"\")","v":""}]
[144,null,null,{"$f":"IF(C153>0,IF(C153>VLOOKUP(B153,Pricelist!A:I,6,0),VLOOKUP(B153,Pricelist!A:I,6,0),C153),\"\")","v":""},{"$f":"IF(B153>0,VLOOKUP(B153,Pricelist!A:I,2,FALSE),\"\")","v":""},{"$f":"IF(B153>0,VLOOKUP(B153,Pricelist!A:I,5,0),\"\")","v":""},{"$f":"IF(B153,VLOOKUP(B153,Pricelist!A:I,3,0),\"\")","v":""},"","",{"$f":"SUMIF(Pricelist!A:A,B153,Pricelist!A:A)","v":0},{"$f":"IF(B153>0,(IF(C153>D153,VLOOKUP(B153,Pricelist!A:I,9,FALSE),\"\")),\"\")","v":""},{"$f":"IF(B153>0,VLOOKUP(B153,Pricelist!A:I,7,FALSE),\"\")","v":""}]
[145,null,null,{"$f":"IF(C154>0,IF(C154>VLOOKUP(B154,Pricelist!A:I,6,0),VLOOKUP(B154,Pricelist!A:I,6,0),C154),\"\")","v":""},{"$f":"IF(B154>0,VLOOKUP(B154,Pricelist!A:I,2,FALSE),\"\")","v":""},{"$f":"IF(B154>0,VLOOKUP(B154,Pricelist!A:I,5,0),\"\")","v":""},{"$f":"IF(B154,VLOOKUP(B154,Pricelist!A:I,3,0),\"\")","v":""},"","",{"$f":"SUMIF(Pricelist!A:A,B154,Pricelist!A:A)","v":0},{"$f":"IF(B154>0,(IF(C154>D154,VLOOKUP(B154,Pricelist!A:I,9,FALSE),\"\")),\"\")","v":""},{"$f":"IF(B154>0,VLOOKUP(B154,Pricelist!A:I,7,FALSE),\"\")","v":""}]
[146,null,null,{"$f":"IF(C155>0,IF(C155>VLOOKUP(B155,Pricelist!A:I,6,0),VLOOKUP(B155,Pricelist!A:I,6,0),C155),\"\")","v":""},{"$f":"IF(B155>0,VLOOKUP(B155,Pricelist!A:I,2,FALSE),\"\")","v":""},{"$f":"IF(B155>0,VLOOKUP(B155,Pricelist!A:I,5,0),\"\")","v":""},{"$f":"IF(B155,VLOOKUP(B155,Pricelist!A:I,3,0),\"\")","v":""},"","",{"$f":"SUMIF(Pricelist!A:A,B155,Pricelist!A:A)","v":0},{"$f":"IF(B155>0,(IF(C155>D155,VLOOKUP(B155,Pricelist!A:I,9,FALSE),\"\")),\"\")","v":""},{"$f":"IF(B155>0,VLOOKUP(B155,Pricelist!A:I,7,FALSE),\"\")","v":""}]
[147,null,null,{"$f":"IF(C156>0,IF(C156>VLOOKUP(B156,Pricelist!A:I,6,0),VLOOKUP(B156,Pricelist!A:I,6,0),C156),\"\")","v":""},{"$f":"IF(B156>0,VLOOKUP(B156,Pricelist!A:I,2,FALSE),\"\")","v":""},{"$f":"IF(B156>0,VLOOKUP(B156,Pricelist!A:I,5,0),\"\")","v":""},{"$f":"IF(B156,VLOOKUP(B156,Pricelist!A:I,3,0),\"\")","v":""},"","",{"$f":"SUMIF(Pricelist!A:A,B156,Pricelist!A:A)","v":0},{"$f":"IF(B156>0,(IF(C156>D156,VLOOKUP(B156,Pricelist!A:I,9,FALSE),\"\")),\"\")","v":""},{"$f":"IF(B156>0,VLOOKUP(B156,Pricelist!A:I,7,FALSE),\"\")","v":""}]
[148,null,null,{"$f":"IF(C157>0,IF(C157>VLOOKUP(B157,Pricelist!A:I,6,0),VLOOKUP(B157,Pricelist!A:I,6,0),C157),\"\")","v":""},{"$f":"IF(B157>0,VLOOKUP(B157,Pricelist!A:I,2,FALSE),\"\")","v":""},{"$f":"IF(B157>0,VLOOKUP(B157,Pricelist!A:I,5,0),\"\")","v":""},{"$f":"IF(B157,VLOOKUP(B157,Pricelist!A:I,3,0),\"\")","v":""},"","",{"$f":"SUMIF(Pricelist!A:A,B157,Pricelist!A:A)","v":0},{"$f":"IF(B157>0,(IF(C157>D157,VLOOKUP(B157,Pricelist!A:I,9,FALSE),\"\")),\"\")","v":""},{"$f":"IF(B157>0,VLOOKUP(B157,Pricelist!A:I,7,FALSE),\"\")","v":""}]
[149,null,null,{"$f":"IF(C158>0,IF(C158>VLOOKUP(B158,Pricelist!A:I,6,0),VLOOKUP(B158,Pricelist!A:I,6,0),C158),\"\")","v":""},{"$f":"IF(B158>0,VLOOKUP(B158,Pricelist!A:I,2,FALSE),\"\")","v":""},{"$f":"IF(B158>0,VLOOKUP(B158,Pricelist!A:I,5,0),\"\")","v":""},{"$f":"IF(B158,VLOOKUP(B158,Pricelist!A:I,3,0),\"\")","v":""},"","",{"$f":"SUMIF(Pricelist!A:A,B158,Pricelist!A:A)","v":0},{"$f":"IF(B158>0,(IF(C158>D158,VLOOKUP(B158,Pricelist!A:I,9,FALSE),\"\")),\"\")","v":""},{"$f":"IF(B158>0,VLOOKUP(B158,Pricelist!A:I,7,FALSE),\"\")","v":""}]
[150,null,null,{"$f":"IF(C159>0,IF(C159>VLOOKUP(B159,Pricelist!A:I,6,0),VLOOKUP(B159,Pricelist!A:I,6,0),C159),\"\")","v":""},{"$f":"IF(B159>0,VLOOKUP(B159,Pricelist!A:I,2,FALSE),\"\")","v":""},{"$f":"IF(B159>0,VLOOKUP(B159,Pricelist!A:I,5,0),\"\")","v":""},{"$f":"IF(B159,VLOOKUP(B159,Pricelist!A:I,3,0),\"\")","v":""},"","",{"$f":"SUMIF(Pricelist!A:A,B159,Pricelist!A:A)","v":0},{"$f":"IF(B159>0,(IF(C159>D159,VLOOKUP(B159,Pricelist!A:I,9,FALSE),\"\")),\"\")","v":""},{"$f":"IF(B159>0,VLOOKUP(B159,Pricelist!A:I,7,FALSE),\"\")","v":""}]
[151,null,null,{"$f":"IF(C160>0,IF(C160>VLOOKUP(B160,Pricelist!A:I,6,0),VLOOKUP(B160,Pricelist!A:I,6,0),C160),\"\")","v":""},{"$f":"IF(B160>0,VLOOKUP(B160,Pricelist!A:I,2,FALSE),\"\")","v":""},{"$f":"IF(B160>0,VLOOKUP(B160,Pricelist!A:I,5,0),\"\")","v":""},{"$f":"IF(B160,VLOOKUP(B160,Pricelist!A:I,3,0),\"\")","v":""},"","",{"$f":"SUMIF(Pricelist!A:A,B160,Pricelist!A:A)","v":0},{"$f":"IF(B160>0,(IF(C160>D160,VLOOKUP(B160,Pricelist!A:I,9,FALSE),\"\")),\"\")","v":""},{"$f":"IF(B160>0,VLOOKUP(B160,Pricelist!A:I,7,FALSE),\"\")","v":""}]
[152,null,null,{"$f":"IF(C161>0,IF(C161>VLOOKUP(B161,Pricelist!A:I,6,0),VLOOKUP(B161,Pricelist!A:I,6,0),C161),\"\")","v":""},{"$f":"IF(B161>0,VLOOKUP(B161,Pricelist!A:I,2,FALSE),\"\")","v":""},{"$f":"IF(B161>0,VLOOKUP(B161,Pricelist!A:I,5,0),\"\")","v":""},{"$f":"IF(B161,VLOOKUP(B161,Pricelist!A:I,3,0),\"\")","v":""},"","",{"$f":"SUMIF(Pricelist!A:A,B161,Pricelist!A:A)","v":0},{"$f":"IF(B161>0,(IF(C161>D161,VLOOKUP(B161,Pricelist!A:I,9,FALSE),\"\")),\"\")","v":""},{"$f":"IF(B161>0,VLOOKUP(B161,Pricelist!A:I,7,FALSE),\"\")","v":""}]
[153,null,null,{"$f":"IF(C162>0,IF(C162>VLOOKUP(B162,Pricelist!A:I,6,0),VLOOKUP(B162,Pricelist!A:I,6,0),C162),\"\")","v":""},{"$f":"IF(B162>0,VLOOKUP(B162,Pricelist!A:I,2,FALSE),\"\")","v":""},{"$f":"IF(B162>0,VLOOKUP(B162,Pricelist!A:I,5,0),\"\")","v":""},{"$f":"IF(B162,VLOOKUP(B162,Pricelist!A:I,3,0),\"\")","v":""},"","",{"$f":"SUMIF(Pricelist!A:A,B162,Pricelist!A:A)","v":0},{"$f":"IF(B162>0,(IF(C162>D162,VLOOKUP(B162,Pricelist!A:I,9,FALSE),\"\")),\"\")","v":""},{"$f":"IF(B162>0,VLOOKUP(B162,Pricelist!A:I,7,FALSE),\"\")","v":""}]
[154,null,null,{"$f":"IF(C163>0,IF(C163>VLOOKUP(B163,Pricelist!A:I,6,0),VLOOKUP(B163,Pricelist!A:I,6,0),C163),\"\")","v":""},{"$f":"IF(B163>0,VLOOKUP(B163,Pricelist!A:I,2,FALSE),\"\")","v":""},{"$f":"IF(B163>0,VLOOKUP(B163,Pricelist!A:I,5,0),\"\")","v":""},{"$f":"IF(B163,VLOOKUP(B163,Pricelist!A:I,3,0),\"\")","v":""},"","",{"$f":"SUMIF(Pricelist!A:A,B163,Pricelist!A:A)","v":0},{"$f":"IF(B163>0,(IF(C163>D163,VLOOKUP(B163,Pricelist!A:I,9,FALSE),\"\")),\"\")","v":""},{"$f":"IF(B163>0,VLOOKUP(B163,Pricelist!A:I,7,FALSE),\"\")","v":""}]
[155,null,null,{"$f":"IF(C164>0,IF(C164>VLOOKUP(B164,Pricelist!A:I,6,0),VLOOKUP(B164,Pricelist!A:I,6,0),C164),\"\")","v":""},{"$f":"IF(B164>0,VLOOKUP(B164,Pricelist!A:I,2,FALSE),\"\")","v":""},{"$f":"IF(B164>0,VLOOKUP(B164,Pricelist!A:I,5,0),\"\")","v":""},{"$f":"IF(B164,VLOOKUP(B164,Pricelist!A:I,3,0),\"\")","v":""},"","",{"$f":"SUMIF(Pricelist!A:A,B164,Pricelist!A:A)","v":0},{"$f":"IF(B164>0,(IF(C164>D164,VLOOKUP(B164,Pricelist!A:I,9,FALSE),\"\")),\"\")","v":""},{"$f":"IF(B164>0,VLOOKUP(B164,Pricelist!A:I,7,FALSE),\"\")","v":""}]
[156,null,null,{"$f":"IF(C165>0,IF(C165>VLOOKUP(B165,Pricelist!A:I,6,0),VLOOKUP(B165,Pricelist!A:I,6,0),C165),\"\")","v":""},{"$f":"IF(B165>0,VLOOKUP(B165,Pricelist!A:I,2,FALSE),\"\")","v":""},{"$f":"IF(B165>0,VLOOKUP(B165,Pricelist!A:I,5,0),\"\")","v":""},{"$f":"IF(B165,VLOOKUP(B165,Pricelist!A:I,3,0),\"\")","v":""},"","",{"$f":"SUMIF(Pricelist!A:A,B165,Pricelist!A:A)","v":0},{"$f":"IF(B165>0,(IF(C165>D165,VLOOKUP(B165,Pricelist!A:I,9,FALSE),\"\")),\"\")","v":""},{"$f":"IF(B165>0,VLOOKUP(B165,Pricelist!A:I,7,FALSE),\"\")","v":""}]
[157,null,null,{"$f":"IF(C166>0,IF(C166>VLOOKUP(B166,Pricelist!A:I,6,0),VLOOKUP(B166,Pricelist!A:I,6,0),C166),\"\")","v":""},{"$f":"IF(B166>0,VLOOKUP(B166,Pricelist!A:I,2,FALSE),\"\")","v":""},{"$f":"IF(B166>0,VLOOKUP(B166,Pricelist!A:I,5,0),\"\")","v":""},{"$f":"IF(B166,VLOOKUP(B166,Pricelist!A:I,3,0),\"\")","v":""},"","",{"$f":"SUMIF(Pricelist!A:A,B166,Pricelist!A:A)","v":0},{"$f":"IF(B166>0,(IF(C166>D166,VLOOKUP(B166,Pricelist!A:I,9,FALSE),\"\")),\"\")","v":""},{"$f":"IF(B166>0,VLOOKUP(B166,Pricelist!A:I,7,FALSE),\"\")","v":""}]
[158,null,null,{"$f":"IF(C167>0,IF(C167>VLOOKUP(B167,Pricelist!A:I,6,0),VLOOKUP(B167,Pricelist!A:I,6,0),C167),\"\")","v":""},{"$f":"IF(B167>0,VLOOKUP(B167,Pricelist!A:I,2,FALSE),\"\")","v":""},{"$f":"IF(B167>0,VLOOKUP(B167,Pricelist!A:I,5,0),\"\")","v":""},{"$f":"IF(B167,VLOOKUP(B167,Pricelist!A:I,3,0),\"\")","v":""},"","",{"$f":"SUMIF(Pricelist!A:A,B167,Pricelist!A:A)","v":0},{"$f":"IF(B167>0,(IF(C167>D167,VLOOKUP(B167,Pricelist!A:I,9,FALSE),\"\")),\"\")","v":""},{"$f":"IF(B167>0,VLOOKUP(B167,Pricelist!A:I,7,FALSE),\"\")","v":""}]
[159,null,null,{"$f":"IF(C168>0,IF(C168>VLOOKUP(B168,Pricelist!A:I,6,0),VLOOKUP(B168,Pricelist!A:I,6,0),C168),\"\")","v":""},{"$f":"IF(B168>0,VLOOKUP(B168,Pricelist!A:I,2,FALSE),\"\")","v":""},{"$f":"IF(B168>0,VLOOKUP(B168,Pricelist!A:I,5,0),\"\")","v":""},{"$f":"IF(B168,VLOOKUP(B168,Pricelist!A:I,3,0),\"\")","v":""},"","",{"$f":"SUMIF(Pricelist!A:A,B168,Pricelist!A:A)","v":0},{"$f":"IF(B168>0,(IF(C168>D168,VLOOKUP(B168,Pricelist!A:I,9,FALSE),\"\")),\"\")","v":""},{"$f":"IF(B168>0,VLOOKUP(B168,Pricelist!A:I,7,FALSE),\"\")","v":""}]
[160,null,null,{"$f":"IF(C169>0,IF(C169>VLOOKUP(B169,Pricelist!A:I,6,0),VLOOKUP(B169,Pricelist!A:I,6,0),C169),\"\")","v":""},{"$f":"IF(B169>0,VLOOKUP(B169,Pricelist!A:I,2,FALSE),\"\")","v":""},{"$f":"IF(B169>0,VLOOKUP(B169,Pricelist!A:I,5,0),\"\")","v":""},{"$f":"IF(B169,VLOOKUP(B169,Pricelist!A:I,3,0),\"\")","v":""},"","",{"$f":"SUMIF(Pricelist!A:A,B169,Pricelist!A:A)","v":0},{"$f":"IF(B169>0,(IF(C169>D169,VLOOKUP(B169,Pricelist!A:I,9,FALSE),\"\")),\"\")","v":""},{"$f":"IF(B169>0,VLOOKUP(B169,Pricelist!A:I,7,FALSE),\"\")","v":""}]
[161,null,null,{"$f":"IF(C170>0,IF(C170>VLOOKUP(B170,Pricelist!A:I,6,0),VLOOKUP(B170,Pricelist!A:I,6,0),C170),\"\")","v":""},{"$f":"IF(B170>0,VLOOKUP(B170,Pricelist!A:I,2,FALSE),\"\")","v":""},{"$f":"IF(B170>0,VLOOKUP(B170,Pricelist!A:I,5,0),\"\")","v":""},{"$f":"IF(B170,VLOOKUP(B170,Pricelist!A:I,3,0),\"\")","v":""},"","",{"$f":"SUMIF(Pricelist!A:A,B170,Pricelist!A:A)","v":0},{"$f":"IF(B170>0,(IF(C170>D170,VLOOKUP(B170,Pricelist!A:I,9,FALSE),\"\")),\"\")","v":""},{"$f":"IF(B170>0,VLOOKUP(B170,Pricelist!A:I,7,FALSE),\"\")","v":""}]
[162,null,null,{"$f":"IF(C171>0,IF(C171>VLOOKUP(B171,Pricelist!A:I,6,0),VLOOKUP(B171,Pricelist!A:I,6,0),C171),\"\")","v":""},{"$f":"IF(B171>0,VLOOKUP(B171,Pricelist!A:I,2,FALSE),\"\")","v":""},{"$f":"IF(B171>0,VLOOKUP(B171,Pricelist!A:I,5,0),\"\")","v":""},{"$f":"IF(B171,VLOOKUP(B171,Pricelist!A:I,3,0),\"\")","v":""},"","",{"$f":"SUMIF(Pricelist!A:A,B171,Pricelist!A:A)","v":0},{"$f":"IF(B171>0,(IF(C171>D171,VLOOKUP(B171,Pricelist!A:I,9,FALSE),\"\")),\"\")","v":""},{"$f":"IF(B171>0,VLOOKUP(B171,Pricelist!A:I,7,FALSE),\"\")","v":""}]
[163,null,null,{"$f":"IF(C172>0,IF(C172>VLOOKUP(B172,Pricelist!A:I,6,0),VLOOKUP(B172,Pricelist!A:I,6,0),C172),\"\")","v":""},{"$f":"IF(B172>0,VLOOKUP(B172,Pricelist!A:I,2,FALSE),\"\")","v":""},{"$f":"IF(B172>0,VLOOKUP(B172,Pricelist!A:I,5,0),\"\")","v":""},{"$f":"IF(B172,VLOOKUP(B172,Pricelist!A:I,3,0),\"\")","v":""},"","",{"$f":"SUMIF(Pricelist!A:A,B172,Pricelist!A:A)","v":0},{"$f":"IF(B172>0,(IF(C172>D172,VLOOKUP(B172,Pricelist!A:I,9,FALSE),\"\")),\"\")","v":""},{"$f":"IF(B172>0,VLOOKUP(B172,Pricelist!A:I,7,FALSE),\"\")","v":""}]
[164,null,null,{"$f":"IF(C173>0,IF(C173>VLOOKUP(B173,Pricelist!A:I,6,0),VLOOKUP(B173,Pricelist!A:I,6,0),C173),\"\")","v":""},{"$f":"IF(B173>0,VLOOKUP(B173,Pricelist!A:I,2,FALSE),\"\")","v":""},{"$f":"IF(B173>0,VLOOKUP(B173,Pricelist!A:I,5,0),\"\")","v":""},{"$f":"IF(B173,VLOOKUP(B173,Pricelist!A:I,3,0),\"\")","v":""},"","",{"$f":"SUMIF(Pricelist!A:A,B173,Pricelist!A:A)","v":0},{"$f":"IF(B173>0,(IF(C173>D173,VLOOKUP(B173,Pricelist!A:I,9,FALSE),\"\")),\"\")","v":""},{"$f":"IF(B173>0,VLOOKUP(B173,Pricelist!A:I,7,FALSE),\"\")","v":""}]
[165,null,null,{"$f":"IF(C174>0,IF(C174>VLOOKUP(B174,Pricelist!A:I,6,0),VLOOKUP(B174,Pricelist!A:I,6,0),C174),\"\")","v":""},{"$f":"IF(B174>0,VLOOKUP(B174,Pricelist!A:I,2,FALSE),\"\")","v":""},{"$f":"IF(B174>0,VLOOKUP(B174,Pricelist!A:I,5,0),\"\")","v":""},{"$f":"IF(B174,VLOOKUP(B174,Pricelist!A:I,3,0),\"\")","v":""},"","",{"$f":"SUMIF(Pricelist!A:A,B174,Pricelist!A:A)","v":0},{"$f":"IF(B174>0,(IF(C174>D174,VLOOKUP(B174,Pricelist!A:I,9,FALSE),\"\")),\"\")","v":""},{"$f":"IF(B174>0,VLOOKUP(B174,Pricelist!A:I,7,FALSE),\"\")","v":""}]
[166,null,null,{"$f":"IF(C175>0,IF(C175>VLOOKUP(B175,Pricelist!A:I,6,0),VLOOKUP(B175,Pricelist!A:I,6,0),C175),\"\")","v":""},{"$f":"IF(B175>0,VLOOKUP(B175,Pricelist!A:I,2,FALSE),\"\")","v":""},{"$f":"IF(B175>0,VLOOKUP(B175,Pricelist!A:I,5,0),\"\")","v":""},{"$f":"IF(B175,VLOOKUP(B175,Pricelist!A:I,3,0),\"\")","v":""},"","",{"$f":"SUMIF(Pricelist!A:A,B175,Pricelist!A:A)","v":0},{"$f":"IF(B175>0,(IF(C175>D175,VLOOKUP(B175,Pricelist!A:I,9,FALSE),\"\")),\"\")","v":""},{"$f":"IF(B175>0,VLOOKUP(B175,Pricelist!A:I,7,FALSE),\"\")","v":""}]
[167,null,null,{"$f":"IF(C176>0,IF(C176>VLOOKUP(B176,Pricelist!A:I,6,0),VLOOKUP(B176,Pricelist!A:I,6,0),C176),\"\")","v":""},{"$f":"IF(B176>0,VLOOKUP(B176,Pricelist!A:I,2,FALSE),\"\")","v":""},{"$f":"IF(B176>0,VLOOKUP(B176,Pricelist!A:I,5,0),\"\")","v":""},{"$f":"IF(B176,VLOOKUP(B176,Pricelist!A:I,3,0),\"\")","v":""},"","",{"$f":"SUMIF(Pricelist!A:A,B176,Pricelist!A:A)","v":0},{"$f":"IF(B176>0,(IF(C176>D176,VLOOKUP(B176,Pricelist!A:I,9,FALSE),\"\")),\"\")","v":""},{"$f":"IF(B176>0,VLOOKUP(B176,Pricelist!A:I,7,FALSE),\"\")","v":""}]
[168,null,null,{"$f":"IF(C177>0,IF(C177>VLOOKUP(B177,Pricelist!A:I,6,0),VLOOKUP(B177,Pricelist!A:I,6,0),C177),\"\")","v":""},{"$f":"IF(B177>0,VLOOKUP(B177,Pricelist!A:I,2,FALSE),\"\")","v":""},{"$f":"IF(B177>0,VLOOKUP(B177,Pricelist!A:I,5,0),\"\")","v":""},{"$f":"IF(B177,VLOOKUP(B177,Pricelist!A:I,3,0),\"\")","v":""},"","",{"$f":"SUMIF(Pricelist!A:A,B177,Pricelist!A:A)","v":0},{"$f":"IF(B177>0,(IF(C177>D177,VLOOKUP(B177,Pricelist!A:I,9,FALSE),\"\")),\"\")","v":""},{"$f":"IF(B177>0,VLOOKUP(B177,Pricelist!A:I,7,FALSE),\"\")","v":""}]
[169,null,null,{"$f":"IF(C178>0,IF(C178>VLOOKUP(B178,Pricelist!A:I,6,0),VLOOKUP(B178,Pricelist!A:I,6,0),C178),\"\")","v":""},{"$f":"IF(B178>0,VLOOKUP(B178,Pricelist!A:I,2,FALSE),\"\")","v":""},{"$f":"IF(B178>0,VLOOKUP(B178,Pricelist!A:I,5,0),\"\")","v":""},{"$f":"IF(B178,VLOOKUP(B178,Pricelist!A:I,3,0),\"\")","v":""},"","",{"$f":"SUMIF(Pricelist!A:A,B178,Pricelist!A:A)","v":0},{"$f":"IF(B178>0,(IF(C178>D178,VLOOKUP(B178,Pricelist!A:I,9,FALSE),\"\")),\"\")","v":""},{"$f":"IF(B178>0,VLOOKUP(B178,Pricelist!A:I,7,FALSE),\"\")","v":""}]
[170,null,null,{"$f":"IF(C179>0,IF(C179>VLOOKUP(B179,Pricelist!A:I,6,0),VLOOKUP(B179,Pricelist!A:I,6,0),C179),\"\")","v":""},{"$f":"IF(B179>0,VLOOKUP(B179,Pricelist!A:I,2,FALSE),\"\")","v":""},{"$f":"IF(B179>0,VLOOKUP(B179,Pricelist!A:I,5,0),\"\")","v":""},{"$f":"IF(B179,VLOOKUP(B179,Pricelist!A:I,3,0),\"\")","v":""},"","",{"$f":"SUMIF(Pricelist!A:A,B179,Pricelist!A:A)","v":0},{"$f":"IF(B179>0,(IF(C179>D179,VLOOKUP(B179,Pricelist!A:I,9,FALSE),\"\")),\"\")","v":""},{"$f":"IF(B179>0,VLOOKUP(B179,Pricelist!A:I,7,FALSE),\"\")","v":""}]
[171,null,null,{"$f":"IF(C180>0,IF(C180>VLOOKUP(B180,Pricelist!A:I,6,0),VLOOKUP(B180,Pricelist!A:I,6,0),C180),\"\")","v":""},{"$f":"IF(B180>0,VLOOKUP(B180,Pricelist!A:I,2,FALSE),\"\")","v":""},{"$f":"IF(B180>0,VLOOKUP(B180,Pricelist!A:I,5,0),\"\")","v":""},{"$f":"IF(B180,VLOOKUP(B180,Pricelist!A:I,3,0),\"\")","v":""},"","",{"$f":"SUMIF(Pricelist!A:A,B180,Pricelist!A:A)","v":0},{"$f":"IF(B180>0,(IF(C180>D180,VLOOKUP(B180,Pricelist!A:I,9,FALSE),\"\")),\"\")","v":""},{"$f":"IF(B180>0,VLOOKUP(B180,Pricelist!A:I,7,FALSE),\"\")","v":""}]
[172,null,null,{"$f":"IF(C181>0,IF(C181>VLOOKUP(B181,Pricelist!A:I,6,0),VLOOKUP(B181,Pricelist!A:I,6,0),C181),\"\")","v":""},{"$f":"IF(B181>0,VLOOKUP(B181,Pricelist!A:I,2,FALSE),\"\")","v":""},{"$f":"IF(B181>0,VLOOKUP(B181,Pricelist!A:I,5,0),\"\")","v":""},{"$f":"IF(B181,VLOOKUP(B181,Pricelist!A:I,3,0),\"\")","v":""},"","",{"$f":"SUMIF(Pricelist!A:A,B181,Pricelist!A:A)","v":0},{"$f":"IF(B181>0,(IF(C181>D181,VLOOKUP(B181,Pricelist!A:I,9,FALSE),\"\")),\"\")","v":""},{"$f":"IF(B181>0,VLOOKUP(B181,Pricelist!A:I,7,FALSE),\"\")","v":""}]
[173,null,null,{"$f":"IF(C182>0,IF(C182>VLOOKUP(B182,Pricelist!A:I,6,0),VLOOKUP(B182,Pricelist!A:I,6,0),C182),\"\")","v":""},{"$f":"IF(B182>0,VLOOKUP(B182,Pricelist!A:I,2,FALSE),\"\")","v":""},{"$f":"IF(B182>0,VLOOKUP(B182,Pricelist!A:I,5,0),\"\")","v":""},{"$f":"IF(B182,VLOOKUP(B182,Pricelist!A:I,3,0),\"\")","v":""},"","",{"$f":"SUMIF(Pricelist!A:A,B182,Pricelist!A:A)","v":0},{"$f":"IF(B182>0,(IF(C182>D182,VLOOKUP(B182,Pricelist!A:I,9,FALSE),\"\")),\"\")","v":""},{"$f":"IF(B182>0,VLOOKUP(B182,Pricelist!A:I,7,FALSE),\"\")","v":""}]
[174,null,null,{"$f":"IF(C183>0,IF(C183>VLOOKUP(B183,Pricelist!A:I,6,0),VLOOKUP(B183,Pricelist!A:I,6,0),C183),\"\")","v":""},{"$f":"IF(B183>0,VLOOKUP(B183,Pricelist!A:I,2,FALSE),\"\")","v":""},{"$f":"IF(B183>0,VLOOKUP(B183,Pricelist!A:I,5,0),\"\")","v":""},{"$f":"IF(B183,VLOOKUP(B183,Pricelist!A:I,3,0),\"\")","v":""},"","",{"$f":"SUMIF(Pricelist!A:A,B183,Pricelist!A:A)","v":0},{"$f":"IF(B183>0,(IF(C183>D183,VLOOKUP(B183,Pricelist!A:I,9,FALSE),\"\")),\"\")","v":""},{"$f":"IF(B183>0,VLOOKUP(B183,Pricelist!A:I,7,FALSE),\"\")","v":""}]
[175,null,null,{"$f":"IF(C184>0,IF(C184>VLOOKUP(B184,Pricelist!A:I,6,0),VLOOKUP(B184,Pricelist!A:I,6,0),C184),\"\")","v":""},{"$f":"IF(B184>0,VLOOKUP(B184,Pricelist!A:I,2,FALSE),\"\")","v":""},{"$f":"IF(B184>0,VLOOKUP(B184,Pricelist!A:I,5,0),\"\")","v":""},{"$f":"IF(B184,VLOOKUP(B184,Pricelist!A:I,3,0),\"\")","v":""},"","",{"$f":"SUMIF(Pricelist!A:A,B184,Pricelist!A:A)","v":0},{"$f":"IF(B184>0,(IF(C184>D184,VLOOKUP(B184,Pricelist!A:I,9,FALSE),\"\")),\"\")","v":""},{"$f":"IF(B184>0,VLOOKUP(B184,Pricelist!A:I,7,FALSE),\"\")","v":""}]
[176,null,null,{"$f":"IF(C185>0,IF(C185>VLOOKUP(B185,Pricelist!A:I,6,0),VLOOKUP(B185,Pricelist!A:I,6,0),C185),\"\")","v":""},{"$f":"IF(B185>0,VLOOKUP(B185,Pricelist!A:I,2,FALSE),\"\")","v":""},{"$f":"IF(B185>0,VLOOKUP(B185,Pricelist!A:I,5,0),\"\")","v":""},{"$f":"IF(B185,VLOOKUP(B185,Pricelist!A:I,3,0),\"\")","v":""},"","",{"$f":"SUMIF(Pricelist!A:A,B185,Pricelist!A:A)","v":0},{"$f":"IF(B185>0,(IF(C185>D185,VLOOKUP(B185,Pricelist!A:I,9,FALSE),\"\")),\"\")","v":""},{"$f":"IF(B185>0,VLOOKUP(B185,Pricelist!A:I,7,FALSE),\"\")","v":""}]
[177,null,null,{"$f":"IF(C186>0,IF(C186>VLOOKUP(B186,Pricelist!A:I,6,0),VLOOKUP(B186,Pricelist!A:I,6,0),C186),\"\")","v":""},{"$f":"IF(B186>0,VLOOKUP(B186,Pricelist!A:I,2,FALSE),\"\")","v":""},{"$f":"IF(B186>0,VLOOKUP(B186,Pricelist!A:I,5,0),\"\")","v":""},{"$f":"IF(B186,VLOOKUP(B186,Pricelist!A:I,3,0),\"\")","v":""},"","",{"$f":"SUMIF(Pricelist!A:A,B186,Pricelist!A:A)","v":0},{"$f":"IF(B186>0,(IF(C186>D186,VLOOKUP(B186,Pricelist!A:I,9,FALSE),\"\")),\"\")","v":""},{"$f":"IF(B186>0,VLOOKUP(B186,Pricelist!A:I,7,FALSE),\"\")","v":""}]
[178,null,null,{"$f":"IF(C187>0,IF(C187>VLOOKUP(B187,Pricelist!A:I,6,0),VLOOKUP(B187,Pricelist!A:I,6,0),C187),\"\")","v":""},{"$f":"IF(B187>0,VLOOKUP(B187,Pricelist!A:I,2,FALSE),\"\")","v":""},{"$f":"IF(B187>0,VLOOKUP(B187,Pricelist!A:I,5,0),\"\")","v":""},{"$f":"IF(B187,VLOOKUP(B187,Pricelist!A:I,3,0),\"\")","v":""},"","",{"$f":"SUMIF(Pricelist!A:A,B187,Pricelist!A:A)","v":0},{"$f":"IF(B187>0,(IF(C187>D187,VLOOKUP(B187,Pricelist!A:I,9,FALSE),\"\")),\"\")","v":""},{"$f":"IF(B187>0,VLOOKUP(B187,Pricelist!A:I,7,FALSE),\"\")","v":""}]
[179,null,null,{"$f":"IF(C188>0,IF(C188>VLOOKUP(B188,Pricelist!A:I,6,0),VLOOKUP(B188,Pricelist!A:I,6,0),C188),\"\")","v":""},{"$f":"IF(B188>0,VLOOKUP(B188,Pricelist!A:I,2,FALSE),\"\")","v":""},{"$f":"IF(B188>0,VLOOKUP(B188,Pricelist!A:I,5,0),\"\")","v":""},{"$f":"IF(B188,VLOOKUP(B188,Pricelist!A:I,3,0),\"\")","v":""},"","",{"$f":"SUMIF(Pricelist!A:A,B188,Pricelist!A:A)","v":0},{"$f":"IF(B188>0,(IF(C188>D188,VLOOKUP(B188,Pricelist!A:I,9,FALSE),\"\")),\"\")","v":""},{"$f":"IF(B188>0,VLOOKUP(B188,Pricelist!A:I,7,FALSE),\"\")","v":""}]
[180,null,null,{"$f":"IF(C189>0,IF(C189>VLOOKUP(B189,Pricelist!A:I,6,0),VLOOKUP(B189,Pricelist!A:I,6,0),C189),\"\")","v":""},{"$f":"IF(B189>0,VLOOKUP(B189,Pricelist!A:I,2,FALSE),\"\")","v":""},{"$f":"IF(B189>0,VLOOKUP(B189,Pricelist!A:I,5,0),\"\")","v":""},{"$f":"IF(B189,VLOOKUP(B189,Pricelist!A:I,3,0),\"\")","v":""},"","",{"$f":"SUMIF(Pricelist!A:A,B189,Pricelist!A:A)","v":0},{"$f":"IF(B189>0,(IF(C189>D189,VLOOKUP(B189,Pricelist!A:I,9,FALSE),\"\")),\"\")","v":""},{"$f":"IF(B189>0,VLOOKUP(B189,Pricelist!A:I,7,FALSE),\"\")","v":""}]
[181,null,null,{"$f":"IF(C190>0,IF(C190>VLOOKUP(B190,Pricelist!A:I,6,0),VLOOKUP(B190,Pricelist!A:I,6,0),C190),\"\")","v":""},{"$f":"IF(B190>0,VLOOKUP(B190,Pricelist!A:I,2,FALSE),\"\")","v":""},{"$f":"IF(B190>0,VLOOKUP(B190,Pricelist!A:I,5,0),\"\")","v":""},{"$f":"IF(B190,VLOOKUP(B190,Pricelist!A:I,3,0),\"\")","v":""},"","",{"$f":"SUMIF(Pricelist!A:A,B190,Pricelist!A:A)","v":0},{"$f":"IF(B190>0,(IF(C190>D190,VLOOKUP(B190,Pricelist!A:I,9,FALSE),\"\")),\"\")","v":""},{"$f":"IF(B190>0,VLOOKUP(B190,Pricelist!A:I,7,FALSE),\"\")","v":""}]
[182,null,null,{"$f":"IF(C191>0,IF(C191>VLOOKUP(B191,Pricelist!A:I,6,0),VLOOKUP(B191,Pricelist!A:I,6,0),C191),\"\")","v":""},{"$f":"IF(B191>0,VLOOKUP(B191,Pricelist!A:I,2,FALSE),\"\")","v":""},{"$f":"IF(B191>0,VLOOKUP(B191,Pricelist!A:I,5,0),\"\")","v":""},{"$f":"IF(B191,VLOOKUP(B191,Pricelist!A:I,3,0),\"\")","v":""},"","",{"$f":"SUMIF(Pricelist!A:A,B191,Pricelist!A:A)","v":0},{"$f":"IF(B191>0,(IF(C191>D191,VLOOKUP(B191,Pricelist!A:I,9,FALSE),\"\")),\"\")","v":""},{"$f":"IF(B191>0,VLOOKUP(B191,Pricelist!A:I,7,FALSE),\"\")","v":""}]
[183,null,null,{"$f":"IF(C192>0,IF(C192>VLOOKUP(B192,Pricelist!A:I,6,0),VLOOKUP(B192,Pricelist!A:I,6,0),C192),\"\")","v":""},{"$f":"IF(B192>0,VLOOKUP(B192,Pricelist!A:I,2,FALSE),\"\")","v":""},{"$f":"IF(B192>0,VLOOKUP(B192,Pricelist!A:I,5,0),\"\")","v":""},{"$f":"IF(B192,VLOOKUP(B192,Pricelist!A:I,3,0),\"\")","v":""},"","",{"$f":"SUMIF(Pricelist!A:A,B192,Pricelist!A:A)","v":0},{"$f":"IF(B192>0,(IF(C192>D192,VLOOKUP(B192,Pricelist!A:I,9,FALSE),\"\")),\"\")","v":""},{"$f":"IF(B192>0,VLOOKUP(B192,Pricelist!A:I,7,FALSE),\"\")","v":""}]
[184,null,null,{"$f":"IF(C193>0,IF(C193>VLOOKUP(B193,Pricelist!A:I,6,0),VLOOKUP(B193,Pricelist!A:I,6,0),C193),\"\")","v":""},{"$f":"IF(B193>0,VLOOKUP(B193,Pricelist!A:I,2,FALSE),\"\")","v":""},{"$f":"IF(B193>0,VLOOKUP(B193,Pricelist!A:I,5,0),\"\")","v":""},{"$f":"IF(B193,VLOOKUP(B193,Pricelist!A:I,3,0),\"\")","v":""},"","",{"$f":"SUMIF(Pricelist!A:A,B193,Pricelist!A:A)","v":0},{"$f":"IF(B193>0,(IF(C193>D193,VLOOKUP(B193,Pricelist!A:I,9,FALSE),\"\")),\"\")","v":""},{"$f":"IF(B193>0,VLOOKUP(B193,Pricelist!A:I,7,FALSE),\"\")","v":""}]
[185,null,null,{"$f":"IF(C194>0,IF(C194>VLOOKUP(B194,Pricelist!A:I,6,0),VLOOKUP(B194,Pricelist!A:I,6,0),C194),\"\")","v":""},{"$f":"IF(B194>0,VLOOKUP(B194,Pricelist!A:I,2,FALSE),\"\")","v":""},{"$f":"IF(B194>0,VLOOKUP(B194,Pricelist!A:I,5,0),\"\")","v":""},{"$f":"IF(B194,VLOOKUP(B194,Pricelist!A:I,3,0),\"\")","v":""},"","",{"$f":"SUMIF(Pricelist!A:A,B194,Pricelist!A:A)","v":0},{"$f":"IF(B194>0,(IF(C194>D194,VLOOKUP(B194,Pricelist!A:I,9,FALSE),\"\")),\"\")","v":""},{"$f":"IF(B194>0,VLOOKUP(B194,Pricelist!A:I,7,FALSE),\"\")","v":""}]
[186,null,null,{"$f":"IF(C195>0,IF(C195>VLOOKUP(B195,Pricelist!A:I,6,0),VLOOKUP(B195,Pricelist!A:I,6,0),C195),\"\")","v":""},{"$f":"IF(B195>0,VLOOKUP(B195,Pricelist!A:I,2,FALSE),\"\")","v":""},{"$f":"IF(B195>0,VLOOKUP(B195,Pricelist!A:I,5,0),\"\")","v":""},{"$f":"IF(B195,VLOOKUP(B195,Pricelist!A:I,3,0),\"\")","v":""},"","",{"$f":"SUMIF(Pricelist!A:A,B195,Pricelist!A:A)","v":0},{"$f":"IF(B195>0,(IF(C195>D195,VLOOKUP(B195,Pricelist!A:I,9,FALSE),\"\")),\"\")","v":""},{"$f":"IF(B195>0,VLOOKUP(B195,Pricelist!A:I,7,FALSE),\"\")","v":""}]
[187,null,null,{"$f":"IF(C196>0,IF(C196>VLOOKUP(B196,Pricelist!A:I,6,0),VLOOKUP(B196,Pricelist!A:I,6,0),C196),\"\")","v":""},{"$f":"IF(B196>0,VLOOKUP(B196,Pricelist!A:I,2,FALSE),\"\")","v":""},{"$f":"IF(B196>0,VLOOKUP(B196,Pricelist!A:I,5,0),\"\")","v":""},{"$f":"IF(B196,VLOOKUP(B196,Pricelist!A:I,3,0),\"\")","v":""},"","",{"$f":"SUMIF(Pricelist!A:A,B196,Pricelist!A:A)","v":0},{"$f":"IF(B196>0,(IF(C196>D196,VLOOKUP(B196,Pricelist!A:I,9,FALSE),\"\")),\"\")","v":""},{"$f":"IF(B196>0,VLOOKUP(B196,Pricelist!A:I,7,FALSE),\"\")","v":""}]
[188,null,null,{"$f":"IF(C197>0,IF(C197>VLOOKUP(B197,Pricelist!A:I,6,0),VLOOKUP(B197,Pricelist!A:I,6,0),C197),\"\")","v":""},{"$f":"IF(B197>0,VLOOKUP(B197,Pricelist!A:I,2,FALSE),\"\")","v":""},{"$f":"IF(B197>0,VLOOKUP(B197,Pricelist!A:I,5,0),\"\")","v":""},{"$f":"IF(B197,VLOOKUP(B197,Pricelist!A:I,3,0),\"\")","v":""},"","",{"$f":"SUMIF(Pricelist!A:A,B197,Pricelist!A:A)","v":0},{"$f":"IF(B197>0,(IF(C197>D197,VLOOKUP(B197,Pricelist!A:I,9,FALSE),\"\")),\"\")","v":""},{"$f":"IF(B197>0,VLOOKUP(B197,Pricelist!A:I,7,FALSE),\"\")","v":""}]
[189,null,null,{"$f":"IF(C198>0,IF(C198>VLOOKUP(B198,Pricelist!A:I,6,0),VLOOKUP(B198,Pricelist!A:I,6,0),C198),\"\")","v":""},{"$f":"IF(B198>0,VLOOKUP(B198,Pricelist!A:I,2,FALSE),\"\")","v":""},{"$f":"IF(B198>0,VLOOKUP(B198,Pricelist!A:I,5,0),\"\")","v":""},{"$f":"IF(B198,VLOOKUP(B198,Pricelist!A:I,3,0),\"\")","v":""},"","",{"$f":"SUMIF(Pricelist!A:A,B198,Pricelist!A:A)","v":0},{"$f":"IF(B198>0,(IF(C198>D198,VLOOKUP(B198,Pricelist!A:I,9,FALSE),\"\")),\"\")","v":""},{"$f":"IF(B198>0,VLOOKUP(B198,Pricelist!A:I,7,FALSE),\"\")","v":""}]
[190,null,null,{"$f":"IF(C199>0,IF(C199>VLOOKUP(B199,Pricelist!A:I,6,0),VLOOKUP(B199,Pricelist!A:I,6,0),C199),\"\")","v":""},{"$f":"IF(B199>0,VLOOKUP(B199,Pricelist!A:I,2,FALSE),\"\")","v":""},{"$f":"IF(B199>0,VLOOKUP(B199,Pricelist!A:I,5,0),\"\")","v":""},{"$f":"IF(B199,VLOOKUP(B199,Pricelist!A:I,3,0),\"\")","v":""},"","",{"$f":"SUMIF(Pricelist!A:A,B199,Pricelist!A:A)","v":0},{"$f":"IF(B199>0,(IF(C199>D199,VLOOKUP(B199,Pricelist!A:I,9,FALSE),\"\")),\"\")","v":""},{"$f":"IF(B199>0,VLOOKUP(B199,Pricelist!A:I,7,FALSE),\"\")","v":""}]
[191,null,null,{"$f":"IF(C200>0,IF(C200>VLOOKUP(B200,Pricelist!A:I,6,0),VLOOKUP(B200,Pricelist!A:I,6,0),C200),\"\")","v":""},{"$f":"IF(B200>0,VLOOKUP(B200,Pricelist!A:I,2,FALSE),\"\")","v":""},{"$f":"IF(B200>0,VLOOKUP(B200,Pricelist!A:I,5,0),\"\")","v":""},{"$f":"IF(B200,VLOOKUP(B200,Pricelist!A:I,3,0),\"\")","v":""},"","",{"$f":"SUMIF(Pricelist!A:A,B200,Pricelist!A:A)","v":0},{"$f":"IF(B200>0,(IF(C200>D200,VLOOKUP(B200,Pricelist!A:I,9,FALSE),\"\")),\"\")","v":""},{"$f":"IF(B200>0,VLOOKUP(B200,Pricelist!A:I,7,FALSE),\"\")","v":""}]
[192,null,null,{"$f":"IF(C201>0,IF(C201>VLOOKUP(B201,Pricelist!A:I,6,0),VLOOKUP(B201,Pricelist!A:I,6,0),C201),\"\")","v":""},{"$f":"IF(B201>0,VLOOKUP(B201,Pricelist!A:I,2,FALSE),\"\")","v":""},{"$f":"IF(B201>0,VLOOKUP(B201,Pricelist!A:I,5,0),\"\")","v":""},{"$f":"IF(B201,VLOOKUP(B201,Pricelist!A:I,3,0),\"\")","v":""},"","",{"$f":"SUMIF(Pricelist!A:A,B201,Pricelist!A:A)","v":0},{"$f":"IF(B201>0,(IF(C201>D201,VLOOKUP(B201,Pricelist!A:I,9,FALSE),\"\")),\"\")","v":""},{"$f":"IF(B201>0,VLOOKUP(B201,Pricelist!A:I,7,FALSE),\"\")","v":""}]
[193,null,null,{"$f":"IF(C202>0,IF(C202>VLOOKUP(B202,Pricelist!A:I,6,0),VLOOKUP(B202,Pricelist!A:I,6,0),C202),\"\")","v":""},{"$f":"IF(B202>0,VLOOKUP(B202,Pricelist!A:I,2,FALSE),\"\")","v":""},{"$f":"IF(B202>0,VLOOKUP(B202,Pricelist!A:I,5,0),\"\")","v":""},{"$f":"IF(B202,VLOOKUP(B202,Pricelist!A:I,3,0),\"\")","v":""},"",{"$f":"IF(J202>0,IF(B202>0,D202*H202,\"\"),\"\")","v":""},{"$f":"SUMIF(Pricelist!A:A,B202,Pricelist!A:A)","v":0},{"$f":"IF(B202>0,(IF(C202>D202,VLOOKUP(B202,Pricelist!A:I,9,FALSE),\"\")),\"\")","v":""},{"$f":"IF(B202>0,VLOOKUP(B202,Pricelist!A:I,7,FALSE),\"\")","v":""}]
[194,null,null,{"$f":"IF(C203>0,IF(C203>VLOOKUP(B203,Pricelist!A:I,6,0),VLOOKUP(B203,Pricelist!A:I,6,0),C203),\"\")","v":""},{"$f":"IF(B203>0,VLOOKUP(B203,Pricelist!A:I,2,FALSE),\"\")","v":""},{"$f":"IF(B203>0,VLOOKUP(B203,Pricelist!A:I,5,0),\"\")","v":""},{"$f":"IF(B203,VLOOKUP(B203,Pricelist!A:I,3,0),\"\")","v":""},{"$f":"IF(B203>0,G203*(1-$G$1),\"\")","v":""},"",{"$f":"SUMIF(Pricelist!A:A,B203,Pricelist!A:A)","v":0},{"$f":"IF(B203>0,(IF(C203>D203,VLOOKUP(B203,Pricelist!A:I,9,FALSE),\"\")),\"\")","v":""},{"$f":"IF(B203>0,VLOOKUP(B203,Pricelist!A:I,7,FALSE),\"\")","v":""}]
[195,null,null,{"$f":"IF(C204>0,IF(C204>VLOOKUP(B204,Pricelist!A:I,6,0),VLOOKUP(B204,Pricelist!A:I,6,0),C204),\"\")","v":""},{"$f":"IF(B204>0,VLOOKUP(B204,Pricelist!A:I,2,FALSE),\"\")","v":""},{"$f":"IF(B204>0,VLOOKUP(B204,Pricelist!A:I,5,0),\"\")","v":""},{"$f":"IF(B204,VLOOKUP(B204,Pricelist!A:I,3,0),\"\")","v":""},"","",{"$f":"SUMIF(Pricelist!A:A,B204,Pricelist!A:A)","v":0},{"$f":"IF(B204>0,(IF(C204>D204,VLOOKUP(B204,Pricelist!A:I,9,FALSE),\"\")),\"\")","v":""},{"$f":"IF(B204>0,VLOOKUP(B204,Pricelist!A:I,7,FALSE),\"\")","v":""}]
[196,null,null,{"$f":"IF(C205>0,IF(C205>VLOOKUP(B205,Pricelist!A:I,6,0),VLOOKUP(B205,Pricelist!A:I,6,0),C205),\"\")","v":""},{"$f":"IF(B205>0,VLOOKUP(B205,Pricelist!A:I,2,FALSE),\"\")","v":""},{"$f":"IF(B205>0,VLOOKUP(B205,Pricelist!A:I,5,0),\"\")","v":""},{"$f":"IF(B205,VLOOKUP(B205,Pricelist!A:I,3,0),\"\")","v":""},"","",{"$f":"SUMIF(Pricelist!A:A,B205,Pricelist!A:A)","v":0},{"$f":"IF(B205>0,(IF(C205>D205,VLOOKUP(B205,Pricelist!A:I,9,FALSE),\"\")),\"\")","v":""},{"$f":"IF(B205>0,VLOOKUP(B205,Pricelist!A:I,7,FALSE),\"\")","v":""}]
[197,null,null,{"$f":"IF(C206>0,IF(C206>VLOOKUP(B206,Pricelist!A:I,6,0),VLOOKUP(B206,Pricelist!A:I,6,0),C206),\"\")","v":""},{"$f":"IF(B206>0,VLOOKUP(B206,Pricelist!A:I,2,FALSE),\"\")","v":""},{"$f":"IF(B206>0,VLOOKUP(B206,Pricelist!A:I,5,0),\"\")","v":""},{"$f":"IF(B206,VLOOKUP(B206,Pricelist!A:I,3,0),\"\")","v":""},"","",{"$f":"SUMIF(Pricelist!A:A,B206,Pricelist!A:A)","v":0},{"$f":"IF(B206>0,(IF(C206>D206,VLOOKUP(B206,Pricelist!A:I,9,FALSE),\"\")),\"\")","v":""},{"$f":"IF(B206>0,VLOOKUP(B206,Pricelist!A:I,7,FALSE),\"\")","v":""}]
[198,null,null,{"$f":"IF(C207>0,IF(C207>VLOOKUP(B207,Pricelist!A:I,6,0),VLOOKUP(B207,Pricelist!A:I,6,0),C207),\"\")","v":""},{"$f":"IF(B207>0,VLOOKUP(B207,Pricelist!A:I,2,FALSE),\"\")","v":""},{"$f":"IF(B207>0,VLOOKUP(B207,Pricelist!A:I,5,0),\"\")","v":""},{"$f":"IF(B207,VLOOKUP(B207,Pricelist!A:I,3,0),\"\")","v":""},"","",{"$f":"SUMIF(Pricelist!A:A,B207,Pricelist!A:A)","v":0},{"$f":"IF(B207>0,(IF(C207>D207,VLOOKUP(B207,Pricelist!A:I,9,FALSE),\"\")),\"\")","v":""},{"$f":"IF(B207>0,VLOOKUP(B207,Pricelist!A:I,7,FALSE),\"\")","v":""}]
[199,null,null,{"$f":"IF(C208>0,IF(C208>VLOOKUP(B208,Pricelist!A:I,6,0),VLOOKUP(B208,Pricelist!A:I,6,0),C208),\"\")","v":""},{"$f":"IF(B208>0,VLOOKUP(B208,Pricelist!A:I,2,FALSE),\"\")","v":""},{"$f":"IF(B208>0,VLOOKUP(B208,Pricelist!A:I,5,0),\"\")","v":""},{"$f":"IF(B208,VLOOKUP(B208,Pricelist!A:I,3,0),\"\")","v":""},"","",{"$f":"SUMIF(Pricelist!A:A,B208,Pricelist!A:A)","v":0},{"$f":"IF(B208>0,(IF(C208>D208,VLOOKUP(B208,Pricelist!A:I,9,FALSE),\"\")),\"\")","v":""},{"$f":"IF(B208>0,VLOOKUP(B208,Pricelist!A:I,7,FALSE),\"\")","v":""}]
[200,null,null,{"$f":"IF(C209>0,IF(C209>VLOOKUP(B209,Pricelist!A:I,6,0),VLOOKUP(B209,Pricelist!A:I,6,0),C209),\"\")","v":""},{"$f":"IF(B209>0,VLOOKUP(B209,Pricelist!A:I,2,FALSE),\"\")","v":""},{"$f":"IF(B209>0,VLOOKUP(B209,Pricelist!A:I,5,0),\"\")","v":""},{"$f":"IF(B209,VLOOKUP(B209,Pricelist!A:I,3,0),\"\")","v":""},"","",{"$f":"SUMIF(Pricelist!A:A,B209,Pricelist!A:A)","v":0},{"$f":"IF(B209>0,(IF(C209>D209,VLOOKUP(B209,Pricelist!A:I,9,FALSE),\"\")),\"\")","v":""},{"$f":"IF(B209>0,VLOOKUP(B209,Pricelist!A:I,7,FALSE),\"\")","v":""}]
[201,null,null,{"$f":"IF(C210>0,IF(C210>VLOOKUP(B210,Pricelist!A:I,6,0),VLOOKUP(B210,Pricelist!A:I,6,0),C210),\"\")","v":""},{"$f":"IF(B210>0,VLOOKUP(B210,Pricelist!A:I,2,FALSE),\"\")","v":""},{"$f":"IF(B210>0,VLOOKUP(B210,Pricelist!A:I,5,0),\"\")","v":""},{"$f":"IF(B210,VLOOKUP(B210,Pricelist!A:I,3,0),\"\")","v":""},"","",{"$f":"SUMIF(Pricelist!A:A,B210,Pricelist!A:A)","v":0},{"$f":"IF(B210>0,(IF(C210>D210,VLOOKUP(B210,Pricelist!A:I,9,FALSE),\"\")),\"\")","v":""},{"$f":"IF(B210>0,VLOOKUP(B210,Pricelist!A:I,7,FALSE),\"\")","v":""}]
[202,null,null,{"$f":"IF(C211>0,IF(C211>VLOOKUP(B211,Pricelist!A:I,6,0),VLOOKUP(B211,Pricelist!A:I,6,0),C211),\"\")","v":""},{"$f":"IF(B211>0,VLOOKUP(B211,Pricelist!A:I,2,FALSE),\"\")","v":""},{"$f":"IF(B211>0,VLOOKUP(B211,Pricelist!A:I,5,0),\"\")","v":""},{"$f":"IF(B211,VLOOKUP(B211,Pricelist!A:I,3,0),\"\")","v":""},"","",{"$f":"SUMIF(Pricelist!A:A,B211,Pricelist!A:A)","v":0},{"$f":"IF(B211>0,(IF(C211>D211,VLOOKUP(B211,Pricelist!A:I,9,FALSE),\"\")),\"\")","v":""},{"$f":"IF(B211>0,VLOOKUP(B211,Pricelist!A:I,7,FALSE),\"\")","v":""}]
[203,null,null,{"$f":"IF(C212>0,IF(C212>VLOOKUP(B212,Pricelist!A:I,6,0),VLOOKUP(B212,Pricelist!A:I,6,0),C212),\"\")","v":""},{"$f":"IF(B212>0,VLOOKUP(B212,Pricelist!A:I,2,FALSE),\"\")","v":""},{"$f":"IF(B212>0,VLOOKUP(B212,Pricelist!A:I,5,0),\"\")","v":""},{"$f":"IF(B212,VLOOKUP(B212,Pricelist!A:I,3,0),\"\")","v":""},"","",{"$f":"SUMIF(Pricelist!A:A,B212,Pricelist!A:A)","v":0},{"$f":"IF(B212>0,(IF(C212>D212,VLOOKUP(B212,Pricelist!A:I,9,FALSE),\"\")),\"\")","v":""},{"$f":"IF(B212>0,VLOOKUP(B212,Pricelist!A:I,7,FALSE),\"\")","v":""}]
[204,null,null,{"$f":"IF(C213>0,IF(C213>VLOOKUP(B213,Pricelist!A:I,6,0),VLOOKUP(B213,Pricelist!A:I,6,0),C213),\"\")","v":""},{"$f":"IF(B213>0,VLOOKUP(B213,Pricelist!A:I,2,FALSE),\"\")","v":""},{"$f":"IF(B213>0,VLOOKUP(B213,Pricelist!A:I,5,0),\"\")","v":""},{"$f":"IF(B213,VLOOKUP(B213,Pricelist!A:I,3,0),\"\")","v":""},"","",{"$f":"SUMIF(Pricelist!A:A,B213,Pricelist!A:A)","v":0},{"$f":"IF(B213>0,(IF(C213>D213,VLOOKUP(B213,Pricelist!A:I,9,FALSE),\"\")),\"\")","v":""},{"$f":"IF(B213>0,VLOOKUP(B213,Pricelist!A:I,7,FALSE),\"\")","v":""}]
[205,null,null,{"$f":"IF(C214>0,IF(C214>VLOOKUP(B214,Pricelist!A:I,6,0),VLOOKUP(B214,Pricelist!A:I,6,0),C214),\"\")","v":""},{"$f":"IF(B214>0,VLOOKUP(B214,Pricelist!A:I,2,FALSE),\"\")","v":""},{"$f":"IF(B214>0,VLOOKUP(B214,Pricelist!A:I,5,0),\"\")","v":""},{"$f":"IF(B214,VLOOKUP(B214,Pricelist!A:I,3,0),\"\")","v":""},"","",{"$f":"SUMIF(Pricelist!A:A,B214,Pricelist!A:A)","v":0},{"$f":"IF(B214>0,(IF(C214>D214,VLOOKUP(B214,Pricelist!A:I,9,FALSE),\"\")),\"\")","v":""},{"$f":"IF(B214>0,VLOOKUP(B214,Pricelist!A:I,7,FALSE),\"\")","v":""}]
[206,null,null,{"$f":"IF(C215>0,IF(C215>VLOOKUP(B215,Pricelist!A:I,6,0),VLOOKUP(B215,Pricelist!A:I,6,0),C215),\"\")","v":""},{"$f":"IF(B215>0,VLOOKUP(B215,Pricelist!A:I,2,FALSE),\"\")","v":""},{"$f":"IF(B215>0,VLOOKUP(B215,Pricelist!A:I,5,0),\"\")","v":""},{"$f":"IF(B215,VLOOKUP(B215,Pricelist!A:I,3,0),\"\")","v":""},"","",{"$f":"SUMIF(Pricelist!A:A,B215,Pricelist!A:A)","v":0},{"$f":"IF(B215>0,(IF(C215>D215,VLOOKUP(B215,Pricelist!A:I,9,FALSE),\"\")),\"\")","v":""},{"$f":"IF(B215>0,VLOOKUP(B215,Pricelist!A:I,7,FALSE),\"\")","v":""}]
[207,null,null,{"$f":"IF(C216>0,IF(C216>VLOOKUP(B216,Pricelist!A:I,6,0),VLOOKUP(B216,Pricelist!A:I,6,0),C216),\"\")","v":""},{"$f":"IF(B216>0,VLOOKUP(B216,Pricelist!A:I,2,FALSE),\"\")","v":""},{"$f":"IF(B216>0,VLOOKUP(B216,Pricelist!A:I,5,0),\"\")","v":""},{"$f":"IF(B216,VLOOKUP(B216,Pricelist!A:I,3,0),\"\")","v":""},"","",{"$f":"SUMIF(Pricelist!A:A,B216,Pricelist!A:A)","v":0},{"$f":"IF(B216>0,(IF(C216>D216,VLOOKUP(B216,Pricelist!A:I,9,FALSE),\"\")),\"\")","v":""},{"$f":"IF(B216>0,VLOOKUP(B216,Pricelist!A:I,7,FALSE),\"\")","v":""}]
[208,null,null,{"$f":"IF(C217>0,IF(C217>VLOOKUP(B217,Pricelist!A:I,6,0),VLOOKUP(B217,Pricelist!A:I,6,0),C217),\"\")","v":""},{"$f":"IF(B217>0,VLOOKUP(B217,Pricelist!A:I,2,FALSE),\"\")","v":""},{"$f":"IF(B217>0,VLOOKUP(B217,Pricelist!A:I,5,0),\"\")","v":""},{"$f":"IF(B217,VLOOKUP(B217,Pricelist!A:I,3,0),\"\")","v":""},"","",{"$f":"SUMIF(Pricelist!A:A,B217,Pricelist!A:A)","v":0},{"$f":"IF(B217>0,(IF(C217>D217,VLOOKUP(B217,Pricelist!A:I,9,FALSE),\"\")),\"\")","v":""},{"$f":"IF(B217>0,VLOOKUP(B217,Pricelist!A:I,7,FALSE),\"\")","v":""}]
[209,null,null,{"$f":"IF(C218>0,IF(C218>VLOOKUP(B218,Pricelist!A:I,6,0),VLOOKUP(B218,Pricelist!A:I,6,0),C218),\"\")","v":""},{"$f":"IF(B218>0,VLOOKUP(B218,Pricelist!A:I,2,FALSE),\"\")","v":""},{"$f":"IF(B218>0,VLOOKUP(B218,Pricelist!A:I,5,0),\"\")","v":""},{"$f":"IF(B218,VLOOKUP(B218,Pricelist!A:I,3,0),\"\")","v":""},"","",{"$f":"SUMIF(Pricelist!A:A,B218,Pricelist!A:A)","v":0},{"$f":"IF(B218>0,(IF(C218>D218,VLOOKUP(B218,Pricelist!A:I,9,FALSE),\"\")),\"\")","v":""},{"$f":"IF(B218>0,VLOOKUP(B218,Pricelist!A:I,7,FALSE),\"\")","v":""}]
[210,null,null,{"$f":"IF(C219>0,IF(C219>VLOOKUP(B219,Pricelist!A:I,6,0),VLOOKUP(B219,Pricelist!A:I,6,0),C219),\"\")","v":""},{"$f":"IF(B219>0,VLOOKUP(B219,Pricelist!A:I,2,FALSE),\"\")","v":""},{"$f":"IF(B219>0,VLOOKUP(B219,Pricelist!A:I,5,0),\"\")","v":""},{"$f":"IF(B219,VLOOKUP(B219,Pricelist!A:I,3,0),\"\")","v":""},"","",{"$f":"SUMIF(Pricelist!A:A,B219,Pricelist!A:A)","v":0},{"$f":"IF(B219>0,(IF(C219>D219,VLOOKUP(B219,Pricelist!A:I,9,FALSE),\"\")),\"\")","v":""},{"$f":"IF(B219>0,VLOOKUP(B219,Pricelist!A:I,7,FALSE),\"\")","v":""}]
[211,null,null,{"$f":"IF(C220>0,IF(C220>VLOOKUP(B220,Pricelist!A:I,6,0),VLOOKUP(B220,Pricelist!A:I,6,0),C220),\"\")","v":""},{"$f":"IF(B220>0,VLOOKUP(B220,Pricelist!A:I,2,FALSE),\"\")","v":""},{"$f":"IF(B220>0,VLOOKUP(B220,Pricelist!A:I,5,0),\"\")","v":""},{"$f":"IF(B220,VLOOKUP(B220,Pricelist!A:I,3,0),\"\")","v":""},"","",{"$f":"SUMIF(Pricelist!A:A,B220,Pricelist!A:A)","v":0},{"$f":"IF(B220>0,(IF(C220>D220,VLOOKUP(B220,Pricelist!A:I,9,FALSE),\"\")),\"\")","v":""},{"$f":"IF(B220>0,VLOOKUP(B220,Pricelist!A:I,7,FALSE),\"\")","v":""}]
[212,null,null,{"$f":"IF(C221>0,IF(C221>VLOOKUP(B221,Pricelist!A:I,6,0),VLOOKUP(B221,Pricelist!A:I,6,0),C221),\"\")","v":""},{"$f":"IF(B221>0,VLOOKUP(B221,Pricelist!A:I,2,FALSE),\"\")","v":""},{"$f":"IF(B221>0,VLOOKUP(B221,Pricelist!A:I,5,0),\"\")","v":""},{"$f":"IF(B221,VLOOKUP(B221,Pricelist!A:I,3,0),\"\")","v":""},"","",{"$f":"SUMIF(Pricelist!A:A,B221,Pricelist!A:A)","v":0},{"$f":"IF(B221>0,(IF(C221>D221,VLOOKUP(B221,Pricelist!A:I,9,FALSE),\"\")),\"\")","v":""},{"$f":"IF(B221>0,VLOOKUP(B221,Pricelist!A:I,7,FALSE),\"\")","v":""}]
[213,null,null,{"$f":"IF(C222>0,IF(C222>VLOOKUP(B222,Pricelist!A:I,6,0),VLOOKUP(B222,Pricelist!A:I,6,0),C222),\"\")","v":""},{"$f":"IF(B222>0,VLOOKUP(B222,Pricelist!A:I,2,FALSE),\"\")","v":""},{"$f":"IF(B222>0,VLOOKUP(B222,Pricelist!A:I,5,0),\"\")","v":""},{"$f":"IF(B222,VLOOKUP(B222,Pricelist!A:I,3,0),\"\")","v":""},"","",{"$f":"SUMIF(Pricelist!A:A,B222,Pricelist!A:A)","v":0},{"$f":"IF(B222>0,(IF(C222>D222,VLOOKUP(B222,Pricelist!A:I,9,FALSE),\"\")),\"\")","v":""},{"$f":"IF(B222>0,VLOOKUP(B222,Pricelist!A:I,7,FALSE),\"\")","v":""}]
[214,null,null,{"$f":"IF(C223>0,IF(C223>VLOOKUP(B223,Pricelist!A:I,6,0),VLOOKUP(B223,Pricelist!A:I,6,0),C223),\"\")","v":""},{"$f":"IF(B223>0,VLOOKUP(B223,Pricelist!A:I,2,FALSE),\"\")","v":""},{"$f":"IF(B223>0,VLOOKUP(B223,Pricelist!A:I,5,0),\"\")","v":""},{"$f":"IF(B223,VLOOKUP(B223,Pricelist!A:I,3,0),\"\")","v":""},"","",{"$f":"SUMIF(Pricelist!A:A,B223,Pricelist!A:A)","v":0},{"$f":"IF(B223>0,(IF(C223>D223,VLOOKUP(B223,Pricelist!A:I,9,FALSE),\"\")),\"\")","v":""},{"$f":"IF(B223>0,VLOOKUP(B223,Pricelist!A:I,7,FALSE),\"\")","v":""}]
[215,null,null,{"$f":"IF(C224>0,IF(C224>VLOOKUP(B224,Pricelist!A:I,6,0),VLOOKUP(B224,Pricelist!A:I,6,0),C224),\"\")","v":""},{"$f":"IF(B224>0,VLOOKUP(B224,Pricelist!A:I,2,FALSE),\"\")","v":""},{"$f":"IF(B224>0,VLOOKUP(B224,Pricelist!A:I,5,0),\"\")","v":""},{"$f":"IF(B224,VLOOKUP(B224,Pricelist!A:I,3,0),\"\")","v":""},"","",{"$f":"SUMIF(Pricelist!A:A,B224,Pricelist!A:A)","v":0},{"$f":"IF(B224>0,(IF(C224>D224,VLOOKUP(B224,Pricelist!A:I,9,FALSE),\"\")),\"\")","v":""},{"$f":"IF(B224>0,VLOOKUP(B224,Pricelist!A:I,7,FALSE),\"\")","v":""}]
[216,null,null,{"$f":"IF(C225>0,IF(C225>VLOOKUP(B225,Pricelist!A:I,6,0),VLOOKUP(B225,Pricelist!A:I,6,0),C225),\"\")","v":""},{"$f":"IF(B225>0,VLOOKUP(B225,Pricelist!A:I,2,FALSE),\"\")","v":""},{"$f":"IF(B225>0,VLOOKUP(B225,Pricelist!A:I,5,0),\"\")","v":""},{"$f":"IF(B225,VLOOKUP(B225,Pricelist!A:I,3,0),\"\")","v":""},"","",{"$f":"SUMIF(Pricelist!A:A,B225,Pricelist!A:A)","v":0},{"$f":"IF(B225>0,(IF(C225>D225,VLOOKUP(B225,Pricelist!A:I,9,FALSE),\"\")),\"\")","v":""},{"$f":"IF(B225>0,VLOOKUP(B225,Pricelist!A:I,7,FALSE),\"\")","v":""}]
[217,null,null,{"$f":"IF(C226>0,IF(C226>VLOOKUP(B226,Pricelist!A:I,6,0),VLOOKUP(B226,Pricelist!A:I,6,0),C226),\"\")","v":""},{"$f":"IF(B226>0,VLOOKUP(B226,Pricelist!A:I,2,FALSE),\"\")","v":""},{"$f":"IF(B226>0,VLOOKUP(B226,Pricelist!A:I,5,0),\"\")","v":""},{"$f":"IF(B226,VLOOKUP(B226,Pricelist!A:I,3,0),\"\")","v":""},"","",{"$f":"SUMIF(Pricelist!A:A,B226,Pricelist!A:A)","v":0},{"$f":"IF(B226>0,(IF(C226>D226,VLOOKUP(B226,Pricelist!A:I,9,FALSE),\"\")),\"\")","v":""},{"$f":"IF(B226>0,VLOOKUP(B226,Pricelist!A:I,7,FALSE),\"\")","v":""}]
[218,null,null,{"$f":"IF(C227>0,IF(C227>VLOOKUP(B227,Pricelist!A:I,6,0),VLOOKUP(B227,Pricelist!A:I,6,0),C227),\"\")","v":""},{"$f":"IF(B227>0,VLOOKUP(B227,Pricelist!A:I,2,FALSE),\"\")","v":""},{"$f":"IF(B227>0,VLOOKUP(B227,Pricelist!A:I,5,0),\"\")","v":""},{"$f":"IF(B227,VLOOKUP(B227,Pricelist!A:I,3,0),\"\")","v":""},"","",{"$f":"SUMIF(Pricelist!A:A,B227,Pricelist!A:A)","v":0},{"$f":"IF(B227>0,(IF(C227>D227,VLOOKUP(B227,Pricelist!A:I,9,FALSE),\"\")),\"\")","v":""},{"$f":"IF(B227>0,VLOOKUP(B227,Pricelist!A:I,7,FALSE),\"\")","v":""}]
[219,null,null,{"$f":"IF(C228>0,IF(C228>VLOOKUP(B228,Pricelist!A:I,6,0),VLOOKUP(B228,Pricelist!A:I,6,0),C228),\"\")","v":""},{"$f":"IF(B228>0,VLOOKUP(B228,Pricelist!A:I,2,FALSE),\"\")","v":""},{"$f":"IF(B228>0,VLOOKUP(B228,Pricelist!A:I,5,0),\"\")","v":""},{"$f":"IF(B228,VLOOKUP(B228,Pricelist!A:I,3,0),\"\")","v":""},"","",{"$f":"SUMIF(Pricelist!A:A,B228,Pricelist!A:A)","v":0},{"$f":"IF(B228>0,(IF(C228>D228,VLOOKUP(B228,Pricelist!A:I,9,FALSE),\"\")),\"\")","v":""},{"$f":"IF(B228>0,VLOOKUP(B228,Pricelist!A:I,7,FALSE),\"\")","v":""}]
[220,null,null,{"$f":"IF(C229>0,IF(C229>VLOOKUP(B229,Pricelist!A:I,6,0),VLOOKUP(B229,Pricelist!A:I,6,0),C229),\"\")","v":""},{"$f":"IF(B229>0,VLOOKUP(B229,Pricelist!A:I,2,FALSE),\"\")","v":""},{"$f":"IF(B229>0,VLOOKUP(B229,Pricelist!A:I,5,0),\"\")","v":""},{"$f":"IF(B229,VLOOKUP(B229,Pricelist!A:I,3,0),\"\")","v":""},"","",{"$f":"SUMIF(Pricelist!A:A,B229,Pricelist!A:A)","v":0},{"$f":"IF(B229>0,(IF(C229>D229,VLOOKUP(B229,Pricelist!A:I,9,FALSE),\"\")),\"\")","v":""},{"$f":"IF(B229>0,VLOOKUP(B229,Pricelist!A:I,7,FALSE),\"\")","v":""}]
[221,null,null,{"$f":"IF(C230>0,IF(C230>VLOOKUP(B230,Pricelist!A:I,6,0),VLOOKUP(B230,Pricelist!A:I,6,0),C230),\"\")","v":""},{"$f":"IF(B230>0,VLOOKUP(B230,Pricelist!A:I,2,FALSE),\"\")","v":""},{"$f":"IF(B230>0,VLOOKUP(B230,Pricelist!A:I,5,0),\"\")","v":""},{"$f":"IF(B230,VLOOKUP(B230,Pricelist!A:I,3,0),\"\")","v":""},"","",{"$f":"SUMIF(Pricelist!A:A,B230,Pricelist!A:A)","v":0},{"$f":"IF(B230>0,(IF(C230>D230,VLOOKUP(B230,Pricelist!A:I,9,FALSE),\"\")),\"\")","v":""},{"$f":"IF(B230>0,VLOOKUP(B230,Pricelist!A:I,7,FALSE),\"\")","v":""}]
[222,null,null,{"$f":"IF(C231>0,IF(C231>VLOOKUP(B231,Pricelist!A:I,6,0),VLOOKUP(B231,Pricelist!A:I,6,0),C231),\"\")","v":""},{"$f":"IF(B231>0,VLOOKUP(B231,Pricelist!A:I,2,FALSE),\"\")","v":""},{"$f":"IF(B231>0,VLOOKUP(B231,Pricelist!A:I,5,0),\"\")","v":""},{"$f":"IF(B231,VLOOKUP(B231,Pricelist!A:I,3,0),\"\")","v":""},"","",{"$f":"SUMIF(Pricelist!A:A,B231,Pricelist!A:A)","v":0},{"$f":"IF(B231>0,(IF(C231>D231,VLOOKUP(B231,Pricelist!A:I,9,FALSE),\"\")),\"\")","v":""},{"$f":"IF(B231>0,VLOOKUP(B231,Pricelist!A:I,7,FALSE),\"\")","v":""}]
[223,null,null,{"$f":"IF(C232>0,IF(C232>VLOOKUP(B232,Pricelist!A:I,6,0),VLOOKUP(B232,Pricelist!A:I,6,0),C232),\"\")","v":""},{"$f":"IF(B232>0,VLOOKUP(B232,Pricelist!A:I,2,FALSE),\"\")","v":""},{"$f":"IF(B232>0,VLOOKUP(B232,Pricelist!A:I,5,0),\"\")","v":""},{"$f":"IF(B232,VLOOKUP(B232,Pricelist!A:I,3,0),\"\")","v":""},"","",{"$f":"SUMIF(Pricelist!A:A,B232,Pricelist!A:A)","v":0},{"$f":"IF(B232>0,(IF(C232>D232,VLOOKUP(B232,Pricelist!A:I,9,FALSE),\"\")),\"\")","v":""},{"$f":"IF(B232>0,VLOOKUP(B232,Pricelist!A:I,7,FALSE),\"\")","v":""}]
[224,null,null,{"$f":"IF(C233>0,IF(C233>VLOOKUP(B233,Pricelist!A:I,6,0),VLOOKUP(B233,Pricelist!A:I,6,0),C233),\"\")","v":""},{"$f":"IF(B233>0,VLOOKUP(B233,Pricelist!A:I,2,FALSE),\"\")","v":""},{"$f":"IF(B233>0,VLOOKUP(B233,Pricelist!A:I,5,0),\"\")","v":""},{"$f":"IF(B233,VLOOKUP(B233,Pricelist!A:I,3,0),\"\")","v":""},"","",{"$f":"SUMIF(Pricelist!A:A,B233,Pricelist!A:A)","v":0},{"$f":"IF(B233>0,(IF(C233>D233,VLOOKUP(B233,Pricelist!A:I,9,FALSE),\"\")),\"\")","v":""},{"$f":"IF(B233>0,VLOOKUP(B233,Pricelist!A:I,7,FALSE),\"\")","v":""}]
[225,null,null,{"$f":"IF(C234>0,IF(C234>VLOOKUP(B234,Pricelist!A:I,6,0),VLOOKUP(B234,Pricelist!A:I,6,0),C234),\"\")","v":""},{"$f":"IF(B234>0,VLOOKUP(B234,Pricelist!A:I,2,FALSE),\"\")","v":""},{"$f":"IF(B234>0,VLOOKUP(B234,Pricelist!A:I,5,0),\"\")","v":""},{"$f":"IF(B234,VLOOKUP(B234,Pricelist!A:I,3,0),\"\")","v":""},"","",{"$f":"SUMIF(Pricelist!A:A,B234,Pricelist!A:A)","v":0},{"$f":"IF(B234>0,(IF(C234>D234,VLOOKUP(B234,Pricelist!A:I,9,FALSE),\"\")),\"\")","v":""},{"$f":"IF(B234>0,VLOOKUP(B234,Pricelist!A:I,7,FALSE),\"\")","v":""}]
[226,null,null,{"$f":"IF(C235>0,IF(C235>VLOOKUP(B235,Pricelist!A:I,6,0),VLOOKUP(B235,Pricelist!A:I,6,0),C235),\"\")","v":""},{"$f":"IF(B235>0,VLOOKUP(B235,Pricelist!A:I,2,FALSE),\"\")","v":""},{"$f":"IF(B235>0,VLOOKUP(B235,Pricelist!A:I,5,0),\"\")","v":""},{"$f":"IF(B235,VLOOKUP(B235,Pricelist!A:I,3,0),\"\")","v":""},"","",{"$f":"SUMIF(Pricelist!A:A,B235,Pricelist!A:A)","v":0},{"$f":"IF(B235>0,(IF(C235>D235,VLOOKUP(B235,Pricelist!A:I,9,FALSE),\"\")),\"\")","v":""},{"$f":"IF(B235>0,VLOOKUP(B235,Pricelist!A:I,7,FALSE),\"\")","v":""}]
[227,null,null,{"$f":"IF(C236>0,IF(C236>VLOOKUP(B236,Pricelist!A:I,6,0),VLOOKUP(B236,Pricelist!A:I,6,0),C236),\"\")","v":""},{"$f":"IF(B236>0,VLOOKUP(B236,Pricelist!A:I,2,FALSE),\"\")","v":""},{"$f":"IF(B236>0,VLOOKUP(B236,Pricelist!A:I,5,0),\"\")","v":""},{"$f":"IF(B236,VLOOKUP(B236,Pricelist!A:I,3,0),\"\")","v":""},"","",{"$f":"SUMIF(Pricelist!A:A,B236,Pricelist!A:A)","v":0},{"$f":"IF(B236>0,(IF(C236>D236,VLOOKUP(B236,Pricelist!A:I,9,FALSE),\"\")),\"\")","v":""},{"$f":"IF(B236>0,VLOOKUP(B236,Pricelist!A:I,7,FALSE),\"\")","v":""}]
[228,null,null,{"$f":"IF(C237>0,IF(C237>VLOOKUP(B237,Pricelist!A:I,6,0),VLOOKUP(B237,Pricelist!A:I,6,0),C237),\"\")","v":""},{"$f":"IF(B237>0,VLOOKUP(B237,Pricelist!A:I,2,FALSE),\"\")","v":""},{"$f":"IF(B237>0,VLOOKUP(B237,Pricelist!A:I,5,0),\"\")","v":""},{"$f":"IF(B237,VLOOKUP(B237,Pricelist!A:I,3,0),\"\")","v":""},"","",{"$f":"SUMIF(Pricelist!A:A,B237,Pricelist!A:A)","v":0},{"$f":"IF(B237>0,(IF(C237>D237,VLOOKUP(B237,Pricelist!A:I,9,FALSE),\"\")),\"\")","v":""},{"$f":"IF(B237>0,VLOOKUP(B237,Pricelist!A:I,7,FALSE),\"\")","v":""}]
[229,null,null,{"$f":"IF(C238>0,IF(C238>VLOOKUP(B238,Pricelist!A:I,6,0),VLOOKUP(B238,Pricelist!A:I,6,0),C238),\"\")","v":""},{"$f":"IF(B238>0,VLOOKUP(B238,Pricelist!A:I,2,FALSE),\"\")","v":""},{"$f":"IF(B238>0,VLOOKUP(B238,Pricelist!A:I,5,0),\"\")","v":""},{"$f":"IF(B238,VLOOKUP(B238,Pricelist!A:I,3,0),\"\")","v":""},"","",{"$f":"SUMIF(Pricelist!A:A,B238,Pricelist!A:A)","v":0},{"$f":"IF(B238>0,(IF(C238>D238,VLOOKUP(B238,Pricelist!A:I,9,FALSE),\"\")),\"\")","v":""},{"$f":"IF(B238>0,VLOOKUP(B238,Pricelist!A:I,7,FALSE),\"\")","v":""}]
[230,null,null,{"$f":"IF(C239>0,IF(C239>VLOOKUP(B239,Pricelist!A:I,6,0),VLOOKUP(B239,Pricelist!A:I,6,0),C239),\"\")","v":""},{"$f":"IF(B239>0,VLOOKUP(B239,Pricelist!A:I,2,FALSE),\"\")","v":""},{"$f":"IF(B239>0,VLOOKUP(B239,Pricelist!A:I,5,0),\"\")","v":""},{"$f":"IF(B239,VLOOKUP(B239,Pricelist!A:I,3,0),\"\")","v":""},"","",{"$f":"SUMIF(Pricelist!A:A,B239,Pricelist!A:A)","v":0},{"$f":"IF(B239>0,(IF(C239>D239,VLOOKUP(B239,Pricelist!A:I,9,FALSE),\"\")),\"\")","v":""},{"$f":"IF(B239>0,VLOOKUP(B239,Pricelist!A:I,7,FALSE),\"\")","v":""}]
[231,null,null,{"$f":"IF(C240>0,IF(C240>VLOOKUP(B240,Pricelist!A:I,6,0),VLOOKUP(B240,Pricelist!A:I,6,0),C240),\"\")","v":""},{"$f":"IF(B240>0,VLOOKUP(B240,Pricelist!A:I,2,FALSE),\"\")","v":""},{"$f":"IF(B240>0,VLOOKUP(B240,Pricelist!A:I,5,0),\"\")","v":""},{"$f":"IF(B240,VLOOKUP(B240,Pricelist!A:I,3,0),\"\")","v":""},"","",{"$f":"SUMIF(Pricelist!A:A,B240,Pricelist!A:A)","v":0},{"$f":"IF(B240>0,(IF(C240>D240,VLOOKUP(B240,Pricelist!A:I,9,FALSE),\"\")),\"\")","v":""},{"$f":"IF(B240>0,VLOOKUP(B240,Pricelist!A:I,7,FALSE),\"\")","v":""}]
[232,null,null,{"$f":"IF(C241>0,IF(C241>VLOOKUP(B241,Pricelist!A:I,6,0),VLOOKUP(B241,Pricelist!A:I,6,0),C241),\"\")","v":""},{"$f":"IF(B241>0,VLOOKUP(B241,Pricelist!A:I,2,FALSE),\"\")","v":""},{"$f":"IF(B241>0,VLOOKUP(B241,Pricelist!A:I,5,0),\"\")","v":""},{"$f":"IF(B241,VLOOKUP(B241,Pricelist!A:I,3,0),\"\")","v":""},"","",{"$f":"SUMIF(Pricelist!A:A,B241,Pricelist!A:A)","v":0},{"$f":"IF(B241>0,(IF(C241>D241,VLOOKUP(B241,Pricelist!A:I,9,FALSE),\"\")),\"\")","v":""},{"$f":"IF(B241>0,VLOOKUP(B241,Pricelist!A:I,7,FALSE),\"\")","v":""}]
[233,null,null,{"$f":"IF(C242>0,IF(C242>VLOOKUP(B242,Pricelist!A:I,6,0),VLOOKUP(B242,Pricelist!A:I,6,0),C242),\"\")","v":""},{"$f":"IF(B242>0,VLOOKUP(B242,Pricelist!A:I,2,FALSE),\"\")","v":""},{"$f":"IF(B242>0,VLOOKUP(B242,Pricelist!A:I,5,0),\"\")","v":""},{"$f":"IF(B242,VLOOKUP(B242,Pricelist!A:I,3,0),\"\")","v":""},"","",{"$f":"SUMIF(Pricelist!A:A,B242,Pricelist!A:A)","v":0},{"$f":"IF(B242>0,(IF(C242>D242,VLOOKUP(B242,Pricelist!A:I,9,FALSE),\"\")),\"\")","v":""},{"$f":"IF(B242>0,VLOOKUP(B242,Pricelist!A:I,7,FALSE),\"\")","v":""}]
[234,null,null,{"$f":"IF(C243>0,IF(C243>VLOOKUP(B243,Pricelist!A:I,6,0),VLOOKUP(B243,Pricelist!A:I,6,0),C243),\"\")","v":""},{"$f":"IF(B243>0,VLOOKUP(B243,Pricelist!A:I,2,FALSE),\"\")","v":""},{"$f":"IF(B243>0,VLOOKUP(B243,Pricelist!A:I,5,0),\"\")","v":""},{"$f":"IF(B243,VLOOKUP(B243,Pricelist!A:I,3,0),\"\")","v":""},"","",{"$f":"SUMIF(Pricelist!A:A,B243,Pricelist!A:A)","v":0},{"$f":"IF(B243>0,(IF(C243>D243,VLOOKUP(B243,Pricelist!A:I,9,FALSE),\"\")),\"\")","v":""},{"$f":"IF(B243>0,VLOOKUP(B243,Pricelist!A:I,7,FALSE),\"\")","v":""}]
[235,null,null,{"$f":"IF(C244>0,IF(C244>VLOOKUP(B244,Pricelist!A:I,6,0),VLOOKUP(B244,Pricelist!A:I,6,0),C244),\"\")","v":""},{"$f":"IF(B244>0,VLOOKUP(B244,Pricelist!A:I,2,FALSE),\"\")","v":""},{"$f":"IF(B244>0,VLOOKUP(B244,Pricelist!A:I,5,0),\"\")","v":""},{"$f":"IF(B244,VLOOKUP(B244,Pricelist!A:I,3,0),\"\")","v":""},"","",{"$f":"SUMIF(Pricelist!A:A,B244,Pricelist!A:A)","v":0},{"$f":"IF(B244>0,(IF(C244>D244,VLOOKUP(B244,Pricelist!A:I,9,FALSE),\"\")),\"\")","v":""},{"$f":"IF(B244>0,VLOOKUP(B244,Pricelist!A:I,7,FALSE),\"\")","v":""}]
[236,null,null,{"$f":"IF(C245>0,IF(C245>VLOOKUP(B245,Pricelist!A:I,6,0),VLOOKUP(B245,Pricelist!A:I,6,0),C245),\"\")","v":""},{"$f":"IF(B245>0,VLOOKUP(B245,Pricelist!A:I,2,FALSE),\"\")","v":""},{"$f":"IF(B245>0,VLOOKUP(B245,Pricelist!A:I,5,0),\"\")","v":""},{"$f":"IF(B245,VLOOKUP(B245,Pricelist!A:I,3,0),\"\")","v":""},"","",{"$f":"SUMIF(Pricelist!A:A,B245,Pricelist!A:A)","v":0},{"$f":"IF(B245>0,(IF(C245>D245,VLOOKUP(B245,Pricelist!A:I,9,FALSE),\"\")),\"\")","v":""},{"$f":"IF(B245>0,VLOOKUP(B245,Pricelist!A:I,7,FALSE),\"\")","v":""}]
[237,null,null,{"$f":"IF(C246>0,IF(C246>VLOOKUP(B246,Pricelist!A:I,6,0),VLOOKUP(B246,Pricelist!A:I,6,0),C246),\"\")","v":""},{"$f":"IF(B246>0,VLOOKUP(B246,Pricelist!A:I,2,FALSE),\"\")","v":""},{"$f":"IF(B246>0,VLOOKUP(B246,Pricelist!A:I,5,0),\"\")","v":""},{"$f":"IF(B246,VLOOKUP(B246,Pricelist!A:I,3,0),\"\")","v":""},"","",{"$f":"SUMIF(Pricelist!A:A,B246,Pricelist!A:A)","v":0},{"$f":"IF(B246>0,(IF(C246>D246,VLOOKUP(B246,Pricelist!A:I,9,FALSE),\"\")),\"\")","v":""},{"$f":"IF(B246>0,VLOOKUP(B246,Pricelist!A:I,7,FALSE),\"\")","v":""}]
[238,null,null,{"$f":"IF(C247>0,IF(C247>VLOOKUP(B247,Pricelist!A:I,6,0),VLOOKUP(B247,Pricelist!A:I,6,0),C247),\"\")","v":""},{"$f":"IF(B247>0,VLOOKUP(B247,Pricelist!A:I,2,FALSE),\"\")","v":""},{"$f":"IF(B247>0,VLOOKUP(B247,Pricelist!A:I,5,0),\"\")","v":""},{"$f":"IF(B247,VLOOKUP(B247,Pricelist!A:I,3,0),\"\")","v":""},"","",{"$f":"SUMIF(Pricelist!A:A,B247,Pricelist!A:A)","v":0},{"$f":"IF(B247>0,(IF(C247>D247,VLOOKUP(B247,Pricelist!A:I,9,FALSE),\"\")),\"\")","v":""},{"$f":"IF(B247>0,VLOOKUP(B247,Pricelist!A:I,7,FALSE),\"\")","v":""}]
[239,null,null,{"$f":"IF(C248>0,IF(C248>VLOOKUP(B248,Pricelist!A:I,6,0),VLOOKUP(B248,Pricelist!A:I,6,0),C248),\"\")","v":""},{"$f":"IF(B248>0,VLOOKUP(B248,Pricelist!A:I,2,FALSE),\"\")","v":""},{"$f":"IF(B248>0,VLOOKUP(B248,Pricelist!A:I,5,0),\"\")","v":""},{"$f":"IF(B248,VLOOKUP(B248,Pricelist!A:I,3,0),\"\")","v":""},"","",{"$f":"SUMIF(Pricelist!A:A,B248,Pricelist!A:A)","v":0},{"$f":"IF(B248>0,(IF(C248>D248,VLOOKUP(B248,Pricelist!A:I,9,FALSE),\"\")),\"\")","v":""},{"$f":"IF(B248>0,VLOOKUP(B248,Pricelist!A:I,7,FALSE),\"\")","v":""}]
[240,null,null,{"$f":"IF(C249>0,IF(C249>VLOOKUP(B249,Pricelist!A:I,6,0),VLOOKUP(B249,Pricelist!A:I,6,0),C249),\"\")","v":""},{"$f":"IF(B249>0,VLOOKUP(B249,Pricelist!A:I,2,FALSE),\"\")","v":""},{"$f":"IF(B249>0,VLOOKUP(B249,Pricelist!A:I,5,0),\"\")","v":""},{"$f":"IF(B249,VLOOKUP(B249,Pricelist!A:I,3,0),\"\")","v":""},"","",{"$f":"SUMIF(Pricelist!A:A,B249,Pricelist!A:A)","v":0},{"$f":"IF(B249>0,(IF(C249>D249,VLOOKUP(B249,Pricelist!A:I,9,FALSE),\"\")),\"\")","v":""},{"$f":"IF(B249>0,VLOOKUP(B249,Pricelist!A:I,7,FALSE),\"\")","v":""}]
[241,null,null,{"$f":"IF(C250>0,IF(C250>VLOOKUP(B250,Pricelist!A:I,6,0),VLOOKUP(B250,Pricelist!A:I,6,0),C250),\"\")","v":""},{"$f":"IF(B250>0,VLOOKUP(B250,Pricelist!A:I,2,FALSE),\"\")","v":""},{"$f":"IF(B250>0,VLOOKUP(B250,Pricelist!A:I,5,0),\"\")","v":""},{"$f":"IF(B250,VLOOKUP(B250,Pricelist!A:I,3,0),\"\")","v":""},"","",{"$f":"SUMIF(Pricelist!A:A,B250,Pricelist!A:A)","v":0},{"$f":"IF(B250>0,(IF(C250>D250,VLOOKUP(B250,Pricelist!A:I,9,FALSE),\"\")),\"\")","v":""},{"$f":"IF(B250>0,VLOOKUP(B250,Pricelist!A:I,7,FALSE),\"\")","v":""}]
[242,null,null,{"$f":"IF(C251>0,IF(C251>VLOOKUP(B251,Pricelist!A:I,6,0),VLOOKUP(B251,Pricelist!A:I,6,0),C251),\"\")","v":""},{"$f":"IF(B251>0,VLOOKUP(B251,Pricelist!A:I,2,FALSE),\"\")","v":""},{"$f":"IF(B251>0,VLOOKUP(B251,Pricelist!A:I,5,0),\"\")","v":""},{"$f":"IF(B251,VLOOKUP(B251,Pricelist!A:I,3,0),\"\")","v":""},"","",{"$f":"SUMIF(Pricelist!A:A,B251,Pricelist!A:A)","v":0},{"$f":"IF(B251>0,(IF(C251>D251,VLOOKUP(B251,Pricelist!A:I,9,FALSE),\"\")),\"\")","v":""},{"$f":"IF(B251>0,VLOOKUP(B251,Pricelist!A:I,7,FALSE),\"\")","v":""}]
[243,null,null,{"$f":"IF(C252>0,IF(C252>VLOOKUP(B252,Pricelist!A:I,6,0),VLOOKUP(B252,Pricelist!A:I,6,0),C252),\"\")","v":""},{"$f":"IF(B252>0,VLOOKUP(B252,Pricelist!A:I,2,FALSE),\"\")","v":""},{"$f":"IF(B252>0,VLOOKUP(B252,Pricelist!A:I,5,0),\"\")","v":""},{"$f":"IF(B252,VLOOKUP(B252,Pricelist!A:I,3,0),\"\")","v":""},"","",{"$f":"SUMIF(Pricelist!A:A,B252,Pricelist!A:A)","v":0},{"$f":"IF(B252>0,(IF(C252>D252,VLOOKUP(B252,Pricelist!A:I,9,FALSE),\"\")),\"\")","v":""},{"$f":"IF(B252>0,VLOOKUP(B252,Pricelist!A:I,7,FALSE),\"\")","v":""}]
[244,null,null,{"$f":"IF(C253>0,IF(C253>VLOOKUP(B253,Pricelist!A:I,6,0),VLOOKUP(B253,Pricelist!A:I,6,0),C253),\"\")","v":""},{"$f":"IF(B253>0,VLOOKUP(B253,Pricelist!A:I,2,FALSE),\"\")","v":""},{"$f":"IF(B253>0,VLOOKUP(B253,Pricelist!A:I,5,0),\"\")","v":""},{"$f":"IF(B253,VLOOKUP(B253,Pricelist!A:I,3,0),\"\")","v":""},"","",{"$f":"SUMIF(Pricelist!A:A,B253,Pricelist!A:A)","v":0},{"$f":"IF(B253>0,(IF(C253>D253,VLOOKUP(B253,Pricelist!A:I,9,FALSE),\"\")),\"\")","v":""},{"$f":"IF(B253>0,VLOOKUP(B253,Pricelist!A:I,7,FALSE),\"\")","v":""}]
[245,null,null,{"$f":"IF(C254>0,IF(C254>VLOOKUP(B254,Pricelist!A:I,6,0),VLOOKUP(B254,Pricelist!A:I,6,0),C254),\"\")","v":""},{"$f":"IF(B254>0,VLOOKUP(B254,Pricelist!A:I,2,FALSE),\"\")","v":""},{"$f":"IF(B254>0,VLOOKUP(B254,Pricelist!A:I,5,0),\"\")","v":""},{"$f":"IF(B254,VLOOKUP(B254,Pricelist!A:I,3,0),\"\")","v":""},"","",{"$f":"SUMIF(Pricelist!A:A,B254,Pricelist!A:A)","v":0},{"$f":"IF(B254>0,(IF(C254>D254,VLOOKUP(B254,Pricelist!A:I,9,FALSE),\"\")),\"\")","v":""},{"$f":"IF(B254>0,VLOOKUP(B254,Pricelist!A:I,7,FALSE),\"\")","v":""}]
[246,null,null,{"$f":"IF(C255>0,IF(C255>VLOOKUP(B255,Pricelist!A:I,6,0),VLOOKUP(B255,Pricelist!A:I,6,0),C255),\"\")","v":""},{"$f":"IF(B255>0,VLOOKUP(B255,Pricelist!A:I,2,FALSE),\"\")","v":""},{"$f":"IF(B255>0,VLOOKUP(B255,Pricelist!A:I,5,0),\"\")","v":""},{"$f":"IF(B255,VLOOKUP(B255,Pricelist!A:I,3,0),\"\")","v":""},"","",{"$f":"SUMIF(Pricelist!A:A,B255,Pricelist!A:A)","v":0},{"$f":"IF(B255>0,(IF(C255>D255,VLOOKUP(B255,Pricelist!A:I,9,FALSE),\"\")),\"\")","v":""},{"$f":"IF(B255>0,VLOOKUP(B255,Pricelist!A:I,7,FALSE),\"\")","v":""}]
[247,null,null,{"$f":"IF(C256>0,IF(C256>VLOOKUP(B256,Pricelist!A:I,6,0),VLOOKUP(B256,Pricelist!A:I,6,0),C256),\"\")","v":""},{"$f":"IF(B256>0,VLOOKUP(B256,Pricelist!A:I,2,FALSE),\"\")","v":""},{"$f":"IF(B256>0,VLOOKUP(B256,Pricelist!A:I,5,0),\"\")","v":""},{"$f":"IF(B256,VLOOKUP(B256,Pricelist!A:I,3,0),\"\")","v":""},"","",{"$f":"SUMIF(Pricelist!A:A,B256,Pricelist!A:A)","v":0},{"$f":"IF(B256>0,(IF(C256>D256,VLOOKUP(B256,Pricelist!A:I,9,FALSE),\"\")),\"\")","v":""},{"$f":"IF(B256>0,VLOOKUP(B256,Pricelist!A:I,7,FALSE),\"\")","v":""}]
[248,null,null,{"$f":"IF(C257>0,IF(C257>VLOOKUP(B257,Pricelist!A:I,6,0),VLOOKUP(B257,Pricelist!A:I,6,0),C257),\"\")","v":""},{"$f":"IF(B257>0,VLOOKUP(B257,Pricelist!A:I,2,FALSE),\"\")","v":""},{"$f":"IF(B257>0,VLOOKUP(B257,Pricelist!A:I,5,0),\"\")","v":""},{"$f":"IF(B257,VLOOKUP(B257,Pricelist!A:I,3,0),\"\")","v":""},"","",{"$f":"SUMIF(Pricelist!A:A,B257,Pricelist!A:A)","v":0},{"$f":"IF(B257>0,(IF(C257>D257,VLOOKUP(B257,Pricelist!A:I,9,FALSE),\"\")),\"\")","v":""},{"$f":"IF(B257>0,VLOOKUP(B257,Pricelist!A:I,7,FALSE),\"\")","v":""}]
[249,null,null,{"$f":"IF(C258>0,IF(C258>VLOOKUP(B258,Pricelist!A:I,6,0),VLOOKUP(B258,Pricelist!A:I,6,0),C258),\"\")","v":""},{"$f":"IF(B258>0,VLOOKUP(B258,Pricelist!A:I,2,FALSE),\"\")","v":""},{"$f":"IF(B258>0,VLOOKUP(B258,Pricelist!A:I,5,0),\"\")","v":""},{"$f":"IF(B258,VLOOKUP(B258,Pricelist!A:I,3,0),\"\")","v":""},"","",{"$f":"SUMIF(Pricelist!A:A,B258,Pricelist!A:A)","v":0},{"$f":"IF(B258>0,(IF(C258>D258,VLOOKUP(B258,Pricelist!A:I,9,FALSE),\"\")),\"\")","v":""},{"$f":"IF(B258>0,VLOOKUP(B258,Pricelist!A:I,7,FALSE),\"\")","v":""}]
[250,null,null,{"$f":"IF(C259>0,IF(C259>VLOOKUP(B259,Pricelist!A:I,6,0),VLOOKUP(B259,Pricelist!A:I,6,0),C259),\"\")","v":""},{"$f":"IF(B259>0,VLOOKUP(B259,Pricelist!A:I,2,FALSE),\"\")","v":""},{"$f":"IF(B259>0,VLOOKUP(B259,Pricelist!A:I,5,0),\"\")","v":""},{"$f":"IF(B259,VLOOKUP(B259,Pricelist!A:I,3,0),\"\")","v":""},"","",{"$f":"SUMIF(Pricelist!A:A,B259,Pricelist!A:A)","v":0},{"$f":"IF(B259>0,(IF(C259>D259,VLOOKUP(B259,Pricelist!A:I,9,FALSE),\"\")),\"\")","v":""},{"$f":"IF(B259>0,VLOOKUP(B259,Pricelist!A:I,7,FALSE),\"\")","v":""}]
[251,null,null,{"$f":"IF(C260>0,IF(C260>VLOOKUP(B260,Pricelist!A:I,6,0),VLOOKUP(B260,Pricelist!A:I,6,0),C260),\"\")","v":""},{"$f":"IF(B260>0,VLOOKUP(B260,Pricelist!A:I,2,FALSE),\"\")","v":""},{"$f":"IF(B260>0,VLOOKUP(B260,Pricelist!A:I,5,0),\"\")","v":""},{"$f":"IF(B260,VLOOKUP(B260,Pricelist!A:I,3,0),\"\")","v":""},"","",{"$f":"SUMIF(Pricelist!A:A,B260,Pricelist!A:A)","v":0},{"$f":"IF(B260>0,(IF(C260>D260,VLOOKUP(B260,Pricelist!A:I,9,FALSE),\"\")),\"\")","v":""},{"$f":"IF(B260>0,VLOOKUP(B260,Pricelist!A:I,7,FALSE),\"\")","v":""}]
[252,null,null,{"$f":"IF(C261>0,IF(C261>VLOOKUP(B261,Pricelist!A:I,6,0),VLOOKUP(B261,Pricelist!A:I,6,0),C261),\"\")","v":""},{"$f":"IF(B261>0,VLOOKUP(B261,Pricelist!A:I,2,FALSE),\"\")","v":""},{"$f":"IF(B261>0,VLOOKUP(B261,Pricelist!A:I,5,0),\"\")","v":""},{"$f":"IF(B261,VLOOKUP(B261,Pricelist!A:I,3,0),\"\")","v":""},"","",{"$f":"SUMIF(Pricelist!A:A,B261,Pricelist!A:A)","v":0},{"$f":"IF(B261>0,(IF(C261>D261,VLOOKUP(B261,Pricelist!A:I,9,FALSE),\"\")),\"\")","v":""},{"$f":"IF(B261>0,VLOOKUP(B261,Pricelist!A:I,7,FALSE),\"\")","v":""}]
[253,null,null,{"$f":"IF(C262>0,IF(C262>VLOOKUP(B262,Pricelist!A:I,6,0),VLOOKUP(B262,Pricelist!A:I,6,0),C262),\"\")","v":""},{"$f":"IF(B262>0,VLOOKUP(B262,Pricelist!A:I,2,FALSE),\"\")","v":""},{"$f":"IF(B262>0,VLOOKUP(B262,Pricelist!A:I,5,0),\"\")","v":""},{"$f":"IF(B262,VLOOKUP(B262,Pricelist!A:I,3,0),\"\")","v":""},"","",{"$f":"SUMIF(Pricelist!A:A,B262,Pricelist!A:A)","v":0},{"$f":"IF(B262>0,(IF(C262>D262,VLOOKUP(B262,Pricelist!A:I,9,FALSE),\"\")),\"\")","v":""},{"$f":"IF(B262>0,VLOOKUP(B262,Pricelist!A:I,7,FALSE),\"\")","v":""}]
[254,null,null,{"$f":"IF(C263>0,IF(C263>VLOOKUP(B263,Pricelist!A:I,6,0),VLOOKUP(B263,Pricelist!A:I,6,0),C263),\"\")","v":""},{"$f":"IF(B263>0,VLOOKUP(B263,Pricelist!A:I,2,FALSE),\"\")","v":""},{"$f":"IF(B263>0,VLOOKUP(B263,Pricelist!A:I,5,0),\"\")","v":""},{"$f":"IF(B263,VLOOKUP(B263,Pricelist!A:I,3,0),\"\")","v":""},"","",{"$f":"SUMIF(Pricelist!A:A,B263,Pricelist!A:A)","v":0},{"$f":"IF(B263>0,(IF(C263>D263,VLOOKUP(B263,Pricelist!A:I,9,FALSE),\"\")),\"\")","v":""},{"$f":"IF(B263>0,VLOOKUP(B263,Pricelist!A:I,7,FALSE),\"\")","v":""}]
[255,null,null,{"$f":"IF(C264>0,IF(C264>VLOOKUP(B264,Pricelist!A:I,6,0),VLOOKUP(B264,Pricelist!A:I,6,0),C264),\"\")","v":""},{"$f":"IF(B264>0,VLOOKUP(B264,Pricelist!A:I,2,FALSE),\"\")","v":""},{"$f":"IF(B264>0,VLOOKUP(B264,Pricelist!A:I,5,0),\"\")","v":""},{"$f":"IF(B264,VLOOKUP(B264,Pricelist!A:I,3,0),\"\")","v":""},"","",{"$f":"SUMIF(Pricelist!A:A,B264,Pricelist!A:A)","v":0},{"$f":"IF(B264>0,(IF(C264>D264,VLOOKUP(B264,Pricelist!A:I,9,FALSE),\"\")),\"\")","v":""},{"$f":"IF(B264>0,VLOOKUP(B264,Pricelist!A:I,7,FALSE),\"\")","v":""}]
[256,null,null,{"$f":"IF(C265>0,IF(C265>VLOOKUP(B265,Pricelist!A:I,6,0),VLOOKUP(B265,Pricelist!A:I,6,0),C265),\"\")","v":""},{"$f":"IF(B265>0,VLOOKUP(B265,Pricelist!A:I,2,FALSE),\"\")","v":""},{"$f":"IF(B265>0,VLOOKUP(B265,Pricelist!A:I,5,0),\"\")","v":""},{"$f":"IF(B265,VLOOKUP(B265,Pricelist!A:I,3,0),\"\")","v":""},"","",{"$f":"SUMIF(Pricelist!A:A,B265,Pricelist!A:A)","v":0},{"$f":"IF(B265>0,(IF(C265>D265,VLOOKUP(B265,Pricelist!A:I,9,FALSE),\"\")),\"\")","v":""},{"$f":"IF(B265>0,VLOOKUP(B265,Pricelist!A:I,7,FALSE),\"\")","v":""}]
[{"$f":"A265+1","v":257},null,null,{"$f":"IF(C266>0,IF(C266>VLOOKUP(B266,Pricelist!A:I,6,0),VLOOKUP(B266,Pricelist!A:I,6,0),C266),\"\")","v":""},{"$f":"IF(B266>0,VLOOKUP(B266,Pricelist!A:I,2,FALSE),\"\")","v":""},{"$f":"IF(B266>0,VLOOKUP(B266,Pricelist!A:I,5,0),\"\")","v":""},{"$f":"IF(B266,VLOOKUP(B266,Pricelist!A:I,3,0),\"\")","v":""},"",{"$f":"IF(J266>0,IF(B266>0,D266*H266,\"\"),\"\")","v":""},{"$f":"SUMIF(Pricelist!A:A,B266,Pricelist!A:A)","v":0},{"$f":"IF(B266>0,(IF(C266>D266,VLOOKUP(B266,Pricelist!A:I,9,FALSE),\"\")),\"\")","v":""},{"$f":"IF(B266>0,VLOOKUP(B266,Pricelist!A:I,7,FALSE),\"\")","v":""}]
[258,null,null,{"$f":"IF(C267>0,IF(C267>VLOOKUP(B267,Pricelist!A:I,6,0),VLOOKUP(B267,Pricelist!A:I,6,0),C267),\"\")","v":""},{"$f":"IF(B267>0,VLOOKUP(B267,Pricelist!A:I,2,FALSE),\"\")","v":""},{"$f":"IF(B267>0,VLOOKUP(B267,Pricelist!A:I,5,0),\"\")","v":""},{"$f":"IF(B267,VLOOKUP(B267,Pricelist!A:I,3,0),\"\")","v":""},{"$f":"IF(B267>0,G267*(1-$G$1),\"\")","v":""},"",{"$f":"SUMIF(Pricelist!A:A,B267,Pricelist!A:A)","v":0},{"$f":"IF(B267>0,(IF(C267>D267,VLOOKUP(B267,Pricelist!A:I,9,FALSE),\"\")),\"\")","v":""},{"$f":"IF(B267>0,VLOOKUP(B267,Pricelist!A:I,7,FALSE),\"\")","v":""}]
[259,null,null,{"$f":"IF(C268>0,IF(C268>VLOOKUP(B268,Pricelist!A:I,6,0),VLOOKUP(B268,Pricelist!A:I,6,0),C268),\"\")","v":""},{"$f":"IF(B268>0,VLOOKUP(B268,Pricelist!A:I,2,FALSE),\"\")","v":""},{"$f":"IF(B268>0,VLOOKUP(B268,Pricelist!A:I,5,0),\"\")","v":""},{"$f":"IF(B268,VLOOKUP(B268,Pricelist!A:I,3,0),\"\")","v":""},"","",{"$f":"SUMIF(Pricelist!A:A,B268,Pricelist!A:A)","v":0},{"$f":"IF(B268>0,(IF(C268>D268,VLOOKUP(B268,Pricelist!A:I,9,FALSE),\"\")),\"\")","v":""},{"$f":"IF(B268>0,VLOOKUP(B268,Pricelist!A:I,7,FALSE),\"\")","v":""}]
[260,null,null,{"$f":"IF(C269>0,IF(C269>VLOOKUP(B269,Pricelist!A:I,6,0),VLOOKUP(B269,Pricelist!A:I,6,0),C269),\"\")","v":""},{"$f":"IF(B269>0,VLOOKUP(B269,Pricelist!A:I,2,FALSE),\"\")","v":""},{"$f":"IF(B269>0,VLOOKUP(B269,Pricelist!A:I,5,0),\"\")","v":""},{"$f":"IF(B269,VLOOKUP(B269,Pricelist!A:I,3,0),\"\")","v":""},"","",{"$f":"SUMIF(Pricelist!A:A,B269,Pricelist!A:A)","v":0},{"$f":"IF(B269>0,(IF(C269>D269,VLOOKUP(B269,Pricelist!A:I,9,FALSE),\"\")),\"\")","v":""},{"$f":"IF(B269>0,VLOOKUP(B269,Pricelist!A:I,7,FALSE),\"\")","v":""}]
[261,null,null,{"$f":"IF(C270>0,IF(C270>VLOOKUP(B270,Pricelist!A:I,6,0),VLOOKUP(B270,Pricelist!A:I,6,0),C270),\"\")","v":""},{"$f":"IF(B270>0,VLOOKUP(B270,Pricelist!A:I,2,FALSE),\"\")","v":""},{"$f":"IF(B270>0,VLOOKUP(B270,Pricelist!A:I,5,0),\"\")","v":""},{"$f":"IF(B270,VLOOKUP(B270,Pricelist!A:I,3,0),\"\")","v":""},"","",{"$f":"SUMIF(Pricelist!A:A,B270,Pricelist!A:A)","v":0},{"$f":"IF(B270>0,(IF(C270>D270,VLOOKUP(B270,Pricelist!A:I,9,FALSE),\"\")),\"\")","v":""},{"$f":"IF(B270>0,VLOOKUP(B270,Pricelist!A:I,7,FALSE),\"\")","v":""}]
[262,null,null,{"$f":"IF(C271>0,IF(C271>VLOOKUP(B271,Pricelist!A:I,6,0),VLOOKUP(B271,Pricelist!A:I,6,0),C271),\"\")","v":""},{"$f":"IF(B271>0,VLOOKUP(B271,Pricelist!A:I,2,FALSE),\"\")","v":""},{"$f":"IF(B271>0,VLOOKUP(B271,Pricelist!A:I,5,0),\"\")","v":""},{"$f":"IF(B271,VLOOKUP(B271,Pricelist!A:I,3,0),\"\")","v":""},"","",{"$f":"SUMIF(Pricelist!A:A,B271,Pricelist!A:A)","v":0},{"$f":"IF(B271>0,(IF(C271>D271,VLOOKUP(B271,Pricelist!A:I,9,FALSE),\"\")),\"\")","v":""},{"$f":"IF(B271>0,VLOOKUP(B271,Pricelist!A:I,7,FALSE),\"\")","v":""}]
[263,null,null,{"$f":"IF(C272>0,IF(C272>VLOOKUP(B272,Pricelist!A:I,6,0),VLOOKUP(B272,Pricelist!A:I,6,0),C272),\"\")","v":""},{"$f":"IF(B272>0,VLOOKUP(B272,Pricelist!A:I,2,FALSE),\"\")","v":""},{"$f":"IF(B272>0,VLOOKUP(B272,Pricelist!A:I,5,0),\"\")","v":""},{"$f":"IF(B272,VLOOKUP(B272,Pricelist!A:I,3,0),\"\")","v":""},"","",{"$f":"SUMIF(Pricelist!A:A,B272,Pricelist!A:A)","v":0},{"$f":"IF(B272>0,(IF(C272>D272,VLOOKUP(B272,Pricelist!A:I,9,FALSE),\"\")),\"\")","v":""},{"$f":"IF(B272>0,VLOOKUP(B272,Pricelist!A:I,7,FALSE),\"\")","v":""}]
[264,null,null,{"$f":"IF(C273>0,IF(C273>VLOOKUP(B273,Pricelist!A:I,6,0),VLOOKUP(B273,Pricelist!A:I,6,0),C273),\"\")","v":""},{"$f":"IF(B273>0,VLOOKUP(B273,Pricelist!A:I,2,FALSE),\"\")","v":""},{"$f":"IF(B273>0,VLOOKUP(B273,Pricelist!A:I,5,0),\"\")","v":""},{"$f":"IF(B273,VLOOKUP(B273,Pricelist!A:I,3,0),\"\")","v":""},"","",{"$f":"SUMIF(Pricelist!A:A,B273,Pricelist!A:A)","v":0},{"$f":"IF(B273>0,(IF(C273>D273,VLOOKUP(B273,Pricelist!A:I,9,FALSE),\"\")),\"\")","v":""},{"$f":"IF(B273>0,VLOOKUP(B273,Pricelist!A:I,7,FALSE),\"\")","v":""}]
[265,null,null,{"$f":"IF(C274>0,IF(C274>VLOOKUP(B274,Pricelist!A:I,6,0),VLOOKUP(B274,Pricelist!A:I,6,0),C274),\"\")","v":""},{"$f":"IF(B274>0,VLOOKUP(B274,Pricelist!A:I,2,FALSE),\"\")","v":""},{"$f":"IF(B274>0,VLOOKUP(B274,Pricelist!A:I,5,0),\"\")","v":""},{"$f":"IF(B274,VLOOKUP(B274,Pricelist!A:I,3,0),\"\")","v":""},"","",{"$f":"SUMIF(Pricelist!A:A,B274,Pricelist!A:A)","v":0},{"$f":"IF(B274>0,(IF(C274>D274,VLOOKUP(B274,Pricelist!A:I,9,FALSE),\"\")),\"\")","v":""},{"$f":"IF(B274>0,VLOOKUP(B274,Pricelist!A:I,7,FALSE),\"\")","v":""}]
[266,null,null,{"$f":"IF(C275>0,IF(C275>VLOOKUP(B275,Pricelist!A:I,6,0),VLOOKUP(B275,Pricelist!A:I,6,0),C275),\"\")","v":""},{"$f":"IF(B275>0,VLOOKUP(B275,Pricelist!A:I,2,FALSE),\"\")","v":""},{"$f":"IF(B275>0,VLOOKUP(B275,Pricelist!A:I,5,0),\"\")","v":""},{"$f":"IF(B275,VLOOKUP(B275,Pricelist!A:I,3,0),\"\")","v":""},"","",{"$f":"SUMIF(Pricelist!A:A,B275,Pricelist!A:A)","v":0},{"$f":"IF(B275>0,(IF(C275>D275,VLOOKUP(B275,Pricelist!A:I,9,FALSE),\"\")),\"\")","v":""},{"$f":"IF(B275>0,VLOOKUP(B275,Pricelist!A:I,7,FALSE),\"\")","v":""}]
[267,null,null,{"$f":"IF(C276>0,IF(C276>VLOOKUP(B276,Pricelist!A:I,6,0),VLOOKUP(B276,Pricelist!A:I,6,0),C276),\"\")","v":""},{"$f":"IF(B276>0,VLOOKUP(B276,Pricelist!A:I,2,FALSE),\"\")","v":""},{"$f":"IF(B276>0,VLOOKUP(B276,Pricelist!A:I,5,0),\"\")","v":""},{"$f":"IF(B276,VLOOKUP(B276,Pricelist!A:I,3,0),\"\")","v":""},"","",{"$f":"SUMIF(Pricelist!A:A,B276,Pricelist!A:A)","v":0},{"$f":"IF(B276>0,(IF(C276>D276,VLOOKUP(B276,Pricelist!A:I,9,FALSE),\"\")),\"\")","v":""},{"$f":"IF(B276>0,VLOOKUP(B276,Pricelist!A:I,7,FALSE),\"\")","v":""}]
[268,null,null,{"$f":"IF(C277>0,IF(C277>VLOOKUP(B277,Pricelist!A:I,6,0),VLOOKUP(B277,Pricelist!A:I,6,0),C277),\"\")","v":""},{"$f":"IF(B277>0,VLOOKUP(B277,Pricelist!A:I,2,FALSE),\"\")","v":""},{"$f":"IF(B277>0,VLOOKUP(B277,Pricelist!A:I,5,0),\"\")","v":""},{"$f":"IF(B277,VLOOKUP(B277,Pricelist!A:I,3,0),\"\")","v":""},"","",{"$f":"SUMIF(Pricelist!A:A,B277,Pricelist!A:A)","v":0},{"$f":"IF(B277>0,(IF(C277>D277,VLOOKUP(B277,Pricelist!A:I,9,FALSE),\"\")),\"\")","v":""},{"$f":"IF(B277>0,VLOOKUP(B277,Pricelist!A:I,7,FALSE),\"\")","v":""}]
[269,null,null,{"$f":"IF(C278>0,IF(C278>VLOOKUP(B278,Pricelist!A:I,6,0),VLOOKUP(B278,Pricelist!A:I,6,0),C278),\"\")","v":""},{"$f":"IF(B278>0,VLOOKUP(B278,Pricelist!A:I,2,FALSE),\"\")","v":""},{"$f":"IF(B278>0,VLOOKUP(B278,Pricelist!A:I,5,0),\"\")","v":""},{"$f":"IF(B278,VLOOKUP(B278,Pricelist!A:I,3,0),\"\")","v":""},"","",{"$f":"SUMIF(Pricelist!A:A,B278,Pricelist!A:A)","v":0},{"$f":"IF(B278>0,(IF(C278>D278,VLOOKUP(B278,Pricelist!A:I,9,FALSE),\"\")),\"\")","v":""},{"$f":"IF(B278>0,VLOOKUP(B278,Pricelist!A:I,7,FALSE),\"\")","v":""}]
[270,null,null,{"$f":"IF(C279>0,IF(C279>VLOOKUP(B279,Pricelist!A:I,6,0),VLOOKUP(B279,Pricelist!A:I,6,0),C279),\"\")","v":""},{"$f":"IF(B279>0,VLOOKUP(B279,Pricelist!A:I,2,FALSE),\"\")","v":""},{"$f":"IF(B279>0,VLOOKUP(B279,Pricelist!A:I,5,0),\"\")","v":""},{"$f":"IF(B279,VLOOKUP(B279,Pricelist!A:I,3,0),\"\")","v":""},"","",{"$f":"SUMIF(Pricelist!A:A,B279,Pricelist!A:A)","v":0},{"$f":"IF(B279>0,(IF(C279>D279,VLOOKUP(B279,Pricelist!A:I,9,FALSE),\"\")),\"\")","v":""},{"$f":"IF(B279>0,VLOOKUP(B279,Pricelist!A:I,7,FALSE),\"\")","v":""}]
[271,null,null,{"$f":"IF(C280>0,IF(C280>VLOOKUP(B280,Pricelist!A:I,6,0),VLOOKUP(B280,Pricelist!A:I,6,0),C280),\"\")","v":""},{"$f":"IF(B280>0,VLOOKUP(B280,Pricelist!A:I,2,FALSE),\"\")","v":""},{"$f":"IF(B280>0,VLOOKUP(B280,Pricelist!A:I,5,0),\"\")","v":""},{"$f":"IF(B280,VLOOKUP(B280,Pricelist!A:I,3,0),\"\")","v":""},"","",{"$f":"SUMIF(Pricelist!A:A,B280,Pricelist!A:A)","v":0},{"$f":"IF(B280>0,(IF(C280>D280,VLOOKUP(B280,Pricelist!A:I,9,FALSE),\"\")),\"\")","v":""},{"$f":"IF(B280>0,VLOOKUP(B280,Pricelist!A:I,7,FALSE),\"\")","v":""}]
[272,null,null,{"$f":"IF(C281>0,IF(C281>VLOOKUP(B281,Pricelist!A:I,6,0),VLOOKUP(B281,Pricelist!A:I,6,0),C281),\"\")","v":""},{"$f":"IF(B281>0,VLOOKUP(B281,Pricelist!A:I,2,FALSE),\"\")","v":""},{"$f":"IF(B281>0,VLOOKUP(B281,Pricelist!A:I,5,0),\"\")","v":""},{"$f":"IF(B281,VLOOKUP(B281,Pricelist!A:I,3,0),\"\")","v":""},"","",{"$f":"SUMIF(Pricelist!A:A,B281,Pricelist!A:A)","v":0},{"$f":"IF(B281>0,(IF(C281>D281,VLOOKUP(B281,Pricelist!A:I,9,FALSE),\"\")),\"\")","v":""},{"$f":"IF(B281>0,VLOOKUP(B281,Pricelist!A:I,7,FALSE),\"\")","v":""}]
[273,null,null,{"$f":"IF(C282>0,IF(C282>VLOOKUP(B282,Pricelist!A:I,6,0),VLOOKUP(B282,Pricelist!A:I,6,0),C282),\"\")","v":""},{"$f":"IF(B282>0,VLOOKUP(B282,Pricelist!A:I,2,FALSE),\"\")","v":""},{"$f":"IF(B282>0,VLOOKUP(B282,Pricelist!A:I,5,0),\"\")","v":""},{"$f":"IF(B282,VLOOKUP(B282,Pricelist!A:I,3,0),\"\")","v":""},"","",{"$f":"SUMIF(Pricelist!A:A,B282,Pricelist!A:A)","v":0},{"$f":"IF(B282>0,(IF(C282>D282,VLOOKUP(B282,Pricelist!A:I,9,FALSE),\"\")),\"\")","v":""},{"$f":"IF(B282>0,VLOOKUP(B282,Pricelist!A:I,7,FALSE),\"\")","v":""}]
[274,null,null,{"$f":"IF(C283>0,IF(C283>VLOOKUP(B283,Pricelist!A:I,6,0),VLOOKUP(B283,Pricelist!A:I,6,0),C283),\"\")","v":""},{"$f":"IF(B283>0,VLOOKUP(B283,Pricelist!A:I,2,FALSE),\"\")","v":""},{"$f":"IF(B283>0,VLOOKUP(B283,Pricelist!A:I,5,0),\"\")","v":""},{"$f":"IF(B283,VLOOKUP(B283,Pricelist!A:I,3,0),\"\")","v":""},"","",{"$f":"SUMIF(Pricelist!A:A,B283,Pricelist!A:A)","v":0},{"$f":"IF(B283>0,(IF(C283>D283,VLOOKUP(B283,Pricelist!A:I,9,FALSE),\"\")),\"\")","v":""},{"$f":"IF(B283>0,VLOOKUP(B283,Pricelist!A:I,7,FALSE),\"\")","v":""}]
[275,null,null,{"$f":"IF(C284>0,IF(C284>VLOOKUP(B284,Pricelist!A:I,6,0),VLOOKUP(B284,Pricelist!A:I,6,0),C284),\"\")","v":""},{"$f":"IF(B284>0,VLOOKUP(B284,Pricelist!A:I,2,FALSE),\"\")","v":""},{"$f":"IF(B284>0,VLOOKUP(B284,Pricelist!A:I,5,0),\"\")","v":""},{"$f":"IF(B284,VLOOKUP(B284,Pricelist!A:I,3,0),\"\")","v":""},"","",{"$f":"SUMIF(Pricelist!A:A,B284,Pricelist!A:A)","v":0},{"$f":"IF(B284>0,(IF(C284>D284,VLOOKUP(B284,Pricelist!A:I,9,FALSE),\"\")),\"\")","v":""},{"$f":"IF(B284>0,VLOOKUP(B284,Pricelist!A:I,7,FALSE),\"\")","v":""}]
[276,null,null,{"$f":"IF(C285>0,IF(C285>VLOOKUP(B285,Pricelist!A:I,6,0),VLOOKUP(B285,Pricelist!A:I,6,0),C285),\"\")","v":""},{"$f":"IF(B285>0,VLOOKUP(B285,Pricelist!A:I,2,FALSE),\"\")","v":""},{"$f":"IF(B285>0,VLOOKUP(B285,Pricelist!A:I,5,0),\"\")","v":""},{"$f":"IF(B285,VLOOKUP(B285,Pricelist!A:I,3,0),\"\")","v":""},"","",{"$f":"SUMIF(Pricelist!A:A,B285,Pricelist!A:A)","v":0},{"$f":"IF(B285>0,(IF(C285>D285,VLOOKUP(B285,Pricelist!A:I,9,FALSE),\"\")),\"\")","v":""},{"$f":"IF(B285>0,VLOOKUP(B285,Pricelist!A:I,7,FALSE),\"\")","v":""}]
[277,null,null,{"$f":"IF(C286>0,IF(C286>VLOOKUP(B286,Pricelist!A:I,6,0),VLOOKUP(B286,Pricelist!A:I,6,0),C286),\"\")","v":""},{"$f":"IF(B286>0,VLOOKUP(B286,Pricelist!A:I,2,FALSE),\"\")","v":""},{"$f":"IF(B286>0,VLOOKUP(B286,Pricelist!A:I,5,0),\"\")","v":""},{"$f":"IF(B286,VLOOKUP(B286,Pricelist!A:I,3,0),\"\")","v":""},"","",{"$f":"SUMIF(Pricelist!A:A,B286,Pricelist!A:A)","v":0},{"$f":"IF(B286>0,(IF(C286>D286,VLOOKUP(B286,Pricelist!A:I,9,FALSE),\"\")),\"\")","v":""},{"$f":"IF(B286>0,VLOOKUP(B286,Pricelist!A:I,7,FALSE),\"\")","v":""}]
[278,null,null,{"$f":"IF(C287>0,IF(C287>VLOOKUP(B287,Pricelist!A:I,6,0),VLOOKUP(B287,Pricelist!A:I,6,0),C287),\"\")","v":""},{"$f":"IF(B287>0,VLOOKUP(B287,Pricelist!A:I,2,FALSE),\"\")","v":""},{"$f":"IF(B287>0,VLOOKUP(B287,Pricelist!A:I,5,0),\"\")","v":""},{"$f":"IF(B287,VLOOKUP(B287,Pricelist!A:I,3,0),\"\")","v":""},"","",{"$f":"SUMIF(Pricelist!A:A,B287,Pricelist!A:A)","v":0},{"$f":"IF(B287>0,(IF(C287>D287,VLOOKUP(B287,Pricelist!A:I,9,FALSE),\"\")),\"\")","v":""},{"$f":"IF(B287>0,VLOOKUP(B287,Pricelist!A:I,7,FALSE),\"\")","v":""}]
[279,null,null,{"$f":"IF(C288>0,IF(C288>VLOOKUP(B288,Pricelist!A:I,6,0),VLOOKUP(B288,Pricelist!A:I,6,0),C288),\"\")","v":""},{"$f":"IF(B288>0,VLOOKUP(B288,Pricelist!A:I,2,FALSE),\"\")","v":""},{"$f":"IF(B288>0,VLOOKUP(B288,Pricelist!A:I,5,0),\"\")","v":""},{"$f":"IF(B288,VLOOKUP(B288,Pricelist!A:I,3,0),\"\")","v":""},"","",{"$f":"SUMIF(Pricelist!A:A,B288,Pricelist!A:A)","v":0},{"$f":"IF(B288>0,(IF(C288>D288,VLOOKUP(B288,Pricelist!A:I,9,FALSE),\"\")),\"\")","v":""},{"$f":"IF(B288>0,VLOOKUP(B288,Pricelist!A:I,7,FALSE),\"\")","v":""}]
[280,null,null,{"$f":"IF(C289>0,IF(C289>VLOOKUP(B289,Pricelist!A:I,6,0),VLOOKUP(B289,Pricelist!A:I,6,0),C289),\"\")","v":""},{"$f":"IF(B289>0,VLOOKUP(B289,Pricelist!A:I,2,FALSE),\"\")","v":""},{"$f":"IF(B289>0,VLOOKUP(B289,Pricelist!A:I,5,0),\"\")","v":""},{"$f":"IF(B289,VLOOKUP(B289,Pricelist!A:I,3,0),\"\")","v":""},"","",{"$f":"SUMIF(Pricelist!A:A,B289,Pricelist!A:A)","v":0},{"$f":"IF(B289>0,(IF(C289>D289,VLOOKUP(B289,Pricelist!A:I,9,FALSE),\"\")),\"\")","v":""},{"$f":"IF(B289>0,VLOOKUP(B289,Pricelist!A:I,7,FALSE),\"\")","v":""}]
[281,null,null,{"$f":"IF(C290>0,IF(C290>VLOOKUP(B290,Pricelist!A:I,6,0),VLOOKUP(B290,Pricelist!A:I,6,0),C290),\"\")","v":""},{"$f":"IF(B290>0,VLOOKUP(B290,Pricelist!A:I,2,FALSE),\"\")","v":""},{"$f":"IF(B290>0,VLOOKUP(B290,Pricelist!A:I,5,0),\"\")","v":""},{"$f":"IF(B290,VLOOKUP(B290,Pricelist!A:I,3,0),\"\")","v":""},"","",{"$f":"SUMIF(Pricelist!A:A,B290,Pricelist!A:A)","v":0},{"$f":"IF(B290>0,(IF(C290>D290,VLOOKUP(B290,Pricelist!A:I,9,FALSE),\"\")),\"\")","v":""},{"$f":"IF(B290>0,VLOOKUP(B290,Pricelist!A:I,7,FALSE),\"\")","v":""}]
[282,null,null,{"$f":"IF(C291>0,IF(C291>VLOOKUP(B291,Pricelist!A:I,6,0),VLOOKUP(B291,Pricelist!A:I,6,0),C291),\"\")","v":""},{"$f":"IF(B291>0,VLOOKUP(B291,Pricelist!A:I,2,FALSE),\"\")","v":""},{"$f":"IF(B291>0,VLOOKUP(B291,Pricelist!A:I,5,0),\"\")","v":""},{"$f":"IF(B291,VLOOKUP(B291,Pricelist!A:I,3,0),\"\")","v":""},"","",{"$f":"SUMIF(Pricelist!A:A,B291,Pricelist!A:A)","v":0},{"$f":"IF(B291>0,(IF(C291>D291,VLOOKUP(B291,Pricelist!A:I,9,FALSE),\"\")),\"\")","v":""},{"$f":"IF(B291>0,VLOOKUP(B291,Pricelist!A:I,7,FALSE),\"\")","v":""}]
[283,null,null,{"$f":"IF(C292>0,IF(C292>VLOOKUP(B292,Pricelist!A:I,6,0),VLOOKUP(B292,Pricelist!A:I,6,0),C292),\"\")","v":""},{"$f":"IF(B292>0,VLOOKUP(B292,Pricelist!A:I,2,FALSE),\"\")","v":""},{"$f":"IF(B292>0,VLOOKUP(B292,Pricelist!A:I,5,0),\"\")","v":""},{"$f":"IF(B292,VLOOKUP(B292,Pricelist!A:I,3,0),\"\")","v":""},"","",{"$f":"SUMIF(Pricelist!A:A,B292,Pricelist!A:A)","v":0},{"$f":"IF(B292>0,(IF(C292>D292,VLOOKUP(B292,Pricelist!A:I,9,FALSE),\"\")),\"\")","v":""},{"$f":"IF(B292>0,VLOOKUP(B292,Pricelist!A:I,7,FALSE),\"\")","v":""}]
[284,null,null,{"$f":"IF(C293>0,IF(C293>VLOOKUP(B293,Pricelist!A:I,6,0),VLOOKUP(B293,Pricelist!A:I,6,0),C293),\"\")","v":""},{"$f":"IF(B293>0,VLOOKUP(B293,Pricelist!A:I,2,FALSE),\"\")","v":""},{"$f":"IF(B293>0,VLOOKUP(B293,Pricelist!A:I,5,0),\"\")","v":""},{"$f":"IF(B293,VLOOKUP(B293,Pricelist!A:I,3,0),\"\")","v":""},"","",{"$f":"SUMIF(Pricelist!A:A,B293,Pricelist!A:A)","v":0},{"$f":"IF(B293>0,(IF(C293>D293,VLOOKUP(B293,Pricelist!A:I,9,FALSE),\"\")),\"\")","v":""},{"$f":"IF(B293>0,VLOOKUP(B293,Pricelist!A:I,7,FALSE),\"\")","v":""}]
[285,null,null,{"$f":"IF(C294>0,IF(C294>VLOOKUP(B294,Pricelist!A:I,6,0),VLOOKUP(B294,Pricelist!A:I,6,0),C294),\"\")","v":""},{"$f":"IF(B294>0,VLOOKUP(B294,Pricelist!A:I,2,FALSE),\"\")","v":""},{"$f":"IF(B294>0,VLOOKUP(B294,Pricelist!A:I,5,0),\"\")","v":""},{"$f":"IF(B294,VLOOKUP(B294,Pricelist!A:I,3,0),\"\")","v":""},"","",{"$f":"SUMIF(Pricelist!A:A,B294,Pricelist!A:A)","v":0},{"$f":"IF(B294>0,(IF(C294>D294,VLOOKUP(B294,Pricelist!A:I,9,FALSE),\"\")),\"\")","v":""},{"$f":"IF(B294>0,VLOOKUP(B294,Pricelist!A:I,7,FALSE),\"\")","v":""}]
[286,null,null,{"$f":"IF(C295>0,IF(C295>VLOOKUP(B295,Pricelist!A:I,6,0),VLOOKUP(B295,Pricelist!A:I,6,0),C295),\"\")","v":""},{"$f":"IF(B295>0,VLOOKUP(B295,Pricelist!A:I,2,FALSE),\"\")","v":""},{"$f":"IF(B295>0,VLOOKUP(B295,Pricelist!A:I,5,0),\"\")","v":""},{"$f":"IF(B295,VLOOKUP(B295,Pricelist!A:I,3,0),\"\")","v":""},"","",{"$f":"SUMIF(Pricelist!A:A,B295,Pricelist!A:A)","v":0},{"$f":"IF(B295>0,(IF(C295>D295,VLOOKUP(B295,Pricelist!A:I,9,FALSE),\"\")),\"\")","v":""},{"$f":"IF(B295>0,VLOOKUP(B295,Pricelist!A:I,7,FALSE),\"\")","v":""}]
[287,null,null,{"$f":"IF(C296>0,IF(C296>VLOOKUP(B296,Pricelist!A:I,6,0),VLOOKUP(B296,Pricelist!A:I,6,0),C296),\"\")","v":""},{"$f":"IF(B296>0,VLOOKUP(B296,Pricelist!A:I,2,FALSE),\"\")","v":""},{"$f":"IF(B296>0,VLOOKUP(B296,Pricelist!A:I,5,0),\"\")","v":""},{"$f":"IF(B296,VLOOKUP(B296,Pricelist!A:I,3,0),\"\")","v":""},"","",{"$f":"SUMIF(Pricelist!A:A,B296,Pricelist!A:A)","v":0},{"$f":"IF(B296>0,(IF(C296>D296,VLOOKUP(B296,Pricelist!A:I,9,FALSE),\"\")),\"\")","v":""},{"$f":"IF(B296>0,VLOOKUP(B296,Pricelist!A:I,7,FALSE),\"\")","v":""}]
[288,null,null,{"$f":"IF(C297>0,IF(C297>VLOOKUP(B297,Pricelist!A:I,6,0),VLOOKUP(B297,Pricelist!A:I,6,0),C297),\"\")","v":""},{"$f":"IF(B297>0,VLOOKUP(B297,Pricelist!A:I,2,FALSE),\"\")","v":""},{"$f":"IF(B297>0,VLOOKUP(B297,Pricelist!A:I,5,0),\"\")","v":""},{"$f":"IF(B297,VLOOKUP(B297,Pricelist!A:I,3,0),\"\")","v":""},"","",{"$f":"SUMIF(Pricelist!A:A,B297,Pricelist!A:A)","v":0},{"$f":"IF(B297>0,(IF(C297>D297,VLOOKUP(B297,Pricelist!A:I,9,FALSE),\"\")),\"\")","v":""},{"$f":"IF(B297>0,VLOOKUP(B297,Pricelist!A:I,7,FALSE),\"\")","v":""}]
[289,null,null,{"$f":"IF(C298>0,IF(C298>VLOOKUP(B298,Pricelist!A:I,6,0),VLOOKUP(B298,Pricelist!A:I,6,0),C298),\"\")","v":""},{"$f":"IF(B298>0,VLOOKUP(B298,Pricelist!A:I,2,FALSE),\"\")","v":""},{"$f":"IF(B298>0,VLOOKUP(B298,Pricelist!A:I,5,0),\"\")","v":""},{"$f":"IF(B298,VLOOKUP(B298,Pricelist!A:I,3,0),\"\")","v":""},"","",{"$f":"SUMIF(Pricelist!A:A,B298,Pricelist!A:A)","v":0},{"$f":"IF(B298>0,(IF(C298>D298,VLOOKUP(B298,Pricelist!A:I,9,FALSE),\"\")),\"\")","v":""},{"$f":"IF(B298>0,VLOOKUP(B298,Pricelist!A:I,7,FALSE),\"\")","v":""}]
[290,null,null,{"$f":"IF(C299>0,IF(C299>VLOOKUP(B299,Pricelist!A:I,6,0),VLOOKUP(B299,Pricelist!A:I,6,0),C299),\"\")","v":""},{"$f":"IF(B299>0,VLOOKUP(B299,Pricelist!A:I,2,FALSE),\"\")","v":""},{"$f":"IF(B299>0,VLOOKUP(B299,Pricelist!A:I,5,0),\"\")","v":""},{"$f":"IF(B299,VLOOKUP(B299,Pricelist!A:I,3,0),\"\")","v":""},"","",{"$f":"SUMIF(Pricelist!A:A,B299,Pricelist!A:A)","v":0},{"$f":"IF(B299>0,(IF(C299>D299,VLOOKUP(B299,Pricelist!A:I,9,FALSE),\"\")),\"\")","v":""},{"$f":"IF(B299>0,VLOOKUP(B299,Pricelist!A:I,7,FALSE),\"\")","v":""}]
[291,null,null,{"$f":"IF(C300>0,IF(C300>VLOOKUP(B300,Pricelist!A:I,6,0),VLOOKUP(B300,Pricelist!A:I,6,0),C300),\"\")","v":""},{"$f":"IF(B300>0,VLOOKUP(B300,Pricelist!A:I,2,FALSE),\"\")","v":""},{"$f":"IF(B300>0,VLOOKUP(B300,Pricelist!A:I,5,0),\"\")","v":""},{"$f":"IF(B300,VLOOKUP(B300,Pricelist!A:I,3,0),\"\")","v":""},"","",{"$f":"SUMIF(Pricelist!A:A,B300,Pricelist!A:A)","v":0},{"$f":"IF(B300>0,(IF(C300>D300,VLOOKUP(B300,Pricelist!A:I,9,FALSE),\"\")),\"\")","v":""},{"$f":"IF(B300>0,VLOOKUP(B300,Pricelist!A:I,7,FALSE),\"\")","v":""}]
[292,null,null,{"$f":"IF(C301>0,IF(C301>VLOOKUP(B301,Pricelist!A:I,6,0),VLOOKUP(B301,Pricelist!A:I,6,0),C301),\"\")","v":""},{"$f":"IF(B301>0,VLOOKUP(B301,Pricelist!A:I,2,FALSE),\"\")","v":""},{"$f":"IF(B301>0,VLOOKUP(B301,Pricelist!A:I,5,0),\"\")","v":""},{"$f":"IF(B301,VLOOKUP(B301,Pricelist!A:I,3,0),\"\")","v":""},"","",{"$f":"SUMIF(Pricelist!A:A,B301,Pricelist!A:A)","v":0},{"$f":"IF(B301>0,(IF(C301>D301,VLOOKUP(B301,Pricelist!A:I,9,FALSE),\"\")),\"\")","v":""},{"$f":"IF(B301>0,VLOOKUP(B301,Pricelist!A:I,7,FALSE),\"\")","v":""}]
[293,null,null,{"$f":"IF(C302>0,IF(C302>VLOOKUP(B302,Pricelist!A:I,6,0),VLOOKUP(B302,Pricelist!A:I,6,0),C302),\"\")","v":""},{"$f":"IF(B302>0,VLOOKUP(B302,Pricelist!A:I,2,FALSE),\"\")","v":""},{"$f":"IF(B302>0,VLOOKUP(B302,Pricelist!A:I,5,0),\"\")","v":""},{"$f":"IF(B302,VLOOKUP(B302,Pricelist!A:I,3,0),\"\")","v":""},"","",{"$f":"SUMIF(Pricelist!A:A,B302,Pricelist!A:A)","v":0},{"$f":"IF(B302>0,(IF(C302>D302,VLOOKUP(B302,Pricelist!A:I,9,FALSE),\"\")),\"\")","v":""},{"$f":"IF(B302>0,VLOOKUP(B302,Pricelist!A:I,7,FALSE),\"\")","v":""}]
[294,null,null,{"$f":"IF(C303>0,IF(C303>VLOOKUP(B303,Pricelist!A:I,6,0),VLOOKUP(B303,Pricelist!A:I,6,0),C303),\"\")","v":""},{"$f":"IF(B303>0,VLOOKUP(B303,Pricelist!A:I,2,FALSE),\"\")","v":""},{"$f":"IF(B303>0,VLOOKUP(B303,Pricelist!A:I,5,0),\"\")","v":""},{"$f":"IF(B303,VLOOKUP(B303,Pricelist!A:I,3,0),\"\")","v":""},"","",{"$f":"SUMIF(Pricelist!A:A,B303,Pricelist!A:A)","v":0},{"$f":"IF(B303>0,(IF(C303>D303,VLOOKUP(B303,Pricelist!A:I,9,FALSE),\"\")),\"\")","v":""},{"$f":"IF(B303>0,VLOOKUP(B303,Pricelist!A:I,7,FALSE),\"\")","v":""}]
[295,null,null,{"$f":"IF(C304>0,IF(C304>VLOOKUP(B304,Pricelist!A:I,6,0),VLOOKUP(B304,Pricelist!A:I,6,0),C304),\"\")","v":""},{"$f":"IF(B304>0,VLOOKUP(B304,Pricelist!A:I,2,FALSE),\"\")","v":""},{"$f":"IF(B304>0,VLOOKUP(B304,Pricelist!A:I,5,0),\"\")","v":""},{"$f":"IF(B304,VLOOKUP(B304,Pricelist!A:I,3,0),\"\")","v":""},"","",{"$f":"SUMIF(Pricelist!A:A,B304,Pricelist!A:A)","v":0},{"$f":"IF(B304>0,(IF(C304>D304,VLOOKUP(B304,Pricelist!A:I,9,FALSE),\"\")),\"\")","v":""},{"$f":"IF(B304>0,VLOOKUP(B304,Pricelist!A:I,7,FALSE),\"\")","v":""}]
[296,null,null,{"$f":"IF(C305>0,IF(C305>VLOOKUP(B305,Pricelist!A:I,6,0),VLOOKUP(B305,Pricelist!A:I,6,0),C305),\"\")","v":""},{"$f":"IF(B305>0,VLOOKUP(B305,Pricelist!A:I,2,FALSE),\"\")","v":""},{"$f":"IF(B305>0,VLOOKUP(B305,Pricelist!A:I,5,0),\"\")","v":""},{"$f":"IF(B305,VLOOKUP(B305,Pricelist!A:I,3,0),\"\")","v":""},"","",{"$f":"SUMIF(Pricelist!A:A,B305,Pricelist!A:A)","v":0},{"$f":"IF(B305>0,(IF(C305>D305,VLOOKUP(B305,Pricelist!A:I,9,FALSE),\"\")),\"\")","v":""},{"$f":"IF(B305>0,VLOOKUP(B305,Pricelist!A:I,7,FALSE),\"\")","v":""}]
[297,null,null,{"$f":"IF(C306>0,IF(C306>VLOOKUP(B306,Pricelist!A:I,6,0),VLOOKUP(B306,Pricelist!A:I,6,0),C306),\"\")","v":""},{"$f":"IF(B306>0,VLOOKUP(B306,Pricelist!A:I,2,FALSE),\"\")","v":""},{"$f":"IF(B306>0,VLOOKUP(B306,Pricelist!A:I,5,0),\"\")","v":""},{"$f":"IF(B306,VLOOKUP(B306,Pricelist!A:I,3,0),\"\")","v":""},"","",{"$f":"SUMIF(Pricelist!A:A,B306,Pricelist!A:A)","v":0},{"$f":"IF(B306>0,(IF(C306>D306,VLOOKUP(B306,Pricelist!A:I,9,FALSE),\"\")),\"\")","v":""},{"$f":"IF(B306>0,VLOOKUP(B306,Pricelist!A:I,7,FALSE),\"\")","v":""}]
[298,null,null,{"$f":"IF(C307>0,IF(C307>VLOOKUP(B307,Pricelist!A:I,6,0),VLOOKUP(B307,Pricelist!A:I,6,0),C307),\"\")","v":""},{"$f":"IF(B307>0,VLOOKUP(B307,Pricelist!A:I,2,FALSE),\"\")","v":""},{"$f":"IF(B307>0,VLOOKUP(B307,Pricelist!A:I,5,0),\"\")","v":""},{"$f":"IF(B307,VLOOKUP(B307,Pricelist!A:I,3,0),\"\")","v":""},"","",{"$f":"SUMIF(Pricelist!A:A,B307,Pricelist!A:A)","v":0},{"$f":"IF(B307>0,(IF(C307>D307,VLOOKUP(B307,Pricelist!A:I,9,FALSE),\"\")),\"\")","v":""},{"$f":"IF(B307>0,VLOOKUP(B307,Pricelist!A:I,7,FALSE),\"\")","v":""}]
[299,null,null,{"$f":"IF(C308>0,IF(C308>VLOOKUP(B308,Pricelist!A:I,6,0),VLOOKUP(B308,Pricelist!A:I,6,0),C308),\"\")","v":""},{"$f":"IF(B308>0,VLOOKUP(B308,Pricelist!A:I,2,FALSE),\"\")","v":""},{"$f":"IF(B308>0,VLOOKUP(B308,Pricelist!A:I,5,0),\"\")","v":""},{"$f":"IF(B308,VLOOKUP(B308,Pricelist!A:I,3,0),\"\")","v":""},"","",{"$f":"SUMIF(Pricelist!A:A,B308,Pricelist!A:A)","v":0},{"$f":"IF(B308>0,(IF(C308>D308,VLOOKUP(B308,Pricelist!A:I,9,FALSE),\"\")),\"\")","v":""},{"$f":"IF(B308>0,VLOOKUP(B308,Pricelist!A:I,7,FALSE),\"\")","v":""}]
[300,null,null,{"$f":"IF(C309>0,IF(C309>VLOOKUP(B309,Pricelist!A:I,6,0),VLOOKUP(B309,Pricelist!A:I,6,0),C309),\"\")","v":""},{"$f":"IF(B309>0,VLOOKUP(B309,Pricelist!A:I,2,FALSE),\"\")","v":""},{"$f":"IF(B309>0,VLOOKUP(B309,Pricelist!A:I,5,0),\"\")","v":""},{"$f":"IF(B309,VLOOKUP(B309,Pricelist!A:I,3,0),\"\")","v":""},"","",{"$f":"SUMIF(Pricelist!A:A,B309,Pricelist!A:A)","v":0},{"$f":"IF(B309>0,(IF(C309>D309,VLOOKUP(B309,Pricelist!A:I,9,FALSE),\"\")),\"\")","v":""},{"$f":"IF(B309>0,VLOOKUP(B309,Pricelist!A:I,7,FALSE),\"\")","v":""}]

{"sheet":"Pricelist","index":1,"n_rows":5411,"n_cols":12,"rows_kept":5411,"cut":false,"hidden":false,"merged":[]}
["Price list"]
[{"$f":"NOW()","v":"2024-07-29T14:33:52.050"}]
["Code","Product","Price without VAT","Category","State","Q-ty","Small pakage","Big package","Delivery","Pictures"]
[10273,"Kalapács, 300 g, két oldalú utofej, uvegszálas, gumírozott nyél//GROSS",2684,"B","Active",{"$f":"VLOOKUP(A4,[1]Sheet1!$A$1:$C$65512,3,FALSE)","v":77},null,null,"No info",{"$f":"HYPERLINK(L4,\"линк\")","v":"линк"},"https://bg.toolsworld.com/search/?query=",{"$f":"CONCATENATE(K4,A4)","v":"https://bg.toolsworld.com/search/?query=10273"}]
[10274,"Kalapács, 400 g, két oldalú utofej, uvegszálas, gumírozott nyél//GROSS",3164,"B","Active",{"$f":"VLOOKUP(A5,[1]Sheet1!$A$1:$C$65512,3,FALSE)","v":461},null,null,"No info","линк","https://bg.toolsworld.com/search/?query=","https://bg.toolsworld.com/search/?query=10274"]
[10276,"Kalapács, 500 g, két oldalú utofej, uvegszálas, gumírozott nyél//GROSS",3494,"B","Active",{"$f":"VLOOKUP(A6,[1]Sheet1!$A$1:$C$65512,3,FALSE)","v":82},null,null,"No info","линк","https://bg.toolsworld.com/search/?query=","https://bg.toolsworld.com/search/?query=10276"]
[10277,"Kalapács, 600 g, két oldalú utofej, uvegszálas, gumírozott nyél//GROSS",3877,"B","Active",{"$f":"VLOOKUP(A7,[1]Sheet1!$A$1:$C$65512,3,FALSE)","v":{"$error":"#N/A"}},null,null,"No info","линк","https://bg.toolsworld.com/search/?query=","https://bg.toolsworld.com/search/?query=10277"]
[10278,"Kalapács, 800 g, két oldalú utofej, uvegszálas, gumírozott nyél//GROSS",4618,"B","Active",{"$f":"VLOOKUP(A8,[1]Sheet1!$A$1:$C$65512,3,FALSE)","v":218},null,null,"No info","линк","https://bg.toolsworld.com/search/?query=","https://bg.toolsworld.com/search/?query=10278"]
[10279,"Kalapács, 1000 g, két oldalú utofej, uvegszálas, gumírozott nyél//GROSS",5242,"B","Active",{"$f":"VLOOKUP(A9,[1]Sheet1!$A$1:$C$65512,3,FALSE)","v":287},null,null,"No info","линк","https://bg.toolsworld.com/search/?query=","https://bg.toolsworld.com/search/?query=10279"]
[10316,"Kalapács 100 g. üvegszálas gumírozott fogantyú// Сибртех",894,"B","Active",{"$f":"VLOOKUP(A10,[1]Sheet1!$A$1:$C$65512,3,FALSE)","v":{"$error":"#N/A"}},null,null,"No info","линк","https://bg.toolsworld.com/search/?query=","https://bg.toolsworld.com/search/?query=10316"]
[10318,"Kalapács 200 g. üvegszálas gumírozott fogantyú// Сибртех",1254,"B","Active",{"$f":"VLOOKUP(A11,[1]Sheet1!$A$1:$C$65512,3,FALSE)","v":{"$error":"#N/A"}},null,null,"No info","линк","https://bg.toolsworld.com/search/?query=","https://bg.toolsworld.com/search/?query=10318"]
[10319,"Kalapács 300 g. uvegszálas gumírozott nyéllel// Sibrtech",1346,"B","Active",{"$f":"VLOOKUP(A12,[1]Sheet1!$A$1:$C$65512,3,FALSE)","v":19},null,null,"No info","линк","https://bg.toolsworld.com/search/?query=","https://bg.toolsworld.com/search/?query=10319"]
[10321,"Kalapács 400 g. üvegszálas gumírozott fogantyú// Сибртех",1770,"B","Active",{"$f":"VLOOKUP(A13,[1]Sheet1!$A$1:$C$65512,3,FALSE)","v":{"$error":"#N/A"}},null,null,"No info","линк","https://bg.toolsworld.com/search/?query=","https://bg.toolsworld.com/search/?query=10321"]
[10323,"Kalapács 500 g. üvegszálas gumírozott fogantyú// Сибртех",1882,"B","Active",{"$f":"VLOOKUP(A14,[1]Sheet1!$A$1:$C$65512,3,FALSE)","v":31},null,null,"No info","линк","https://bg.toolsworld.com/search/?query=","https://bg.toolsworld.com/search/?query=10323"]
[10325,"Kalapács 600 g. üvegszálas gumírozott fogantyú// Сибртех",1994,"B","Active",{"$f":"VLOOKUP(A15,[1]Sheet1!$A$1:$C$65512,3,FALSE)","v":{"$error":"#N/A"}},null,null,"No info","линк","https://bg.toolsworld.com/search/?query=","https://bg.toolsworld.com/search/?query=10325"]
[10327,"Kalapács 800 g. üvegszálas gumírozott fogantyú// Сибртех",2415,"B","Active",{"$f":"VLOOKUP(A16,[1]Sheet1!$A$1:$C$65512,3,FALSE)","v":54},null,null,"No info","линк","https://bg.toolsworld.com/search/?query=","https://bg.toolsworld.com/search/?query=10327"]
[10329,"Kalapács 1000 g. üvegszálas gumírozott fogantyú// Сибртех",2855,"B","Active",{"$f":"VLOOKUP(A17,[1]Sheet1!$A$1:$C$65512,3,FALSE)","v":{"$error":"#N/A"}},null,null,"No info","линк","https://bg.toolsworld.com/search/?query=","https://bg.toolsworld.com/search/?query=10329"]
[10372,"Kalapács, két oldalú utofej, uvegszálas, gumírozott nyél, 200g//SPARTA",906,"B","Active",{"$f":"VLOOKUP(A18,[1]Sheet1!$A$1:$C$65512,3,FALSE)","v":{"$error":"#N/A"}},null,null,"No info","линк","https://bg.toolsworld.com/search/?query=","https://bg.toolsworld.com/search/?query=10372"]
[10377,"Gépész kalapács, üvegszálas nyél gumi szárral, 700G// Sparta",1918,"B","Active",{"$f":"VLOOKUP(A19,[1]Sheet1!$A$1:$C$65512,3,FALSE)","v":{"$error":"#N/A"}},null,null,"No info","линк","https://bg.toolsworld.com/search/?query=","https://bg.toolsworld.com/search/?query=10377"]
[10380,"Gépész kalapács, üvegszálas nyél gumi szárral, 1000G// Sparta",2159,"B","Active",{"$f":"VLOOKUP(A20,[1]Sheet1!$A$1:$C$65512,3,FALSE)","v":{"$error":"#N/A"}},null,null,"No info","линк","https://bg.toolsworld.com/search/?query=","https://bg.toolsworld.com/search/?query=10380"]
[10381,"Kalapács, két oldalú utofej, uvegszálas, gumírozott nyél, 1500g//SPARTA",3044,"B","Active",{"$f":"VLOOKUP(A21,[1]Sheet1!$A$1:$C$65512,3,FALSE)","v":{"$error":"#N/A"}},null,null,"No info","линк","https://bg.toolsworld.com/search/?query=","https://bg.toolsworld.com/search/?query=10381"]
[10441,"Karmos kalapács 450 g mágneses üvegszálas gumírozott nyéllel// Сибртех",1851,"B","Active",{"$f":"VLOOKUP(A22,[1]Sheet1!$A$1:$C$65512,3,FALSE)","v":{"$error":"#N/A"}},null,null,"No info","линк","https://bg.toolsworld.com/search/?query=","https://bg.toolsworld.com/search/?query=10441"]
[10475,"PIRANHA fémfűrész, 300 mm, gumírozott nyél és markolat// GROSS",3961,"B","Active",{"$f":"VLOOKUP(A23,[1]Sheet1!$A$1:$C$65512,3,FALSE)","v":164},null,null,"No info","линк","https://bg.toolsworld.com/search/?query=","https://bg.toolsworld.com/search/?query=10475"]
[10640,"Masonry hammer, 400 g, wooden handle (Arefino) Russia",1987,"B","Active",{"$f":"VLOOKUP(A24,[1]Sheet1!$A$1:$C$65512,3,FALSE)","v":{"$error":"#N/A"}},null,null,"No info","линк","https://bg.toolsworld.com/search/?query=","https://bg.toolsworld.com/search/?query=10640"]
[10905,"Pörölylapács, 1000 g, ejtőkovácsolt fej, fa kétszínű nyél// Sparta",1928,"B","Active",{"$f":"VLOOKUP(A25,[1]Sheet1!$A$1:$C$65512,3,FALSE)","v":9},null,null,"No info","линк","https://bg.toolsworld.com/search/?query=","https://bg.toolsworld.com/search/?query=10905"]
[10907,"Pörölylapács, 1500 g, ejtőkovácsolt fej, fa kétszínű nyél// Sparta",2629,"B","Active",{"$f":"VLOOKUP(A26,[1]Sheet1!$A$1:$C$65512,3,FALSE)","v":{"$error":"#N/A"}},null,null,"No info","линк","https://bg.toolsworld.com/search/?query=","https://bg.toolsworld.com/search/?query=10907"]
[10909,"Pörölylapács, 2000 g, ejtőkovácsolt fej, fa kétszínű nyél// Sparta",3863,"B","Active",{"$f":"VLOOKUP(A27,[1]Sheet1!$A$1:$C$65512,3,FALSE)","v":83},null,null,"No info","линк","https://bg.toolsworld.com/search/?query=","https://bg.toolsworld.com/search/?query=10909"]
[10918,"Kalapács 2000g üvegszálas nyél// Сибртех",4678,"B","Active",{"$f":"VLOOKUP(A28,[1]Sheet1!$A$1:$C$65512,3,FALSE)","v":50},null,null,"No info","линк","https://bg.toolsworld.com/search/?query=","https://bg.toolsworld.com/search/?query=10918"]
[10929,"Szánkalapács, 3000 g, kovácsolt fej, fa nyél// Сибртех",7594,"B","Active",{"$f":"VLOOKUP(A29,[1]Sheet1!$A$1:$C$65512,3,FALSE)","v":{"$error":"#N/A"}},null,null,"No info","линк","https://bg.toolsworld.com/search/?query=","https://bg.toolsworld.com/search/?query=10929"]
[10931,"Szánkalapács, 4000 g, kovácsolt fej, fa nyél// Сибртех",8064,"B","Active",{"$f":"VLOOKUP(A30,[1]Sheet1!$A$1:$C$65512,3,FALSE)","v":{"$error":"#N/A"}},null,null,"No info","линк","https://bg.toolsworld.com/search/?query=","https://bg.toolsworld.com/search/?query=10931"]
[10953,"Stone hammer, 3000 g, forged head, wooden handle (Pavlovo) Russia",9492,"B","Active",{"$f":"VLOOKUP(A31,[1]Sheet1!$A$1:$C$65512,3,FALSE)","v":{"$error":"#N/A"}},null,null,"No info","линк","https://bg.toolsworld.com/search/?query=","https://bg.toolsworld.com/search/?query=10953"]
[10957,"Ko kalapács, 4000 g, kovácsolt fej, fa fogantyú (Pavlovo) Russia",11035,"B","Active",{"$f":"VLOOKUP(A32,[1]Sheet1!$A$1:$C$65512,3,FALSE)","v":{"$error":"#N/A"}},null,null,"No info","линк","https://bg.toolsworld.com/search/?query=","https://bg.toolsworld.com/search/?query=10957"]
[10959,"Ko kalapács, 5000 g, kovácsolt fej, fa fogantyú (Pavlovo) Russia",13737,"B","Active",{"$f":"VLOOKUP(A33,[1]Sheet1!$A$1:$C$65512,3,FALSE)","v":{"$error":"#N/A"}},null,null,"No info","линк","https://bg.toolsworld.com/search/?query=","https://bg.toolsworld.com/search/?query=10959"]
[10963,"Ko kalapács, 6000 g, kovácsolt fej, fa fogantyú (Pavlovo) Russia",15079,"B","Active",{"$f":"VLOOKUP(A34,[1]Sheet1!$A$1:$C$65512,3,FALSE)","v":{"$error":"#N/A"}},null,null,"No info","линк","https://bg.toolsworld.com/search/?query=","https://bg.toolsworld.com/search/?query=10963"]
[10965,"Ko kalapács, 7000 g, kovácsolt fej, fa fogantyú (Pavlovo) Russia",17309,"B","Active",{"$f":"VLOOKUP(A35,[1]Sheet1!$A$1:$C$65512,3,FALSE)","v":{"$error":"#N/A"}},null,null,"No info","линк","https://bg.toolsworld.com/search/?query=","https://bg.toolsworld.com/search/?query=10965"]
[10969,"Ko kalapács, 8000 g, kovácsolt fej, fa fogantyú (Pavlovo) Russia",21687,"B","Active",{"$f":"VLOOKUP(A36,[1]Sheet1!$A$1:$C$65512,3,FALSE)","v":{"$error":"#N/A"}},null,null,"No info","линк","https://bg.toolsworld.com/search/?query=","https://bg.toolsworld.com/search/?query=10969"]
[11161,"Gumikalapács, 1130g, fekete gumi, fa nyél//SPARTA",1454,"B","Active",{"$f":"VLOOKUP(A37,[1]Sheet1!$A$1:$C$65512,3,FALSE)","v":45},null,null,"No info","линк","https://bg.toolsworld.com/search/?query=","https://bg.toolsworld.com/search/?query=11161"]
[11201,"Bit Készlet Рz2 х 90, acél S2, 10 db// GROSS",2374,"B","Active",{"$f":"VLOOKUP(A38,[1]Sheet1!$A$1:$C$65512,3,FALSE)","v":92},null,null,"No info","линк","https://bg.toolsworld.com/search/?query=","https://bg.toolsworld.com/search/?query=11201"]
[11209,"Bit Készlet dubli Рh2-Рh2 х 45 mm, acél S2, 10 db// GROSS",1385,"B","Active",{"$f":"VLOOKUP(A39,[1]Sheet1!$A$1:$C$65512,3,FALSE)","v":39},null,null,"No info","линк","https://bg.toolsworld.com/search/?query=","https://bg.toolsworld.com/search/?query=11209"]
[11211,"Bit Készlet dubli Рh2-Рh1 х 45 mm, acél S2, 10 db// GROSS",1385,"B","Active",{"$f":"VLOOKUP(A40,[1]Sheet1!$A$1:$C$65512,3,FALSE)","v":{"$error":"#N/A"}},null,null,"No info","линк","https://bg.toolsworld.com/search/?query=","https://bg.toolsworld.com/search/?query=11211"]
[11217,"Bit Készlet dubli Рh2-Рz2 х 45 mm, acél S2, 10 db// GROSS",1403,"B","Active",{"$f":"VLOOKUP(A41,[1]Sheet1!$A$1:$C$65512,3,FALSE)","v":44},null,null,"No info","линк","https://bg.toolsworld.com/search/?query=","https://bg.toolsworld.com/search/?query=11217"]
[11262,"Bit Készlet Рh2 х 70, acél S2, 10 db// GROSS",2010,"B","Active",{"$f":"VLOOKUP(A42,[1]Sheet1!$A$1:$C$65512,3,FALSE)","v":78},null,null,"No info","линк","https://bg.toolsworld.com/search/?query=","https://bg.toolsworld.com/search/?query=11262"]
[11312,"Csavarbehajtó bit készlet SPLINE, hex nyél 1 1/2, CrV, 10 mm, 11 darab, muanyag tokban//STELS",4582,"B","Active",{"$f":"VLOOKUP(A43,[1]Sheet1!$A$1:$C$65512,3,FALSE)","v":174},null,null,"No info","линк","https://bg.toolsworld.com/search/?query=","https://bg.toolsworld.com/search/?query=11312"]
[11313,"Csavarbehajtó bit készlet \"HEX\", hex nyél 1/2\", CrV, 10 mm, 15 darab, muanyag tokban//STELS",4555,"B","Active",{"$f":"VLOOKUP(A44,[1]Sheet1!$A$1:$C$65512,3,FALSE)","v":51},null,null,"No info","линк","https://bg.toolsworld.com/search/?query=","https://bg.toolsworld.com/search/?query=11313"]
[11315,"Csavarbehajtó bit készlet \"TORX\", hex nyél, CrV, 10 mm, 15 darab, muanyag tokban//STELS",4024,"B","Active",{"$f":"VLOOKUP(A45,[1]Sheet1!$A$1:$C$65512,3,FALSE)","v":{"$error":"#N/A"}},null,null,"No info","линк","https://bg.toolsworld.com/search/?query=","https://bg.toolsworld.com/search/?query=11315"]
[11317,"Csavarfej-rögzíto csavar megállítóval és kettos mágnessel, 1/4\" //GROSS",1599,"B","Active",{"$f":"VLOOKUP(A46,[1]Sheet1!$A$1:$C$65512,3,FALSE)","v":791},null,null,"No info","линк","https://bg.toolsworld.com/search/?query=","https://bg.toolsworld.com/search/?query=11317"]
[11318,"Csavarbehajtó bit készlet \"HEX\", \"TORX\", \"SPLINE\", hex nyél 3/8\", CrV, 42 darab, muanyag tokban//STELS",11569,"B","Active",{"$f":"VLOOKUP(A47,[1]Sheet1!$A$1:$C$65512,3,FALSE)","v":78},null,null,"No info","линк","https://bg.toolsworld.com/search/?query=","https://bg.toolsworld.com/search/?query=11318"]
[11325,"Fejkészlet SL5,0x50, acél S2, 10 db// GROSS",1134,"B","Active",{"$f":"VLOOKUP(A48,[1]Sheet1!$A$1:$C$65512,3,FALSE)","v":15},null,null,"No info","линк","https://bg.toolsworld.com/search/?query=","https://bg.toolsworld.com/search/?query=11325"]
[11326,"Fejkészlet SL6,0x50, acél S2, 10 db// GROSS",1122,"B","Active",{"$f":"VLOOKUP(A49,[1]Sheet1!$A$1:$C$65512,3,FALSE)","v":{"$error":"#N/A"}},null,null,"No info","линк","https://bg.toolsworld.com/search/?query=","https://bg.toolsworld.com/search/?query=11326"]
[11329,"Fejkészlet PH1x25, acél S2, 10 db// GROSS",1041,"B","Active",{"$f":"VLOOKUP(A50,[1]Sheet1!$A$1:$C$65512,3,FALSE)","v":279},null,null,"No info","линк","https://bg.toolsworld.com/search/?query=","https://bg.toolsworld.com/search/?query=11329"]
[11330,"Fejkészlet PH2x25, acél S2, 10 db// GROSS",1037,"B","Active",{"$f":"VLOOKUP(A51,[1]Sheet1!$A$1:$C$65512,3,FALSE)","v":1158},null,null,"No info","линк","https://bg.toolsworld.com/search/?query=","https://bg.toolsworld.com/search/?query=11330"]
[11336,"Fejkészlet PH3x50, acél S2, 10 db// GROSS",1122,"B","Active",{"$f":"VLOOKUP(A52,[1]Sheet1!$A$1:$C$65512,3,FALSE)","v":190},null,null,"No info","линк","https://bg.toolsworld.com/search/?query=","https://bg.toolsworld.com/search/?query=11336"]
[11339,"Fejkészlet PH1x25, acél S2, 10 db// GROSS",1037,"B","Active",{"$f":"VLOOKUP(A53,[1]Sheet1!$A$1:$C$65512,3,FALSE)","v":86},null,null,"No info","линк","https://bg.toolsworld.com/search/?query=","https://bg.toolsworld.com/search/?query=11339"]
[11340,"Fejkészlet PH2x25, acél S2, 10 db// GROSS",1028,"B","Active",{"$f":"VLOOKUP(A54,[1]Sheet1!$A$1:$C$65512,3,FALSE)","v":378},null,null,"No info","линк","https://bg.toolsworld.com/search/?query=","https://bg.toolsworld.com/search/?query=11340"]
[11342,"Csavarfej-rögzíto csavar megállítóval és kettos mágnessel, 1/4\" //GROSS",1468,"B","Active",{"$f":"VLOOKUP(A55,[1]Sheet1!$A$1:$C$65512,3,FALSE)","v":410},null,null,"No info","линк","https://bg.toolsworld.com/search/?query=","https://bg.toolsworld.com/search/?query=11342"]
[11344,"Fejkészlet PH1x50, acél S2, 10 db// GROSS",1134,"B","Active",{"$f":"VLOOKUP(A56,[1]Sheet1!$A$1:$C$65512,3,FALSE)","v":152},null,null,"No info","линк","https://bg.toolsworld.com/search/?query=","https://bg.toolsworld.com/search/?query=11344"]
[11345,"Fejkészlet PH2x50 acél S2, 10 db// GROSS",1134,"B","Active",{"$f":"VLOOKUP(A57,[1]Sheet1!$A$1:$C$65512,3,FALSE)","v":636},null,null,"No info","линк","https://bg.toolsworld.com/search/?query=","https://bg.toolsworld.com/search/?query=11345"]
[11346,"Fejkészlet PH3x50, acél S2, 10 db// GROSS",1130,"B","Active",{"$f":"VLOOKUP(A58,[1]Sheet1!$A$1:$C$65512,3,FALSE)","v":98},null,null,"No info","линк","https://bg.toolsworld.com/search/?query=","https://bg.toolsworld.com/search/?query=11346"]
[11347,"Fordított csavarhúzó fejkészlettel, CrV, 12 db//SPARTA",2163,"B","Active",{"$f":"VLOOKUP(A59,[1]Sheet1!$A$1:$C$65512,3,FALSE)","v":373},null,null,"No info","линк","https://bg.toolsworld.com/search/?query=","https://bg.toolsworld.com/search/?query=11347"]
[11349,"Fejkészlet PH1x 25, acél S2, 2 db// GROSS",375,"B","Active",{"$f":"VLOOKUP(A60,[1]Sheet1!$A$1:$C$65512,3,FALSE)","v":111},null,null,"No info","линк","https://bg.toolsworld.com/search/?query=","https://bg.toolsworld.com/search/?query=11349"]
[11351,"Fejkészlet PH2x25, acél S2, 2 db// GROSS",397,"B","Active",{"$f":"VLOOKUP(A61,[1]Sheet1!$A$1:$C$65512,3,FALSE)","v":561},null,null,"No info","линк","https://bg.toolsworld.com/search/?query=","https://bg.toolsworld.com/search/?query=11351"]
[11355,"Fejkészlet  PH1x50, acél S2, 2 db// GROSS",407,"B","Active",{"$f":"VLOOKUP(A62,[1]Sheet1!$A$1:$C$65512,3,FALSE)","v":117},null,null,"No info","линк","https://bg.toolsworld.com/search/?query=","https://bg.toolsworld.com/search/?query=11355"]
[11357,"Fejkészlet PH2x50, acél S2, 2 db// GROSS",407,"B","Active",{"$f":"VLOOKUP(A63,[1]Sheet1!$A$1:$C$65512,3,FALSE)","v":903},null,null,"No info","линк","https://bg.toolsworld.com/search/?query=","https://bg.toolsworld.com/search/?query=11357"]
[11359,"Fejkészlet PH3x50, acél S2, 2 db// GROSS",407,"B","Active",{"$f":"VLOOKUP(A64,[1]Sheet1!$A$1:$C$65512,3,FALSE)","v":486},null,null,"No info","линк","https://bg.toolsworld.com/search/?query=","https://bg.toolsworld.com/search/?query=11359"]
[11365,"Fejkészlet, 1/4\", mágnes adapter, acél S2, muanyag doboz, 33 db//GROSS",10381,"B","Active",{"$f":"VLOOKUP(A65,[1]Sheet1!$A$1:$C$65512,3,FALSE)","v":92},null,null,"No info","линк","https://bg.toolsworld.com/search/?query=","https://bg.toolsworld.com/search/?query=11365"]
[11367,"Rugalmas nyél csavarfejhez,145mm, 1/4\" //GROSS",1022,"B","Active",{"$f":"VLOOKUP(A66,[1]Sheet1!$A$1:$C$65512,3,FALSE)","v":711},null,null,"No info","линк","https://bg.toolsworld.com/search/?query=","https://bg.toolsworld.com/search/?query=11367"]
[11369,"Rugalmas nyél csavarfejhez,190mm, 1/4\" //GROSS",1179,"B","Active",{"$f":"VLOOKUP(A67,[1]Sheet1!$A$1:$C$65512,3,FALSE)","v":1186},null,null,"No info","линк","https://bg.toolsworld.com/search/?query=","https://bg.toolsworld.com/search/?query=11369"]
[11376,"Fejkészlet SL5,0x50, acél S2, 2db// GROSS",407,"B","Active",{"$f":"VLOOKUP(A68,[1]Sheet1!$A$1:$C$65512,3,FALSE)","v":1700},null,null,"No info",{"$f":"HYPERLINK(L68,\"линк\")","v":"линк"},"https://bg.toolsworld.com/search/?query=",{"$f":"CONCATENATE(K68,A68)","v":"https://bg.toolsworld.com/search/?query=11376"}]
[11378,"Fejkészlet PH2x70, acél S2, 10db// GROSS",1757,"B","Active",{"$f":"VLOOKUP(A69,[1]Sheet1!$A$1:$C$65512,3,FALSE)","v":92},null,null,"No info","линк","https://bg.toolsworld.com/search/?query=","https://bg.toolsworld.com/search/?query=11378"]
[11379,"Fejkészlet PH2x90, acél S2, 10db// GROSS",1994,"B","Active",{"$f":"VLOOKUP(A70,[1]Sheet1!$A$1:$C$65512,3,FALSE)","v":192},null,null,"No info","линк","https://bg.toolsworld.com/search/?query=","https://bg.toolsworld.com/search/?query=11379"]
[11455,"Fej PH 2x25 mm megállítóval és mágnessel gipsztáblákhoz, S2 //GROSS",1116,"B","Active",{"$f":"VLOOKUP(A71,[1]Sheet1!$A$1:$C$65512,3,FALSE)","v":3365},null,null,"No info","линк","https://bg.toolsworld.com/search/?query=","https://bg.toolsworld.com/search/?query=11455"]
[11456,"Fej PH 2x50 mm megállítóval és mágnessel gipsztáblákhoz, S2 //GROSS",1165,"B","Active",{"$f":"VLOOKUP(A72,[1]Sheet1!$A$1:$C$65512,3,FALSE)","v":1837},null,null,"No info","линк","https://bg.toolsworld.com/search/?query=","https://bg.toolsworld.com/search/?query=11456"]
[11462,"Csavarbehajtó bit készlet   HEX 3×50, S2, 10 darab//GROSS",1140,"B","Active",{"$f":"VLOOKUP(A73,[1]Sheet1!$A$1:$C$65512,3,FALSE)","v":163},null,null,"No info","линк","https://bg.toolsworld.com/search/?query=","https://bg.toolsworld.com/search/?query=11462"]
[11463,"Csavarbehajtó bit készlet   HEX 4×50, S2, 10 darab//GROSS",1140,"B","Active",{"$f":"VLOOKUP(A74,[1]Sheet1!$A$1:$C$65512,3,FALSE)","v":14},null,null,"No info","линк","https://bg.toolsworld.com/search/?query=","https://bg.toolsworld.com/search/?query=11463"]
[11464,"Csavarbehajtó bit készlet   HEX 5×50, S2, 10 darab//GROSS",1140,"B","Active",{"$f":"VLOOKUP(A75,[1]Sheet1!$A$1:$C$65512,3,FALSE)","v":{"$error":"#N/A"}},null,null,"No info","линк","https://bg.toolsworld.com/search/?query=","https://bg.toolsworld.com/search/?query=11464"]
[11465,"Csavarbehajtó bit készlet   HEX 6×50, S2, 10 darab//GROSS",1140,"B","Active",{"$f":"VLOOKUP(A76,[1]Sheet1!$A$1:$C$65512,3,FALSE)","v":{"$error":"#N/A"}},null,null,"No info","линк","https://bg.toolsworld.com/search/?query=","https://bg.toolsworld.com/search/?query=11465"]
[11466,"Csavarbehajtó bit készlet   TORX 6×50, S2, 10 darab//GROSS",1120,"B","Active",{"$f":"VLOOKUP(A77,[1]Sheet1!$A$1:$C$65512,3,FALSE)","v":185},null,null,"No info","линк","https://bg.toolsworld.com/search/?query=","https://bg.toolsworld.com/search/?query=11466"]
[11467,"Csavarbehajtó bit készlet   TORX 8×50, S2, 10 darab//GROSS",1120,"B","Active",{"$f":"VLOOKUP(A78,[1]Sheet1!$A$1:$C$65512,3,FALSE)","v":278},null,null,"No info","линк","https://bg.toolsworld.com/search/?query=","https://bg.toolsworld.com/search/?query=11467"]
[11468,"Csavarbehajtó bit készlet   TORX 10×50, S2, 10 darab//GROSS",1120,"B","Active",{"$f":"VLOOKUP(A79,[1]Sheet1!$A$1:$C$65512,3,FALSE)","v":55},null,null,"No info","линк","https://bg.toolsworld.com/search/?query=","https://bg.toolsworld.com/search/?query=11468"]
[11469,"Csavarbehajtó bit készlet   TORX 15×50, S2, 10 darab//GROSS",1120,"B","Active",{"$f":"VLOOKUP(A80,[1]Sheet1!$A$1:$C$65512,3,FALSE)","v":49},null,null,"No info","линк","https://bg.toolsworld.com/search/?query=","https://bg.toolsworld.com/search/?query=11469"]
[11471,"Csavarbehajtó bit készlet   TORX 25×50, S2, 10 darab//GROSS",1120,"B","Active",{"$f":"VLOOKUP(A81,[1]Sheet1!$A$1:$C$65512,3,FALSE)","v":" "},null,null,"No info","линк","https://bg.toolsworld.com/search/?query=","https://bg.toolsworld.com/search/?query=11471"]
[11472,"Csavarbehajtó bit készlet   TORX 30×50, S2, 10 darab//GROSS",1120,"B","Active",{"$f":"VLOOKUP(A82,[1]Sheet1!$A$1:$C$65512,3,FALSE)","v":232},null,null,"No info","линк","https://bg.toolsworld.com/search/?query=","https://bg.toolsworld.com/search/?query=11472"]
[11473,"Csavarbehajtó bit készlet   TORX 40×50, S2, 10 darab//GROSS",1120,"B","Active",{"$f":"VLOOKUP(A83,[1]Sheet1!$A$1:$C$65512,3,FALSE)","v":70},null,null,"No info","линк","https://bg.toolsworld.com/search/?query=","https://bg.toolsworld.com/search/?query=11473"]
[11599,"Csavarhúzó bitekkel és foglalatokkal a precíziós munkához, rugalmas csavarhúzó, 48 db, CrMo// Gross",10972,"B","Active",{"$f":"VLOOKUP(A84,[1]Sheet1!$A$1:$C$65512,3,FALSE)","v":1432},null,null,"No info","линк","https://bg.toolsworld.com/search/?query=","https://bg.toolsworld.com/search/?query=11599"]
[11601,"Autótöltos racsanis csavarhúzó, 11 pcs., S2// Gross",6076,"B","Active",{"$f":"VLOOKUP(A85,[1]Sheet1!$A$1:$C$65512,3,FALSE)","v":280},null,null,"No info","линк","https://bg.toolsworld.com/search/?query=","https://bg.toolsworld.com/search/?query=11601"]
[11611,"Racsnis csavarhúzó, mechanizmus SmartPush 12 db, S2// Gross",4781,"B","Active",{"$f":"VLOOKUP(A86,[1]Sheet1!$A$1:$C$65512,3,FALSE)","v":57},null,null,"No info","линк","https://bg.toolsworld.com/search/?query=","https://bg.toolsworld.com/search/?query=11611"]
[11617,"bit anyabeállítóval mágnessel, anyacsavarozó, 8 mm, S2// Gross",1364,"B","Active",{"$f":"VLOOKUP(A87,[1]Sheet1!$A$1:$C$65512,3,FALSE)","v":{"$error":"#N/A"}},null,null,"No info","линк","https://bg.toolsworld.com/search/?query=","https://bg.toolsworld.com/search/?query=11617"]
[11619,"bit anyabeállítóval mágnessel, anyacsavarozó, 10 mm, S2// Gross",1434,"B","Active",{"$f":"VLOOKUP(A88,[1]Sheet1!$A$1:$C$65512,3,FALSE)","v":3},null,null,"No info","линк","https://bg.toolsworld.com/search/?query=","https://bg.toolsworld.com/search/?query=11619"]
[11625,"Fej-, és kulcskészlet, 1/4\", vezetokulcs, racsni, adapter, S2, 37 db//GROSS",16790,"B","Active",{"$f":"VLOOKUP(A89,[1]Sheet1!$A$1:$C$65512,3,FALSE)","v":9},null,null,"No info","линк","https://bg.toolsworld.com/search/?query=","https://bg.toolsworld.com/search/?query=11625"]
[11627,"Fúrószár készlet anyabeállítóval mágnessel, anyacsavarozó, 8,10,12,13 mm, S2// Gross",5223,"B","Active",{"$f":"VLOOKUP(A90,[1]Sheet1!$A$1:$C$65512,3,FALSE)","v":175},null,null,"No info","линк","https://bg.toolsworld.com/search/?query=","https://bg.toolsworld.com/search/?query=11627"]
[11638,"Professzionális csavarhúzó PH3x150 mm, CrV, két komponensu nyél// SPARTA",253,"B","Active",{"$f":"VLOOKUP(A91,[1]Sheet1!$A$1:$C$65512,3,FALSE)","v":{"$error":"#N/A"}},null,null,"No info","линк","https://bg.toolsworld.com/search/?query=","https://bg.toolsworld.com/search/?query=11638"]
[11751,"Csavarhúzó \"Point\", SL6 х 38 mm, CrV, 2 komponensű fogantyú// Sparta",216,"B","Active",{"$f":"VLOOKUP(A92,[1]Sheet1!$A$1:$C$65512,3,FALSE)","v":{"$error":"#N/A"}},null,null,"No info","линк","https://bg.toolsworld.com/search/?query=","https://bg.toolsworld.com/search/?query=11751"]
[11762,"Csavarhúzó \"Hegyesvégu\",  SL3,0 x 100  mm, CrV, 2 komponensu nyél// SPARTA",189,"B","Active",{"$f":"VLOOKUP(A93,[1]Sheet1!$A$1:$C$65512,3,FALSE)","v":3842},null,null,"No info","линк","https://bg.toolsworld.com/search/?query=","https://bg.toolsworld.com/search/?query=11762"]
[11763,"Csavarhúzó \"Hegyesvégu\", P SL4,0 x 100, CrV, 2 komponensu nyél// SPARTA",230,"B","Active",{"$f":"VLOOKUP(A94,[1]Sheet1!$A$1:$C$65512,3,FALSE)","v":491},null,null,"No info","линк","https://bg.toolsworld.com/search/?query=","https://bg.toolsworld.com/search/?query=11763"]
[11764,"Csavarhúzó \"Hegyesvégu\", SL4,0 x 150 mm, CrV, 2 komponensu nyél // SPARTA",244,"B","Active",{"$f":"VLOOKUP(A95,[1]Sheet1!$A$1:$C$65512,3,FALSE)","v":{"$error":"#N/A"}},null,null,"No info","линк","https://bg.toolsworld.com/search/?query=","https://bg.toolsworld.com/search/?query=11764"]
[11765,"Csavarhúzó \"Hegyesvégu\", SL5,0 x 75 mm, CrV, 2 komponensu nyél // SPARTA",220,"B","Active",{"$f":"VLOOKUP(A96,[1]Sheet1!$A$1:$C$65512,3,FALSE)","v":1058},null,null,"No info","линк","https://bg.toolsworld.com/search/?query=","https://bg.toolsworld.com/search/?query=11765"]
[11766,"Csavarhúzó \"Hegyesvégu\", SL5,0 x 100 mm, CrV, 2 komponensu nyél// SPARTA",238,"B","Active",{"$f":"VLOOKUP(A97,[1]Sheet1!$A$1:$C$65512,3,FALSE)","v":{"$error":"#N/A"}},null,null,"No info","линк","https://bg.toolsworld.com/search/?query=","https://bg.toolsworld.com/search/?query=11766"]
[11767,"Csavarhúzó \"Hegyesvégu\", SL5,0 x 150 mm, CrV, 2 komponensu nyél // SPARTA",271,"B","Active",{"$f":"VLOOKUP(A98,[1]Sheet1!$A$1:$C$65512,3,FALSE)","v":" "},null,null,"No info","линк","https://bg.toolsworld.com/search/?query=","https://bg.toolsworld.com/search/?query=11767"]
[11768,"Csavarhúzó \"Hegyesvégu\", SL6,0 x 100 mm, CrV, 2 komponensu nyél// SPARTA",293,"B","Active",{"$f":"VLOOKUP(A99,[1]Sheet1!$A$1:$C$65512,3,FALSE)","v":" "},null,null,"No info","линк","https://bg.toolsworld.com/search/?query=","https://bg.toolsworld.com/search/?query=11768"]
[11769,"Csavarhúzó \"Hegyesvégu\", SL6,0 x 150 mm, CrV, 2 komponensu nyél // SPARTA",330,"B","Active",{"$f":"VLOOKUP(A100,[1]Sheet1!$A$1:$C$65512,3,FALSE)","v":" "},null,null,"No info","линк","https://bg.toolsworld.com/search/?query=","https://bg.toolsworld.com/search/?query=11769"]
[11770,"Csavarhúzó \"Hegyesvégu\", SL8,0 x 150 mm, CrV, 2 komponensu nyél // SPARTA",417,"B","Active",{"$f":"VLOOKUP(A101,[1]Sheet1!$A$1:$C$65512,3,FALSE)","v":" "},null,null,"No info","линк","https://bg.toolsworld.com/search/?query=","https://bg.toolsworld.com/search/?query=11770"]
[11772,"Csavarhúzó \"Hegyesvégu\", Ph2 x 38 mm, CrV, 2 komponensu nyél // SPARTA",220,"B","Active",{"$f":"VLOOKUP(A102,[1]Sheet1!$A$1:$C$65512,3,FALSE)","v":521},null,null,"No info","линк","https://bg.toolsworld.com/search/?query=","https://bg.toolsworld.com/search/?query=11772"]
[11773,"Csavarhúzó \"Hegyesvégu\", Ph0 x 80 mm, CrV, 2 komponensu nyél // SPARTA",189,"B","Active",{"$f":"VLOOKUP(A103,[1]Sheet1!$A$1:$C$65512,3,FALSE)","v":1062},null,null,"No info","линк","https://bg.toolsworld.com/search/?query=","https://bg.toolsworld.com/search/?query=11773"]
[11774,"Csavarhúzó \"Hegyesvégu\", Ph0 x 100 mm, CrV, 2 komponensu nyél// SPARTA",196,"B","Active",{"$f":"VLOOKUP(A104,[1]Sheet1!$A$1:$C$65512,3,FALSE)","v":{"$error":"#N/A"}},null,null,"No info","линк","https://bg.toolsworld.com/search/?query=","https://bg.toolsworld.com/search/?query=11774"]
[11775,"Csavarhúzó \"Hegyesvégu\", Ph1 x 100 mm, CrV, 2 komponensu nyél// SPARTA",238,"B","Active",{"$f":"VLOOKUP(A105,[1]Sheet1!$A$1:$C$65512,3,FALSE)","v":" "},null,null,"No info","линк","https://bg.toolsworld.com/search/?query=","https://bg.toolsworld.com/search/?query=11775"]
[11776,"Csavarhúzó \"Hegyesvégu\", Ph1 x 150 mm, CrV, 2 komponensu nyél // SPARTA",252,"B","Active",{"$f":"VLOOKUP(A106,[1]Sheet1!$A$1:$C$65512,3,FALSE)","v":" "},null,null,"No info","линк","https://bg.toolsworld.com/search/?query=","https://bg.toolsworld.com/search/?query=11776"]
[11777,"Csavarhúzó \"Hegyesvégu\", Ph1 x 75 mm, CrV, 2 komponensu nyél // SPARTA",210,"B","Active",{"$f":"VLOOKUP(A107,[1]Sheet1!$A$1:$C$65512,3,FALSE)","v":188},null,null,"No info","линк","https://bg.toolsworld.com/search/?query=","https://bg.toolsworld.com/search/?query=11777"]
[11778,"Csavarhúzó \"Hegyesvégu\", Ph2 x 100 mm, CrV, 2 komponensu nyél// SPARTA",293,"B","Active",{"$f":"VLOOKUP(A108,[1]Sheet1!$A$1:$C$65512,3,FALSE)","v":108},null,null,"No info","линк","https://bg.toolsworld.com/search/?query=","https://bg.toolsworld.com/search/?query=11778"]
[11779,"Csavarhúzó \"Hegyesvégu\", Ph2x 200 mm, CrV, 2 komponensu nyél // SPARTA",362,"B","Active",{"$f":"VLOOKUP(A109,[1]Sheet1!$A$1:$C$65512,3,FALSE)","v":" "},null,null,"No info","линк","https://bg.toolsworld.com/search/?query=","https://bg.toolsworld.com/search/?query=11779"]
[11780,"Csavarhúzó \"Hegyesvégu\", Ph2 x 150 mm, CrV, 2 komponensu nyél// SPARTA",330,"B","Active",{"$f":"VLOOKUP(A110,[1]Sheet1!$A$1:$C$65512,3,FALSE)","v":{"$error":"#N/A"}},null,null,"No info","линк","https://bg.toolsworld.com/search/?query=","https://bg.toolsworld.com/search/?query=11780"]
[11781,"Csavarhúzó \"Hegyesvégu\", Ph3 x 150 mm, CrV, 2 komponensu nyél// SPARTA",417,"B","Active",{"$f":"VLOOKUP(A111,[1]Sheet1!$A$1:$C$65512,3,FALSE)","v":949},null,null,"No info","линк","https://bg.toolsworld.com/search/?query=","https://bg.toolsworld.com/search/?query=11781"]
[11782,"Csavarhúzó \"Hegyesvégu\", 6 db, két komponensu nyél // SPARTA",1981,"B","Active",{"$f":"VLOOKUP(A112,[1]Sheet1!$A$1:$C$65512,3,FALSE)","v":58},null,null,"No info","линк","https://bg.toolsworld.com/search/?query=","https://bg.toolsworld.com/search/?query=11782"]
[11841,"Csavarhúzó, PH1 х 100 mm, CrV, kétkomponensű fogantyú// Сибртех",389,"B","Active",{"$f":"VLOOKUP(A113,[1]Sheet1!$A$1:$C$65512,3,FALSE)","v":35},null,null,"No info","линк","https://bg.toolsworld.com/search/?query=","https://bg.toolsworld.com/search/?query=11841"]
[11845,"Csavarhúzó, PH2 х 100 mm, CrV, kétkomponensű fogantyú// Сибртех",409,"B","Active",{"$f":"VLOOKUP(A114,[1]Sheet1!$A$1:$C$65512,3,FALSE)","v":47},null,null,"No info","линк","https://bg.toolsworld.com/search/?query=","https://bg.toolsworld.com/search/?query=11845"]
[11861,"Csavarhúzó, SL4,0 х 100 mm, CrV, kétkomponensű fogantyú// Сибртех",334,"B","Active",{"$f":"VLOOKUP(A115,[1]Sheet1!$A$1:$C$65512,3,FALSE)","v":77},null,null,"No info","линк","https://bg.toolsworld.com/search/?query=","https://bg.toolsworld.com/search/?query=11861"]
[12101,"Csavarhúzó SL3,0 x 75 mm, S2, három komponensu nyél// GROSS",815,"B","Active",{"$f":"VLOOKUP(A116,[1]Sheet1!$A$1:$C$65512,3,FALSE)","v":1393},null,null,"No info","линк","https://bg.toolsworld.com/search/?query=","https://bg.toolsworld.com/search/?query=12101"]
[12105,"Csavarhúzó SL4,0 x 100 mm, S2, három komponensu nyél//GROSS",1028,"B","Active",{"$f":"VLOOKUP(A117,[1]Sheet1!$A$1:$C$65512,3,FALSE)","v":1736},null,null,"No info","линк","https://bg.toolsworld.com/search/?query=","https://bg.toolsworld.com/search/?query=12105"]
[12110,"Csavarhúzó SL5,5 x 100 mm, S2, három komponensu nyél//GROSS",1472,"B","Active",{"$f":"VLOOKUP(A118,[1]Sheet1!$A$1:$C$65512,3,FALSE)","v":2239},null,null,"No info","линк","https://bg.toolsworld.com/search/?query=","https://bg.toolsworld.com/search/?query=12110"]
[12112,"Csavarhúzó SL5,5 x 150 mm, S2, három komponensu nyél//GROSS",1523,"B","Active",{"$f":"VLOOKUP(A119,[1]Sheet1!$A$1:$C$65512,3,FALSE)","v":2188},null,null,"No info","линк","https://bg.toolsworld.com/search/?query=","https://bg.toolsworld.com/search/?query=12112"]
[12116,"Csavarhúzó SL6,5 x 100 mm, S2, három komponensu nyél//GROSS",1531,"B","Active",{"$f":"VLOOKUP(A120,[1]Sheet1!$A$1:$C$65512,3,FALSE)","v":2372},null,null,"No info","линк","https://bg.toolsworld.com/search/?query=","https://bg.toolsworld.com/search/?query=12116"]
[12117,"Csavarhúzó SL6,5 x 150 mm, S2, három komponensu nyél//GROSS",1584,"B","Active",{"$f":"VLOOKUP(A121,[1]Sheet1!$A$1:$C$65512,3,FALSE)","v":1720},null,null,"No info","линк","https://bg.toolsworld.com/search/?query=","https://bg.toolsworld.com/search/?query=12117"]
[12119,"Csavarhúzó SL8,0 x 150 mm, S2, három komponensu nyél//GROSS",1910,"B","Active",{"$f":"VLOOKUP(A122,[1]Sheet1!$A$1:$C$65512,3,FALSE)","v":2036},null,null,"No info","линк","https://bg.toolsworld.com/search/?query=","https://bg.toolsworld.com/search/?query=12119"]
[12123,"Csavarhúzó SL8,0x 200 mm, S2, három komponensu nyél//GROSS",2008,"B","Active",{"$f":"VLOOKUP(A123,[1]Sheet1!$A$1:$C$65512,3,FALSE)","v":30},null,null,"No info","линк","https://bg.toolsworld.com/search/?query=","https://bg.toolsworld.com/search/?query=12123"]
[12131,"Csavarhúzó PH0 x 75 mm, S2, három komponensu nyél//GROSS",751,"B","Active",{"$f":"VLOOKUP(A124,[1]Sheet1!$A$1:$C$65512,3,FALSE)","v":370},null,null,"No info","линк","https://bg.toolsworld.com/search/?query=","https://bg.toolsworld.com/search/?query=12131"]
[12140,"Csavarhúzó PH1 x 100 mm, S2, három komponensu nyél//GROSS",1014,"B","Active",{"$f":"VLOOKUP(A125,[1]Sheet1!$A$1:$C$65512,3,FALSE)","v":1701},null,null,"No info","линк","https://bg.toolsworld.com/search/?query=","https://bg.toolsworld.com/search/?query=12140"]
[12142,"Csavarhúzó PH1 x 150 mm, S2, három komponensu nyél//GROSS",1134,"B","Active",{"$f":"VLOOKUP(A126,[1]Sheet1!$A$1:$C$65512,3,FALSE)","v":2105},null,null,"No info","линк","https://bg.toolsworld.com/search/?query=","https://bg.toolsworld.com/search/?query=12142"]
[12144,"Csavarhúzó PH2 x 100 mm, S2, három komponensu nyél// GROSS",1423,"B","Active",{"$f":"VLOOKUP(A127,[1]Sheet1!$A$1:$C$65512,3,FALSE)","v":1874},null,null,"No info","линк","https://bg.toolsworld.com/search/?query=","https://bg.toolsworld.com/search/?query=12144"]
[12145,"Csavarhúzó PH2 x 150 mm, S2, három komponensu nyél//GROSS",1476,"B","Active",{"$f":"VLOOKUP(A128,[1]Sheet1!$A$1:$C$65512,3,FALSE)","v":1543},null,null,"No info","линк","https://bg.toolsworld.com/search/?query=","https://bg.toolsworld.com/search/?query=12145"]
[12149,"Csavarhúzó PH3 x 150 mm, S2, három komponensu nyél//GROSS",1802,"B","Active",{"$f":"VLOOKUP(A129,[1]Sheet1!$A$1:$C$65512,3,FALSE)","v":2196},null,null,"No info","линк","https://bg.toolsworld.com/search/?query=","https://bg.toolsworld.com/search/?query=12149"]
[12155,"Csavarhúzó PZ0 x 75 mm, S2, háromkomponensű nyél// Gross",819,"B","Active",{"$f":"VLOOKUP(A130,[1]Sheet1!$A$1:$C$65512,3,FALSE)","v":215},null,null,"No info","линк","https://bg.toolsworld.com/search/?query=","https://bg.toolsworld.com/search/?query=12155"]
[12156,"Csavarhúzó PZ1 x 75 mm, S2, három komponensu nyél//GROSS",1012,"B","Active",{"$f":"VLOOKUP(A131,[1]Sheet1!$A$1:$C$65512,3,FALSE)","v":1856},null,null,"No info","линк","https://bg.toolsworld.com/search/?query=","https://bg.toolsworld.com/search/?query=12156"]
[12159,"Csavarhúzó PZ2 x 100  mm, S2, három komponensu nyél//GROSS",1517,"B","Active",{"$f":"VLOOKUP(A132,[1]Sheet1!$A$1:$C$65512,3,FALSE)","v":1519},null,null,"No info",{"$f":"HYPERLINK(L132,\"линк\")","v":"линк"},"https://bg.toolsworld.com/search/?query=",{"$f":"CONCATENATE(K132,A132)","v":"https://bg.toolsworld.com/search/?query=12159"}]
[12163,"Csavarhúzó PZ3 x 150 mm, S2, három komponensu nyél//GROSS",1926,"B","Active",{"$f":"VLOOKUP(A133,[1]Sheet1!$A$1:$C$65512,3,FALSE)","v":647},null,null,"No info","линк","https://bg.toolsworld.com/search/?query=","https://bg.toolsworld.com/search/?query=12163"]
[12164,"Csavarhúzó készlet, 6 db, S2, három komponensu nyél//GROSS",7746,"B","Active",{"$f":"VLOOKUP(A134,[1]Sheet1!$A$1:$C$65512,3,FALSE)","v":481},null,null,"No info","линк","https://bg.toolsworld.com/search/?query=","https://bg.toolsworld.com/search/?query=12164"]
[12165,"Csavarhúzó készlet SL, 3 db, S2, három komponensu nyél//GROSS",3788,"B","Active",{"$f":"VLOOKUP(A135,[1]Sheet1!$A$1:$C$65512,3,FALSE)","v":93},null,null,"No info","линк","https://bg.toolsworld.com/search/?query=","https://bg.toolsworld.com/search/?query=12165"]
[12166,"Csavarhúzó készlet PH, 3 db, S2, három komponensu nyél//GROSS",3871,"B","Active",{"$f":"VLOOKUP(A136,[1]Sheet1!$A$1:$C$65512,3,FALSE)","v":127},null,null,"No info","линк","https://bg.toolsworld.com/search/?query=","https://bg.toolsworld.com/search/?query=12166"]
[12167,"Kombinált csavarhúzó készlet, 3 db, S2, három komponensu nyél//GROSS",4252,"B","Active",{"$f":"VLOOKUP(A137,[1]Sheet1!$A$1:$C$65512,3,FALSE)","v":95},null,null,"No info","линк","https://bg.toolsworld.com/search/?query=","https://bg.toolsworld.com/search/?query=12167"]
[12168,"Kombinált csavarhúzó készlet, 2 db, S2, három komponensu nyél//GROSS",3500,"B","Active",{"$f":"VLOOKUP(A138,[1]Sheet1!$A$1:$C$65512,3,FALSE)","v":131},null,null,"No info","линк","https://bg.toolsworld.com/search/?query=","https://bg.toolsworld.com/search/?query=12168"]
[12316,"HEX kulcskészlet, 2-12, 45x, edzett, 9 db, rövid, nikkelezett// Сибртех",1271,"B","Active",{"$f":"VLOOKUP(A139,[1]Sheet1!$A$1:$C$65512,3,FALSE)","v":16},null,null,"No info","линк","https://bg.toolsworld.com/search/?query=","https://bg.toolsworld.com/search/?query=12316"]
[12317,"HEX kulcskészlet, 1,5-10, 45x, edzett, 9 db, rövid, nikkelezett// Сибртех",839,"B","Active",{"$f":"VLOOKUP(A140,[1]Sheet1!$A$1:$C$65512,3,FALSE)","v":{"$error":"#N/A"}},null,null,"No info","линк","https://bg.toolsworld.com/search/?query=","https://bg.toolsworld.com/search/?query=12317"]
[12318,"HEX kulcskészlet, 1,5-10, 45x, edzett, 9 db, hosszú, nikkelezett// Сибртех",1544,"B","Active",{"$f":"VLOOKUP(A141,[1]Sheet1!$A$1:$C$65512,3,FALSE)","v":2},null,null,"No info","линк","https://bg.toolsworld.com/search/?query=","https://bg.toolsworld.com/search/?query=12318"]
[12321,"Tamper-Torx kulcskészlet, TT10-ТТ50, 45x, edzett, 9 db, rövid, nikkelezett// Сибртех",1041,"B","Active",{"$f":"VLOOKUP(A142,[1]Sheet1!$A$1:$C$65512,3,FALSE)","v":{"$error":"#N/A"}},null,null,"No info","линк","https://bg.toolsworld.com/search/?query=","https://bg.toolsworld.com/search/?query=12321"]
[12322,"Tamper-Torx kulcskészlet, TT10-ТТ50, 45x, edzett, 9 db, hosszú, nikkelezett// Сибртех",1214,"B","Active",{"$f":"VLOOKUP(A143,[1]Sheet1!$A$1:$C$65512,3,FALSE)","v":{"$error":"#N/A"}},null,null,"No info","линк","https://bg.toolsworld.com/search/?query=","https://bg.toolsworld.com/search/?query=12322"]
[12328,"Imbusz kulcs, 4mm, 45x,    nikkel/SIBRTECH",140,"B","Active",{"$f":"VLOOKUP(A144,[1]Sheet1!$A$1:$C$65512,3,FALSE)","v":8},null,null,"No info","линк","https://bg.toolsworld.com/search/?query=","https://bg.toolsworld.com/search/?query=12328"]
[12330,"Imbusz kulcs, 5mm, 45x,    nikkel/SIBRTECH",173,"B","Active",{"$f":"VLOOKUP(A145,[1]Sheet1!$A$1:$C$65512,3,FALSE)","v":{"$error":"#N/A"}},null,null,"No info","линк","https://bg.toolsworld.com/search/?query=","https://bg.toolsworld.com/search/?query=12330"]
[12333,"Imbusz kulcs, 6mm, 45x,    nikkel/SIBRTECH",226,"B","Active",{"$f":"VLOOKUP(A146,[1]Sheet1!$A$1:$C$65512,3,FALSE)","v":{"$error":"#N/A"}},null,null,"No info","линк","https://bg.toolsworld.com/search/?query=","https://bg.toolsworld.com/search/?query=12333"]
[12334,"Imbusz kulcs, 7mm, 45x,    nikkel/SIBRTECH",255,"B","Active",{"$f":"VLOOKUP(A147,[1]Sheet1!$A$1:$C$65512,3,FALSE)","v":{"$error":"#N/A"}},null,null,"No info","линк","https://bg.toolsworld.com/search/?query=","https://bg.toolsworld.com/search/?query=12334"]
[12340,"Imbusz kulcs, 8mm, 45x,    nikkel/SIBRTECH",299,"B","Active",{"$f":"VLOOKUP(A148,[1]Sheet1!$A$1:$C$65512,3,FALSE)","v":57},null,null,"No info","линк","https://bg.toolsworld.com/search/?query=","https://bg.toolsworld.com/search/?query=12340"]
[12342,"Imbusz kulcs, 9mm, 45x,    nikkel/SIBRTECH",371,"B","Active",{"$f":"VLOOKUP(A149,[1]Sheet1!$A$1:$C$65512,3,FALSE)","v":{"$error":"#N/A"}},null,null,"No info","линк","https://bg.toolsworld.com/search/?query=","https://bg.toolsworld.com/search/?query=12342"]
[12343,"Imbusz kulcs, 10mm, 45x,    nikkel/SIBRTECH",415,"B","Active",{"$f":"VLOOKUP(A150,[1]Sheet1!$A$1:$C$65512,3,FALSE)","v":{"$error":"#N/A"}},null,null,"No info","линк","https://bg.toolsworld.com/search/?query=","https://bg.toolsworld.com/search/?query=12343"]
[12346,"Imbusz kulcs, 14mm, 45x,    nikkel//PALISAD",853,"B","Active",{"$f":"VLOOKUP(A151,[1]Sheet1!$A$1:$C$65512,3,FALSE)","v":{"$error":"#N/A"}},null,null,"No info","линк","https://bg.toolsworld.com/search/?query=","https://bg.toolsworld.com/search/?query=12346"]
[12929,"Dielektromos csavarhúzó PH2 x 100 mm, 1000 V-ig, kétkomponensű fogantyú// Сибртех",623,"B","Active",{"$f":"VLOOKUP(A152,[1]Sheet1!$A$1:$C$65512,3,FALSE)","v":{"$error":"#N/A"}},null,null,"No info","линк","https://bg.toolsworld.com/search/?query=","https://bg.toolsworld.com/search/?query=12929"]
[12932,"Dielektromos csavarhúzó SL4 x 100 mm, 1000 V-ig, kétkomponensű fogantyú// Сибртех",375,"B","Active",{"$f":"VLOOKUP(A153,[1]Sheet1!$A$1:$C$65512,3,FALSE)","v":147},null,null,"No info","линк","https://bg.toolsworld.com/search/?query=","https://bg.toolsworld.com/search/?query=12932"]
[12933,"Dielektromos csavarhúzó SL5,5 x 125 mm, 1000 V-ig, kétkomponensű fogantyú// Сибртех",532,"B","Active",{"$f":"VLOOKUP(A154,[1]Sheet1!$A$1:$C$65512,3,FALSE)","v":115},null,null,"No info","линк","https://bg.toolsworld.com/search/?query=","https://bg.toolsworld.com/search/?query=12933"]
[12934,"Dielektromos csavarhúzó PH0 x 75 mm, 1000 V-ig, kétkomponensű fogantyú// Сибртех",354,"B","Active",{"$f":"VLOOKUP(A155,[1]Sheet1!$A$1:$C$65512,3,FALSE)","v":{"$error":"#N/A"}},null,null,"No info","линк","https://bg.toolsworld.com/search/?query=","https://bg.toolsworld.com/search/?query=12934"]
[12935,"Dielektromos csavarhúzó SL6 x 150 mm, 1000 V-ig, kétkomponensű fogantyú// Сибртех",674,"B","Active",{"$f":"VLOOKUP(A156,[1]Sheet1!$A$1:$C$65512,3,FALSE)","v":211},null,null,"No info","линк","https://bg.toolsworld.com/search/?query=","https://bg.toolsworld.com/search/?query=12935"]
[13189,"1/2 Gyújtógyertya foglalat mágneses tartóval 12 pt 21mm// GROSS",2230,"B","Active",{"$f":"VLOOKUP(A157,[1]Sheet1!$A$1:$C$65512,3,FALSE)","v":290},null,null,"No info","линк","https://bg.toolsworld.com/search/?query=","https://bg.toolsworld.com/search/?query=13189"]
[13190,"Vezetofoglalat eltéro méretben, 1/2\", 11-32mm, CrV, króm lemezzel// GROSS",8481,"B","Active",{"$f":"VLOOKUP(A158,[1]Sheet1!$A$1:$C$65512,3,FALSE)","v":144},null,null,"No info","линк","https://bg.toolsworld.com/search/?query=","https://bg.toolsworld.com/search/?query=13190"]
[13191,"Vezetofoglalat eltéro méretben, 3/8\", 6-21mm, CrV, króm lemezzel// GROSS",2659,"B","Active",{"$f":"VLOOKUP(A159,[1]Sheet1!$A$1:$C$65512,3,FALSE)","v":1549},null,null,"No info","линк","https://bg.toolsworld.com/search/?query=","https://bg.toolsworld.com/search/?query=13191"]
[13201,"Csavarhúzó   SL3*75mm,  fekete nyél, szénacél//  SPARTA",102,"B","Active",{"$f":"VLOOKUP(A160,[1]Sheet1!$A$1:$C$65512,3,FALSE)","v":1785},null,null,"No info","линк","https://bg.toolsworld.com/search/?query=","https://bg.toolsworld.com/search/?query=13201"]
[13203,"Csavarhúzó   SL4*75mm,  fekete nyél, szénacél//  SPARTA",124,"B","Active",{"$f":"VLOOKUP(A161,[1]Sheet1!$A$1:$C$65512,3,FALSE)","v":2013},null,null,"No info","линк","https://bg.toolsworld.com/search/?query=","https://bg.toolsworld.com/search/?query=13203"]
[13206,"Csavarhúzó   SL6*100mm,  fekete nyél, szénacél// SPARTA",191,"B","Active",{"$f":"VLOOKUP(A162,[1]Sheet1!$A$1:$C$65512,3,FALSE)","v":2760},null,null,"No info","линк","https://bg.toolsworld.com/search/?query=","https://bg.toolsworld.com/search/?query=13206"]
[13211,"Csavarhúzó   PH1*75mm,  fekete nyél, szénacél// SPARTA",143,"B","Active",{"$f":"VLOOKUP(A163,[1]Sheet1!$A$1:$C$65512,3,FALSE)","v":231},null,null,"No info","линк","https://bg.toolsworld.com/search/?query=","https://bg.toolsworld.com/search/?query=13211"]
[13213,"Csavarhúzó   PH2*100mm,  fekete nyél, szénacél//  SPARTA",169,"B","Active",{"$f":"VLOOKUP(A164,[1]Sheet1!$A$1:$C$65512,3,FALSE)","v":1915},null,null,"No info","линк","https://bg.toolsworld.com/search/?query=","https://bg.toolsworld.com/search/?query=13213"]
[13220,"Csavarhúzó készlet, 4db, (SL5x100,6x100, PH1x100,2x100), fekete nyél, szénacél// SPARTA",900,"B","Active",{"$f":"VLOOKUP(A165,[1]Sheet1!$A$1:$C$65512,3,FALSE)","v":46},null,null,"No info","линк","https://bg.toolsworld.com/search/?query=","https://bg.toolsworld.com/search/?query=13220"]
[13334,"Precíziós csavarhúzó bitekkel, 21db, CrV// Сибртех",2165,"B","Active",{"$f":"VLOOKUP(A166,[1]Sheet1!$A$1:$C$65512,3,FALSE)","v":6},null,null,"No info","линк","https://bg.toolsworld.com/search/?query=","https://bg.toolsworld.com/search/?query=13334"]
[13347,"Precíziós csavarhúzó készlet, CrMo, kétkomponensu fogantyúk, 6 db, muanyag tok// Gross",2920,"B","Active",{"$f":"VLOOKUP(A167,[1]Sheet1!$A$1:$C$65512,3,FALSE)","v":{"$error":"#N/A"}},null,null,"No info","линк","https://bg.toolsworld.com/search/?query=","https://bg.toolsworld.com/search/?query=13347"]
[13363,"Váltható csavarhúzó készlet, bittel, foglalatfejjel, 61 darab, CrV Sibrtech",6789,"B","Active",{"$f":"VLOOKUP(A168,[1]Sheet1!$A$1:$C$65512,3,FALSE)","v":{"$error":"#N/A"}},null,null,"No info","линк","https://bg.toolsworld.com/search/?query=","https://bg.toolsworld.com/search/?query=13363"]
[13364,"Ratchet screwdriver T-handle, PH2/SL6, combined, CrV// SIBRTEH",1391,"B","Active",{"$f":"VLOOKUP(A169,[1]Sheet1!$A$1:$C$65512,3,FALSE)","v":49},null,null,"No info","линк","https://bg.toolsworld.com/search/?query=","https://bg.toolsworld.com/search/?query=13364"]
[13368,"Racsnis csavarhúzó, PH2/SL6 kombinált, CrV// Сибртех",1354,"B","Active",{"$f":"VLOOKUP(A170,[1]Sheet1!$A$1:$C$65512,3,FALSE)","v":{"$error":"#N/A"}},null,null,"No info","линк","https://bg.toolsworld.com/search/?query=","https://bg.toolsworld.com/search/?query=13368"]
[13370,"Precision ratchet screwdriver with bits, sockets, adapter 32 pcs., CrV// SIBRTEH",2440,"B","Active",{"$f":"VLOOKUP(A171,[1]Sheet1!$A$1:$C$65512,3,FALSE)","v":310},null,null,"No info","линк","https://bg.toolsworld.com/search/?query=","https://bg.toolsworld.com/search/?query=13370"]
[13374,"Csavarhúzó készlet, CrV, 3 komponensű nyél, 6 db.// Сибртех",3651,"B","Active",{"$f":"VLOOKUP(A172,[1]Sheet1!$A$1:$C$65512,3,FALSE)","v":{"$error":"#N/A"}},null,null,"No info","линк","https://bg.toolsworld.com/search/?query=","https://bg.toolsworld.com/search/?query=13374"]
[13377,"Kombinált csavarhúzó SL5/PH SL6/PH2// Сибртех",1436,"B","Active",{"$f":"VLOOKUP(A173,[1]Sheet1!$A$1:$C$65512,3,FALSE)","v":15},null,null,"No info","линк","https://bg.toolsworld.com/search/?query=","https://bg.toolsworld.com/search/?query=13377"]
[13378,"Többcélú csvarhúzó készlet precízoós munkákhoz 8 db.// SIBRTEH",1757,"B","Active",{"$f":"VLOOKUP(A174,[1]Sheet1!$A$1:$C$65512,3,FALSE)","v":3},null,null,"No info","линк","https://bg.toolsworld.com/search/?query=","https://bg.toolsworld.com/search/?query=13378"]
[13384,"Screwdriver with interchangeable blades, 5 pcs., CrV// SIBRTEH",1533,"B","Active",{"$f":"VLOOKUP(A175,[1]Sheet1!$A$1:$C$65512,3,FALSE)","v":" "},null,null,"No info","линк","https://bg.toolsworld.com/search/?query=","https://bg.toolsworld.com/search/?query=13384"]
[13534,"Szerszámkészlet 25db // SPARTA",3124,"B","Active",{"$f":"VLOOKUP(A176,[1]Sheet1!$A$1:$C$65512,3,FALSE)","v":{"$error":"#N/A"}},null,null,"No info","линк","https://bg.toolsworld.com/search/?query=","https://bg.toolsworld.com/search/?query=13534"]
[13535,"Szerszámkészlet 29db  // SPARTA",4028,"B","Active",{"$f":"VLOOKUP(A177,[1]Sheet1!$A$1:$C$65512,3,FALSE)","v":18},null,null,"No info","линк","https://bg.toolsworld.com/search/?query=","https://bg.toolsworld.com/search/?query=13535"]
[13537,"Szerszámkészlet, 21 db// SPARTA",3268,"B","Active",{"$f":"VLOOKUP(A178,[1]Sheet1!$A$1:$C$65512,3,FALSE)","v":{"$error":"#N/A"}},null,null,"No info","линк","https://bg.toolsworld.com/search/?query=","https://bg.toolsworld.com/search/?query=13537"]
[13540,"Szerszámkészlet, 6 db //SPARTA",3839,"B","Active",{"$f":"VLOOKUP(A179,[1]Sheet1!$A$1:$C$65512,3,FALSE)","v":{"$error":"#N/A"}},null,null,"No info","линк","https://bg.toolsworld.com/search/?query=","https://bg.toolsworld.com/search/?query=13540"]
[13541,"Szerszámkészlet, 37 db// SPARTA",3193,"B","Active",{"$f":"VLOOKUP(A180,[1]Sheet1!$A$1:$C$65512,3,FALSE)","v":1015},null,null,"No info","линк","https://bg.toolsworld.com/search/?query=","https://bg.toolsworld.com/search/?query=13541"]
[13545,"3 db-os fogókészlet ¹2 (fogó, oldalcsípofogó, csokulcs fogó)//SPARTA",2574,"B","Active",{"$f":"VLOOKUP(A181,[1]Sheet1!$A$1:$C$65512,3,FALSE)","v":118},null,null,"No info","линк","https://bg.toolsworld.com/search/?query=","https://bg.toolsworld.com/search/?query=13545"]
[13546,"Szerszámkészlet, 19 db// SPARTA",3217,"B","Active",{"$f":"VLOOKUP(A182,[1]Sheet1!$A$1:$C$65512,3,FALSE)","v":72},null,null,"No info","линк","https://bg.toolsworld.com/search/?query=","https://bg.toolsworld.com/search/?query=13546"]
[13573,"DUGÓFEJ set with ratchet wrench, 1/4\", 18 pcs.// Stels",10846,"B","Active",{"$f":"VLOOKUP(A183,[1]Sheet1!$A$1:$C$65512,3,FALSE)","v":3},null,null,"No info","линк","https://bg.toolsworld.com/search/?query=","https://bg.toolsworld.com/search/?query=13573"]
[13574,"DUGÓFEJ set with ratchet wrench, 1/4\", 26 pcs.// Stels",11797,"B","Active",{"$f":"VLOOKUP(A184,[1]Sheet1!$A$1:$C$65512,3,FALSE)","v":{"$error":"#N/A"}},null,null,"No info","линк","https://bg.toolsworld.com/search/?query=","https://bg.toolsworld.com/search/?query=13574"]
[13575,"DUGÓFEJ set with ratchet wrench, 1/4\" and 3/8\", 26 pcs.// Stels",21203,"B","Active",{"$f":"VLOOKUP(A185,[1]Sheet1!$A$1:$C$65512,3,FALSE)","v":25},null,null,"No info","линк","https://bg.toolsworld.com/search/?query=","https://bg.toolsworld.com/search/?query=13575"]
[13576,"DUGÓFEJ set with ratchet wrench, 1/2\" and 1/4\", 68 pcs.// Stels",28517,"B","Active",{"$f":"VLOOKUP(A186,[1]Sheet1!$A$1:$C$65512,3,FALSE)","v":4},null,null,"No info","линк","https://bg.toolsworld.com/search/?query=","https://bg.toolsworld.com/search/?query=13576"]
[13577,"DUGÓFEJ set, 1/2\", sockets 10-24 mm, with ratchet wrench, 12 pcs.// Stels",13412,"B","Active",{"$f":"VLOOKUP(A187,[1]Sheet1!$A$1:$C$65512,3,FALSE)","v":{"$error":"#N/A"}},null,null,"No info","линк","https://bg.toolsworld.com/search/?query=","https://bg.toolsworld.com/search/?query=13577"]
[13600,"1/2\" socket set, hexagonal, CrV, 10pcs., 10-22 mm// Stels",4201,"B","Active",{"$f":"VLOOKUP(A188,[1]Sheet1!$A$1:$C$65512,3,FALSE)","v":{"$error":"#N/A"}},null,null,"No info","линк","https://bg.toolsworld.com/search/?query=","https://bg.toolsworld.com/search/?query=13600"]
[13601,"3/8\" socket set, hexagonal, CrV, 10pcs., 8-19 mm// Stels",3158,"B","Active",{"$f":"VLOOKUP(A189,[1]Sheet1!$A$1:$C$65512,3,FALSE)","v":22},null,null,"No info","линк","https://bg.toolsworld.com/search/?query=","https://bg.toolsworld.com/search/?query=13601"]
[13602,"1/4\" socket set, hexagonal, CrV, 10pcs., 4-13 mm// Stels",2118,"B","Active",{"$f":"VLOOKUP(A190,[1]Sheet1!$A$1:$C$65512,3,FALSE)","v":{"$error":"#N/A"}},null,null,"No info","линк","https://bg.toolsworld.com/search/?query=","https://bg.toolsworld.com/search/?query=13602"]
[13603,"1/2\" deep socket set, hexagonal, CrV, 10 pcs., 10-22 mm// Stels",6899,"B","Active",{"$f":"VLOOKUP(A191,[1]Sheet1!$A$1:$C$65512,3,FALSE)","v":2},null,null,"No info","линк","https://bg.toolsworld.com/search/?query=","https://bg.toolsworld.com/search/?query=13603"]
[13604,"3/8\" deep socket set, hexagonal, CrV, 10 pcs., 8-19 mm// Stels",4922,"B","Active",{"$f":"VLOOKUP(A192,[1]Sheet1!$A$1:$C$65512,3,FALSE)","v":57},null,null,"No info","линк","https://bg.toolsworld.com/search/?query=","https://bg.toolsworld.com/search/?query=13604"]
[13605,"1/4\" deep socket set, hexagonal, CrV, 10 pcs., 4-13 mm// Stels",3277,"B","Active",{"$f":"VLOOKUP(A193,[1]Sheet1!$A$1:$C$65512,3,FALSE)","v":{"$error":"#N/A"}},null,null,"No info","линк","https://bg.toolsworld.com/search/?query=","https://bg.toolsworld.com/search/?query=13605"]
[13606,"DUGÓFEJ set., 1/4\", 12 lapos, CrV, 10 pcs., 4-13 mm// Stels",2739,"B","Active",{"$f":"VLOOKUP(A194,[1]Sheet1!$A$1:$C$65512,3,FALSE)","v":{"$error":"#N/A"}},null,null,"No info","линк","https://bg.toolsworld.com/search/?query=","https://bg.toolsworld.com/search/?query=13606"]
[13607,"DUGÓFEJ set., 3/8\", 12 lapos, CrV, 10 pcs., 9-19 mm// Stels",3698,"B","Active",{"$f":"VLOOKUP(A195,[1]Sheet1!$A$1:$C$65512,3,FALSE)","v":31},null,null,"No info","линк","https://bg.toolsworld.com/search/?query=","https://bg.toolsworld.com/search/?query=13607"]
[13638,"DUGÓFEJ set., 1/2\", 12 lapos, CrV, 10 pcs., 10-24 mm// Stels",4763,"B","Active",{"$f":"VLOOKUP(A196,[1]Sheet1!$A$1:$C$65512,3,FALSE)","v":27},null,null,"No info",{"$f":"HYPERLINK(L196,\"линк\")","v":"линк"},"https://bg.toolsworld.com/search/?query=",{"$f":"CONCATENATE(K196,A196)","v":"https://bg.toolsworld.com/search/?query=13638"}]
[13639,"Universal DUGÓFEJ set., 3/8\",Spline, CrV, 10 pcs., 8-19 mm// Stels",2649,"B","Active",{"$f":"VLOOKUP(A197,[1]Sheet1!$A$1:$C$65512,3,FALSE)","v":{"$error":"#N/A"}},null,null,"No info","линк","https://bg.toolsworld.com/search/?query=","https://bg.toolsworld.com/search/?query=13639"]
[13641,"Universal DUGÓFEJ set., 1/2\",Spline, CrV, 10 pcs., 10-22 mm// Stels",3409,"B","Active",{"$f":"VLOOKUP(A198,[1]Sheet1!$A$1:$C$65512,3,FALSE)","v":{"$error":"#N/A"}},null,null,"No info","линк","https://bg.toolsworld.com/search/?query=","https://bg.toolsworld.com/search/?query=13641"]
[13643,"Universal DUGÓFEJ set., 1/4\",Spline, CrV, 10 pcs., 4-13 mm// Stels",1882,"B","Active",{"$f":"VLOOKUP(A199,[1]Sheet1!$A$1:$C$65512,3,FALSE)","v":{"$error":"#N/A"}},null,null,"No info","линк","https://bg.toolsworld.com/search/?query=","https://bg.toolsworld.com/search/?query=13643"]
[13647,"DUGÓFEJ, 8 mm, 12 lapos, CrV, for 1/2\" csatlakozó négyzet, krómozott// Stels",267,"B","Active",{"$f":"VLOOKUP(A200,[1]Sheet1!$A$1:$C$65512,3,FALSE)","v":22},null,null,"No info","линк","https://bg.toolsworld.com/search/?query=","https://bg.toolsworld.com/search/?query=13647"]
[13649,"DUGÓFEJ, 9 mm, 12 lapos, CrV, for 1/2\" csatlakozó négyzet, krómozott// Stels",267,"B","Active",{"$f":"VLOOKUP(A201,[1]Sheet1!$A$1:$C$65512,3,FALSE)","v":131},null,null,"No info","линк","https://bg.toolsworld.com/search/?query=","https://bg.toolsworld.com/search/?query=13649"]
[13651,"DUGÓFEJ, 10 mm, 12 lapos, CrV, for 1/2\" csatlakozó négyzet, krómozott// Stels",267,"B","Active",{"$f":"VLOOKUP(A202,[1]Sheet1!$A$1:$C$65512,3,FALSE)","v":{"$error":"#N/A"}},null,null,"No info","линк","https://bg.toolsworld.com/search/?query=","https://bg.toolsworld.com/search/?query=13651"]
[13655,"DUGÓFEJ, 12 mm, 12 lapos, CrV, for 1/2\" csatlakozó négyzet, krómozott// Stels",267,"B","Active",{"$f":"VLOOKUP(A203,[1]Sheet1!$A$1:$C$65512,3,FALSE)","v":39},null,null,"No info","линк","https://bg.toolsworld.com/search/?query=","https://bg.toolsworld.com/search/?query=13655"]
[13657,"DUGÓFEJ, 13 mm, 12 lapos, CrV, for 1/2\" csatlakozó négyzet, krómozott// Stels",267,"B","Active",{"$f":"VLOOKUP(A204,[1]Sheet1!$A$1:$C$65512,3,FALSE)","v":{"$error":"#N/A"}},null,null,"No info","линк","https://bg.toolsworld.com/search/?query=","https://bg.toolsworld.com/search/?query=13657"]
[13659,"DUGÓFEJ, 14 mm, 12 lapos, CrV, for 1/2\" csatlakozó négyzet, krómozott// Stels",267,"B","Active",{"$f":"VLOOKUP(A205,[1]Sheet1!$A$1:$C$65512,3,FALSE)","v":19},null,null,"No info","линк","https://bg.toolsworld.com/search/?query=","https://bg.toolsworld.com/search/?query=13659"]
[13660,"DUGÓFEJ, 15 mm, 12 lapos, CrV, for 1/2\" csatlakozó négyzet, krómozott// Stels",267,"B","Active",{"$f":"VLOOKUP(A206,[1]Sheet1!$A$1:$C$65512,3,FALSE)","v":97},null,null,"No info","линк","https://bg.toolsworld.com/search/?query=","https://bg.toolsworld.com/search/?query=13660"]
[13662,"DUGÓFEJ, 17 mm, 12 lapos, CrV, for 1/2\" csatlakozó négyzet, krómozott// Stels",312,"B","Active",{"$f":"VLOOKUP(A207,[1]Sheet1!$A$1:$C$65512,3,FALSE)","v":{"$error":"#N/A"}},null,null,"No info","линк","https://bg.toolsworld.com/search/?query=","https://bg.toolsworld.com/search/?query=13662"]
[13665,"DUGÓFEJ, 19 mm, 12 lapos, CrV, for 1/2\" csatlakozó négyzet, krómozott// Stels",358,"B","Active",{"$f":"VLOOKUP(A208,[1]Sheet1!$A$1:$C$65512,3,FALSE)","v":{"$error":"#N/A"}},null,null,"No info","линк","https://bg.toolsworld.com/search/?query=","https://bg.toolsworld.com/search/?query=13665"]
[13668,"DUGÓFEJ, 22 mm, 12 lapos, CrV, for 1/2\" csatlakozó négyzet, krómozott// Stels",442,"B","Active",{"$f":"VLOOKUP(A209,[1]Sheet1!$A$1:$C$65512,3,FALSE)","v":89},null,null,"No info","линк","https://bg.toolsworld.com/search/?query=","https://bg.toolsworld.com/search/?query=13668"]
[13669,"DUGÓFEJ, 24 mm, 12 lapos, CrV, for 1/2\" csatlakozó négyzet, krómozott// Stels",487,"B","Active",{"$f":"VLOOKUP(A210,[1]Sheet1!$A$1:$C$65512,3,FALSE)","v":{"$error":"#N/A"}},null,null,"No info","линк","https://bg.toolsworld.com/search/?query=","https://bg.toolsworld.com/search/?query=13669"]
[13671,"DUGÓFEJ, 27 mm, 12 lapos, CrV, for 1/2\" csatlakozó négyzet, krómozott// Stels",656,"B","Active",{"$f":"VLOOKUP(A211,[1]Sheet1!$A$1:$C$65512,3,FALSE)","v":7},null,null,"No info","линк","https://bg.toolsworld.com/search/?query=","https://bg.toolsworld.com/search/?query=13671"]
[13673,"DUGÓFEJ, 30 mm, 12 lapos, CrV, for 1/2\" csatlakozó négyzet, krómozott// Stels",823,"B","Active",{"$f":"VLOOKUP(A212,[1]Sheet1!$A$1:$C$65512,3,FALSE)","v":82},null,null,"No info","линк","https://bg.toolsworld.com/search/?query=","https://bg.toolsworld.com/search/?query=13673"]
[13674,"DUGÓFEJ, 32 mm, 12 lapos, CrV, for 1/2\" csatlakozó négyzet, krómozott// Stels",870,"B","Active",{"$f":"VLOOKUP(A213,[1]Sheet1!$A$1:$C$65512,3,FALSE)","v":74},null,null,"No info","линк","https://bg.toolsworld.com/search/?query=","https://bg.toolsworld.com/search/?query=13674"]
[13722,"Gyújtógyertya csőkulcs 16x280 mm// Stels",920,"B","Active",{"$f":"VLOOKUP(A214,[1]Sheet1!$A$1:$C$65512,3,FALSE)","v":82},null,null,"No info","линк","https://bg.toolsworld.com/search/?query=","https://bg.toolsworld.com/search/?query=13722"]
[13801,"Csavarfej- T8  1/4\"DR // STELS",169,"B","Active",{"$f":"VLOOKUP(A215,[1]Sheet1!$A$1:$C$65512,3,FALSE)","v":363},null,null,"No info","линк","https://bg.toolsworld.com/search/?query=","https://bg.toolsworld.com/search/?query=13801"]
[13802,"1/4\"DR Bit Socket- T10// Stels",169,"B","Active",{"$f":"VLOOKUP(A216,[1]Sheet1!$A$1:$C$65512,3,FALSE)","v":158},null,null,"No info","линк","https://bg.toolsworld.com/search/?query=","https://bg.toolsworld.com/search/?query=13802"]
[13803,"Csavarfej- T15  1/4\"DR // STELS",169,"B","Active",{"$f":"VLOOKUP(A217,[1]Sheet1!$A$1:$C$65512,3,FALSE)","v":{"$error":"#N/A"}},null,null,"No info","линк","https://bg.toolsworld.com/search/?query=","https://bg.toolsworld.com/search/?query=13803"]
[13804,"1/4\"DR Bit Socket- T20// Stels",169,"B","Active",{"$f":"VLOOKUP(A218,[1]Sheet1!$A$1:$C$65512,3,FALSE)","v":{"$error":"#N/A"}},null,null,"No info","линк","https://bg.toolsworld.com/search/?query=","https://bg.toolsworld.com/search/?query=13804"]
[13805,"Csavarfej- T25 1/4\"DR // STELS",169,"B","Active",{"$f":"VLOOKUP(A219,[1]Sheet1!$A$1:$C$65512,3,FALSE)","v":517},null,null,"No info","линк","https://bg.toolsworld.com/search/?query=","https://bg.toolsworld.com/search/?query=13805"]
[13806,"Csavarfej- T30  1/4\"DR // STELS",169,"B","Active",{"$f":"VLOOKUP(A220,[1]Sheet1!$A$1:$C$65512,3,FALSE)","v":215},null,null,"No info","линк","https://bg.toolsworld.com/search/?query=","https://bg.toolsworld.com/search/?query=13806"]
[13807,"Csavarfej- SL4  1/4\"DR // STELS",169,"B","Active",{"$f":"VLOOKUP(A221,[1]Sheet1!$A$1:$C$65512,3,FALSE)","v":118},null,null,"No info","линк","https://bg.toolsworld.com/search/?query=","https://bg.toolsworld.com/search/?query=13807"]
[13808,"Csavarfej- SL5.5  1/4\"DR // STELS",169,"B","Active",{"$f":"VLOOKUP(A222,[1]Sheet1!$A$1:$C$65512,3,FALSE)","v":38},null,null,"No info","линк","https://bg.toolsworld.com/search/?query=","https://bg.toolsworld.com/search/?query=13808"]
[13809,"Csavarfej- SL7  1/4\"DR // STELS",169,"B","Active",{"$f":"VLOOKUP(A223,[1]Sheet1!$A$1:$C$65512,3,FALSE)","v":447},null,null,"No info","линк","https://bg.toolsworld.com/search/?query=","https://bg.toolsworld.com/search/?query=13809"]
[13810,"Csavarfej- H3  1/4\"DR // STELS",169,"B","Active",{"$f":"VLOOKUP(A224,[1]Sheet1!$A$1:$C$65512,3,FALSE)","v":272},null,null,"No info","линк","https://bg.toolsworld.com/search/?query=","https://bg.toolsworld.com/search/?query=13810"]
[13811,"Csavarfej- H4  1/4\"DR // STELS",169,"B","Active",{"$f":"VLOOKUP(A225,[1]Sheet1!$A$1:$C$65512,3,FALSE)","v":9},null,null,"No info","линк","https://bg.toolsworld.com/search/?query=","https://bg.toolsworld.com/search/?query=13811"]
[13812,"Csavarfej- H5  1/4\"DR // STELS",174,"B","Active",{"$f":"VLOOKUP(A226,[1]Sheet1!$A$1:$C$65512,3,FALSE)","v":{"$error":"#N/A"}},null,null,"No info","линк","https://bg.toolsworld.com/search/?query=","https://bg.toolsworld.com/search/?query=13812"]
[13813,"Csavarfej- H6 1/4\"DR // STELS",169,"B","Active",{"$f":"VLOOKUP(A227,[1]Sheet1!$A$1:$C$65512,3,FALSE)","v":{"$error":"#N/A"}},null,null,"No info","линк","https://bg.toolsworld.com/search/?query=","https://bg.toolsworld.com/search/?query=13813"]
[13814,"Csavarfej- PZ1  1/4\"DR // STELS",169,"B","Active",{"$f":"VLOOKUP(A228,[1]Sheet1!$A$1:$C$65512,3,FALSE)","v":41},null,null,"No info","линк","https://bg.toolsworld.com/search/?query=","https://bg.toolsworld.com/search/?query=13814"]
[13815,"1/4\"DR Bit Socket- PZ2// Stels",169,"B","Active",{"$f":"VLOOKUP(A229,[1]Sheet1!$A$1:$C$65512,3,FALSE)","v":445},null,null,"No info","линк","https://bg.toolsworld.com/search/?query=","https://bg.toolsworld.com/search/?query=13815"]
[13816,"Csavarfej- PH1  1/4\"DR // STELS",169,"B","Active",{"$f":"VLOOKUP(A230,[1]Sheet1!$A$1:$C$65512,3,FALSE)","v":208},null,null,"No info","линк","https://bg.toolsworld.com/search/?query=","https://bg.toolsworld.com/search/?query=13816"]
[13817,"1/4\"DR Bit Socket- PH2// Stels",0,"B","Active",{"$f":"VLOOKUP(A231,[1]Sheet1!$A$1:$C$65512,3,FALSE)","v":{"$error":"#N/A"}},null,null,"No info","линк","https://bg.toolsworld.com/search/?query=","https://bg.toolsworld.com/search/?query=13817"]
[13841,"Gyújtógyertya fogó,  forgatható 16x250mm// STELS",1373,"B","Active",{"$f":"VLOOKUP(A232,[1]Sheet1!$A$1:$C$65512,3,FALSE)","v":246},null,null,"No info","линк","https://bg.toolsworld.com/search/?query=","https://bg.toolsworld.com/search/?query=13841"]
[13842,"Gyújtógyertya-kulcs, kardánnal 16х500 mm //STELS",1566,"B","Active",{"$f":"VLOOKUP(A233,[1]Sheet1!$A$1:$C$65512,3,FALSE)","v":{"$error":"#N/A"}},null,null,"No info","линк","https://bg.toolsworld.com/search/?query=","https://bg.toolsworld.com/search/?query=13842"]
[13843,"Gyújtógyertya fogó,  forgatható 21x250mm// STELS",1409,"B","Active",{"$f":"VLOOKUP(A234,[1]Sheet1!$A$1:$C$65512,3,FALSE)","v":311},null,null,"No info","линк","https://bg.toolsworld.com/search/?query=","https://bg.toolsworld.com/search/?query=13843"]
[13844,"Gyújtógyertya-kulcs, kardánnal 21х500 mm //STELS",1564,"B","Active",{"$f":"VLOOKUP(A235,[1]Sheet1!$A$1:$C$65512,3,FALSE)","v":{"$error":"#N/A"}},null,null,"No info","линк","https://bg.toolsworld.com/search/?query=","https://bg.toolsworld.com/search/?query=13844"]
[13863,"DUGÓFEJ 1/4\", E4, CrV// Stels",136,"B","Active",{"$f":"VLOOKUP(A236,[1]Sheet1!$A$1:$C$65512,3,FALSE)","v":390},null,null,"No info","линк","https://bg.toolsworld.com/search/?query=","https://bg.toolsworld.com/search/?query=13863"]
[13864,"DUGÓFEJ 1/4\", E5, CrV// Stels",136,"B","Active",{"$f":"VLOOKUP(A237,[1]Sheet1!$A$1:$C$65512,3,FALSE)","v":378},null,null,"No info","линк","https://bg.toolsworld.com/search/?query=","https://bg.toolsworld.com/search/?query=13864"]
[13865,"DUGÓFEJ 1/4\", E6, CrV// Stels",136,"B","Active",{"$f":"VLOOKUP(A238,[1]Sheet1!$A$1:$C$65512,3,FALSE)","v":301},null,null,"No info","линк","https://bg.toolsworld.com/search/?query=","https://bg.toolsworld.com/search/?query=13865"]
[13866,"DUGÓFEJ 1/4\", E7, CrV// Stels",136,"B","Active",{"$f":"VLOOKUP(A239,[1]Sheet1!$A$1:$C$65512,3,FALSE)","v":315},null,null,"No info","линк","https://bg.toolsworld.com/search/?query=","https://bg.toolsworld.com/search/?query=13866"]
[13867,"DUGÓFEJ 1/4\", E8, CrV// Stels",136,"B","Active",{"$f":"VLOOKUP(A240,[1]Sheet1!$A$1:$C$65512,3,FALSE)","v":197},null,null,"No info","линк","https://bg.toolsworld.com/search/?query=","https://bg.toolsworld.com/search/?query=13867"]
[13900,"Hatlapú dugófej, 8 mm, 1/2\", CrMo// Stels",686,"B","Active",{"$f":"VLOOKUP(A241,[1]Sheet1!$A$1:$C$65512,3,FALSE)","v":4},null,null,"No info","линк","https://bg.toolsworld.com/search/?query=","https://bg.toolsworld.com/search/?query=13900"]
[13901,"Átalakító 3/8\"(F)-1/4\"(M)// STELS",271,"B","Active",{"$f":"VLOOKUP(A242,[1]Sheet1!$A$1:$C$65512,3,FALSE)","v":371},null,null,"No info","линк","https://bg.toolsworld.com/search/?query=","https://bg.toolsworld.com/search/?query=13901"]
[13902,"Hosszabbító rúd, 50 mm, 1/4\", CrV // Stels",354,"B","Active",{"$f":"VLOOKUP(A243,[1]Sheet1!$A$1:$C$65512,3,FALSE)","v":1178},null,null,"No info","линк","https://bg.toolsworld.com/search/?query=","https://bg.toolsworld.com/search/?query=13902"]
[13903,"Hosszabbító rúd, 150 mm, 1/4\", CrV // Stels",540,"B","Active",{"$f":"VLOOKUP(A244,[1]Sheet1!$A$1:$C$65512,3,FALSE)","v":300},null,null,"No info","линк","https://bg.toolsworld.com/search/?query=","https://bg.toolsworld.com/search/?query=13903"]
[13908,"Hosszabbító rúd 250mm 1/2\"DR// Stels",2152,"B","Active",{"$f":"VLOOKUP(A245,[1]Sheet1!$A$1:$C$65512,3,FALSE)","v":238},null,null,"No info","линк","https://bg.toolsworld.com/search/?query=","https://bg.toolsworld.com/search/?query=13908"]
[13909,"Rugalmas nyél 150mm  1/4\"DR // STELS",1034,"B","Active",{"$f":"VLOOKUP(A246,[1]Sheet1!$A$1:$C$65512,3,FALSE)","v":364},null,null,"No info","линк","https://bg.toolsworld.com/search/?query=","https://bg.toolsworld.com/search/?query=13909"]
[13913,"Hatlapú dugófej, 9 mm, 1/2\", CrMo// Stels",686,"B","Active",{"$f":"VLOOKUP(A247,[1]Sheet1!$A$1:$C$65512,3,FALSE)","v":36},null,null,"No info","линк","https://bg.toolsworld.com/search/?query=","https://bg.toolsworld.com/search/?query=13913"]
[13914,"Hatlapú dugófej, 10 mm, 1/2\", CrMo// Stels",686,"B","Active",{"$f":"VLOOKUP(A248,[1]Sheet1!$A$1:$C$65512,3,FALSE)","v":211},null,null,"No info","линк","https://bg.toolsworld.com/search/?query=","https://bg.toolsworld.com/search/?query=13914"]
[13915,"Hatlapú dugófej, 11 mm, 1/2\", CrMo// Stels",686,"B","Active",{"$f":"VLOOKUP(A249,[1]Sheet1!$A$1:$C$65512,3,FALSE)","v":22},null,null,"No info","линк","https://bg.toolsworld.com/search/?query=","https://bg.toolsworld.com/search/?query=13915"]
[13916,"Hatlapú dugófej, 12 mm, 1/2\", CrMo// Stels",686,"B","Active",{"$f":"VLOOKUP(A250,[1]Sheet1!$A$1:$C$65512,3,FALSE)","v":20},null,null,"No info","линк","https://bg.toolsworld.com/search/?query=","https://bg.toolsworld.com/search/?query=13916"]
[13917,"Hatlapú dugófej, 13 mm, 1/2\", CrMo// Stels",686,"B","Active",{"$f":"VLOOKUP(A251,[1]Sheet1!$A$1:$C$65512,3,FALSE)","v":{"$error":"#N/A"}},null,null,"No info","линк","https://bg.toolsworld.com/search/?query=","https://bg.toolsworld.com/search/?query=13917"]
[13918,"Hatlapú dugófej, 14 mm, 1/2\", CrMo// Stels",686,"B","Active",{"$f":"VLOOKUP(A252,[1]Sheet1!$A$1:$C$65512,3,FALSE)","v":10},null,null,"No info","линк","https://bg.toolsworld.com/search/?query=","https://bg.toolsworld.com/search/?query=13918"]
[13919,"Hatlapú dugófej, 15 mm, 1/2\", CrMo// Stels",859,"B","Active",{"$f":"VLOOKUP(A253,[1]Sheet1!$A$1:$C$65512,3,FALSE)","v":{"$error":"#N/A"}},null,null,"No info","линк","https://bg.toolsworld.com/search/?query=","https://bg.toolsworld.com/search/?query=13919"]
[13921,"Hatlapú dugófej, 16 mm, 1/2\", CrMo// Stels",859,"B","Active",{"$f":"VLOOKUP(A254,[1]Sheet1!$A$1:$C$65512,3,FALSE)","v":124},null,null,"No info","линк","https://bg.toolsworld.com/search/?query=","https://bg.toolsworld.com/search/?query=13921"]
[13923,"Hatlapú dugófej, 18 mm, 1/2\", CrMo// Stels",0,"B","Active",{"$f":"VLOOKUP(A255,[1]Sheet1!$A$1:$C$65512,3,FALSE)","v":{"$error":"#N/A"}},null,null,"No info","линк","https://bg.toolsworld.com/search/?query=","https://bg.toolsworld.com/search/?query=13923"]
[13924,"Hatlapú dugófej, 19 mm, 1/2\", CrMo// Stels",961,"B","Active",{"$f":"VLOOKUP(A256,[1]Sheet1!$A$1:$C$65512,3,FALSE)","v":176},null,null,"No info","линк","https://bg.toolsworld.com/search/?query=","https://bg.toolsworld.com/search/?query=13924"]
[13925,"Hatlapú dugófej, 21 mm, 1/2\", CrMo// Stels",965,"B","Active",{"$f":"VLOOKUP(A257,[1]Sheet1!$A$1:$C$65512,3,FALSE)","v":{"$error":"#N/A"}},null,null,"No info","линк","https://bg.toolsworld.com/search/?query=","https://bg.toolsworld.com/search/?query=13925"]
[13926,"Hatlapú dugófej, 22 mm, 1/2\", CrMo// Stels",1169,"B","Active",{"$f":"VLOOKUP(A258,[1]Sheet1!$A$1:$C$65512,3,FALSE)","v":233},null,null,"No info","линк","https://bg.toolsworld.com/search/?query=","https://bg.toolsworld.com/search/?query=13926"]
[13927,"Hatlapú dugófej, 24 mm, 1/2\", CrMo// Stels",1395,"B","Active",{"$f":"VLOOKUP(A259,[1]Sheet1!$A$1:$C$65512,3,FALSE)","v":133},null,null,"No info","линк","https://bg.toolsworld.com/search/?query=","https://bg.toolsworld.com/search/?query=13927"]
[13928,"Hatlapú dugófej, 27 mm, 1/2\", CrMo// Stels",1651,"B","Active",{"$f":"VLOOKUP(A260,[1]Sheet1!$A$1:$C$65512,3,FALSE)","v":202},null,null,"No info",{"$f":"HYPERLINK(L260,\"линк\")","v":"линк"},"https://bg.toolsworld.com/search/?query=",{"$f":"CONCATENATE(K260,A260)","v":"https://bg.toolsworld.com/search/?query=13928"}]
[13929,"Hatlapú dugófej, 30 mm, 1/2\", CrMo// Stels",1992,"B","Active",{"$f":"VLOOKUP(A261,[1]Sheet1!$A$1:$C$65512,3,FALSE)","v":176},null,null,"No info","линк","https://bg.toolsworld.com/search/?query=","https://bg.toolsworld.com/search/?query=13929"]
[13930,"Hatlapú dugófej, 32 mm, 1/2\", CrMo// Stels",2108,"B","Active",{"$f":"VLOOKUP(A262,[1]Sheet1!$A$1:$C$65512,3,FALSE)","v":183},null,null,"No info","линк","https://bg.toolsworld.com/search/?query=","https://bg.toolsworld.com/search/?query=13930"]
[13931,"Hatlapú dugófej, 36 mm, 1/2\", CrMo// Stels",3285,"B","Active",{"$f":"VLOOKUP(A263,[1]Sheet1!$A$1:$C$65512,3,FALSE)","v":120},null,null,"No info","линк","https://bg.toolsworld.com/search/?query=","https://bg.toolsworld.com/search/?query=13931"]
[13932,"Hosszú Hatlapú dugófej, 8 mm, CrMo// Stels",1397,"B","Active",{"$f":"VLOOKUP(A264,[1]Sheet1!$A$1:$C$65512,3,FALSE)","v":56},null,null,"No info","линк","https://bg.toolsworld.com/search/?query=","https://bg.toolsworld.com/search/?query=13932"]
[13933,"Hosszú Hatlapú dugófej, 9 mm, CrMo// Stels",1397,"B","Active",{"$f":"VLOOKUP(A265,[1]Sheet1!$A$1:$C$65512,3,FALSE)","v":99},null,null,"No info","линк","https://bg.toolsworld.com/search/?query=","https://bg.toolsworld.com/search/?query=13933"]
[13934,"Hosszú Hatlapú dugófej, 10 mm, CrMo// Stels",1397,"B","Active",{"$f":"VLOOKUP(A266,[1]Sheet1!$A$1:$C$65512,3,FALSE)","v":{"$error":"#N/A"}},null,null,"No info","линк","https://bg.toolsworld.com/search/?query=","https://bg.toolsworld.com/search/?query=13934"]
[13935,"Hosszú Hatlapú dugófej, 11 mm, CrMo// Stels",1409,"B","Active",{"$f":"VLOOKUP(A267,[1]Sheet1!$A$1:$C$65512,3,FALSE)","v":84},null,null,"No info","линк","https://bg.toolsworld.com/search/?query=","https://bg.toolsworld.com/search/?query=13935"]
[13936,"Hosszú Hatlapú dugófej, 12 mm, CrMo// Stels",1409,"B","Active",{"$f":"VLOOKUP(A268,[1]Sheet1!$A$1:$C$65512,3,FALSE)","v":46},null,null,"No info","линк","https://bg.toolsworld.com/search/?query=","https://bg.toolsworld.com/search/?query=13936"]
[13941,"Hosszú Hatlapú dugófej, 14 mm, CrMo// Stels",1409,"B","Active",{"$f":"VLOOKUP(A269,[1]Sheet1!$A$1:$C$65512,3,FALSE)","v":7},null,null,"No info","линк","https://bg.toolsworld.com/search/?query=","https://bg.toolsworld.com/search/?query=13941"]
[13942,"Hosszú Hatlapú dugófej, 15 mm, 1/2\", CrMo// Stels",1937,"B","Active",{"$f":"VLOOKUP(A270,[1]Sheet1!$A$1:$C$65512,3,FALSE)","v":12},null,null,"No info","линк","https://bg.toolsworld.com/search/?query=","https://bg.toolsworld.com/search/?query=13942"]
[13943,"Hosszú Hatlapú dugófej, 16 mm, 1/2\", CrMo// Stels",1937,"B","Active",{"$f":"VLOOKUP(A271,[1]Sheet1!$A$1:$C$65512,3,FALSE)","v":{"$error":"#N/A"}},null,null,"No info","линк","https://bg.toolsworld.com/search/?query=","https://bg.toolsworld.com/search/?query=13943"]
[13945,"Hosszú Hatlapú dugófej, 18 mm, 1/2\", CrMo// Stels",1937,"B","Active",{"$f":"VLOOKUP(A272,[1]Sheet1!$A$1:$C$65512,3,FALSE)","v":7},null,null,"No info","линк","https://bg.toolsworld.com/search/?query=","https://bg.toolsworld.com/search/?query=13945"]
[13946,"Hosszú Hatlapú dugófej, 19 mm, 1/2\", CrMo// Stels",2014,"B","Active",{"$f":"VLOOKUP(A273,[1]Sheet1!$A$1:$C$65512,3,FALSE)","v":168},null,null,"No info","линк","https://bg.toolsworld.com/search/?query=","https://bg.toolsworld.com/search/?query=13946"]
[13947,"Hosszú Hatlapú dugófej, 21 mm, 1/2\", CrMo// Stels",2047,"B","Active",{"$f":"VLOOKUP(A274,[1]Sheet1!$A$1:$C$65512,3,FALSE)","v":68},null,null,"No info","линк","https://bg.toolsworld.com/search/?query=","https://bg.toolsworld.com/search/?query=13947"]
[13948,"Hosszú Hatlapú dugófej, 22 mm, 1/2\", CrMo// Stels",2055,"B","Active",{"$f":"VLOOKUP(A275,[1]Sheet1!$A$1:$C$65512,3,FALSE)","v":{"$error":"#N/A"}},null,null,"No info","линк","https://bg.toolsworld.com/search/?query=","https://bg.toolsworld.com/search/?query=13948"]
[13949,"Hosszú Hatlapú dugófej, 24 mm, 1/2\", CrMo// Stels",2401,"B","Active",{"$f":"VLOOKUP(A276,[1]Sheet1!$A$1:$C$65512,3,FALSE)","v":70},null,null,"No info","линк","https://bg.toolsworld.com/search/?query=","https://bg.toolsworld.com/search/?query=13949"]
[13950,"Hosszú Hatlapú dugófej, 27 mm, 1/2\", CrMo// Stels",2725,"B","Active",{"$f":"VLOOKUP(A277,[1]Sheet1!$A$1:$C$65512,3,FALSE)","v":164},null,null,"No info","линк","https://bg.toolsworld.com/search/?query=","https://bg.toolsworld.com/search/?query=13950"]
[13951,"Hosszú Hatlapú dugófej, 30 mm, 1/2\", CrMo// Stels",2975,"B","Active",{"$f":"VLOOKUP(A278,[1]Sheet1!$A$1:$C$65512,3,FALSE)","v":3},null,null,"No info","линк","https://bg.toolsworld.com/search/?query=","https://bg.toolsworld.com/search/?query=13951"]
[13952,"Hosszú Hatlapú dugófej, 32 mm, 1/2\", CrMo// Stels",3183,"B","Active",{"$f":"VLOOKUP(A279,[1]Sheet1!$A$1:$C$65512,3,FALSE)","v":46},null,null,"No info","линк","https://bg.toolsworld.com/search/?query=","https://bg.toolsworld.com/search/?query=13952"]
[13953,"Hosszú Hatlapú dugófej set for wheel discs (17, 19, 21 mm),1/2\", 3pcs.// Stels",9323,"B","Active",{"$f":"VLOOKUP(A280,[1]Sheet1!$A$1:$C$65512,3,FALSE)","v":389},null,null,"No info","линк","https://bg.toolsworld.com/search/?query=","https://bg.toolsworld.com/search/?query=13953"]
[13954,"Üthető Dugófej kerék tárcsákhoz 17 mm 1/2\"// Stels",2582,"B","Active",{"$f":"VLOOKUP(A281,[1]Sheet1!$A$1:$C$65512,3,FALSE)","v":112},null,null,"No info","линк","https://bg.toolsworld.com/search/?query=","https://bg.toolsworld.com/search/?query=13954"]
[13955,"Üthető Dugófej kerék tárcsákhoz 19 mm 1/2\"// Stels",2592,"B","Active",{"$f":"VLOOKUP(A282,[1]Sheet1!$A$1:$C$65512,3,FALSE)","v":277},null,null,"No info","линк","https://bg.toolsworld.com/search/?query=","https://bg.toolsworld.com/search/?query=13955"]
[13956,"Üthető Dugófej kerék tárcsákhoz 21 mm 1/2\"// Stels",2607,"B","Active",{"$f":"VLOOKUP(A283,[1]Sheet1!$A$1:$C$65512,3,FALSE)","v":190},null,null,"No info","линк","https://bg.toolsworld.com/search/?query=","https://bg.toolsworld.com/search/?query=13956"]
[13957,"Üthető Dugófej  TORX 30 1/2\"// Stels",1690,"B","Active",{"$f":"VLOOKUP(A284,[1]Sheet1!$A$1:$C$65512,3,FALSE)","v":{"$error":"#N/A"}},null,null,"No info","линк","https://bg.toolsworld.com/search/?query=","https://bg.toolsworld.com/search/?query=13957"]
[13958,"Üthető Dugófej  TORX 40 1/2\"// Stels",1690,"B","Active",{"$f":"VLOOKUP(A285,[1]Sheet1!$A$1:$C$65512,3,FALSE)","v":{"$error":"#N/A"}},null,null,"No info","линк","https://bg.toolsworld.com/search/?query=","https://bg.toolsworld.com/search/?query=13958"]
[13959,"Üthető Dugófej  TORX 45 1/2\"// Stels",1690,"B","Active",{"$f":"VLOOKUP(A286,[1]Sheet1!$A$1:$C$65512,3,FALSE)","v":{"$error":"#N/A"}},null,null,"No info","линк","https://bg.toolsworld.com/search/?query=","https://bg.toolsworld.com/search/?query=13959"]
[13965,"Üthető Dugófej  TORX 50 1/2\"// Stels",1690,"B","Active",{"$f":"VLOOKUP(A287,[1]Sheet1!$A$1:$C$65512,3,FALSE)","v":{"$error":"#N/A"}},null,null,"No info","линк","https://bg.toolsworld.com/search/?query=","https://bg.toolsworld.com/search/?query=13965"]
[13966,"Üthető Dugófej  TORX 55 1/2\"// Stels",1690,"B","Active",{"$f":"VLOOKUP(A288,[1]Sheet1!$A$1:$C$65512,3,FALSE)","v":211},null,null,"No info","линк","https://bg.toolsworld.com/search/?query=","https://bg.toolsworld.com/search/?query=13966"]
[13967,"Üthető Dugófej  TORX 60 1/2\"// Stels",1690,"B","Active",{"$f":"VLOOKUP(A289,[1]Sheet1!$A$1:$C$65512,3,FALSE)","v":51},null,null,"No info","линк","https://bg.toolsworld.com/search/?query=","https://bg.toolsworld.com/search/?query=13967"]
[13968,"Üthető Dugófej  TORX 70 1/2\"// Stels",1690,"B","Active",{"$f":"VLOOKUP(A290,[1]Sheet1!$A$1:$C$65512,3,FALSE)","v":124},null,null,"No info","линк","https://bg.toolsworld.com/search/?query=","https://bg.toolsworld.com/search/?query=13968"]
[13969,"Üthető Dugófej  TORX 80 1/2\"// Stels",1690,"B","Active",{"$f":"VLOOKUP(A291,[1]Sheet1!$A$1:$C$65512,3,FALSE)","v":47},null,null,"No info","линк","https://bg.toolsworld.com/search/?query=","https://bg.toolsworld.com/search/?query=13969"]
[13974,"Üthető Dugófej  TORX 100 1/2\"// Stels",1690,"B","Active",{"$f":"VLOOKUP(A292,[1]Sheet1!$A$1:$C$65512,3,FALSE)","v":298},null,null,"No info","линк","https://bg.toolsworld.com/search/?query=","https://bg.toolsworld.com/search/?query=13974"]
[13975,"Üthető hosszbító rúd 75 mm 1/2\"// Stels",1590,"B","Active",{"$f":"VLOOKUP(A293,[1]Sheet1!$A$1:$C$65512,3,FALSE)","v":105},null,null,"No info","линк","https://bg.toolsworld.com/search/?query=","https://bg.toolsworld.com/search/?query=13975"]
[13976,"Üthető hosszbító rúd 125 mm 1/2\"// Stels",1926,"B","Active",{"$f":"VLOOKUP(A294,[1]Sheet1!$A$1:$C$65512,3,FALSE)","v":36},null,null,"No info","линк","https://bg.toolsworld.com/search/?query=","https://bg.toolsworld.com/search/?query=13976"]
[13977,"Üthető hosszbító rúd 250 mm 1/2\"// Stels",2839,"B","Active",{"$f":"VLOOKUP(A295,[1]Sheet1!$A$1:$C$65512,3,FALSE)","v":24},null,null,"No info","линк","https://bg.toolsworld.com/search/?query=","https://bg.toolsworld.com/search/?query=13977"]
[13978,"Impact cardan 1/2\"// Stels",3780,"B","Active",{"$f":"VLOOKUP(A296,[1]Sheet1!$A$1:$C$65512,3,FALSE)","v":976},null,null,"No info","линк","https://bg.toolsworld.com/search/?query=","https://bg.toolsworld.com/search/?query=13978"]
[13996,"Impact adaptor F3/4 x M1/2// Stels",4077,"B","Active",{"$f":"VLOOKUP(A297,[1]Sheet1!$A$1:$C$65512,3,FALSE)","v":191},null,null,"No info","линк","https://bg.toolsworld.com/search/?query=","https://bg.toolsworld.com/search/?query=13996"]
[13997,"Hatlapú dugófej set 1/2\", 10-24 mm, 10 pcs.// Stels",13915,"B","Active",{"$f":"VLOOKUP(A298,[1]Sheet1!$A$1:$C$65512,3,FALSE)","v":67},null,null,"No info","линк","https://bg.toolsworld.com/search/?query=","https://bg.toolsworld.com/search/?query=13997"]
[13998,"Deep Üthető Dugófej  set 1/2\", 10-32 mm, with case, 12 pcs.// Stels",26758,"B","Active",{"$f":"VLOOKUP(A299,[1]Sheet1!$A$1:$C$65512,3,FALSE)","v":359},null,null,"No info","линк","https://bg.toolsworld.com/search/?query=","https://bg.toolsworld.com/search/?query=13998"]
[13999,"TORX Üthető Dugófej  set 1/2\", with case 8pcs.// Stels",18478,"B","Active",{"$f":"VLOOKUP(A300,[1]Sheet1!$A$1:$C$65512,3,FALSE)","v":48},null,null,"No info","линк","https://bg.toolsworld.com/search/?query=","https://bg.toolsworld.com/search/?query=13999"]
[14009,"Racsnis kulcs, kétkomponensű fogantyú 1/2\"// Сибртех",3173,"B","Active",{"$f":"VLOOKUP(A301,[1]Sheet1!$A$1:$C$65512,3,FALSE)","v":{"$error":"#N/A"}},null,null,"No info","линк","https://bg.toolsworld.com/search/?query=","https://bg.toolsworld.com/search/?query=14009"]
[14011,"T-rúd, 115mm 1/4\"DR// STELS",497,"B","Active",{"$f":"VLOOKUP(A302,[1]Sheet1!$A$1:$C$65512,3,FALSE)","v":150},null,null,"No info","линк","https://bg.toolsworld.com/search/?query=","https://bg.toolsworld.com/search/?query=14011"]
[14012,"Csavarhúzó nyél 150mm 1/4\"DR// STELS",843,"B","Active",{"$f":"VLOOKUP(A303,[1]Sheet1!$A$1:$C$65512,3,FALSE)","v":344},null,null,"No info","линк","https://bg.toolsworld.com/search/?query=","https://bg.toolsworld.com/search/?query=14012"]
[14025,"Racsni 1/4,72 fog,gyors kiengedés, CrV // STELS",3749,"B","Active",{"$f":"VLOOKUP(A304,[1]Sheet1!$A$1:$C$65512,3,FALSE)","v":80},null,null,"No info","линк","https://bg.toolsworld.com/search/?query=","https://bg.toolsworld.com/search/?query=14025"]
[14026,"Racsni 3/8,72 fog,gyors kiengedés, CrV// STELS",4726,"B","Active",{"$f":"VLOOKUP(A305,[1]Sheet1!$A$1:$C$65512,3,FALSE)","v":67},null,null,"No info","линк","https://bg.toolsworld.com/search/?query=","https://bg.toolsworld.com/search/?query=14026"]
[14027,"Racsni 1/2,72 fog,gyors kiengedés, CrV// STELS",5368,"B","Active",{"$f":"VLOOKUP(A306,[1]Sheet1!$A$1:$C$65512,3,FALSE)","v":225},null,null,"No info","линк","https://bg.toolsworld.com/search/?query=","https://bg.toolsworld.com/search/?query=14027"]
[14028,"Racsni 1/4,72 fog,gyors kiengedés, CrV, kétkomponensu nyél// STELS",3515,"B","Active",{"$f":"VLOOKUP(A307,[1]Sheet1!$A$1:$C$65512,3,FALSE)","v":69},null,null,"No info","линк","https://bg.toolsworld.com/search/?query=","https://bg.toolsworld.com/search/?query=14028"]
[14029,"Racsni 3/8,72 fog,gyors kiengedés, CrV, kétkomponensu nyél// STELS",4162,"B","Active",{"$f":"VLOOKUP(A308,[1]Sheet1!$A$1:$C$65512,3,FALSE)","v":56},null,null,"No info","линк","https://bg.toolsworld.com/search/?query=","https://bg.toolsworld.com/search/?query=14029"]
[14030,"Racsni 1/2,72 fog,gyors kiengedés, CrV, kétkomponensu nyél// STELS",5726,"B","Active",{"$f":"VLOOKUP(A309,[1]Sheet1!$A$1:$C$65512,3,FALSE)","v":92},null,null,"No info","линк","https://bg.toolsworld.com/search/?query=","https://bg.toolsworld.com/search/?query=14030"]
[14070,"Bovítheto racsni kulcs, 1/2\", 305-445mm, CrV, króm lemezzel, két komponensu nyél// GROSS",10261,"B","Active",{"$f":"VLOOKUP(A310,[1]Sheet1!$A$1:$C$65512,3,FALSE)","v":550},null,null,"No info","линк","https://bg.toolsworld.com/search/?query=","https://bg.toolsworld.com/search/?query=14070"]
[14072,"Bovítheto racsni kulcs, 3/8\", 215-315mm, CrV, króm lemezzel, két komponensu nyél// GROSS",7675,"B","Active",{"$f":"VLOOKUP(A311,[1]Sheet1!$A$1:$C$65512,3,FALSE)","v":130},null,null,"No info","линк","https://bg.toolsworld.com/search/?query=","https://bg.toolsworld.com/search/?query=14072"]
[14074,"Bovítheto racsni kulcs, 1/4\", 150-200mm, CrV, króm lemezzel, két komponensu nyél// GROSS",6264,"B","Active",{"$f":"VLOOKUP(A312,[1]Sheet1!$A$1:$C$65512,3,FALSE)","v":199},null,null,"No info","линк","https://bg.toolsworld.com/search/?query=","https://bg.toolsworld.com/search/?query=14074"]
[14082,"Racsni fogó, 1/2\", 72 foggal, gyors ereszték, két komponensu nyél",7249,"B","Active",{"$f":"VLOOKUP(A313,[1]Sheet1!$A$1:$C$65512,3,FALSE)","v":39},null,null,"No info","линк","https://bg.toolsworld.com/search/?query=","https://bg.toolsworld.com/search/?query=14082"]
[14084,"Racsni fogó, 3/8\", 72 foggal, gyors ereszték, két komponensu nyél",5832,"B","Active",{"$f":"VLOOKUP(A314,[1]Sheet1!$A$1:$C$65512,3,FALSE)","v":134},null,null,"No info","линк","https://bg.toolsworld.com/search/?query=","https://bg.toolsworld.com/search/?query=14084"]
[14086,"Racsni fogó, 1/4\", 72 foggal, gyors ereszték, két komponensu nyél",4757,"B","Active",{"$f":"VLOOKUP(A315,[1]Sheet1!$A$1:$C$65512,3,FALSE)","v":234},null,null,"No info","линк","https://bg.toolsworld.com/search/?query=","https://bg.toolsworld.com/search/?query=14086"]
[14099,"47 db-os szerszámkészlet, 1/4\" Cr-V, S2, eros tároló doboz// STELS",16228,"B","Active",{"$f":"VLOOKUP(A316,[1]Sheet1!$A$1:$C$65512,3,FALSE)","v":265},null,null,"No info","линк","https://bg.toolsworld.com/search/?query=","https://bg.toolsworld.com/search/?query=14099"]
[14100,"Szerszámkészlet 1/4\" muanyag dobozban 29 db // STELS",11444,"B","Active",{"$f":"VLOOKUP(A317,[1]Sheet1!$A$1:$C$65512,3,FALSE)","v":370},null,null,"No info","линк","https://bg.toolsworld.com/search/?query=","https://bg.toolsworld.com/search/?query=14100"]
[14101,"Szerszámkészlet 1/4\", CrV, muanyag dobozban 57 db // STELS",17319,"B","Active",{"$f":"VLOOKUP(A318,[1]Sheet1!$A$1:$C$65512,3,FALSE)","v":102},null,null,"No info","линк","https://bg.toolsworld.com/search/?query=","https://bg.toolsworld.com/search/?query=14101"]
[14102,"Szerszámkészlet  1/2\",CrV, muanyag dobozban 31 db // STELS",25780,"B","Active",{"$f":"VLOOKUP(A319,[1]Sheet1!$A$1:$C$65512,3,FALSE)","v":79},null,null,"No info","линк","https://bg.toolsworld.com/search/?query=","https://bg.toolsworld.com/search/?query=14102"]
[14103,"Szerszámkészlet  1/2\",CrV, muanyag dobozban 60 db // STELS",27530,"B","Active",{"$f":"VLOOKUP(A320,[1]Sheet1!$A$1:$C$65512,3,FALSE)","v":42},null,null,"No info","линк","https://bg.toolsworld.com/search/?query=","https://bg.toolsworld.com/search/?query=14103"]
[14104,"Szerszámkészlet, 1/2 \", 1/4\", CrV, muanyag doboz, 76 darab // STELS",48351,"B","Active",{"$f":"VLOOKUP(A321,[1]Sheet1!$A$1:$C$65512,3,FALSE)","v":18},null,null,"No info","линк","https://bg.toolsworld.com/search/?query=","https://bg.toolsworld.com/search/?query=14104"]
[14105,"Szerszámkészlet 1/4\", 1/2\" ,CrV,muanyag dobozban 82 db // STELS",39365,"B","Active",{"$f":"VLOOKUP(A322,[1]Sheet1!$A$1:$C$65512,3,FALSE)","v":239},null,null,"No info","линк","https://bg.toolsworld.com/search/?query=","https://bg.toolsworld.com/search/?query=14105"]
[14106,"Szerszámkészlet 1/4\", 1/2\" ,CrV,muanyag dobozban 94 db// STELS",42894,"B","Active",{"$f":"VLOOKUP(A323,[1]Sheet1!$A$1:$C$65512,3,FALSE)","v":381},null,null,"No info","линк","https://bg.toolsworld.com/search/?query=","https://bg.toolsworld.com/search/?query=14106"]
[14107,"Szerszámkészlet, 1/2\", 3/8\" 1/4\", CrV, Muanyag doboz, 142 db// STELS",85489,"B","Active",{"$f":"VLOOKUP(A324,[1]Sheet1!$A$1:$C$65512,3,FALSE)","v":41},null,null,"No info",{"$f":"HYPERLINK(L324,\"линк\")","v":"линк"},"https://bg.toolsworld.com/search/?query=",{"$f":"CONCATENATE(K324,A324)","v":"https://bg.toolsworld.com/search/?query=14107"}]
[14108,"Szerszámkészlet, 1/2\", 1/4\", CrV, Muanyag doboz, 69 db// STELS",37956,"B","Active",{"$f":"VLOOKUP(A325,[1]Sheet1!$A$1:$C$65512,3,FALSE)","v":17},null,null,"No info","линк","https://bg.toolsworld.com/search/?query=","https://bg.toolsworld.com/search/?query=14108"]
[14109,"Szerszámkészlet, 1/2\", 1/4\", CrV, Muanyag doboz, 88 db// STELS",40678,"B","Active",{"$f":"VLOOKUP(A326,[1]Sheet1!$A$1:$C$65512,3,FALSE)","v":106},null,null,"No info","линк","https://bg.toolsworld.com/search/?query=","https://bg.toolsworld.com/search/?query=14109"]
[14111,"Szerszámkészlet, 1/2\", 1/4\", CrV, Muanyag doboz, 98 db// STELS",67809,"B","Active",{"$f":"VLOOKUP(A327,[1]Sheet1!$A$1:$C$65512,3,FALSE)","v":35},null,null,"No info","линк","https://bg.toolsworld.com/search/?query=","https://bg.toolsworld.com/search/?query=14111"]
[14112,"Szerszámkészlet, 1/4\",  1/2\", Cr-V, S2, cutie armata, 119 db// STELS",83271,"B","Active",{"$f":"VLOOKUP(A328,[1]Sheet1!$A$1:$C$65512,3,FALSE)","v":71},null,null,"No info","линк","https://bg.toolsworld.com/search/?query=","https://bg.toolsworld.com/search/?query=14112"]
[14113,"Szerszámkészlet, 1/2\", Cr-V, S2, cutie armata, 58 db// STELS",47734,"B","Active",{"$f":"VLOOKUP(A329,[1]Sheet1!$A$1:$C$65512,3,FALSE)","v":189},null,null,"No info","линк","https://bg.toolsworld.com/search/?query=","https://bg.toolsworld.com/search/?query=14113"]
[14114,"Szerszámkészlet, 1/4\", 3/8\", 1/2\", Cr-V, S2, cutie armata, 151 db// STELS",67253,"B","Active",{"$f":"VLOOKUP(A330,[1]Sheet1!$A$1:$C$65512,3,FALSE)","v":22},null,null,"No info","линк","https://bg.toolsworld.com/search/?query=","https://bg.toolsworld.com/search/?query=14114"]
[14115,"Szerszámkészlet, 1/4\", 3/8\", 1/2\", Cr-V, S2, cutie armata, 216 db// STELS",90814,"B","Active",{"$f":"VLOOKUP(A331,[1]Sheet1!$A$1:$C$65512,3,FALSE)","v":70},null,null,"No info","линк","https://bg.toolsworld.com/search/?query=","https://bg.toolsworld.com/search/?query=14115"]
[14125,"Dugó fej készlet készlet 1/4\", cap 4 - 13 mm, Racsnival, CrV, 11 db// STELS",5791,"B","Active",{"$f":"VLOOKUP(A332,[1]Sheet1!$A$1:$C$65512,3,FALSE)","v":960},null,null,"No info","линк","https://bg.toolsworld.com/search/?query=","https://bg.toolsworld.com/search/?query=14125"]
[14127,"Dugó fej készlet készlet 1/2\", cap 10 - 22 mm, Racsnival, CrV, 11 db STELS",9589,"B","Active",{"$f":"VLOOKUP(A333,[1]Sheet1!$A$1:$C$65512,3,FALSE)","v":86},null,null,"No info","линк","https://bg.toolsworld.com/search/?query=","https://bg.toolsworld.com/search/?query=14127"]
[14141,"Meghajtó foglalat készlet, racsni fogantyú 120 fog, 12 db, 1/4\", CrV// Gross",10554,"B","Active",{"$f":"VLOOKUP(A334,[1]Sheet1!$A$1:$C$65512,3,FALSE)","v":166},null,null,"No info","линк","https://bg.toolsworld.com/search/?query=","https://bg.toolsworld.com/search/?query=14141"]
[14143,"Meghajtó foglalat készlet, racsni fogantyú 120 fog, 41 db, 1/2\", 1/4\", CrV// Gross",22488,"B","Active",{"$f":"VLOOKUP(A335,[1]Sheet1!$A$1:$C$65512,3,FALSE)","v":181},null,null,"No info","линк","https://bg.toolsworld.com/search/?query=","https://bg.toolsworld.com/search/?query=14143"]
[14144,"Meghajtó foglalat és bitkészlet racsnis fogantyúval 1/2\", 36 db.// Gross",24986,"B","Active",{"$f":"VLOOKUP(A336,[1]Sheet1!$A$1:$C$65512,3,FALSE)","v":190},null,null,"No info","линк","https://bg.toolsworld.com/search/?query=","https://bg.toolsworld.com/search/?query=14144"]
[14145,"Meghajtó foglalat készlet, racsni fogantyú 120 fog, 36 db, 1/2\", 3/8\", CrV// Gross",23268,"B","Active",{"$f":"VLOOKUP(A337,[1]Sheet1!$A$1:$C$65512,3,FALSE)","v":24},null,null,"No info","линк","https://bg.toolsworld.com/search/?query=","https://bg.toolsworld.com/search/?query=14145"]
[14146,"Szerszámkészlet, 42 db, 120 fog, CrV, 1/4\"// Gross",26379,"B","Active",{"$f":"VLOOKUP(A338,[1]Sheet1!$A$1:$C$65512,3,FALSE)","v":92},null,null,"No info","линк","https://bg.toolsworld.com/search/?query=","https://bg.toolsworld.com/search/?query=14146"]
[14148,"Szerszámkészlet, 78 db, 120 fog, CrV, 1/4\", 1/2\"// GROSS",92199,"B","Active",{"$f":"VLOOKUP(A339,[1]Sheet1!$A$1:$C$65512,3,FALSE)","v":112},null,null,"No info","линк","https://bg.toolsworld.com/search/?query=","https://bg.toolsworld.com/search/?query=14148"]
[14149,"Szerszámkészlet, 82 db, 120 fog, CrV, 1/4\", 1/2\"// GROSS",65712,"B","Active",{"$f":"VLOOKUP(A340,[1]Sheet1!$A$1:$C$65512,3,FALSE)","v":197},null,null,"No info","линк","https://bg.toolsworld.com/search/?query=","https://bg.toolsworld.com/search/?query=14149"]
[14155,"Szerszámkészlet, 109 db, 120 fog, CrV, 1/4\", 1/2\"// Gross",72837,"B","Active",{"$f":"VLOOKUP(A341,[1]Sheet1!$A$1:$C$65512,3,FALSE)","v":76},null,null,"No info","линк","https://bg.toolsworld.com/search/?query=","https://bg.toolsworld.com/search/?query=14155"]
[14156,"Szerszámkészlet, 76 db, 120 fog, CrV, 1/4\", 1/2\"// GROSS",77569,"B","Active",{"$f":"VLOOKUP(A342,[1]Sheet1!$A$1:$C$65512,3,FALSE)","v":6},null,null,"No info","линк","https://bg.toolsworld.com/search/?query=","https://bg.toolsworld.com/search/?query=14156"]
[14158,"Nyomatékkulcs, 5-24 Nm, 1/4\", CrV, krómozott// Stels",16900,"B","Active",{"$f":"VLOOKUP(A343,[1]Sheet1!$A$1:$C$65512,3,FALSE)","v":183},null,null,"No info","линк","https://bg.toolsworld.com/search/?query=","https://bg.toolsworld.com/search/?query=14158"]
[14210,"L type wrench 17mm// Stels",1393,"B","Active",{"$f":"VLOOKUP(A344,[1]Sheet1!$A$1:$C$65512,3,FALSE)","v":{"$error":"#N/A"}},null,null,"No info","линк","https://bg.toolsworld.com/search/?query=","https://bg.toolsworld.com/search/?query=14210"]
[14223,"Csokulcs kétoldalú 12x13 mm// STELS",401,"B","Active",{"$f":"VLOOKUP(A345,[1]Sheet1!$A$1:$C$65512,3,FALSE)","v":{"$error":"#N/A"}},null,null,"No info","линк","https://bg.toolsworld.com/search/?query=","https://bg.toolsworld.com/search/?query=14223"]
[14224,"L típusú csavarkulcs 19mm// Stels",1403,"B","Active",{"$f":"VLOOKUP(A346,[1]Sheet1!$A$1:$C$65512,3,FALSE)","v":474},null,null,"No info","линк","https://bg.toolsworld.com/search/?query=","https://bg.toolsworld.com/search/?query=14224"]
[14225,"L típusú csavarkulcs 21 mm// Stels",1411,"B","Active",{"$f":"VLOOKUP(A347,[1]Sheet1!$A$1:$C$65512,3,FALSE)","v":48},null,null,"No info","линк","https://bg.toolsworld.com/search/?query=","https://bg.toolsworld.com/search/?query=14225"]
[14227,"Csokulcs kétoldalú 13x14 mm// STELS",0,"B","Active",{"$f":"VLOOKUP(A348,[1]Sheet1!$A$1:$C$65512,3,FALSE)","v":{"$error":"#N/A"}},null,null,"No info","линк","https://bg.toolsworld.com/search/?query=","https://bg.toolsworld.com/search/?query=14227"]
[14228,"Csokulcs kétoldalú 14x15 mm// STELS",574,"B","Active",{"$f":"VLOOKUP(A349,[1]Sheet1!$A$1:$C$65512,3,FALSE)","v":4},null,null,"No info","линк","https://bg.toolsworld.com/search/?query=","https://bg.toolsworld.com/search/?query=14228"]
[14231,"Csokulcs, nyílásméret 10 MM// STELS",527,"B","Active",{"$f":"VLOOKUP(A350,[1]Sheet1!$A$1:$C$65512,3,FALSE)","v":378},null,null,"No info","линк","https://bg.toolsworld.com/search/?query=","https://bg.toolsworld.com/search/?query=14231"]
[14233,"Csokulcs, nyílásméret 12 MM// STELS",646,"B","Active",{"$f":"VLOOKUP(A351,[1]Sheet1!$A$1:$C$65512,3,FALSE)","v":509},null,null,"No info","линк","https://bg.toolsworld.com/search/?query=","https://bg.toolsworld.com/search/?query=14233"]
[14234,"Csokulcs, nyílásméret 13 MM// STELS",715,"B","Active",{"$f":"VLOOKUP(A352,[1]Sheet1!$A$1:$C$65512,3,FALSE)","v":47},null,null,"No info","линк","https://bg.toolsworld.com/search/?query=","https://bg.toolsworld.com/search/?query=14234"]
[14238,"Csokulcs, nyílásméret 17 MM// STELS",1065,"B","Active",{"$f":"VLOOKUP(A353,[1]Sheet1!$A$1:$C$65512,3,FALSE)","v":41},null,null,"No info","линк","https://bg.toolsworld.com/search/?query=","https://bg.toolsworld.com/search/?query=14238"]
[14239,"Csokulcs, nyílásméret 19 MM// STELS",1491,"B","Active",{"$f":"VLOOKUP(A354,[1]Sheet1!$A$1:$C$65512,3,FALSE)","v":216},null,null,"No info","линк","https://bg.toolsworld.com/search/?query=","https://bg.toolsworld.com/search/?query=14239"]
[14240,"Csokulcs, nyílásméret 22 MM// STELS",1515,"B","Active",{"$f":"VLOOKUP(A355,[1]Sheet1!$A$1:$C$65512,3,FALSE)","v":{"$error":"#N/A"}},null,null,"No info","линк","https://bg.toolsworld.com/search/?query=","https://bg.toolsworld.com/search/?query=14240"]
[14249,"Kereszt-kerekes csavarkulcs 17x19x21x22 megerosített, átalakítóval 1/2 huvelyk// STELS",4001,"B","Active",{"$f":"VLOOKUP(A356,[1]Sheet1!$A$1:$C$65512,3,FALSE)","v":44},null,null,"No info","линк","https://bg.toolsworld.com/search/?query=","https://bg.toolsworld.com/search/?query=14249"]
[14257,"Kereszt kulcs7 х 19 х 21 х 22 mm, vastagság 14 мм// SIBRTEH",2493,"B","Active",{"$f":"VLOOKUP(A357,[1]Sheet1!$A$1:$C$65512,3,FALSE)","v":{"$error":"#N/A"}},null,null,"No info","линк","https://bg.toolsworld.com/search/?query=","https://bg.toolsworld.com/search/?query=14257"]
[14258,"Kereszt kulcs7 х 19 х 21 mm,   1/2\", vastagság 14 мм// SIBRTEH",2507,"B","Active",{"$f":"VLOOKUP(A358,[1]Sheet1!$A$1:$C$65512,3,FALSE)","v":{"$error":"#N/A"}},null,null,"No info","линк","https://bg.toolsworld.com/search/?query=","https://bg.toolsworld.com/search/?query=14258"]
[14266,"Brake bleeder wrench 8x10 mm// SIBRTEH",845,"B","Active",{"$f":"VLOOKUP(A359,[1]Sheet1!$A$1:$C$65512,3,FALSE)","v":38},null,null,"No info","линк","https://bg.toolsworld.com/search/?query=","https://bg.toolsworld.com/search/?query=14266"]
[14267,"Brake bleeder wrench 10x12 mm// SIBRTEH",845,"B","Active",{"$f":"VLOOKUP(A360,[1]Sheet1!$A$1:$C$65512,3,FALSE)","v":" "},null,null,"No info","линк","https://bg.toolsworld.com/search/?query=","https://bg.toolsworld.com/search/?query=14267"]
[14268,"Brake bleeder wrench 10x13 mm// SIBRTEH",845,"B","Active",{"$f":"VLOOKUP(A361,[1]Sheet1!$A$1:$C$65512,3,FALSE)","v":702},null,null,"No info","линк","https://bg.toolsworld.com/search/?query=","https://bg.toolsworld.com/search/?query=14268"]
[14269,"Foszfátozott utheto kulcs   24 mm/ SIBRTEH",1951,"B","Active",{"$f":"VLOOKUP(A362,[1]Sheet1!$A$1:$C$65512,3,FALSE)","v":{"$error":"#N/A"}},null,null,"No info","линк","https://bg.toolsworld.com/search/?query=","https://bg.toolsworld.com/search/?query=14269"]
[14271,"Foszfátozott utheto kulcs  27 mm/ SIBRTEH",2146,"B","Active",{"$f":"VLOOKUP(A363,[1]Sheet1!$A$1:$C$65512,3,FALSE)","v":{"$error":"#N/A"}},null,null,"No info","линк","https://bg.toolsworld.com/search/?query=","https://bg.toolsworld.com/search/?query=14271"]
[14273,"Foszfátozott utheto kulcs  30 mm/ SIBRTEH",2539,"B","Active",{"$f":"VLOOKUP(A364,[1]Sheet1!$A$1:$C$65512,3,FALSE)","v":{"$error":"#N/A"}},null,null,"No info","линк","https://bg.toolsworld.com/search/?query=","https://bg.toolsworld.com/search/?query=14273"]
[14274,"Foszfátozott utheto kulcs 32 mm   SIBRTEH",2694,"B","Active",{"$f":"VLOOKUP(A365,[1]Sheet1!$A$1:$C$65512,3,FALSE)","v":{"$error":"#N/A"}},null,null,"No info","линк","https://bg.toolsworld.com/search/?query=","https://bg.toolsworld.com/search/?query=14274"]
[14275,"Foszfátozott utheto kulcs  36 mm/ SIBRTEH",3268,"B","Active",{"$f":"VLOOKUP(A366,[1]Sheet1!$A$1:$C$65512,3,FALSE)","v":{"$error":"#N/A"}},null,null,"No info","линк","https://bg.toolsworld.com/search/?query=","https://bg.toolsworld.com/search/?query=14275"]
[14276,"Foszfátozott utheto kulcs  41 mm/ SIBRTEH",4162,"B","Active",{"$f":"VLOOKUP(A367,[1]Sheet1!$A$1:$C$65512,3,FALSE)","v":{"$error":"#N/A"}},null,null,"No info","линк","https://bg.toolsworld.com/search/?query=","https://bg.toolsworld.com/search/?query=14276"]
[14277,"Foszfátozott utheto kulcs  46 mm/ SIBRTEH",4885,"B","Active",{"$f":"VLOOKUP(A368,[1]Sheet1!$A$1:$C$65512,3,FALSE)","v":6},null,null,"No info","линк","https://bg.toolsworld.com/search/?query=","https://bg.toolsworld.com/search/?query=14277"]
[14278,"Foszfátozott utheto kulcs  50 mm/ SIBRTEH",5514,"B","Active",{"$f":"VLOOKUP(A369,[1]Sheet1!$A$1:$C$65512,3,FALSE)","v":{"$error":"#N/A"}},null,null,"No info","линк","https://bg.toolsworld.com/search/?query=","https://bg.toolsworld.com/search/?query=14278"]
[14279,"Foszfátozott utheto kulcs  55 mm/ SIBRTEH",6274,"B","Active",{"$f":"VLOOKUP(A370,[1]Sheet1!$A$1:$C$65512,3,FALSE)","v":{"$error":"#N/A"}},null,null,"No info","линк","https://bg.toolsworld.com/search/?query=","https://bg.toolsworld.com/search/?query=14279"]
[14280,"Foszfátozott utheto kulcs  60 mm/ SIBRTEH",7298,"B","Active",{"$f":"VLOOKUP(A371,[1]Sheet1!$A$1:$C$65512,3,FALSE)","v":{"$error":"#N/A"}},null,null,"No info","линк","https://bg.toolsworld.com/search/?query=","https://bg.toolsworld.com/search/?query=14280"]
[14298,"Kétoldalas kerékkulcs 22x38 mm// Stels",5502,"B","Active",{"$f":"VLOOKUP(A372,[1]Sheet1!$A$1:$C$65512,3,FALSE)","v":5},null,null,"No info","линк","https://bg.toolsworld.com/search/?query=","https://bg.toolsworld.com/search/?query=14298"]
[14299,"Kétoldalas kerékkulcs 32x38 mm// Stels",6256,"B","Active",{"$f":"VLOOKUP(A373,[1]Sheet1!$A$1:$C$65512,3,FALSE)","v":4},null,null,"No info","линк","https://bg.toolsworld.com/search/?query=","https://bg.toolsworld.com/search/?query=14299"]
[14301,"Kettos villás csavarkulcs 6x7 mm, sárga cink//  SIBRTEH",179,"B","Active",{"$f":"VLOOKUP(A374,[1]Sheet1!$A$1:$C$65512,3,FALSE)","v":737},null,null,"No info","линк","https://bg.toolsworld.com/search/?query=","https://bg.toolsworld.com/search/?query=14301"]
[14302,"Kettos villás csavarkulcs 8x9 mm, sárga cink//  SIBRTEH",185,"B","Active",{"$f":"VLOOKUP(A375,[1]Sheet1!$A$1:$C$65512,3,FALSE)","v":775},null,null,"No info","линк","https://bg.toolsworld.com/search/?query=","https://bg.toolsworld.com/search/?query=14302"]
[14303,"Kettos villás csavarkulcs 8x10 mm, sárga cink//  SIBRTEH",195,"B","Active",{"$f":"VLOOKUP(A376,[1]Sheet1!$A$1:$C$65512,3,FALSE)","v":385},null,null,"No info","линк","https://bg.toolsworld.com/search/?query=","https://bg.toolsworld.com/search/?query=14303"]
[14304,"Kettos villás  csavarkulcs 10x11 mm, sárga cink//  SIBRTEH",204,"B","Active",{"$f":"VLOOKUP(A377,[1]Sheet1!$A$1:$C$65512,3,FALSE)","v":448},null,null,"No info","линк","https://bg.toolsworld.com/search/?query=","https://bg.toolsworld.com/search/?query=14304"]
[14305,"Kettos villás csavarkulcs 12x13 mm, sárga cink//  SIBRTEH",220,"B","Active",{"$f":"VLOOKUP(A378,[1]Sheet1!$A$1:$C$65512,3,FALSE)","v":{"$error":"#N/A"}},null,null,"No info","линк","https://bg.toolsworld.com/search/?query=","https://bg.toolsworld.com/search/?query=14305"]
[14306,"Kettos villás csavarkulcs 13x14 mm, sárga cink// SIBRTEH",261,"B","Active",{"$f":"VLOOKUP(A379,[1]Sheet1!$A$1:$C$65512,3,FALSE)","v":272},null,null,"No info","линк","https://bg.toolsworld.com/search/?query=","https://bg.toolsworld.com/search/?query=14306"]
[14307,"Kettos villás csavarkulcs 13x17mm, sárga cink//  SIBRTEH",293,"B","Active",{"$f":"VLOOKUP(A380,[1]Sheet1!$A$1:$C$65512,3,FALSE)","v":55},null,null,"No info","линк","https://bg.toolsworld.com/search/?query=","https://bg.toolsworld.com/search/?query=14307"]
[14308,"Kettos villás  csavarkulcs 14x15mm, sárga cink//  SIBRTEH",299,"B","Active",{"$f":"VLOOKUP(A381,[1]Sheet1!$A$1:$C$65512,3,FALSE)","v":102},null,null,"No info","линк","https://bg.toolsworld.com/search/?query=","https://bg.toolsworld.com/search/?query=14308"]
[14309,"Kettos villás csavarkulcs 14x17mm, sárga cink//  SIBRTEH",344,"B","Active",{"$f":"VLOOKUP(A382,[1]Sheet1!$A$1:$C$65512,3,FALSE)","v":28},null,null,"No info","линк","https://bg.toolsworld.com/search/?query=","https://bg.toolsworld.com/search/?query=14309"]
[14310,"Kettos villás csavarkulcs 17x19mm, sárga cink// SIBRTEH",395,"B","Active",{"$f":"VLOOKUP(A383,[1]Sheet1!$A$1:$C$65512,3,FALSE)","v":409},null,null,"No info","линк","https://bg.toolsworld.com/search/?query=","https://bg.toolsworld.com/search/?query=14310"]
[14311,"Kettos villás csavarkulcs 19x22 mm, sárga cink// SIBRTEH",501,"B","Active",{"$f":"VLOOKUP(A384,[1]Sheet1!$A$1:$C$65512,3,FALSE)","v":{"$error":"#N/A"}},null,null,"No info","линк","https://bg.toolsworld.com/search/?query=","https://bg.toolsworld.com/search/?query=14311"]
[14312,"Kettos villás csavarkulcs 20x22 mm, sárga cink//  SIBRTEH",525,"B","Active",{"$f":"VLOOKUP(A385,[1]Sheet1!$A$1:$C$65512,3,FALSE)","v":117},null,null,"No info","линк","https://bg.toolsworld.com/search/?query=","https://bg.toolsworld.com/search/?query=14312"]
[14314,"Kettos villás csavarkulcs 24x27 mm, sárga cink//  SIBRTEH",692,"B","Active",{"$f":"VLOOKUP(A386,[1]Sheet1!$A$1:$C$65512,3,FALSE)","v":698},null,null,"No info","линк","https://bg.toolsworld.com/search/?query=","https://bg.toolsworld.com/search/?query=14314"]
[14315,"Kettos villás csavarkulcs 30x32 mm, sárga cink//  SIBRTEH",979,"B","Active",{"$f":"VLOOKUP(A387,[1]Sheet1!$A$1:$C$65512,3,FALSE)","v":117},null,null,"No info","линк","https://bg.toolsworld.com/search/?query=","https://bg.toolsworld.com/search/?query=14315"]
[14320,"Kettos villás csavarkulcs, 6 x 7 mm, CrV, fekete foszfát//  SIBRTEH",173,"B","Active",{"$f":"VLOOKUP(A388,[1]Sheet1!$A$1:$C$65512,3,FALSE)","v":240},null,null,"No info",{"$f":"HYPERLINK(L388,\"линк\")","v":"линк"},"https://bg.toolsworld.com/search/?query=",{"$f":"CONCATENATE(K388,A388)","v":"https://bg.toolsworld.com/search/?query=14320"}]
[14321,"Kettos villás csavarkulcs, 8 x 10 mm, CrV, fekete foszfát//  SIBRTEH",198,"B","Active",{"$f":"VLOOKUP(A389,[1]Sheet1!$A$1:$C$65512,3,FALSE)","v":191},null,null,"No info","линк","https://bg.toolsworld.com/search/?query=","https://bg.toolsworld.com/search/?query=14321"]
[14322,"Kettos villás csavarkulcs, 9 x 11 mm, CrV, fekete foszfát// SIBRTEH",248,"B","Active",{"$f":"VLOOKUP(A390,[1]Sheet1!$A$1:$C$65512,3,FALSE)","v":441},null,null,"No info","линк","https://bg.toolsworld.com/search/?query=","https://bg.toolsworld.com/search/?query=14322"]
[14323,"Kettos villás csavarkulcs, 10 x 12 mm, CrV, fekete foszfát//  SIBRTEH",269,"B","Active",{"$f":"VLOOKUP(A391,[1]Sheet1!$A$1:$C$65512,3,FALSE)","v":448},null,null,"No info","линк","https://bg.toolsworld.com/search/?query=","https://bg.toolsworld.com/search/?query=14323"]
[14324,"Kettos villás csavarkulcs, 12 x 13 mm, CrV, fekete foszfát//  SIBRTEH",293,"B","Active",{"$f":"VLOOKUP(A392,[1]Sheet1!$A$1:$C$65512,3,FALSE)","v":{"$error":"#N/A"}},null,null,"No info","линк","https://bg.toolsworld.com/search/?query=","https://bg.toolsworld.com/search/?query=14324"]
[14325,"Kettos  villás csavarkulcs, 13 x 14 mm, CrV, fekete foszfát//  SIBRTEH",336,"B","Active",{"$f":"VLOOKUP(A393,[1]Sheet1!$A$1:$C$65512,3,FALSE)","v":99},null,null,"No info","линк","https://bg.toolsworld.com/search/?query=","https://bg.toolsworld.com/search/?query=14325"]
[14326,"Kettos  villás csavarkulcs, 14 x 15 mm, CrV, fekete foszfát//  SIBRTEH",342,"B","Active",{"$f":"VLOOKUP(A394,[1]Sheet1!$A$1:$C$65512,3,FALSE)","v":{"$error":"#N/A"}},null,null,"No info","линк","https://bg.toolsworld.com/search/?query=","https://bg.toolsworld.com/search/?query=14326"]
[14327,"Kettos  villás csavarkulcs, 14 x 17 mm, CrV, fekete foszfát//  SIBRTEH",350,"B","Active",{"$f":"VLOOKUP(A395,[1]Sheet1!$A$1:$C$65512,3,FALSE)","v":{"$error":"#N/A"}},null,null,"No info","линк","https://bg.toolsworld.com/search/?query=","https://bg.toolsworld.com/search/?query=14327"]
[14328,"Kettos  villás csavarkulcs, 17 x 19 mm, CrV, fekete foszfát// SIBRTEH",428,"B","Active",{"$f":"VLOOKUP(A396,[1]Sheet1!$A$1:$C$65512,3,FALSE)","v":{"$error":"#N/A"}},null,null,"No info","линк","https://bg.toolsworld.com/search/?query=","https://bg.toolsworld.com/search/?query=14328"]
[14329,"Kettos  villás csavarkulcs, 19 x 22 mm, CrV, fekete foszfát//  SIBRTEH",540,"B","Active",{"$f":"VLOOKUP(A397,[1]Sheet1!$A$1:$C$65512,3,FALSE)","v":58},null,null,"No info","линк","https://bg.toolsworld.com/search/?query=","https://bg.toolsworld.com/search/?query=14329"]
[14330,"Kettos  villás csavarkulcs, 22 x 24 mm, CrV, fekete foszfát//  SIBRTEH",751,"B","Active",{"$f":"VLOOKUP(A398,[1]Sheet1!$A$1:$C$65512,3,FALSE)","v":178},null,null,"No info","линк","https://bg.toolsworld.com/search/?query=","https://bg.toolsworld.com/search/?query=14330"]
[14331,"Kettos  villás csavarkulcs, 27 x 30 mm, CrV, fekete foszfát//  SIBRTEH",1427,"B","Active",{"$f":"VLOOKUP(A399,[1]Sheet1!$A$1:$C$65512,3,FALSE)","v":151},null,null,"No info","линк","https://bg.toolsworld.com/search/?query=","https://bg.toolsworld.com/search/?query=14331"]
[14332,"Kettos  villás csavarkulcs, 30 x 32 mm, CrV, fekete foszfát//  SIBRTEH",1540,"B","Active",{"$f":"VLOOKUP(A400,[1]Sheet1!$A$1:$C$65512,3,FALSE)","v":{"$error":"#N/A"}},null,null,"No info","линк","https://bg.toolsworld.com/search/?query=","https://bg.toolsworld.com/search/?query=14332"]
[14333,"Kettos villás csavarkulcs, 32 x 36 mm, CrV, fekete foszfát//  SIBRTEH",2279,"B","Active",{"$f":"VLOOKUP(A401,[1]Sheet1!$A$1:$C$65512,3,FALSE)","v":432},null,null,"No info","линк","https://bg.toolsworld.com/search/?query=","https://bg.toolsworld.com/search/?query=14333"]
[14336,"Nyitott végű csavarkulcs, 8 x 10 mm, horganyzott (KZSMI) RUSSIA",285,"B","Active",{"$f":"VLOOKUP(A402,[1]Sheet1!$A$1:$C$65512,3,FALSE)","v":99},null,null,"No info","линк","https://bg.toolsworld.com/search/?query=","https://bg.toolsworld.com/search/?query=14336"]
[14342,"Nyitott végű csavarkulcs, 10 x 12 mm, horganyzott (KZSMI) RUSSIA",320,"B","Active",{"$f":"VLOOKUP(A403,[1]Sheet1!$A$1:$C$65512,3,FALSE)","v":44},null,null,"No info","линк","https://bg.toolsworld.com/search/?query=","https://bg.toolsworld.com/search/?query=14342"]
[14345,"Nyitott csavarkulcs, 11 x 13 mm, horganyzott (KZSMI) RUSSIA",340,"B","Active",{"$f":"VLOOKUP(A404,[1]Sheet1!$A$1:$C$65512,3,FALSE)","v":59},null,null,"No info","линк","https://bg.toolsworld.com/search/?query=","https://bg.toolsworld.com/search/?query=14345"]
[14347,"Nyitott végű csavarkulcs, 12 x 13 mm, horganyzott (KZSMI) RUSSIA",354,"B","Active",{"$f":"VLOOKUP(A405,[1]Sheet1!$A$1:$C$65512,3,FALSE)","v":60},null,null,"No info","линк","https://bg.toolsworld.com/search/?query=","https://bg.toolsworld.com/search/?query=14347"]
[14349,"Kettos villás csavarkulcs, 13 x 14 mm, galvanizált (KZSMI) Russia",362,"B","Active",{"$f":"VLOOKUP(A406,[1]Sheet1!$A$1:$C$65512,3,FALSE)","v":40},null,null,"No info","линк","https://bg.toolsworld.com/search/?query=","https://bg.toolsworld.com/search/?query=14349"]
[14356,"Nyitott csavarkulcs, 14 x 17 mm, horganyzott (KZSMI) RUSSIA",499,"B","Active",{"$f":"VLOOKUP(A407,[1]Sheet1!$A$1:$C$65512,3,FALSE)","v":50},null,null,"No info","линк","https://bg.toolsworld.com/search/?query=","https://bg.toolsworld.com/search/?query=14356"]
[14362,"Kettos villás csavarkulcs, 19 x 22 mm, galvanizált (KZSMI) Russia",629,"B","Active",{"$f":"VLOOKUP(A408,[1]Sheet1!$A$1:$C$65512,3,FALSE)","v":25},null,null,"No info","линк","https://bg.toolsworld.com/search/?query=","https://bg.toolsworld.com/search/?query=14362"]
[14365,"Kettos villás csavarkulcs, 22 x 24 mm, galvanizált (KZSMI) Russia",890,"B","Active",{"$f":"VLOOKUP(A409,[1]Sheet1!$A$1:$C$65512,3,FALSE)","v":7},null,null,"No info","линк","https://bg.toolsworld.com/search/?query=","https://bg.toolsworld.com/search/?query=14365"]
[14388,"Kettos villás csavarkulcs, 32 x 36 mm, galvanizált (KZSMI) Russia",2154,"B","Active",{"$f":"VLOOKUP(A410,[1]Sheet1!$A$1:$C$65512,3,FALSE)","v":{"$error":"#N/A"}},null,null,"No info","линк","https://bg.toolsworld.com/search/?query=","https://bg.toolsworld.com/search/?query=14388"]
[14614,"Csillagkulcs 8 x10 mm, sárga cink//  SIBRTEH",377,"B","Active",{"$f":"VLOOKUP(A411,[1]Sheet1!$A$1:$C$65512,3,FALSE)","v":{"$error":"#N/A"}},null,null,"No info","линк","https://bg.toolsworld.com/search/?query=","https://bg.toolsworld.com/search/?query=14614"]
[14616,"Csillagkulcs 10 x11 mm, sárga cink//  SIBRTEH",379,"B","Active",{"$f":"VLOOKUP(A412,[1]Sheet1!$A$1:$C$65512,3,FALSE)","v":734},null,null,"No info","линк","https://bg.toolsworld.com/search/?query=","https://bg.toolsworld.com/search/?query=14616"]
[14618,"Csillagkulcs 10x13 mm, sárga cink//  SIBRTEH",440,"B","Active",{"$f":"VLOOKUP(A413,[1]Sheet1!$A$1:$C$65512,3,FALSE)","v":258},null,null,"No info","линк","https://bg.toolsworld.com/search/?query=","https://bg.toolsworld.com/search/?query=14618"]
[14620,"Csillagkulcs 12 x13 mm, sárga cink//  SIBRTEH",442,"B","Active",{"$f":"VLOOKUP(A414,[1]Sheet1!$A$1:$C$65512,3,FALSE)","v":10},null,null,"No info","линк","https://bg.toolsworld.com/search/?query=","https://bg.toolsworld.com/search/?query=14620"]
[14622,"Csillagkulcs, 13 x 17 mm, cink bevonat// SIBRTEH",554,"B","Active",{"$f":"VLOOKUP(A415,[1]Sheet1!$A$1:$C$65512,3,FALSE)","v":{"$error":"#N/A"}},null,null,"No info","линк","https://bg.toolsworld.com/search/?query=","https://bg.toolsworld.com/search/?query=14622"]
[14624,"Csillagkulcs 14 x15 mm, sárga cink//  SIBRTEH",568,"B","Active",{"$f":"VLOOKUP(A416,[1]Sheet1!$A$1:$C$65512,3,FALSE)","v":366},null,null,"No info","линк","https://bg.toolsworld.com/search/?query=","https://bg.toolsworld.com/search/?query=14624"]
[14626,"Csillagkulcs 17 x19 mm, sárga cink//  SIBRTEH",688,"B","Active",{"$f":"VLOOKUP(A417,[1]Sheet1!$A$1:$C$65512,3,FALSE)","v":{"$error":"#N/A"}},null,null,"No info","линк","https://bg.toolsworld.com/search/?query=","https://bg.toolsworld.com/search/?query=14626"]
[14628,"Csillagkulcs 19 x22 mm, sárga cink// SIBRTEH",819,"B","Active",{"$f":"VLOOKUP(A418,[1]Sheet1!$A$1:$C$65512,3,FALSE)","v":57},null,null,"No info","линк","https://bg.toolsworld.com/search/?query=","https://bg.toolsworld.com/search/?query=14628"]
[14630,"Csillagkulcs 20 x22 mm, sárga cink//  SIBRTEH",794,"B","Active",{"$f":"VLOOKUP(A419,[1]Sheet1!$A$1:$C$65512,3,FALSE)","v":{"$error":"#N/A"}},null,null,"No info","линк","https://bg.toolsworld.com/search/?query=","https://bg.toolsworld.com/search/?query=14630"]
[14632,"Csillagkulcs 22 x24 mm, sárga cink//  SIBRTEH",1026,"B","Active",{"$f":"VLOOKUP(A420,[1]Sheet1!$A$1:$C$65512,3,FALSE)","v":35},null,null,"No info","линк","https://bg.toolsworld.com/search/?query=","https://bg.toolsworld.com/search/?query=14632"]
[14634,"Csillagkulcs, 24 x 27 mm, cink bevonat// SIBRTEH",1358,"B","Active",{"$f":"VLOOKUP(A421,[1]Sheet1!$A$1:$C$65512,3,FALSE)","v":132},null,null,"No info","линк","https://bg.toolsworld.com/search/?query=","https://bg.toolsworld.com/search/?query=14634"]
[14636,"Csillagkulcs 27 x32 mm, sárga cink//  SIBRTEH",1973,"B","Active",{"$f":"VLOOKUP(A422,[1]Sheet1!$A$1:$C$65512,3,FALSE)","v":20},null,null,"No info","линк","https://bg.toolsworld.com/search/?query=","https://bg.toolsworld.com/search/?query=14636"]
[14638,"Csillagkulcs 30 x32 mm, sárga cink//  SIBRTEH",2032,"B","Active",{"$f":"VLOOKUP(A423,[1]Sheet1!$A$1:$C$65512,3,FALSE)","v":66},null,null,"No info","линк","https://bg.toolsworld.com/search/?query=","https://bg.toolsworld.com/search/?query=14638"]
[14846,"Kombinált racsnis kulcs 8 mm// Gross",2678,"B","Active",{"$f":"VLOOKUP(A424,[1]Sheet1!$A$1:$C$65512,3,FALSE)","v":752},null,null,"No info","линк","https://bg.toolsworld.com/search/?query=","https://bg.toolsworld.com/search/?query=14846"]
[14847,"Kombinált racsnis kulcs 9 mm// Gross",2751,"B","Active",{"$f":"VLOOKUP(A425,[1]Sheet1!$A$1:$C$65512,3,FALSE)","v":1135},null,null,"No info","линк","https://bg.toolsworld.com/search/?query=","https://bg.toolsworld.com/search/?query=14847"]
[14848,"Kombinált racsnis kulcs 10 mm// Gross",2765,"B","Active",{"$f":"VLOOKUP(A426,[1]Sheet1!$A$1:$C$65512,3,FALSE)","v":60},null,null,"No info","линк","https://bg.toolsworld.com/search/?query=","https://bg.toolsworld.com/search/?query=14848"]
[14849,"Kombinált racsnis kulcs 11 mm// Gross",2794,"B","Active",{"$f":"VLOOKUP(A427,[1]Sheet1!$A$1:$C$65512,3,FALSE)","v":1114},null,null,"No info","линк","https://bg.toolsworld.com/search/?query=","https://bg.toolsworld.com/search/?query=14849"]
[14850,"Kombinált racsnis kulcs 12 mm// Gross",2924,"B","Active",{"$f":"VLOOKUP(A428,[1]Sheet1!$A$1:$C$65512,3,FALSE)","v":824},null,null,"No info","линк","https://bg.toolsworld.com/search/?query=","https://bg.toolsworld.com/search/?query=14850"]
[14851,"Kombinált racsnis kulcs 13 mm// Gross",3014,"B","Active",{"$f":"VLOOKUP(A429,[1]Sheet1!$A$1:$C$65512,3,FALSE)","v":87},null,null,"No info","линк","https://bg.toolsworld.com/search/?query=","https://bg.toolsworld.com/search/?query=14851"]
[14852,"Kombinált racsnis kulcs 14 mm// Gross",3169,"B","Active",{"$f":"VLOOKUP(A430,[1]Sheet1!$A$1:$C$65512,3,FALSE)","v":703},null,null,"No info","линк","https://bg.toolsworld.com/search/?query=","https://bg.toolsworld.com/search/?query=14852"]
[14853,"Kombinált racsnis kulcs 15 mm// Gross",3688,"B","Active",{"$f":"VLOOKUP(A431,[1]Sheet1!$A$1:$C$65512,3,FALSE)","v":700},null,null,"No info","линк","https://bg.toolsworld.com/search/?query=","https://bg.toolsworld.com/search/?query=14853"]
[14854,"Kombinált racsnis kulcs 16 mm// Gross",3635,"B","Active",{"$f":"VLOOKUP(A432,[1]Sheet1!$A$1:$C$65512,3,FALSE)","v":713},null,null,"No info","линк","https://bg.toolsworld.com/search/?query=","https://bg.toolsworld.com/search/?query=14854"]
[14855,"Kombinált racsnis kulcs 17 mm// Gross",3881,"B","Active",{"$f":"VLOOKUP(A433,[1]Sheet1!$A$1:$C$65512,3,FALSE)","v":42},null,null,"No info","линк","https://bg.toolsworld.com/search/?query=","https://bg.toolsworld.com/search/?query=14855"]
[14856,"Kombinált racsnis kulcs 18 mm// Gross",4278,"B","Active",{"$f":"VLOOKUP(A434,[1]Sheet1!$A$1:$C$65512,3,FALSE)","v":778},null,null,"No info","линк","https://bg.toolsworld.com/search/?query=","https://bg.toolsworld.com/search/?query=14856"]
[14857,"Kombinált racsnis kulcs 19 mm// Gross",4285,"B","Active",{"$f":"VLOOKUP(A435,[1]Sheet1!$A$1:$C$65512,3,FALSE)","v":689},null,null,"No info","линк","https://bg.toolsworld.com/search/?query=","https://bg.toolsworld.com/search/?query=14857"]
[14858,"Kombinált racsnis kulcskészlet, CRV, 8, 10, 12, 13, 17 mm// GROSS méret",18663,"B","Active",{"$f":"VLOOKUP(A436,[1]Sheet1!$A$1:$C$65512,3,FALSE)","v":48},null,null,"No info","линк","https://bg.toolsworld.com/search/?query=","https://bg.toolsworld.com/search/?query=14858"]
[14890,"Kombinált csavarkulcs készlet, 8-19mm,7 db// GROSS",21235,"B","Active",{"$f":"VLOOKUP(A437,[1]Sheet1!$A$1:$C$65512,3,FALSE)","v":123},null,null,"No info","линк","https://bg.toolsworld.com/search/?query=","https://bg.toolsworld.com/search/?query=14890"]
[14891,"7 db csuklós racsnis kulcskészlet,, 8-19mm// GROSS ",25108,"B","Active",{"$f":"VLOOKUP(A438,[1]Sheet1!$A$1:$C$65512,3,FALSE)","v":48},null,null,"No info","линк","https://bg.toolsworld.com/search/?query=","https://bg.toolsworld.com/search/?query=14891"]
[14892,"Megfordítható kombinált csavarkulcs készlet, , 8-19mm, 7 db // GROSS",28882,"B","Active",{"$f":"VLOOKUP(A439,[1]Sheet1!$A$1:$C$65512,3,FALSE)","v":133},null,null,"No info","линк","https://bg.toolsworld.com/search/?query=","https://bg.toolsworld.com/search/?query=14892"]
[14893,"2 db racsnis csavarkulcs készlet 4 az 1-ben, 8-19 mm, több méret, megfordítható// Gross",12204,"B","Active",{"$f":"VLOOKUP(A440,[1]Sheet1!$A$1:$C$65512,3,FALSE)","v":129},null,null,"No info","линк","https://bg.toolsworld.com/search/?query=","https://bg.toolsworld.com/search/?query=14893"]
[14901,"Kombinált csavarkulcs, 6 mm, CrV, fekete foszfát//  SIBRTEH",242,"B","Active",{"$f":"VLOOKUP(A441,[1]Sheet1!$A$1:$C$65512,3,FALSE)","v":49},null,null,"No info","линк","https://bg.toolsworld.com/search/?query=","https://bg.toolsworld.com/search/?query=14901"]
[14902,"Kombinált csavarkulcs, 7 mm, CrV, fekete foszfát//  SIBRTEH",255,"B","Active",{"$f":"VLOOKUP(A442,[1]Sheet1!$A$1:$C$65512,3,FALSE)","v":60},null,null,"No info","линк","https://bg.toolsworld.com/search/?query=","https://bg.toolsworld.com/search/?query=14902"]
[14903,"Kombinált csavarkulcs, 8 mm, CrV, fekete foszfát//  SIBRTEH",281,"B","Active",{"$f":"VLOOKUP(A443,[1]Sheet1!$A$1:$C$65512,3,FALSE)","v":80},null,null,"No info","линк","https://bg.toolsworld.com/search/?query=","https://bg.toolsworld.com/search/?query=14903"]
[14904,"Kombinált csavarkulcs, 9 mm, CrV, fekete foszfát// SIBRTEH",289,"B","Active",{"$f":"VLOOKUP(A444,[1]Sheet1!$A$1:$C$65512,3,FALSE)","v":32},null,null,"No info","линк","https://bg.toolsworld.com/search/?query=","https://bg.toolsworld.com/search/?query=14904"]
[14905,"Kombinált csavarkulcs, 10 mm, CrV, fekete foszfát// SIBRTEH",299,"B","Active",{"$f":"VLOOKUP(A445,[1]Sheet1!$A$1:$C$65512,3,FALSE)","v":130},null,null,"No info","линк","https://bg.toolsworld.com/search/?query=","https://bg.toolsworld.com/search/?query=14905"]
[14906,"Kombinált csavarkulcs, 11 mm, CrV, fekete foszfát// SIBRTEH",314,"B","Active",{"$f":"VLOOKUP(A446,[1]Sheet1!$A$1:$C$65512,3,FALSE)","v":159},null,null,"No info","линк","https://bg.toolsworld.com/search/?query=","https://bg.toolsworld.com/search/?query=14906"]
[14907,"Kombinált csavarkulcs, 12 mm, CrV, fekete foszfát//  SIBRTEH",318,"B","Active",{"$f":"VLOOKUP(A447,[1]Sheet1!$A$1:$C$65512,3,FALSE)","v":{"$error":"#N/A"}},null,null,"No info","линк","https://bg.toolsworld.com/search/?query=","https://bg.toolsworld.com/search/?query=14907"]
[14908,"Kombinált csavarkulcs, 13 mm, CrV, fekete foszfát//  SIBRTEH",365,"B","Active",{"$f":"VLOOKUP(A448,[1]Sheet1!$A$1:$C$65512,3,FALSE)","v":{"$error":"#N/A"}},null,null,"No info","линк","https://bg.toolsworld.com/search/?query=","https://bg.toolsworld.com/search/?query=14908"]
[14909,"Kombinált csavarkulcs, 14 mm, CrV, fekete foszfát//  SIBRTEH",393,"B","Active",{"$f":"VLOOKUP(A449,[1]Sheet1!$A$1:$C$65512,3,FALSE)","v":{"$error":"#N/A"}},null,null,"No info","линк","https://bg.toolsworld.com/search/?query=","https://bg.toolsworld.com/search/?query=14909"]
[14910,"Kombinált csavarkulcs, 15 mm, CrV, fekete foszfát//  SIBRTEH",472,"B","Active",{"$f":"VLOOKUP(A450,[1]Sheet1!$A$1:$C$65512,3,FALSE)","v":{"$error":"#N/A"}},null,null,"No info","линк","https://bg.toolsworld.com/search/?query=","https://bg.toolsworld.com/search/?query=14910"]
[14911,"Kombinált csavarkulcs, 17 mm, CrV, fekete foszfát//  SIBRTEH",525,"B","Active",{"$f":"VLOOKUP(A451,[1]Sheet1!$A$1:$C$65512,3,FALSE)","v":{"$error":"#N/A"}},null,null,"No info","линк","https://bg.toolsworld.com/search/?query=","https://bg.toolsworld.com/search/?query=14911"]
[14912,"Kombinált csavarkulcs, 19 mm, CrV, fekete foszfát//  SIBRTEH",664,"B","Active",{"$f":"VLOOKUP(A452,[1]Sheet1!$A$1:$C$65512,3,FALSE)","v":{"$error":"#N/A"}},null,null,"No info",{"$f":"HYPERLINK(L452,\"линк\")","v":"линк"},"https://bg.toolsworld.com/search/?query=",{"$f":"CONCATENATE(K452,A452)","v":"https://bg.toolsworld.com/search/?query=14912"}]
[14913,"Kombinált csavarkulcs, 22 mm, CrV, fekete foszfát//  SIBRTEH",1183,"B","Active",{"$f":"VLOOKUP(A453,[1]Sheet1!$A$1:$C$65512,3,FALSE)","v":18},null,null,"No info","линк","https://bg.toolsworld.com/search/?query=","https://bg.toolsworld.com/search/?query=14913"]
[14914,"Kombinált csavarkulcs, 24 mm, CrV, fekete foszfát//  SIBRTEH",1230,"B","Active",{"$f":"VLOOKUP(A454,[1]Sheet1!$A$1:$C$65512,3,FALSE)","v":{"$error":"#N/A"}},null,null,"No info","линк","https://bg.toolsworld.com/search/?query=","https://bg.toolsworld.com/search/?query=14914"]
[14915,"Kombinált csavarkulcs, 27 mm, CrV, fekete foszfát//  SIBRTEH",1737,"B","Active",{"$f":"VLOOKUP(A455,[1]Sheet1!$A$1:$C$65512,3,FALSE)","v":134},null,null,"No info","линк","https://bg.toolsworld.com/search/?query=","https://bg.toolsworld.com/search/?query=14915"]
[14916,"Kombinált csavarkulcs, 30 mm, CrV, fekete foszfát//  SIBRTEH",1922,"B","Active",{"$f":"VLOOKUP(A456,[1]Sheet1!$A$1:$C$65512,3,FALSE)","v":23},null,null,"No info","линк","https://bg.toolsworld.com/search/?query=","https://bg.toolsworld.com/search/?query=14916"]
[14917,"Kombinált csavarkulcs, 32 mm, CrV, fekete foszfát//  SIBRTEH",2344,"B","Active",{"$f":"VLOOKUP(A457,[1]Sheet1!$A$1:$C$65512,3,FALSE)","v":25},null,null,"No info","линк","https://bg.toolsworld.com/search/?query=","https://bg.toolsworld.com/search/?query=14917"]
[14936,"Kombinált villáskulcs, 8 mm, horganyzott (KZSMI) RUSSIA",377,"B","Active",{"$f":"VLOOKUP(A458,[1]Sheet1!$A$1:$C$65512,3,FALSE)","v":56},null,null,"No info","линк","https://bg.toolsworld.com/search/?query=","https://bg.toolsworld.com/search/?query=14936"]
[14937,"Kombinált kulcs, 10 mm, horganyzott (KZSMI) RUSSIA",411,"B","Active",{"$f":"VLOOKUP(A459,[1]Sheet1!$A$1:$C$65512,3,FALSE)","v":{"$error":"#N/A"}},null,null,"No info","линк","https://bg.toolsworld.com/search/?query=","https://bg.toolsworld.com/search/?query=14937"]
[14939,"Kombinált villáskulcs, 12 mm, horganyzott (KZSMI) RUSSIA",462,"B","Active",{"$f":"VLOOKUP(A460,[1]Sheet1!$A$1:$C$65512,3,FALSE)","v":33},null,null,"No info","линк","https://bg.toolsworld.com/search/?query=","https://bg.toolsworld.com/search/?query=14939"]
[14940,"Kombinált villáskulcs, 13 mm, horganyzott (KZSMI) RUSSIA",495,"B","Active",{"$f":"VLOOKUP(A461,[1]Sheet1!$A$1:$C$65512,3,FALSE)","v":{"$error":"#N/A"}},null,null,"No info","линк","https://bg.toolsworld.com/search/?query=","https://bg.toolsworld.com/search/?query=14940"]
[14941,"Kombinált villáskulcs, 14 mm, horganyzott (KZSMI) RUSSIA",515,"B","Active",{"$f":"VLOOKUP(A462,[1]Sheet1!$A$1:$C$65512,3,FALSE)","v":39},null,null,"No info","линк","https://bg.toolsworld.com/search/?query=","https://bg.toolsworld.com/search/?query=14941"]
[14944,"Kombinált villáskulcs, 17 mm, horganyzott (KZSMI) RUSSIA",584,"B","Active",{"$f":"VLOOKUP(A463,[1]Sheet1!$A$1:$C$65512,3,FALSE)","v":{"$error":"#N/A"}},null,null,"No info","линк","https://bg.toolsworld.com/search/?query=","https://bg.toolsworld.com/search/?query=14944"]
[14946,"Kombinált villáskulcs, 19 mm, horganyzott (KZSMI) RUSSIA",758,"B","Active",{"$f":"VLOOKUP(A464,[1]Sheet1!$A$1:$C$65512,3,FALSE)","v":{"$error":"#N/A"}},null,null,"No info","линк","https://bg.toolsworld.com/search/?query=","https://bg.toolsworld.com/search/?query=14946"]
[14950,"Elfordítható csavarkulcs 8х9 mm, CrV,12 lapos// Stels",853,"B","Active",{"$f":"VLOOKUP(A465,[1]Sheet1!$A$1:$C$65512,3,FALSE)","v":281},null,null,"No info","линк","https://bg.toolsworld.com/search/?query=","https://bg.toolsworld.com/search/?query=14950"]
[14951,"Elfordítható csavarkulcs 8x10 mm, CrV,12 lapos// Stels",872,"B","Active",{"$f":"VLOOKUP(A466,[1]Sheet1!$A$1:$C$65512,3,FALSE)","v":" "},null,null,"No info","линк","https://bg.toolsworld.com/search/?query=","https://bg.toolsworld.com/search/?query=14951"]
[14952,"Elfordítható csavarkulcs 10x11 mm, CrV,12 lapos// Stels",937,"B","Active",{"$f":"VLOOKUP(A467,[1]Sheet1!$A$1:$C$65512,3,FALSE)","v":277},null,null,"No info","линк","https://bg.toolsworld.com/search/?query=","https://bg.toolsworld.com/search/?query=14952"]
[14953,"Elfordítható csavarkulcs 12x13 mm, CrV,12 lapos// Stels",1128,"B","Active",{"$f":"VLOOKUP(A468,[1]Sheet1!$A$1:$C$65512,3,FALSE)","v":88},null,null,"No info","линк","https://bg.toolsworld.com/search/?query=","https://bg.toolsworld.com/search/?query=14953"]
[14954,"Kombinált villáskulcs, 24 mm, horganyzott (KZSMI) RUSSIA",1079,"B","Active",{"$f":"VLOOKUP(A469,[1]Sheet1!$A$1:$C$65512,3,FALSE)","v":{"$error":"#N/A"}},null,null,"No info","линк","https://bg.toolsworld.com/search/?query=","https://bg.toolsworld.com/search/?query=14954"]
[14955,"Elfordítható csavarkulcs 14x15 mm, CrV,12 lapos// Stels",1289,"B","Active",{"$f":"VLOOKUP(A470,[1]Sheet1!$A$1:$C$65512,3,FALSE)","v":{"$error":"#N/A"}},null,null,"No info","линк","https://bg.toolsworld.com/search/?query=","https://bg.toolsworld.com/search/?query=14955"]
[14959,"Elfordítható csavarkulcs 16x17 mm, CrV,12 lapos// Stels",1425,"B","Active",{"$f":"VLOOKUP(A471,[1]Sheet1!$A$1:$C$65512,3,FALSE)","v":{"$error":"#N/A"}},null,null,"No info","линк","https://bg.toolsworld.com/search/?query=","https://bg.toolsworld.com/search/?query=14959"]
[14961,"Elfordítható csavarkulcs 17х19 mm, CrV,12 lapos// Stels",1664,"B","Active",{"$f":"VLOOKUP(A472,[1]Sheet1!$A$1:$C$65512,3,FALSE)","v":{"$error":"#N/A"}},null,null,"No info","линк","https://bg.toolsworld.com/search/?query=","https://bg.toolsworld.com/search/?query=14961"]
[14963,"Elfordítható csavarkulcs 18x19 mm, CrV,12 lapos// Stels",1694,"B","Active",{"$f":"VLOOKUP(A473,[1]Sheet1!$A$1:$C$65512,3,FALSE)","v":466},null,null,"No info","линк","https://bg.toolsworld.com/search/?query=","https://bg.toolsworld.com/search/?query=14963"]
[14965,"Elfordítható csavarkulcs kit, CrV, 8 pcs.,12 lapos.// Stels",11277,"B","Active",{"$f":"VLOOKUP(A474,[1]Sheet1!$A$1:$C$65512,3,FALSE)","v":30},null,null,"No info","линк","https://bg.toolsworld.com/search/?query=","https://bg.toolsworld.com/search/?query=14965"]
[14972,"Kombinált csavarkulcs 6 mm, sárga cink//  SIBRTEH",179,"B","Active",{"$f":"VLOOKUP(A475,[1]Sheet1!$A$1:$C$65512,3,FALSE)","v":10},null,null,"No info","линк","https://bg.toolsworld.com/search/?query=","https://bg.toolsworld.com/search/?query=14972"]
[14973,"Kombinált csavarkulcs 7 mm, sárga cink//  SIBRTEH",181,"B","Active",{"$f":"VLOOKUP(A476,[1]Sheet1!$A$1:$C$65512,3,FALSE)","v":236},null,null,"No info","линк","https://bg.toolsworld.com/search/?query=","https://bg.toolsworld.com/search/?query=14973"]
[14974,"Kombinált csavarkulcs 8 mm, sárga cink//  SIBRTEH",195,"B","Active",{"$f":"VLOOKUP(A477,[1]Sheet1!$A$1:$C$65512,3,FALSE)","v":{"$error":"#N/A"}},null,null,"No info","линк","https://bg.toolsworld.com/search/?query=","https://bg.toolsworld.com/search/?query=14974"]
[14975,"Kombinált csavarkulcs 9 mm, sárga cink//  SIBRTEH",198,"B","Active",{"$f":"VLOOKUP(A478,[1]Sheet1!$A$1:$C$65512,3,FALSE)","v":{"$error":"#N/A"}},null,null,"No info","линк","https://bg.toolsworld.com/search/?query=","https://bg.toolsworld.com/search/?query=14975"]
[14976,"Kombinált csavarkulcs 10 mm, sárga cink// SIBRTEH",202,"B","Active",{"$f":"VLOOKUP(A479,[1]Sheet1!$A$1:$C$65512,3,FALSE)","v":{"$error":"#N/A"}},null,null,"No info","линк","https://bg.toolsworld.com/search/?query=","https://bg.toolsworld.com/search/?query=14976"]
[14977,"Kombinált csavarkulcs 11 mm, sárga cink// SIBRTEH",238,"B","Active",{"$f":"VLOOKUP(A480,[1]Sheet1!$A$1:$C$65512,3,FALSE)","v":62},null,null,"No info","линк","https://bg.toolsworld.com/search/?query=","https://bg.toolsworld.com/search/?query=14977"]
[14978,"Kombinált csavarkulcs 12 mm, sárga cink// SIBRTEH",275,"B","Active",{"$f":"VLOOKUP(A481,[1]Sheet1!$A$1:$C$65512,3,FALSE)","v":360},null,null,"No info","линк","https://bg.toolsworld.com/search/?query=","https://bg.toolsworld.com/search/?query=14978"]
[14979,"Kombinált csavarkulcs 13 mm, sárga cink// SIBRTEH",281,"B","Active",{"$f":"VLOOKUP(A482,[1]Sheet1!$A$1:$C$65512,3,FALSE)","v":{"$error":"#N/A"}},null,null,"No info","линк","https://bg.toolsworld.com/search/?query=","https://bg.toolsworld.com/search/?query=14979"]
[14980,"Kombinált csavarkulcs 14 mm, sárga cink// SIBRTEH",285,"B","Active",{"$f":"VLOOKUP(A483,[1]Sheet1!$A$1:$C$65512,3,FALSE)","v":28},null,null,"No info","линк","https://bg.toolsworld.com/search/?query=","https://bg.toolsworld.com/search/?query=14980"]
[14981,"Kombinált csavarkulcs 15 mm, sárga cink// SIBRTEH",342,"B","Active",{"$f":"VLOOKUP(A484,[1]Sheet1!$A$1:$C$65512,3,FALSE)","v":232},null,null,"No info","линк","https://bg.toolsworld.com/search/?query=","https://bg.toolsworld.com/search/?query=14981"]
[14982,"Kombinált csavarkulcs 17 mm, sárga cink// SIBRTEH",377,"B","Active",{"$f":"VLOOKUP(A485,[1]Sheet1!$A$1:$C$65512,3,FALSE)","v":58},null,null,"No info","линк","https://bg.toolsworld.com/search/?query=","https://bg.toolsworld.com/search/?query=14982"]
[14983,"Kombinált csavarkulcs 19 mm, sárga cink//  SIBRTEH",417,"B","Active",{"$f":"VLOOKUP(A486,[1]Sheet1!$A$1:$C$65512,3,FALSE)","v":74},null,null,"No info","линк","https://bg.toolsworld.com/search/?query=","https://bg.toolsworld.com/search/?query=14983"]
[14984,"Kombinált csavarkulcs 22 mm, sárga cink//  SIBRTEH",611,"B","Active",{"$f":"VLOOKUP(A487,[1]Sheet1!$A$1:$C$65512,3,FALSE)","v":" "},null,null,"No info","линк","https://bg.toolsworld.com/search/?query=","https://bg.toolsworld.com/search/?query=14984"]
[14986,"Kombinált kulcs 24 mm, sárga cink//SIBRTEH",937,"B","Active",{"$f":"VLOOKUP(A488,[1]Sheet1!$A$1:$C$65512,3,FALSE)","v":{"$error":"#N/A"}},null,null,"No info","линк","https://bg.toolsworld.com/search/?query=","https://bg.toolsworld.com/search/?query=14986"]
[14987,"Kombinált csavarkulcs 27 mm, sárga cink//  SIBRTEH",1525,"B","Active",{"$f":"VLOOKUP(A489,[1]Sheet1!$A$1:$C$65512,3,FALSE)","v":133},null,null,"No info","линк","https://bg.toolsworld.com/search/?query=","https://bg.toolsworld.com/search/?query=14987"]
[14988,"Kombinált kulcs 30 mm, sárga cink//SUBRTEH",1735,"B","Active",{"$f":"VLOOKUP(A490,[1]Sheet1!$A$1:$C$65512,3,FALSE)","v":96},null,null,"No info","линк","https://bg.toolsworld.com/search/?query=","https://bg.toolsworld.com/search/?query=14988"]
[14989,"Kombinált csavarkulcs 32 mm, sárga cink//  SIBRTEH",1876,"B","Active",{"$f":"VLOOKUP(A491,[1]Sheet1!$A$1:$C$65512,3,FALSE)","v":76},null,null,"No info","линк","https://bg.toolsworld.com/search/?query=","https://bg.toolsworld.com/search/?query=14989"]
[15136,"Villáskulcs 17 mm, CrV, hidegbélyeg// Gross",755,"B","Active",{"$f":"VLOOKUP(A492,[1]Sheet1!$A$1:$C$65512,3,FALSE)","v":19},null,null,"No info","линк","https://bg.toolsworld.com/search/?query=","https://bg.toolsworld.com/search/?query=15136"]
[15142,"Villáskulcs 24 mm, CrV, hidegbélyeg// Gross",1456,"B","Active",{"$f":"VLOOKUP(A493,[1]Sheet1!$A$1:$C$65512,3,FALSE)","v":{"$error":"#N/A"}},null,null,"No info","линк","https://bg.toolsworld.com/search/?query=","https://bg.toolsworld.com/search/?query=15142"]
[15145,"Kombinált kulcs 32 mm, CrV, hidegbélyeg// Gross",2574,"B","Active",{"$f":"VLOOKUP(A494,[1]Sheet1!$A$1:$C$65512,3,FALSE)","v":{"$error":"#N/A"}},null,null,"No info","линк","https://bg.toolsworld.com/search/?query=","https://bg.toolsworld.com/search/?query=15145"]
[15147,"Villáskulcs készlet 8-17 mm, 6db CrV, hidegbélyegző// Gross",3932,"B","Active",{"$f":"VLOOKUP(A495,[1]Sheet1!$A$1:$C$65512,3,FALSE)","v":{"$error":"#N/A"}},null,null,"No info","линк","https://bg.toolsworld.com/search/?query=","https://bg.toolsworld.com/search/?query=15147"]
[15148,"Combination wrenches set 8-19 mm, 8pcs CrV, cold stamp// Gross",5028,"B","Active",{"$f":"VLOOKUP(A496,[1]Sheet1!$A$1:$C$65512,3,FALSE)","v":29},null,null,"No info","линк","https://bg.toolsworld.com/search/?query=","https://bg.toolsworld.com/search/?query=15148"]
[15149,"Villáskulcs készlet 6-22 mm, 12db CrV, hidegbélyegző// Gross",7942,"B","Active",{"$f":"VLOOKUP(A497,[1]Sheet1!$A$1:$C$65512,3,FALSE)","v":18},null,null,"No info","линк","https://bg.toolsworld.com/search/?query=","https://bg.toolsworld.com/search/?query=15149"]
[15220,"Kettos villás csavarkulcs készlet, 6 - 19 mm, CrV, fekete foszfát 6 db //  SIBRTEH",2154,"B","Active",{"$f":"VLOOKUP(A498,[1]Sheet1!$A$1:$C$65512,3,FALSE)","v":173},null,null,"No info","линк","https://bg.toolsworld.com/search/?query=","https://bg.toolsworld.com/search/?query=15220"]
[15222,"kettos villás kulcs, 6-24 mm, 8 db., foszfátos// SIBRTEH",3368,"B","Active",{"$f":"VLOOKUP(A499,[1]Sheet1!$A$1:$C$65512,3,FALSE)","v":193},null,null,"No info","линк","https://bg.toolsworld.com/search/?query=","https://bg.toolsworld.com/search/?query=15222"]
[15224,"kettos villás kulcs, 6-32 mm, 10 db., foszfátos// SIBRTEH",6887,"B","Active",{"$f":"VLOOKUP(A500,[1]Sheet1!$A$1:$C$65512,3,FALSE)","v":315},null,null,"No info","линк","https://bg.toolsworld.com/search/?query=","https://bg.toolsworld.com/search/?query=15224"]
[15243,"Kombinált villáskulcs, 6 mm, CrV, csúszásgátló// Stels",238,"B","Active",{"$f":"VLOOKUP(A501,[1]Sheet1!$A$1:$C$65512,3,FALSE)","v":231},null,null,"No info","линк","https://bg.toolsworld.com/search/?query=","https://bg.toolsworld.com/search/?query=15243"]
[15244,"Kombinált villáskulcs, 7 mm, CrV, csúszásgátló// Stels",252,"B","Active",{"$f":"VLOOKUP(A502,[1]Sheet1!$A$1:$C$65512,3,FALSE)","v":100},null,null,"No info","линк","https://bg.toolsworld.com/search/?query=","https://bg.toolsworld.com/search/?query=15244"]
[15245,"Kombinált villáskulcs, 8 mm, CrV, csúszásgátló// Stels",271,"B","Active",{"$f":"VLOOKUP(A503,[1]Sheet1!$A$1:$C$65512,3,FALSE)","v":85},null,null,"No info","линк","https://bg.toolsworld.com/search/?query=","https://bg.toolsworld.com/search/?query=15245"]
[15246,"Kombinált villáskulcs, 9 mm, CrV, csúszásgátló// Stels",293,"B","Active",{"$f":"VLOOKUP(A504,[1]Sheet1!$A$1:$C$65512,3,FALSE)","v":73},null,null,"No info","линк","https://bg.toolsworld.com/search/?query=","https://bg.toolsworld.com/search/?query=15246"]
[15247,"Kombinált villáskulcs, 10 mm, CrV, csúszásgátló// Stels",297,"B","Active",{"$f":"VLOOKUP(A505,[1]Sheet1!$A$1:$C$65512,3,FALSE)","v":{"$error":"#N/A"}},null,null,"No info","линк","https://bg.toolsworld.com/search/?query=","https://bg.toolsworld.com/search/?query=15247"]
[15248,"Kombinált villáskulcs, 11 mm, CrV, csúszásgátló// Stels",310,"B","Active",{"$f":"VLOOKUP(A506,[1]Sheet1!$A$1:$C$65512,3,FALSE)","v":75},null,null,"No info","линк","https://bg.toolsworld.com/search/?query=","https://bg.toolsworld.com/search/?query=15248"]
[15249,"Kombinált villáskulcs, 12 mm, CrV, csúszásgátló// Stels",356,"B","Active",{"$f":"VLOOKUP(A507,[1]Sheet1!$A$1:$C$65512,3,FALSE)","v":9},null,null,"No info","линк","https://bg.toolsworld.com/search/?query=","https://bg.toolsworld.com/search/?query=15249"]
[15251,"Kombinált villáskulcs, 14 mm, CrV, csúszásgátló// Stels",409,"B","Active",{"$f":"VLOOKUP(A508,[1]Sheet1!$A$1:$C$65512,3,FALSE)","v":50},null,null,"No info","линк","https://bg.toolsworld.com/search/?query=","https://bg.toolsworld.com/search/?query=15251"]
[15252,"Kombinált villáskulcs, 15 mm, CrV, csúszásgátló// Stels",481,"B","Active",{"$f":"VLOOKUP(A509,[1]Sheet1!$A$1:$C$65512,3,FALSE)","v":98},null,null,"No info","линк","https://bg.toolsworld.com/search/?query=","https://bg.toolsworld.com/search/?query=15252"]
[15257,"Kombinált villáskulcs, 20 mm, CrV, csúszásgátló// STEL",790,"B","Active",{"$f":"VLOOKUP(A510,[1]Sheet1!$A$1:$C$65512,3,FALSE)","v":8},null,null,"No info","линк","https://bg.toolsworld.com/search/?query=","https://bg.toolsworld.com/search/?query=15257"]
[15259,"Kombinált villáskulcs, 22 mm, CrV, csúszásgátló// Stels",863,"B","Active",{"$f":"VLOOKUP(A511,[1]Sheet1!$A$1:$C$65512,3,FALSE)","v":10},null,null,"No info","линк","https://bg.toolsworld.com/search/?query=","https://bg.toolsworld.com/search/?query=15259"]
[15261,"Kombinált villáskulcs, 24 mm, CrV, csúszásgátló// Stels",1104,"B","Active",{"$f":"VLOOKUP(A512,[1]Sheet1!$A$1:$C$65512,3,FALSE)","v":{"$error":"#N/A"}},null,null,"No info","линк","https://bg.toolsworld.com/search/?query=","https://bg.toolsworld.com/search/?query=15261"]
[15262,"Kombinált villáskulcs, 25 mm, CrV, csúszásgátló// Stels",1183,"B","Active",{"$f":"VLOOKUP(A513,[1]Sheet1!$A$1:$C$65512,3,FALSE)","v":{"$error":"#N/A"}},null,null,"No info","линк","https://bg.toolsworld.com/search/?query=","https://bg.toolsworld.com/search/?query=15262"]
[15263,"Kombinált villáskulcs, 26 mm, CrV, csúszásgátló// Stels",1377,"B","Active",{"$f":"VLOOKUP(A514,[1]Sheet1!$A$1:$C$65512,3,FALSE)","v":{"$error":"#N/A"}},null,null,"No info","линк","https://bg.toolsworld.com/search/?query=","https://bg.toolsworld.com/search/?query=15263"]
[15264,"Kombinált villáskulcs, 27 mm, CrV, csúszásgátló// Stels",1537,"B","Active",{"$f":"VLOOKUP(A515,[1]Sheet1!$A$1:$C$65512,3,FALSE)","v":{"$error":"#N/A"}},null,null,"No info","линк","https://bg.toolsworld.com/search/?query=","https://bg.toolsworld.com/search/?query=15264"]
[15265,"Kombinált villáskulcs, 28 mm, CrV, csúszásgátló// Stels",1721,"B","Active",{"$f":"VLOOKUP(A516,[1]Sheet1!$A$1:$C$65512,3,FALSE)","v":{"$error":"#N/A"}},null,null,"No info",{"$f":"HYPERLINK(L516,\"линк\")","v":"линк"},"https://bg.toolsworld.com/search/?query=",{"$f":"CONCATENATE(K516,A516)","v":"https://bg.toolsworld.com/search/?query=15265"}]
[15267,"Kombinált villáskulcs, 32 mm, CrV, csúszásgátló// Stels",2167,"B","Active",{"$f":"VLOOKUP(A517,[1]Sheet1!$A$1:$C$65512,3,FALSE)","v":{"$error":"#N/A"}},null,null,"No info","линк","https://bg.toolsworld.com/search/?query=","https://bg.toolsworld.com/search/?query=15267"]
[15414,"6 db Kombinált villáskulcs készlet, 6 - 17 mm, CrV, polírozott// Mátrix",1945,"B","Active",{"$f":"VLOOKUP(A518,[1]Sheet1!$A$1:$C$65512,3,FALSE)","v":40},null,null,"No info","линк","https://bg.toolsworld.com/search/?query=","https://bg.toolsworld.com/search/?query=15414"]
[15427,"6 db Kombinált villáskulcs készlet, 8-17 mm, CrV, szatén kivitel// Stels",2381,"B","Active",{"$f":"VLOOKUP(A519,[1]Sheet1!$A$1:$C$65512,3,FALSE)","v":510},null,null,"No info","линк","https://bg.toolsworld.com/search/?query=","https://bg.toolsworld.com/search/?query=15427"]
[15431,"26 db Kombinált villáskulcs készlet, 6-32 mm, CrV, szatén kivitel// Stels",25658,"B","Active",{"$f":"VLOOKUP(A520,[1]Sheet1!$A$1:$C$65512,3,FALSE)","v":135},null,null,"No info","линк","https://bg.toolsworld.com/search/?query=","https://bg.toolsworld.com/search/?query=15431"]
[15452,"Kombinált csavarkulcs készlet, 6-22 mm, CrV,12 db //  SIBRTEH",4696,"B","Active",{"$f":"VLOOKUP(A521,[1]Sheet1!$A$1:$C$65512,3,FALSE)","v":706},null,null,"No info","линк","https://bg.toolsworld.com/search/?query=","https://bg.toolsworld.com/search/?query=15452"]
[15471,"Kombinált csavarkulcs készlet, 8 - 17 mm, CrV, fekete foszfát,6 db //  SIBRTEH",2114,"B","Active",{"$f":"VLOOKUP(A522,[1]Sheet1!$A$1:$C$65512,3,FALSE)","v":" "},null,null,"No info","линк","https://bg.toolsworld.com/search/?query=","https://bg.toolsworld.com/search/?query=15471"]
[15473,"Kombinált csavarkulcs készlet, 6 - 19 mm, CrV, fekete foszfát,8 db //  SIBRTEH",3435,"B","Active",{"$f":"VLOOKUP(A523,[1]Sheet1!$A$1:$C$65512,3,FALSE)","v":45},null,null,"No info","линк","https://bg.toolsworld.com/search/?query=","https://bg.toolsworld.com/search/?query=15473"]
[15475,"Kombinált csavarkulcs készlet, 6 - 22 mm, CrV, fekete foszfát,10 db //  SIBRTEH",5097,"B","Active",{"$f":"VLOOKUP(A524,[1]Sheet1!$A$1:$C$65512,3,FALSE)","v":{"$error":"#N/A"}},null,null,"No info","линк","https://bg.toolsworld.com/search/?query=","https://bg.toolsworld.com/search/?query=15475"]
[15477,"Kombinált csavarkulcs készlet, 6 - 22 mm, CrV, fekete foszfát,12 db //  SIBRTEH",5443,"B","Active",{"$f":"VLOOKUP(A525,[1]Sheet1!$A$1:$C$65512,3,FALSE)","v":449},null,null,"No info","линк","https://bg.toolsworld.com/search/?query=","https://bg.toolsworld.com/search/?query=15477"]
[15526,"Állítható csavarkulcs, 200 mm, nikkelezett// Сибртех",1189,"B","Active",{"$f":"VLOOKUP(A526,[1]Sheet1!$A$1:$C$65512,3,FALSE)","v":{"$error":"#N/A"}},null,null,"No info","линк","https://bg.toolsworld.com/search/?query=","https://bg.toolsworld.com/search/?query=15526"]
[15534,"Állítható csavarkulcs, vékony pofák, foszfátozott, 200 mm// Sibrteh",0,"B","Active",{"$f":"VLOOKUP(A527,[1]Sheet1!$A$1:$C$65512,3,FALSE)","v":{"$error":"#N/A"}},null,null,"No info","линк","https://bg.toolsworld.com/search/?query=","https://bg.toolsworld.com/search/?query=15534"]
[15536,"Állítható csavarkulcs, vékony pofák, foszfátozott, 250 mm// Sibrteh",0,"B","Active",{"$f":"VLOOKUP(A528,[1]Sheet1!$A$1:$C$65512,3,FALSE)","v":{"$error":"#N/A"}},null,null,"No info","линк","https://bg.toolsworld.com/search/?query=","https://bg.toolsworld.com/search/?query=15536"]
[15537,"Állítható csavarkulcs, vékony pofák, foszfátozott, 300 mm// Sibrteh",7952,"B","Active",{"$f":"VLOOKUP(A529,[1]Sheet1!$A$1:$C$65512,3,FALSE)","v":88},null,null,"No info","линк","https://bg.toolsworld.com/search/?query=","https://bg.toolsworld.com/search/?query=15537"]
[15541,"Szabályozható fogó, 150 mm, két komponensu nyél//SPARTA",859,"B","Active",{"$f":"VLOOKUP(A530,[1]Sheet1!$A$1:$C$65512,3,FALSE)","v":{"$error":"#N/A"}},null,null,"No info","линк","https://bg.toolsworld.com/search/?query=","https://bg.toolsworld.com/search/?query=15541"]
[15542,"Szabályozható fogó, 200 mm, két komponensu nyél//SPARTA",1189,"B","Active",{"$f":"VLOOKUP(A531,[1]Sheet1!$A$1:$C$65512,3,FALSE)","v":18},null,null,"No info","линк","https://bg.toolsworld.com/search/?query=","https://bg.toolsworld.com/search/?query=15542"]
[15543,"Szabályozható fogó, 250 mm, két komponensu nyél//SPARTA",1654,"B","Active",{"$f":"VLOOKUP(A532,[1]Sheet1!$A$1:$C$65512,3,FALSE)","v":28},null,null,"No info","линк","https://bg.toolsworld.com/search/?query=","https://bg.toolsworld.com/search/?query=15543"]
[15544,"Szabályozható fogó, 300 mm, két komponensu nyél//SPARTA",2089,"B","Active",{"$f":"VLOOKUP(A533,[1]Sheet1!$A$1:$C$65512,3,FALSE)","v":" "},null,null,"No info","линк","https://bg.toolsworld.com/search/?query=","https://bg.toolsworld.com/search/?query=15544"]
[15561,"Állítható csavarkulcs, 200mm, CrV kétkomponensű fogantyú// GROSS",5284,"B","Active",{"$f":"VLOOKUP(A534,[1]Sheet1!$A$1:$C$65512,3,FALSE)","v":356},null,null,"No info","линк","https://bg.toolsworld.com/search/?query=","https://bg.toolsworld.com/search/?query=15561"]
[15562,"Állítható csavarkulcs, 250mm, CrV kétkomponensű fogantyú// GROSS",6563,"B","Active",{"$f":"VLOOKUP(A535,[1]Sheet1!$A$1:$C$65512,3,FALSE)","v":169},null,null,"No info","линк","https://bg.toolsworld.com/search/?query=","https://bg.toolsworld.com/search/?query=15562"]
[15564,"Állítható csavarkulcs, 120mm, CrV rövid nyél// Gross",4608,"B","Active",{"$f":"VLOOKUP(A536,[1]Sheet1!$A$1:$C$65512,3,FALSE)","v":129},null,null,"No info","линк","https://bg.toolsworld.com/search/?query=","https://bg.toolsworld.com/search/?query=15564"]
[15565,"Állítható csavarkulcs, 140mm, CrV rövid nyél// Gross",5765,"B","Active",{"$f":"VLOOKUP(A537,[1]Sheet1!$A$1:$C$65512,3,FALSE)","v":28},null,null,"No info","линк","https://bg.toolsworld.com/search/?query=","https://bg.toolsworld.com/search/?query=15565"]
[15566,"Állítható csavarkulcs, 160mm, CrV rövid nyél// Gross",7486,"B","Active",{"$f":"VLOOKUP(A538,[1]Sheet1!$A$1:$C$65512,3,FALSE)","v":126},null,null,"No info","линк","https://bg.toolsworld.com/search/?query=","https://bg.toolsworld.com/search/?query=15566"]
[15567,"Állítható villáskulcs, 150 mm, CrV, vékony pofákon védobetéttel Gross",5671,"B","Active",{"$f":"VLOOKUP(A539,[1]Sheet1!$A$1:$C$65512,3,FALSE)","v":{"$error":"#N/A"}},null,null,"No info","линк","https://bg.toolsworld.com/search/?query=","https://bg.toolsworld.com/search/?query=15567"]
[15568,"Állítható villáskulcs, 200mm, CrV, vékony pofákon védobetéttel Gross",6860,"B","Active",{"$f":"VLOOKUP(A540,[1]Sheet1!$A$1:$C$65512,3,FALSE)","v":107},null,null,"No info","линк","https://bg.toolsworld.com/search/?query=","https://bg.toolsworld.com/search/?query=15568"]
[15569,"Állítható villáskulcs, 250 mm, CrV, vékony pofákon védobetéttel Gross",9170,"B","Active",{"$f":"VLOOKUP(A541,[1]Sheet1!$A$1:$C$65512,3,FALSE)","v":300},null,null,"No info","линк","https://bg.toolsworld.com/search/?query=","https://bg.toolsworld.com/search/?query=15569"]
[15572,"Állítható csavarkulcs, mozgatható pofa, 200 mm, CRV //GROSS",6710,"B","Active",{"$f":"VLOOKUP(A542,[1]Sheet1!$A$1:$C$65512,3,FALSE)","v":107},null,null,"No info","линк","https://bg.toolsworld.com/search/?query=","https://bg.toolsworld.com/search/?query=15572"]
[15575,"Szabályozható fogó, 250 mm (NIZ) Russia",2175,"B","Active",{"$f":"VLOOKUP(A543,[1]Sheet1!$A$1:$C$65512,3,FALSE)","v":{"$error":"#N/A"}},null,null,"No info","линк","https://bg.toolsworld.com/search/?query=","https://bg.toolsworld.com/search/?query=15575"]
[15600,"Csokulcs ¹0, 3/4\" tömörkovácsolt CrV L - típus GROSS",3254,"B","Active",{"$f":"VLOOKUP(A544,[1]Sheet1!$A$1:$C$65512,3,FALSE)","v":76},null,null,"No info","линк","https://bg.toolsworld.com/search/?query=","https://bg.toolsworld.com/search/?query=15600"]
[15601,"Csokulcs, ¹1,  1\" CrV L típus,tömörkovácsolt",3885,"B","Active",{"$f":"VLOOKUP(A545,[1]Sheet1!$A$1:$C$65512,3,FALSE)","v":265},null,null,"No info","линк","https://bg.toolsworld.com/search/?query=","https://bg.toolsworld.com/search/?query=15601"]
[15603,"Csokulcs, ¹ 2,  1,5\" CrV L típus,tömörkovácsolt",6111,"B","Active",{"$f":"VLOOKUP(A546,[1]Sheet1!$A$1:$C$65512,3,FALSE)","v":237},null,null,"No info","линк","https://bg.toolsworld.com/search/?query=","https://bg.toolsworld.com/search/?query=15603"]
[15605,"Csokulcs,¹3,  2\" CrV L típus,tömörkovácsolt",10100,"B","Active",{"$f":"VLOOKUP(A547,[1]Sheet1!$A$1:$C$65512,3,FALSE)","v":103},null,null,"No info","линк","https://bg.toolsworld.com/search/?query=","https://bg.toolsworld.com/search/?query=15605"]
[15606,"Csokulcs ¹4, 3 tömörkovácsolt CrV L  típus GROSS",14385,"B","Active",{"$f":"VLOOKUP(A548,[1]Sheet1!$A$1:$C$65512,3,FALSE)","v":86},null,null,"No info","линк","https://bg.toolsworld.com/search/?query=","https://bg.toolsworld.com/search/?query=15606"]
[15610,"Csokulcs ¹0, 0,5 tömörkovácsolt CrV S típus GROSS",2745,"B","Active",{"$f":"VLOOKUP(A549,[1]Sheet1!$A$1:$C$65512,3,FALSE)","v":162},null,null,"No info","линк","https://bg.toolsworld.com/search/?query=","https://bg.toolsworld.com/search/?query=15610"]
[15611,"Csokulcs , ¹1, 1\" CrV S típus,tömörkovácsolt",3788,"B","Active",{"$f":"VLOOKUP(A550,[1]Sheet1!$A$1:$C$65512,3,FALSE)","v":512},null,null,"No info","линк","https://bg.toolsworld.com/search/?query=","https://bg.toolsworld.com/search/?query=15611"]
[15613,"Csokulcs, ¹2, 1,5\" CrV S típus,tömörkovácsolt",6052,"B","Active",{"$f":"VLOOKUP(A551,[1]Sheet1!$A$1:$C$65512,3,FALSE)","v":481},null,null,"No info","линк","https://bg.toolsworld.com/search/?query=","https://bg.toolsworld.com/search/?query=15613"]
[15615,"Csokulcs, ¹3,  2\" CrV S típus,tömörkovácsolt",10072,"B","Active",{"$f":"VLOOKUP(A552,[1]Sheet1!$A$1:$C$65512,3,FALSE)","v":166},null,null,"No info","линк","https://bg.toolsworld.com/search/?query=","https://bg.toolsworld.com/search/?query=15615"]
[15616,"Csokulcs ¹4, 3 tömörkovácsolt CrV S típus GROSS",14122,"B","Active",{"$f":"VLOOKUP(A553,[1]Sheet1!$A$1:$C$65512,3,FALSE)","v":115},null,null,"No info","линк","https://bg.toolsworld.com/search/?query=","https://bg.toolsworld.com/search/?query=15616"]
[15620,"Csőkulcs №0, 0,5 tömör kovácsolt CrV B - típus// Gross",2763,"B","Active",{"$f":"VLOOKUP(A554,[1]Sheet1!$A$1:$C$65512,3,FALSE)","v":385},null,null,"No info","линк","https://bg.toolsworld.com/search/?query=","https://bg.toolsworld.com/search/?query=15620"]
[15621,"Csőkulcs №1, 1 tömör kovácsolt CrV B - típus// Gross",3853,"B","Active",{"$f":"VLOOKUP(A555,[1]Sheet1!$A$1:$C$65512,3,FALSE)","v":516},null,null,"No info","линк","https://bg.toolsworld.com/search/?query=","https://bg.toolsworld.com/search/?query=15621"]
[15622,"Csőkulcs №2, 1,5 tömör kovácsolt CrV B - típus// Gross",6070,"B","Active",{"$f":"VLOOKUP(A556,[1]Sheet1!$A$1:$C$65512,3,FALSE)","v":579},null,null,"No info","линк","https://bg.toolsworld.com/search/?query=","https://bg.toolsworld.com/search/?query=15622"]
[15624,"Csőkulcs №4, 3 tömör kovácsolt CrV B - típus// Gross",14259,"B","Active",{"$f":"VLOOKUP(A557,[1]Sheet1!$A$1:$C$65512,3,FALSE)","v":33},null,null,"No info","линк","https://bg.toolsworld.com/search/?query=","https://bg.toolsworld.com/search/?query=15624"]
[15711,"Vízpumpa fogó, gombos mechanizmus, huvely fogantyúk 180 mm// Gross",9296,"B","Active",{"$f":"VLOOKUP(A558,[1]Sheet1!$A$1:$C$65512,3,FALSE)","v":{"$error":"#N/A"}},null,null,"No info","линк","https://bg.toolsworld.com/search/?query=","https://bg.toolsworld.com/search/?query=15711"]
[15715,"Harapófogó 240 mm, befecskendezéses eljárással megformált nyél, CrV // GROSS",7001,"B","Active",{"$f":"VLOOKUP(A559,[1]Sheet1!$A$1:$C$65512,3,FALSE)","v":214},null,null,"No info","линк","https://bg.toolsworld.com/search/?query=","https://bg.toolsworld.com/search/?query=15715"]
[15723,"Vízpumpa fogó, fröccsöntött fogantyúk 180 mm// Gross",6095,"B","Active",{"$f":"VLOOKUP(A560,[1]Sheet1!$A$1:$C$65512,3,FALSE)","v":62},null,null,"No info","линк","https://bg.toolsworld.com/search/?query=","https://bg.toolsworld.com/search/?query=15723"]
[15724,"Channel lock pliers, injection molded handles 300 mm// Gross",9940,"B","Active",{"$f":"VLOOKUP(A561,[1]Sheet1!$A$1:$C$65512,3,FALSE)","v":61},null,null,"No info","линк","https://bg.toolsworld.com/search/?query=","https://bg.toolsworld.com/search/?query=15724"]
[15727,"Vízpumpa fogó, gombszerkezet, fröccsöntött fogantyúk, 250 mm// Gross",10153,"B","Active",{"$f":"VLOOKUP(A562,[1]Sheet1!$A$1:$C$65512,3,FALSE)","v":{"$error":"#N/A"}},null,null,"No info","линк","https://bg.toolsworld.com/search/?query=","https://bg.toolsworld.com/search/?query=15727"]
[15728,"Vízpumpa fogó, gombos mechanizmus, huvely fogantyúk 300 mm// Gross",13456,"B","Active",{"$f":"VLOOKUP(A563,[1]Sheet1!$A$1:$C$65512,3,FALSE)","v":{"$error":"#N/A"}},null,null,"No info","линк","https://bg.toolsworld.com/search/?query=","https://bg.toolsworld.com/search/?query=15728"]
[15736,"Állítható csofogó 330 х 25 mm, íves fogó résszel//SIBRTEH",2637,"B","Active",{"$f":"VLOOKUP(A564,[1]Sheet1!$A$1:$C$65512,3,FALSE)","v":{"$error":"#N/A"}},null,null,"No info","линк","https://bg.toolsworld.com/search/?query=","https://bg.toolsworld.com/search/?query=15736"]
[15740,"Állítható csofogó 405 х 37 mm, íves fogó résszel//SIBRTEH",3757,"B","Active",{"$f":"VLOOKUP(A565,[1]Sheet1!$A$1:$C$65512,3,FALSE)","v":{"$error":"#N/A"}},null,null,"No info","линк","https://bg.toolsworld.com/search/?query=","https://bg.toolsworld.com/search/?query=15740"]
[15744,"Állítható csofogó 545 х 50 mm, íves fogó résszel//SIBRTEH",5761,"B","Active",{"$f":"VLOOKUP(A566,[1]Sheet1!$A$1:$C$65512,3,FALSE)","v":{"$error":"#N/A"}},null,null,"No info","линк","https://bg.toolsworld.com/search/?query=","https://bg.toolsworld.com/search/?query=15744"]
[15757,"Állítható csofogó №0, öntött // SIBRTEH",2301,"B","Active",{"$f":"VLOOKUP(A567,[1]Sheet1!$A$1:$C$65512,3,FALSE)","v":{"$error":"#N/A"}},null,null,"No info","линк","https://bg.toolsworld.com/search/?query=","https://bg.toolsworld.com/search/?query=15757"]
[15758,"Állítható csofogó №1, öntött // SIBRTEH",2584,"B","Active",{"$f":"VLOOKUP(A568,[1]Sheet1!$A$1:$C$65512,3,FALSE)","v":{"$error":"#N/A"}},null,null,"No info","линк","https://bg.toolsworld.com/search/?query=","https://bg.toolsworld.com/search/?query=15758"]
[15759,"Állítható csofogó №2, öntött // SIBRTEH",3725,"B","Active",{"$f":"VLOOKUP(A569,[1]Sheet1!$A$1:$C$65512,3,FALSE)","v":{"$error":"#N/A"}},null,null,"No info","линк","https://bg.toolsworld.com/search/?query=","https://bg.toolsworld.com/search/?query=15759"]
[15761,"Állítható csofogó №3, öntött // SIBRTEH",5791,"B","Active",{"$f":"VLOOKUP(A570,[1]Sheet1!$A$1:$C$65512,3,FALSE)","v":126},null,null,"No info","линк","https://bg.toolsworld.com/search/?query=","https://bg.toolsworld.com/search/?query=15761"]
[15762,"Állítható csofogó №4, öntött // SIBRTEH",8638,"B","Active",{"$f":"VLOOKUP(A571,[1]Sheet1!$A$1:$C$65512,3,FALSE)","v":83},null,null,"No info","линк","https://bg.toolsworld.com/search/?query=","https://bg.toolsworld.com/search/?query=15762"]
[15769,"Franciakulcs KTP-0 // SIBRTEH",2038,"B","Active",{"$f":"VLOOKUP(A572,[1]Sheet1!$A$1:$C$65512,3,FALSE)","v":{"$error":"#N/A"}},null,null,"No info","линк","https://bg.toolsworld.com/search/?query=","https://bg.toolsworld.com/search/?query=15769"]
[15770,"FranciakulcsKTP-1 // SIBRTEH",2258,"B","Active",{"$f":"VLOOKUP(A573,[1]Sheet1!$A$1:$C$65512,3,FALSE)","v":" "},null,null,"No info","линк","https://bg.toolsworld.com/search/?query=","https://bg.toolsworld.com/search/?query=15770"]
[15771,"Állítható csokulcs KTP-2 // SIBRTEH",3468,"B","Active",{"$f":"VLOOKUP(A574,[1]Sheet1!$A$1:$C$65512,3,FALSE)","v":{"$error":"#N/A"}},null,null,"No info","линк","https://bg.toolsworld.com/search/?query=","https://bg.toolsworld.com/search/?query=15771"]
[15772,"Franciakulcs KTP-3  // SIBRTEH",5400,"B","Active",{"$f":"VLOOKUP(A575,[1]Sheet1!$A$1:$C$65512,3,FALSE)","v":3},null,null,"No info","линк","https://bg.toolsworld.com/search/?query=","https://bg.toolsworld.com/search/?query=15772"]
[15923,"Fém reszelo, 150 mm, négyzetes, fa nyéllel // SIBRTEH ",371,"B","Active",{"$f":"VLOOKUP(A576,[1]Sheet1!$A$1:$C$65512,3,FALSE)","v":" "},null,null,"No info","линк","https://bg.toolsworld.com/search/?query=","https://bg.toolsworld.com/search/?query=15923"]
[15926,"Sorjázó 200 mm fa nyéllel //SIBRTEH",481,"B","Active",{"$f":"VLOOKUP(A577,[1]Sheet1!$A$1:$C$65512,3,FALSE)","v":{"$error":"#N/A"}},null,null,"No info","линк","https://bg.toolsworld.com/search/?query=","https://bg.toolsworld.com/search/?query=15926"]
[15929,"Sorjázó 250 mm fa nyéllel// SIBRTEH",670,"B","Active",{"$f":"VLOOKUP(A578,[1]Sheet1!$A$1:$C$65512,3,FALSE)","v":118},null,null,"No info","линк","https://bg.toolsworld.com/search/?query=","https://bg.toolsworld.com/search/?query=15929"]
[15932,"Sorjázó 300 mm fa nyéllel// SIBRTEH",845,"B","Active",{"$f":"VLOOKUP(A579,[1]Sheet1!$A$1:$C$65512,3,FALSE)","v":{"$error":"#N/A"}},null,null,"No info","линк","https://bg.toolsworld.com/search/?query=","https://bg.toolsworld.com/search/?query=15932"]
[16023,"Háromszög alakú reszelo fa nyéllel 150mm// SIBRTEH",381,"B","Active",{"$f":"VLOOKUP(A580,[1]Sheet1!$A$1:$C$65512,3,FALSE)","v":{"$error":"#N/A"}},null,null,"No info",{"$f":"HYPERLINK(L580,\"линк\")","v":"линк"},"https://bg.toolsworld.com/search/?query=",{"$f":"CONCATENATE(K580,A580)","v":"https://bg.toolsworld.com/search/?query=16023"}]
[16024,"Háromszög reszelő 150 mm, kétkomponensű nyél, №2// Сибртех",554,"B","Active",{"$f":"VLOOKUP(A581,[1]Sheet1!$A$1:$C$65512,3,FALSE)","v":{"$error":"#N/A"}},null,null,"No info","линк","https://bg.toolsworld.com/search/?query=","https://bg.toolsworld.com/search/?query=16024"]
[16026,"Háromszög alakú reszelo fa nyéllel 200mm //SIBRTEH",481,"B","Active",{"$f":"VLOOKUP(A582,[1]Sheet1!$A$1:$C$65512,3,FALSE)","v":{"$error":"#N/A"}},null,null,"No info","линк","https://bg.toolsworld.com/search/?query=","https://bg.toolsworld.com/search/?query=16026"]
[16029,"Háromszög alakú reszelo fa nyéllel 250mm// SIBRTEH",670,"B","Active",{"$f":"VLOOKUP(A583,[1]Sheet1!$A$1:$C$65512,3,FALSE)","v":1},null,null,"No info","линк","https://bg.toolsworld.com/search/?query=","https://bg.toolsworld.com/search/?query=16029"]
[16032,"Háromszög alakú reszelo fa nyéllel 300mm// SIBRTEH",867,"B","Active",{"$f":"VLOOKUP(A584,[1]Sheet1!$A$1:$C$65512,3,FALSE)","v":190},null,null,"No info","линк","https://bg.toolsworld.com/search/?query=","https://bg.toolsworld.com/search/?query=16032"]
[16123,"Fém reszelo, 150 mm, kör keresztmetszetu, fa nyéllel // SIBRTEH ",348,"B","Active",{"$f":"VLOOKUP(A585,[1]Sheet1!$A$1:$C$65512,3,FALSE)","v":3},null,null,"No info","линк","https://bg.toolsworld.com/search/?query=","https://bg.toolsworld.com/search/?query=16123"]
[16126,"Lekerekített reszelo 200 mm fa nyéllel //SIBRTEH",409,"B","Active",{"$f":"VLOOKUP(A586,[1]Sheet1!$A$1:$C$65512,3,FALSE)","v":307},null,null,"No info","линк","https://bg.toolsworld.com/search/?query=","https://bg.toolsworld.com/search/?query=16126"]
[16129,"Lekerekített reszelo 250 mm fa nyéllel// SIBRTEH",582,"B","Active",{"$f":"VLOOKUP(A587,[1]Sheet1!$A$1:$C$65512,3,FALSE)","v":67},null,null,"No info","линк","https://bg.toolsworld.com/search/?query=","https://bg.toolsworld.com/search/?query=16129"]
[16132,"Lekerekített reszelo 300 mm fa nyéllel// SIBRTEH",821,"B","Active",{"$f":"VLOOKUP(A588,[1]Sheet1!$A$1:$C$65512,3,FALSE)","v":507},null,null,"No info","линк","https://bg.toolsworld.com/search/?query=","https://bg.toolsworld.com/search/?query=16132"]
[16223,"Fém reszelo, 150 mm,lapos, fa nyéllel // SIBRTEH ",403,"B","Active",{"$f":"VLOOKUP(A589,[1]Sheet1!$A$1:$C$65512,3,FALSE)","v":324},null,null,"No info","линк","https://bg.toolsworld.com/search/?query=","https://bg.toolsworld.com/search/?query=16223"]
[16226,"Lapos reszelo fa nyéllel 200 mm //SIBRTEH",560,"B","Active",{"$f":"VLOOKUP(A590,[1]Sheet1!$A$1:$C$65512,3,FALSE)","v":154},null,null,"No info","линк","https://bg.toolsworld.com/search/?query=","https://bg.toolsworld.com/search/?query=16226"]
[16227,"Lapos reszelő 200 mm, kétkomponensű nyél, №2// Сибртех",935,"B","Active",{"$f":"VLOOKUP(A591,[1]Sheet1!$A$1:$C$65512,3,FALSE)","v":{"$error":"#N/A"}},null,null,"No info","линк","https://bg.toolsworld.com/search/?query=","https://bg.toolsworld.com/search/?query=16227"]
[16229,"Lapos reszelo fa nyéllel 250 mm// SIBRTEH",808,"B","Active",{"$f":"VLOOKUP(A592,[1]Sheet1!$A$1:$C$65512,3,FALSE)","v":{"$error":"#N/A"}},null,null,"No info","линк","https://bg.toolsworld.com/search/?query=","https://bg.toolsworld.com/search/?query=16229"]
[16230,"Lapos reszelő 250 mm, kétkomponensű nyél, №2// Сибртех",982,"B","Active",{"$f":"VLOOKUP(A593,[1]Sheet1!$A$1:$C$65512,3,FALSE)","v":{"$error":"#N/A"}},null,null,"No info","линк","https://bg.toolsworld.com/search/?query=","https://bg.toolsworld.com/search/?query=16230"]
[16232,"Lapos reszelo fa nyéllel 300 mm// SIBRTEH",1059,"B","Active",{"$f":"VLOOKUP(A594,[1]Sheet1!$A$1:$C$65512,3,FALSE)","v":31},null,null,"No info","линк","https://bg.toolsworld.com/search/?query=","https://bg.toolsworld.com/search/?query=16232"]
[16323,"Félig lekerekített reszelo 150 mm fa nyéllel// SIBRTEH",426,"B","Active",{"$f":"VLOOKUP(A595,[1]Sheet1!$A$1:$C$65512,3,FALSE)","v":{"$error":"#N/A"}},null,null,"No info","линк","https://bg.toolsworld.com/search/?query=","https://bg.toolsworld.com/search/?query=16323"]
[16324,"Félkör reszelő 150 mm, kétkomponensű nyél, №2// Сибртех",756,"B","Active",{"$f":"VLOOKUP(A596,[1]Sheet1!$A$1:$C$65512,3,FALSE)","v":{"$error":"#N/A"}},null,null,"No info","линк","https://bg.toolsworld.com/search/?query=","https://bg.toolsworld.com/search/?query=16324"]
[16326,"Félig lekerekített reszelo 200 mm fa nyéllel //SIBRTEH",578,"B","Active",{"$f":"VLOOKUP(A597,[1]Sheet1!$A$1:$C$65512,3,FALSE)","v":{"$error":"#N/A"}},null,null,"No info","линк","https://bg.toolsworld.com/search/?query=","https://bg.toolsworld.com/search/?query=16326"]
[16327,"Félkör reszelő 200 mm, kétkomponensű nyél, №2// Сибртех",715,"B","Active",{"$f":"VLOOKUP(A598,[1]Sheet1!$A$1:$C$65512,3,FALSE)","v":{"$error":"#N/A"}},null,null,"No info","линк","https://bg.toolsworld.com/search/?query=","https://bg.toolsworld.com/search/?query=16327"]
[16329,"Félig lekerekített reszelo 250 mm fa nyéllel// SIBRTEH",886,"B","Active",{"$f":"VLOOKUP(A599,[1]Sheet1!$A$1:$C$65512,3,FALSE)","v":{"$error":"#N/A"}},null,null,"No info","линк","https://bg.toolsworld.com/search/?query=","https://bg.toolsworld.com/search/?query=16329"]
[16332,"Félig lekerekített reszelo 300 mm fa nyéllel// SIBRTEH",1120,"B","Active",{"$f":"VLOOKUP(A600,[1]Sheet1!$A$1:$C$65512,3,FALSE)","v":{"$error":"#N/A"}},null,null,"No info","линк","https://bg.toolsworld.com/search/?query=","https://bg.toolsworld.com/search/?query=16332"]
[16400,"HEX kulcskészlet, 1,5-10mm, S2, 9 db, mágnes, extra hosszú, golyós hegyével, króm/festék// Gross",9498,"B","Active",{"$f":"VLOOKUP(A601,[1]Sheet1!$A$1:$C$65512,3,FALSE)","v":{"$error":"#N/A"}},null,null,"No info","линк","https://bg.toolsworld.com/search/?query=","https://bg.toolsworld.com/search/?query=16400"]
[16402,"9 db. TORX extra hosszú lyukas kulcskészlet, hegy mágnessel, T10-T50, S2, króm/szín// Gross",9817,"B","Active",{"$f":"VLOOKUP(A602,[1]Sheet1!$A$1:$C$65512,3,FALSE)","v":{"$error":"#N/A"}},null,null,"No info","линк","https://bg.toolsworld.com/search/?query=","https://bg.toolsworld.com/search/?query=16402"]
[16403,"9 pcs. HEX Hosszú key set, 1,5–10 mm, S2, satin// Gross",5743,"B","Active",{"$f":"VLOOKUP(A603,[1]Sheet1!$A$1:$C$65512,3,FALSE)","v":{"$error":"#N/A"}},null,null,"No info","линк","https://bg.toolsworld.com/search/?query=","https://bg.toolsworld.com/search/?query=16403"]
[16407,"9 db. TORX-TT hosszú kulcskészlet, T10,15,20,25,27,30,40,45,50, S2, szatén// Gross",6038,"B","Active",{"$f":"VLOOKUP(A604,[1]Sheet1!$A$1:$C$65512,3,FALSE)","v":{"$error":"#N/A"}},null,null,"No info","линк","https://bg.toolsworld.com/search/?query=","https://bg.toolsworld.com/search/?query=16407"]
[16412,"Összecsukható kulcskészlet, HEX, 8 db, 1,5-8 mm CrV// Gross",3032,"B","Active",{"$f":"VLOOKUP(A605,[1]Sheet1!$A$1:$C$65512,3,FALSE)","v":{"$error":"#N/A"}},null,null,"No info","линк","https://bg.toolsworld.com/search/?query=","https://bg.toolsworld.com/search/?query=16412"]
[16413,"Folding key set, Tamper-Torx, 7 pcs., TT10-TT40, CrV// Gross",2995,"B","Active",{"$f":"VLOOKUP(A606,[1]Sheet1!$A$1:$C$65512,3,FALSE)","v":86},null,null,"No info","линк","https://bg.toolsworld.com/search/?query=","https://bg.toolsworld.com/search/?query=16413"]
[16414,"Folding key set, universal, 8 pcs., PH,SL,HEX, CrV,// Gross",2839,"B","Active",{"$f":"VLOOKUP(A607,[1]Sheet1!$A$1:$C$65512,3,FALSE)","v":24},null,null,"No info","линк","https://bg.toolsworld.com/search/?query=","https://bg.toolsworld.com/search/?query=16414"]
[16957,"160mm fogó muanyag nyéllel, csiszolt, klasszikus kialakítás//SPARTA",973,"B","Active",{"$f":"VLOOKUP(A608,[1]Sheet1!$A$1:$C$65512,3,FALSE)","v":1199},null,null,"No info","линк","https://bg.toolsworld.com/search/?query=","https://bg.toolsworld.com/search/?query=16957"]
[16958,"180mm fogó muanyag nyéllel, csiszolt, klasszikus kialakítás//SPARTA",1120,"B","Active",{"$f":"VLOOKUP(A609,[1]Sheet1!$A$1:$C$65512,3,FALSE)","v":651},null,null,"No info","линк","https://bg.toolsworld.com/search/?query=","https://bg.toolsworld.com/search/?query=16958"]
[16962,"200mm fogó muanyag nyéllel, csiszolt, klasszikus kialakítás//SPARTA",1285,"B","Active",{"$f":"VLOOKUP(A610,[1]Sheet1!$A$1:$C$65512,3,FALSE)","v":480},null,null,"No info","линк","https://bg.toolsworld.com/search/?query=","https://bg.toolsworld.com/search/?query=16962"]
[16972,"Kombinált fogó 165 mm, három komponensu nyél // GROSS",7628,"B","Active",{"$f":"VLOOKUP(A611,[1]Sheet1!$A$1:$C$65512,3,FALSE)","v":60},null,null,"No info","линк","https://bg.toolsworld.com/search/?query=","https://bg.toolsworld.com/search/?query=16972"]
[16985,"Kombinált fogó hajlított fejjel, 200 mm, három komponensu nyél// GROSS",12461,"B","Active",{"$f":"VLOOKUP(A612,[1]Sheet1!$A$1:$C$65512,3,FALSE)","v":8},null,null,"No info","линк","https://bg.toolsworld.com/search/?query=","https://bg.toolsworld.com/search/?query=16985"]
[16989,"Kombinált fogó, 180 mm, Sullyesztéklektromos 1000 V-ig, három komponensu nyél// GROSS",9215,"B","Active",{"$f":"VLOOKUP(A613,[1]Sheet1!$A$1:$C$65512,3,FALSE)","v":150},null,null,"No info","линк","https://bg.toolsworld.com/search/?query=","https://bg.toolsworld.com/search/?query=16989"]
[17050,"160 mm-es kombinált fogó kétkomponensű nyéllel// Сибртех",1332,"B","Active",{"$f":"VLOOKUP(A614,[1]Sheet1!$A$1:$C$65512,3,FALSE)","v":73},null,null,"No info","линк","https://bg.toolsworld.com/search/?query=","https://bg.toolsworld.com/search/?query=17050"]
[17051,"180 mm-es kombinált fogó kétkomponensű nyéllel// Сибртех",1570,"B","Active",{"$f":"VLOOKUP(A615,[1]Sheet1!$A$1:$C$65512,3,FALSE)","v":14},null,null,"No info","линк","https://bg.toolsworld.com/search/?query=","https://bg.toolsworld.com/search/?query=17051"]
[17055,"200 mm-es kombinált fogó háromkomponensű fogantyúval// Сибртех",1825,"B","Active",{"$f":"VLOOKUP(A616,[1]Sheet1!$A$1:$C$65512,3,FALSE)","v":{"$error":"#N/A"}},null,null,"No info","линк","https://bg.toolsworld.com/search/?query=","https://bg.toolsworld.com/search/?query=17055"]
[17106,"200mm hosszú fogó kétkomponensű nyéllel// Сибртех",1248,"B","Active",{"$f":"VLOOKUP(A617,[1]Sheet1!$A$1:$C$65512,3,FALSE)","v":{"$error":"#N/A"}},null,null,"No info","линк","https://bg.toolsworld.com/search/?query=","https://bg.toolsworld.com/search/?query=17106"]
[17157,"160mm Hosszú csoru fogó muanyag nyéllel, csiszolt klasszikus kialakítás//SPARTA",886,"B","Active",{"$f":"VLOOKUP(A618,[1]Sheet1!$A$1:$C$65512,3,FALSE)","v":813},null,null,"No info","линк","https://bg.toolsworld.com/search/?query=","https://bg.toolsworld.com/search/?query=17157"]
[17159,"Hosszú csoru fogó muanyag nyéllel, csiszolt klasszikus kialakítás,180 mm //SPARTA",1002,"B","Active",{"$f":"VLOOKUP(A619,[1]Sheet1!$A$1:$C$65512,3,FALSE)","v":1616},null,null,"No info","линк","https://bg.toolsworld.com/search/?query=","https://bg.toolsworld.com/search/?query=17159"]
[17163,"200mm Hosszú csoru fogó muanyag nyéllel, csiszolt klasszikus kialakítás//SPARTA",1102,"B","Active",{"$f":"VLOOKUP(A620,[1]Sheet1!$A$1:$C$65512,3,FALSE)","v":310},null,null,"No info","линк","https://bg.toolsworld.com/search/?query=","https://bg.toolsworld.com/search/?query=17163"]
[17169,"200mm hosszú fogó kétkomponensű fogantyúval, polírozott Comfort vonal// Sparta",1136,"B","Active",{"$f":"VLOOKUP(A621,[1]Sheet1!$A$1:$C$65512,3,FALSE)","v":53},null,null,"No info","линк","https://bg.toolsworld.com/search/?query=","https://bg.toolsworld.com/search/?query=17169"]
[17170,"Hosszú fogó egyenes 170 mm, háromkomponensu markolat GROSS",8410,"B","Active",{"$f":"VLOOKUP(A622,[1]Sheet1!$A$1:$C$65512,3,FALSE)","v":68},null,null,"No info","линк","https://bg.toolsworld.com/search/?query=","https://bg.toolsworld.com/search/?query=17170"]
[17171,"Hosszú csoru kombinált fogó 205 mm, három komponensu nyél// GROSS",9037,"B","Active",{"$f":"VLOOKUP(A623,[1]Sheet1!$A$1:$C$65512,3,FALSE)","v":55},null,null,"No info","линк","https://bg.toolsworld.com/search/?query=","https://bg.toolsworld.com/search/?query=17171"]
[17177,"Hosszú nose pliers, 205 mm, dielectric up to 1000 V, three-component handles// Gross",12666,"B","Active",{"$f":"VLOOKUP(A624,[1]Sheet1!$A$1:$C$65512,3,FALSE)","v":86},null,null,"No info","линк","https://bg.toolsworld.com/search/?query=","https://bg.toolsworld.com/search/?query=17177"]
[17181,"Hosszú csoru kombinált fogó hajlított fejjel, 200 mm, Sullyesztéklektromos 1000 V-ig,három komponensu nyél// GROSS",11349,"B","Active",{"$f":"VLOOKUP(A625,[1]Sheet1!$A$1:$C$65512,3,FALSE)","v":{"$error":"#N/A"}},null,null,"No info","линк","https://bg.toolsworld.com/search/?query=","https://bg.toolsworld.com/search/?query=17181"]
[17411,"160 mm Hosszú orrú fogó műanyag fogantyúval, csiszolt Classic line// Sparta",894,"B","Active",{"$f":"VLOOKUP(A626,[1]Sheet1!$A$1:$C$65512,3,FALSE)","v":2354},null,null,"No info","линк","https://bg.toolsworld.com/search/?query=","https://bg.toolsworld.com/search/?query=17411"]
[17521,"160 mm-es oldalvágó fogó kétkomponensű fogantyúval// Сибртех",1417,"B","Active",{"$f":"VLOOKUP(A627,[1]Sheet1!$A$1:$C$65512,3,FALSE)","v":38},null,null,"No info","линк","https://bg.toolsworld.com/search/?query=","https://bg.toolsworld.com/search/?query=17521"]
[17523,"180mm-es oldalvágó fogó kétkomponensű fogantyúval// Сибртех",1454,"B","Active",{"$f":"VLOOKUP(A628,[1]Sheet1!$A$1:$C$65512,3,FALSE)","v":{"$error":"#N/A"}},null,null,"No info","линк","https://bg.toolsworld.com/search/?query=","https://bg.toolsworld.com/search/?query=17523"]
[17525,"200mm-es oldalvágó fogó kétkomponensű fogantyúval// Сибртех",1529,"B","Active",{"$f":"VLOOKUP(A629,[1]Sheet1!$A$1:$C$65512,3,FALSE)","v":{"$error":"#N/A"}},null,null,"No info","линк","https://bg.toolsworld.com/search/?query=","https://bg.toolsworld.com/search/?query=17525"]
[17558,"Oldalcsípofogó 160mm muanyag nyéllel, csiszolt, klasszikus kialakítás//SPARTA",931,"B","Active",{"$f":"VLOOKUP(A630,[1]Sheet1!$A$1:$C$65512,3,FALSE)","v":2299},null,null,"No info","линк","https://bg.toolsworld.com/search/?query=","https://bg.toolsworld.com/search/?query=17558"]
[17560,"Oldalcsípofogó 180mm muanyag nyéllel, csiszolt, klasszikus kialakítás//SPARTA",1041,"B","Active",{"$f":"VLOOKUP(A631,[1]Sheet1!$A$1:$C$65512,3,FALSE)","v":121},null,null,"No info","линк","https://bg.toolsworld.com/search/?query=","https://bg.toolsworld.com/search/?query=17560"]
[17562,"Oldalcsípofogó 200mm muanyag nyéllel, csiszolt, klasszikus kialakítás//SPARTA",1151,"B","Active",{"$f":"VLOOKUP(A632,[1]Sheet1!$A$1:$C$65512,3,FALSE)","v":3329},null,null,"No info","линк","https://bg.toolsworld.com/search/?query=","https://bg.toolsworld.com/search/?query=17562"]
[17570,"Oldalt vágó fogó 200mm kétkomponensű nyéllel, polírozott, Comfort vonal// Sparta",1474,"B","Active",{"$f":"VLOOKUP(A633,[1]Sheet1!$A$1:$C$65512,3,FALSE)","v":13},null,null,"No info","линк","https://bg.toolsworld.com/search/?query=","https://bg.toolsworld.com/search/?query=17570"]
[17571,"Oldalcsípofogó 160 mm,  három komponensu nyél // GROSS",9170,"B","Active",{"$f":"VLOOKUP(A634,[1]Sheet1!$A$1:$C$65512,3,FALSE)","v":28},null,null,"No info","линк","https://bg.toolsworld.com/search/?query=","https://bg.toolsworld.com/search/?query=17571"]
[17573,"Oldalcsípofogó 180 mm,  három komponensu nyél // GROSS",9754,"B","Active",{"$f":"VLOOKUP(A635,[1]Sheet1!$A$1:$C$65512,3,FALSE)","v":{"$error":"#N/A"}},null,null,"No info","линк","https://bg.toolsworld.com/search/?query=","https://bg.toolsworld.com/search/?query=17573"]
[17575,"Eros oldalcsípofogó 215 mm,  három komponensu nyél// GROSS",14053,"B","Active",{"$f":"VLOOKUP(A636,[1]Sheet1!$A$1:$C$65512,3,FALSE)","v":102},null,null,"No info","линк","https://bg.toolsworld.com/search/?query=","https://bg.toolsworld.com/search/?query=17575"]
[17582,"Oldalcsípofogó, 180 mm, Sullyesztéklektromos 1000 V-ig, három komponensu nyél// GROSS",11237,"B","Active",{"$f":"VLOOKUP(A637,[1]Sheet1!$A$1:$C$65512,3,FALSE)","v":93},null,null,"No info","линк","https://bg.toolsworld.com/search/?query=","https://bg.toolsworld.com/search/?query=17582"]
[17583,"Oldalt vágó fogó 130 mm, három komponensu fogantyú// Gross",7304,"B","Active",{"$f":"VLOOKUP(A638,[1]Sheet1!$A$1:$C$65512,3,FALSE)","v":{"$error":"#N/A"}},null,null,"No info","линк","https://bg.toolsworld.com/search/?query=","https://bg.toolsworld.com/search/?query=17583"]
[17584,"Side-cutting pliers 180 mm, reinforced, three component handles// Gross",11163,"B","Active",{"$f":"VLOOKUP(A639,[1]Sheet1!$A$1:$C$65512,3,FALSE)","v":21},null,null,"No info","линк","https://bg.toolsworld.com/search/?query=","https://bg.toolsworld.com/search/?query=17584"]
[17585,"Oldalt vágó fogó 200 mm, megerosített, három komponensu fogantyú// Gross",11497,"B","Active",{"$f":"VLOOKUP(A640,[1]Sheet1!$A$1:$C$65512,3,FALSE)","v":{"$error":"#N/A"}},null,null,"No info","линк","https://bg.toolsworld.com/search/?query=","https://bg.toolsworld.com/search/?query=17585"]
[17610,"Mini szerszámkészlet, 156mm, 15db, dobozzal // SPARTA",1458,"B","Active",{"$f":"VLOOKUP(A641,[1]Sheet1!$A$1:$C$65512,3,FALSE)","v":2313},null,null,"No info","линк","https://bg.toolsworld.com/search/?query=","https://bg.toolsworld.com/search/?query=17610"]
[17612,"Mini szerszámkészlet, 113mm, 13db// SPARTA",1167,"B","Active",{"$f":"VLOOKUP(A642,[1]Sheet1!$A$1:$C$65512,3,FALSE)","v":1513},null,null,"No info","линк","https://bg.toolsworld.com/search/?query=","https://bg.toolsworld.com/search/?query=17612"]
[17718,"Kábelcsupaszoló, 0.05-8 sq. mm// GROSS",7121,"B","Active",{"$f":"VLOOKUP(A643,[1]Sheet1!$A$1:$C$65512,3,FALSE)","v":1202},null,null,"No info","линк","https://bg.toolsworld.com/search/?query=","https://bg.toolsworld.com/search/?query=17718"]
[17719,"Krimpelofogó RJ-45,6P,8P és RJ-11 telefonos és hálózati kábelekhez/12,6P,8P// GROSS",10076,"B","Active",{"$f":"VLOOKUP(A644,[1]Sheet1!$A$1:$C$65512,3,FALSE)","v":306},null,null,"No info",{"$f":"HYPERLINK(L644,\"линк\")","v":"линк"},"https://bg.toolsworld.com/search/?query=",{"$f":"CONCATENATE(K644,A644)","v":"https://bg.toolsworld.com/search/?query=17719"}]
[17721,"Huzalcsupaszító, 0,5; 1,0; 1,5; 2,5; 4,0; 8,0 mm2 (8-22AWG), SK5 penge// Gross",10243,"B","Active",{"$f":"VLOOKUP(A645,[1]Sheet1!$A$1:$C$65512,3,FALSE)","v":23},null,null,"No info","линк","https://bg.toolsworld.com/search/?query=","https://bg.toolsworld.com/search/?query=17721"]
[17723,"Krimpelo fogó telefon és számítógép csatlakozókhoz RJ45, 8P és RJ11/12, 6P, kompakt, CAT5// Gros",9371,"B","Active",{"$f":"VLOOKUP(A646,[1]Sheet1!$A$1:$C$65512,3,FALSE)","v":106},null,null,"No info","линк","https://bg.toolsworld.com/search/?query=","https://bg.toolsworld.com/search/?query=17723"]
[17724,"Krimpelo fogó (préses krimpelo) huzalvégprofilhoz 0,25-8 мм2// Gross",11475,"B","Active",{"$f":"VLOOKUP(A647,[1]Sheet1!$A$1:$C$65512,3,FALSE)","v":19},null,null,"No info","линк","https://bg.toolsworld.com/search/?query=","https://bg.toolsworld.com/search/?query=17724"]
[17725,"Kábel csípofogó, 160 mm, Sullyesztéklektromos 1000 V-ig, három komponensu nyél// GROSS",11121,"B","Active",{"$f":"VLOOKUP(A648,[1]Sheet1!$A$1:$C$65512,3,FALSE)","v":66},null,null,"No info","линк","https://bg.toolsworld.com/search/?query=","https://bg.toolsworld.com/search/?query=17725"]
[17726,"Cable cutting pliers, three component handles, 160 mm// Gross",10994,"B","Active",{"$f":"VLOOKUP(A649,[1]Sheet1!$A$1:$C$65512,3,FALSE)","v":62},null,null,"No info","линк","https://bg.toolsworld.com/search/?query=","https://bg.toolsworld.com/search/?query=17726"]
[17727,"Kábelvágó fogó, három komponensű fogantyú, 210 mm// Gross",15499,"B","Active",{"$f":"VLOOKUP(A650,[1]Sheet1!$A$1:$C$65512,3,FALSE)","v":46},null,null,"No info","линк","https://bg.toolsworld.com/search/?query=","https://bg.toolsworld.com/search/?query=17727"]
[17820,"130 mm Hosszú csoru fogó nikkel bevonatos, egyenes, automatikus nyitás//SPARTA",723,"B","Active",{"$f":"VLOOKUP(A651,[1]Sheet1!$A$1:$C$65512,3,FALSE)","v":401},null,null,"No info","линк","https://bg.toolsworld.com/search/?query=","https://bg.toolsworld.com/search/?query=17820"]
[17822,"130mm Hosszú csoru fogó  nikkel bevonatos, hajlított, automatikus nyitás//SPARTA",723,"B","Active",{"$f":"VLOOKUP(A652,[1]Sheet1!$A$1:$C$65512,3,FALSE)","v":171},null,null,"No info","линк","https://bg.toolsworld.com/search/?query=","https://bg.toolsworld.com/search/?query=17822"]
[17824,"130 mm oldalcsípofogó, mini, nikkel bevonatos, automatikus nyitás//SPARTA",692,"B","Active",{"$f":"VLOOKUP(A653,[1]Sheet1!$A$1:$C$65512,3,FALSE)","v":627},null,null,"No info","линк","https://bg.toolsworld.com/search/?query=","https://bg.toolsworld.com/search/?query=17824"]
[17826,"130mm fogó két komponensu nyéllel, nikkel bevonatos, automatikus nyitás//SPARTA",692,"B","Active",{"$f":"VLOOKUP(A654,[1]Sheet1!$A$1:$C$65512,3,FALSE)","v":1897},null,null,"No info","линк","https://bg.toolsworld.com/search/?query=","https://bg.toolsworld.com/search/?query=17826"]
[17828,"Homlokcsípofogó 105 mm, nikkel bevonatos, automatikus nyitás// SPARTA",733,"B","Active",{"$f":"VLOOKUP(A655,[1]Sheet1!$A$1:$C$65512,3,FALSE)","v":293},null,null,"No info","линк","https://bg.toolsworld.com/search/?query=","https://bg.toolsworld.com/search/?query=17828"]
[17978,"Fogó, 180 mm (SMI) Russia",2621,"B","Active",{"$f":"VLOOKUP(A656,[1]Sheet1!$A$1:$C$65512,3,FALSE)","v":{"$error":"#N/A"}},null,null,"No info","линк","https://bg.toolsworld.com/search/?query=","https://bg.toolsworld.com/search/?query=17978"]
[17984,"Fogó, 250 mm (SMI) Russia",5217,"B","Active",{"$f":"VLOOKUP(A657,[1]Sheet1!$A$1:$C$65512,3,FALSE)","v":60},null,null,"No info","линк","https://bg.toolsworld.com/search/?query=","https://bg.toolsworld.com/search/?query=17984"]
[17990,"Eros harapófogó, 200 mm, három komponensu nyél// GROSS",13678,"B","Active",{"$f":"VLOOKUP(A658,[1]Sheet1!$A$1:$C$65512,3,FALSE)","v":85},null,null,"No info","линк","https://bg.toolsworld.com/search/?query=","https://bg.toolsworld.com/search/?query=17990"]
[17992,"Homlok harapófogó, 250 mm, befecskendezéses eljárással formált nyél // GROSS",6755,"B","Active",{"$f":"VLOOKUP(A659,[1]Sheet1!$A$1:$C$65512,3,FALSE)","v":{"$error":"#N/A"}},null,null,"No info","линк","https://bg.toolsworld.com/search/?query=","https://bg.toolsworld.com/search/?query=17992"]
[17994,"Végvágó harapófogó, megerosített, fröccsöntött fogantyúk, 230 mm// Gross",5838,"B","Active",{"$f":"VLOOKUP(A660,[1]Sheet1!$A$1:$C$65512,3,FALSE)","v":{"$error":"#N/A"}},null,null,"No info","линк","https://bg.toolsworld.com/search/?query=","https://bg.toolsworld.com/search/?query=17994"]
[18306,"Leather punch set 6 pcs 3, 4, 6, 8, 10, 12,5 mm, bag// SIBRTEH",1599,"B","Active",{"$f":"VLOOKUP(A661,[1]Sheet1!$A$1:$C$65512,3,FALSE)","v":{"$error":"#N/A"}},null,null,"No info","линк","https://bg.toolsworld.com/search/?query=","https://bg.toolsworld.com/search/?query=18306"]
[18309,"Bőrlyukasztó készlet 9 db, 2, 3, 4, 5, 6, 8, 9, 10, 13 mm, táska// Sibrteh",2541,"B","Active",{"$f":"VLOOKUP(A662,[1]Sheet1!$A$1:$C$65512,3,FALSE)","v":{"$error":"#N/A"}},null,null,"No info","линк","https://bg.toolsworld.com/search/?query=","https://bg.toolsworld.com/search/?query=18309"]
[18312,"Bőrlyukasztó készlet 12 db, 3, 4, 5, 6, 7, 8, 9, 10, 12, 14, 16, 19 mm, táska// Sibrteh",4449,"B","Active",{"$f":"VLOOKUP(A663,[1]Sheet1!$A$1:$C$65512,3,FALSE)","v":" "},null,null,"No info","линк","https://bg.toolsworld.com/search/?query=","https://bg.toolsworld.com/search/?query=18312"]
[18340,"Circlip pliers, 175 mm, for external circlips (19-60 mm), straight jaws (unclamping)// Gross",6260,"B","Active",{"$f":"VLOOKUP(A664,[1]Sheet1!$A$1:$C$65512,3,FALSE)","v":13},null,null,"No info","линк","https://bg.toolsworld.com/search/?query=","https://bg.toolsworld.com/search/?query=18340"]
[18342,"Circlip pliers, 175 mm, for internal circlips (19-60 mm), straight jaws (clamping)// Gross",5842,"B","Active",{"$f":"VLOOKUP(A665,[1]Sheet1!$A$1:$C$65512,3,FALSE)","v":11},null,null,"No info","линк","https://bg.toolsworld.com/search/?query=","https://bg.toolsworld.com/search/?query=18342"]
[18360,"Lyukasztó bőrhöz és kartonpapírhoz, átmérők 2,5, 3,0, 3,5, 4,0, 4,5, 5,0 mm// Сибртех",1230,"B","Active",{"$f":"VLOOKUP(A666,[1]Sheet1!$A$1:$C$65512,3,FALSE)","v":{"$error":"#N/A"}},null,null,"No info","линк","https://bg.toolsworld.com/search/?query=","https://bg.toolsworld.com/search/?query=18360"]
[18421,"Reteszelő fogó, félkör alakú markolat, 180 mm// Сибртех",1179,"B","Active",{"$f":"VLOOKUP(A667,[1]Sheet1!$A$1:$C$65512,3,FALSE)","v":{"$error":"#N/A"}},null,null,"No info","линк","https://bg.toolsworld.com/search/?query=","https://bg.toolsworld.com/search/?query=18421"]
[18422,"Reteszelő fogó, félkör alakú markolat, 220 mm// Сибртех",1427,"B","Active",{"$f":"VLOOKUP(A668,[1]Sheet1!$A$1:$C$65512,3,FALSE)","v":{"$error":"#N/A"}},null,null,"No info","линк","https://bg.toolsworld.com/search/?query=","https://bg.toolsworld.com/search/?query=18422"]
[18425,"Reteszelő fogó, megnövelt markolat, mozgatható pofák, 170 mm// Сибртех",1513,"B","Active",{"$f":"VLOOKUP(A669,[1]Sheet1!$A$1:$C$65512,3,FALSE)","v":{"$error":"#N/A"}},null,null,"No info","линк","https://bg.toolsworld.com/search/?query=","https://bg.toolsworld.com/search/?query=18425"]
[18426,"Reteszelő fogó, megnövelt markolat, mozgatható pofák, 270 mm// Сибртех",2682,"B","Active",{"$f":"VLOOKUP(A670,[1]Sheet1!$A$1:$C$65512,3,FALSE)","v":{"$error":"#N/A"}},null,null,"No info","линк","https://bg.toolsworld.com/search/?query=","https://bg.toolsworld.com/search/?query=18426"]
[18660,"Pad satu, 63 mm, asztali rögzítés, csavaros szorító (Glazov) RUSSIA",19647,"B","Active",{"$f":"VLOOKUP(A671,[1]Sheet1!$A$1:$C$65512,3,FALSE)","v":20},null,null,"No info","линк","https://bg.toolsworld.com/search/?query=","https://bg.toolsworld.com/search/?query=18660"]
[18663,"Kovácssatu 100mm, forgatható// Russia",34838,"B","Active",{"$f":"VLOOKUP(A672,[1]Sheet1!$A$1:$C$65512,3,FALSE)","v":{"$error":"#N/A"}},null,null,"No info","линк","https://bg.toolsworld.com/search/?query=","https://bg.toolsworld.com/search/?query=18663"]
[18668,"Satu, asztali, forgó, 50 mm-es munkapofák, Sibrtech ullo",4749,"B","Active",{"$f":"VLOOKUP(A673,[1]Sheet1!$A$1:$C$65512,3,FALSE)","v":{"$error":"#N/A"}},null,null,"No info","линк","https://bg.toolsworld.com/search/?query=","https://bg.toolsworld.com/search/?query=18668"]
[18672,"Satu, asztali, forgó,65 mm-es munkapofák, Sibrtech ullo",5431,"B","Active",{"$f":"VLOOKUP(A674,[1]Sheet1!$A$1:$C$65512,3,FALSE)","v":{"$error":"#N/A"}},null,null,"No info","линк","https://bg.toolsworld.com/search/?query=","https://bg.toolsworld.com/search/?query=18672"]
[18711,"Rúdvéső, 250x19 mm-3/4\"// Gross",3975,"B","Active",{"$f":"VLOOKUP(A675,[1]Sheet1!$A$1:$C$65512,3,FALSE)","v":{"$error":"#N/A"}},null,null,"No info","линк","https://bg.toolsworld.com/search/?query=","https://bg.toolsworld.com/search/?query=18711"]
[18712,"Rúdvéső, 300x25 mm-1\"// Gross",4001,"B","Active",{"$f":"VLOOKUP(A676,[1]Sheet1!$A$1:$C$65512,3,FALSE)","v":25},null,null,"No info","линк","https://bg.toolsworld.com/search/?query=","https://bg.toolsworld.com/search/?query=18712"]
[18714,"Vésőtartó, 200x45 mm-1-3/4\"// Gross",3782,"B","Active",{"$f":"VLOOKUP(A677,[1]Sheet1!$A$1:$C$65512,3,FALSE)","v":{"$error":"#N/A"}},null,null,"No info","линк","https://bg.toolsworld.com/search/?query=","https://bg.toolsworld.com/search/?query=18714"]
[18715,"Vésőtartó, 215x60 mm-2-3/8\"// Gross",4669,"B","Active",{"$f":"VLOOKUP(A678,[1]Sheet1!$A$1:$C$65512,3,FALSE)","v":46},null,null,"No info","линк","https://bg.toolsworld.com/search/?query=","https://bg.toolsworld.com/search/?query=18715"]
[18805,"Magvéső, 300 mm// Gross",4116,"B","Active",{"$f":"VLOOKUP(A679,[1]Sheet1!$A$1:$C$65512,3,FALSE)","v":772},null,null,"No info","линк","https://bg.toolsworld.com/search/?query=","https://bg.toolsworld.com/search/?query=18805"]
[18910,"Karbidfeju mini véso csiptetovel 145 mm// SIBRTEH",391,"B","Active",{"$f":"VLOOKUP(A680,[1]Sheet1!$A$1:$C$65512,3,FALSE)","v":759},null,null,"No info","линк","https://bg.toolsworld.com/search/?query=","https://bg.toolsworld.com/search/?query=18910"]
[20563,"Gyorszáras F-szorító, 150*70*360 mm, műanyag ház, rögzítővel, kétkomponensű markolat// Сибртех",2547,"B","Active",{"$f":"VLOOKUP(A681,[1]Sheet1!$A$1:$C$65512,3,FALSE)","v":244},null,null,"No info","линк","https://bg.toolsworld.com/search/?query=","https://bg.toolsworld.com/search/?query=20563"]
[20565,"Gyorszáras F-szorító, 300*70*540 mm, műanyag ház, rögzítővel, kétkomponensű markolat// Сибртех",2957,"B","Active",{"$f":"VLOOKUP(A682,[1]Sheet1!$A$1:$C$65512,3,FALSE)","v":48},null,null,"No info","линк","https://bg.toolsworld.com/search/?query=","https://bg.toolsworld.com/search/?query=20565"]
[20566,"Gyorszáras F-szorító, 450*70*660 mm, műanyag ház, rögzítővel, kétkomponensű markolat// Сибртех",3311,"B","Active",{"$f":"VLOOKUP(A683,[1]Sheet1!$A$1:$C$65512,3,FALSE)","v":35},null,null,"No info","линк","https://bg.toolsworld.com/search/?query=","https://bg.toolsworld.com/search/?query=20566"]
[20567,"Gyorszáras F-szorító, 600*70*820 mm, műanyag ház, rögzítővel, kétkomponensű markolat// Сибртех",3696,"B","Active",{"$f":"VLOOKUP(A684,[1]Sheet1!$A$1:$C$65512,3,FALSE)","v":31},null,null,"No info","линк","https://bg.toolsworld.com/search/?query=","https://bg.toolsworld.com/search/?query=20567"]
[20568,"Gyors szító F-szorító, 900*70*1130 mm, műanyag ház, rögzítővel, kétkomponensű markolat// Сибртех",3802,"B","Active",{"$f":"VLOOKUP(A685,[1]Sheet1!$A$1:$C$65512,3,FALSE)","v":48},null,null,"No info","линк","https://bg.toolsworld.com/search/?query=","https://bg.toolsworld.com/search/?query=20568"]
[20700,"Quick lock lever clamp, pistol type, step mechanism, plastic body, 150mm// Gross",8807,"B","Active",{"$f":"VLOOKUP(A686,[1]Sheet1!$A$1:$C$65512,3,FALSE)","v":1537},null,null,"No info","линк","https://bg.toolsworld.com/search/?query=","https://bg.toolsworld.com/search/?query=20700"]
[20702,"Quick lock lever clamp, pistol type, step mechanism, plastic body, 300mm// Gross",10310,"B","Active",{"$f":"VLOOKUP(A687,[1]Sheet1!$A$1:$C$65512,3,FALSE)","v":1758},null,null,"No info","линк","https://bg.toolsworld.com/search/?query=","https://bg.toolsworld.com/search/?query=20702"]
[20704,"Quick lock lever clamp, pistol type, step mechanism, plastic body, 450mm// Gross",9261,"B","Active",{"$f":"VLOOKUP(A688,[1]Sheet1!$A$1:$C$65512,3,FALSE)","v":27},null,null,"No info","линк","https://bg.toolsworld.com/search/?query=","https://bg.toolsworld.com/search/?query=20704"]
[20706,"Quick lock lever clamp, pistol type, step mechanism, plastic body, 600mm// Gross",10174,"B","Active",{"$f":"VLOOKUP(A689,[1]Sheet1!$A$1:$C$65512,3,FALSE)","v":47},null,null,"No info","линк","https://bg.toolsworld.com/search/?query=","https://bg.toolsworld.com/search/?query=20706"]
[20708,"Quick lock lever clamp, pistol type, step mechanism, plastic body, 900mm// Gross",12342,"B","Active",{"$f":"VLOOKUP(A690,[1]Sheet1!$A$1:$C$65512,3,FALSE)","v":23},null,null,"No info","линк","https://bg.toolsworld.com/search/?query=","https://bg.toolsworld.com/search/?query=20708"]
[20717,"4\"/100mm Gyorszáras fogaskerekes szorító, fém ház, karos kilincsmu// Gross",10375,"B","Active",{"$f":"VLOOKUP(A691,[1]Sheet1!$A$1:$C$65512,3,FALSE)","v":331},null,null,"No info","линк","https://bg.toolsworld.com/search/?query=","https://bg.toolsworld.com/search/?query=20717"]
[20719,"8\"/200mm Gyorszáras fogaskerekes szorító, fém ház, karos kilincsmu// Gross",11263,"B","Active",{"$f":"VLOOKUP(A692,[1]Sheet1!$A$1:$C$65512,3,FALSE)","v":331},null,null,"No info","линк","https://bg.toolsworld.com/search/?query=","https://bg.toolsworld.com/search/?query=20719"]
[20721,"12\"/300mm Gyorszáras fogaskerekes szorító, fém ház, karos kilincsmu// Gross",12609,"B","Active",{"$f":"VLOOKUP(A693,[1]Sheet1!$A$1:$C$65512,3,FALSE)","v":211},null,null,"No info","линк","https://bg.toolsworld.com/search/?query=","https://bg.toolsworld.com/search/?query=20721"]
[20782,"Erő szorító (két tónusú), műanyag test, kétkomponensű fogantyú, erőltetett rugó, 1-1/4\"/33mm// Сибртех",257,"B","Active",{"$f":"VLOOKUP(A694,[1]Sheet1!$A$1:$C$65512,3,FALSE)","v":{"$error":"#N/A"}},null,null,"No info","линк","https://bg.toolsworld.com/search/?query=","https://bg.toolsworld.com/search/?query=20782"]
[20784,"Erő szorító (két tónusú), műanyag test, kétkomponensű fogantyú, erőltetett rugó, 1-5/8\"/42mm// Сибртех",422,"B","Active",{"$f":"VLOOKUP(A695,[1]Sheet1!$A$1:$C$65512,3,FALSE)","v":180},null,null,"No info","линк","https://bg.toolsworld.com/search/?query=","https://bg.toolsworld.com/search/?query=20784"]
[20788,"Erő szorító (két tónusú), műanyag test, kétkomponensű fogantyú, erõsített rugó, 3-3/16\"/82 mm// Сибртех",992,"B","Active",{"$f":"VLOOKUP(A696,[1]Sheet1!$A$1:$C$65512,3,FALSE)","v":160},null,null,"No info","линк","https://bg.toolsworld.com/search/?query=","https://bg.toolsworld.com/search/?query=20788"]
[20801,"38 mm-es Power Clamp (két tónusú), muanyag ház, racsnis mechanizmus 1-1/2\"/38 mm// Gross",2228,"B","Active",{"$f":"VLOOKUP(A697,[1]Sheet1!$A$1:$C$65512,3,FALSE)","v":961},null,null,"No info","линк","https://bg.toolsworld.com/search/?query=","https://bg.toolsworld.com/search/?query=20801"]
[20803,"58 mm-es Power Clamp (két tónusú), muanyag ház, racsnis mechanizmus 2-1/4\"/58 mm// Gross",2847,"B","Active",{"$f":"VLOOKUP(A698,[1]Sheet1!$A$1:$C$65512,3,FALSE)","v":1160},null,null,"No info","линк","https://bg.toolsworld.com/search/?query=","https://bg.toolsworld.com/search/?query=20803"]
[20805,"100 mm-es Power Clamp (két tónusú), muanyag ház, racsnis mechanizmus 4\"/100 mm// Gross",3806,"B","Active",{"$f":"VLOOKUP(A699,[1]Sheet1!$A$1:$C$65512,3,FALSE)","v":924},null,null,"No info","линк","https://bg.toolsworld.com/search/?query=","https://bg.toolsworld.com/search/?query=20805"]
[21043,"Kezi gyalu, 165x60 mm ,fem vaz,vagokes szelesseg 60 mm // Russia",2816,"B","Active",{"$f":"VLOOKUP(A700,[1]Sheet1!$A$1:$C$65512,3,FALSE)","v":8},null,null,"No info","линк","https://bg.toolsworld.com/search/?query=","https://bg.toolsworld.com/search/?query=21043"]
[21044,"Fém elülső sík, 250 x 63 mm, penge szélesség 50 mm (Stankosib) RUSSIA",2527,"B","Active",{"$f":"VLOOKUP(A701,[1]Sheet1!$A$1:$C$65512,3,FALSE)","v":6},null,null,"No info","линк","https://bg.toolsworld.com/search/?query=","https://bg.toolsworld.com/search/?query=21044"]
[21065,"Kezi gyalu, 250x43 mm ,fem vaz,vagokes szelesseg 30 mm // Russia",2863,"B","Active",{"$f":"VLOOKUP(A702,[1]Sheet1!$A$1:$C$65512,3,FALSE)","v":8},null,null,"No info","линк","https://bg.toolsworld.com/search/?query=","https://bg.toolsworld.com/search/?query=21065"]
[21125,"Fa síkgyalu, 240 x 60 mm, Russian",4130,"B","Active",{"$f":"VLOOKUP(A703,[1]Sheet1!$A$1:$C$65512,3,FALSE)","v":{"$error":"#N/A"}},null,null,"No info","линк","https://bg.toolsworld.com/search/?query=","https://bg.toolsworld.com/search/?query=21125"]
[21605,"Hidegen kovácsolt balta 600g, fa nyél",2122,"B","Active",{"$f":"VLOOKUP(A704,[1]Sheet1!$A$1:$C$65512,3,FALSE)","v":{"$error":"#N/A"}},null,null,"No info","линк","https://bg.toolsworld.com/search/?query=","https://bg.toolsworld.com/search/?query=21605"]
[21610,"Hidegen kovácsolt balta 800g, fa nyél",2435,"B","Active",{"$f":"VLOOKUP(A705,[1]Sheet1!$A$1:$C$65512,3,FALSE)","v":{"$error":"#N/A"}},null,null,"No info","линк","https://bg.toolsworld.com/search/?query=","https://bg.toolsworld.com/search/?query=21610"]
[21615,"Hidegen kovácsolt balta 1000 g, fa nyél",3079,"B","Active",{"$f":"VLOOKUP(A706,[1]Sheet1!$A$1:$C$65512,3,FALSE)","v":{"$error":"#N/A"}},null,null,"No info","линк","https://bg.toolsworld.com/search/?query=","https://bg.toolsworld.com/search/?query=21615"]
[21621,"Balta, 1000 g, összeszerelt, kovácsolt, fa nyél// Сибртех",3332,"B","Active",{"$f":"VLOOKUP(A707,[1]Sheet1!$A$1:$C$65512,3,FALSE)","v":{"$error":"#N/A"}},null,null,"No info","линк","https://bg.toolsworld.com/search/?query=","https://bg.toolsworld.com/search/?query=21621"]
[21637,"Balta, 600 g, uvegszálas nyél// SPARTA",2122,"B","Active",{"$f":"VLOOKUP(A708,[1]Sheet1!$A$1:$C$65512,3,FALSE)","v":{"$error":"#N/A"}},null,null,"No info",{"$f":"HYPERLINK(L708,\"линк\")","v":"линк"},"https://bg.toolsworld.com/search/?query=",{"$f":"CONCATENATE(K708,A708)","v":"https://bg.toolsworld.com/search/?query=21637"}]
[21639,"Balta, 800 g, uvegszálas nyél// SPARTA",2503,"B","Active",{"$f":"VLOOKUP(A709,[1]Sheet1!$A$1:$C$65512,3,FALSE)","v":21},null,null,"No info","линк","https://bg.toolsworld.com/search/?query=","https://bg.toolsworld.com/search/?query=21639"]
[21641,"Fejsze 1000 g, uvegszálas nyél//SPARTA",3034,"B","Active",{"$f":"VLOOKUP(A710,[1]Sheet1!$A$1:$C$65512,3,FALSE)","v":{"$error":"#N/A"}},null,null,"No info","линк","https://bg.toolsworld.com/search/?query=","https://bg.toolsworld.com/search/?query=21641"]
[21663,"Balta, 1200 g, összeszerelt, kovácsolt, fa fejsze nyél, 500 mm AO (Izhevsk)RUSSIA",7001,"B","Active",{"$f":"VLOOKUP(A711,[1]Sheet1!$A$1:$C$65512,3,FALSE)","v":45},null,null,"No info","линк","https://bg.toolsworld.com/search/?query=","https://bg.toolsworld.com/search/?query=21663"]
[21664,"Kovácsolt fejsze, fa nyéllel B típus, 1100/1500 gr., 500 mm. (Izhevsk) RUSSIA",4818,"B","Active",{"$f":"VLOOKUP(A712,[1]Sheet1!$A$1:$C$65512,3,FALSE)","v":{"$error":"#N/A"}},null,null,"No info","линк","https://bg.toolsworld.com/search/?query=","https://bg.toolsworld.com/search/?query=21664"]
[21674,"Balta, 1700 g, összeszerelt, kovácsolt, fa fejsze nyél, 500 mm A2 (Izhevsk)RUSSIA",8111,"B","Active",{"$f":"VLOOKUP(A713,[1]Sheet1!$A$1:$C$65512,3,FALSE)","v":118},null,null,"No info","линк","https://bg.toolsworld.com/search/?query=","https://bg.toolsworld.com/search/?query=21674"]
[21682,"Kovácsolt hentes balta fa nyéllel, 2460/2870 g, 500 mm, Russia",17427,"B","Active",{"$f":"VLOOKUP(A714,[1]Sheet1!$A$1:$C$65512,3,FALSE)","v":1},null,null,"No info","линк","https://bg.toolsworld.com/search/?query=","https://bg.toolsworld.com/search/?query=21682"]
[21689,"Kovácsolt balat fa nyéllel, A tipusú, 680/980 g, 400 mm, Russia",6117,"B","Active",{"$f":"VLOOKUP(A715,[1]Sheet1!$A$1:$C$65512,3,FALSE)","v":46},null,null,"No info","линк","https://bg.toolsworld.com/search/?query=","https://bg.toolsworld.com/search/?query=21689"]
[22536,"Gér vágó láda 4 féle szöghöz+ furész350mm//SIBRTECH",4003,"B","Active",{"$f":"VLOOKUP(A716,[1]Sheet1!$A$1:$C$65512,3,FALSE)","v":115},null,null,"No info","линк","https://bg.toolsworld.com/search/?query=","https://bg.toolsworld.com/search/?query=22536"]
[22757,"Precíziós gérvágó doboz, fűrész 550 mm, 2 szorító// Gross",18610,"B","Active",{"$f":"VLOOKUP(A717,[1]Sheet1!$A$1:$C$65512,3,FALSE)","v":{"$error":"#N/A"}},null,null,"No info","линк","https://bg.toolsworld.com/search/?query=","https://bg.toolsworld.com/search/?query=22757"]
[22861,"Lapos penge, 2D lágyított fogazat 14 TPI, 550mm// GROSS",1924,"B","Active",{"$f":"VLOOKUP(A718,[1]Sheet1!$A$1:$C$65512,3,FALSE)","v":59},null,null,"No info","линк","https://bg.toolsworld.com/search/?query=","https://bg.toolsworld.com/search/?query=22861"]
[22863,"Lapos penge, 2D lágyított fogazat, 18 TPI 550mm// GROSS",1924,"B","Active",{"$f":"VLOOKUP(A719,[1]Sheet1!$A$1:$C$65512,3,FALSE)","v":54},null,null,"No info","линк","https://bg.toolsworld.com/search/?query=","https://bg.toolsworld.com/search/?query=22863"]
[22865,"Lapos penge, 2D lágyított fogazat,  24 TPI 550mm// GROSS",2203,"B","Active",{"$f":"VLOOKUP(A720,[1]Sheet1!$A$1:$C$65512,3,FALSE)","v":31},null,null,"No info","линк","https://bg.toolsworld.com/search/?query=","https://bg.toolsworld.com/search/?query=22865"]
[22867,"Lapos penge, 2D lágyított fogazat,  14 TPI 600mm// GROSS",2283,"B","Active",{"$f":"VLOOKUP(A721,[1]Sheet1!$A$1:$C$65512,3,FALSE)","v":181},null,null,"No info","линк","https://bg.toolsworld.com/search/?query=","https://bg.toolsworld.com/search/?query=22867"]
[22869,"Lapos penge, 2D lágyított fogazat,  18 TPI 600mm// GROSS",2283,"B","Active",{"$f":"VLOOKUP(A722,[1]Sheet1!$A$1:$C$65512,3,FALSE)","v":99},null,null,"No info","линк","https://bg.toolsworld.com/search/?query=","https://bg.toolsworld.com/search/?query=22869"]
[22871,"Lapos penge, 2D lágyított fogazat,  24 TPI 600mm// GROSS",2578,"B","Active",{"$f":"VLOOKUP(A723,[1]Sheet1!$A$1:$C$65512,3,FALSE)","v":95},null,null,"No info","линк","https://bg.toolsworld.com/search/?query=","https://bg.toolsworld.com/search/?query=22871"]
[22873,"Lapos penge, 3D lágyított fogazat,  18 TPI 550mm// GROSS",3389,"B","Active",{"$f":"VLOOKUP(A724,[1]Sheet1!$A$1:$C$65512,3,FALSE)","v":39},null,null,"No info","линк","https://bg.toolsworld.com/search/?query=","https://bg.toolsworld.com/search/?query=22873"]
[22875,"Lapos penge, 3D lágyított fogazat,  18 TPI 600mm// GROSS",3668,"B","Active",{"$f":"VLOOKUP(A725,[1]Sheet1!$A$1:$C$65512,3,FALSE)","v":14},null,null,"No info","линк","https://bg.toolsworld.com/search/?query=","https://bg.toolsworld.com/search/?query=22875"]
[23100,"PIRANHA kézi furész, 300 mm/12\",(11-12Tpi+3 Edge Grd), edzett fog, kétkomponensu nyéllel// Gross",4181,"B","Active",{"$f":"VLOOKUP(A726,[1]Sheet1!$A$1:$C$65512,3,FALSE)","v":375},null,null,"No info","линк","https://bg.toolsworld.com/search/?query=","https://bg.toolsworld.com/search/?query=23100"]
[23612,"PIRANHA fafurész, kempingbe és kertbe, 330 mm, (9-10Tpi+3 Edge Grd), edzett fog// Gross",5026,"B","Active",{"$f":"VLOOKUP(A727,[1]Sheet1!$A$1:$C$65512,3,FALSE)","v":28},null,null,"No info","линк","https://bg.toolsworld.com/search/?query=","https://bg.toolsworld.com/search/?query=23612"]
[23616,"Fafurész PIRANHA, összecsukható, kemping és kert, 150mm, 9-10Tpi+3Edge Grd, 2 komponensu nyél// Gross",4639,"B","Active",{"$f":"VLOOKUP(A728,[1]Sheet1!$A$1:$C$65512,3,FALSE)","v":12},null,null,"No info","линк","https://bg.toolsworld.com/search/?query=","https://bg.toolsworld.com/search/?query=23616"]
[23802,"Kézifűrész fához 400 mm, 7 TPIi+2 Edge Grd, edzett fog// Сибртех",1676,"B","Active",{"$f":"VLOOKUP(A729,[1]Sheet1!$A$1:$C$65512,3,FALSE)","v":{"$error":"#N/A"}},null,null,"No info","линк","https://bg.toolsworld.com/search/?query=","https://bg.toolsworld.com/search/?query=23802"]
[23803,"Kézifűrész fához 450 mm, 7 TPI +2 Edge Grd, edzett fog// Сибртех",2032,"B","Active",{"$f":"VLOOKUP(A730,[1]Sheet1!$A$1:$C$65512,3,FALSE)","v":{"$error":"#N/A"}},null,null,"No info","линк","https://bg.toolsworld.com/search/?query=","https://bg.toolsworld.com/search/?query=23803"]
[23818,"Kézifűrész fához 500mm, 4Tpi+2 Edge Grd, edzett fog// Сибртех",1916,"B","Active",{"$f":"VLOOKUP(A731,[1]Sheet1!$A$1:$C$65512,3,FALSE)","v":175},null,null,"No info","линк","https://bg.toolsworld.com/search/?query=","https://bg.toolsworld.com/search/?query=23818"]
[24050,"Lombfurész pengék, 125 mm, gyémánt, 20 darab. Russia",393,"B","Active",{"$f":"VLOOKUP(A732,[1]Sheet1!$A$1:$C$65512,3,FALSE)","v":1864},null,null,"No info","линк","https://bg.toolsworld.com/search/?query=","https://bg.toolsworld.com/search/?query=24050"]
[24100,"Kézi furész (8Tpi+3 Edge Grd), lágyított fogazat 450mm// GROSS",5066,"B","Active",{"$f":"VLOOKUP(A733,[1]Sheet1!$A$1:$C$65512,3,FALSE)","v":604},null,null,"No info","линк","https://bg.toolsworld.com/search/?query=","https://bg.toolsworld.com/search/?query=24100"]
[24101,"Kézi furész (8Tpi+3 Edge Grd), lágyított fogazat 500mm // GROSS",6081,"B","Active",{"$f":"VLOOKUP(A734,[1]Sheet1!$A$1:$C$65512,3,FALSE)","v":81},null,null,"No info","линк","https://bg.toolsworld.com/search/?query=","https://bg.toolsworld.com/search/?query=24101"]
[24103,"Kézi furész (12Tpi+3 Edge Grd), lágyított fogazat 450mm// GROSS",4895,"B","Active",{"$f":"VLOOKUP(A735,[1]Sheet1!$A$1:$C$65512,3,FALSE)","v":351},null,null,"No info","линк","https://bg.toolsworld.com/search/?query=","https://bg.toolsworld.com/search/?query=24103"]
[24106,"450mm UltraTRT Kézi furész w/12Tpi, 3 Edge Grd lágyított fogazat//GROSS",5211,"B","Active",{"$f":"VLOOKUP(A736,[1]Sheet1!$A$1:$C$65512,3,FALSE)","v":309},null,null,"No info","линк","https://bg.toolsworld.com/search/?query=","https://bg.toolsworld.com/search/?query=24106"]
[24107,"500 mm-es UltraTRT kézi fűrész 11-12Tpi-vel, 3 élű Grd edzett fog// GROSS",6419,"B","Active",{"$f":"VLOOKUP(A737,[1]Sheet1!$A$1:$C$65512,3,FALSE)","v":{"$error":"#N/A"}},null,null,"No info","линк","https://bg.toolsworld.com/search/?query=","https://bg.toolsworld.com/search/?query=24107"]
[24109,"400mm Kézi furész (8Tpi+3 Edge Grd), lágyított fogazat// GROSS",4836,"B","Active",{"$f":"VLOOKUP(A738,[1]Sheet1!$A$1:$C$65512,3,FALSE)","v":540},null,null,"No info","линк","https://bg.toolsworld.com/search/?query=","https://bg.toolsworld.com/search/?query=24109"]
[24110,"400mm Kézi furész (12Tpi+3 Edge Grd), lágyított fogazat // GROSS",4647,"B","Active",{"$f":"VLOOKUP(A739,[1]Sheet1!$A$1:$C$65512,3,FALSE)","v":291},null,null,"No info","линк","https://bg.toolsworld.com/search/?query=","https://bg.toolsworld.com/search/?query=24110"]
[24111,"UltraTRT Kézi furész w/12Tpi, 3 Edge Grd lágyított fogazat 400mm //GROSS",5345,"B","Active",{"$f":"VLOOKUP(A740,[1]Sheet1!$A$1:$C$65512,3,FALSE)","v":178},null,null,"No info","линк","https://bg.toolsworld.com/search/?query=","https://bg.toolsworld.com/search/?query=24111"]
[24119,"550 mm-es kézi fűrész (7-8Tpi+3 Edge Grd), edzett fog// GROSS",6852,"B","Active",{"$f":"VLOOKUP(A741,[1]Sheet1!$A$1:$C$65512,3,FALSE)","v":208},null,null,"No info","линк","https://bg.toolsworld.com/search/?query=","https://bg.toolsworld.com/search/?query=24119"]
[24121,"Kézi furész laminált laphoz (16Tpi), 2 Edge Grd lágyított fogazat, 360mm// GROSS",3684,"B","Active",{"$f":"VLOOKUP(A742,[1]Sheet1!$A$1:$C$65512,3,FALSE)","v":223},null,null,"No info","линк","https://bg.toolsworld.com/search/?query=","https://bg.toolsworld.com/search/?query=24121"]
[24706,"Véső műanyag nyéllel 6 mm, lapos// Сибртех",668,"B","Active",{"$f":"VLOOKUP(A743,[1]Sheet1!$A$1:$C$65512,3,FALSE)","v":17},null,null,"No info","линк","https://bg.toolsworld.com/search/?query=","https://bg.toolsworld.com/search/?query=24706"]
[24710,"Véső műanyag nyéllel 10 mm, lapos// Сибртех",707,"B","Active",{"$f":"VLOOKUP(A744,[1]Sheet1!$A$1:$C$65512,3,FALSE)","v":12},null,null,"No info","линк","https://bg.toolsworld.com/search/?query=","https://bg.toolsworld.com/search/?query=24710"]
[24712,"Véső műanyag nyéllel 12 mm, lapos// Сибртех",727,"B","Active",{"$f":"VLOOKUP(A745,[1]Sheet1!$A$1:$C$65512,3,FALSE)","v":16},null,null,"No info","линк","https://bg.toolsworld.com/search/?query=","https://bg.toolsworld.com/search/?query=24712"]
[24714,"Véso muanyag nyéllel 14 mm, lapos// SIBRTEH",747,"B","Active",{"$f":"VLOOKUP(A746,[1]Sheet1!$A$1:$C$65512,3,FALSE)","v":30},null,null,"No info","линк","https://bg.toolsworld.com/search/?query=","https://bg.toolsworld.com/search/?query=24714"]
[24716,"Véső műanyag nyéllel 16 mm, lapos// Сибртех",766,"B","Active",{"$f":"VLOOKUP(A747,[1]Sheet1!$A$1:$C$65512,3,FALSE)","v":17},null,null,"No info","линк","https://bg.toolsworld.com/search/?query=","https://bg.toolsworld.com/search/?query=24716"]
[24718,"Véso muanyag nyéllel 18 mm, lapos// SIBRTEH",786,"B","Active",{"$f":"VLOOKUP(A748,[1]Sheet1!$A$1:$C$65512,3,FALSE)","v":22},null,null,"No info","линк","https://bg.toolsworld.com/search/?query=","https://bg.toolsworld.com/search/?query=24718"]
[25003,"Hosszú pengéju fa véso, két komponensu nyél, 10mm// GROSS",0,"B","Active",{"$f":"VLOOKUP(A749,[1]Sheet1!$A$1:$C$65512,3,FALSE)","v":{"$error":"#N/A"}},null,null,"No info","линк","https://bg.toolsworld.com/search/?query=","https://bg.toolsworld.com/search/?query=25003"]
[25236,"Pajszer, kettos T alakú, 450x29x16 mm// GROSS",3464,"B","Active",{"$f":"VLOOKUP(A750,[1]Sheet1!$A$1:$C$65512,3,FALSE)","v":362},null,null,"No info","линк","https://bg.toolsworld.com/search/?query=","https://bg.toolsworld.com/search/?query=25236"]
[25237,"Pajszer, kettos T alakú, 600x30x17 mm// GROSS",4431,"B","Active",{"$f":"VLOOKUP(A751,[1]Sheet1!$A$1:$C$65512,3,FALSE)","v":317},null,null,"No info","линк","https://bg.toolsworld.com/search/?query=","https://bg.toolsworld.com/search/?query=25237"]
[25239,"Pajszer, kettos T alakú, 900x30x17 mm// GROSS",6292,"B","Active",{"$f":"VLOOKUP(A752,[1]Sheet1!$A$1:$C$65512,3,FALSE)","v":470},null,null,"No info","линк","https://bg.toolsworld.com/search/?query=","https://bg.toolsworld.com/search/?query=25239"]
[25251,"Mini karmos rúd, 250x21x9mm// Gross",4967,"B","Active",{"$f":"VLOOKUP(A753,[1]Sheet1!$A$1:$C$65512,3,FALSE)","v":1580},null,null,"No info","линк","https://bg.toolsworld.com/search/?query=","https://bg.toolsworld.com/search/?query=25251"]
[25253,"Karomrúd, gumikar, 300x22x14mm// Gross",4030,"B","Active",{"$f":"VLOOKUP(A754,[1]Sheet1!$A$1:$C$65512,3,FALSE)","v":1179},null,null,"No info","линк","https://bg.toolsworld.com/search/?query=","https://bg.toolsworld.com/search/?query=25253"]
[25255,"Karmos rúd, lapos profil, 380x35x8mm// Gross",5657,"B","Active",{"$f":"VLOOKUP(A755,[1]Sheet1!$A$1:$C$65512,3,FALSE)","v":1830},null,null,"No info","линк","https://bg.toolsworld.com/search/?query=","https://bg.toolsworld.com/search/?query=25255"]
[30560,"Méropálca, 150 mm, fém Russia",513,"B","Active",{"$f":"VLOOKUP(A756,[1]Sheet1!$A$1:$C$65512,3,FALSE)","v":{"$error":"#N/A"}},null,null,"No info","линк","https://bg.toolsworld.com/search/?query=","https://bg.toolsworld.com/search/?query=30560"]
[30561,"Méropálca, 300 mm, fém Russia",1197,"B","Active",{"$f":"VLOOKUP(A757,[1]Sheet1!$A$1:$C$65512,3,FALSE)","v":19},null,null,"No info","линк","https://bg.toolsworld.com/search/?query=","https://bg.toolsworld.com/search/?query=30561"]
[31101,"Méroszalag, mágneses gumis akasztóvég, 3m x 16mm // GROSS",1497,"B","Active",{"$f":"VLOOKUP(A758,[1]Sheet1!$A$1:$C$65512,3,FALSE)","v":60},null,null,"No info","линк","https://bg.toolsworld.com/search/?query=","https://bg.toolsworld.com/search/?query=31101"]
[31102,"Méroszalag, mágneses gumis akasztóvég, 5m x 19mm // GROSS",1957,"B","Active",{"$f":"VLOOKUP(A759,[1]Sheet1!$A$1:$C$65512,3,FALSE)","v":" "},null,null,"No info","линк","https://bg.toolsworld.com/search/?query=","https://bg.toolsworld.com/search/?query=31102"]
[31103,"Méroszalag, mágneses gumis akasztóvég, 5m x 25mm // GROSS",2344,"B","Active",{"$f":"VLOOKUP(A760,[1]Sheet1!$A$1:$C$65512,3,FALSE)","v":48},null,null,"No info","линк","https://bg.toolsworld.com/search/?query=","https://bg.toolsworld.com/search/?query=31103"]
[31104,"Méroszalag, mágneses gumis akasztóvég, 8m x 25mm // GROSS",2969,"B","Active",{"$f":"VLOOKUP(A761,[1]Sheet1!$A$1:$C$65512,3,FALSE)","v":{"$error":"#N/A"}},null,null,"No info","линк","https://bg.toolsworld.com/search/?query=","https://bg.toolsworld.com/search/?query=31104"]
[31105,"Méroszalag, mágneses gumis akasztóvég, 10m x 25mm // GROSS",3313,"B","Active",{"$f":"VLOOKUP(A762,[1]Sheet1!$A$1:$C$65512,3,FALSE)","v":18},null,null,"No info","линк","https://bg.toolsworld.com/search/?query=","https://bg.toolsworld.com/search/?query=31105"]
[31111,"Méroszalag, 2 oldalas felosztás, gumis akasztóvég 3m x 19mm// GROSS",2582,"B","Active",{"$f":"VLOOKUP(A763,[1]Sheet1!$A$1:$C$65512,3,FALSE)","v":418},null,null,"No info","линк","https://bg.toolsworld.com/search/?query=","https://bg.toolsworld.com/search/?query=31111"]
[31112,"Méroszalag, 2 oldalas felosztás, gumis akasztóvég 5m x 19mm // GROSS",3175,"B","Active",{"$f":"VLOOKUP(A764,[1]Sheet1!$A$1:$C$65512,3,FALSE)","v":281},null,null,"No info","линк","https://bg.toolsworld.com/search/?query=","https://bg.toolsworld.com/search/?query=31112"]
[31113,"Méroszalag, 2 oldalas felosztás, gumis akasztóvég 5m x 25mm// GROSS",3657,"B","Active",{"$f":"VLOOKUP(A765,[1]Sheet1!$A$1:$C$65512,3,FALSE)","v":196},null,null,"No info","линк","https://bg.toolsworld.com/search/?query=","https://bg.toolsworld.com/search/?query=31113"]
[31114,"Méroszalag, 2 oldalas felosztás, gumis akasztóvég 8m x 25mm // GROSS",4533,"B","Active",{"$f":"VLOOKUP(A766,[1]Sheet1!$A$1:$C$65512,3,FALSE)","v":248},null,null,"No info","линк","https://bg.toolsworld.com/search/?query=","https://bg.toolsworld.com/search/?query=31114"]
[31121,"Méroszalag, egy oldalas akasztó 2m x 16mm// GROSS",1820,"B","Active",{"$f":"VLOOKUP(A767,[1]Sheet1!$A$1:$C$65512,3,FALSE)","v":478},null,null,"No info","линк","https://bg.toolsworld.com/search/?query=","https://bg.toolsworld.com/search/?query=31121"]
[31122,"Méroszalag,  2 oldalas felosztás, egy oldalas akasztó 3m x 16mm // GROSS",1827,"B","Active",{"$f":"VLOOKUP(A768,[1]Sheet1!$A$1:$C$65512,3,FALSE)","v":538},null,null,"No info","линк","https://bg.toolsworld.com/search/?query=","https://bg.toolsworld.com/search/?query=31122"]
[31123,"Méroszalag, 5m x 19mm , 2 oldalas felosztás, dupla akasztóvég //SIBRTEH",2863,"B","Active",{"$f":"VLOOKUP(A769,[1]Sheet1!$A$1:$C$65512,3,FALSE)","v":{"$error":"#N/A"}},null,null,"No info","линк","https://bg.toolsworld.com/search/?query=","https://bg.toolsworld.com/search/?query=31123"]
[31124,"Méroszalag, 2 oldalas felosztás, dupla akasztóvég 5m x 25mm // GROSS",3388,"B","Active",{"$f":"VLOOKUP(A770,[1]Sheet1!$A$1:$C$65512,3,FALSE)","v":769},null,null,"No info","линк","https://bg.toolsworld.com/search/?query=","https://bg.toolsworld.com/search/?query=31124"]
[31125,"Méroszalag, 2 oldalas felosztás, dupla akasztóvég 8m x 25mm// GROSS",4596,"B","Active",{"$f":"VLOOKUP(A771,[1]Sheet1!$A$1:$C$65512,3,FALSE)","v":183},null,null,"No info","линк","https://bg.toolsworld.com/search/?query=","https://bg.toolsworld.com/search/?query=31125"]
[31126,"Méroszalag, 2 oldalas felosztás, dupla akasztóvég 10m x 25mm// GROSS",5637,"B","Active",{"$f":"VLOOKUP(A772,[1]Sheet1!$A$1:$C$65512,3,FALSE)","v":311},null,null,"No info",{"$f":"HYPERLINK(L772,\"линк\")","v":"линк"},"https://bg.toolsworld.com/search/?query=",{"$f":"CONCATENATE(K772,A772)","v":"https://bg.toolsworld.com/search/?query=31126"}]
[31251,"Geodéziai méroszalag 20mx13mm, fémszalag, zárt tok, 2 oldalas felosztás// GROSS",6005,"B","Active",{"$f":"VLOOKUP(A773,[1]Sheet1!$A$1:$C$65512,3,FALSE)","v":872},null,null,"No info","линк","https://bg.toolsworld.com/search/?query=","https://bg.toolsworld.com/search/?query=31251"]
[31260,"Mérőszalag 10 m x 13 mm, zárt test, üvegszálas szalag// Сибртех",1560,"B","Active",{"$f":"VLOOKUP(A774,[1]Sheet1!$A$1:$C$65512,3,FALSE)","v":{"$error":"#N/A"}},null,null,"No info","линк","https://bg.toolsworld.com/search/?query=","https://bg.toolsworld.com/search/?query=31260"]
[31261,"Mérő szalag 20 m x 13 mm, zárt tok üvegszálas// SIBRTEH",1584,"B","Active",{"$f":"VLOOKUP(A775,[1]Sheet1!$A$1:$C$65512,3,FALSE)","v":{"$error":"#N/A"}},null,null,"No info","линк","https://bg.toolsworld.com/search/?query=","https://bg.toolsworld.com/search/?query=31261"]
[31263,"Mérő szalag 50 m x 13 mm, zárt tok üvegszálas// SIBRTEH",3234,"B","Active",{"$f":"VLOOKUP(A776,[1]Sheet1!$A$1:$C$65512,3,FALSE)","v":{"$error":"#N/A"}},null,null,"No info","линк","https://bg.toolsworld.com/search/?query=","https://bg.toolsworld.com/search/?query=31263"]
[31312,"Mérőszalag Elastica, 5 m * 18 mm, gumi test// Sparta",544,"B","Active",{"$f":"VLOOKUP(A777,[1]Sheet1!$A$1:$C$65512,3,FALSE)","v":{"$error":"#N/A"}},null,null,"No info","линк","https://bg.toolsworld.com/search/?query=","https://bg.toolsworld.com/search/?query=31312"]
[32522,"Kvarc mérőszalag, átlátszó test, puffer, 5m x 25 mm// Сибртех",1348,"B","Active",{"$f":"VLOOKUP(A778,[1]Sheet1!$A$1:$C$65512,3,FALSE)","v":{"$error":"#N/A"}},null,null,"No info","линк","https://bg.toolsworld.com/search/?query=","https://bg.toolsworld.com/search/?query=32522"]
[32574,"Mérőszalag Experte, 3 m x 19 mm, kétkomponensű burkolat, mágnes, kétoldalas, nylon// GROSS",2269,"B","Active",{"$f":"VLOOKUP(A779,[1]Sheet1!$A$1:$C$65512,3,FALSE)","v":381},null,null,"No info","линк","https://bg.toolsworld.com/search/?query=","https://bg.toolsworld.com/search/?query=32574"]
[32575,"Mérőszalag Experte, 5 m x 27 mm, kétkomponensű burkolat, mágnes, kétoldalas, nylon// GROSS",4077,"B","Active",{"$f":"VLOOKUP(A780,[1]Sheet1!$A$1:$C$65512,3,FALSE)","v":100},null,null,"No info","линк","https://bg.toolsworld.com/search/?query=","https://bg.toolsworld.com/search/?query=32575"]
[32576,"Mérőszalag Experte, 8 m x 27 mm, kétkomponensű burkolat, mágnes, kétoldalas, nylon// GROSS",6009,"B","Active",{"$f":"VLOOKUP(A781,[1]Sheet1!$A$1:$C$65512,3,FALSE)","v":276},null,null,"No info","линк","https://bg.toolsworld.com/search/?query=","https://bg.toolsworld.com/search/?query=32576"]
[33624,"Alumínium vízmérték, megerosített, 400 mm, 3 ampulla// GROSS",4710,"B","Active",{"$f":"VLOOKUP(A782,[1]Sheet1!$A$1:$C$65512,3,FALSE)","v":99},null,null,"No info","линк","https://bg.toolsworld.com/search/?query=","https://bg.toolsworld.com/search/?query=33624"]
[33625,"Alumínium vízmérték, megerosített, 600 mm, 3 ampulla// GROSS",5679,"B","Active",{"$f":"VLOOKUP(A783,[1]Sheet1!$A$1:$C$65512,3,FALSE)","v":334},null,null,"No info","линк","https://bg.toolsworld.com/search/?query=","https://bg.toolsworld.com/search/?query=33625"]
[33628,"Alumínium vízmérték, megerosített, 800 mm, 3 ampulla// GROSS",6628,"B","Active",{"$f":"VLOOKUP(A784,[1]Sheet1!$A$1:$C$65512,3,FALSE)","v":332},null,null,"No info","линк","https://bg.toolsworld.com/search/?query=","https://bg.toolsworld.com/search/?query=33628"]
[33630,"Alumínium vízmérték, megerosített, 1000 mm, 3 ampulla// GROSS",7563,"B","Active",{"$f":"VLOOKUP(A785,[1]Sheet1!$A$1:$C$65512,3,FALSE)","v":79},null,null,"No info","линк","https://bg.toolsworld.com/search/?query=","https://bg.toolsworld.com/search/?query=33630"]
[33632,"Alumínium vízmérték, megerosített, 1200 mm, 3 ampulla// GROSS",9133,"B","Active",{"$f":"VLOOKUP(A786,[1]Sheet1!$A$1:$C$65512,3,FALSE)","v":69},null,null,"No info","линк","https://bg.toolsworld.com/search/?query=","https://bg.toolsworld.com/search/?query=33632"]
[33636,"Alumínium vízmérték, megerosített, 1500 mm, 3 ampulla// GROSS",10732,"B","Active",{"$f":"VLOOKUP(A787,[1]Sheet1!$A$1:$C$65512,3,FALSE)","v":156},null,null,"No info","линк","https://bg.toolsworld.com/search/?query=","https://bg.toolsworld.com/search/?query=33636"]
[33638,"Alumínium vízmérték, megerosített, 1800 mm, 3 ampulla// GROSS",11766,"B","Active",{"$f":"VLOOKUP(A788,[1]Sheet1!$A$1:$C$65512,3,FALSE)","v":{"$error":"#N/A"}},null,null,"No info","линк","https://bg.toolsworld.com/search/?query=","https://bg.toolsworld.com/search/?query=33638"]
[33640,"Alumínium vízmérték, megerosített, 2000 mm, 3 ampulla// GROSS",13949,"B","Active",{"$f":"VLOOKUP(A789,[1]Sheet1!$A$1:$C$65512,3,FALSE)","v":42},null,null,"No info","линк","https://bg.toolsworld.com/search/?query=","https://bg.toolsworld.com/search/?query=33640"]
[34100,"Alumínium vízmérték, US-1,0-400, mart, 3 fiola, 400 mm// Сибртех",2279,"B","Active",{"$f":"VLOOKUP(A790,[1]Sheet1!$A$1:$C$65512,3,FALSE)","v":{"$error":"#N/A"}},null,null,"No info","линк","https://bg.toolsworld.com/search/?query=","https://bg.toolsworld.com/search/?query=34100"]
[34101,"Alumínium vízmérték, US-1,0-600, mart, 3 fiola, fogantyúk, 600 mm// Сибртех",2747,"B","Active",{"$f":"VLOOKUP(A791,[1]Sheet1!$A$1:$C$65512,3,FALSE)","v":{"$error":"#N/A"}},null,null,"No info","линк","https://bg.toolsworld.com/search/?query=","https://bg.toolsworld.com/search/?query=34101"]
[34102,"Alumínium vízmérték, US-1,0-800, mart, 3 fiola, fogantyúk, 800 mm// Сибртех",3325,"B","Active",{"$f":"VLOOKUP(A792,[1]Sheet1!$A$1:$C$65512,3,FALSE)","v":{"$error":"#N/A"}},null,null,"No info","линк","https://bg.toolsworld.com/search/?query=","https://bg.toolsworld.com/search/?query=34102"]
[34103,"Alumínium vízmérték, US-1,0-1000, mart, 3 fiola, fogantyúk, 1000 mm// Сибртех",3881,"B","Active",{"$f":"VLOOKUP(A793,[1]Sheet1!$A$1:$C$65512,3,FALSE)","v":5},null,null,"No info","линк","https://bg.toolsworld.com/search/?query=","https://bg.toolsworld.com/search/?query=34103"]
[34326,"Alumínium vízmérték, megerosített, utésálló borítás, 600 mm, recézett, markolat, 3 ampulla// GROSS",7427,"B","Active",{"$f":"VLOOKUP(A794,[1]Sheet1!$A$1:$C$65512,3,FALSE)","v":56},null,null,"No info","линк","https://bg.toolsworld.com/search/?query=","https://bg.toolsworld.com/search/?query=34326"]
[34330,"Alumínium vízmérték, megerosített, utésálló borítás, 1000 mm, recézett, markolat, 3 ampulla// GROSS",9339,"B","Active",{"$f":"VLOOKUP(A795,[1]Sheet1!$A$1:$C$65512,3,FALSE)","v":66},null,null,"No info","линк","https://bg.toolsworld.com/search/?query=","https://bg.toolsworld.com/search/?query=34330"]
[34335,"Alumínium vízmérték, megerosített, utésálló borítás, 1500 mm, markolat, 3 ampulla// GROSS",13807,"B","Active",{"$f":"VLOOKUP(A796,[1]Sheet1!$A$1:$C$65512,3,FALSE)","v":12},null,null,"No info","линк","https://bg.toolsworld.com/search/?query=","https://bg.toolsworld.com/search/?query=34335"]
[34340,"Alumínium vízmérték, megerosített, utésálló borítás, 2000 mm, markolat, 3 ampulla// GROSS",16690,"B","Active",{"$f":"VLOOKUP(A797,[1]Sheet1!$A$1:$C$65512,3,FALSE)","v":38},null,null,"No info","линк","https://bg.toolsworld.com/search/?query=","https://bg.toolsworld.com/search/?query=34340"]
[34371,"Alumínium vízmérték, 800 mm, felújított, fogantyús, mart, 3 fiola, mágnes// Gross",10591,"B","Active",{"$f":"VLOOKUP(A798,[1]Sheet1!$A$1:$C$65512,3,FALSE)","v":13},null,null,"No info","линк","https://bg.toolsworld.com/search/?query=","https://bg.toolsworld.com/search/?query=34371"]
[34372,"Alumínium vízmérték, 1000 mm, felújított, fogantyúk, mart, 3 fiola, mágnes// Gross",11395,"B","Active",{"$f":"VLOOKUP(A799,[1]Sheet1!$A$1:$C$65512,3,FALSE)","v":6},null,null,"No info","линк","https://bg.toolsworld.com/search/?query=","https://bg.toolsworld.com/search/?query=34372"]
[34914,"Alumínium vízmérték,  öntvény, 400 mm, 2 ampulla// GROSS",4885,"B","Active",{"$f":"VLOOKUP(A800,[1]Sheet1!$A$1:$C$65512,3,FALSE)","v":55},null,null,"No info","линк","https://bg.toolsworld.com/search/?query=","https://bg.toolsworld.com/search/?query=34914"]
[34915,"Alumínium vízmérték,  öntvény, 500 mm, 2 ampulla// GROSS",5056,"B","Active",{"$f":"VLOOKUP(A801,[1]Sheet1!$A$1:$C$65512,3,FALSE)","v":102},null,null,"No info","линк","https://bg.toolsworld.com/search/?query=","https://bg.toolsworld.com/search/?query=34915"]
[34916,"Alumínium vízmérték,  öntvény, 600 mm, 2 ampulla// GROSS",5669,"B","Active",{"$f":"VLOOKUP(A802,[1]Sheet1!$A$1:$C$65512,3,FALSE)","v":82},null,null,"No info","линк","https://bg.toolsworld.com/search/?query=","https://bg.toolsworld.com/search/?query=34916"]
[35070,"LX3 lézerszintező, 10 m, ±0,3mm/1m, 635 nm, menet 5/8\"// Denzel",24825,"B","Active",{"$f":"VLOOKUP(A803,[1]Sheet1!$A$1:$C$65512,3,FALSE)","v":163},null,null,"No info","линк","https://bg.toolsworld.com/search/?query=","https://bg.toolsworld.com/search/?query=35070"]
[37045,"Vízszintmérő, L 7 m, D 8 mm, SIBRTEH RUSSIA skálával",1623,"B","Active",{"$f":"VLOOKUP(A804,[1]Sheet1!$A$1:$C$65512,3,FALSE)","v":{"$error":"#N/A"}},null,null,"No info","линк","https://bg.toolsworld.com/search/?query=","https://bg.toolsworld.com/search/?query=37045"]
[40400,"Kézi szegecselo 258 mm, szegecsek 2,4-4,8 mm// Gross",7547,"B","Active",{"$f":"VLOOKUP(A805,[1]Sheet1!$A$1:$C$65512,3,FALSE)","v":91},null,null,"No info","линк","https://bg.toolsworld.com/search/?query=","https://bg.toolsworld.com/search/?query=40400"]
[40401,"Kézi szegecselo, formázott, szegecsek 2.4-4.8mm// GROSS",8840,"B","Active",{"$f":"VLOOKUP(A806,[1]Sheet1!$A$1:$C$65512,3,FALSE)","v":567},null,null,"No info","линк","https://bg.toolsworld.com/search/?query=","https://bg.toolsworld.com/search/?query=40401"]
[40403,"Kézi szegecselo, formázott, eros, 2.4-4.8mm// GROSS",10349,"B","Active",{"$f":"VLOOKUP(A807,[1]Sheet1!$A$1:$C$65512,3,FALSE)","v":1819},null,null,"No info","линк","https://bg.toolsworld.com/search/?query=","https://bg.toolsworld.com/search/?query=40403"]
[40405,"Kézi szegecselo, formázott, forgatható 0-360, 2.4-4.8mm// GROSS",16480,"B","Active",{"$f":"VLOOKUP(A808,[1]Sheet1!$A$1:$C$65512,3,FALSE)","v":935},null,null,"No info","линк","https://bg.toolsworld.com/search/?query=","https://bg.toolsworld.com/search/?query=40405"]
[40711,"Szegecselo 225 mm, szegecsek 2,4-3,2-4,0-4,8 mm// SPARTA",1407,"B","Active",{"$f":"VLOOKUP(A809,[1]Sheet1!$A$1:$C$65512,3,FALSE)","v":1224},null,null,"No info","линк","https://bg.toolsworld.com/search/?query=","https://bg.toolsworld.com/search/?query=40711"]
[41001,"Alumínium bútor tuzogép, kapocs típusa 13, 53, 300, 6-10mm// GROSS",7074,"B","Active",{"$f":"VLOOKUP(A810,[1]Sheet1!$A$1:$C$65512,3,FALSE)","v":305},null,null,"No info","линк","https://bg.toolsworld.com/search/?query=","https://bg.toolsworld.com/search/?query=41001"]
[41002,"Alumínium bútor tuzogép,  kapocs típusa 13, 53, 300, 6-16mm// GROSS",8889,"B","Active",{"$f":"VLOOKUP(A811,[1]Sheet1!$A$1:$C$65512,3,FALSE)","v":706},null,null,"No info","линк","https://bg.toolsworld.com/search/?query=","https://bg.toolsworld.com/search/?query=41002"]
[41003,"Muanyag bútor tuzogép, típus 13, 53, 300, 6-16mm// GROSS",6150,"B","Active",{"$f":"VLOOKUP(A812,[1]Sheet1!$A$1:$C$65512,3,FALSE)","v":279},null,null,"No info","линк","https://bg.toolsworld.com/search/?query=","https://bg.toolsworld.com/search/?query=41003"]
[41005,"Tuzogép, multifunkciós, type 36, 53, 300, 500, 8-14mm//GROSS",7496,"B","Active",{"$f":"VLOOKUP(A813,[1]Sheet1!$A$1:$C$65512,3,FALSE)","v":523},null,null,"No info","линк","https://bg.toolsworld.com/search/?query=","https://bg.toolsworld.com/search/?query=41005"]
[41007,"Bútor tuzogép (Alumínium 140), timsó. karosszéria, lengéscsillapítás, típus 140, 300, 6-14mm// Gross",8341,"B","Active",{"$f":"VLOOKUP(A814,[1]Sheet1!$A$1:$C$65512,3,FALSE)","v":620},null,null,"No info","линк","https://bg.toolsworld.com/search/?query=","https://bg.toolsworld.com/search/?query=41007"]
[41611,"Kapcsok, 6 mm bútor tuzogéphez N53, 1000db// SPARTA",159,"B","Active",{"$f":"VLOOKUP(A815,[1]Sheet1!$A$1:$C$65512,3,FALSE)","v":{"$error":"#N/A"}},null,null,"No info","линк","https://bg.toolsworld.com/search/?query=","https://bg.toolsworld.com/search/?query=41611"]
[41612,"Kapcsok, 8 mm bútor tuzogéphez N53, 1000db// SPARTA",183,"B","Active",{"$f":"VLOOKUP(A816,[1]Sheet1!$A$1:$C$65512,3,FALSE)","v":" "},null,null,"No info","линк","https://bg.toolsworld.com/search/?query=","https://bg.toolsworld.com/search/?query=41612"]
[41613,"Kapcsok, 10 mm bútor tuzogéphez N53, 1000db// SPARTA",216,"B","Active",{"$f":"VLOOKUP(A817,[1]Sheet1!$A$1:$C$65512,3,FALSE)","v":" "},null,null,"No info","линк","https://bg.toolsworld.com/search/?query=","https://bg.toolsworld.com/search/?query=41613"]
[41614,"Kapcsok, 12 mm bútor tuzogéphez N53, 1000db// SPARTA",242,"B","Active",{"$f":"VLOOKUP(A818,[1]Sheet1!$A$1:$C$65512,3,FALSE)","v":" "},null,null,"No info","линк","https://bg.toolsworld.com/search/?query=","https://bg.toolsworld.com/search/?query=41614"]
[41615,"Kapcsok, 14 mm bútor tuzogéphez N53, 1000db// SPARTA",259,"B","Active",{"$f":"VLOOKUP(A819,[1]Sheet1!$A$1:$C$65512,3,FALSE)","v":" "},null,null,"No info","линк","https://bg.toolsworld.com/search/?query=","https://bg.toolsworld.com/search/?query=41615"]
[42001,"Bútor tuzogép, 53-as típus, kapcsok 4-8 mm, 100 db kapoccsal//SPARTA",1114,"B","Active",{"$f":"VLOOKUP(A820,[1]Sheet1!$A$1:$C$65512,3,FALSE)","v":" "},null,null,"No info","линк","https://bg.toolsworld.com/search/?query=","https://bg.toolsworld.com/search/?query=42001"]
[45525,"Kábelkötegelők, 180 x 3,6 mm, műanyag, fehér, 100 db.// Сибртех",558,"B","Active",{"$f":"VLOOKUP(A821,[1]Sheet1!$A$1:$C$65512,3,FALSE)","v":{"$error":"#N/A"}},null,null,"No info","линк","https://bg.toolsworld.com/search/?query=","https://bg.toolsworld.com/search/?query=45525"]
[45527,"Kábelkötegelők, 200 x 3,6 mm, műanyag, fehér, 100 db.// Сибртех",670,"B","Active",{"$f":"VLOOKUP(A822,[1]Sheet1!$A$1:$C$65512,3,FALSE)","v":{"$error":"#N/A"}},null,null,"No info","линк","https://bg.toolsworld.com/search/?query=","https://bg.toolsworld.com/search/?query=45527"]
[45531,"Kábelkötegelők, 300 x 3,6 mm, műanyag, fehér, 100 db.// Сибртех",833,"B","Active",{"$f":"VLOOKUP(A823,[1]Sheet1!$A$1:$C$65512,3,FALSE)","v":{"$error":"#N/A"}},null,null,"No info","линк","https://bg.toolsworld.com/search/?query=","https://bg.toolsworld.com/search/?query=45531"]
[45560,"Kábelkötegelők, 300 x 3,6 mm, műanyag, fekete, 100 db.// Сибртех",955,"B","Active",{"$f":"VLOOKUP(A824,[1]Sheet1!$A$1:$C$65512,3,FALSE)","v":{"$error":"#N/A"}},null,null,"No info","линк","https://bg.toolsworld.com/search/?query=","https://bg.toolsworld.com/search/?query=45560"]
[46466,"Csatlakozólap 2,0 mm, PS 40x600 mm SIBRTEH Ru",255,"B","Active",{"$f":"VLOOKUP(A825,[1]Sheet1!$A$1:$C$65512,3,FALSE)","v":{"$error":"#N/A"}},null,null,"No info","линк","https://bg.toolsworld.com/search/?query=","https://bg.toolsworld.com/search/?query=46466"]
[46478,"Csatlakozólap 2,0 mm, PS 60x1250 mm SIBRTEH Russia",0,"B","Active",{"$f":"VLOOKUP(A826,[1]Sheet1!$A$1:$C$65512,3,FALSE)","v":{"$error":"#N/A"}},null,null,"No info","линк","https://bg.toolsworld.com/search/?query=","https://bg.toolsworld.com/search/?query=46478"]
[46510,"Bútor sarokblokk, megerősített, 2,0 mm, 25x25x30 mm, orosz horgany SIBRTEH",35,"B","Active",{"$f":"VLOOKUP(A827,[1]Sheet1!$A$1:$C$65512,3,FALSE)","v":{"$error":"#N/A"}},null,null,"No info","линк","https://bg.toolsworld.com/search/?query=","https://bg.toolsworld.com/search/?query=46510"]
[46514,"Sarok lemez, 1,2 mm, 50x50 mm, cink// SIBRTEH Russia",28,"B","Active",{"$f":"VLOOKUP(A828,[1]Sheet1!$A$1:$C$65512,3,FALSE)","v":{"$error":"#N/A"}},null,null,"No info","линк","https://bg.toolsworld.com/search/?query=","https://bg.toolsworld.com/search/?query=46514"]
[46515,"Sarok lemez, 1,2 mm, 100x100 mm, cink// SIBRTEH Russia",45,"B","Active",{"$f":"VLOOKUP(A829,[1]Sheet1!$A$1:$C$65512,3,FALSE)","v":{"$error":"#N/A"}},null,null,"No info","линк","https://bg.toolsworld.com/search/?query=","https://bg.toolsworld.com/search/?query=46515"]
[47547,"Fém fogantyú tömloszorítóek 12-20mm,100darab/táska//PALISAD",6545,"B","Active",{"$f":"VLOOKUP(A830,[1]Sheet1!$A$1:$C$65512,3,FALSE)","v":{"$error":"#N/A"}},null,null,"No info","линк","https://bg.toolsworld.com/search/?query=","https://bg.toolsworld.com/search/?query=47547"]
[47548,"Fém fogantyú tömloszorítóek 16-25mm,100darab/táska//PALISAD",6751,"B","Active",{"$f":"VLOOKUP(A831,[1]Sheet1!$A$1:$C$65512,3,FALSE)","v":22},null,null,"No info","линк","https://bg.toolsworld.com/search/?query=","https://bg.toolsworld.com/search/?query=47548"]
[47549,"Fém fogantyú tömloszorítóek 20-32mm,50darab/táska//PALISAD",3276,"B","Active",{"$f":"VLOOKUP(A832,[1]Sheet1!$A$1:$C$65512,3,FALSE)","v":1},null,null,"No info","линк","https://bg.toolsworld.com/search/?query=","https://bg.toolsworld.com/search/?query=47549"]
[47559,"Fém tömlőszorítóek szabványos csavarral 20-32 mm, szélesség 9 mm, 50 db.// Сибртех",3979,"B","Active",{"$f":"VLOOKUP(A833,[1]Sheet1!$A$1:$C$65512,3,FALSE)","v":{"$error":"#N/A"}},null,null,"No info","линк","https://bg.toolsworld.com/search/?query=","https://bg.toolsworld.com/search/?query=47559"]
[47575,"Fém tömlőszorítóek szabványos csavarral 120-140 mm, szélesség 9 mm, 25 db.// Сибртех",3496,"B","Active",{"$f":"VLOOKUP(A834,[1]Sheet1!$A$1:$C$65512,3,FALSE)","v":{"$error":"#N/A"}},null,null,"No info","линк","https://bg.toolsworld.com/search/?query=","https://bg.toolsworld.com/search/?query=47575"]
[47576,"W2 Acél szorítóek standard csavarozás 8*12 mm, 100darab/táska, szélesség 9mm//SIBRTEH",5366,"B","Active",{"$f":"VLOOKUP(A835,[1]Sheet1!$A$1:$C$65512,3,FALSE)","v":{"$error":"#N/A"}},null,null,"No info",{"$f":"HYPERLINK(L835,\"линк\")","v":"линк"},"https://bg.toolsworld.com/search/?query=",{"$f":"CONCATENATE(K835,A835)","v":"https://bg.toolsworld.com/search/?query=47576"}]
[47577,"W2 Acél szorítóek standard csavarozás 10*16 mm, 100darab/táska, szélesség 9mm//SIBRTEH",5549,"B","Active",{"$f":"VLOOKUP(A836,[1]Sheet1!$A$1:$C$65512,3,FALSE)","v":{"$error":"#N/A"}},null,null,"No info","линк","https://bg.toolsworld.com/search/?query=","https://bg.toolsworld.com/search/?query=47577"]
[47581,"Rozsdamentes acél tömlőszorítóek szabványos csavarral 25-40 mm, szélesség 9 mm, 50 db.// Сибртех",4761,"B","Active",{"$f":"VLOOKUP(A837,[1]Sheet1!$A$1:$C$65512,3,FALSE)","v":{"$error":"#N/A"}},null,null,"No info","линк","https://bg.toolsworld.com/search/?query=","https://bg.toolsworld.com/search/?query=47581"]
[47582,"Rozsdamentes acél tömlőszorítóek szabványos csavarral 32-50 mm, szélesség 9 mm, 50 db.// Сибртех",5069,"B","Active",{"$f":"VLOOKUP(A838,[1]Sheet1!$A$1:$C$65512,3,FALSE)","v":{"$error":"#N/A"}},null,null,"No info","линк","https://bg.toolsworld.com/search/?query=","https://bg.toolsworld.com/search/?query=47582"]
[47583,"Rozsdamentes tömlőszorítóek szabványos csavarral 40-60 mm, szélesség 9 mm, 50 db.// Сибртех",5240,"B","Active",{"$f":"VLOOKUP(A839,[1]Sheet1!$A$1:$C$65512,3,FALSE)","v":{"$error":"#N/A"}},null,null,"No info","линк","https://bg.toolsworld.com/search/?query=","https://bg.toolsworld.com/search/?query=47583"]
[47584,"Rozsdamentes acél tömlőszorítóek szabványos csavarral 50-70 mm, szélesség 9 mm, 50 db.// Сибртех",5390,"B","Active",{"$f":"VLOOKUP(A840,[1]Sheet1!$A$1:$C$65512,3,FALSE)","v":{"$error":"#N/A"}},null,null,"No info","линк","https://bg.toolsworld.com/search/?query=","https://bg.toolsworld.com/search/?query=47584"]
[47597,"Gumitömítés szett, D 7 - 53 mm, 404 db// SIBRTEH",3323,"B","Active",{"$f":"VLOOKUP(A841,[1]Sheet1!$A$1:$C$65512,3,FALSE)","v":{"$error":"#N/A"}},null,null,"No info","линк","https://bg.toolsworld.com/search/?query=","https://bg.toolsworld.com/search/?query=47597"]
[47598,"Tömíto gumi készlet D 3 - 22 mm, 279 darab//SIBRTEH",1700,"B","Active",{"$f":"VLOOKUP(A842,[1]Sheet1!$A$1:$C$65512,3,FALSE)","v":{"$error":"#N/A"}},null,null,"No info","линк","https://bg.toolsworld.com/search/?query=","https://bg.toolsworld.com/search/?query=47598"]
[47602,"Rugókészlet 5,5х17, 5,5х38, 6,5х10, 7х12,5, 7х19, 9х35, 9,5х16, 9,5х19 mm, 200 db// Сибртех",1945,"B","Active",{"$f":"VLOOKUP(A843,[1]Sheet1!$A$1:$C$65512,3,FALSE)","v":{"$error":"#N/A"}},null,null,"No info","линк","https://bg.toolsworld.com/search/?query=","https://bg.toolsworld.com/search/?query=47602"]
[47603,"Hasítócsap készlet, S fejek x L: 3,2х50, 4х64, 4,8х76, 6,4х50, 6,4х76, 8х64 mm, 144 db.// Сибртех",2861,"B","Active",{"$f":"VLOOKUP(A844,[1]Sheet1!$A$1:$C$65512,3,FALSE)","v":{"$error":"#N/A"}},null,null,"No info","линк","https://bg.toolsworld.com/search/?query=","https://bg.toolsworld.com/search/?query=47603"]
[47615,"Anyakészlet М3, М4, М5, М6, М8, М10, 600 db.// Сибртех",2609,"B","Active",{"$f":"VLOOKUP(A845,[1]Sheet1!$A$1:$C$65512,3,FALSE)","v":{"$error":"#N/A"}},null,null,"No info","линк","https://bg.toolsworld.com/search/?query=","https://bg.toolsworld.com/search/?query=47615"]
[47617,"Anya, csavar, alátétkészlet, 420 db.// Сибртех",2061,"B","Active",{"$f":"VLOOKUP(A846,[1]Sheet1!$A$1:$C$65512,3,FALSE)","v":{"$error":"#N/A"}},null,null,"No info","линк","https://bg.toolsworld.com/search/?query=","https://bg.toolsworld.com/search/?query=47617"]
[47648,"Fém csopánt kulcs alakú markolattal, 10-16, 2 db",167,"B","Active",{"$f":"VLOOKUP(A847,[1]Sheet1!$A$1:$C$65512,3,FALSE)","v":{"$error":"#N/A"}},null,null,"No info","линк","https://bg.toolsworld.com/search/?query=","https://bg.toolsworld.com/search/?query=47648"]
[47649,"Fém csopánt kulcs alakú markolattal, 12-20mm,2 db.",177,"B","Active",{"$f":"VLOOKUP(A848,[1]Sheet1!$A$1:$C$65512,3,FALSE)","v":{"$error":"#N/A"}},null,null,"No info","линк","https://bg.toolsworld.com/search/?query=","https://bg.toolsworld.com/search/?query=47649"]
[47650,"Fém csopánt kulcs alakú markolattal, 16-25mm,2 db.",196,"B","Active",{"$f":"VLOOKUP(A849,[1]Sheet1!$A$1:$C$65512,3,FALSE)","v":{"$error":"#N/A"}},null,null,"No info","линк","https://bg.toolsworld.com/search/?query=","https://bg.toolsworld.com/search/?query=47650"]
[47651,"Fém csopánt kulcs alakú markolattal, 20-32mm,2 db.",204,"B","Active",{"$f":"VLOOKUP(A850,[1]Sheet1!$A$1:$C$65512,3,FALSE)","v":58},null,null,"No info","линк","https://bg.toolsworld.com/search/?query=","https://bg.toolsworld.com/search/?query=47651"]
[47652,"Fém csopánt kulcs alakú markolattal, 20-35mm,2 db.",208,"B","Active",{"$f":"VLOOKUP(A851,[1]Sheet1!$A$1:$C$65512,3,FALSE)","v":302},null,null,"No info","линк","https://bg.toolsworld.com/search/?query=","https://bg.toolsworld.com/search/?query=47652"]
[47653,"Fém csopánt kulcs alakú markolattal, 25-40mm, 2 db.",212,"B","Active",{"$f":"VLOOKUP(A852,[1]Sheet1!$A$1:$C$65512,3,FALSE)","v":{"$error":"#N/A"}},null,null,"No info","линк","https://bg.toolsworld.com/search/?query=","https://bg.toolsworld.com/search/?query=47653"]
[50321,"Hidraulikus palackemelő, 2 t, emelkedő 148-278 mm// Sparta",4818,"B","Active",{"$f":"VLOOKUP(A853,[1]Sheet1!$A$1:$C$65512,3,FALSE)","v":{"$error":"#N/A"}},null,null,"No info","линк","https://bg.toolsworld.com/search/?query=","https://bg.toolsworld.com/search/?query=50321"]
[50383,"1,5t Ollós emelő, h emelés 105-380 mm// Sparta",6852,"B","Active",{"$f":"VLOOKUP(A854,[1]Sheet1!$A$1:$C$65512,3,FALSE)","v":{"$error":"#N/A"}},null,null,"No info","линк","https://bg.toolsworld.com/search/?query=","https://bg.toolsworld.com/search/?query=50383"]
[50529,"Magas- emelő 3 t, emelőképesség 115-1335 mm// Stels",33325,"B","Active",{"$f":"VLOOKUP(A855,[1]Sheet1!$A$1:$C$65512,3,FALSE)","v":15},null,null,"No info","линк","https://bg.toolsworld.com/search/?query=","https://bg.toolsworld.com/search/?query=50529"]
[51096,"Hidraulikus palack emelo, 3T, tartomány 178-343 mm//STELS",6109,"B","Active",{"$f":"VLOOKUP(A856,[1]Sheet1!$A$1:$C$65512,3,FALSE)","v":144},null,null,"No info","линк","https://bg.toolsworld.com/search/?query=","https://bg.toolsworld.com/search/?query=51096"]
[51097,"Hidraulikus palack emelo, 5T, tartomány 197-382 mm//STELS",9333,"B","Active",{"$f":"VLOOKUP(A857,[1]Sheet1!$A$1:$C$65512,3,FALSE)","v":17},null,null,"No info","линк","https://bg.toolsworld.com/search/?query=","https://bg.toolsworld.com/search/?query=51097"]
[51100,"Hidraulikus palack emelo, 2T, tartomány 158-308 mm//STELS",5402,"B","Active",{"$f":"VLOOKUP(A858,[1]Sheet1!$A$1:$C$65512,3,FALSE)","v":233},null,null,"No info","линк","https://bg.toolsworld.com/search/?query=","https://bg.toolsworld.com/search/?query=51100"]
[51101,"Hidraulikus palack emelo, 2T, tartomány 181-345 mm//STELS",5559,"B","Active",{"$f":"VLOOKUP(A859,[1]Sheet1!$A$1:$C$65512,3,FALSE)","v":47},null,null,"No info","линк","https://bg.toolsworld.com/search/?query=","https://bg.toolsworld.com/search/?query=51101"]
[51103,"Hidraulikus palack emelo, 6T, tartomány 216-413 mm//STELS",9779,"B","Active",{"$f":"VLOOKUP(A860,[1]Sheet1!$A$1:$C$65512,3,FALSE)","v":19},null,null,"No info","линк","https://bg.toolsworld.com/search/?query=","https://bg.toolsworld.com/search/?query=51103"]
[51104,"Hidraulikus palack emelo, 8T, tartomány 230-457 mm//STELS",11290,"B","Active",{"$f":"VLOOKUP(A861,[1]Sheet1!$A$1:$C$65512,3,FALSE)","v":10},null,null,"No info","линк","https://bg.toolsworld.com/search/?query=","https://bg.toolsworld.com/search/?query=51104"]
[51106,"Hidraulikus palack emelo, 10T, tartomány 230-460 mm//STELS",12780,"B","Active",{"$f":"VLOOKUP(A862,[1]Sheet1!$A$1:$C$65512,3,FALSE)","v":34},null,null,"No info","линк","https://bg.toolsworld.com/search/?query=","https://bg.toolsworld.com/search/?query=51106"]
[51108,"Hidraulikus palack emelo, 12T, tartomány 230-465 mm//STELS",14147,"B","Active",{"$f":"VLOOKUP(A863,[1]Sheet1!$A$1:$C$65512,3,FALSE)","v":10},null,null,"No info","линк","https://bg.toolsworld.com/search/?query=","https://bg.toolsworld.com/search/?query=51108"]
[51109,"Hidraulikus palack emelo, 16T, tartomány 230-460 mm//STELS",14747,"B","Active",{"$f":"VLOOKUP(A864,[1]Sheet1!$A$1:$C$65512,3,FALSE)","v":29},null,null,"No info","линк","https://bg.toolsworld.com/search/?query=","https://bg.toolsworld.com/search/?query=51109"]
[51111,"Hidraulikus palack emelo, 20T, tartomány 244-449 mm//STELS",16800,"B","Active",{"$f":"VLOOKUP(A865,[1]Sheet1!$A$1:$C$65512,3,FALSE)","v":20},null,null,"No info","линк","https://bg.toolsworld.com/search/?query=","https://bg.toolsworld.com/search/?query=51111"]
[51113,"Hidraulikus palack emelo, 50T, tartomány 236-356 mm//STELS",40438,"B","Active",{"$f":"VLOOKUP(A866,[1]Sheet1!$A$1:$C$65512,3,FALSE)","v":{"$error":"#N/A"}},null,null,"No info","линк","https://bg.toolsworld.com/search/?query=","https://bg.toolsworld.com/search/?query=51113"]
[51115,"Kihúzható hidraulikus palack emelo, 2T, 170-380 mm//STELS",11968,"B","Active",{"$f":"VLOOKUP(A867,[1]Sheet1!$A$1:$C$65512,3,FALSE)","v":{"$error":"#N/A"}},null,null,"No info","линк","https://bg.toolsworld.com/search/?query=","https://bg.toolsworld.com/search/?query=51115"]
[51116,"Kihúzható hidraulikus palack emelo, 4T, 170-420 mm//STELS",16173,"B","Active",{"$f":"VLOOKUP(A868,[1]Sheet1!$A$1:$C$65512,3,FALSE)","v":{"$error":"#N/A"}},null,null,"No info","линк","https://bg.toolsworld.com/search/?query=","https://bg.toolsworld.com/search/?query=51116"]
[51121,"Hidraulikus palack emelo, 2T, tartomány 181-345 mm, buborék csomagolásban//STELS",6946,"B","Active",{"$f":"VLOOKUP(A869,[1]Sheet1!$A$1:$C$65512,3,FALSE)","v":9},null,null,"No info","линк","https://bg.toolsworld.com/search/?query=","https://bg.toolsworld.com/search/?query=51121"]
[51123,"Hidraulikus palack emelo, 4T, tartomány 194-372 mm, buborék csomagolásban//STELS",8789,"B","Active",{"$f":"VLOOKUP(A870,[1]Sheet1!$A$1:$C$65512,3,FALSE)","v":{"$error":"#N/A"}},null,null,"No info","линк","https://bg.toolsworld.com/search/?query=","https://bg.toolsworld.com/search/?query=51123"]
[51125,"Hidraulikus palack emelo, 3T, tartomány 178-343 mm, buborék csomagolásban//STELS",8630,"B","Active",{"$f":"VLOOKUP(A871,[1]Sheet1!$A$1:$C$65512,3,FALSE)","v":34},null,null,"No info","линк","https://bg.toolsworld.com/search/?query=","https://bg.toolsworld.com/search/?query=51125"]
[51126,"Hidraulikus palack emelo, 5T, tartomány 197-382 mm, buborék csomagolásban//STELS",9852,"B","Active",{"$f":"VLOOKUP(A872,[1]Sheet1!$A$1:$C$65512,3,FALSE)","v":77},null,null,"No info","линк","https://bg.toolsworld.com/search/?query=","https://bg.toolsworld.com/search/?query=51126"]
[51129,"Hidraulikus kocsiemelő 2 t, ALACSONY PROFIL, 80-380 mm// Stels",29766,"B","Active",{"$f":"VLOOKUP(A873,[1]Sheet1!$A$1:$C$65512,3,FALSE)","v":{"$error":"#N/A"}},null,null,"No info","линк","https://bg.toolsworld.com/search/?query=","https://bg.toolsworld.com/search/?query=51129"]
[51130,"Hidraulikus kocsiemelő 2 t, ALACSONY PROFIL, 80-380 mm, Fúvóház// Stels",30741,"B","Active",{"$f":"VLOOKUP(A874,[1]Sheet1!$A$1:$C$65512,3,FALSE)","v":6},null,null,"No info","линк","https://bg.toolsworld.com/search/?query=","https://bg.toolsworld.com/search/?query=51130"]
[51133,"HIDRAULIKUS KROKODIL EMELo, GYORS EMELÉS, 3 T ALACSONY PORFIL 130-465 MM PROF.//STELS",62728,"B","Active",{"$f":"VLOOKUP(A875,[1]Sheet1!$A$1:$C$65512,3,FALSE)","v":1},null,null,"No info","линк","https://bg.toolsworld.com/search/?query=","https://bg.toolsworld.com/search/?query=51133"]
[51134,"Hidraulikus emelo 3t, magas emelés, SUV, 190-535mm// STELS",37538,"B","Active",{"$f":"VLOOKUP(A876,[1]Sheet1!$A$1:$C$65512,3,FALSE)","v":" "},null,null,"No info","линк","https://bg.toolsworld.com/search/?query=","https://bg.toolsworld.com/search/?query=51134"]
[51140,"Kihúzható hidraulikus palackemelő, 4T, 190-480 mm// Stels",15446,"B","Active",{"$f":"VLOOKUP(A877,[1]Sheet1!$A$1:$C$65512,3,FALSE)","v":{"$error":"#N/A"}},null,null,"No info","линк","https://bg.toolsworld.com/search/?query=","https://bg.toolsworld.com/search/?query=51140"]
[51141,"Kihúzható hidraulikus palackemelő, 6T, 190-480 mm// Stels",20323,"B","Active",{"$f":"VLOOKUP(A878,[1]Sheet1!$A$1:$C$65512,3,FALSE)","v":{"$error":"#N/A"}},null,null,"No info","линк","https://bg.toolsworld.com/search/?query=","https://bg.toolsworld.com/search/?query=51141"]
[51354,"Hidraulikus sztreccselo 4 t, 16 db-os készlet, 7 db cserélheto fúvóka muanyag táskában//STELS",54019,"B","Active",{"$f":"VLOOKUP(A879,[1]Sheet1!$A$1:$C$65512,3,FALSE)","v":{"$error":"#N/A"}},null,null,"No info","линк","https://bg.toolsworld.com/search/?query=","https://bg.toolsworld.com/search/?query=51354"]
[51360,"Hidraulikus henger a 10 tonnás streamerhez// Stels",20243,"B","Active",{"$f":"VLOOKUP(A880,[1]Sheet1!$A$1:$C$65512,3,FALSE)","v":{"$error":"#N/A"}},null,null,"No info","линк","https://bg.toolsworld.com/search/?query=","https://bg.toolsworld.com/search/?query=51360"]
[51362,"Hidraulikus 10 tonnás henger horgokkal megerősítve// Stels",43218,"B","Active",{"$f":"VLOOKUP(A881,[1]Sheet1!$A$1:$C$65512,3,FALSE)","v":{"$error":"#N/A"}},null,null,"No info","линк","https://bg.toolsworld.com/search/?query=","https://bg.toolsworld.com/search/?query=51362"]
[51621,"Összecsukható bak 2t, h emelés 280-420 mm, 2 db. set // Stels",10599,"B","Active",{"$f":"VLOOKUP(A882,[1]Sheet1!$A$1:$C$65512,3,FALSE)","v":31},null,null,"No info","линк","https://bg.toolsworld.com/search/?query=","https://bg.toolsworld.com/search/?query=51621"]
[51627,"Összecsukható bak, 3t, emelés 295-425 mm, 2 db. set// Stels",11328,"B","Active",{"$f":"VLOOKUP(A883,[1]Sheet1!$A$1:$C$65512,3,FALSE)","v":3},null,null,"No info","линк","https://bg.toolsworld.com/search/?query=","https://bg.toolsworld.com/search/?query=51627"]
[51633,"Összecsukható bak 6t, h emelés 385-600 mm, 2 db. set // Stels",18867,"B","Active",{"$f":"VLOOKUP(A884,[1]Sheet1!$A$1:$C$65512,3,FALSE)","v":4},null,null,"No info","линк","https://bg.toolsworld.com/search/?query=","https://bg.toolsworld.com/search/?query=51633"]
[52014,"Elektromos csörlő TF-800, 0,8 t, 1300 W, magasság 12 m, 8 m/perc// Denzel",68756,"B","Active",{"$f":"VLOOKUP(A885,[1]Sheet1!$A$1:$C$65512,3,FALSE)","v":{"$error":"#N/A"}},null,null,"No info","линк","https://bg.toolsworld.com/search/?query=","https://bg.toolsworld.com/search/?query=52014"]
[52018,"Elektromos emelo TF-1200, 1,2 t, 1800 W, magasság 12 m, 8 m / perc // Denzel",105938,"B","Active",{"$f":"VLOOKUP(A886,[1]Sheet1!$A$1:$C$65512,3,FALSE)","v":{"$error":"#N/A"}},null,null,"No info","линк","https://bg.toolsworld.com/search/?query=","https://bg.toolsworld.com/search/?query=52018"]
[53205,"Zsírzóprés, a fecskendo térfogata 445ml, adag 15ml//STELS",5466,"B","Active",{"$f":"VLOOKUP(A887,[1]Sheet1!$A$1:$C$65512,3,FALSE)","v":159},null,null,"No info","линк","https://bg.toolsworld.com/search/?query=","https://bg.toolsworld.com/search/?query=53205"]
[54365,"Csomagtartó öv horgokkal, 0,038x5m, katt munka Automata// Stels",4122,"B","Active",{"$f":"VLOOKUP(A888,[1]Sheet1!$A$1:$C$65512,3,FALSE)","v":{"$error":"#N/A"}},null,null,"No info","линк","https://bg.toolsworld.com/search/?query=","https://bg.toolsworld.com/search/?query=54365"]
[54366,"Csomagtartó öv horgokkal, 0,038x10m, katt munka Automata// Stels",5311,"B","Active",{"$f":"VLOOKUP(A889,[1]Sheet1!$A$1:$C$65512,3,FALSE)","v":{"$error":"#N/A"}},null,null,"No info","линк","https://bg.toolsworld.com/search/?query=","https://bg.toolsworld.com/search/?query=54366"]
[55218,"Vízlehúzó 20cm//Stels",994,"B","Active",{"$f":"VLOOKUP(A890,[1]Sheet1!$A$1:$C$65512,3,FALSE)","v":76},null,null,"No info","линк","https://bg.toolsworld.com/search/?query=","https://bg.toolsworld.com/search/?query=55218"]
[55219,"Gumibetétes ablaktörlo 16 cm// STELS",568,"B","Active",{"$f":"VLOOKUP(A891,[1]Sheet1!$A$1:$C$65512,3,FALSE)","v":600},null,null,"No info","линк","https://bg.toolsworld.com/search/?query=","https://bg.toolsworld.com/search/?query=55219"]
[55221,"Gumibetétes ablaktörlo 22 cm// STELS",654,"B","Active",{"$f":"VLOOKUP(A892,[1]Sheet1!$A$1:$C$65512,3,FALSE)","v":{"$error":"#N/A"}},null,null,"No info",{"$f":"HYPERLINK(L892,\"линк\")","v":"линк"},"https://bg.toolsworld.com/search/?query=",{"$f":"CONCATENATE(K892,A892)","v":"https://bg.toolsworld.com/search/?query=55221"}]
[55222,"Autómosó kefe  vízellátással//STELS",1136,"B","Active",{"$f":"VLOOKUP(A893,[1]Sheet1!$A$1:$C$65512,3,FALSE)","v":49},null,null,"No info","линк","https://bg.toolsworld.com/search/?query=","https://bg.toolsworld.com/search/?query=55222"]
[55286,"Jég kaparó kétkomponensu nyéllel// Stels",470,"B","Active",{"$f":"VLOOKUP(A894,[1]Sheet1!$A$1:$C$65512,3,FALSE)","v":137},null,null,"No info","линк","https://bg.toolsworld.com/search/?query=","https://bg.toolsworld.com/search/?query=55286"]
[55291,"Hókefe jégkaparóval 580 mm//Sparta",1428,"B","Active",{"$f":"VLOOKUP(A895,[1]Sheet1!$A$1:$C$65512,3,FALSE)","v":{"$error":"#N/A"}},null,null,"No info","линк","https://bg.toolsworld.com/search/?query=","https://bg.toolsworld.com/search/?query=55291"]
[55293,"Hókefe jégkaparóval 560 mm// STELS",1678,"B","Active",{"$f":"VLOOKUP(A896,[1]Sheet1!$A$1:$C$65512,3,FALSE)","v":61},null,null,"No info","линк","https://bg.toolsworld.com/search/?query=","https://bg.toolsworld.com/search/?query=55293"]
[55297,"Kefés-végu autós sepru kaparóval 600 mm// Stels",1185,"B","Active",{"$f":"VLOOKUP(A897,[1]Sheet1!$A$1:$C$65512,3,FALSE)","v":41},null,null,"No info","линк","https://bg.toolsworld.com/search/?query=","https://bg.toolsworld.com/search/?query=55297"]
[55298,"Kefés-végu autós sepru kaparóval 850 mm// Stels",1625,"B","Active",{"$f":"VLOOKUP(A898,[1]Sheet1!$A$1:$C$65512,3,FALSE)","v":{"$error":"#N/A"}},null,null,"No info","линк","https://bg.toolsworld.com/search/?query=","https://bg.toolsworld.com/search/?query=55298"]
[55300,"Kefés-végu autós sepru kaparóval 950 mm// Stels",2533,"B","Active",{"$f":"VLOOKUP(A899,[1]Sheet1!$A$1:$C$65512,3,FALSE)","v":2},null,null,"No info","линк","https://bg.toolsworld.com/search/?query=","https://bg.toolsworld.com/search/?query=55300"]
[55301,"Kefés-végu autós sepru kaparóval , teleszkópos 900 - 1300 мм// Stels",3346,"B","Active",{"$f":"VLOOKUP(A900,[1]Sheet1!$A$1:$C$65512,3,FALSE)","v":{"$error":"#N/A"}},null,null,"No info","линк","https://bg.toolsworld.com/search/?query=","https://bg.toolsworld.com/search/?query=55301"]
[55304,"Kefés-végu autós sepru kaparóval , teleszkópos// Stels",1908,"B","Active",{"$f":"VLOOKUP(A901,[1]Sheet1!$A$1:$C$65512,3,FALSE)","v":87},null,null,"No info","линк","https://bg.toolsworld.com/search/?query=","https://bg.toolsworld.com/search/?query=55304"]
[55307,"Brush-nous snow with scraper,telescopic, turning head, 690-910 mm // Stels",2456,"B","Active",{"$f":"VLOOKUP(A902,[1]Sheet1!$A$1:$C$65512,3,FALSE)","v":{"$error":"#N/A"}},null,null,"No info","линк","https://bg.toolsworld.com/search/?query=","https://bg.toolsworld.com/search/?query=55307"]
[55311,"Kaparó kefe résszel, jég és hó letakarításához, teleszkópikus nyéllel 41-60 cm // STELS",1230,"B","Active",{"$f":"VLOOKUP(A903,[1]Sheet1!$A$1:$C$65512,3,FALSE)","v":{"$error":"#N/A"}},null,null,"No info","линк","https://bg.toolsworld.com/search/?query=","https://bg.toolsworld.com/search/?query=55311"]
[55320,"Kaparó a jég eltávolításához, puha markolat// Барс",648,"B","Active",{"$f":"VLOOKUP(A904,[1]Sheet1!$A$1:$C$65512,3,FALSE)","v":{"$error":"#N/A"}},null,null,"No info","линк","https://bg.toolsworld.com/search/?query=","https://bg.toolsworld.com/search/?query=55320"]
[55917,"Bikakábel 200 A, 2,3m, zipzáros zsákban// STELS",2226,"B","Active",{"$f":"VLOOKUP(A905,[1]Sheet1!$A$1:$C$65512,3,FALSE)","v":{"$error":"#N/A"}},null,null,"No info","линк","https://bg.toolsworld.com/search/?query=","https://bg.toolsworld.com/search/?query=55917"]
[55919,"Bikakábel 400 A, 2,5m, bag with zip// Stels",4024,"B","Active",{"$f":"VLOOKUP(A906,[1]Sheet1!$A$1:$C$65512,3,FALSE)","v":{"$error":"#N/A"}},null,null,"No info","линк","https://bg.toolsworld.com/search/?query=","https://bg.toolsworld.com/search/?query=55919"]
[57011,"Akasztós eszköztartó//STELS",1226,"B","Active",{"$f":"VLOOKUP(A907,[1]Sheet1!$A$1:$C$65512,3,FALSE)","v":61},null,null,"No info","линк","https://bg.toolsworld.com/search/?query=","https://bg.toolsworld.com/search/?query=57011"]
[57050,"Gyorscsatlakozó anya , 1/4\", belso menet, 2 darab.//STELS",1937,"B","Active",{"$f":"VLOOKUP(A908,[1]Sheet1!$A$1:$C$65512,3,FALSE)","v":{"$error":"#N/A"}},null,null,"No info","линк","https://bg.toolsworld.com/search/?query=","https://bg.toolsworld.com/search/?query=57050"]
[57052,"Gyorscsatlakozó anya, 1/4\", tömlohöz 6 mm, 2 darab.//STELS",1998,"B","Active",{"$f":"VLOOKUP(A909,[1]Sheet1!$A$1:$C$65512,3,FALSE)","v":{"$error":"#N/A"}},null,null,"No info","линк","https://bg.toolsworld.com/search/?query=","https://bg.toolsworld.com/search/?query=57052"]
[57055,"Hollandi apa, 1/4\", tömlohöz 6 mm, 2 darab.//STELS",393,"B","Active",{"$f":"VLOOKUP(A910,[1]Sheet1!$A$1:$C$65512,3,FALSE)","v":{"$error":"#N/A"}},null,null,"No info","линк","https://bg.toolsworld.com/search/?query=","https://bg.toolsworld.com/search/?query=57055"]
[57056,"Gyorscsatlakozó anya, 3/8\", belso menet, 2 darab.//STELS",1764,"B","Active",{"$f":"VLOOKUP(A911,[1]Sheet1!$A$1:$C$65512,3,FALSE)","v":44},null,null,"No info","линк","https://bg.toolsworld.com/search/?query=","https://bg.toolsworld.com/search/?query=57056"]
[57057,"Gyorscsatlakozó anya, 3/8\", kulso menet, 2 darab.//STELS",1764,"B","Active",{"$f":"VLOOKUP(A912,[1]Sheet1!$A$1:$C$65512,3,FALSE)","v":{"$error":"#N/A"}},null,null,"No info","линк","https://bg.toolsworld.com/search/?query=","https://bg.toolsworld.com/search/?query=57057"]
[57058,"Gyorscsatlakozó anya, 3/8\", tömlohöz 8 mm, 2 darab.//STELS",1564,"B","Active",{"$f":"VLOOKUP(A913,[1]Sheet1!$A$1:$C$65512,3,FALSE)","v":{"$error":"#N/A"}},null,null,"No info","линк","https://bg.toolsworld.com/search/?query=","https://bg.toolsworld.com/search/?query=57058"]
[57059,"Hollandi apa, 3/8\", kulso menet, 2 darab.//STELS",487,"B","Active",{"$f":"VLOOKUP(A914,[1]Sheet1!$A$1:$C$65512,3,FALSE)","v":{"$error":"#N/A"}},null,null,"No info","линк","https://bg.toolsworld.com/search/?query=","https://bg.toolsworld.com/search/?query=57059"]
[57060,"Hollandi apa, 3/8\", belso menet, 2 darab.//STELS",487,"B","Active",{"$f":"VLOOKUP(A915,[1]Sheet1!$A$1:$C$65512,3,FALSE)","v":{"$error":"#N/A"}},null,null,"No info","линк","https://bg.toolsworld.com/search/?query=","https://bg.toolsworld.com/search/?query=57060"]
[57063,"Gyorscsatlakozó \" tömlohöz 8 mm, 2 darab.//STELS",621,"B","Active",{"$f":"VLOOKUP(A916,[1]Sheet1!$A$1:$C$65512,3,FALSE)","v":{"$error":"#N/A"}},null,null,"No info","линк","https://bg.toolsworld.com/search/?query=","https://bg.toolsworld.com/search/?query=57063"]
[57064,"Gyorscsatlakozó anya, 1/2\", belso menet, 1 darab.//STELS",1151,"B","Active",{"$f":"VLOOKUP(A917,[1]Sheet1!$A$1:$C$65512,3,FALSE)","v":{"$error":"#N/A"}},null,null,"No info","линк","https://bg.toolsworld.com/search/?query=","https://bg.toolsworld.com/search/?query=57064"]
[57067,"Hollandi apa, 1/2\", kulso menet, 2 darab//STELS",664,"B","Active",{"$f":"VLOOKUP(A918,[1]Sheet1!$A$1:$C$65512,3,FALSE)","v":{"$error":"#N/A"}},null,null,"No info","линк","https://bg.toolsworld.com/search/?query=","https://bg.toolsworld.com/search/?query=57067"]
[57068,"Hollandi apa, 1/2\", belso menet, 2 darab.//STELS",664,"B","Active",{"$f":"VLOOKUP(A919,[1]Sheet1!$A$1:$C$65512,3,FALSE)","v":{"$error":"#N/A"}},null,null,"No info","линк","https://bg.toolsworld.com/search/?query=","https://bg.toolsworld.com/search/?query=57068"]
[57069,"Hollandi apa, tömlohöz 10 mm, 2 darab.// Stels",570,"B","Active",{"$f":"VLOOKUP(A920,[1]Sheet1!$A$1:$C$65512,3,FALSE)","v":{"$error":"#N/A"}},null,null,"No info","линк","https://bg.toolsworld.com/search/?query=","https://bg.toolsworld.com/search/?query=57069"]
[57440,"1/2\"Pneumatikus utokulcs G985, 1/2, ikerkalapács, 610 Nm, 9000 fordulat / perc, kompozit GROSS",51217,"B","Active",{"$f":"VLOOKUP(A921,[1]Sheet1!$A$1:$C$65512,3,FALSE)","v":49},null,null,"No info","линк","https://bg.toolsworld.com/search/?query=","https://bg.toolsworld.com/search/?query=57440"]
[57442,"1/2 \"-es utokulcs, ikerkalapács, G1285, 1220Nm, 6500 szabad fordulatszám // GROSS",53994,"B","Active",{"$f":"VLOOKUP(A922,[1]Sheet1!$A$1:$C$65512,3,FALSE)","v":66},null,null,"No info","линк","https://bg.toolsworld.com/search/?query=","https://bg.toolsworld.com/search/?query=57442"]
[57901,"Benzines fúvó - szívó GL-260, 25,4 cm3, 0,75 kW, 245 km/h, 470 m3/h// Denzel",50148,"B","Active",{"$f":"VLOOKUP(A923,[1]Sheet1!$A$1:$C$65512,3,FALSE)","v":13},null,null,"No info","линк","https://bg.toolsworld.com/search/?query=","https://bg.toolsworld.com/search/?query=57901"]
[58232,"Nagy nyomású mosó  R-110, 1500 W, 110 hossz, 5,7 l/min, portable// Denzel",32413,"B","Active",{"$f":"VLOOKUP(A924,[1]Sheet1!$A$1:$C$65512,3,FALSE)","v":{"$error":"#N/A"}},null,null,"No info","линк","https://bg.toolsworld.com/search/?query=","https://bg.toolsworld.com/search/?query=58232"]
[59501,"Elektromos légfúvó - porszívó BDE-3000, 230 V, 3000 W, 270 km/h, 790 m3/h// Denzel",17352,"B","Active",{"$f":"VLOOKUP(A925,[1]Sheet1!$A$1:$C$65512,3,FALSE)","v":1117},null,null,"No info","линк","https://bg.toolsworld.com/search/?query=","https://bg.toolsworld.com/search/?query=59501"]
[60024,"komfort papucs nőknek, 36-os méret// Russia",1949,"B","Active",{"$f":"VLOOKUP(A926,[1]Sheet1!$A$1:$C$65512,3,FALSE)","v":82},null,null,"No info","линк","https://bg.toolsworld.com/search/?query=","https://bg.toolsworld.com/search/?query=60024"]
[60025,"komfort papucs nőknek, 37-es méret// Russia",1949,"B","Active",{"$f":"VLOOKUP(A927,[1]Sheet1!$A$1:$C$65512,3,FALSE)","v":79},null,null,"No info","линк","https://bg.toolsworld.com/search/?query=","https://bg.toolsworld.com/search/?query=60025"]
[60026,"komfort papucs nőknek, 38-as méret// Russia",1949,"B","Active",{"$f":"VLOOKUP(A928,[1]Sheet1!$A$1:$C$65512,3,FALSE)","v":115},null,null,"No info","линк","https://bg.toolsworld.com/search/?query=","https://bg.toolsworld.com/search/?query=60026"]
[60027,"komfort papucs nőknek, 39-es méret// Russia",1949,"B","Active",{"$f":"VLOOKUP(A929,[1]Sheet1!$A$1:$C$65512,3,FALSE)","v":50},null,null,"No info","линк","https://bg.toolsworld.com/search/?query=","https://bg.toolsworld.com/search/?query=60027"]
[60028,"komfort papucs nőknek, 40-es méret// Russia",1949,"B","Active",{"$f":"VLOOKUP(A930,[1]Sheet1!$A$1:$C$65512,3,FALSE)","v":13},null,null,"No info","линк","https://bg.toolsworld.com/search/?query=","https://bg.toolsworld.com/search/?query=60028"]
[60029,"Slides for Women, Size 41// Russia",1949,"B","Active",{"$f":"VLOOKUP(A931,[1]Sheet1!$A$1:$C$65512,3,FALSE)","v":77},null,null,"No info","линк","https://bg.toolsworld.com/search/?query=","https://bg.toolsworld.com/search/?query=60029"]
[60030,"Férfi komfort papucs, 40-es méret// Russia",2108,"B","Active",{"$f":"VLOOKUP(A932,[1]Sheet1!$A$1:$C$65512,3,FALSE)","v":45},null,null,"No info","линк","https://bg.toolsworld.com/search/?query=","https://bg.toolsworld.com/search/?query=60030"]
[60031,"Férfi női, méret, Size 41// Russia",2108,"B","Active",{"$f":"VLOOKUP(A933,[1]Sheet1!$A$1:$C$65512,3,FALSE)","v":37},null,null,"No info","линк","https://bg.toolsworld.com/search/?query=","https://bg.toolsworld.com/search/?query=60031"]
[60032,"Férfi komfort papucs, 42-es méret// Russia",2108,"B","Active",{"$f":"VLOOKUP(A934,[1]Sheet1!$A$1:$C$65512,3,FALSE)","v":61},null,null,"No info","линк","https://bg.toolsworld.com/search/?query=","https://bg.toolsworld.com/search/?query=60032"]
[60033,"Férfi komfort papucs, 43-as méret// Russia",2108,"B","Active",{"$f":"VLOOKUP(A935,[1]Sheet1!$A$1:$C$65512,3,FALSE)","v":42},null,null,"No info","линк","https://bg.toolsworld.com/search/?query=","https://bg.toolsworld.com/search/?query=60033"]
[60034,"komfort papucs női, méret 35// Russia",2662,"B","Active",{"$f":"VLOOKUP(A936,[1]Sheet1!$A$1:$C$65512,3,FALSE)","v":589},null,null,"No info","линк","https://bg.toolsworld.com/search/?query=","https://bg.toolsworld.com/search/?query=60034"]
[60044,"Slides Comfort for Men, Size 45// Russia",2662,"B","Active",{"$f":"VLOOKUP(A937,[1]Sheet1!$A$1:$C$65512,3,FALSE)","v":{"$error":"#N/A"}},null,null,"No info","линк","https://bg.toolsworld.com/search/?query=","https://bg.toolsworld.com/search/?query=60044"]
[60056,"Férfi női, méret, Size 44// Russia",2108,"B","Active",{"$f":"VLOOKUP(A938,[1]Sheet1!$A$1:$C$65512,3,FALSE)","v":{"$error":"#N/A"}},null,null,"No info","линк","https://bg.toolsworld.com/search/?query=","https://bg.toolsworld.com/search/?query=60056"]
[60057,"Férfi női, méret, Size 45// Russia",2108,"B","Active",{"$f":"VLOOKUP(A939,[1]Sheet1!$A$1:$C$65512,3,FALSE)","v":{"$error":"#N/A"}},null,null,"No info","линк","https://bg.toolsworld.com/search/?query=","https://bg.toolsworld.com/search/?query=60057"]
[60493,"Rugós metszoolló muanyag nyéllel// Сиáртех",1041,"B","Active",{"$f":"VLOOKUP(A940,[1]Sheet1!$A$1:$C$65512,3,FALSE)","v":2},null,null,"No info","линк","https://bg.toolsworld.com/search/?query=","https://bg.toolsworld.com/search/?query=60493"]
[60815,"Sövény nyeso olló,  500 mm (Orizont)// RUSIA",4596,"B","Active",{"$f":"VLOOKUP(A941,[1]Sheet1!$A$1:$C$65512,3,FALSE)","v":{"$error":"#N/A"}},null,null,"No info","линк","https://bg.toolsworld.com/search/?query=","https://bg.toolsworld.com/search/?query=60815"]
[61397,"Kerekhegyű lapát, 205x275 mm, nyél nélkül,RUSSIA// Сибртех",2757,"B","Active",{"$f":"VLOOKUP(A942,[1]Sheet1!$A$1:$C$65512,3,FALSE)","v":{"$error":"#N/A"}},null,null,"No info","линк","https://bg.toolsworld.com/search/?query=","https://bg.toolsworld.com/search/?query=61397"]
[61400,"Szogletes elu aso // Sibrteh",2641,"B","Active",{"$f":"VLOOKUP(A943,[1]Sheet1!$A$1:$C$65512,3,FALSE)","v":{"$error":"#N/A"}},null,null,"No info","линк","https://bg.toolsworld.com/search/?query=","https://bg.toolsworld.com/search/?query=61400"]
[61410,"Hegyes végu Ásó, markolat nélkul// Russian",1853,"B","Active",{"$f":"VLOOKUP(A944,[1]Sheet1!$A$1:$C$65512,3,FALSE)","v":189},null,null,"No info","линк","https://bg.toolsworld.com/search/?query=","https://bg.toolsworld.com/search/?query=61410"]
[61411,"Kerekített hegyes lapát merevíto bordákkal, nyél  nélkul (ÀMÅT)// Russia",1869,"B","Active",{"$f":"VLOOKUP(A945,[1]Sheet1!$A$1:$C$65512,3,FALSE)","v":258},null,null,"No info","линк","https://bg.toolsworld.com/search/?query=","https://bg.toolsworld.com/search/?query=61411"]
[61415,"Lapát, markolat nélkul (AMET) Russia",2093,"B","Active",{"$f":"VLOOKUP(A946,[1]Sheet1!$A$1:$C$65512,3,FALSE)","v":{"$error":"#N/A"}},null,null,"No info","линк","https://bg.toolsworld.com/search/?query=","https://bg.toolsworld.com/search/?query=61415"]
[61425,"Sáncásó, fa markolat // Russian",2336,"B","Active",{"$f":"VLOOKUP(A947,[1]Sheet1!$A$1:$C$65512,3,FALSE)","v":{"$error":"#N/A"}},null,null,"No info","линк","https://bg.toolsworld.com/search/?query=","https://bg.toolsworld.com/search/?query=61425"]
[61430,"Hólapát 400 x 420 mm, muanyag, markolat nélkul, alumínium szél// SIBRTEH Russian",1191,"B","Active",{"$f":"VLOOKUP(A948,[1]Sheet1!$A$1:$C$65512,3,FALSE)","v":{"$error":"#N/A"}},null,null,"No info","линк","https://bg.toolsworld.com/search/?query=","https://bg.toolsworld.com/search/?query=61430"]
[61437,"Hegyes végu Ásó, 300x210mm, rozsdamentes acél, markolat nélkul //SIBRTEH Russian",3448,"B","Active",{"$f":"VLOOKUP(A949,[1]Sheet1!$A$1:$C$65512,3,FALSE)","v":24},null,null,"No info","линк","https://bg.toolsworld.com/search/?query=","https://bg.toolsworld.com/search/?query=61437"]
[61453,"Kerekített hegyes lapát merevíto bordákkal, fa nyéllel// Russia",0,"B","Active",{"$f":"VLOOKUP(A950,[1]Sheet1!$A$1:$C$65512,3,FALSE)","v":{"$error":"#N/A"}},null,null,"No info","линк","https://bg.toolsworld.com/search/?query=","https://bg.toolsworld.com/search/?query=61453"]
[61458,"Hegyes végu Ásó, kiváló minoségu markolat, lekerekített// SIBRTEH Russian",4077,"B","Active",{"$f":"VLOOKUP(A951,[1]Sheet1!$A$1:$C$65512,3,FALSE)","v":{"$error":"#N/A"}},null,null,"No info",{"$f":"HYPERLINK(L951,\"линк\")","v":"линк"},"https://bg.toolsworld.com/search/?query=",{"$f":"CONCATENATE(K951,A951)","v":"https://bg.toolsworld.com/search/?query=61458"}]
[61460,"Ásó nyéllel (RMZ) SIBRTEH Russia",3183,"B","Active",{"$f":"VLOOKUP(A952,[1]Sheet1!$A$1:$C$65512,3,FALSE)","v":{"$error":"#N/A"}},null,null,"No info","линк","https://bg.toolsworld.com/search/?query=","https://bg.toolsworld.com/search/?query=61460"]
[61470,"Ásó, megerosített, vasúti acélból, nyél nélkul // SIBRTEH RUSIA",2014,"B","Active",{"$f":"VLOOKUP(A953,[1]Sheet1!$A$1:$C$65512,3,FALSE)","v":36},null,null,"No info","линк","https://bg.toolsworld.com/search/?query=","https://bg.toolsworld.com/search/?query=61470"]
[61471,"Lapát, megerosítéssel, vasúti acélból, nyél nélkul // SIBRTEH RUSIA",2045,"B","Active",{"$f":"VLOOKUP(A954,[1]Sheet1!$A$1:$C$65512,3,FALSE)","v":{"$error":"#N/A"}},null,null,"No info","линк","https://bg.toolsworld.com/search/?query=","https://bg.toolsworld.com/search/?query=61471"]
[61486,"Polypropylene shovel 400 x 380 mm without handle, Russia // Ñèáðòåõ",1169,"B","Active",{"$f":"VLOOKUP(A955,[1]Sheet1!$A$1:$C$65512,3,FALSE)","v":{"$error":"#N/A"}},null,null,"No info","линк","https://bg.toolsworld.com/search/?query=","https://bg.toolsworld.com/search/?query=61486"]
[61492,"PROFI PP hólapát, 410 x 390 mm, nyéllel, Russia// Сиáртех",5863,"B","Active",{"$f":"VLOOKUP(A956,[1]Sheet1!$A$1:$C$65512,3,FALSE)","v":{"$error":"#N/A"}},null,null,"No info","линк","https://bg.toolsworld.com/search/?query=","https://bg.toolsworld.com/search/?query=61492"]
[61494,"Hólapát 530 x 370 mm,PP, alumínium nyél, Russia// Сиáртех",8736,"B","Active",{"$f":"VLOOKUP(A957,[1]Sheet1!$A$1:$C$65512,3,FALSE)","v":{"$error":"#N/A"}},null,null,"No info","линк","https://bg.toolsworld.com/search/?query=","https://bg.toolsworld.com/search/?query=61494"]
[61495,"Polypropylene shovel 400 x 380 mm with handle, Russia // Ñèáðòåõ",7123,"B","Active",{"$f":"VLOOKUP(A958,[1]Sheet1!$A$1:$C$65512,3,FALSE)","v":{"$error":"#N/A"}},null,null,"No info","линк","https://bg.toolsworld.com/search/?query=","https://bg.toolsworld.com/search/?query=61495"]
[61498,"Hótoló 820 х 380 mm RUSSIA//SIBRTEH",8538,"B","Active",{"$f":"VLOOKUP(A959,[1]Sheet1!$A$1:$C$65512,3,FALSE)","v":431},null,null,"No info","линк","https://bg.toolsworld.com/search/?query=","https://bg.toolsworld.com/search/?query=61498"]
[61519,"Jégcsákány B3, 160 mm, 1.4kg, fém markolat 1370 mm SIBRTEH Russia",3042,"B","Active",{"$f":"VLOOKUP(A960,[1]Sheet1!$A$1:$C$65512,3,FALSE)","v":411},null,null,"No info","линк","https://bg.toolsworld.com/search/?query=","https://bg.toolsworld.com/search/?query=61519"]
[61520,"Hótörlo, 750 x 410x 0.8 (zinc) SIBRTEH Russia",7763,"B","Active",{"$f":"VLOOKUP(A961,[1]Sheet1!$A$1:$C$65512,3,FALSE)","v":127},null,null,"No info","линк","https://bg.toolsworld.com/search/?query=","https://bg.toolsworld.com/search/?query=61520"]
[61524,"Jégcsákány, 200 mm, fém markolat 1200 mm // SIBRTEH Russian",2085,"B","Active",{"$f":"VLOOKUP(A962,[1]Sheet1!$A$1:$C$65512,3,FALSE)","v":{"$error":"#N/A"}},null,null,"No info","линк","https://bg.toolsworld.com/search/?query=","https://bg.toolsworld.com/search/?query=61524"]
[61526,"Hólapát, 750 x 460 (aluminium) SIBRTEH Russia",9396,"B","Active",{"$f":"VLOOKUP(A963,[1]Sheet1!$A$1:$C$65512,3,FALSE)","v":56},null,null,"No info","линк","https://bg.toolsworld.com/search/?query=","https://bg.toolsworld.com/search/?query=61526"]
[61536,"Acél hólapát, 330 x 365 mm, Cink bevonattal nyél nélkul, Russia// Сиáртех",3637,"B","Active",{"$f":"VLOOKUP(A964,[1]Sheet1!$A$1:$C$65512,3,FALSE)","v":{"$error":"#N/A"}},null,null,"No info","линк","https://bg.toolsworld.com/search/?query=","https://bg.toolsworld.com/search/?query=61536"]
[61541,"Alumínium hólapát, 600x400 mm, nyél nélkül, RUSSIA// Сибртех",3779,"B","Active",{"$f":"VLOOKUP(A965,[1]Sheet1!$A$1:$C$65512,3,FALSE)","v":20},null,null,"No info","линк","https://bg.toolsworld.com/search/?query=","https://bg.toolsworld.com/search/?query=61541"]
[61566,"Hólapát 360 x 400 mm, markolattal,  muanyag// SIBRTEH Russian",2254,"B","Active",{"$f":"VLOOKUP(A966,[1]Sheet1!$A$1:$C$65512,3,FALSE)","v":{"$error":"#N/A"}},null,null,"No info","линк","https://bg.toolsworld.com/search/?query=","https://bg.toolsworld.com/search/?query=61566"]
[61574,"Muanayag hó lapát360 x 400 mm, fa nyéllel// SIBRTEH",0,"B","Active",{"$f":"VLOOKUP(A967,[1]Sheet1!$A$1:$C$65512,3,FALSE)","v":{"$error":"#N/A"}},null,null,"No info","линк","https://bg.toolsworld.com/search/?query=","https://bg.toolsworld.com/search/?query=61574"]
[61578,"Hólapát, 360 x 400 mm, Nyél nélkul, muanyagból, alumíniummal védett éllel // SIBRTEH Russiа",929,"B","Active",{"$f":"VLOOKUP(A968,[1]Sheet1!$A$1:$C$65512,3,FALSE)","v":{"$error":"#N/A"}},null,null,"No info","линк","https://bg.toolsworld.com/search/?query=","https://bg.toolsworld.com/search/?query=61578"]
[61579,"Polypropylene shovel 450 x 400 mm, without shaft, Russia// SIBRTECH",2189,"B","Active",{"$f":"VLOOKUP(A969,[1]Sheet1!$A$1:$C$65512,3,FALSE)","v":{"$error":"#N/A"}},null,null,"No info","линк","https://bg.toolsworld.com/search/?query=","https://bg.toolsworld.com/search/?query=61579"]
[61580,"Hólapát 400 x 420 mm, muanyag, fa markolat // SIBRTEH Russian",2621,"B","Active",{"$f":"VLOOKUP(A970,[1]Sheet1!$A$1:$C$65512,3,FALSE)","v":{"$error":"#N/A"}},null,null,"No info","линк","https://bg.toolsworld.com/search/?query=","https://bg.toolsworld.com/search/?query=61580"]
[61582,"Hólapát 430 x 370 mm, alumínium,fa markolat // SIBRTEH Russian",5775,"B","Active",{"$f":"VLOOKUP(A971,[1]Sheet1!$A$1:$C$65512,3,FALSE)","v":{"$error":"#N/A"}},null,null,"No info","линк","https://bg.toolsworld.com/search/?query=","https://bg.toolsworld.com/search/?query=61582"]
[61583,"Hótörlo, 750 x 420x 1.8 mm, aluminium megerosített SIBRTEH Russia",14210,"B","Active",{"$f":"VLOOKUP(A972,[1]Sheet1!$A$1:$C$65512,3,FALSE)","v":394},null,null,"No info","линк","https://bg.toolsworld.com/search/?query=","https://bg.toolsworld.com/search/?query=61583"]
[61586,"Auto holapat, fej aluminiumbol keszult, aluminium nyel, ergonomiai V, 890 mm // STELS",3032,"B","Active",{"$f":"VLOOKUP(A973,[1]Sheet1!$A$1:$C$65512,3,FALSE)","v":{"$error":"#N/A"}},null,null,"No info","линк","https://bg.toolsworld.com/search/?query=","https://bg.toolsworld.com/search/?query=61586"]
[61588,"hólapát  512 x 408 mm, erosített alumínium nyélu, trörés álló muanyag //SIBRTEH/Rusia",3366,"B","Active",{"$f":"VLOOKUP(A974,[1]Sheet1!$A$1:$C$65512,3,FALSE)","v":{"$error":"#N/A"}},null,null,"No info","линк","https://bg.toolsworld.com/search/?query=","https://bg.toolsworld.com/search/?query=61588"]
[61592,"Hó toló, 550 x 430 mm,fém ergonómikus nyél// SIBRTECH",5873,"B","Active",{"$f":"VLOOKUP(A975,[1]Sheet1!$A$1:$C$65512,3,FALSE)","v":{"$error":"#N/A"}},null,null,"No info","линк","https://bg.toolsworld.com/search/?query=","https://bg.toolsworld.com/search/?query=61592"]
[61593,"Hó kaparó 750 x 550 x 1.3 mm,muanyag, U-alakú nyéllel, fém végu SIBRTEH Russia",4508,"B","Active",{"$f":"VLOOKUP(A976,[1]Sheet1!$A$1:$C$65512,3,FALSE)","v":16},null,null,"No info","линк","https://bg.toolsworld.com/search/?query=","https://bg.toolsworld.com/search/?query=61593"]
[61594,"Hólapát 790 x 450 , muanyag, U alakú fogantyú SIBRTECH RUSSIA",8036,"B","Active",{"$f":"VLOOKUP(A977,[1]Sheet1!$A$1:$C$65512,3,FALSE)","v":16},null,null,"No info","линк","https://bg.toolsworld.com/search/?query=","https://bg.toolsworld.com/search/?query=61594"]
[61595,"Snow pusher 750 x 500 mm (zinc), Russia // SIBRTECH",7496,"B","Active",{"$f":"VLOOKUP(A978,[1]Sheet1!$A$1:$C$65512,3,FALSE)","v":65},null,null,"No info","линк","https://bg.toolsworld.com/search/?query=","https://bg.toolsworld.com/search/?query=61595"]
[61596,"Hólapát 430 х 370 х 0, 8 mm, nyéllel (cink) Russia SIBRTEH",4150,"B","Active",{"$f":"VLOOKUP(A979,[1]Sheet1!$A$1:$C$65512,3,FALSE)","v":19},null,null,"No info","линк","https://bg.toolsworld.com/search/?query=","https://bg.toolsworld.com/search/?query=61596"]
[61605,"Squeegee for floor 260 mm, wooden stalk Russia // SIBRTECH",786,"B","Active",{"$f":"VLOOKUP(A980,[1]Sheet1!$A$1:$C$65512,3,FALSE)","v":{"$error":"#N/A"}},null,null,"No info","линк","https://bg.toolsworld.com/search/?query=","https://bg.toolsworld.com/search/?query=61605"]
[61607,"ProFI polipropilén lapát 560 x 415 mm nyéllel, RUSSIA Palisad",9137,"B","Active",{"$f":"VLOOKUP(A981,[1]Sheet1!$A$1:$C$65512,3,FALSE)","v":{"$error":"#N/A"}},null,null,"No info","линк","https://bg.toolsworld.com/search/?query=","https://bg.toolsworld.com/search/?query=61607"]
[61611,"Kerek hegyű lapát, 185x280x1190 mm, teljesen fém,RUSSIA// Сибртех",8854,"B","Active",{"$f":"VLOOKUP(A982,[1]Sheet1!$A$1:$C$65512,3,FALSE)","v":3},null,null,"No info","линк","https://bg.toolsworld.com/search/?query=","https://bg.toolsworld.com/search/?query=61611"]
[61612,"lekerekített lapát fém nyéllel, téglalap Russia// СИáРТЕХ",5066,"B","Active",{"$f":"VLOOKUP(A983,[1]Sheet1!$A$1:$C$65512,3,FALSE)","v":{"$error":"#N/A"}},null,null,"No info","линк","https://bg.toolsworld.com/search/?query=","https://bg.toolsworld.com/search/?query=61612"]
[61616,"Sárga polipropilén lapát 400 x 420 mm nyél nélkul, RUSSIA. Sibrtex",2372,"B","Active",{"$f":"VLOOKUP(A984,[1]Sheet1!$A$1:$C$65512,3,FALSE)","v":{"$error":"#N/A"}},null,null,"No info","линк","https://bg.toolsworld.com/search/?query=","https://bg.toolsworld.com/search/?query=61616"]
[61617,"Polypropylene red shovel 400 x 420 mm without handle, Russia //SIBRTECH",2372,"B","Active",{"$f":"VLOOKUP(A985,[1]Sheet1!$A$1:$C$65512,3,FALSE)","v":{"$error":"#N/A"}},null,null,"No info","линк","https://bg.toolsworld.com/search/?query=","https://bg.toolsworld.com/search/?query=61617"]
[61623,"Universal steel shovel, 260 x 205 mm, plastic shaft, Russia// SIBRTECH",3315,"B","Active",{"$f":"VLOOKUP(A986,[1]Sheet1!$A$1:$C$65512,3,FALSE)","v":{"$error":"#N/A"}},null,null,"No info","линк","https://bg.toolsworld.com/search/?query=","https://bg.toolsworld.com/search/?query=61623"]
[61625,"Acél hólapát, 470х350х1370 mm, acél nyél, Russia// Сибртех",6327,"B","Active",{"$f":"VLOOKUP(A987,[1]Sheet1!$A$1:$C$65512,3,FALSE)","v":{"$error":"#N/A"}},null,null,"No info","линк","https://bg.toolsworld.com/search/?query=","https://bg.toolsworld.com/search/?query=61625"]
[61739,"13-teeth polypropylene rake, stiffening plate, with metal shaft, heavy-duty LUXE// PALISAD",5087,"B","Active",{"$f":"VLOOKUP(A988,[1]Sheet1!$A$1:$C$65512,3,FALSE)","v":212},null,null,"No info","линк","https://bg.toolsworld.com/search/?query=","https://bg.toolsworld.com/search/?query=61739"]
[61740,"Gereblye 12 fogas, 320 mm, markolat nélkul// SIBRTEH Russian",867,"B","Active",{"$f":"VLOOKUP(A989,[1]Sheet1!$A$1:$C$65512,3,FALSE)","v":30},null,null,"No info","линк","https://bg.toolsworld.com/search/?query=","https://bg.toolsworld.com/search/?query=61740"]
[61741,"12 fogú gereblye, 300 mm, nyéllel, közvetlen egyenes Russia// SIBRTEH",2552,"B","Active",{"$f":"VLOOKUP(A990,[1]Sheet1!$A$1:$C$65512,3,FALSE)","v":{"$error":"#N/A"}},null,null,"No info","линк","https://bg.toolsworld.com/search/?query=","https://bg.toolsworld.com/search/?query=61741"]
[61744,"12 fogú gereblye, 300 mm, nyéllel, spirális Russia//SIBRTEH",1935,"B","Active",{"$f":"VLOOKUP(A991,[1]Sheet1!$A$1:$C$65512,3,FALSE)","v":{"$error":"#N/A"}},null,null,"No info","линк","https://bg.toolsworld.com/search/?query=","https://bg.toolsworld.com/search/?query=61744"]
[61750,"Csavart gereblye, 16 fogas, 420 mm, without  grip Russia// SIBRTEH",1053,"B","Active",{"$f":"VLOOKUP(A992,[1]Sheet1!$A$1:$C$65512,3,FALSE)","v":{"$error":"#N/A"}},null,null,"No info","линк","https://bg.toolsworld.com/search/?query=","https://bg.toolsworld.com/search/?query=61750"]
[61752,"Gereblye 14 fogas, 360 mm, markolat nélkul// SIBRTEH Russian",929,"B","Active",{"$f":"VLOOKUP(A993,[1]Sheet1!$A$1:$C$65512,3,FALSE)","v":{"$error":"#N/A"}},null,null,"No info","линк","https://bg.toolsworld.com/search/?query=","https://bg.toolsworld.com/search/?query=61752"]
[61778,"Lombsepru 20 fogas, markolat nélkul, oxidált// SIBRTEH RUSSIA",1285,"B","Active",{"$f":"VLOOKUP(A994,[1]Sheet1!$A$1:$C$65512,3,FALSE)","v":{"$error":"#N/A"}},null,null,"No info","линк","https://bg.toolsworld.com/search/?query=","https://bg.toolsworld.com/search/?query=61778"]
[61779,"Lombsepru 20 fogas, markolattal, oxidált// SIBRTEH Russian",2112,"B","Active",{"$f":"VLOOKUP(A995,[1]Sheet1!$A$1:$C$65512,3,FALSE)","v":{"$error":"#N/A"}},null,null,"No info","линк","https://bg.toolsworld.com/search/?query=","https://bg.toolsworld.com/search/?query=61779"]
[61780,"18 fogas gereblye, markolat nélkul, oxidált, kerek fogak SIBRTEH Russia",937,"B","Active",{"$f":"VLOOKUP(A996,[1]Sheet1!$A$1:$C$65512,3,FALSE)","v":{"$error":"#N/A"}},null,null,"No info","линк","https://bg.toolsworld.com/search/?query=","https://bg.toolsworld.com/search/?query=61780"]
[61781,"Lombsepru 18 fogas, markolattal, cinklemezes// SIBRTEH Russian",2297,"B","Active",{"$f":"VLOOKUP(A997,[1]Sheet1!$A$1:$C$65512,3,FALSE)","v":{"$error":"#N/A"}},null,null,"No info","линк","https://bg.toolsworld.com/search/?query=","https://bg.toolsworld.com/search/?query=61781"]
[62291,"Talajlazító nagy, 190х1400 mm, fa nyéllel, SUDOGDA// RUSSIA",2981,"B","Active",{"$f":"VLOOKUP(A998,[1]Sheet1!$A$1:$C$65512,3,FALSE)","v":{"$error":"#N/A"}},null,null,"No info","линк","https://bg.toolsworld.com/search/?query=","https://bg.toolsworld.com/search/?query=62291"]
[62292,"Fokin's subsurface cultivator small with three sharpening, handle 80 cm (SUDOGDA) // Россия",2079,"B","Active",{"$f":"VLOOKUP(A999,[1]Sheet1!$A$1:$C$65512,3,FALSE)","v":{"$error":"#N/A"}},null,null,"No info","линк","https://bg.toolsworld.com/search/?query=","https://bg.toolsworld.com/search/?query=62292"]
[62302,"Gazoló small, fa markolat// SIBRTEH Russian",0,"B","Active",{"$f":"VLOOKUP(A1000,[1]Sheet1!$A$1:$C$65512,3,FALSE)","v":{"$error":"#N/A"}},null,null,"No info","линк","https://bg.toolsworld.com/search/?query=","https://bg.toolsworld.com/search/?query=62302"]
[62316,"Kapa 170 x 60 mm, fa markolat, 1330 mm// SIBRTEH Russia",2853,"B","Active",{"$f":"VLOOKUP(A1001,[1]Sheet1!$A$1:$C$65512,3,FALSE)","v":152},null,null,"No info","линк","https://bg.toolsworld.com/search/?query=","https://bg.toolsworld.com/search/?query=62316"]
[62342,"Földlazító 4 fogas \"trapéz \" fa nyéllel// SIBRTEH Russian",1159,"B","Active",{"$f":"VLOOKUP(A1002,[1]Sheet1!$A$1:$C$65512,3,FALSE)","v":{"$error":"#N/A"}},null,null,"No info","линк","https://bg.toolsworld.com/search/?query=","https://bg.toolsworld.com/search/?query=62342"]
[62361,"Kapa 190 x 150 mm, egyenes, markolat nélkul// SIBRTEH Russian",882,"B","Active",{"$f":"VLOOKUP(A1003,[1]Sheet1!$A$1:$C$65512,3,FALSE)","v":{"$error":"#N/A"}},null,null,"No info","линк","https://bg.toolsworld.com/search/?query=","https://bg.toolsworld.com/search/?query=62361"]
[62612,"ulteto ásó fa markolattal, keskeny kivitel// SIBRTEH Russian",591,"B","Active",{"$f":"VLOOKUP(A1004,[1]Sheet1!$A$1:$C$65512,3,FALSE)","v":24},null,null,"No info","линк","https://bg.toolsworld.com/search/?query=","https://bg.toolsworld.com/search/?query=62612"]
[63550,"Kasza, 600mm, ¹6// Russian",5250,"B","Active",{"$f":"VLOOKUP(A1005,[1]Sheet1!$A$1:$C$65512,3,FALSE)","v":108},null,null,"No info","линк","https://bg.toolsworld.com/search/?query=","https://bg.toolsworld.com/search/?query=63550"]
[63580,"KASZA NYÉLLEL \"Kosar M\" No. 7, egyÁGÚ \"Saiga Lux\",  HAJLíTOTT NYELu (ARTI) RUSSIA",9683,"B","Active",{"$f":"VLOOKUP(A1006,[1]Sheet1!$A$1:$C$65512,3,FALSE)","v":121},null,null,"No info","линк","https://bg.toolsworld.com/search/?query=","https://bg.toolsworld.com/search/?query=63580"]
[63807,"4 ágú vasvilla 210 ×310 mm, nyéllel, szénához Russia// PALISAD",3303,"B","Active",{"$f":"VLOOKUP(A1007,[1]Sheet1!$A$1:$C$65512,3,FALSE)","v":{"$error":"#N/A"}},null,null,"No info","линк","https://bg.toolsworld.com/search/?query=","https://bg.toolsworld.com/search/?query=63807"]
[63833,"Vasvilla  4-ágú, 185 x 370 mm, markolat nélkul// SIBRTEH Russian",1955,"B","Active",{"$f":"VLOOKUP(A1008,[1]Sheet1!$A$1:$C$65512,3,FALSE)","v":{"$error":"#N/A"}},null,null,"No info","линк","https://bg.toolsworld.com/search/?query=","https://bg.toolsworld.com/search/?query=63833"]
[63835,"Karosvillával 4 fogas, széna, 200x290 mm, nyél nélkül, RUSSIA// Сибртех",1474,"B","Active",{"$f":"VLOOKUP(A1009,[1]Sheet1!$A$1:$C$65512,3,FALSE)","v":{"$error":"#N/A"}},null,null,"No info","линк","https://bg.toolsworld.com/search/?query=","https://bg.toolsworld.com/search/?query=63835"]
[63836,"Vasvilla  4-ágú, 235 x 330 mm, nyél nélkul// SIBRTEH Russian",0,"B","Active",{"$f":"VLOOKUP(A1010,[1]Sheet1!$A$1:$C$65512,3,FALSE)","v":{"$error":"#N/A"}},null,null,"No info","линк","https://bg.toolsworld.com/search/?query=","https://bg.toolsworld.com/search/?query=63836"]
[63838,"Villa 4-ágú, ásó, 190x220 mm, kovácsolt, szár nélkul, ARTI // Russia",3511,"B","Active",{"$f":"VLOOKUP(A1011,[1]Sheet1!$A$1:$C$65512,3,FALSE)","v":169},null,null,"No info","линк","https://bg.toolsworld.com/search/?query=","https://bg.toolsworld.com/search/?query=63838"]
[63922,"Üvegház burkolat cipzárral 300 х 110 cm, SUF90// Palisad",5563,"B","Active",{"$f":"VLOOKUP(A1012,[1]Sheet1!$A$1:$C$65512,3,FALSE)","v":{"$error":"#N/A"}},null,null,"No info","линк","https://bg.toolsworld.com/search/?query=","https://bg.toolsworld.com/search/?query=63922"]
[63923,"Üvegház burkolat cipzárral 500 х 110 cm, SUF90// Palisad",7860,"B","Active",{"$f":"VLOOKUP(A1013,[1]Sheet1!$A$1:$C$65512,3,FALSE)","v":3},null,null,"No info","линк","https://bg.toolsworld.com/search/?query=","https://bg.toolsworld.com/search/?query=63923"]
[63927,"Üvegház cipzáros borítással 500 х 110 cm, SUF90// Palisad",24282,"B","Active",{"$f":"VLOOKUP(A1014,[1]Sheet1!$A$1:$C$65512,3,FALSE)","v":{"$error":"#N/A"}},null,null,"No info","линк","https://bg.toolsworld.com/search/?query=","https://bg.toolsworld.com/search/?query=63927"]
[64102,"Sarló, 170 mm,fogakkal // RUSSIA",2100,"B","Active",{"$f":"VLOOKUP(A1015,[1]Sheet1!$A$1:$C$65512,3,FALSE)","v":673},null,null,"No info",{"$f":"HYPERLINK(L1015,\"линк\")","v":"линк"},"https://bg.toolsworld.com/search/?query=",{"$f":"CONCATENATE(K1015,A1015)","v":"https://bg.toolsworld.com/search/?query=64102"}]
[64103,"Kampó, 325 mm, fogakkal, \"Gnece - 47\" (ÀÐTÈ)// Russia",2297,"B","Active",{"$f":"VLOOKUP(A1016,[1]Sheet1!$A$1:$C$65512,3,FALSE)","v":148},null,null,"No info","линк","https://bg.toolsworld.com/search/?query=","https://bg.toolsworld.com/search/?query=64103"]
[64104,"Sarlo 210 mm-es//Russia",2529,"B","Active",{"$f":"VLOOKUP(A1017,[1]Sheet1!$A$1:$C$65512,3,FALSE)","v":{"$error":"#N/A"}},null,null,"No info","линк","https://bg.toolsworld.com/search/?query=","https://bg.toolsworld.com/search/?query=64104"]
[64301,"A csapágylemez 14 x 1,5 сm, 25 db-os készlet// Сибртех",491,"B","Active",{"$f":"VLOOKUP(A1018,[1]Sheet1!$A$1:$C$65512,3,FALSE)","v":50},null,null,"No info","линк","https://bg.toolsworld.com/search/?query=","https://bg.toolsworld.com/search/?query=64301"]
[64350,"Gyermekedény, 70х70х65 mm, polisztirol, 20 db//RUSSIA",348,"B","Active",{"$f":"VLOOKUP(A1019,[1]Sheet1!$A$1:$C$65512,3,FALSE)","v":{"$error":"#N/A"}},null,null,"No info","линк","https://bg.toolsworld.com/search/?query=","https://bg.toolsworld.com/search/?query=64350"]
[64363," ulteto edény,110x110mm, tozeg, 10db//Russia",477,"B","Active",{"$f":"VLOOKUP(A1020,[1]Sheet1!$A$1:$C$65512,3,FALSE)","v":234},null,null,"No info","линк","https://bg.toolsworld.com/search/?query=","https://bg.toolsworld.com/search/?query=64363"]
[64366,"Faiskola edény, 60x60 mm, tőzeg, 5 db// Russia",116,"B","Active",{"$f":"VLOOKUP(A1021,[1]Sheet1!$A$1:$C$65512,3,FALSE)","v":90},null,null,"No info","линк","https://bg.toolsworld.com/search/?query=","https://bg.toolsworld.com/search/?query=64366"]
[64368,"ulteto Tálca 310x100x50mm, 12 cellás tozeg 3db",572,"B","Active",{"$f":"VLOOKUP(A1022,[1]Sheet1!$A$1:$C$65512,3,FALSE)","v":{"$error":"#N/A"}},null,null,"No info","линк","https://bg.toolsworld.com/search/?query=","https://bg.toolsworld.com/search/?query=64368"]
[64369,"Vetőmag indítócserep készlet, 310х100х50 mm, 12 cellás, tőzeg, 5 db.// Russia",703,"B","Active",{"$f":"VLOOKUP(A1023,[1]Sheet1!$A$1:$C$65512,3,FALSE)","v":1064},null,null,"No info","линк","https://bg.toolsworld.com/search/?query=","https://bg.toolsworld.com/search/?query=64369"]
[64398,"Kerti csigás fúró, 1085 mm, D 150 mm, RUSSIA // Sibrtech",8349,"B","Active",{"$f":"VLOOKUP(A1024,[1]Sheet1!$A$1:$C$65512,3,FALSE)","v":{"$error":"#N/A"}},null,null,"No info","линк","https://bg.toolsworld.com/search/?query=","https://bg.toolsworld.com/search/?query=64398"]
[64411,"Bokor keret  0,8m, magasság 0,9m, 2 db.  huzal átméroje 10 mm// Russia",1943,"B","Active",{"$f":"VLOOKUP(A1025,[1]Sheet1!$A$1:$C$65512,3,FALSE)","v":{"$error":"#N/A"}},null,null,"No info","линк","https://bg.toolsworld.com/search/?query=","https://bg.toolsworld.com/search/?query=64411"]
[64413,"A bokortartó  köralakú  0,35 m, magassága 0,7 m, 2 db, D fém profil 5 mm Russia",0,"B","Active",{"$f":"VLOOKUP(A1026,[1]Sheet1!$A$1:$C$65512,3,FALSE)","v":{"$error":"#N/A"}},null,null,"No info","линк","https://bg.toolsworld.com/search/?query=","https://bg.toolsworld.com/search/?query=64413"]
[64418,"Kerti virag tamasz 10mm// Russia",1130,"B","Active",{"$f":"VLOOKUP(A1027,[1]Sheet1!$A$1:$C$65512,3,FALSE)","v":{"$error":"#N/A"}},null,null,"No info","линк","https://bg.toolsworld.com/search/?query=","https://bg.toolsworld.com/search/?query=64418"]
[64419,"Virág támaszték  0,25m, magasság 1,3m, 1 db,huzal átméroje 10mm // Russia",778,"B","Active",{"$f":"VLOOKUP(A1028,[1]Sheet1!$A$1:$C$65512,3,FALSE)","v":172},null,null,"No info","линк","https://bg.toolsworld.com/search/?query=","https://bg.toolsworld.com/search/?query=64419"]
[64448,"Kerti furo// SIBRTEH Russia",4168,"B","Active",{"$f":"VLOOKUP(A1029,[1]Sheet1!$A$1:$C$65512,3,FALSE)","v":131},null,null,"No info","линк","https://bg.toolsworld.com/search/?query=","https://bg.toolsworld.com/search/?query=64448"]
[64449,"ultetu 260mm, nyéllel Russia// Сиáртех",1104,"B","Active",{"$f":"VLOOKUP(A1030,[1]Sheet1!$A$1:$C$65512,3,FALSE)","v":260},null,null,"No info","линк","https://bg.toolsworld.com/search/?query=","https://bg.toolsworld.com/search/?query=64449"]
[64461,"Virág támaszték  0,4m, magasság 0,9m, 1db, huzal átméroje 10mm // Russia",829,"B","Active",{"$f":"VLOOKUP(A1031,[1]Sheet1!$A$1:$C$65512,3,FALSE)","v":49},null,null,"No info","линк","https://bg.toolsworld.com/search/?query=","https://bg.toolsworld.com/search/?query=64461"]
[64463,"Kerti virag tamasz 5mm// Russia",277,"B","Active",{"$f":"VLOOKUP(A1032,[1]Sheet1!$A$1:$C$65512,3,FALSE)","v":1160},null,null,"No info","линк","https://bg.toolsworld.com/search/?query=","https://bg.toolsworld.com/search/?query=64463"]
[64468,"Növénytartó gyűrű, magasság 50 cm, D 50 cm// Palisad",0,"B","Active",{"$f":"VLOOKUP(A1033,[1]Sheet1!$A$1:$C$65512,3,FALSE)","v":{"$error":"#N/A"}},null,null,"No info","линк","https://bg.toolsworld.com/search/?query=","https://bg.toolsworld.com/search/?query=64468"]
[64503,"Földcsiga, 1085 mm, D 200 mm, Russia// Palisad",6500,"B","Active",{"$f":"VLOOKUP(A1034,[1]Sheet1!$A$1:$C$65512,3,FALSE)","v":{"$error":"#N/A"}},null,null,"No info","линк","https://bg.toolsworld.com/search/?query=","https://bg.toolsworld.com/search/?query=64503"]
[64512,"Kerti rács tekercsenként 1 x 20 m, 17 x 17 mm kocka - keki Russia",12949,"B","Active",{"$f":"VLOOKUP(A1035,[1]Sheet1!$A$1:$C$65512,3,FALSE)","v":{"$error":"#N/A"}},null,null,"No info","линк","https://bg.toolsworld.com/search/?query=","https://bg.toolsworld.com/search/?query=64512"]
[64516,"Kerti rács tekercsenként 1 x 20 m, 50 x 50 mm kocka, Russia",12442,"B","Active",{"$f":"VLOOKUP(A1036,[1]Sheet1!$A$1:$C$65512,3,FALSE)","v":{"$error":"#N/A"}},null,null,"No info","линк","https://bg.toolsworld.com/search/?query=","https://bg.toolsworld.com/search/?query=64516"]
[64522,"Garden grill 0.8 x 20 m, cell 17 x 14 mm, ECONOMY // Россия",5730,"B","Active",{"$f":"VLOOKUP(A1037,[1]Sheet1!$A$1:$C$65512,3,FALSE)","v":{"$error":"#N/A"}},null,null,"No info","линк","https://bg.toolsworld.com/search/?query=","https://bg.toolsworld.com/search/?query=64522"]
[65001,"Dekoratív kerítés \"Сетка\", 24x320 cm, sárga, Russia// Palisad",4454,"B","Active",{"$f":"VLOOKUP(A1038,[1]Sheet1!$A$1:$C$65512,3,FALSE)","v":{"$error":"#N/A"}},null,null,"No info","линк","https://bg.toolsworld.com/search/?query=","https://bg.toolsworld.com/search/?query=65001"]
[65041,"Dekoratív kerti kerítés, hullámos, 0,7x0,9 m// Россия",1953,"B","Active",{"$f":"VLOOKUP(A1039,[1]Sheet1!$A$1:$C$65512,3,FALSE)","v":{"$error":"#N/A"}},null,null,"No info","линк","https://bg.toolsworld.com/search/?query=","https://bg.toolsworld.com/search/?query=65041"]
[65042,"Dekoratív kerti kerítés, klasszikus, 0,7x0,9 m// Россия",2165,"B","Active",{"$f":"VLOOKUP(A1040,[1]Sheet1!$A$1:$C$65512,3,FALSE)","v":{"$error":"#N/A"}},null,null,"No info","линк","https://bg.toolsworld.com/search/?query=","https://bg.toolsworld.com/search/?query=65042"]
[65060,"Határoló \"Kantri\", 14*310cm, zöld // PALISAD",4042,"B","Active",{"$f":"VLOOKUP(A1041,[1]Sheet1!$A$1:$C$65512,3,FALSE)","v":{"$error":"#N/A"}},null,null,"No info","линк","https://bg.toolsworld.com/search/?query=","https://bg.toolsworld.com/search/?query=65060"]
[67422,"Kerti szett, tömlo 3/4 \"15m, 7-állású szórófej, csatlakozó adapter // Palisad",0,"B","Active",{"$f":"VLOOKUP(A1042,[1]Sheet1!$A$1:$C$65512,3,FALSE)","v":{"$error":"#N/A"}},null,null,"No info","линк","https://bg.toolsworld.com/search/?query=","https://bg.toolsworld.com/search/?query=67422"]
[67477,"Kerti locsolótömlo  PVC, 3/4'', 25 m, betétes //PALISAD",6343,"B","Active",{"$f":"VLOOKUP(A1043,[1]Sheet1!$A$1:$C$65512,3,FALSE)","v":{"$error":"#N/A"}},null,null,"No info","линк","https://bg.toolsworld.com/search/?query=","https://bg.toolsworld.com/search/?query=67477"]
[67479,"Kerti locsolótömlo  PVC, 3/4'', 50 m, betétes //PALISAD",12862,"B","Active",{"$f":"VLOOKUP(A1044,[1]Sheet1!$A$1:$C$65512,3,FALSE)","v":{"$error":"#N/A"}},null,null,"No info","линк","https://bg.toolsworld.com/search/?query=","https://bg.toolsworld.com/search/?query=67479"]
[67481,"Kerti locsolótömlo  PVC, 1/2'', 25 m, betétes //PALISAD",4568,"B","Active",{"$f":"VLOOKUP(A1045,[1]Sheet1!$A$1:$C$65512,3,FALSE)","v":{"$error":"#N/A"}},null,null,"No info","линк","https://bg.toolsworld.com/search/?query=","https://bg.toolsworld.com/search/?query=67481"]
[67483,"Kerti locsolótömlo  PVC, 1/2'', 50 m, betétes //PALISAD",9025,"B","Active",{"$f":"VLOOKUP(A1046,[1]Sheet1!$A$1:$C$65512,3,FALSE)","v":{"$error":"#N/A"}},null,null,"No info","линк","https://bg.toolsworld.com/search/?query=","https://bg.toolsworld.com/search/?query=67483"]
[67525,"Locsolókanna, 10 L, cink borítás // SIBRTEH Russia",0,"B","Active",{"$f":"VLOOKUP(A1047,[1]Sheet1!$A$1:$C$65512,3,FALSE)","v":{"$error":"#N/A"}},null,null,"No info","линк","https://bg.toolsworld.com/search/?query=","https://bg.toolsworld.com/search/?query=67525"]
[67545,"Öntözo szett kinyúló tömlovel 20m, 7-állású szórófej, csatlakozóval// SIBRTECH",3788,"B","Active",{"$f":"VLOOKUP(A1048,[1]Sheet1!$A$1:$C$65512,3,FALSE)","v":{"$error":"#N/A"}},null,null,"No info","линк","https://bg.toolsworld.com/search/?query=","https://bg.toolsworld.com/search/?query=67545"]
[67561,"Mosdókagyló muanyag, 5L csappal és kagylóval// Russia",1393,"B","Active",{"$f":"VLOOKUP(A1049,[1]Sheet1!$A$1:$C$65512,3,FALSE)","v":139},null,null,"No info","линк","https://bg.toolsworld.com/search/?query=","https://bg.toolsworld.com/search/?query=67561"]
[67736,"Hasított bőrkesztyű// RUSSIA",888,"B","Active",{"$f":"VLOOKUP(A1050,[1]Sheet1!$A$1:$C$65512,3,FALSE)","v":{"$error":"#N/A"}},null,null,"No info","линк","https://bg.toolsworld.com/search/?query=","https://bg.toolsworld.com/search/?query=67736"]
[68302,"Műanyag fali tartó kerti szerszámokhoz, 4 cella, 4 kampó// Palisad",2179,"B","Active",{"$f":"VLOOKUP(A1051,[1]Sheet1!$A$1:$C$65512,3,FALSE)","v":15},null,null,"No info","линк","https://bg.toolsworld.com/search/?query=","https://bg.toolsworld.com/search/?query=68302"]
[68401,"Fa nyél, 30x1300 mm, sárga lakk, első osztály// Россия",672,"B","Active",{"$f":"VLOOKUP(A1052,[1]Sheet1!$A$1:$C$65512,3,FALSE)","v":{"$error":"#N/A"}},null,null,"No info","линк","https://bg.toolsworld.com/search/?query=","https://bg.toolsworld.com/search/?query=68401"]
[68415,"Nyél kapához,Kapa, elso osztályú 30 x1200 mm// Russian",612,"B","Active",{"$f":"VLOOKUP(A1053,[1]Sheet1!$A$1:$C$65512,3,FALSE)","v":{"$error":"#N/A"}},null,null,"No info","линк","https://bg.toolsworld.com/search/?query=","https://bg.toolsworld.com/search/?query=68415"]
[68428,"V alakú muanyag nyél hólapáthoz, d-32 Russia// SIBRTECH",387,"B","Active",{"$f":"VLOOKUP(A1054,[1]Sheet1!$A$1:$C$65512,3,FALSE)","v":383},null,null,"No info","линк","https://bg.toolsworld.com/search/?query=","https://bg.toolsworld.com/search/?query=68428"]
[68429,"Hólapát nyél vég, 32 mm Russia// SIBRTECH",562,"B","Active",{"$f":"VLOOKUP(A1055,[1]Sheet1!$A$1:$C$65512,3,FALSE)","v":833},null,null,"No info","линк","https://bg.toolsworld.com/search/?query=","https://bg.toolsworld.com/search/?query=68429"]
[68437,"eros v alakú nyél hólapáthoz, d-32 Russia// SIBRTECH",322,"B","Active",{"$f":"VLOOKUP(A1056,[1]Sheet1!$A$1:$C$65512,3,FALSE)","v":{"$error":"#N/A"}},null,null,"No info","линк","https://bg.toolsworld.com/search/?query=","https://bg.toolsworld.com/search/?query=68437"]
[68438,"Műanyag fogantyú V-alakú, D 36 mm, megerősített, RUSSIA// Сибртех",267,"B","Active",{"$f":"VLOOKUP(A1057,[1]Sheet1!$A$1:$C$65512,3,FALSE)","v":324},null,null,"No info","линк","https://bg.toolsworld.com/search/?query=","https://bg.toolsworld.com/search/?query=68438"]
[68439,"eros v alakú nyél hólapáthoz fekete, d-32 Russia// SIBRTECH",489,"B","Active",{"$f":"VLOOKUP(A1058,[1]Sheet1!$A$1:$C$65512,3,FALSE)","v":513},null,null,"No info","линк","https://bg.toolsworld.com/search/?query=","https://bg.toolsworld.com/search/?query=68439"]
[68656,"kötött kesztyu, akril, kék SZÍNu, serged seam, Russia// SIBRTECH",283,"B","Active",{"$f":"VLOOKUP(A1059,[1]Sheet1!$A$1:$C$65512,3,FALSE)","v":{"$error":"#N/A"}},null,null,"No info","линк","https://bg.toolsworld.com/search/?query=","https://bg.toolsworld.com/search/?query=68656"]
[68673,"Kötött kesztyű, akril, barna színű, dupla mandzsetta, RUSSIA// СИБРТЕХ",360,"B","Active",{"$f":"VLOOKUP(A1060,[1]Sheet1!$A$1:$C$65512,3,FALSE)","v":{"$error":"#N/A"}},null,null,"No info","линк","https://bg.toolsworld.com/search/?query=","https://bg.toolsworld.com/search/?query=68673"]
[68674,"Kötött kesztyű, akril, szürke mouline színű, dupla mandzsetta, RUSSIA// СИБРТЕХ",360,"B","Active",{"$f":"VLOOKUP(A1061,[1]Sheet1!$A$1:$C$65512,3,FALSE)","v":{"$error":"#N/A"}},null,null,"No info","линк","https://bg.toolsworld.com/search/?query=","https://bg.toolsworld.com/search/?query=68674"]
[68683,"Kötött kesztyű, kétrétegű, akril, barna színű, dupla mandzsetta, RUSSIA// СИБРТЕХ",564,"B","Active",{"$f":"VLOOKUP(A1062,[1]Sheet1!$A$1:$C$65512,3,FALSE)","v":{"$error":"#N/A"}},null,null,"No info","линк","https://bg.toolsworld.com/search/?query=","https://bg.toolsworld.com/search/?query=68683"]
[68684,"Kötött kesztyű, kétrétegű, akril, szürke mouline színű, dupla mandzsetta, RUSSIA// СИБРТЕХ",560,"B","Active",{"$f":"VLOOKUP(A1063,[1]Sheet1!$A$1:$C$65512,3,FALSE)","v":{"$error":"#N/A"}},null,null,"No info","линк","https://bg.toolsworld.com/search/?query=","https://bg.toolsworld.com/search/?query=68684"]
[69014,"Falra szerelhető virágtartó dekorral, 74x20 cm, kókuszkosárral// Palisad",4887,"B","Active",{"$f":"VLOOKUP(A1064,[1]Sheet1!$A$1:$C$65512,3,FALSE)","v":{"$error":"#N/A"}},null,null,"No info","линк","https://bg.toolsworld.com/search/?query=","https://bg.toolsworld.com/search/?query=69014"]
[69015,"Függesztett ültetőgép, D 26 cm, magasság lánccal és kampóval 53,5 cm// Palisad",2900,"B","Active",{"$f":"VLOOKUP(A1065,[1]Sheet1!$A$1:$C$65512,3,FALSE)","v":4},null,null,"No info","линк","https://bg.toolsworld.com/search/?query=","https://bg.toolsworld.com/search/?query=69015"]
[69016,"Függesztett ültetőgép, D 25,4 cm, magasság lánccal és kampóval 53,5 cm// Palisad",2806,"B","Active",{"$f":"VLOOKUP(A1066,[1]Sheet1!$A$1:$C$65512,3,FALSE)","v":46},null,null,"No info","линк","https://bg.toolsworld.com/search/?query=","https://bg.toolsworld.com/search/?query=69016"]
[69133,"Rács, háló, 0,35х1,3 m// Россия",2268,"B","Active",{"$f":"VLOOKUP(A1067,[1]Sheet1!$A$1:$C$65512,3,FALSE)","v":1640},null,null,"No info","линк","https://bg.toolsworld.com/search/?query=","https://bg.toolsworld.com/search/?query=69133"]
[69137,"Mintás állvány háló, 0,5х2,1м// Россия",4912,"B","Active",{"$f":"VLOOKUP(A1068,[1]Sheet1!$A$1:$C$65512,3,FALSE)","v":397},null,null,"No info","линк","https://bg.toolsworld.com/search/?query=","https://bg.toolsworld.com/search/?query=69137"]
[69511,"Pear waste wood for fuming, Russia Camping // Palisad",248,"B","Active",{"$f":"VLOOKUP(A1069,[1]Sheet1!$A$1:$C$65512,3,FALSE)","v":{"$error":"#N/A"}},null,null,"No info","линк","https://bg.toolsworld.com/search/?query=","https://bg.toolsworld.com/search/?query=69511"]
[69514,"Muanyag hotartó bögre, 350 ml// Palisad",346,"B","Active",{"$f":"VLOOKUP(A1070,[1]Sheet1!$A$1:$C$65512,3,FALSE)","v":466},null,null,"No info","линк","https://bg.toolsworld.com/search/?query=","https://bg.toolsworld.com/search/?query=69514"]
[69542,"Legyezo grillhez //PALISAD Camping/Russia",330,"B","Active",{"$f":"VLOOKUP(A1071,[1]Sheet1!$A$1:$C$65512,3,FALSE)","v":{"$error":"#N/A"}},null,null,"No info","линк","https://bg.toolsworld.com/search/?query=","https://bg.toolsworld.com/search/?query=69542"]
[69546,"Könnyű tűzhely 350*250*350 PALISAD Camping / P",1258,"B","Active",{"$f":"VLOOKUP(A1072,[1]Sheet1!$A$1:$C$65512,3,FALSE)","v":79},null,null,"No info","линк","https://bg.toolsworld.com/search/?query=","https://bg.toolsworld.com/search/?query=69546"]
[69547,"Brazier, erősítő bordákkal 500*300*500, 0,8 mm PALISAD Camping/RUSSIA",5543,"B","Active",{"$f":"VLOOKUP(A1073,[1]Sheet1!$A$1:$C$65512,3,FALSE)","v":59},null,null,"No info","линк","https://bg.toolsworld.com/search/?query=","https://bg.toolsworld.com/search/?query=69547"]
[69548,"Brazier, erősítő bordákkal 700*300*700 PALISAD Camping/RUSSIA",3871,"B","Active",{"$f":"VLOOKUP(A1074,[1]Sheet1!$A$1:$C$65512,3,FALSE)","v":18},null,null,"No info","линк","https://bg.toolsworld.com/search/?query=","https://bg.toolsworld.com/search/?query=69548"]
[70232,"Fa fúró, 3 mm, hengres szár// SIBRTEH",55,"B","Active",{"$f":"VLOOKUP(A1075,[1]Sheet1!$A$1:$C$65512,3,FALSE)","v":{"$error":"#N/A"}},null,null,"No info","линк","https://bg.toolsworld.com/search/?query=","https://bg.toolsworld.com/search/?query=70232"]
[70233,"Fa fúró, 4 mm, egyenes szárú// SIBRTEH",71,"B","Active",{"$f":"VLOOKUP(A1076,[1]Sheet1!$A$1:$C$65512,3,FALSE)","v":{"$error":"#N/A"}},null,null,"No info",{"$f":"HYPERLINK(L1076,\"линк\")","v":"линк"},"https://bg.toolsworld.com/search/?query=",{"$f":"CONCATENATE(K1076,A1076)","v":"https://bg.toolsworld.com/search/?query=70233"}]
[70234,"Fa fúró, 5 mm, egyenes szárú// SIBRTEH",65,"B","Active",{"$f":"VLOOKUP(A1077,[1]Sheet1!$A$1:$C$65512,3,FALSE)","v":{"$error":"#N/A"}},null,null,"No info","линк","https://bg.toolsworld.com/search/?query=","https://bg.toolsworld.com/search/?query=70234"]
[70235,"Fa fúró, 6 mm, egyenes szárú //SIBRTEH",75,"B","Active",{"$f":"VLOOKUP(A1078,[1]Sheet1!$A$1:$C$65512,3,FALSE)","v":{"$error":"#N/A"}},null,null,"No info","линк","https://bg.toolsworld.com/search/?query=","https://bg.toolsworld.com/search/?query=70235"]
[70237,"Fa fúró, 8 mm, egyenes szárú //SIBRTEH",126,"B","Active",{"$f":"VLOOKUP(A1079,[1]Sheet1!$A$1:$C$65512,3,FALSE)","v":{"$error":"#N/A"}},null,null,"No info","линк","https://bg.toolsworld.com/search/?query=","https://bg.toolsworld.com/search/?query=70237"]
[70238,"Fa fúró, 10 mm, egyenes szárú //SIBRTEH",173,"B","Active",{"$f":"VLOOKUP(A1080,[1]Sheet1!$A$1:$C$65512,3,FALSE)","v":{"$error":"#N/A"}},null,null,"No info","линк","https://bg.toolsworld.com/search/?query=","https://bg.toolsworld.com/search/?query=70238"]
[70239,"Fa fúró, 12 mm, egyenes szárú //SIBRTEH",289,"B","Active",{"$f":"VLOOKUP(A1081,[1]Sheet1!$A$1:$C$65512,3,FALSE)","v":61},null,null,"No info","линк","https://bg.toolsworld.com/search/?query=","https://bg.toolsworld.com/search/?query=70239"]
[70240,"Fa fúró, 6 x 300 mm, egyenes szárú //SIBRTEH",295,"B","Active",{"$f":"VLOOKUP(A1082,[1]Sheet1!$A$1:$C$65512,3,FALSE)","v":{"$error":"#N/A"}},null,null,"No info","линк","https://bg.toolsworld.com/search/?query=","https://bg.toolsworld.com/search/?query=70240"]
[70242,"Fa fúró, 8 x 300 mm, egyenes szárú //SIBRTEH",371,"B","Active",{"$f":"VLOOKUP(A1083,[1]Sheet1!$A$1:$C$65512,3,FALSE)","v":{"$error":"#N/A"}},null,null,"No info","линк","https://bg.toolsworld.com/search/?query=","https://bg.toolsworld.com/search/?query=70242"]
[70244,"Fa fúró, 10 x 300 mm, egyenes szárú //SIBRTEH",479,"B","Active",{"$f":"VLOOKUP(A1084,[1]Sheet1!$A$1:$C$65512,3,FALSE)","v":{"$error":"#N/A"}},null,null,"No info","линк","https://bg.toolsworld.com/search/?query=","https://bg.toolsworld.com/search/?query=70244"]
[70246,"Fa fúró, 12 x 300 mm, egyenes szárú //SIBRTEH",633,"B","Active",{"$f":"VLOOKUP(A1085,[1]Sheet1!$A$1:$C$65512,3,FALSE)","v":{"$error":"#N/A"}},null,null,"No info","линк","https://bg.toolsworld.com/search/?query=","https://bg.toolsworld.com/search/?query=70246"]
[70248,"Fa csigafúró, 14 х 300 mm, egyenes szár// Сибртех",766,"B","Active",{"$f":"VLOOKUP(A1086,[1]Sheet1!$A$1:$C$65512,3,FALSE)","v":{"$error":"#N/A"}},null,null,"No info","линк","https://bg.toolsworld.com/search/?query=","https://bg.toolsworld.com/search/?query=70248"]
[70250,"Fa csigafúró, 16 х 300 mm, egyenes szár// Сибртех",1199,"B","Active",{"$f":"VLOOKUP(A1087,[1]Sheet1!$A$1:$C$65512,3,FALSE)","v":{"$error":"#N/A"}},null,null,"No info","линк","https://bg.toolsworld.com/search/?query=","https://bg.toolsworld.com/search/?query=70250"]
[70316,"Lyukasztó SDS Plus 250 mm kerek PRO // GROSS",1959,"B","Active",{"$f":"VLOOKUP(A1088,[1]Sheet1!$A$1:$C$65512,3,FALSE)","v":{"$error":"#N/A"}},null,null,"No info","линк","https://bg.toolsworld.com/search/?query=","https://bg.toolsworld.com/search/?query=70316"]
[70317,"Széles véso SDS Plus 40 X 250 mm lekerekített önélezo // GROSS",3678,"B","Active",{"$f":"VLOOKUP(A1089,[1]Sheet1!$A$1:$C$65512,3,FALSE)","v":{"$error":"#N/A"}},null,null,"No info","линк","https://bg.toolsworld.com/search/?query=","https://bg.toolsworld.com/search/?query=70317"]
[70318,"Lapos véso SDS Plus 250 mm lekerekített PRO // GROSS",1959,"B","Active",{"$f":"VLOOKUP(A1090,[1]Sheet1!$A$1:$C$65512,3,FALSE)","v":{"$error":"#N/A"}},null,null,"No info","линк","https://bg.toolsworld.com/search/?query=","https://bg.toolsworld.com/search/?query=70318"]
[70319,"Lapos véso SDS Plus 40x260 mm önélezo// Gross",3948,"B","Active",{"$f":"VLOOKUP(A1091,[1]Sheet1!$A$1:$C$65512,3,FALSE)","v":{"$error":"#N/A"}},null,null,"No info","линк","https://bg.toolsworld.com/search/?query=","https://bg.toolsworld.com/search/?query=70319"]
[70350,"Pontozó véso Rtec SDS MAX 400 mm önélezo// Gross",4708,"B","Active",{"$f":"VLOOKUP(A1092,[1]Sheet1!$A$1:$C$65512,3,FALSE)","v":62},null,null,"No info","линк","https://bg.toolsworld.com/search/?query=","https://bg.toolsworld.com/search/?query=70350"]
[70352,"Széles véso SDS MAX 50 x 350 mm önélezo// Gross",5557,"B","Active",{"$f":"VLOOKUP(A1093,[1]Sheet1!$A$1:$C$65512,3,FALSE)","v":27},null,null,"No info","линк","https://bg.toolsworld.com/search/?query=","https://bg.toolsworld.com/search/?query=70352"]
[70354,"Lapos véso Rtec SDS MAX 400 mm önélezo// Gross",4708,"B","Active",{"$f":"VLOOKUP(A1094,[1]Sheet1!$A$1:$C$65512,3,FALSE)","v":78},null,null,"No info","линк","https://bg.toolsworld.com/search/?query=","https://bg.toolsworld.com/search/?query=70354"]
[70366,"Lapos fúrószár, 16 mm// Сибртех",206,"B","Active",{"$f":"VLOOKUP(A1095,[1]Sheet1!$A$1:$C$65512,3,FALSE)","v":119},null,null,"No info","линк","https://bg.toolsworld.com/search/?query=","https://bg.toolsworld.com/search/?query=70366"]
[70368,"Lapos fúrófej, 18 mm// Сибртех",226,"B","Active",{"$f":"VLOOKUP(A1096,[1]Sheet1!$A$1:$C$65512,3,FALSE)","v":117},null,null,"No info","линк","https://bg.toolsworld.com/search/?query=","https://bg.toolsworld.com/search/?query=70368"]
[70372,"Lapos fúrófej, 22 mm// Сибртех",246,"B","Active",{"$f":"VLOOKUP(A1097,[1]Sheet1!$A$1:$C$65512,3,FALSE)","v":88},null,null,"No info","линк","https://bg.toolsworld.com/search/?query=","https://bg.toolsworld.com/search/?query=70372"]
[70375,"Lapos fúrófej, 25 mm// Сибртех",289,"B","Active",{"$f":"VLOOKUP(A1098,[1]Sheet1!$A$1:$C$65512,3,FALSE)","v":33},null,null,"No info","линк","https://bg.toolsworld.com/search/?query=","https://bg.toolsworld.com/search/?query=70375"]
[70378,"Lapos fúrófej, 28 mm// Сибртех",312,"B","Active",{"$f":"VLOOKUP(A1099,[1]Sheet1!$A$1:$C$65512,3,FALSE)","v":45},null,null,"No info","линк","https://bg.toolsworld.com/search/?query=","https://bg.toolsworld.com/search/?query=70378"]
[70385,"Lapos fúrófej, 35 mm// Сибртех",399,"B","Active",{"$f":"VLOOKUP(A1100,[1]Sheet1!$A$1:$C$65512,3,FALSE)","v":38},null,null,"No info","линк","https://bg.toolsworld.com/search/?query=","https://bg.toolsworld.com/search/?query=70385"]
[70386,"Lapos fúrószár, 36 mm// Сибртех",434,"B","Active",{"$f":"VLOOKUP(A1101,[1]Sheet1!$A$1:$C$65512,3,FALSE)","v":13},null,null,"No info","линк","https://bg.toolsworld.com/search/?query=","https://bg.toolsworld.com/search/?query=70386"]
[70388,"Lapos fúrószár, 38 mm// Сибртех",442,"B","Active",{"$f":"VLOOKUP(A1102,[1]Sheet1!$A$1:$C$65512,3,FALSE)","v":11},null,null,"No info","линк","https://bg.toolsworld.com/search/?query=","https://bg.toolsworld.com/search/?query=70388"]
[70450,"Fafurész 26-63mm 1\" //SPARTA",688,"B","Active",{"$f":"VLOOKUP(A1103,[1]Sheet1!$A$1:$C$65512,3,FALSE)","v":16},null,null,"No info","линк","https://bg.toolsworld.com/search/?query=","https://bg.toolsworld.com/search/?query=70450"]
[70452,"Fafurész 26-63mm 2\" //SPARTA",872,"B","Active",{"$f":"VLOOKUP(A1104,[1]Sheet1!$A$1:$C$65512,3,FALSE)","v":{"$error":"#N/A"}},null,null,"No info","линк","https://bg.toolsworld.com/search/?query=","https://bg.toolsworld.com/search/?query=70452"]
[70552,"SDS-plus fúrószár, 6 x 110 mm, lapos TIP// Сибртех",265,"B","Active",{"$f":"VLOOKUP(A1105,[1]Sheet1!$A$1:$C$65512,3,FALSE)","v":100},null,null,"No info","линк","https://bg.toolsworld.com/search/?query=","https://bg.toolsworld.com/search/?query=70552"]
[70555,"SDS-plus fúrószár, 6 x 160 mm, lapos TIP// Сибртех",365,"B","Active",{"$f":"VLOOKUP(A1106,[1]Sheet1!$A$1:$C$65512,3,FALSE)","v":73},null,null,"No info","линк","https://bg.toolsworld.com/search/?query=","https://bg.toolsworld.com/search/?query=70555"]
[70557,"SDS-plus fúrószár, 10 x 160 mm, lapos TIPP// Сибртех",391,"B","Active",{"$f":"VLOOKUP(A1107,[1]Sheet1!$A$1:$C$65512,3,FALSE)","v":{"$error":"#N/A"}},null,null,"No info","линк","https://bg.toolsworld.com/search/?query=","https://bg.toolsworld.com/search/?query=70557"]
[70615,"Több konstrukciós PRO fúrófej falhoz, 5mm//GROSS",819,"B","Active",{"$f":"VLOOKUP(A1108,[1]Sheet1!$A$1:$C$65512,3,FALSE)","v":{"$error":"#N/A"}},null,null,"No info","линк","https://bg.toolsworld.com/search/?query=","https://bg.toolsworld.com/search/?query=70615"]
[70616,"Több konstrukciós PRO fúrófej falhoz, 6mm//GROSS",878,"B","Active",{"$f":"VLOOKUP(A1109,[1]Sheet1!$A$1:$C$65512,3,FALSE)","v":136},null,null,"No info","линк","https://bg.toolsworld.com/search/?query=","https://bg.toolsworld.com/search/?query=70616"]
[70618,"Több konstrukciós PRO fúrófej falhoz, 8mm//GROSS",1065,"B","Active",{"$f":"VLOOKUP(A1110,[1]Sheet1!$A$1:$C$65512,3,FALSE)","v":{"$error":"#N/A"}},null,null,"No info","линк","https://bg.toolsworld.com/search/?query=","https://bg.toolsworld.com/search/?query=70618"]
[70620,"Több konstrukciós PRO fúrófej falhoz, 10mm//GROSS",1350,"B","Active",{"$f":"VLOOKUP(A1111,[1]Sheet1!$A$1:$C$65512,3,FALSE)","v":{"$error":"#N/A"}},null,null,"No info","линк","https://bg.toolsworld.com/search/?query=","https://bg.toolsworld.com/search/?query=70620"]
[70622,"Több konstrukciós PRO fúrófej falhoz, 12mm//GROSS",1806,"B","Active",{"$f":"VLOOKUP(A1112,[1]Sheet1!$A$1:$C$65512,3,FALSE)","v":81},null,null,"No info","линк","https://bg.toolsworld.com/search/?query=","https://bg.toolsworld.com/search/?query=70622"]
[70657,"SDS Plus PRO utvefúró fej, 8 x 110 mm// GROSS",906,"B","Active",{"$f":"VLOOKUP(A1113,[1]Sheet1!$A$1:$C$65512,3,FALSE)","v":{"$error":"#N/A"}},null,null,"No info","линк","https://bg.toolsworld.com/search/?query=","https://bg.toolsworld.com/search/?query=70657"]
[70658,"SDS Plus PRO utvefúró fej, 10 x 110 mm// GROSS",1036,"B","Active",{"$f":"VLOOKUP(A1114,[1]Sheet1!$A$1:$C$65512,3,FALSE)","v":{"$error":"#N/A"}},null,null,"No info","линк","https://bg.toolsworld.com/search/?query=","https://bg.toolsworld.com/search/?query=70658"]
[70661,"SDS Plus PRO utvefúró fej, 8 x 160 mm// GROSS",1051,"B","Active",{"$f":"VLOOKUP(A1115,[1]Sheet1!$A$1:$C$65512,3,FALSE)","v":81},null,null,"No info","линк","https://bg.toolsworld.com/search/?query=","https://bg.toolsworld.com/search/?query=70661"]
[70680,"SDS Plus PRO utvefúró fej, 10 x 310 mm// GROSS",2427,"B","Active",{"$f":"VLOOKUP(A1116,[1]Sheet1!$A$1:$C$65512,3,FALSE)","v":{"$error":"#N/A"}},null,null,"No info","линк","https://bg.toolsworld.com/search/?query=","https://bg.toolsworld.com/search/?query=70680"]
[70688,"SDS Plus PRO utvefúró fej, 20 x 310 mm// GROSS",5502,"B","Active",{"$f":"VLOOKUP(A1117,[1]Sheet1!$A$1:$C$65512,3,FALSE)","v":{"$error":"#N/A"}},null,null,"No info","линк","https://bg.toolsworld.com/search/?query=","https://bg.toolsworld.com/search/?query=70688"]
[70694,"SDS Plus PRO utvefúró fej, 14 x 450 mm// GROSS",4541,"B","Active",{"$f":"VLOOKUP(A1118,[1]Sheet1!$A$1:$C$65512,3,FALSE)","v":{"$error":"#N/A"}},null,null,"No info","линк","https://bg.toolsworld.com/search/?query=","https://bg.toolsworld.com/search/?query=70694"]
[70695,"SDS Plus PRO utvefúró fej, 16 x 450 mm// GROSS",5095,"B","Active",{"$f":"VLOOKUP(A1119,[1]Sheet1!$A$1:$C$65512,3,FALSE)","v":{"$error":"#N/A"}},null,null,"No info","линк","https://bg.toolsworld.com/search/?query=","https://bg.toolsworld.com/search/?query=70695"]
[70696,"SDS Plus PRO utvefúró fej, 18 x 450 mm// GROSS",5895,"B","Active",{"$f":"VLOOKUP(A1120,[1]Sheet1!$A$1:$C$65512,3,FALSE)","v":{"$error":"#N/A"}},null,null,"No info","линк","https://bg.toolsworld.com/search/?query=","https://bg.toolsworld.com/search/?query=70696"]
[70697,"SDS Plus PRO utvefúró fej, 20 x 450 mm// GROSS",6376,"B","Active",{"$f":"VLOOKUP(A1121,[1]Sheet1!$A$1:$C$65512,3,FALSE)","v":{"$error":"#N/A"}},null,null,"No info","линк","https://bg.toolsworld.com/search/?query=","https://bg.toolsworld.com/search/?query=70697"]
[71602,"Fém fúró 2,0 mm, HSS, 338 W, 2øT.// GROSS",707,"B","Active",{"$f":"VLOOKUP(A1122,[1]Sheet1!$A$1:$C$65512,3,FALSE)","v":203},null,null,"No info","линк","https://bg.toolsworld.com/search/?query=","https://bg.toolsworld.com/search/?query=71602"]
[71603,"Fém fúró 2,5 mm, HSS, 338 W, 2øT.// GROSS",737,"B","Active",{"$f":"VLOOKUP(A1123,[1]Sheet1!$A$1:$C$65512,3,FALSE)","v":385},null,null,"No info","линк","https://bg.toolsworld.com/search/?query=","https://bg.toolsworld.com/search/?query=71603"]
[71604,"Fém fúró 3,0 mm, HSS, 338 W, 2øT.// GROSS",766,"B","Active",{"$f":"VLOOKUP(A1124,[1]Sheet1!$A$1:$C$65512,3,FALSE)","v":511},null,null,"No info","линк","https://bg.toolsworld.com/search/?query=","https://bg.toolsworld.com/search/?query=71604"]
[71609,"Fém fúró 4,5 mm, HSS, 338 W // GROSS",472,"B","Active",{"$f":"VLOOKUP(A1125,[1]Sheet1!$A$1:$C$65512,3,FALSE)","v":417},null,null,"No info","линк","https://bg.toolsworld.com/search/?query=","https://bg.toolsworld.com/search/?query=71609"]
[71614,"Fém fúró 6,0 mm, HSS, 338 W // GROSS",727,"B","Active",{"$f":"VLOOKUP(A1126,[1]Sheet1!$A$1:$C$65512,3,FALSE)","v":646},null,null,"No info","линк","https://bg.toolsworld.com/search/?query=","https://bg.toolsworld.com/search/?query=71614"]
[71615,"Fém fúró 6,5 mm, HSS, 338 W // GROSS",780,"B","Active",{"$f":"VLOOKUP(A1127,[1]Sheet1!$A$1:$C$65512,3,FALSE)","v":219},null,null,"No info","линк","https://bg.toolsworld.com/search/?query=","https://bg.toolsworld.com/search/?query=71615"]
[71617,"Fém fúró 7,5 mm, HSS, 338 W // GROSS",986,"B","Active",{"$f":"VLOOKUP(A1128,[1]Sheet1!$A$1:$C$65512,3,FALSE)","v":156},null,null,"No info","линк","https://bg.toolsworld.com/search/?query=","https://bg.toolsworld.com/search/?query=71617"]
[71619,"Fém fúró 8,5 mm, HSS, 338 W // GROSS",1252,"B","Active",{"$f":"VLOOKUP(A1129,[1]Sheet1!$A$1:$C$65512,3,FALSE)","v":135},null,null,"No info","линк","https://bg.toolsworld.com/search/?query=","https://bg.toolsworld.com/search/?query=71619"]
[71620,"Fém fúró 9,0 mm, HSS, 338 W // GROSS",1513,"B","Active",{"$f":"VLOOKUP(A1130,[1]Sheet1!$A$1:$C$65512,3,FALSE)","v":97},null,null,"No info","линк","https://bg.toolsworld.com/search/?query=","https://bg.toolsworld.com/search/?query=71620"]
[72220,"Fém csavarfúró HSS-R 2,0 mm, 10 db// Сибртех",279,"B","Active",{"$f":"VLOOKUP(A1131,[1]Sheet1!$A$1:$C$65512,3,FALSE)","v":300},null,null,"No info","линк","https://bg.toolsworld.com/search/?query=","https://bg.toolsworld.com/search/?query=72220"]
[72270,"Fém csavarfúró HSS-R 7,0 mm, 10 db// Сибртех",1474,"B","Active",{"$f":"VLOOKUP(A1132,[1]Sheet1!$A$1:$C$65512,3,FALSE)","v":65},null,null,"No info","линк","https://bg.toolsworld.com/search/?query=","https://bg.toolsworld.com/search/?query=72270"]
[72303,"Fém csavarfúró 2,0 mm, HSS-Co, 2 db// GROSS",843,"B","Active",{"$f":"VLOOKUP(A1133,[1]Sheet1!$A$1:$C$65512,3,FALSE)","v":107},null,null,"No info","линк","https://bg.toolsworld.com/search/?query=","https://bg.toolsworld.com/search/?query=72303"]
[72304,"Fém csavarfúró 2,5 mm, HSS-Co, 2 db// GROSS",843,"B","Active",{"$f":"VLOOKUP(A1134,[1]Sheet1!$A$1:$C$65512,3,FALSE)","v":227},null,null,"No info","линк","https://bg.toolsworld.com/search/?query=","https://bg.toolsworld.com/search/?query=72304"]
[72306,"Fém csavarfúró 3,0 mm, HSS-Co, 2 db// GROSS",823,"B","Active",{"$f":"VLOOKUP(A1135,[1]Sheet1!$A$1:$C$65512,3,FALSE)","v":439},null,null,"No info","линк","https://bg.toolsworld.com/search/?query=","https://bg.toolsworld.com/search/?query=72306"]
[72309,"Fém csavarfúró 3,5 mm, HSS-Co, 2 db// GROSS",1002,"B","Active",{"$f":"VLOOKUP(A1136,[1]Sheet1!$A$1:$C$65512,3,FALSE)","v":81},null,null,"No info","линк","https://bg.toolsworld.com/search/?query=","https://bg.toolsworld.com/search/?query=72309"]
[72314,"Fém csavarfúró 4,5 mm, HSS-Co// GROSS",621,"B","Active",{"$f":"VLOOKUP(A1137,[1]Sheet1!$A$1:$C$65512,3,FALSE)","v":119},null,null,"No info","линк","https://bg.toolsworld.com/search/?query=","https://bg.toolsworld.com/search/?query=72314"]
[72317,"Fém csavarfúró 5,0 mm, HSS-Co// GROSS",703,"B","Active",{"$f":"VLOOKUP(A1138,[1]Sheet1!$A$1:$C$65512,3,FALSE)","v":74},null,null,"No info","линк","https://bg.toolsworld.com/search/?query=","https://bg.toolsworld.com/search/?query=72317"]
[72319,"Fém csavarfúró 5,5 mm, HSS-Co// GROSS",804,"B","Active",{"$f":"VLOOKUP(A1139,[1]Sheet1!$A$1:$C$65512,3,FALSE)","v":243},null,null,"No info","линк","https://bg.toolsworld.com/search/?query=","https://bg.toolsworld.com/search/?query=72319"]
[72322,"Fém csavarfúró 6,0 mm, HSS-Co// GROSS",943,"B","Active",{"$f":"VLOOKUP(A1140,[1]Sheet1!$A$1:$C$65512,3,FALSE)","v":{"$error":"#N/A"}},null,null,"No info",{"$f":"HYPERLINK(L1140,\"линк\")","v":"линк"},"https://bg.toolsworld.com/search/?query=",{"$f":"CONCATENATE(K1140,A1140)","v":"https://bg.toolsworld.com/search/?query=72322"}]
[72324,"Fém csavarfúró 6,5 mm, HSS-Co// GROSS",1036,"B","Active",{"$f":"VLOOKUP(A1141,[1]Sheet1!$A$1:$C$65512,3,FALSE)","v":36},null,null,"No info","линк","https://bg.toolsworld.com/search/?query=","https://bg.toolsworld.com/search/?query=72324"]
[72328,"Fém csavarfúró 7,0 mm, HSS-Co// GROSS",1136,"B","Active",{"$f":"VLOOKUP(A1142,[1]Sheet1!$A$1:$C$65512,3,FALSE)","v":37},null,null,"No info","линк","https://bg.toolsworld.com/search/?query=","https://bg.toolsworld.com/search/?query=72328"]
[72331,"Fém csavarfúró 7,5 mm, HSS-Co// GROSS",1204,"B","Active",{"$f":"VLOOKUP(A1143,[1]Sheet1!$A$1:$C$65512,3,FALSE)","v":{"$error":"#N/A"}},null,null,"No info","линк","https://bg.toolsworld.com/search/?query=","https://bg.toolsworld.com/search/?query=72331"]
[72333,"Fém csavarfúró 8,0 mm, HSS-Co// GROSS",1556,"B","Active",{"$f":"VLOOKUP(A1144,[1]Sheet1!$A$1:$C$65512,3,FALSE)","v":{"$error":"#N/A"}},null,null,"No info","линк","https://bg.toolsworld.com/search/?query=","https://bg.toolsworld.com/search/?query=72333"]
[72336,"Fém csavarfúró 8,5 mm, HSS-Co// Gross",1627,"B","Active",{"$f":"VLOOKUP(A1145,[1]Sheet1!$A$1:$C$65512,3,FALSE)","v":76},null,null,"No info","линк","https://bg.toolsworld.com/search/?query=","https://bg.toolsworld.com/search/?query=72336"]
[72338,"Fém csavarfúró 9,0 mm, HSS-Co// GROSS",1878,"B","Active",{"$f":"VLOOKUP(A1146,[1]Sheet1!$A$1:$C$65512,3,FALSE)","v":109},null,null,"No info","линк","https://bg.toolsworld.com/search/?query=","https://bg.toolsworld.com/search/?query=72338"]
[72343,"Fém csavarfúró 10 mm, HSS-Co// GROSS",2360,"B","Active",{"$f":"VLOOKUP(A1147,[1]Sheet1!$A$1:$C$65512,3,FALSE)","v":48},null,null,"No info","линк","https://bg.toolsworld.com/search/?query=","https://bg.toolsworld.com/search/?query=72343"]
[72354,"Fém csavarfúró 12 mm, HSS-Co// GROSS",3472,"B","Active",{"$f":"VLOOKUP(A1148,[1]Sheet1!$A$1:$C$65512,3,FALSE)","v":12},null,null,"No info","линк","https://bg.toolsworld.com/search/?query=","https://bg.toolsworld.com/search/?query=72354"]
[72955,"Gyemant csiszolo, tobb soros, 125 mm",2955,"B","Active",{"$f":"VLOOKUP(A1149,[1]Sheet1!$A$1:$C$65512,3,FALSE)","v":{"$error":"#N/A"}},null,null,"No info","линк","https://bg.toolsworld.com/search/?query=","https://bg.toolsworld.com/search/?query=72955"]
[72956,"Gyemant csiszolo, bumerang betetekkel, 125 mm",2774,"B","Active",{"$f":"VLOOKUP(A1150,[1]Sheet1!$A$1:$C$65512,3,FALSE)","v":299},null,null,"No info","линк","https://bg.toolsworld.com/search/?query=","https://bg.toolsworld.com/search/?query=72956"]
[72958,"Gyemant csiszolo, kombinalt, 125 mm",3024,"B","Active",{"$f":"VLOOKUP(A1151,[1]Sheet1!$A$1:$C$65512,3,FALSE)","v":{"$error":"#N/A"}},null,null,"No info","линк","https://bg.toolsworld.com/search/?query=","https://bg.toolsworld.com/search/?query=72958"]
[73003," Szegmentált gyémántvágó penge ô125x22,2mm, lézer hegesztett // GROSS",5219,"B","Active",{"$f":"VLOOKUP(A1152,[1]Sheet1!$A$1:$C$65512,3,FALSE)","v":27},null,null,"No info","линк","https://bg.toolsworld.com/search/?query=","https://bg.toolsworld.com/search/?query=73003"]
[73008," Szegmentált gyémántvágó penge ô230x22,2mm, lézer hegesztett // GROSS",9498,"B","Active",{"$f":"VLOOKUP(A1153,[1]Sheet1!$A$1:$C$65512,3,FALSE)","v":81},null,null,"No info","линк","https://bg.toolsworld.com/search/?query=","https://bg.toolsworld.com/search/?query=73008"]
[73021,"Turbo-szegmentált gyémánt vágótárcsa 125×22,2mm, száraz vágáshoz//GROSS",5863,"B","Active",{"$f":"VLOOKUP(A1154,[1]Sheet1!$A$1:$C$65512,3,FALSE)","v":84},null,null,"No info","линк","https://bg.toolsworld.com/search/?query=","https://bg.toolsworld.com/search/?query=73021"]
[73029,"Turbo gyémánt furészlap ô125×22,2mm, lézervágó nyílással, száraz vágáshoz//GROSS",6089,"B","Active",{"$f":"VLOOKUP(A1155,[1]Sheet1!$A$1:$C$65512,3,FALSE)","v":66},null,null,"No info","линк","https://bg.toolsworld.com/search/?query=","https://bg.toolsworld.com/search/?query=73029"]
[73052,"Vékony, gyémánt furészlap ô115×22,2mm, folytonos (Jaguar), nedves vágáshoz//GROSS",5529,"B","Active",{"$f":"VLOOKUP(A1156,[1]Sheet1!$A$1:$C$65512,3,FALSE)","v":277},null,null,"No info","линк","https://bg.toolsworld.com/search/?query=","https://bg.toolsworld.com/search/?query=73052"]
[73053,"Vékony, gyémánt furészlap ô125×22,2mm, folytonos (Jaguar), nedves vágáshoz//GROSS",5944,"B","Active",{"$f":"VLOOKUP(A1157,[1]Sheet1!$A$1:$C$65512,3,FALSE)","v":427},null,null,"No info","линк","https://bg.toolsworld.com/search/?query=","https://bg.toolsworld.com/search/?query=73053"]
[73161," Szegmentált gyémántvágó penge 115 x 22,2 mm, száraz vágás// EUROPA STANDARD",566,"B","Active",{"$f":"VLOOKUP(A1158,[1]Sheet1!$A$1:$C$65512,3,FALSE)","v":35},null,null,"No info","линк","https://bg.toolsworld.com/search/?query=","https://bg.toolsworld.com/search/?query=73161"]
[73163," Szegmentált gyémántvágó penge 125 x 22,2 mm, száraz vágás// EUROPA STANDARD",719,"B","Active",{"$f":"VLOOKUP(A1159,[1]Sheet1!$A$1:$C$65512,3,FALSE)","v":{"$error":"#N/A"}},null,null,"No info","линк","https://bg.toolsworld.com/search/?query=","https://bg.toolsworld.com/search/?query=73163"]
[73171," Szegmentált gyémántvágó penge 230 x 22,2 mm, száraz vágás// EUROPA STANDARD",2462,"B","Active",{"$f":"VLOOKUP(A1160,[1]Sheet1!$A$1:$C$65512,3,FALSE)","v":{"$error":"#N/A"}},null,null,"No info","линк","https://bg.toolsworld.com/search/?query=","https://bg.toolsworld.com/search/?query=73171"]
[73301,"T.C.T. Furészlap favágáshoz 130 x 20/16 x 24T//GROSS",2317,"B","Active",{"$f":"VLOOKUP(A1161,[1]Sheet1!$A$1:$C$65512,3,FALSE)","v":{"$error":"#N/A"}},null,null,"No info","линк","https://bg.toolsworld.com/search/?query=","https://bg.toolsworld.com/search/?query=73301"]
[73337,"T.C.T. Favágó penge 250 x 32/30 x 48T// GROSS",13519,"B","Active",{"$f":"VLOOKUP(A1162,[1]Sheet1!$A$1:$C$65512,3,FALSE)","v":42},null,null,"No info","линк","https://bg.toolsworld.com/search/?query=","https://bg.toolsworld.com/search/?query=73337"]
[73405,"Köszörukorong fémhez, 115 x 6,0 x 22 mm// Russian",448,"B","Active",{"$f":"VLOOKUP(A1163,[1]Sheet1!$A$1:$C$65512,3,FALSE)","v":481},null,null,"No info","линк","https://bg.toolsworld.com/search/?query=","https://bg.toolsworld.com/search/?query=73405"]
[73420,"Köszörukorong fémhez, 180 x 6,0 x 22 mm// Russian",753,"B","Active",{"$f":"VLOOKUP(A1164,[1]Sheet1!$A$1:$C$65512,3,FALSE)","v":9},null,null,"No info","линк","https://bg.toolsworld.com/search/?query=","https://bg.toolsworld.com/search/?query=73420"]
[73651,"Vágókorong fémhez 115 x 2,5 x 22 mm// Russian",204,"B","Active",{"$f":"VLOOKUP(A1165,[1]Sheet1!$A$1:$C$65512,3,FALSE)","v":{"$error":"#N/A"}},null,null,"No info","линк","https://bg.toolsworld.com/search/?query=","https://bg.toolsworld.com/search/?query=73651"]
[73705,"Vágókorong fémhez+rozsdamentes acélhoz 115 x 1,6 x 22 mm, Premium(Luga)// Russia",138,"B","Active",{"$f":"VLOOKUP(A1166,[1]Sheet1!$A$1:$C$65512,3,FALSE)","v":{"$error":"#N/A"}},null,null,"No info","линк","https://bg.toolsworld.com/search/?query=","https://bg.toolsworld.com/search/?query=73705"]
[73717,"Vágókorong fémhez+rozsdamentes acélhoz 125 x 2,5 x 22 mm, Premium(Luga)// Russia",0,"B","Active",{"$f":"VLOOKUP(A1167,[1]Sheet1!$A$1:$C$65512,3,FALSE)","v":{"$error":"#N/A"}},null,null,"No info","линк","https://bg.toolsworld.com/search/?query=","https://bg.toolsworld.com/search/?query=73717"]
[74076,"Lamellás tárcsa, kúpos profil,  szemcsézettség 24, 115 x 22,2mm// SIBRTEH",238,"B","Active",{"$f":"VLOOKUP(A1168,[1]Sheet1!$A$1:$C$65512,3,FALSE)","v":{"$error":"#N/A"}},null,null,"No info","линк","https://bg.toolsworld.com/search/?query=","https://bg.toolsworld.com/search/?query=74076"]
[74077,"Lamellás tárcsa, kúpos profil,  szemcsézettség 40, 115 x 22,2mm //SIBRTEH",238,"B","Active",{"$f":"VLOOKUP(A1169,[1]Sheet1!$A$1:$C$65512,3,FALSE)","v":413},null,null,"No info","линк","https://bg.toolsworld.com/search/?query=","https://bg.toolsworld.com/search/?query=74077"]
[74078,"Lamellás tárcsa, kúpos profil,  szemcsézettség 60, 115 x 22,2mm //SIBRTEH",238,"B","Active",{"$f":"VLOOKUP(A1170,[1]Sheet1!$A$1:$C$65512,3,FALSE)","v":176},null,null,"No info","линк","https://bg.toolsworld.com/search/?query=","https://bg.toolsworld.com/search/?query=74078"]
[74079,"Lamellás tárcsa, kúpos profil,  szemcsézettség 80, 115 x 22,2mm// SIBRTEH",238,"B","Active",{"$f":"VLOOKUP(A1171,[1]Sheet1!$A$1:$C$65512,3,FALSE)","v":{"$error":"#N/A"}},null,null,"No info","линк","https://bg.toolsworld.com/search/?query=","https://bg.toolsworld.com/search/?query=74079"]
[74082,"Lamellás tárcsa, kúpos profil,  szemcsézettség 24, 125 x 22,2mm //SIBRTEH",269,"B","Active",{"$f":"VLOOKUP(A1172,[1]Sheet1!$A$1:$C$65512,3,FALSE)","v":{"$error":"#N/A"}},null,null,"No info","линк","https://bg.toolsworld.com/search/?query=","https://bg.toolsworld.com/search/?query=74082"]
[74083,"Lamellás tárcsa, kúpos profil,  szemcsézettség 40, 125 x 22,2mm //SIBRTEH",269,"B","Active",{"$f":"VLOOKUP(A1173,[1]Sheet1!$A$1:$C$65512,3,FALSE)","v":{"$error":"#N/A"}},null,null,"No info","линк","https://bg.toolsworld.com/search/?query=","https://bg.toolsworld.com/search/?query=74083"]
[74084,"Lamellás tárcsa, kúpos profil,  szemcsézettség 60, 125 x 22,2mm //SIBRTEH",269,"B","Active",{"$f":"VLOOKUP(A1174,[1]Sheet1!$A$1:$C$65512,3,FALSE)","v":95},null,null,"No info","линк","https://bg.toolsworld.com/search/?query=","https://bg.toolsworld.com/search/?query=74084"]
[74085,"Lamellás tárcsa, kúpos profil,  szemcsézettség 80, 125 x 22,2mm //SIBRTEH",269,"B","Active",{"$f":"VLOOKUP(A1175,[1]Sheet1!$A$1:$C$65512,3,FALSE)","v":164},null,null,"No info","линк","https://bg.toolsworld.com/search/?query=","https://bg.toolsworld.com/search/?query=74085"]
[74088,"Lamellás tárcsa, kúpos profil,  szemcsézettség 24, 150 x 22,2mm// SIBRTEH",430,"B","Active",{"$f":"VLOOKUP(A1176,[1]Sheet1!$A$1:$C$65512,3,FALSE)","v":{"$error":"#N/A"}},null,null,"No info","линк","https://bg.toolsworld.com/search/?query=","https://bg.toolsworld.com/search/?query=74088"]
[74089,"Lamellás tárcsa, kúpos profil,  szemcsézettség 40, 150 x 22,2mm// SIBRTEH",430,"B","Active",{"$f":"VLOOKUP(A1177,[1]Sheet1!$A$1:$C$65512,3,FALSE)","v":{"$error":"#N/A"}},null,null,"No info","линк","https://bg.toolsworld.com/search/?query=","https://bg.toolsworld.com/search/?query=74089"]
[74090,"Lamellás tárcsa, kúpos profil,  szemcsézettség 60, 150 x 22,2mm //SIBRTEH",430,"B","Active",{"$f":"VLOOKUP(A1178,[1]Sheet1!$A$1:$C$65512,3,FALSE)","v":5},null,null,"No info","линк","https://bg.toolsworld.com/search/?query=","https://bg.toolsworld.com/search/?query=74090"]
[74094,"Lamellás tárcsa, kúpos profil,  szemcsézettség 24, 180 x 22,2mm// SIBRTEH",617,"B","Active",{"$f":"VLOOKUP(A1179,[1]Sheet1!$A$1:$C$65512,3,FALSE)","v":{"$error":"#N/A"}},null,null,"No info","линк","https://bg.toolsworld.com/search/?query=","https://bg.toolsworld.com/search/?query=74094"]
[74097,"Lamellás tárcsa, kúpos profil,  szemcsézettség 80, 180 x 22,2mm //SIBRTEH",617,"B","Active",{"$f":"VLOOKUP(A1180,[1]Sheet1!$A$1:$C$65512,3,FALSE)","v":{"$error":"#N/A"}},null,null,"No info","линк","https://bg.toolsworld.com/search/?query=","https://bg.toolsworld.com/search/?query=74097"]
[75655,"Szövet alapú csiszolólap, szemcseméret 5, 240 x 170 mm, 10 darab., vízálló (BAZ) Russia",1183,"B","Active",{"$f":"VLOOKUP(A1181,[1]Sheet1!$A$1:$C$65512,3,FALSE)","v":131},null,null,"No info","линк","https://bg.toolsworld.com/search/?query=","https://bg.toolsworld.com/search/?query=75655"]
[75658,"Szövet alapú csiszolólap, szemcseméret 6, 240 x 170 mm, 10 darab., vízálló (BAZ) Russia",1183,"B","Active",{"$f":"VLOOKUP(A1182,[1]Sheet1!$A$1:$C$65512,3,FALSE)","v":102},null,null,"No info","линк","https://bg.toolsworld.com/search/?query=","https://bg.toolsworld.com/search/?query=75658"]
[75661,"Szövet alapú csiszolólap, szemcseméret 8, 240 x 170 mm, 10 darab., vízálló (BAZ) Russia",1183,"B","Active",{"$f":"VLOOKUP(A1183,[1]Sheet1!$A$1:$C$65512,3,FALSE)","v":70},null,null,"No info","линк","https://bg.toolsworld.com/search/?query=","https://bg.toolsworld.com/search/?query=75661"]
[75664,"Szövet alapú csiszolólap, szemcseméret 10, 240 x 170 mm, 10 darab., vízálló (BAZ) Russia",1183,"B","Active",{"$f":"VLOOKUP(A1184,[1]Sheet1!$A$1:$C$65512,3,FALSE)","v":43},null,null,"No info","линк","https://bg.toolsworld.com/search/?query=","https://bg.toolsworld.com/search/?query=75664"]
[75667,"Szövet alapú csiszolólap, szemcseméret 12, 240 x 170 mm, 10 darab., vízálló (BAZ) Russia",1183,"B","Active",{"$f":"VLOOKUP(A1185,[1]Sheet1!$A$1:$C$65512,3,FALSE)","v":143},null,null,"No info","линк","https://bg.toolsworld.com/search/?query=","https://bg.toolsworld.com/search/?query=75667"]
[75670,"Szövet alapú csiszolólap, szemcseméret 16, 240 x 170 mm, 10 darab., vízálló (BAZ) Russia",1258,"B","Active",{"$f":"VLOOKUP(A1186,[1]Sheet1!$A$1:$C$65512,3,FALSE)","v":72},null,null,"No info","линк","https://bg.toolsworld.com/search/?query=","https://bg.toolsworld.com/search/?query=75670"]
[75682,"Szövet alapú csiszolólap, szemcseméret 40, 240 x 170 mm, 10 darab., vízálló (BAZ) Russia",1409,"B","Active",{"$f":"VLOOKUP(A1187,[1]Sheet1!$A$1:$C$65512,3,FALSE)","v":86},null,null,"No info","линк","https://bg.toolsworld.com/search/?query=","https://bg.toolsworld.com/search/?query=75682"]
[75683,"Csiszoló papír ívek P60 230x280 10 db //RUSSIA",1258,"B","Active",{"$f":"VLOOKUP(A1188,[1]Sheet1!$A$1:$C$65512,3,FALSE)","v":30},null,null,"No info","линк","https://bg.toolsworld.com/search/?query=","https://bg.toolsworld.com/search/?query=75683"]
[75687,"Csiszoló papír ívek P120 230x280 10 db //RUSSIA",1258,"B","Active",{"$f":"VLOOKUP(A1189,[1]Sheet1!$A$1:$C$65512,3,FALSE)","v":43},null,null,"No info","линк","https://bg.toolsworld.com/search/?query=","https://bg.toolsworld.com/search/?query=75687"]
[75688,"Csiszoló papír ívek P150 230x280 10 db //RUSSIA",1258,"B","Active",{"$f":"VLOOKUP(A1190,[1]Sheet1!$A$1:$C$65512,3,FALSE)","v":{"$error":"#N/A"}},null,null,"No info","линк","https://bg.toolsworld.com/search/?query=","https://bg.toolsworld.com/search/?query=75688"]
[75690,"Csiszoló papír ívek P240 230x280 10 db //RUSSIA",1258,"B","Active",{"$f":"VLOOKUP(A1191,[1]Sheet1!$A$1:$C$65512,3,FALSE)","v":44},null,null,"No info","линк","https://bg.toolsworld.com/search/?query=","https://bg.toolsworld.com/search/?query=75690"]
[75692,"Csiszoló papír ívek P400 230x280 10 db //RUSSIA",2083,"B","Active",{"$f":"VLOOKUP(A1192,[1]Sheet1!$A$1:$C$65512,3,FALSE)","v":34},null,null,"No info","линк","https://bg.toolsworld.com/search/?query=","https://bg.toolsworld.com/search/?query=75692"]
[75693,"Csiszoló papír ívek P600 230x280 10 db //RUSSIA",2083,"B","Active",{"$f":"VLOOKUP(A1193,[1]Sheet1!$A$1:$C$65512,3,FALSE)","v":9},null,null,"No info","линк","https://bg.toolsworld.com/search/?query=","https://bg.toolsworld.com/search/?query=75693"]
[75695,"Csiszoló papír ívek P1000 230x280 10 db //RUSSIA",2083,"B","Active",{"$f":"VLOOKUP(A1194,[1]Sheet1!$A$1:$C$65512,3,FALSE)","v":75},null,null,"No info","линк","https://bg.toolsworld.com/search/?query=","https://bg.toolsworld.com/search/?query=75695"]
[75698,"Paper sanding sheet, CT10CW, grain. M10 (P2000), 230 x 280 mm, 10 pcs., water resistant // Russia",2083,"B","Active",{"$f":"VLOOKUP(A1195,[1]Sheet1!$A$1:$C$65512,3,FALSE)","v":18},null,null,"No info","линк","https://bg.toolsworld.com/search/?query=","https://bg.toolsworld.com/search/?query=75698"]
[75699,"Paper sanding sheet, CT10CW, grain. M7 (P2500), 230 x 280 mm, 10 pcs., water resistant // Russia",2174,"B","Active",{"$f":"VLOOKUP(A1196,[1]Sheet1!$A$1:$C$65512,3,FALSE)","v":{"$error":"#N/A"}},null,null,"No info","линк","https://bg.toolsworld.com/search/?query=","https://bg.toolsworld.com/search/?query=75699"]
[76420,"Csiszoló kő 200 mm// Сибртех",299,"B","Active",{"$f":"VLOOKUP(A1197,[1]Sheet1!$A$1:$C$65512,3,FALSE)","v":{"$error":"#N/A"}},null,null,"No info","линк","https://bg.toolsworld.com/search/?query=","https://bg.toolsworld.com/search/?query=76420"]
[76425,"Élezo ko 230mm //SIBRTEH",261,"B","Active",{"$f":"VLOOKUP(A1198,[1]Sheet1!$A$1:$C$65512,3,FALSE)","v":322},null,null,"No info","линк","https://bg.toolsworld.com/search/?query=","https://bg.toolsworld.com/search/?query=76425"]
[76609,"Kézi menet fúró M4 x 0,7 mm, set 2 db // SIBRTEH",322,"B","Active",{"$f":"VLOOKUP(A1199,[1]Sheet1!$A$1:$C$65512,3,FALSE)","v":{"$error":"#N/A"}},null,null,"No info","линк","https://bg.toolsworld.com/search/?query=","https://bg.toolsworld.com/search/?query=76609"]
[76613,"Menetmetszo készlet, 2 db M5 x 0,8 mm// SIBRTEH",365,"B","Active",{"$f":"VLOOKUP(A1200,[1]Sheet1!$A$1:$C$65512,3,FALSE)","v":{"$error":"#N/A"}},null,null,"No info","линк","https://bg.toolsworld.com/search/?query=","https://bg.toolsworld.com/search/?query=76613"]
[76614,"Menetmetszo készlet, 2 db M6 x 0,5 mm// SIBRTEH",381,"B","Active",{"$f":"VLOOKUP(A1201,[1]Sheet1!$A$1:$C$65512,3,FALSE)","v":484},null,null,"No info","линк","https://bg.toolsworld.com/search/?query=","https://bg.toolsworld.com/search/?query=76614"]
[76617,"Menetmetszo készlet, 2 db M6 x 1,0 mm// SIBRTEH",381,"B","Active",{"$f":"VLOOKUP(A1202,[1]Sheet1!$A$1:$C$65512,3,FALSE)","v":{"$error":"#N/A"}},null,null,"No info","линк","https://bg.toolsworld.com/search/?query=","https://bg.toolsworld.com/search/?query=76617"]
[76620,"Menetmetszo készlet, 2 db M8 x 1,0 mm// SIBRTEH",485,"B","Active",{"$f":"VLOOKUP(A1203,[1]Sheet1!$A$1:$C$65512,3,FALSE)","v":{"$error":"#N/A"}},null,null,"No info","линк","https://bg.toolsworld.com/search/?query=","https://bg.toolsworld.com/search/?query=76620"]
[76622,"Menetmetszo készlet, 2 db M8 x 1,25 mm// SIBRTEH",546,"B","Active",{"$f":"VLOOKUP(A1204,[1]Sheet1!$A$1:$C$65512,3,FALSE)","v":{"$error":"#N/A"}},null,null,"No info",{"$f":"HYPERLINK(L1204,\"линк\")","v":"линк"},"https://bg.toolsworld.com/search/?query=",{"$f":"CONCATENATE(K1204,A1204)","v":"https://bg.toolsworld.com/search/?query=76622"}]
[76625,"Menetmetszo készlet, 2 db M10 x 1,0 mm// SIBRTEH",637,"B","Active",{"$f":"VLOOKUP(A1205,[1]Sheet1!$A$1:$C$65512,3,FALSE)","v":433},null,null,"No info","линк","https://bg.toolsworld.com/search/?query=","https://bg.toolsworld.com/search/?query=76625"]
[76627,"Kézi menet fúró M10 x 1,25 mm, set 2 db // SIBRTEH",644,"B","Active",{"$f":"VLOOKUP(A1206,[1]Sheet1!$A$1:$C$65512,3,FALSE)","v":154},null,null,"No info","линк","https://bg.toolsworld.com/search/?query=","https://bg.toolsworld.com/search/?query=76627"]
[76628,"Menetmetszo készlet, 2 db M10 x 1,5 mm// SIBRTEH",644,"B","Active",{"$f":"VLOOKUP(A1207,[1]Sheet1!$A$1:$C$65512,3,FALSE)","v":{"$error":"#N/A"}},null,null,"No info","линк","https://bg.toolsworld.com/search/?query=","https://bg.toolsworld.com/search/?query=76628"]
[76631,"Menetmetszo készlet, 2 db M12 x 1,25 mm// SIBRTEH",819,"B","Active",{"$f":"VLOOKUP(A1208,[1]Sheet1!$A$1:$C$65512,3,FALSE)","v":46},null,null,"No info","линк","https://bg.toolsworld.com/search/?query=","https://bg.toolsworld.com/search/?query=76631"]
[76632,"Menetmetszo készlet, 2 db M12 x 1,5 mm //SIBRTEH",819,"B","Active",{"$f":"VLOOKUP(A1209,[1]Sheet1!$A$1:$C$65512,3,FALSE)","v":37},null,null,"No info","линк","https://bg.toolsworld.com/search/?query=","https://bg.toolsworld.com/search/?query=76632"]
[76634,"Menetmetszo készlet, 2 db M12 x 1,75 mm //SIBRTEH",819,"B","Active",{"$f":"VLOOKUP(A1210,[1]Sheet1!$A$1:$C$65512,3,FALSE)","v":92},null,null,"No info","линк","https://bg.toolsworld.com/search/?query=","https://bg.toolsworld.com/search/?query=76634"]
[76635,"Menetmetszo készlet, 2 db M14 x 1,25 mm //SIBRTEH",1079,"B","Active",{"$f":"VLOOKUP(A1211,[1]Sheet1!$A$1:$C$65512,3,FALSE)","v":81},null,null,"No info","линк","https://bg.toolsworld.com/search/?query=","https://bg.toolsworld.com/search/?query=76635"]
[76636,"Menetmetszo készlet, 2 db M14 x 1,5 mm //SIBRTEH",1079,"B","Active",{"$f":"VLOOKUP(A1212,[1]Sheet1!$A$1:$C$65512,3,FALSE)","v":5},null,null,"No info","линк","https://bg.toolsworld.com/search/?query=","https://bg.toolsworld.com/search/?query=76636"]
[76644,"Menetmetszo készlet, 2 db M16 x 1,5 mm //SIBRTEH",1324,"B","Active",{"$f":"VLOOKUP(A1213,[1]Sheet1!$A$1:$C$65512,3,FALSE)","v":87},null,null,"No info","линк","https://bg.toolsworld.com/search/?query=","https://bg.toolsworld.com/search/?query=76644"]
[76646,"Menetmetszo készlet, 2 db M16 x 2,0 mm //SIBRTEH",1267,"B","Active",{"$f":"VLOOKUP(A1214,[1]Sheet1!$A$1:$C$65512,3,FALSE)","v":38},null,null,"No info","линк","https://bg.toolsworld.com/search/?query=","https://bg.toolsworld.com/search/?query=76646"]
[76648,"Menetmetszo készlet, 2 db M18 x 2,5 mm //SIBRTEH",1690,"B","Active",{"$f":"VLOOKUP(A1215,[1]Sheet1!$A$1:$C$65512,3,FALSE)","v":131},null,null,"No info","линк","https://bg.toolsworld.com/search/?query=","https://bg.toolsworld.com/search/?query=76648"]
[76654,"Menetmetszo készlet, 2 db M20 x 1,5 mm //SIBRTEH",2022,"B","Active",{"$f":"VLOOKUP(A1216,[1]Sheet1!$A$1:$C$65512,3,FALSE)","v":26},null,null,"No info","линк","https://bg.toolsworld.com/search/?query=","https://bg.toolsworld.com/search/?query=76654"]
[76656,"Menetmetszo készlet, 2 db M20 x 2,5 mm //SIBRTEH",2118,"B","Active",{"$f":"VLOOKUP(A1217,[1]Sheet1!$A$1:$C$65512,3,FALSE)","v":{"$error":"#N/A"}},null,null,"No info","линк","https://bg.toolsworld.com/search/?query=","https://bg.toolsworld.com/search/?query=76656"]
[76660,"Menetmetszo készlet, 2 db M22 x 2,5 mm //SIBRTEH",2470,"B","Active",{"$f":"VLOOKUP(A1218,[1]Sheet1!$A$1:$C$65512,3,FALSE)","v":44},null,null,"No info","линк","https://bg.toolsworld.com/search/?query=","https://bg.toolsworld.com/search/?query=76660"]
[76912,"Menetfúró-befogó M3-M12 //SIBRTEH",912,"B","Active",{"$f":"VLOOKUP(A1219,[1]Sheet1!$A$1:$C$65512,3,FALSE)","v":{"$error":"#N/A"}},null,null,"No info","линк","https://bg.toolsworld.com/search/?query=","https://bg.toolsworld.com/search/?query=76912"]
[76920,"Menetfúró-befogó M6-M20 //SIBRTEH",2446,"B","Active",{"$f":"VLOOKUP(A1220,[1]Sheet1!$A$1:$C$65512,3,FALSE)","v":{"$error":"#N/A"}},null,null,"No info","линк","https://bg.toolsworld.com/search/?query=","https://bg.toolsworld.com/search/?query=76920"]
[77013,"Menetvágó M5 x 0,8 mm //SIBRTEH",342,"B","Active",{"$f":"VLOOKUP(A1221,[1]Sheet1!$A$1:$C$65512,3,FALSE)","v":1015},null,null,"No info","линк","https://bg.toolsworld.com/search/?query=","https://bg.toolsworld.com/search/?query=77013"]
[77017,"Menetmetszo M6 x 1,0 mm // SIBRTEH",346,"B","Active",{"$f":"VLOOKUP(A1222,[1]Sheet1!$A$1:$C$65512,3,FALSE)","v":976},null,null,"No info","линк","https://bg.toolsworld.com/search/?query=","https://bg.toolsworld.com/search/?query=77017"]
[77019,"Vágószerszám M8 x 1,0 mm// Сибртех",472,"B","Active",{"$f":"VLOOKUP(A1223,[1]Sheet1!$A$1:$C$65512,3,FALSE)","v":178},null,null,"No info","линк","https://bg.toolsworld.com/search/?query=","https://bg.toolsworld.com/search/?query=77019"]
[77020,"Menetvágó M8 x 1,25 mm //SIBRTEH",405,"B","Active",{"$f":"VLOOKUP(A1224,[1]Sheet1!$A$1:$C$65512,3,FALSE)","v":{"$error":"#N/A"}},null,null,"No info","линк","https://bg.toolsworld.com/search/?query=","https://bg.toolsworld.com/search/?query=77020"]
[77027,"Menetvágó M10 x 1,5 mm// SIBRTEH",531,"B","Active",{"$f":"VLOOKUP(A1225,[1]Sheet1!$A$1:$C$65512,3,FALSE)","v":55},null,null,"No info","линк","https://bg.toolsworld.com/search/?query=","https://bg.toolsworld.com/search/?query=77027"]
[77030,"Vágószerszám M12 x 1,25 mm// Сибртех",959,"B","Active",{"$f":"VLOOKUP(A1226,[1]Sheet1!$A$1:$C$65512,3,FALSE)","v":3},null,null,"No info","линк","https://bg.toolsworld.com/search/?query=","https://bg.toolsworld.com/search/?query=77030"]
[77031,"Vágószerszám M12 x 1,5 mm// Сибртех",992,"B","Active",{"$f":"VLOOKUP(A1227,[1]Sheet1!$A$1:$C$65512,3,FALSE)","v":27},null,null,"No info","линк","https://bg.toolsworld.com/search/?query=","https://bg.toolsworld.com/search/?query=77031"]
[77032,"Menetvágó M12 x 1,75 mm //SIBRTEH",847,"B","Active",{"$f":"VLOOKUP(A1228,[1]Sheet1!$A$1:$C$65512,3,FALSE)","v":{"$error":"#N/A"}},null,null,"No info","линк","https://bg.toolsworld.com/search/?query=","https://bg.toolsworld.com/search/?query=77032"]
[77035,"Vágószerszám M14 x 1,25 mm// Сибртех",910,"B","Active",{"$f":"VLOOKUP(A1229,[1]Sheet1!$A$1:$C$65512,3,FALSE)","v":50},null,null,"No info","линк","https://bg.toolsworld.com/search/?query=","https://bg.toolsworld.com/search/?query=77035"]
[77036,"Vágószerszám M14 x 1,5 mm// Сибртех",1036,"B","Active",{"$f":"VLOOKUP(A1230,[1]Sheet1!$A$1:$C$65512,3,FALSE)","v":49},null,null,"No info","линк","https://bg.toolsworld.com/search/?query=","https://bg.toolsworld.com/search/?query=77036"]
[77037,"Vágószerszám M14 x 2,0 mm// Сибртех",1354,"B","Active",{"$f":"VLOOKUP(A1231,[1]Sheet1!$A$1:$C$65512,3,FALSE)","v":130},null,null,"No info","линк","https://bg.toolsworld.com/search/?query=","https://bg.toolsworld.com/search/?query=77037"]
[77042,"Vágószerszám M16 x 1,5 mm// Сибртех",1566,"B","Active",{"$f":"VLOOKUP(A1232,[1]Sheet1!$A$1:$C$65512,3,FALSE)","v":151},null,null,"No info","линк","https://bg.toolsworld.com/search/?query=","https://bg.toolsworld.com/search/?query=77042"]
[77044,"Vágószerszám M16 x 2,0 mm// Сибртех",1584,"B","Active",{"$f":"VLOOKUP(A1233,[1]Sheet1!$A$1:$C$65512,3,FALSE)","v":622},null,null,"No info","линк","https://bg.toolsworld.com/search/?query=","https://bg.toolsworld.com/search/?query=77044"]
[77058,"Vágószerszám M20 x 2,5 mm// Сибртех",1662,"B","Active",{"$f":"VLOOKUP(A1234,[1]Sheet1!$A$1:$C$65512,3,FALSE)","v":77},null,null,"No info","линк","https://bg.toolsworld.com/search/?query=","https://bg.toolsworld.com/search/?query=77058"]
[77112,"Die G1/2''// Сибртех",1686,"B","Active",{"$f":"VLOOKUP(A1235,[1]Sheet1!$A$1:$C$65512,3,FALSE)","v":12},null,null,"No info","линк","https://bg.toolsworld.com/search/?query=","https://bg.toolsworld.com/search/?query=77112"]
[77305,"15 db-os fúrókészlet (2,5-10,2mm+csap М3х0,5-М4х0,7-М5х0,8-М6х1,0-М8х1,25-М10х1,5-М12х1,15)// Сибрте",5360,"B","Active",{"$f":"VLOOKUP(A1236,[1]Sheet1!$A$1:$C$65512,3,FALSE)","v":33},null,null,"No info","линк","https://bg.toolsworld.com/search/?query=","https://bg.toolsworld.com/search/?query=77305"]
[77307,"21 db Tap készlet// Сибртех",7594,"B","Active",{"$f":"VLOOKUP(A1237,[1]Sheet1!$A$1:$C$65512,3,FALSE)","v":18},null,null,"No info","линк","https://bg.toolsworld.com/search/?query=","https://bg.toolsworld.com/search/?query=77307"]
[77308,"Menetvágó készlet, M3-M12, 8 db  //SIBRTEH",2940,"B","Active",{"$f":"VLOOKUP(A1238,[1]Sheet1!$A$1:$C$65512,3,FALSE)","v":{"$error":"#N/A"}},null,null,"No info","линк","https://bg.toolsworld.com/search/?query=","https://bg.toolsworld.com/search/?query=77308"]
[77309,"Menetvágó készlet, M3-M12, 8 db  //SIBRTEH",3325,"B","Active",{"$f":"VLOOKUP(A1239,[1]Sheet1!$A$1:$C$65512,3,FALSE)","v":{"$error":"#N/A"}},null,null,"No info","линк","https://bg.toolsworld.com/search/?query=","https://bg.toolsworld.com/search/?query=77309"]
[77365,"Menetvágó fej for bordaers 1/2\" //SIBRTEH",2456,"B","Active",{"$f":"VLOOKUP(A1240,[1]Sheet1!$A$1:$C$65512,3,FALSE)","v":14},null,null,"No info","линк","https://bg.toolsworld.com/search/?query=","https://bg.toolsworld.com/search/?query=77365"]
[77367,"Menetvágó fej for bordaers 3/4\"// SIBRTEH",2488,"B","Active",{"$f":"VLOOKUP(A1241,[1]Sheet1!$A$1:$C$65512,3,FALSE)","v":201},null,null,"No info","линк","https://bg.toolsworld.com/search/?query=","https://bg.toolsworld.com/search/?query=77367"]
[77369,"Menetvágó fej for bordaers 1\" //SIBRTEH",2816,"B","Active",{"$f":"VLOOKUP(A1242,[1]Sheet1!$A$1:$C$65512,3,FALSE)","v":111},null,null,"No info","линк","https://bg.toolsworld.com/search/?query=","https://bg.toolsworld.com/search/?query=77369"]
[77373,"Racsnis tartó karral menetvágóhoz// SIBRTEH",4458,"B","Active",{"$f":"VLOOKUP(A1243,[1]Sheet1!$A$1:$C$65512,3,FALSE)","v":{"$error":"#N/A"}},null,null,"No info","линк","https://bg.toolsworld.com/search/?query=","https://bg.toolsworld.com/search/?query=77373"]
[77420,"Menetvágó tartó 13/16'' (20mm)// SIBRTEH",713,"B","Active",{"$f":"VLOOKUP(A1244,[1]Sheet1!$A$1:$C$65512,3,FALSE)","v":4},null,null,"No info","линк","https://bg.toolsworld.com/search/?query=","https://bg.toolsworld.com/search/?query=77420"]
[77425,"Menetvágó tartó 1'' (25mm) //SIBRTEH",876,"B","Active",{"$f":"VLOOKUP(A1245,[1]Sheet1!$A$1:$C$65512,3,FALSE)","v":{"$error":"#N/A"}},null,null,"No info","линк","https://bg.toolsworld.com/search/?query=","https://bg.toolsworld.com/search/?query=77425"]
[77438,"Menetvágó tartó 1 1/2'' (38mm) //SIBRTEH",1700,"B","Active",{"$f":"VLOOKUP(A1246,[1]Sheet1!$A$1:$C$65512,3,FALSE)","v":{"$error":"#N/A"}},null,null,"No info","линк","https://bg.toolsworld.com/search/?query=","https://bg.toolsworld.com/search/?query=77438"]
[77450,"Menetvágó tartó 2\"(45 mm) //SIBRTEH",2436,"B","Active",{"$f":"VLOOKUP(A1247,[1]Sheet1!$A$1:$C$65512,3,FALSE)","v":22},null,null,"No info","линк","https://bg.toolsworld.com/search/?query=","https://bg.toolsworld.com/search/?query=77450"]
[77600,"Ács kalapács, 450 g, üvegszálas 3 komponensű nyél// GROSS",6241,"B","Active",{"$f":"VLOOKUP(A1248,[1]Sheet1!$A$1:$C$65512,3,FALSE)","v":189},null,null,"No info","линк","https://bg.toolsworld.com/search/?query=","https://bg.toolsworld.com/search/?query=77600"]
[77604,"Fémfurész Thundering Pro, pengetenziós védelemmel 300mm// GROSS",8669,"B","Active",{"$f":"VLOOKUP(A1249,[1]Sheet1!$A$1:$C$65512,3,FALSE)","v":322},null,null,"No info","линк","https://bg.toolsworld.com/search/?query=","https://bg.toolsworld.com/search/?query=77604"]
[77707,"Fémfurész lap 1.25 x 12 x 300 mm, H6VF Russia",153,"B","Active",{"$f":"VLOOKUP(A1250,[1]Sheet1!$A$1:$C$65512,3,FALSE)","v":50},null,null,"No info","линк","https://bg.toolsworld.com/search/?query=","https://bg.toolsworld.com/search/?query=77707"]
[77762,"Fém fémfűrészlap, 300 mm, 2 db// Сибртех",236,"B","Active",{"$f":"VLOOKUP(A1251,[1]Sheet1!$A$1:$C$65512,3,FALSE)","v":137},null,null,"No info","линк","https://bg.toolsworld.com/search/?query=","https://bg.toolsworld.com/search/?query=77762"]
[77764,"Fém fémfűrészlap, 300 mm, 12 db// Сибртех",1175,"B","Active",{"$f":"VLOOKUP(A1252,[1]Sheet1!$A$1:$C$65512,3,FALSE)","v":76},null,null,"No info","линк","https://bg.toolsworld.com/search/?query=","https://bg.toolsworld.com/search/?query=77764"]
[78207,"Szúrófűrészlap fémhez, 3 db T118A, 50 x 1,2 mm, HSS// Matrix",534,"B","Active",{"$f":"VLOOKUP(A1253,[1]Sheet1!$A$1:$C$65512,3,FALSE)","v":466},null,null,"No info","линк","https://bg.toolsworld.com/search/?query=","https://bg.toolsworld.com/search/?query=78207"]
[78238,"Szúrófűrészlap fához, 5 db T244D, 75 x 4 mm, HCS// Сибртех",458,"B","Active",{"$f":"VLOOKUP(A1254,[1]Sheet1!$A$1:$C$65512,3,FALSE)","v":{"$error":"#N/A"}},null,null,"No info","линк","https://bg.toolsworld.com/search/?query=","https://bg.toolsworld.com/search/?query=78238"]
[78252,"Penge készlet furészgéphez, Univerzális, 5 db // GROSS",1548,"B","Active",{"$f":"VLOOKUP(A1255,[1]Sheet1!$A$1:$C$65512,3,FALSE)","v":{"$error":"#N/A"}},null,null,"No info","линк","https://bg.toolsworld.com/search/?query=","https://bg.toolsworld.com/search/?query=78252"]
[78254,"Penge készlet furészgéphez, fához, 2 db // GROSS",658,"B","Active",{"$f":"VLOOKUP(A1256,[1]Sheet1!$A$1:$C$65512,3,FALSE)","v":{"$error":"#N/A"}},null,null,"No info","линк","https://bg.toolsworld.com/search/?query=","https://bg.toolsworld.com/search/?query=78254"]
[78260,"Penge furészgéphez, fához, 2 db ( 3101 - T101B ) // GROSS",784,"B","Active",{"$f":"VLOOKUP(A1257,[1]Sheet1!$A$1:$C$65512,3,FALSE)","v":251},null,null,"No info","линк","https://bg.toolsworld.com/search/?query=","https://bg.toolsworld.com/search/?query=78260"]
[78261,"Penge furészgéphez, fához, 2 db ( 3102 - T101BR ) // GROSS",813,"B","Active",{"$f":"VLOOKUP(A1258,[1]Sheet1!$A$1:$C$65512,3,FALSE)","v":9},null,null,"No info","линк","https://bg.toolsworld.com/search/?query=","https://bg.toolsworld.com/search/?query=78261"]
[78262,"Penge furészgéphez, fához, 2 db ( 3103 - T101D ) // GROSS",784,"B","Active",{"$f":"VLOOKUP(A1259,[1]Sheet1!$A$1:$C$65512,3,FALSE)","v":327},null,null,"No info","линк","https://bg.toolsworld.com/search/?query=","https://bg.toolsworld.com/search/?query=78262"]
[78263,"Penge furészgéphez, fához, 2 db ( 3103L - T301DL ) // GROSS",979,"B","Active",{"$f":"VLOOKUP(A1260,[1]Sheet1!$A$1:$C$65512,3,FALSE)","v":302},null,null,"No info","линк","https://bg.toolsworld.com/search/?query=","https://bg.toolsworld.com/search/?query=78263"]
[78264,"Penge furészgéphez, fához, 2 db ( 3160 - T101AI ) // GROSS",802,"B","Active",{"$f":"VLOOKUP(A1261,[1]Sheet1!$A$1:$C$65512,3,FALSE)","v":341},null,null,"No info","линк","https://bg.toolsworld.com/search/?query=","https://bg.toolsworld.com/search/?query=78264"]
[78269,"Penge furészgéphez, fához, 2 db ( 3104L - T144DL ) // GROSS",705,"B","Active",{"$f":"VLOOKUP(A1262,[1]Sheet1!$A$1:$C$65512,3,FALSE)","v":{"$error":"#N/A"}},null,null,"No info","линк","https://bg.toolsworld.com/search/?query=","https://bg.toolsworld.com/search/?query=78269"]
[78274,"Penge furészgéphez, fához, 2 db ( 31085 - T111B ) // GROSS",521,"B","Active",{"$f":"VLOOKUP(A1263,[1]Sheet1!$A$1:$C$65512,3,FALSE)","v":{"$error":"#N/A"}},null,null,"No info","линк","https://bg.toolsworld.com/search/?query=","https://bg.toolsworld.com/search/?query=78274"]
[78301,"Fúrótartozék fémlemez vágásához 1,8 mm-ig// Сибртех",7642,"B","Active",{"$f":"VLOOKUP(A1264,[1]Sheet1!$A$1:$C$65512,3,FALSE)","v":{"$error":"#N/A"}},null,null,"No info","линк","https://bg.toolsworld.com/search/?query=","https://bg.toolsworld.com/search/?query=78301"]
[78321,"250mm lemezvágó, bal és egyenes vágás, CrMo, két komponensu nyél",4623,"B","Active",{"$f":"VLOOKUP(A1265,[1]Sheet1!$A$1:$C$65512,3,FALSE)","v":321},null,null,"No info","линк","https://bg.toolsworld.com/search/?query=","https://bg.toolsworld.com/search/?query=78321"]
[78323,"250mm lemezvágó , egyenes és jobb vágás, CrMo, két komponensu nyél// GROSS",5413,"B","Active",{"$f":"VLOOKUP(A1266,[1]Sheet1!$A$1:$C$65512,3,FALSE)","v":164},null,null,"No info","линк","https://bg.toolsworld.com/search/?query=","https://bg.toolsworld.com/search/?query=78323"]
[78325,"250mm lemezvágó, egyenes vágás, CrMo, két komponensu nyél// GROSS",5413,"B","Active",{"$f":"VLOOKUP(A1267,[1]Sheet1!$A$1:$C$65512,3,FALSE)","v":395},null,null,"No info","линк","https://bg.toolsworld.com/search/?query=","https://bg.toolsworld.com/search/?query=78325"]
[78327,"230mm lemezvágó, egyenes vágás, CrMo, két komponensu nyél// GROSS",4844,"B","Active",{"$f":"VLOOKUP(A1268,[1]Sheet1!$A$1:$C$65512,3,FALSE)","v":192},null,null,"No info",{"$f":"HYPERLINK(L1268,\"линк\")","v":"линк"},"https://bg.toolsworld.com/search/?query=",{"$f":"CONCATENATE(K1268,A1268)","v":"https://bg.toolsworld.com/search/?query=78327"}]
[78329,"lemezvágó \"PIRAHNA\", 270mm, egyenes vágás, CrMo acél, két komponensu nyél",6734,"B","Active",{"$f":"VLOOKUP(A1269,[1]Sheet1!$A$1:$C$65512,3,FALSE)","v":2},null,null,"No info","линк","https://bg.toolsworld.com/search/?query=","https://bg.toolsworld.com/search/?query=78329"]
[78347,"255mm lemezvágó\"PIRANHA\", egyenes vágás, CrMo, két komponensu nyél",5508,"B","Active",{"$f":"VLOOKUP(A1270,[1]Sheet1!$A$1:$C$65512,3,FALSE)","v":53},null,null,"No info","линк","https://bg.toolsworld.com/search/?query=","https://bg.toolsworld.com/search/?query=78347"]
[78349,"255mm lemezvágó\"PIRANHA\" megerosített, egyenes és bal vágás, CrMo, két komponensu nyél",7223,"B","Active",{"$f":"VLOOKUP(A1271,[1]Sheet1!$A$1:$C$65512,3,FALSE)","v":82},null,null,"No info","линк","https://bg.toolsworld.com/search/?query=","https://bg.toolsworld.com/search/?query=78349"]
[78351,"255mm lemezvágó\"PIRANHA\" megerosített, egyenes és jobb vágás, CrMo, két komponensu nyél",7196,"B","Active",{"$f":"VLOOKUP(A1272,[1]Sheet1!$A$1:$C$65512,3,FALSE)","v":113},null,null,"No info","линк","https://bg.toolsworld.com/search/?query=","https://bg.toolsworld.com/search/?query=78351"]
[78361,"lemezvágó \"PIRANHA\",185mm, egyenes vágás, ÑrMo acél, két komponensu nyél",6152,"B","Active",{"$f":"VLOOKUP(A1273,[1]Sheet1!$A$1:$C$65512,3,FALSE)","v":151},null,null,"No info","линк","https://bg.toolsworld.com/search/?query=","https://bg.toolsworld.com/search/?query=78361"]
[78404,"Csővágó műanyaghoz, porszórt, átmérő 42mm-ig// Сибртех",1835,"B","Active",{"$f":"VLOOKUP(A1274,[1]Sheet1!$A$1:$C$65512,3,FALSE)","v":{"$error":"#N/A"}},null,null,"No info","линк","https://bg.toolsworld.com/search/?query=","https://bg.toolsworld.com/search/?query=78404"]
[78420,"PVC cso vágó, D-36 mm, két komponensu nyél, Festék borítás //GROSS",8264,"B","Active",{"$f":"VLOOKUP(A1275,[1]Sheet1!$A$1:$C$65512,3,FALSE)","v":342},null,null,"No info","линк","https://bg.toolsworld.com/search/?query=","https://bg.toolsworld.com/search/?query=78420"]
[78424,"Univerzális olló PVC vágáshoz, D – 42mm, porszórt fogantyú// Gross",4730,"B","Active",{"$f":"VLOOKUP(A1276,[1]Sheet1!$A$1:$C$65512,3,FALSE)","v":3776},null,null,"No info","линк","https://bg.toolsworld.com/search/?query=","https://bg.toolsworld.com/search/?query=78424"]
[78450,"Kábelmetszo \"PIRANHA\", 240mm  két komponensu nyél, kábel átméro max. 14 mm,14mm2. //GROSS",7129,"B","Active",{"$f":"VLOOKUP(A1277,[1]Sheet1!$A$1:$C$65512,3,FALSE)","v":77},null,null,"No info","линк","https://bg.toolsworld.com/search/?query=","https://bg.toolsworld.com/search/?query=78450"]
[78870,"Nyomásvezérelt kés, háromkomponensu nyél, 170mm + 5 tartalék penge// Gross",4382,"B","Active",{"$f":"VLOOKUP(A1278,[1]Sheet1!$A$1:$C$65512,3,FALSE)","v":54},null,null,"No info","линк","https://bg.toolsworld.com/search/?query=","https://bg.toolsworld.com/search/?query=78870"]
[78882,"SO automatikus betölto összecsukható kés, kétkomponensu nyél, 175mm + 2 tartalék penge// Gross",4763,"B","Active",{"$f":"VLOOKUP(A1279,[1]Sheet1!$A$1:$C$65512,3,FALSE)","v":387},null,null,"No info","линк","https://bg.toolsworld.com/search/?query=","https://bg.toolsworld.com/search/?query=78882"]
[78893,"kerti kés 170 mm, gumi.abs test, behúzható.szegm.penge 18 mm (sk-5), fém vezető+5 penge// GROSS",4246,"B","Active",{"$f":"VLOOKUP(A1280,[1]Sheet1!$A$1:$C$65512,3,FALSE)","v":1444},null,null,"No info","линк","https://bg.toolsworld.com/search/?query=","https://bg.toolsworld.com/search/?query=78893"]
[78895,"Sniccer 145 mm, ABS-műanyag test, visszahúzható szegmentált penge 9 mm (SK-5), fém vezető// Gross",1240,"B","Active",{"$f":"VLOOKUP(A1281,[1]Sheet1!$A$1:$C$65512,3,FALSE)","v":90},null,null,"No info","линк","https://bg.toolsworld.com/search/?query=","https://bg.toolsworld.com/search/?query=78895"]
[78896,"Sniccer 195 mm, fém test, behúzható.szegm.penge 25 mm (sk-5), fémvezető, övcsipesz// Gross",3836,"B","Active",{"$f":"VLOOKUP(A1282,[1]Sheet1!$A$1:$C$65512,3,FALSE)","v":{"$error":"#N/A"}},null,null,"No info","линк","https://bg.toolsworld.com/search/?query=","https://bg.toolsworld.com/search/?query=78896"]
[78897,"Megerositett kerti tomolo 3/4\", 15м // Palisad",3211,"B","Active",{"$f":"VLOOKUP(A1283,[1]Sheet1!$A$1:$C$65512,3,FALSE)","v":990},null,null,"No info","линк","https://bg.toolsworld.com/search/?query=","https://bg.toolsworld.com/search/?query=78897"]
[78899,"Megerositett kerti tomolo 3/4\", 20m",5266,"B","Active",{"$f":"VLOOKUP(A1284,[1]Sheet1!$A$1:$C$65512,3,FALSE)","v":1584},null,null,"No info","линк","https://bg.toolsworld.com/search/?query=","https://bg.toolsworld.com/search/?query=78899"]
[78968,"Kaparó pengék 9mm, 10db-os készlet//SPARTA",106,"B","Active",{"$f":"VLOOKUP(A1285,[1]Sheet1!$A$1:$C$65512,3,FALSE)","v":" "},null,null,"No info","линк","https://bg.toolsworld.com/search/?query=","https://bg.toolsworld.com/search/?query=78968"]
[78971,"Könnyu papírvágó, teleszkópos kaparó penge kényelmes markolattal és fémvezetovel, 9 mm//SPARTA",141,"B","Active",{"$f":"VLOOKUP(A1286,[1]Sheet1!$A$1:$C$65512,3,FALSE)","v":{"$error":"#N/A"}},null,null,"No info","линк","https://bg.toolsworld.com/search/?query=","https://bg.toolsworld.com/search/?query=78971"]
[78973,"Könnyu papírvágó, 18 mm, kitolható pengével, fém ház// SPARTA",200,"B","Active",{"$f":"VLOOKUP(A1287,[1]Sheet1!$A$1:$C$65512,3,FALSE)","v":{"$error":"#N/A"}},null,null,"No info","линк","https://bg.toolsworld.com/search/?query=","https://bg.toolsworld.com/search/?query=78973"]
[78974,"Könnyu papírvágó 18 mm//SPARTA",104,"B","Active",{"$f":"VLOOKUP(A1288,[1]Sheet1!$A$1:$C$65512,3,FALSE)","v":{"$error":"#N/A"}},null,null,"No info","линк","https://bg.toolsworld.com/search/?query=","https://bg.toolsworld.com/search/?query=78974"]
[78976,"Pengék, 18 mm,  trapéz, egyenes, 5 db.// SPARTA",136,"B","Active",{"$f":"VLOOKUP(A1289,[1]Sheet1!$A$1:$C$65512,3,FALSE)","v":883},null,null,"No info","линк","https://bg.toolsworld.com/search/?query=","https://bg.toolsworld.com/search/?query=78976"]
[78997,"Universal knife// SIBRTEH",696,"B","Active",{"$f":"VLOOKUP(A1290,[1]Sheet1!$A$1:$C$65512,3,FALSE)","v":105},null,null,"No info","линк","https://bg.toolsworld.com/search/?query=","https://bg.toolsworld.com/search/?query=78997"]
[78998,"Jack vágó fa nyéllel 200MM//SPARTA",1010,"B","Active",{"$f":"VLOOKUP(A1291,[1]Sheet1!$A$1:$C$65512,3,FALSE)","v":169},null,null,"No info","линк","https://bg.toolsworld.com/search/?query=","https://bg.toolsworld.com/search/?query=78998"]
[79112,"Élezo késekhez ,tapadókoronggal// SIBRTECH",884,"B","Active",{"$f":"VLOOKUP(A1292,[1]Sheet1!$A$1:$C$65512,3,FALSE)","v":246},null,null,"No info","линк","https://bg.toolsworld.com/search/?query=","https://bg.toolsworld.com/search/?query=79112"]
[79122,"Univerzális élezo késekhez ollókhoz// SIBRTECH",766,"B","Active",{"$f":"VLOOKUP(A1293,[1]Sheet1!$A$1:$C$65512,3,FALSE)","v":1315},null,null,"No info","линк","https://bg.toolsworld.com/search/?query=","https://bg.toolsworld.com/search/?query=79122"]
[80102,"Habszivacs henger nyéllel, 150 mm, Á - 48 mm, Á - nyél - 6 mm// SIBRTEH Russian",550,"B","Active",{"$f":"VLOOKUP(A1294,[1]Sheet1!$A$1:$C$65512,3,FALSE)","v":467},null,null,"No info","линк","https://bg.toolsworld.com/search/?query=","https://bg.toolsworld.com/search/?query=80102"]
[80103,"Habszivacs henger nyéllel, 200 mm, Á - 48 mm, Á - nyél - 6 mm// SIBRTEH Russian",821,"B","Active",{"$f":"VLOOKUP(A1295,[1]Sheet1!$A$1:$C$65512,3,FALSE)","v":716},null,null,"No info","линк","https://bg.toolsworld.com/search/?query=","https://bg.toolsworld.com/search/?query=80103"]
[80104,"Habszivacs henger nyéllel, 250 mm, Á - 48 mm, Á - nyél - 6 mm// SIBRTEH Russian",916,"B","Active",{"$f":"VLOOKUP(A1296,[1]Sheet1!$A$1:$C$65512,3,FALSE)","v":246},null,null,"No info","линк","https://bg.toolsworld.com/search/?query=","https://bg.toolsworld.com/search/?query=80104"]
[80106,"Habszivacs betét, 100 mm, Á - 40 mm, äëÿ az alábbi elemhez:  80101// SIBRTEH Russian",90,"B","Active",{"$f":"VLOOKUP(A1297,[1]Sheet1!$A$1:$C$65512,3,FALSE)","v":{"$error":"#N/A"}},null,null,"No info","линк","https://bg.toolsworld.com/search/?query=","https://bg.toolsworld.com/search/?query=80106"]
[80107,"Habszivacs betét, 150 mm, Á - 40 mm, äëÿ az alábbi elemhez:  80102// SIBRTEH Russian",94,"B","Active",{"$f":"VLOOKUP(A1298,[1]Sheet1!$A$1:$C$65512,3,FALSE)","v":{"$error":"#N/A"}},null,null,"No info","линк","https://bg.toolsworld.com/search/?query=","https://bg.toolsworld.com/search/?query=80107"]
[80108,"Habszivacs betét, 200 mm, Á - 40 mm, äëÿ az alábbi elemhez:  80103// SIBRTEH Russian",141,"B","Active",{"$f":"VLOOKUP(A1299,[1]Sheet1!$A$1:$C$65512,3,FALSE)","v":90},null,null,"No info","линк","https://bg.toolsworld.com/search/?query=","https://bg.toolsworld.com/search/?query=80108"]
[80109,"Habszivacs betét, 250 mm, Á - 40 mm, äëÿ az alábbi elemhez:  80104// SIBRTEH Russian",143,"B","Active",{"$f":"VLOOKUP(A1300,[1]Sheet1!$A$1:$C$65512,3,FALSE)","v":{"$error":"#N/A"}},null,null,"No info","линк","https://bg.toolsworld.com/search/?query=","https://bg.toolsworld.com/search/?query=80109"]
[80123,"Henger, természetes, nyéllel, 200 mm, bolyhosság 12mm, Á - 48 MM, nyél Á - 6 mm// SIBRTEH Russian",692,"B","Active",{"$f":"VLOOKUP(A1301,[1]Sheet1!$A$1:$C$65512,3,FALSE)","v":413},null,null,"No info","линк","https://bg.toolsworld.com/search/?query=","https://bg.toolsworld.com/search/?query=80123"]
[80124,"Henger, természetes, nyéllel, 250 mm, bolyhosság 12mm, Á - 48 MM, nyél Á - 6 mm// SIBRTEH Russian",721,"B","Active",{"$f":"VLOOKUP(A1302,[1]Sheet1!$A$1:$C$65512,3,FALSE)","v":119},null,null,"No info","линк","https://bg.toolsworld.com/search/?query=","https://bg.toolsworld.com/search/?query=80124"]
[80440,"Hab festo neger készlet, 2 henger , 65 mm, D 42 mm, nyél D 6 mm//SIBRTEH",470,"B","Active",{"$f":"VLOOKUP(A1303,[1]Sheet1!$A$1:$C$65512,3,FALSE)","v":147},null,null,"No info","линк","https://bg.toolsworld.com/search/?query=","https://bg.toolsworld.com/search/?query=80440"]
[80752,"POLYACRIL festőhenger homlokzati munkákhoz, 250 mm, cölöp 18 mm, D 48 mm, fogantyú D 8 mm// Matrix",1389,"B","Active",{"$f":"VLOOKUP(A1304,[1]Sheet1!$A$1:$C$65512,3,FALSE)","v":{"$error":"#N/A"}},null,null,"No info","линк","https://bg.toolsworld.com/search/?query=","https://bg.toolsworld.com/search/?query=80752"]
[82076,"Körkefe №6 (30 mm), természetes sörtéjű, fa nyél// MTX",147,"B","Active",{"$f":"VLOOKUP(A1305,[1]Sheet1!$A$1:$C$65512,3,FALSE)","v":{"$error":"#N/A"}},null,null,"No info","линк","https://bg.toolsworld.com/search/?query=","https://bg.toolsworld.com/search/?query=82076"]
[84807,"Keverőlapát horganyzott acél, D60mm, L400mm, homok és kavics keverékekhez// Сибртех",1155,"B","Active",{"$f":"VLOOKUP(A1306,[1]Sheet1!$A$1:$C$65512,3,FALSE)","v":{"$error":"#N/A"}},null,null,"No info","линк","https://bg.toolsworld.com/search/?query=","https://bg.toolsworld.com/search/?query=84807"]
[84815,"Keverőlapát, horganyzott acél, D120mm, L570mm, homok és kavics keverékekhez// Сибртех",1440,"B","Active",{"$f":"VLOOKUP(A1307,[1]Sheet1!$A$1:$C$65512,3,FALSE)","v":{"$error":"#N/A"}},null,null,"No info","линк","https://bg.toolsworld.com/search/?query=","https://bg.toolsworld.com/search/?query=84815"]
[84876,"Horog armatúra szövéshez, 210 mm, fa nyél// Сибртех",1022,"B","Active",{"$f":"VLOOKUP(A1308,[1]Sheet1!$A$1:$C$65512,3,FALSE)","v":313},null,null,"No info","линк","https://bg.toolsworld.com/search/?query=","https://bg.toolsworld.com/search/?query=84876"]
[84879,"Horog armatúra kötéshez, 210 mm, muanyag fogantyú Sibertech",1022,"B","Active",{"$f":"VLOOKUP(A1309,[1]Sheet1!$A$1:$C$65512,3,FALSE)","v":1373},null,null,"No info","линк","https://bg.toolsworld.com/search/?query=","https://bg.toolsworld.com/search/?query=84879"]
[85430,"Kaparó muanyag nyéllel 40mm// SIBRTEH",187,"B","Active",{"$f":"VLOOKUP(A1310,[1]Sheet1!$A$1:$C$65512,3,FALSE)","v":{"$error":"#N/A"}},null,null,"No info","линк","https://bg.toolsworld.com/search/?query=","https://bg.toolsworld.com/search/?query=85430"]
[85435,"Kaparó muanyag nyéllel 100mm// SIBRTEH",385,"B","Active",{"$f":"VLOOKUP(A1311,[1]Sheet1!$A$1:$C$65512,3,FALSE)","v":{"$error":"#N/A"}},null,null,"No info","линк","https://bg.toolsworld.com/search/?query=","https://bg.toolsworld.com/search/?query=85435"]
[85436,"Kaparó muanyag nyéllel 150mm// SIBRTEH",379,"B","Active",{"$f":"VLOOKUP(A1312,[1]Sheet1!$A$1:$C$65512,3,FALSE)","v":{"$error":"#N/A"}},null,null,"No info","линк","https://bg.toolsworld.com/search/?query=","https://bg.toolsworld.com/search/?query=85436"]
[85439,"Kaparó muanyag nyéllel 250mm// SIBRTEH",617,"B","Active",{"$f":"VLOOKUP(A1313,[1]Sheet1!$A$1:$C$65512,3,FALSE)","v":{"$error":"#N/A"}},null,null,"No info","линк","https://bg.toolsworld.com/search/?query=","https://bg.toolsworld.com/search/?query=85439"]
[85446,"Kaparó muanyag nyéllel 350mm// SIBRTEH",0,"B","Active",{"$f":"VLOOKUP(A1314,[1]Sheet1!$A$1:$C$65512,3,FALSE)","v":{"$error":"#N/A"}},null,null,"No info","линк","https://bg.toolsworld.com/search/?query=","https://bg.toolsworld.com/search/?query=85446"]
[85453,"Kaparó 100mm (lekerekített fogazat 4x4mm) muanyag nyéllel// SIBRTEH",307,"B","Active",{"$f":"VLOOKUP(A1315,[1]Sheet1!$A$1:$C$65512,3,FALSE)","v":{"$error":"#N/A"}},null,null,"No info","линк","https://bg.toolsworld.com/search/?query=","https://bg.toolsworld.com/search/?query=85453"]
[85455,"Kaparó 150mm (lekerekített fogazat 4x4mm) muanyag nyéllel// SIBRTEH",346,"B","Active",{"$f":"VLOOKUP(A1316,[1]Sheet1!$A$1:$C$65512,3,FALSE)","v":{"$error":"#N/A"}},null,null,"No info","линк","https://bg.toolsworld.com/search/?query=","https://bg.toolsworld.com/search/?query=85455"]
[85456,"Kaparó 200mm (lekerekített fogazat 4x4mm) muanyag nyéllel// SIBRTEH",444,"B","Active",{"$f":"VLOOKUP(A1317,[1]Sheet1!$A$1:$C$65512,3,FALSE)","v":1011},null,null,"No info","линк","https://bg.toolsworld.com/search/?query=","https://bg.toolsworld.com/search/?query=85456"]
[85459,"Kaparó 150mm (lekerekített fogazat 6x6mm) muanyag nyéllel// SIBRTEH",356,"B","Active",{"$f":"VLOOKUP(A1318,[1]Sheet1!$A$1:$C$65512,3,FALSE)","v":537},null,null,"No info","линк","https://bg.toolsworld.com/search/?query=","https://bg.toolsworld.com/search/?query=85459"]
[85464,"Kaparó 200mm (lekerekített fogazat 6x6mm) muanyag nyéllel// SIBRTEH",444,"B","Active",{"$f":"VLOOKUP(A1319,[1]Sheet1!$A$1:$C$65512,3,FALSE)","v":755},null,null,"No info","линк","https://bg.toolsworld.com/search/?query=","https://bg.toolsworld.com/search/?query=85464"]
[85465,"Kaparó 250mm (lekerekített fogazat 6x6mm) muanyag nyéllel// SIBRTEH",556,"B","Active",{"$f":"VLOOKUP(A1320,[1]Sheet1!$A$1:$C$65512,3,FALSE)","v":98},null,null,"No info","линк","https://bg.toolsworld.com/search/?query=","https://bg.toolsworld.com/search/?query=85465"]
[85467,"Kaparó 300mm (lekerekített fogazat 6x6mm) muanyag nyéllel// SIBRTEH",692,"B","Active",{"$f":"VLOOKUP(A1321,[1]Sheet1!$A$1:$C$65512,3,FALSE)","v":1314},null,null,"No info","линк","https://bg.toolsworld.com/search/?query=","https://bg.toolsworld.com/search/?query=85467"]
[85468,"Kaparó 350mm (lekerekített fogazat 6x6mm) muanyag nyéllel// SIBRTEH",741,"B","Active",{"$f":"VLOOKUP(A1322,[1]Sheet1!$A$1:$C$65512,3,FALSE)","v":{"$error":"#N/A"}},null,null,"No info","линк","https://bg.toolsworld.com/search/?query=","https://bg.toolsworld.com/search/?query=85468"]
[85476,"Kaparó 300mm (lekerekített fogazat 8x8mm) muanyag nyéllel// SIBRTEH",611,"B","Active",{"$f":"VLOOKUP(A1323,[1]Sheet1!$A$1:$C$65512,3,FALSE)","v":563},null,null,"No info","линк","https://bg.toolsworld.com/search/?query=","https://bg.toolsworld.com/search/?query=85476"]
[85477,"Kaparó 350mm (lekerekített fogazat 8x8mm) muanyag nyéllel// SIBRTEH",0,"B","Active",{"$f":"VLOOKUP(A1324,[1]Sheet1!$A$1:$C$65512,3,FALSE)","v":{"$error":"#N/A"}},null,null,"No info","линк","https://bg.toolsworld.com/search/?query=","https://bg.toolsworld.com/search/?query=85477"]
[85479,"Kaparó 450mm (lekerekített fogazat 8x8mm) muanyag nyéllel// SIBRTEH",0,"B","Active",{"$f":"VLOOKUP(A1325,[1]Sheet1!$A$1:$C$65512,3,FALSE)","v":{"$error":"#N/A"}},null,null,"No info","линк","https://bg.toolsworld.com/search/?query=","https://bg.toolsworld.com/search/?query=85479"]
[86222,"Simító vakolókanál, fa nyél// Russia",1161,"B","Active",{"$f":"VLOOKUP(A1326,[1]Sheet1!$A$1:$C$65512,3,FALSE)","v":{"$error":"#N/A"}},null,null,"No info","линк","https://bg.toolsworld.com/search/?query=","https://bg.toolsworld.com/search/?query=86222"]
[86224,"Acél tégla simító, fa nyél// Russia",874,"B","Active",{"$f":"VLOOKUP(A1327,[1]Sheet1!$A$1:$C$65512,3,FALSE)","v":343},null,null,"No info","линк","https://bg.toolsworld.com/search/?query=","https://bg.toolsworld.com/search/?query=86224"]
[86225,"Acél merítokanál, 160 mm, fa nyél // SIBRTEH Russian",1723,"B","Active",{"$f":"VLOOKUP(A1328,[1]Sheet1!$A$1:$C$65512,3,FALSE)","v":33},null,null,"No info","линк","https://bg.toolsworld.com/search/?query=","https://bg.toolsworld.com/search/?query=86225"]
[86241,"Simító vakolókanál, megerosített fa nyél// Russia",1041,"B","Active",{"$f":"VLOOKUP(A1329,[1]Sheet1!$A$1:$C$65512,3,FALSE)","v":109},null,null,"No info","линк","https://bg.toolsworld.com/search/?query=","https://bg.toolsworld.com/search/?query=86241"]
[86341,"Simító vakolókanál, Muanyag  nyél// Russia",477,"B","Active",{"$f":"VLOOKUP(A1330,[1]Sheet1!$A$1:$C$65512,3,FALSE)","v":111},null,null,"No info","линк","https://bg.toolsworld.com/search/?query=","https://bg.toolsworld.com/search/?query=86341"]
[87531,"Gipszkarton és üveg fogantyú// Сибртех",1994,"B","Active",{"$f":"VLOOKUP(A1331,[1]Sheet1!$A$1:$C$65512,3,FALSE)","v":{"$error":"#N/A"}},null,null,"No info","линк","https://bg.toolsworld.com/search/?query=","https://bg.toolsworld.com/search/?query=87531"]
[87662,"Vagogorgo csempevagohoz, 15,0 x 6,0 x 1,5 mm",373,"B","Active",{"$f":"VLOOKUP(A1332,[1]Sheet1!$A$1:$C$65512,3,FALSE)","v":{"$error":"#N/A"}},null,null,"No info",{"$f":"HYPERLINK(L1332,\"линк\")","v":"линк"},"https://bg.toolsworld.com/search/?query=",{"$f":"CONCATENATE(K1332,A1332)","v":"https://bg.toolsworld.com/search/?query=87662"}]
[87952,"Vágó a fémprofilhoz (a kőzet alatt)// Sparta",5032,"B","Active",{"$f":"VLOOKUP(A1333,[1]Sheet1!$A$1:$C$65512,3,FALSE)","v":86},null,null,"No info","линк","https://bg.toolsworld.com/search/?query=","https://bg.toolsworld.com/search/?query=87952"]
[88200,"Lakat 3H2-26, 60 mm//PALISAD",755,"B","Active",{"$f":"VLOOKUP(A1334,[1]Sheet1!$A$1:$C$65512,3,FALSE)","v":69},null,null,"No info","линк","https://bg.toolsworld.com/search/?query=","https://bg.toolsworld.com/search/?query=88200"]
[88201,"Lakat 3H2-M1, 60 mm//PALISAD",922,"B","Active",{"$f":"VLOOKUP(A1335,[1]Sheet1!$A$1:$C$65512,3,FALSE)","v":33},null,null,"No info","линк","https://bg.toolsworld.com/search/?query=","https://bg.toolsworld.com/search/?query=88201"]
[88202,"Fúró gáz- és habbetonhoz, D 80 mm Sibrtekh",971,"B","Active",{"$f":"VLOOKUP(A1336,[1]Sheet1!$A$1:$C$65512,3,FALSE)","v":84},null,null,"No info","линк","https://bg.toolsworld.com/search/?query=","https://bg.toolsworld.com/search/?query=88202"]
[88641,"Replacement nozzles for sealant gun tubes, 3 pcs// Сиáртех",312,"B","Active",{"$f":"VLOOKUP(A1337,[1]Sheet1!$A$1:$C$65512,3,FALSE)","v":{"$error":"#N/A"}},null,null,"No info","линк","https://bg.toolsworld.com/search/?query=","https://bg.toolsworld.com/search/?query=88641"]
[88671,"Hab pisztoly, erosített aluminum test // SIBRTEH",3637,"B","Active",{"$f":"VLOOKUP(A1338,[1]Sheet1!$A$1:$C$65512,3,FALSE)","v":{"$error":"#N/A"}},null,null,"No info","линк","https://bg.toolsworld.com/search/?query=","https://bg.toolsworld.com/search/?query=88671"]
[88672,"Hab Pisztoly Muanyag Ház //SIBRTECH",1320,"B","Active",{"$f":"VLOOKUP(A1339,[1]Sheet1!$A$1:$C$65512,3,FALSE)","v":{"$error":"#N/A"}},null,null,"No info","линк","https://bg.toolsworld.com/search/?query=","https://bg.toolsworld.com/search/?query=88672"]
[88674,"Habpisztoly// Sparta",2808,"B","Active",{"$f":"VLOOKUP(A1340,[1]Sheet1!$A$1:$C$65512,3,FALSE)","v":{"$error":"#N/A"}},null,null,"No info","линк","https://bg.toolsworld.com/search/?query=","https://bg.toolsworld.com/search/?query=88674"]
[88676,"A pisztoly a standard habhoz, a Sibrtekh muanyag tok",2268,"B","Active",{"$f":"VLOOKUP(A1341,[1]Sheet1!$A$1:$C$65512,3,FALSE)","v":{"$error":"#N/A"}},null,null,"No info","линк","https://bg.toolsworld.com/search/?query=","https://bg.toolsworld.com/search/?query=88676"]
[88704,"Maszkolószalag, gazdaságos, 48 mm х 50 m, papír alap// Сибртех",766,"B","Active",{"$f":"VLOOKUP(A1342,[1]Sheet1!$A$1:$C$65512,3,FALSE)","v":{"$error":"#N/A"}},null,null,"No info","линк","https://bg.toolsworld.com/search/?query=","https://bg.toolsworld.com/search/?query=88704"]
[88890,"ragasztó szalag, 12 mm x 10 m Sibertech",128,"B","Active",{"$f":"VLOOKUP(A1343,[1]Sheet1!$A$1:$C$65512,3,FALSE)","v":522},null,null,"No info","линк","https://bg.toolsworld.com/search/?query=","https://bg.toolsworld.com/search/?query=88890"]
[88891,"ragasztó szalag, 19 mm x 10 m Sibertech",183,"B","Active",{"$f":"VLOOKUP(A1344,[1]Sheet1!$A$1:$C$65512,3,FALSE)","v":632},null,null,"No info","линк","https://bg.toolsworld.com/search/?query=","https://bg.toolsworld.com/search/?query=88891"]
[89608,"Alumínium lebegomérték \"Trapezia\", 1 megerosített bordázat, , L-1,5 mSIBRTEH Russian",2932,"B","Active",{"$f":"VLOOKUP(A1345,[1]Sheet1!$A$1:$C$65512,3,FALSE)","v":2},null,null,"No info","линк","https://bg.toolsworld.com/search/?query=","https://bg.toolsworld.com/search/?query=89608"]
[89609,"Alumínium lebegomérték \"Trapezia\", 1 megerosített bordázat, , L-1,5 mSIBRTEH Russian",3906,"B","Active",{"$f":"VLOOKUP(A1346,[1]Sheet1!$A$1:$C$65512,3,FALSE)","v":9},null,null,"No info","линк","https://bg.toolsworld.com/search/?query=","https://bg.toolsworld.com/search/?query=89609"]
[89611,"Alumínium lebegomérték \"Trapezia\", 1 megerosített bordázat, , L-1,5 mSIBRTEH Russian",4885,"B","Active",{"$f":"VLOOKUP(A1347,[1]Sheet1!$A$1:$C$65512,3,FALSE)","v":325},null,null,"No info","линк","https://bg.toolsworld.com/search/?query=","https://bg.toolsworld.com/search/?query=89611"]
[89612,"Alumínium lebegomérték \"Trapezia\", 1 megerosített bordázat, , L-1,5 mSIBRTEH Russian",5861,"B","Active",{"$f":"VLOOKUP(A1348,[1]Sheet1!$A$1:$C$65512,3,FALSE)","v":2},null,null,"No info","линк","https://bg.toolsworld.com/search/?query=","https://bg.toolsworld.com/search/?query=89612"]
[90270,"Szaszrámos hátizsák, 77 zseb, muanyag alj, hordozható szervezo, 360*205*470 mm// Gross",15719,"B","Active",{"$f":"VLOOKUP(A1349,[1]Sheet1!$A$1:$C$65512,3,FALSE)","v":{"$error":"#N/A"}},null,null,"No info","линк","https://bg.toolsworld.com/search/?query=","https://bg.toolsworld.com/search/?query=90270"]
[90271,"Meister szerszámtáska, 31 zsebbel, laptop rekesz, vállpánt,  400 x 170 x 300 mm//GROSS",10383,"B","Active",{"$f":"VLOOKUP(A1350,[1]Sheet1!$A$1:$C$65512,3,FALSE)","v":{"$error":"#N/A"}},null,null,"No info","линк","https://bg.toolsworld.com/search/?query=","https://bg.toolsworld.com/search/?query=90271"]
[90272,"Kézi szerszámtáska, 26 zsebbel, muanyag alj, vállszíj, 400 x 225 x 310 mm, //GROSS",7276,"B","Active",{"$f":"VLOOKUP(A1351,[1]Sheet1!$A$1:$C$65512,3,FALSE)","v":{"$error":"#N/A"}},null,null,"No info","линк","https://bg.toolsworld.com/search/?query=","https://bg.toolsworld.com/search/?query=90272"]
[90315,"Könnyu kombinált kesztyu, ujjatlan, M// Gross",2751,"B","Active",{"$f":"VLOOKUP(A1352,[1]Sheet1!$A$1:$C$65512,3,FALSE)","v":65},null,null,"No info","линк","https://bg.toolsworld.com/search/?query=","https://bg.toolsworld.com/search/?query=90315"]
[90317,"Könnyu kombinált kesztyu, ujjatlan, XL// Gross",2751,"B","Active",{"$f":"VLOOKUP(A1353,[1]Sheet1!$A$1:$C$65512,3,FALSE)","v":149},null,null,"No info","линк","https://bg.toolsworld.com/search/?query=","https://bg.toolsworld.com/search/?query=90317"]
[90321,"Általános célú kombinált kesztyu URBANE, L// GROSS",3716,"B","Active",{"$f":"VLOOKUP(A1354,[1]Sheet1!$A$1:$C$65512,3,FALSE)","v":" "},null,null,"No info","линк","https://bg.toolsworld.com/search/?query=","https://bg.toolsworld.com/search/?query=90321"]
[90322,"Általános célú kombinált kesztyu URBANE, XL// Gross",3716,"B","Active",{"$f":"VLOOKUP(A1355,[1]Sheet1!$A$1:$C$65512,3,FALSE)","v":" "},null,null,"No info","линк","https://bg.toolsworld.com/search/?query=","https://bg.toolsworld.com/search/?query=90322"]
[90323,"Általános célú kombinált kesztyu URBANE, XXL// Gross",3716,"B","Active",{"$f":"VLOOKUP(A1356,[1]Sheet1!$A$1:$C$65512,3,FALSE)","v":{"$error":"#N/A"}},null,null,"No info","линк","https://bg.toolsworld.com/search/?query=","https://bg.toolsworld.com/search/?query=90323"]
[90327,"Általános célú kombinált kesztyu STYLISH, L// Gross",3733,"B","Active",{"$f":"VLOOKUP(A1357,[1]Sheet1!$A$1:$C$65512,3,FALSE)","v":367},null,null,"No info","линк","https://bg.toolsworld.com/search/?query=","https://bg.toolsworld.com/search/?query=90327"]
[90328,"Általános célú kombinált kesztyu STYLISH, XL// Gross",3733,"B","Active",{"$f":"VLOOKUP(A1358,[1]Sheet1!$A$1:$C$65512,3,FALSE)","v":138},null,null,"No info","линк","https://bg.toolsworld.com/search/?query=","https://bg.toolsworld.com/search/?query=90328"]
[90329,"Általános célú kombinált kesztyu STYLISH, XXL// GROSS",3733,"B","Active",{"$f":"VLOOKUP(A1359,[1]Sheet1!$A$1:$C$65512,3,FALSE)","v":50},null,null,"No info","линк","https://bg.toolsworld.com/search/?query=","https://bg.toolsworld.com/search/?query=90329"]
[90333,"Általános célú kombinált kesztyu DELUXE, L// Gross",4238,"B","Active",{"$f":"VLOOKUP(A1360,[1]Sheet1!$A$1:$C$65512,3,FALSE)","v":205},null,null,"No info","линк","https://bg.toolsworld.com/search/?query=","https://bg.toolsworld.com/search/?query=90333"]
[90334,"Általános célú kombinált kesztyu DELUXE, XL// GROSS",4238,"B","Active",{"$f":"VLOOKUP(A1361,[1]Sheet1!$A$1:$C$65512,3,FALSE)","v":738},null,null,"No info","линк","https://bg.toolsworld.com/search/?query=","https://bg.toolsworld.com/search/?query=90334"]
[90335,"Általános célú kombinált kesztyu DELUXE, XXL// GROSS",4238,"B","Active",{"$f":"VLOOKUP(A1362,[1]Sheet1!$A$1:$C$65512,3,FALSE)","v":729},null,null,"No info","линк","https://bg.toolsworld.com/search/?query=","https://bg.toolsworld.com/search/?query=90335"]
[90342,"Dzseki M//Gross",11674,"B","Active",{"$f":"VLOOKUP(A1363,[1]Sheet1!$A$1:$C$65512,3,FALSE)","v":101},null,null,"No info","линк","https://bg.toolsworld.com/search/?query=","https://bg.toolsworld.com/search/?query=90342"]
[90343,"Dzseki L//Gross",11674,"B","Active",{"$f":"VLOOKUP(A1364,[1]Sheet1!$A$1:$C$65512,3,FALSE)","v":104},null,null,"No info","линк","https://bg.toolsworld.com/search/?query=","https://bg.toolsworld.com/search/?query=90343"]
[90344,"Jacket XL// Gross",11674,"B","Active",{"$f":"VLOOKUP(A1365,[1]Sheet1!$A$1:$C$65512,3,FALSE)","v":37},null,null,"No info","линк","https://bg.toolsworld.com/search/?query=","https://bg.toolsworld.com/search/?query=90344"]
[90345,"Dzseki XXL//Gross",11674,"B","Active",{"$f":"VLOOKUP(A1366,[1]Sheet1!$A$1:$C$65512,3,FALSE)","v":145},null,null,"No info","линк","https://bg.toolsworld.com/search/?query=","https://bg.toolsworld.com/search/?query=90345"]
[90346,"Dzseki XXXL// Gross",11674,"B","Active",{"$f":"VLOOKUP(A1367,[1]Sheet1!$A$1:$C$65512,3,FALSE)","v":65},null,null,"No info","линк","https://bg.toolsworld.com/search/?query=","https://bg.toolsworld.com/search/?query=90346"]
[90347,"Nadrág M//Gross",10642,"B","Active",{"$f":"VLOOKUP(A1368,[1]Sheet1!$A$1:$C$65512,3,FALSE)","v":{"$error":"#N/A"}},null,null,"No info","линк","https://bg.toolsworld.com/search/?query=","https://bg.toolsworld.com/search/?query=90347"]
[90348,"Nadrág L//Gross",11116,"B","Active",{"$f":"VLOOKUP(A1369,[1]Sheet1!$A$1:$C$65512,3,FALSE)","v":6},null,null,"No info","линк","https://bg.toolsworld.com/search/?query=","https://bg.toolsworld.com/search/?query=90348"]
[90350,"Nadrág XXL//Gross",10642,"B","Active",{"$f":"VLOOKUP(A1370,[1]Sheet1!$A$1:$C$65512,3,FALSE)","v":129},null,null,"No info","линк","https://bg.toolsworld.com/search/?query=","https://bg.toolsworld.com/search/?query=90350"]
[90351,"Nadrág XXXL// Gross",10642,"B","Active",{"$f":"VLOOKUP(A1371,[1]Sheet1!$A$1:$C$65512,3,FALSE)","v":17},null,null,"No info","линк","https://bg.toolsworld.com/search/?query=","https://bg.toolsworld.com/search/?query=90351"]
[90802,"Tálca fémárukhoz 375х225х160 mm, műanyag,RUSSIA// Stels",1120,"B","Active",{"$f":"VLOOKUP(A1372,[1]Sheet1!$A$1:$C$65512,3,FALSE)","v":{"$error":"#N/A"}},null,null,"No info","линк","https://bg.toolsworld.com/search/?query=","https://bg.toolsworld.com/search/?query=90802"]
[91603,"Lakat 3H2-10, 90 mm//SIBRTEH",4223,"B","Active",{"$f":"VLOOKUP(A1373,[1]Sheet1!$A$1:$C$65512,3,FALSE)","v":" "},null,null,"No info","линк","https://bg.toolsworld.com/search/?query=","https://bg.toolsworld.com/search/?query=91603"]
[91605,"Lakat ЗН2-3, 70 mm// Сибртех",1798,"B","Active",{"$f":"VLOOKUP(A1374,[1]Sheet1!$A$1:$C$65512,3,FALSE)","v":{"$error":"#N/A"}},null,null,"No info","линк","https://bg.toolsworld.com/search/?query=","https://bg.toolsworld.com/search/?query=91605"]
[91607,"Lakat ЗН2-3, 80 mm// Сибртех",1816,"B","Active",{"$f":"VLOOKUP(A1375,[1]Sheet1!$A$1:$C$65512,3,FALSE)","v":{"$error":"#N/A"}},null,null,"No info","линк","https://bg.toolsworld.com/search/?query=","https://bg.toolsworld.com/search/?query=91607"]
[91609,"Lakat ЗН2-3, 90 mm// Сибртех",2507,"B","Active",{"$f":"VLOOKUP(A1376,[1]Sheet1!$A$1:$C$65512,3,FALSE)","v":{"$error":"#N/A"}},null,null,"No info","линк","https://bg.toolsworld.com/search/?query=","https://bg.toolsworld.com/search/?query=91609"]
[91611,"Lakat 3H2-M1, 60 mm//SIBERTEH",1161,"B","Active",{"$f":"VLOOKUP(A1377,[1]Sheet1!$A$1:$C$65512,3,FALSE)","v":46},null,null,"No info","линк","https://bg.toolsworld.com/search/?query=","https://bg.toolsworld.com/search/?query=91611"]
[91612,"Lakat ЗН2-M1, 70 mm// Сибртех",1979,"B","Active",{"$f":"VLOOKUP(A1378,[1]Sheet1!$A$1:$C$65512,3,FALSE)","v":302},null,null,"No info","линк","https://bg.toolsworld.com/search/?query=","https://bg.toolsworld.com/search/?query=91612"]
[91613,"Lakat ЗН2-M1, 80 mm// Сибртех",2456,"B","Active",{"$f":"VLOOKUP(A1379,[1]Sheet1!$A$1:$C$65512,3,FALSE)","v":114},null,null,"No info","линк","https://bg.toolsworld.com/search/?query=","https://bg.toolsworld.com/search/?query=91613"]
[91616,"Lakat ЗН2-8, 60 mm// Сибртех",1804,"B","Active",{"$f":"VLOOKUP(A1380,[1]Sheet1!$A$1:$C$65512,3,FALSE)","v":{"$error":"#N/A"}},null,null,"No info","линк","https://bg.toolsworld.com/search/?query=","https://bg.toolsworld.com/search/?query=91616"]
[91619,"Lakat ЗН2-7, 80 mm// Сибртех",2222,"B","Active",{"$f":"VLOOKUP(A1381,[1]Sheet1!$A$1:$C$65512,3,FALSE)","v":90},null,null,"No info","линк","https://bg.toolsworld.com/search/?query=","https://bg.toolsworld.com/search/?query=91619"]
[91620,"Lakat ЗН2-9, 80 mm// Сибртех",2415,"B","Active",{"$f":"VLOOKUP(A1382,[1]Sheet1!$A$1:$C$65512,3,FALSE)","v":116},null,null,"No info","линк","https://bg.toolsworld.com/search/?query=","https://bg.toolsworld.com/search/?query=91620"]
[91621,"Lakat ЗН2-21, 80 mm// Сибртех",2904,"B","Active",{"$f":"VLOOKUP(A1383,[1]Sheet1!$A$1:$C$65512,3,FALSE)","v":43},null,null,"No info","линк","https://bg.toolsworld.com/search/?query=","https://bg.toolsworld.com/search/?query=91621"]
[91622,"Lakat ЗН2-4, 60 mm// Сибртех",1334,"B","Active",{"$f":"VLOOKUP(A1384,[1]Sheet1!$A$1:$C$65512,3,FALSE)","v":57},null,null,"No info","линк","https://bg.toolsworld.com/search/?query=","https://bg.toolsworld.com/search/?query=91622"]
[91623,"Lakat ЗН2-4-1, 60 mm// Сибртех",1397,"B","Active",{"$f":"VLOOKUP(A1385,[1]Sheet1!$A$1:$C$65512,3,FALSE)","v":{"$error":"#N/A"}},null,null,"No info","линк","https://bg.toolsworld.com/search/?query=","https://bg.toolsworld.com/search/?query=91623"]
[91626,"Lakat 3H2-26 M1, 60 mm//SIBERTEH",929,"B","Active",{"$f":"VLOOKUP(A1386,[1]Sheet1!$A$1:$C$65512,3,FALSE)","v":390},null,null,"No info","линк","https://bg.toolsworld.com/search/?query=","https://bg.toolsworld.com/search/?query=91626"]
[91628,"Lakat 3H2-26, 80 mm//SIBERTEH",1833,"B","Active",{"$f":"VLOOKUP(A1387,[1]Sheet1!$A$1:$C$65512,3,FALSE)","v":{"$error":"#N/A"}},null,null,"No info","линк","https://bg.toolsworld.com/search/?query=","https://bg.toolsworld.com/search/?query=91628"]
[91631,"Lakat ЗН2-1-01, 70mm// Сибртех",1515,"B","Active",{"$f":"VLOOKUP(A1388,[1]Sheet1!$A$1:$C$65512,3,FALSE)","v":{"$error":"#N/A"}},null,null,"No info","линк","https://bg.toolsworld.com/search/?query=","https://bg.toolsworld.com/search/?query=91631"]
[91636,"Lakat ЗН2-4-01-2, 60mm// Сибртех",1130,"B","Active",{"$f":"VLOOKUP(A1389,[1]Sheet1!$A$1:$C$65512,3,FALSE)","v":{"$error":"#N/A"}},null,null,"No info","линк","https://bg.toolsworld.com/search/?query=","https://bg.toolsworld.com/search/?query=91636"]
[91663,"Bevésőzár ЗВ8-4, kar// Сибртех",1890,"B","Active",{"$f":"VLOOKUP(A1390,[1]Sheet1!$A$1:$C$65512,3,FALSE)","v":{"$error":"#N/A"}},null,null,"No info","линк","https://bg.toolsworld.com/search/?query=","https://bg.toolsworld.com/search/?query=91663"]
[92320,"Perforated viscose cloth 300 x 380 mm, 5 pcs, Russia // Elfe",173,"B","Active",{"$f":"VLOOKUP(A1391,[1]Sheet1!$A$1:$C$65512,3,FALSE)","v":{"$error":"#N/A"}},null,null,"No info","линк","https://bg.toolsworld.com/search/?query=","https://bg.toolsworld.com/search/?query=92320"]
[92321,"Viszkóz törloruha 300*380 mm, 3db.//TM Elfe Russia",94,"B","Active",{"$f":"VLOOKUP(A1392,[1]Sheet1!$A$1:$C$65512,3,FALSE)","v":49},null,null,"No info","линк","https://bg.toolsworld.com/search/?query=","https://bg.toolsworld.com/search/?query=92321"]
[92322,"Viszkóz törloruha  180*150 mm, 3db.//TM Elfe Russia",305,"B","Active",{"$f":"VLOOKUP(A1393,[1]Sheet1!$A$1:$C$65512,3,FALSE)","v":{"$error":"#N/A"}},null,null,"No info","линк","https://bg.toolsworld.com/search/?query=","https://bg.toolsworld.com/search/?query=92322"]
[92324,"Viszkóz törloruha  300*380 mm, 5db.//TM Elfe Russia",169,"B","Active",{"$f":"VLOOKUP(A1394,[1]Sheet1!$A$1:$C$65512,3,FALSE)","v":131},null,null,"No info",{"$f":"HYPERLINK(L1394,\"линк\")","v":"линк"},"https://bg.toolsworld.com/search/?query=","https://bg.toolsworld.com/search/?query=92324"]
[92410,"WC pumpa 130mm// SIBERTEH",637,"B","Active",{"$f":"VLOOKUP(A1395,[1]Sheet1!$A$1:$C$65512,3,FALSE)","v":{"$error":"#N/A"}},null,null,"No info","линк","https://bg.toolsworld.com/search/?query=","https://bg.toolsworld.com/search/?query=92410"]
[92462,"Csotisztító görény  5mx6mm// SIBERTEH",1511,"B","Active",{"$f":"VLOOKUP(A1396,[1]Sheet1!$A$1:$C$65512,3,FALSE)","v":{"$error":"#N/A"}},null,null,"No info","линк","https://bg.toolsworld.com/search/?query=",{"$f":"CONCATENATE(K1396,A1396)","v":"https://bg.toolsworld.com/search/?query=92462"}]
[93301,"Kefe 140 * 72mm félig puha sörtéju, vasaló alakú // Elfe",646,"B","Active",{"$f":"VLOOKUP(A1397,[1]Sheet1!$A$1:$C$65512,3,FALSE)","v":{"$error":"#N/A"}},null,null,"No info","линк","https://bg.toolsworld.com/search/?query=","https://bg.toolsworld.com/search/?query=93301"]
[93302,"Kefe 140 * 72mm merev sörtéju, vasaló alakú // Elfe",652,"B","Active",{"$f":"VLOOKUP(A1398,[1]Sheet1!$A$1:$C$65512,3,FALSE)","v":" "},null,null,"No info","линк","https://bg.toolsworld.com/search/?query=","https://bg.toolsworld.com/search/?query=93302"]
[93502,"Mikroszálas kupak 295х78mm a felmosó 93501// Elfe",625,"B","Active",{"$f":"VLOOKUP(A1399,[1]Sheet1!$A$1:$C$65512,3,FALSE)","v":{"$error":"#N/A"}},null,null,"No info","линк","https://bg.toolsworld.com/search/?query=","https://bg.toolsworld.com/search/?query=93502"]
[93803,"Len-kender kötél, D 10 mm, L 10 m RUSSIA Sibrtekh",1965,"B","Active",{"$f":"VLOOKUP(A1400,[1]Sheet1!$A$1:$C$65512,3,FALSE)","v":{"$error":"#N/A"}},null,null,"No info","линк","https://bg.toolsworld.com/search/?query=","https://bg.toolsworld.com/search/?query=93803"]
[93819,"Háztartási zsinór, D 6 mm, L 25 m, poliészter RUSSIA Sibrtekh",218,"B","Active",{"$f":"VLOOKUP(A1401,[1]Sheet1!$A$1:$C$65512,3,FALSE)","v":{"$error":"#N/A"}},null,null,"No info","линк","https://bg.toolsworld.com/search/?query=","https://bg.toolsworld.com/search/?query=93819"]
[93820,"Háztartási zsinór, D 4 mm, L 25 m, poliészter RUSSIA Sibrtekh",191,"B","Active",{"$f":"VLOOKUP(A1402,[1]Sheet1!$A$1:$C$65512,3,FALSE)","v":17},null,null,"No info","линк","https://bg.toolsworld.com/search/?query=","https://bg.toolsworld.com/search/?query=93820"]
[93823,"Háztartási zsinór, D 5 mm, L 25 m, poliészter RUSSIA Sibrtekh",196,"B","Active",{"$f":"VLOOKUP(A1403,[1]Sheet1!$A$1:$C$65512,3,FALSE)","v":54},null,null,"No info","линк","https://bg.toolsworld.com/search/?query=","https://bg.toolsworld.com/search/?query=93823"]
[93877,"Len-kender zsineg, L 90 m,  1120 tex// SIBRTEH Russian",462,"B","Active",{"$f":"VLOOKUP(A1404,[1]Sheet1!$A$1:$C$65512,3,FALSE)","v":{"$error":"#N/A"}},null,null,"No info","линк","https://bg.toolsworld.com/search/?query=","https://bg.toolsworld.com/search/?query=93877"]
[93878,"Juta zsineg, 2,5 mm, hosszúság 690 m, 5 szál, Russia Sibrteh",0,"B","Active",{"$f":"VLOOKUP(A1405,[1]Sheet1!$A$1:$C$65512,3,FALSE)","v":{"$error":"#N/A"}},null,null,"No info","линк","https://bg.toolsworld.com/search/?query=","https://bg.toolsworld.com/search/?query=93878"]
[93879,"Huzal polipropilén, 100 m, 1600 tex// SIBRTEH Russian",621,"B","Active",{"$f":"VLOOKUP(A1406,[1]Sheet1!$A$1:$C$65512,3,FALSE)","v":610},null,null,"No info","линк","https://bg.toolsworld.com/search/?query=","https://bg.toolsworld.com/search/?query=93879"]
[93880,"Huzal polipropilén, 150 m, 800 tex// SIBRTEH Russian",470,"B","Active",{"$f":"VLOOKUP(A1407,[1]Sheet1!$A$1:$C$65512,3,FALSE)","v":{"$error":"#N/A"}},null,null,"No info","линк","https://bg.toolsworld.com/search/?query=","https://bg.toolsworld.com/search/?query=93880"]
[93881,"Huzal polipropilén, 130 m, 1000 tex// SIBRTEH Russian",403,"B","Active",{"$f":"VLOOKUP(A1408,[1]Sheet1!$A$1:$C$65512,3,FALSE)","v":{"$error":"#N/A"}},null,null,"No info","линк","https://bg.toolsworld.com/search/?query=","https://bg.toolsworld.com/search/?query=93881"]
[93882,"Juta madzag , L 60 m, 5 szál, 2800 tex, 30 kgf  // SIBRTEH Russia",586,"B","Active",{"$f":"VLOOKUP(A1409,[1]Sheet1!$A$1:$C$65512,3,FALSE)","v":{"$error":"#N/A"}},null,null,"No info","линк","https://bg.toolsworld.com/search/?query=","https://bg.toolsworld.com/search/?query=93882"]
[93884,"Polipropilén zsinór, 6 db X 60 m, kulönbözo színu, 1200 tex, 50 kg RUSSIA",1269,"B","Active",{"$f":"VLOOKUP(A1410,[1]Sheet1!$A$1:$C$65512,3,FALSE)","v":{"$error":"#N/A"}},null,null,"No info","линк","https://bg.toolsworld.com/search/?query=","https://bg.toolsworld.com/search/?query=93884"]
[93888,"Megerosített fém egérfogó, 2 db//SPARTA",505,"B","Active",{"$f":"VLOOKUP(A1411,[1]Sheet1!$A$1:$C$65512,3,FALSE)","v":73},null,null,"No info","линк","https://bg.toolsworld.com/search/?query=","https://bg.toolsworld.com/search/?query=93888"]
[93889,"Megerosített fém patkányfogó, 2 db// SPARTA",780,"B","Active",{"$f":"VLOOKUP(A1412,[1]Sheet1!$A$1:$C$65512,3,FALSE)","v":574},null,null,"No info","линк","https://bg.toolsworld.com/search/?query=","https://bg.toolsworld.com/search/?query=93889"]
[93910,"Takaróanyag 17/2,1 x 10, fehér // Russia",1073,"B","Active",{"$f":"VLOOKUP(A1413,[1]Sheet1!$A$1:$C$65512,3,FALSE)","v":20},null,null,"No info","линк","https://bg.toolsworld.com/search/?query=","https://bg.toolsworld.com/search/?query=93910"]
[93911,"Takaró fólia SUF17 3.2 x 10, fehér Russia",1521,"B","Active",{"$f":"VLOOKUP(A1414,[1]Sheet1!$A$1:$C$65512,3,FALSE)","v":27},null,null,"No info","линк","https://bg.toolsworld.com/search/?query=","https://bg.toolsworld.com/search/?query=93911"]
[93913,"Takaróanyag 30/3,2 x 10, fehér // Russia",2336,"B","Active",{"$f":"VLOOKUP(A1415,[1]Sheet1!$A$1:$C$65512,3,FALSE)","v":587},null,null,"No info","линк","https://bg.toolsworld.com/search/?query=","https://bg.toolsworld.com/search/?query=93913"]
[93915,"Takaró fóliaSUF42 3.2 x 10, fehér Russia",2580,"B","Active",{"$f":"VLOOKUP(A1416,[1]Sheet1!$A$1:$C$65512,3,FALSE)","v":177},null,null,"No info","линк","https://bg.toolsworld.com/search/?query=","https://bg.toolsworld.com/search/?query=93915"]
[93917,"Takaró anyag SUF60 2,1x10 m, black, Russia",2049,"B","Active",{"$f":"VLOOKUP(A1417,[1]Sheet1!$A$1:$C$65512,3,FALSE)","v":45},null,null,"No info","линк","https://bg.toolsworld.com/search/?query=","https://bg.toolsworld.com/search/?query=93917"]
[93919,"Takaró anyag SUF60 3,2x10 m, black, Russia",3855,"B","Active",{"$f":"VLOOKUP(A1418,[1]Sheet1!$A$1:$C$65512,3,FALSE)","v":183},null,null,"No info","линк","https://bg.toolsworld.com/search/?query=","https://bg.toolsworld.com/search/?query=93919"]
[93962,"Kötél PP tekert, 2 mm, L 50 m (tekercs), 38 kgF// SIBRTEH// Russia",185,"B","Active",{"$f":"VLOOKUP(A1419,[1]Sheet1!$A$1:$C$65512,3,FALSE)","v":{"$error":"#N/A"}},null,null,"No info","линк","https://bg.toolsworld.com/search/?query=","https://bg.toolsworld.com/search/?query=93962"]
[93964,"Kötél tekert, 2 mm, L 50 m (tekercs), 70 kgF// SIBRTEH// Russia",189,"B","Active",{"$f":"VLOOKUP(A1420,[1]Sheet1!$A$1:$C$65512,3,FALSE)","v":{"$error":"#N/A"}},null,null,"No info","линк","https://bg.toolsworld.com/search/?query=","https://bg.toolsworld.com/search/?query=93964"]
[93973,"Polipropilén kötözo, kék, 60 m, 1200 tex  // SIBRTEH Russia",269,"B","Active",{"$f":"VLOOKUP(A1421,[1]Sheet1!$A$1:$C$65512,3,FALSE)","v":{"$error":"#N/A"}},null,null,"No info","линк","https://bg.toolsworld.com/search/?query=","https://bg.toolsworld.com/search/?query=93973"]
[93974,"Polipropilén kötözo, sárga, 60 m, 1200 tex  // SIBRTEH Russia",269,"B","Active",{"$f":"VLOOKUP(A1422,[1]Sheet1!$A$1:$C$65512,3,FALSE)","v":{"$error":"#N/A"}},null,null,"No info","линк","https://bg.toolsworld.com/search/?query=","https://bg.toolsworld.com/search/?query=93974"]
[93975,"Polipropilén kötözo, piros, 60 m, 1200 tex  // SIBRTEH Russia",269,"B","Active",{"$f":"VLOOKUP(A1423,[1]Sheet1!$A$1:$C$65512,3,FALSE)","v":{"$error":"#N/A"}},null,null,"No info","линк","https://bg.toolsworld.com/search/?query=","https://bg.toolsworld.com/search/?query=93975"]
[93976,"Polipropilén kötözo, zöld, 60 m, 1200 tex  // SIBRTEH Russia",269,"B","Active",{"$f":"VLOOKUP(A1424,[1]Sheet1!$A$1:$C$65512,3,FALSE)","v":{"$error":"#N/A"}},null,null,"No info","линк","https://bg.toolsworld.com/search/?query=","https://bg.toolsworld.com/search/?query=93976"]
[93977,"Polipropilén kötözo, kék, 110 m, 1200 tex  // SIBRTEH Russia",466,"B","Active",{"$f":"VLOOKUP(A1425,[1]Sheet1!$A$1:$C$65512,3,FALSE)","v":{"$error":"#N/A"}},null,null,"No info","линк","https://bg.toolsworld.com/search/?query=","https://bg.toolsworld.com/search/?query=93977"]
[93978,"Polipropilén kötözo, sárga, 110 m, 1200 tex  // SIBRTEH Russia",466,"B","Active",{"$f":"VLOOKUP(A1426,[1]Sheet1!$A$1:$C$65512,3,FALSE)","v":{"$error":"#N/A"}},null,null,"No info","линк","https://bg.toolsworld.com/search/?query=","https://bg.toolsworld.com/search/?query=93978"]
[93979,"Polipropilén kötözo, piros, 110 m, 1200 tex  // SIBRTEH Russia",466,"B","Active",{"$f":"VLOOKUP(A1427,[1]Sheet1!$A$1:$C$65512,3,FALSE)","v":{"$error":"#N/A"}},null,null,"No info","линк","https://bg.toolsworld.com/search/?query=","https://bg.toolsworld.com/search/?query=93979"]
[93980,"Polipropilén kötözo, zöld, 110 m, 1200 tex  // SIBRTEH Russia",466,"B","Active",{"$f":"VLOOKUP(A1428,[1]Sheet1!$A$1:$C$65512,3,FALSE)","v":{"$error":"#N/A"}},null,null,"No info","линк","https://bg.toolsworld.com/search/?query=","https://bg.toolsworld.com/search/?query=93980"]
[93981,"Polipropilén kötözo, kék, 400 m, 1200 tex  // SIBRTEH Russia",1680,"B","Active",{"$f":"VLOOKUP(A1429,[1]Sheet1!$A$1:$C$65512,3,FALSE)","v":{"$error":"#N/A"}},null,null,"No info","линк","https://bg.toolsworld.com/search/?query=","https://bg.toolsworld.com/search/?query=93981"]
[93982,"Polipropilén kötözo, sárga, 400 m, 1200 tex  // SIBRTEH Russia",1535,"B","Active",{"$f":"VLOOKUP(A1430,[1]Sheet1!$A$1:$C$65512,3,FALSE)","v":{"$error":"#N/A"}},null,null,"No info","линк","https://bg.toolsworld.com/search/?query=","https://bg.toolsworld.com/search/?query=93982"]
[93983,"Polipropilén kötözo, piros, 400 m, 1200 tex  // SIBRTEH Russia",1487,"B","Active",{"$f":"VLOOKUP(A1431,[1]Sheet1!$A$1:$C$65512,3,FALSE)","v":{"$error":"#N/A"}},null,null,"No info","линк","https://bg.toolsworld.com/search/?query=","https://bg.toolsworld.com/search/?query=93983"]
[93984,"Polipropilén kötözo, zöld, 400 m, 1200 tex  // SIBRTEH Russia",1680,"B","Active",{"$f":"VLOOKUP(A1432,[1]Sheet1!$A$1:$C$65512,3,FALSE)","v":{"$error":"#N/A"}},null,null,"No info","линк","https://bg.toolsworld.com/search/?query=","https://bg.toolsworld.com/search/?query=93984"]
[95010,"Aluminium FOLIA 9 micron, 280 mm x 5 m Elfe Russia",0,"B","Active",{"$f":"VLOOKUP(A1433,[1]Sheet1!$A$1:$C$65512,3,FALSE)","v":{"$error":"#N/A"}},null,null,"No info","линк","https://bg.toolsworld.com/search/?query=","https://bg.toolsworld.com/search/?query=95010"]
[95421,"Betonkevero B-125, 550 W, 130 L // Denzel",127073,"B","Active",{"$f":"VLOOKUP(A1434,[1]Sheet1!$A$1:$C$65512,3,FALSE)","v":11},null,null,"No info","линк","https://bg.toolsworld.com/search/?query=","https://bg.toolsworld.com/search/?query=95421"]
[95423,"Betonkevero B-180, 700 W, 180 L // Denzel",151005,"B","Active",{"$f":"VLOOKUP(A1435,[1]Sheet1!$A$1:$C$65512,3,FALSE)","v":{"$error":"#N/A"}},null,null,"No info","линк","https://bg.toolsworld.com/search/?query=","https://bg.toolsworld.com/search/?query=95423"]
[95482,"Concrete mixer CM-140K, 140 L, power 550 W// MTX",110752,"B","Active",{"$f":"VLOOKUP(A1436,[1]Sheet1!$A$1:$C$65512,3,FALSE)","v":{"$error":"#N/A"}},null,null,"No info","линк","https://bg.toolsworld.com/search/?query=","https://bg.toolsworld.com/search/?query=95482"]
[95483,"BETONKEVERo СМ-160K, 160 L, TELJESÍTMÉNY 650 KW// МТХ",118219,"B","Active",{"$f":"VLOOKUP(A1437,[1]Sheet1!$A$1:$C$65512,3,FALSE)","v":{"$error":"#N/A"}},null,null,"No info","линк","https://bg.toolsworld.com/search/?query=","https://bg.toolsworld.com/search/?query=95483"]
[96151,"Fukasza damil lekerekített 1,3mm x 15m//  DENZEL// Russia",255,"B","Active",{"$f":"VLOOKUP(A1438,[1]Sheet1!$A$1:$C$65512,3,FALSE)","v":{"$error":"#N/A"}},null,null,"No info","линк","https://bg.toolsworld.com/search/?query=","https://bg.toolsworld.com/search/?query=96151"]
[96159,"Fukasza damil trigon, 1,3 mm x 15m // DENZEL//Russia",283,"B","Active",{"$f":"VLOOKUP(A1439,[1]Sheet1!$A$1:$C$65512,3,FALSE)","v":{"$error":"#N/A"}},null,null,"No info","линк","https://bg.toolsworld.com/search/?query=","https://bg.toolsworld.com/search/?query=96159"]
[96167,"Fukasza damil star 1,3mm x 15m//  DENZEL// RUSSIA",316,"B","Active",{"$f":"VLOOKUP(A1440,[1]Sheet1!$A$1:$C$65512,3,FALSE)","v":{"$error":"#N/A"}},null,null,"No info","линк","https://bg.toolsworld.com/search/?query=","https://bg.toolsworld.com/search/?query=96167"]
[96169,"Fukasza damil 1,6mmx15m// Denzel //Rossia",381,"B","Active",{"$f":"VLOOKUP(A1441,[1]Sheet1!$A$1:$C$65512,3,FALSE)","v":{"$error":"#N/A"}},null,null,"No info","линк","https://bg.toolsworld.com/search/?query=","https://bg.toolsworld.com/search/?query=96169"]
[96173,"Fukasza damil star 2,4mm x 15m//  DENZEL// RUSSIA",529,"B","Active",{"$f":"VLOOKUP(A1442,[1]Sheet1!$A$1:$C$65512,3,FALSE)","v":16},null,null,"No info","линк","https://bg.toolsworld.com/search/?query=","https://bg.toolsworld.com/search/?query=96173"]
[96180,"Fukasza damil , kerek  2,4mm х 15m, EXTRA CORD // DENZEL",644,"B","Active",{"$f":"VLOOKUP(A1443,[1]Sheet1!$A$1:$C$65512,3,FALSE)","v":{"$error":"#N/A"}},null,null,"No info","линк","https://bg.toolsworld.com/search/?query=","https://bg.toolsworld.com/search/?query=96180"]
[96224,"Benzines fukasza DT-43, 43 сс, 2,5 HP, one-piece shaft, consists of 2 parts// Denzel",44146,"B","Active",{"$f":"VLOOKUP(A1444,[1]Sheet1!$A$1:$C$65512,3,FALSE)","v":{"$error":"#N/A"}},null,null,"No info","линк","https://bg.toolsworld.com/search/?query=","https://bg.toolsworld.com/search/?query=96224"]
[96225,"Benzines fukasza DT-43S, 43 сс, 2,5 HP, kétrészes nyél,kétrészbol// Denzel",42049,"B","Active",{"$f":"VLOOKUP(A1445,[1]Sheet1!$A$1:$C$65512,3,FALSE)","v":{"$error":"#N/A"}},null,null,"No info","линк","https://bg.toolsworld.com/search/?query=","https://bg.toolsworld.com/search/?query=96225"]
[96227,"Benzines fukasza DT-52S, 52 сс, 3 HP, kétrészes nyél,kétrészbol// Denzel",42246,"B","Active",{"$f":"VLOOKUP(A1446,[1]Sheet1!$A$1:$C$65512,3,FALSE)","v":{"$error":"#N/A"}},null,null,"No info","линк","https://bg.toolsworld.com/search/?query=","https://bg.toolsworld.com/search/?query=96227"]
[96302,"DAMIL ORSÓ  fukaszához, M10 x1,25 anyás bal, Denzel, MTD, GREEN Line Denzelhez.",1128,"B","Active",{"$f":"VLOOKUP(A1447,[1]Sheet1!$A$1:$C$65512,3,FALSE)","v":" "},null,null,"No info","линк","https://bg.toolsworld.com/search/?query=","https://bg.toolsworld.com/search/?query=96302"]
[96314,"DAMIL ORSÓ FuKASZÁHOZ, M10 x 1,25 anyával, M8, M12, M8-M10 csavarral, bal menettel, magasság 1,25 mm Denzel",0,"B","Active",{"$f":"VLOOKUP(A1448,[1]Sheet1!$A$1:$C$65512,3,FALSE)","v":{"$error":"#N/A"}},null,null,"No info","линк","https://bg.toolsworld.com/search/?query=","https://bg.toolsworld.com/search/?query=96314"]
[96318,"Semi-automatic Fukasza spulni, easy line, nut M10x1,25, bolt M10-M10// Denzel",3482,"B","Active",{"$f":"VLOOKUP(A1449,[1]Sheet1!$A$1:$C$65512,3,FALSE)","v":{"$error":"#N/A"}},null,null,"No info","линк","https://bg.toolsworld.com/search/?query=","https://bg.toolsworld.com/search/?query=96318"]
[96322,"Félautomata DAMIL ORSÓ FuKASZÁHOZ, M10x1,25 anya, M10-M10 csavar, Denzel alumínium gomb",3727,"B","Active",{"$f":"VLOOKUP(A1450,[1]Sheet1!$A$1:$C$65512,3,FALSE)","v":" "},null,null,"No info","линк","https://bg.toolsworld.com/search/?query=","https://bg.toolsworld.com/search/?query=96322"]
[96341,"3T penge for fukasza 230х25,4// Kronwerk",1079,"B","Active",{"$f":"VLOOKUP(A1451,[1]Sheet1!$A$1:$C$65512,3,FALSE)","v":{"$error":"#N/A"}},null,null,"No info","линк","https://bg.toolsworld.com/search/?query=","https://bg.toolsworld.com/search/?query=96341"]
[96343,"40T penge for fukasza 230х25,4// Kronwerk",1586,"B","Active",{"$f":"VLOOKUP(A1452,[1]Sheet1!$A$1:$C$65512,3,FALSE)","v":{"$error":"#N/A"}},null,null,"No info","линк","https://bg.toolsworld.com/search/?query=","https://bg.toolsworld.com/search/?query=96343"]
[96354,"Fukasza spulni nut М10 left, М8 nut right&left, left adaptor М8, thread 1,25 mm// Kronwerk",3771,"B","Active",{"$f":"VLOOKUP(A1453,[1]Sheet1!$A$1:$C$65512,3,FALSE)","v":18},null,null,"No info","линк","https://bg.toolsworld.com/search/?query=","https://bg.toolsworld.com/search/?query=96354"]
[96355,"Fukasza spulni easy load, М10x1,25 mm, Al button// Kronwerk",3364,"B","Active",{"$f":"VLOOKUP(A1454,[1]Sheet1!$A$1:$C$65512,3,FALSE)","v":{"$error":"#N/A"}},null,null,"No info","линк","https://bg.toolsworld.com/search/?query=","https://bg.toolsworld.com/search/?query=96355"]
[96900,"Elektromos fahasító 1500W, hasítóero 5t., Max. átm. 250 mm // MTX",155385,"B","Active",{"$f":"VLOOKUP(A1455,[1]Sheet1!$A$1:$C$65512,3,FALSE)","v":262},null,null,"No info","линк","https://bg.toolsworld.com/search/?query=","https://bg.toolsworld.com/search/?query=96900"]
[97202,"Kerti felszíni szivattyú GP1000x 1000 W, 3500 l/h, magasság 44 m, rozsdamentes acél",37581,"B","Active",{"$f":"VLOOKUP(A1456,[1]Sheet1!$A$1:$C$65512,3,FALSE)","v":23},null,null,"No info","линк","https://bg.toolsworld.com/search/?query=","https://bg.toolsworld.com/search/?query=97202"]
[97283,"Szívókészlet RK 7 szivattyúhoz, 7 m, átm. 1\", visszacsapó szelep //Denzel",9628,"B","Active",{"$f":"VLOOKUP(A1457,[1]Sheet1!$A$1:$C$65512,3,FALSE)","v":206},null,null,"No info","линк","https://bg.toolsworld.com/search/?query=","https://bg.toolsworld.com/search/?query=97283"]
[102065,"Gépészkalapács fa nyéllel, 300 g, szögletes toll// Sparta",925,"B","Active",{"$f":"VLOOKUP(A1458,[1]Sheet1!$A$1:$C$65512,3,FALSE)","v":{"$error":"#N/A"}},null,null,"No info",{"$f":"HYPERLINK(L1458,\"линк\")","v":"линк"},"https://bg.toolsworld.com/search/?query=","https://bg.toolsworld.com/search/?query=102065"]
[102085,"Kalapács fa nyéllel, 400 g, lekerekített fej// SPARTA",1106,"B","Active",{"$f":"VLOOKUP(A1459,[1]Sheet1!$A$1:$C$65512,3,FALSE)","v":" "},null,null,"No info","линк","https://bg.toolsworld.com/search/?query=","https://bg.toolsworld.com/search/?query=102085"]
[102125,"Gépészkalapács fa nyéllel, 600 g, szögletes toll// Sparta",1470,"B","Active",{"$f":"VLOOKUP(A1460,[1]Sheet1!$A$1:$C$65512,3,FALSE)","v":{"$error":"#N/A"}},null,null,"No info","линк","https://bg.toolsworld.com/search/?query=",{"$f":"CONCATENATE(K1460,A1460)","v":"https://bg.toolsworld.com/search/?query=102125"}]
[102135,"Gépészkalapács fa nyéllel, 700 g, szögletes toll// Sparta",1664,"B","Active",{"$f":"VLOOKUP(A1461,[1]Sheet1!$A$1:$C$65512,3,FALSE)","v":{"$error":"#N/A"}},null,null,"No info","линк","https://bg.toolsworld.com/search/?query=","https://bg.toolsworld.com/search/?query=102135"]
[102185,"Gépészkalapács fa nyéllel, 1000 g, szögletes toll// Sparta",2197,"B","Active",{"$f":"VLOOKUP(A1462,[1]Sheet1!$A$1:$C$65512,3,FALSE)","v":{"$error":"#N/A"}},null,null,"No info","линк","https://bg.toolsworld.com/search/?query=","https://bg.toolsworld.com/search/?query=102185"]
[102269,"Kalapács 100 g fa nyél, lekerekített fej// MTX",694,"B","Active",{"$f":"VLOOKUP(A1463,[1]Sheet1!$A$1:$C$65512,3,FALSE)","v":429},null,null,"No info","линк","https://bg.toolsworld.com/search/?query=","https://bg.toolsworld.com/search/?query=102269"]
[102279,"Kalapács 200 g fa nyél, lekerekített fej// MTX",912,"B","Active",{"$f":"VLOOKUP(A1464,[1]Sheet1!$A$1:$C$65512,3,FALSE)","v":397},null,null,"No info","линк","https://bg.toolsworld.com/search/?query=","https://bg.toolsworld.com/search/?query=102279"]
[102289,"Kalapács 300 g fa nyél, lekerekített fej// MTX",1149,"B","Active",{"$f":"VLOOKUP(A1465,[1]Sheet1!$A$1:$C$65512,3,FALSE)","v":836},null,null,"No info","линк","https://bg.toolsworld.com/search/?query=","https://bg.toolsworld.com/search/?query=102289"]
[102309,"Kalapács 400 g fa nyél, lekerekített fej// MTX",1421,"B","Active",{"$f":"VLOOKUP(A1466,[1]Sheet1!$A$1:$C$65512,3,FALSE)","v":360},null,null,"No info","линк","https://bg.toolsworld.com/search/?query=","https://bg.toolsworld.com/search/?query=102309"]
[102329,"Kalapács 500 g fa nyél, lekerekített fej// MTX",1670,"B","Active",{"$f":"VLOOKUP(A1467,[1]Sheet1!$A$1:$C$65512,3,FALSE)","v":854},null,null,"No info","линк","https://bg.toolsworld.com/search/?query=","https://bg.toolsworld.com/search/?query=102329"]
[102339,"Kalapács 600 g fa nyél, lekerekített fej// MTX",1841,"B","Active",{"$f":"VLOOKUP(A1468,[1]Sheet1!$A$1:$C$65512,3,FALSE)","v":151},null,null,"No info","линк","https://bg.toolsworld.com/search/?query=","https://bg.toolsworld.com/search/?query=102339"]
[102359,"Kalapács 800 g fa nyél, lekerekített fej// MTX",2336,"B","Active",{"$f":"VLOOKUP(A1469,[1]Sheet1!$A$1:$C$65512,3,FALSE)","v":389},null,null,"No info","линк","https://bg.toolsworld.com/search/?query=","https://bg.toolsworld.com/search/?query=102359"]
[102369,"Kalapács 1000 g fa nyél, lekerekített fej// MTX",2863,"B","Active",{"$f":"VLOOKUP(A1470,[1]Sheet1!$A$1:$C$65512,3,FALSE)","v":546},null,null,"No info","линк","https://bg.toolsworld.com/search/?query=","https://bg.toolsworld.com/search/?query=102369"]
[102379,"Kalapács 1500 g fa nyél, lekerekített fej// MTX",3641,"B","Active",{"$f":"VLOOKUP(A1471,[1]Sheet1!$A$1:$C$65512,3,FALSE)","v":187},null,null,"No info","линк","https://bg.toolsworld.com/search/?query=","https://bg.toolsworld.com/search/?query=102379"]
[103159,"Kalapács 100 g uvegszálas nyél gumi borítással// MTX",843,"B","Active",{"$f":"VLOOKUP(A1472,[1]Sheet1!$A$1:$C$65512,3,FALSE)","v":198},null,null,"No info","линк","https://bg.toolsworld.com/search/?query=","https://bg.toolsworld.com/search/?query=103159"]
[103179,"Kalapács 200 g uvegszálas nyél gumi borítással// MTX",1018,"B","Active",{"$f":"VLOOKUP(A1473,[1]Sheet1!$A$1:$C$65512,3,FALSE)","v":363},null,null,"No info","линк","https://bg.toolsworld.com/search/?query=","https://bg.toolsworld.com/search/?query=103179"]
[103209,"Kalapács 300 g uvegszálas nyél gumi borítással// MTX",1320,"B","Active",{"$f":"VLOOKUP(A1474,[1]Sheet1!$A$1:$C$65512,3,FALSE)","v":499},null,null,"No info","линк","https://bg.toolsworld.com/search/?query=","https://bg.toolsworld.com/search/?query=103209"]
[103229,"Kalapács 400 g uvegszálas nyél gumi borítással// MTX",1501,"B","Active",{"$f":"VLOOKUP(A1475,[1]Sheet1!$A$1:$C$65512,3,FALSE)","v":236},null,null,"No info","линк","https://bg.toolsworld.com/search/?query=","https://bg.toolsworld.com/search/?query=103229"]
[103309,"Kalapács 500 g uvegszálas nyél gumi borítással// MTX",1737,"B","Active",{"$f":"VLOOKUP(A1476,[1]Sheet1!$A$1:$C$65512,3,FALSE)","v":706},null,null,"No info","линк","https://bg.toolsworld.com/search/?query=","https://bg.toolsworld.com/search/?query=103309"]
[103409,"Kalapács 600 g uvegszálas nyél gumi borítással// MTX",1916,"B","Active",{"$f":"VLOOKUP(A1477,[1]Sheet1!$A$1:$C$65512,3,FALSE)","v":173},null,null,"No info","линк","https://bg.toolsworld.com/search/?query=","https://bg.toolsworld.com/search/?query=103409"]
[103509,"Kalapács 800 g uvegszálas nyél gumi borítással// MTX",2332,"B","Active",{"$f":"VLOOKUP(A1478,[1]Sheet1!$A$1:$C$65512,3,FALSE)","v":241},null,null,"No info","линк","https://bg.toolsworld.com/search/?query=","https://bg.toolsworld.com/search/?query=103509"]
[103609,"Kalapács 1000 g uvegszálas nyél gumi borítással// MTX",2702,"B","Active",{"$f":"VLOOKUP(A1479,[1]Sheet1!$A$1:$C$65512,3,FALSE)","v":214},null,null,"No info","линк","https://bg.toolsworld.com/search/?query=","https://bg.toolsworld.com/search/?query=103609"]
[103639,"Kalapács 1500 g uvegszálas nyél gumi borítással// MTX",3670,"B","Active",{"$f":"VLOOKUP(A1480,[1]Sheet1!$A$1:$C$65512,3,FALSE)","v":140},null,null,"No info","линк","https://bg.toolsworld.com/search/?query=","https://bg.toolsworld.com/search/?query=103639"]
[103737,"Gépész kalapács, üvegszálas nyél gumi szárral, 300G// Sparta",1106,"B","Active",{"$f":"VLOOKUP(A1481,[1]Sheet1!$A$1:$C$65512,3,FALSE)","v":448},null,null,"No info","линк","https://bg.toolsworld.com/search/?query=","https://bg.toolsworld.com/search/?query=103737"]
[103747,"Gépész kalapács, üvegszálas nyél gumi szárral, 400G// Sparta",1350,"B","Active",{"$f":"VLOOKUP(A1482,[1]Sheet1!$A$1:$C$65512,3,FALSE)","v":392},null,null,"No info","линк","https://bg.toolsworld.com/search/?query=","https://bg.toolsworld.com/search/?query=103747"]
[103757,"Gépész kalapács, üvegszálas nyél gumi szárral, 500G// Sparta",1635,"B","Active",{"$f":"VLOOKUP(A1483,[1]Sheet1!$A$1:$C$65512,3,FALSE)","v":265},null,null,"No info","линк","https://bg.toolsworld.com/search/?query=","https://bg.toolsworld.com/search/?query=103757"]
[103767,"Gépész kalapács, üvegszálas nyél gumi szárral, 600G// Sparta",1831,"B","Active",{"$f":"VLOOKUP(A1484,[1]Sheet1!$A$1:$C$65512,3,FALSE)","v":168},null,null,"No info","линк","https://bg.toolsworld.com/search/?query=","https://bg.toolsworld.com/search/?query=103767"]
[103787,"Gépész kalapács, üvegszálas nyél gumi szárral, 800G// Sparta",2232,"B","Active",{"$f":"VLOOKUP(A1485,[1]Sheet1!$A$1:$C$65512,3,FALSE)","v":{"$error":"#N/A"}},null,null,"No info","линк","https://bg.toolsworld.com/search/?query=","https://bg.toolsworld.com/search/?query=103787"]
[103807,"Gépész kalapács, üvegszálas nyél gumi nyéllel, 1000G// Sparta",2596,"B","Active",{"$f":"VLOOKUP(A1486,[1]Sheet1!$A$1:$C$65512,3,FALSE)","v":156},null,null,"No info","линк","https://bg.toolsworld.com/search/?query=","https://bg.toolsworld.com/search/?query=103807"]
[104105,"Szeghúzó kalapács, 225 g, 22 mm fej fa nyéllel// SPARTA",996,"B","Active",{"$f":"VLOOKUP(A1487,[1]Sheet1!$A$1:$C$65512,3,FALSE)","v":{"$error":"#N/A"}},null,null,"No info","линк","https://bg.toolsworld.com/search/?query=","https://bg.toolsworld.com/search/?query=104105"]
[104205,"Szeghúzó kalapács, 450 g, 27 mm fej fa nyéllel// SPARTA",1548,"B","Active",{"$f":"VLOOKUP(A1488,[1]Sheet1!$A$1:$C$65512,3,FALSE)","v":{"$error":"#N/A"}},null,null,"No info","линк","https://bg.toolsworld.com/search/?query=","https://bg.toolsworld.com/search/?query=104205"]
[104439,"Szeghúzó mini kalapács,  mágnessel, uvegszálas kétkomponensu fogantyú, 250 g MTX",1482,"B","Active",{"$f":"VLOOKUP(A1489,[1]Sheet1!$A$1:$C$65512,3,FALSE)","v":" "},null,null,"No info","линк","https://bg.toolsworld.com/search/?query=","https://bg.toolsworld.com/search/?query=104439"]
[104469,"Szeghúzó kalapács, 450 g, fej 27 mm, mágneses, uvegszálas két komponensu nyél// MTX",2150,"B","Active",{"$f":"VLOOKUP(A1490,[1]Sheet1!$A$1:$C$65512,3,FALSE)","v":81},null,null,"No info","линк","https://bg.toolsworld.com/search/?query=","https://bg.toolsworld.com/search/?query=104469"]
[104509,"Szeghúzó kalapács, 450 g, fej 27 mm,  uvegszálas két komponensu nyél gumi borítással// MTX",1863,"B","Active",{"$f":"VLOOKUP(A1491,[1]Sheet1!$A$1:$C$65512,3,FALSE)","v":338},null,null,"No info","линк","https://bg.toolsworld.com/search/?query=","https://bg.toolsworld.com/search/?query=104509"]
[104609,"Szeghúzó kalapács,450 g, fém, két komponensu nyél// MTX",3525,"B","Active",{"$f":"VLOOKUP(A1492,[1]Sheet1!$A$1:$C$65512,3,FALSE)","v":74},null,null,"No info","линк","https://bg.toolsworld.com/search/?query=","https://bg.toolsworld.com/search/?query=104609"]
[104639,"Szeghúzó kalapács, 570 g, fém, két komponensu nyél// MTX",3908,"B","Active",{"$f":"VLOOKUP(A1493,[1]Sheet1!$A$1:$C$65512,3,FALSE)","v":111},null,null,"No info","линк","https://bg.toolsworld.com/search/?query=","https://bg.toolsworld.com/search/?query=104639"]
[106209,"Hosszúfeju kalapács",3983,"B","Active",{"$f":"VLOOKUP(A1494,[1]Sheet1!$A$1:$C$65512,3,FALSE)","v":45},null,null,"No info","линк","https://bg.toolsworld.com/search/?query=","https://bg.toolsworld.com/search/?query=106209"]
[106309,"Tégla kalapács, 600 g, fém, két komponensu nyél// MTX",4519,"B","Active",{"$f":"VLOOKUP(A1495,[1]Sheet1!$A$1:$C$65512,3,FALSE)","v":132},null,null,"No info","линк","https://bg.toolsworld.com/search/?query=","https://bg.toolsworld.com/search/?query=106309"]
[108305,"Kiegyenesíto kalapács, fej: 35mm, kombinált, fa nyél//SPARTA",1155,"B","Active",{"$f":"VLOOKUP(A1496,[1]Sheet1!$A$1:$C$65512,3,FALSE)","v":{"$error":"#N/A"}},null,null,"No info","линк","https://bg.toolsworld.com/search/?query=","https://bg.toolsworld.com/search/?query=108305"]
[109029,"Pörölykalapács fa nyéllel, 1000 g// MTX",2362,"B","Active",{"$f":"VLOOKUP(A1497,[1]Sheet1!$A$1:$C$65512,3,FALSE)","v":106},null,null,"No info","линк","https://bg.toolsworld.com/search/?query=","https://bg.toolsworld.com/search/?query=109029"]
[109039,"Pörölykalapács fa nyéllel, 1500 g// MTX",3248,"B","Active",{"$f":"VLOOKUP(A1498,[1]Sheet1!$A$1:$C$65512,3,FALSE)","v":74},null,null,"No info","линк","https://bg.toolsworld.com/search/?query=","https://bg.toolsworld.com/search/?query=109039"]
[109049,"Pörölykalapács fa nyéllel, 2000 g// MTX",3977,"B","Active",{"$f":"VLOOKUP(A1499,[1]Sheet1!$A$1:$C$65512,3,FALSE)","v":226},null,null,"No info","линк","https://bg.toolsworld.com/search/?query=","https://bg.toolsworld.com/search/?query=109049"]
[109137,"Pöröly kalapács, 1000 g, ejtőkovácsolt fej, fa kétszínű nyél// Sparta",2266,"B","Active",{"$f":"VLOOKUP(A1500,[1]Sheet1!$A$1:$C$65512,3,FALSE)","v":2104},null,null,"No info","линк","https://bg.toolsworld.com/search/?query=","https://bg.toolsworld.com/search/?query=109137"]
[109157,"Pöröly kalapács, 1500 g, ejtőkovácsolt fej, fa kétszínű nyél// Sparta",2881,"B","Active",{"$f":"VLOOKUP(A1501,[1]Sheet1!$A$1:$C$65512,3,FALSE)","v":789},null,null,"No info","линк","https://bg.toolsworld.com/search/?query=","https://bg.toolsworld.com/search/?query=109157"]
[109177,"Pöröly kalapács, 2000 g, ejtőkovácsolt fej, fa kétszínű nyél// Sparta",3580,"B","Active",{"$f":"VLOOKUP(A1502,[1]Sheet1!$A$1:$C$65512,3,FALSE)","v":148},null,null,"No info","линк","https://bg.toolsworld.com/search/?query=","https://bg.toolsworld.com/search/?query=109177"]
[109199,"Pörölykalapács uvegszálas nyéllel, 1000 g// MTX",2393,"B","Active",{"$f":"VLOOKUP(A1503,[1]Sheet1!$A$1:$C$65512,3,FALSE)","v":{"$error":"#N/A"}},null,null,"No info","линк","https://bg.toolsworld.com/search/?query=","https://bg.toolsworld.com/search/?query=109199"]
[109209,"Pörölykalapács uvegszálas nyéllel, 1500 g// MTX",3295,"B","Active",{"$f":"VLOOKUP(A1504,[1]Sheet1!$A$1:$C$65512,3,FALSE)","v":229},null,null,"No info","линк","https://bg.toolsworld.com/search/?query=","https://bg.toolsworld.com/search/?query=109209"]
[109219,"Pörölykalapács uvegszálas nyéllel, 2000 g// MTX",3790,"B","Active",{"$f":"VLOOKUP(A1505,[1]Sheet1!$A$1:$C$65512,3,FALSE)","v":199},null,null,"No info","линк","https://bg.toolsworld.com/search/?query=","https://bg.toolsworld.com/search/?query=109219"]
[109229,"Pörölykalapács uvegszálas nyéllel, 3000 g// MTX",7258,"B","Active",{"$f":"VLOOKUP(A1506,[1]Sheet1!$A$1:$C$65512,3,FALSE)","v":{"$error":"#N/A"}},null,null,"No info","линк","https://bg.toolsworld.com/search/?query=","https://bg.toolsworld.com/search/?query=109229"]
[109239,"Pörölykalapács uvegszálas nyéllel, 4000 g// MTX",8353,"B","Active",{"$f":"VLOOKUP(A1507,[1]Sheet1!$A$1:$C$65512,3,FALSE)","v":15},null,null,"No info","линк","https://bg.toolsworld.com/search/?query=","https://bg.toolsworld.com/search/?query=109239"]
[109249,"Pörölykalapács uvegszálas nyéllel, 5000 g// MTX",9895,"B","Active",{"$f":"VLOOKUP(A1508,[1]Sheet1!$A$1:$C$65512,3,FALSE)","v":" "},null,null,"No info","линк","https://bg.toolsworld.com/search/?query=","https://bg.toolsworld.com/search/?query=109249"]
[109869,"Pörölykalapács rázkódásmentes 675G,  gumi//MTX",1782,"B","Active",{"$f":"VLOOKUP(A1509,[1]Sheet1!$A$1:$C$65512,3,FALSE)","v":164},null,null,"No info","линк","https://bg.toolsworld.com/search/?query=","https://bg.toolsworld.com/search/?query=109869"]
[111305,"Gumikalapács fekete 225 g fa nyéllel//SPARTA",481,"B","Active",{"$f":"VLOOKUP(A1510,[1]Sheet1!$A$1:$C$65512,3,FALSE)","v":{"$error":"#N/A"}},null,null,"No info","линк","https://bg.toolsworld.com/search/?query=","https://bg.toolsworld.com/search/?query=111305"]
[111405,"Gumikalapács fekete 340 g fa nyéllel// SPARTA",568,"B","Active",{"$f":"VLOOKUP(A1511,[1]Sheet1!$A$1:$C$65512,3,FALSE)","v":1953},null,null,"No info","линк","https://bg.toolsworld.com/search/?query=","https://bg.toolsworld.com/search/?query=111405"]
[111505,"Gumikalapács fekete 450 g fa nyéllel// SPARTA",737,"B","Active",{"$f":"VLOOKUP(A1512,[1]Sheet1!$A$1:$C$65512,3,FALSE)","v":{"$error":"#N/A"}},null,null,"No info","линк","https://bg.toolsworld.com/search/?query=","https://bg.toolsworld.com/search/?query=111505"]
[111555,"Gumikalapács fekete 680 g fa nyéllel// SPARTA",982,"B","Active",{"$f":"VLOOKUP(A1513,[1]Sheet1!$A$1:$C$65512,3,FALSE)","v":{"$error":"#N/A"}},null,null,"No info","линк","https://bg.toolsworld.com/search/?query=","https://bg.toolsworld.com/search/?query=111555"]
[111605,"Gumikalapács fekete 910G fa nyéllel// SPARTA",1185,"B","Active",{"$f":"VLOOKUP(A1514,[1]Sheet1!$A$1:$C$65512,3,FALSE)","v":{"$error":"#N/A"}},null,null,"No info","линк","https://bg.toolsworld.com/search/?query=","https://bg.toolsworld.com/search/?query=111605"]
[111709,"Gumikalapács, 225 g, fekete és fehér gumi anyag, uvegszálas nyél// MTX",1309,"B","Active",{"$f":"VLOOKUP(A1515,[1]Sheet1!$A$1:$C$65512,3,FALSE)","v":979},null,null,"No info","линк","https://bg.toolsworld.com/search/?query=","https://bg.toolsworld.com/search/?query=111709"]
[111719,"Gumikalapács, 450 g, fekete és fehér gumi anyag, fiberglass  nyél// MTX",1808,"B","Active",{"$f":"VLOOKUP(A1516,[1]Sheet1!$A$1:$C$65512,3,FALSE)","v":72},null,null,"No info","линк","https://bg.toolsworld.com/search/?query=","https://bg.toolsworld.com/search/?query=111719"]
[111729,"Gumikalapács, 680 g, fekete és fehér gumi anyag, uvegszálas nyél// MTX",2409,"B","Active",{"$f":"VLOOKUP(A1517,[1]Sheet1!$A$1:$C$65512,3,FALSE)","v":110},null,null,"No info","линк","https://bg.toolsworld.com/search/?query=","https://bg.toolsworld.com/search/?query=111729"]
[111759,"Gumikalapács, 225 g,  fekete gumi anyag, uvegszálas nyél// MTX",1010,"B","Active",{"$f":"VLOOKUP(A1518,[1]Sheet1!$A$1:$C$65512,3,FALSE)","v":637},null,null,"No info","линк","https://bg.toolsworld.com/search/?query=","https://bg.toolsworld.com/search/?query=111759"]
[111859,"Gumikalapács, 450 g, fekete gumi anyag, uvegszálas nyél// MTX",1470,"B","Active",{"$f":"VLOOKUP(A1519,[1]Sheet1!$A$1:$C$65512,3,FALSE)","v":670},null,null,"No info","линк","https://bg.toolsworld.com/search/?query=","https://bg.toolsworld.com/search/?query=111859"]
[111939,"Gumikalapács, 680 g, fekete gumi anyag, uvegszálas nyél// MTX",1867,"B","Active",{"$f":"VLOOKUP(A1520,[1]Sheet1!$A$1:$C$65512,3,FALSE)","v":551},null,null,"No info","линк","https://bg.toolsworld.com/search/?query=","https://bg.toolsworld.com/search/?query=111939"]
[111959,"Gumikalapács, 225 g, fehér gumi anyag, fiberglass  nyél// MTX",1212,"B","Active",{"$f":"VLOOKUP(A1521,[1]Sheet1!$A$1:$C$65512,3,FALSE)","v":324},null,null,"No info","линк","https://bg.toolsworld.com/search/?query=","https://bg.toolsworld.com/search/?query=111959"]
[111969,"Gumikalapács, 450 g, fehér gumi anyag, fiberglass  nyél// MTX",2016,"B","Active",{"$f":"VLOOKUP(A1522,[1]Sheet1!$A$1:$C$65512,3,FALSE)","v":319},null,null,"No info",{"$f":"HYPERLINK(L1522,\"линк\")","v":"линк"},"https://bg.toolsworld.com/search/?query=","https://bg.toolsworld.com/search/?query=111969"]
[111979,"Gumikalapács, 680 g, fehér gumi anyag, fiberglass  nyél// MTX",2539,"B","Active",{"$f":"VLOOKUP(A1523,[1]Sheet1!$A$1:$C$65512,3,FALSE)","v":79},null,null,"No info","линк","https://bg.toolsworld.com/search/?query=","https://bg.toolsworld.com/search/?query=111979"]
[112059,"Imbuszkulcs, CrV, fekete foszfátozott 4 mm, sztenderd méret// MTX",55,"B","Active",{"$f":"VLOOKUP(A1524,[1]Sheet1!$A$1:$C$65512,3,FALSE)","v":1988},null,null,"No info","линк","https://bg.toolsworld.com/search/?query=",{"$f":"CONCATENATE(K1524,A1524)","v":"https://bg.toolsworld.com/search/?query=112059"}]
[112129,"Imbuszkulcs, CrV, fekete foszfátozott 6 mm, sztenderd méret// MTX",118,"B","Active",{"$f":"VLOOKUP(A1525,[1]Sheet1!$A$1:$C$65512,3,FALSE)","v":760},null,null,"No info","линк","https://bg.toolsworld.com/search/?query=","https://bg.toolsworld.com/search/?query=112129"]
[112149,"Imbuszkulcs, CrV, fekete foszfátozott 7 mm, sztenderd méret// MTX",147,"B","Active",{"$f":"VLOOKUP(A1526,[1]Sheet1!$A$1:$C$65512,3,FALSE)","v":2572},null,null,"No info","линк","https://bg.toolsworld.com/search/?query=","https://bg.toolsworld.com/search/?query=112149"]
[112169,"Imbuszkulcs, CrV, fekete foszfátozott 8 mm, sztenderd méret// MTX",187,"B","Active",{"$f":"VLOOKUP(A1527,[1]Sheet1!$A$1:$C$65512,3,FALSE)","v":1213},null,null,"No info","линк","https://bg.toolsworld.com/search/?query=","https://bg.toolsworld.com/search/?query=112169"]
[112229,"Imbuszkulcs szett, 2.0–12 mm,CrV, 9 db// MTX",1132,"B","Active",{"$f":"VLOOKUP(A1528,[1]Sheet1!$A$1:$C$65512,3,FALSE)","v":156},null,null,"No info","линк","https://bg.toolsworld.com/search/?query=","https://bg.toolsworld.com/search/?query=112229"]
[112259,"Imbuszkulcs, CrV, fekete foszfátozott 5 mm, sztenderd méret// MTX",77,"B","Active",{"$f":"VLOOKUP(A1529,[1]Sheet1!$A$1:$C$65512,3,FALSE)","v":1372},null,null,"No info","линк","https://bg.toolsworld.com/search/?query=","https://bg.toolsworld.com/search/?query=112259"]
[112269,"Imbuszkulcs szett, 1.5–10 mm,CrV, 9 db// MTX",749,"B","Active",{"$f":"VLOOKUP(A1530,[1]Sheet1!$A$1:$C$65512,3,FALSE)","v":360},null,null,"No info","линк","https://bg.toolsworld.com/search/?query=","https://bg.toolsworld.com/search/?query=112269"]
[112279,"Imbuszkulcs szett, 2.0–12 mm,CrV, 9 db, hosszított// MTX",1507,"B","Active",{"$f":"VLOOKUP(A1531,[1]Sheet1!$A$1:$C$65512,3,FALSE)","v":289},null,null,"No info","линк","https://bg.toolsworld.com/search/?query=","https://bg.toolsworld.com/search/?query=112279"]
[112309,"Imbusz kulcs HEX, 10 mm, CrV // MATRIX",316,"B","Active",{"$f":"VLOOKUP(A1532,[1]Sheet1!$A$1:$C$65512,3,FALSE)","v":111},null,null,"No info","линк","https://bg.toolsworld.com/search/?query=","https://bg.toolsworld.com/search/?query=112309"]
[112319,"Imbuszkulcs szett, 1.5–10 mm,CrV, 9 db, hosszított// MTX",1057,"B","Active",{"$f":"VLOOKUP(A1533,[1]Sheet1!$A$1:$C$65512,3,FALSE)","v":1594},null,null,"No info","линк","https://bg.toolsworld.com/search/?query=","https://bg.toolsworld.com/search/?query=112319"]
[112329,"IMBUSZKULCS KARBON ACÉL FEKETE FOSZFÁTOZOTT 12 mm, SZETNDERD HUSSZÚSÁG//MTX",493,"B","Active",{"$f":"VLOOKUP(A1534,[1]Sheet1!$A$1:$C$65512,3,FALSE)","v":217},null,null,"No info","линк","https://bg.toolsworld.com/search/?query=","https://bg.toolsworld.com/search/?query=112329"]
[112339,"Imbuszkulcs szett, 1.5–10 mm,CrV, 9 db, golyós típus, hosszított// MTX",1283,"B","Active",{"$f":"VLOOKUP(A1535,[1]Sheet1!$A$1:$C$65512,3,FALSE)","v":361},null,null,"No info","линк","https://bg.toolsworld.com/search/?query=","https://bg.toolsworld.com/search/?query=112339"]
[112665,"HEX kulcskészlet, 1,5-10mm, 10 db, oxidált, gyűrűvel// Sparta",393,"B","Active",{"$f":"VLOOKUP(A1536,[1]Sheet1!$A$1:$C$65512,3,FALSE)","v":{"$error":"#N/A"}},null,null,"No info","линк","https://bg.toolsworld.com/search/?query=","https://bg.toolsworld.com/search/?query=112665"]
[112667,"Imbuszkulcs szett, 1,5-10mm, CrV, 9 db:T10,15,20,25,27,30,40,45,50, oxidált, gyurun// SPARTA",552,"B","Active",{"$f":"VLOOKUP(A1537,[1]Sheet1!$A$1:$C$65512,3,FALSE)","v":{"$error":"#N/A"}},null,null,"No info","линк","https://bg.toolsworld.com/search/?query=","https://bg.toolsworld.com/search/?query=112667"]
[112685,"Imbuszkulcs szett, 1,5-10mm, CrV, 10 db, nikkel, gyurun// SPARTA",540,"B","Active",{"$f":"VLOOKUP(A1538,[1]Sheet1!$A$1:$C$65512,3,FALSE)","v":" "},null,null,"No info","линк","https://bg.toolsworld.com/search/?query=","https://bg.toolsworld.com/search/?query=112685"]
[113019,"Bit set, SL5,0 x 25 mm, steel 45X, 20pcs, in plastic case// MTX",419,"B","Active",{"$f":"VLOOKUP(A1539,[1]Sheet1!$A$1:$C$65512,3,FALSE)","v":{"$error":"#N/A"}},null,null,"No info","линк","https://bg.toolsworld.com/search/?query=","https://bg.toolsworld.com/search/?query=113019"]
[113129,"Fejkészlet \"SPLINE\", hatoldalú rúd 1/2\", CrV, 10 mm, 11 db, muanyag dobozban// MTX",2853,"B","Active",{"$f":"VLOOKUP(A1540,[1]Sheet1!$A$1:$C$65512,3,FALSE)","v":95},null,null,"No info","линк","https://bg.toolsworld.com/search/?query=","https://bg.toolsworld.com/search/?query=113129"]
[113139,"Fejkészlet \"HEX\", hatoldalú rúd 1/2\", CrV, 10 mm, 15 db, muanyag dobozban// MTX",3694,"B","Active",{"$f":"VLOOKUP(A1541,[1]Sheet1!$A$1:$C$65512,3,FALSE)","v":252},null,null,"No info","линк","https://bg.toolsworld.com/search/?query=","https://bg.toolsworld.com/search/?query=113139"]
[113159,"Fejkészlet \"TORX\", hatoldalú rúd, CrV, 10 mm, 15 db, muanyag dobozban// MTX",2991,"B","Active",{"$f":"VLOOKUP(A1542,[1]Sheet1!$A$1:$C$65512,3,FALSE)","v":{"$error":"#N/A"}},null,null,"No info","линк","https://bg.toolsworld.com/search/?query=","https://bg.toolsworld.com/search/?query=113159"]
[113169,"fejkészlet, bit adapter, acél S2, 18 db, muanyag dobozban// MTX",4089,"B","Active",{"$f":"VLOOKUP(A1543,[1]Sheet1!$A$1:$C$65512,3,FALSE)","v":48},null,null,"No info","линк","https://bg.toolsworld.com/search/?query=","https://bg.toolsworld.com/search/?query=113169"]
[113189,"Fejkészlet \"HEX\", \"TORX\", \"SPLINE\", hatoldalú rúd 1/2\", CrV, 42 db, muanyag dobozban// MTX",9274,"B","Active",{"$f":"VLOOKUP(A1544,[1]Sheet1!$A$1:$C$65512,3,FALSE)","v":170},null,null,"No info","линк","https://bg.toolsworld.com/search/?query=","https://bg.toolsworld.com/search/?query=113189"]
[113279,"Fejkészlet,  mágneses , 64 db doboz Muanyag // MTX",5820,"B","Active",{"$f":"VLOOKUP(A1545,[1]Sheet1!$A$1:$C$65512,3,FALSE)","v":86},null,null,"No info","линк","https://bg.toolsworld.com/search/?query=","https://bg.toolsworld.com/search/?query=113279"]
[113329,"Fordított csavarhúzó fejkészlettel, 1/4\", 16 db //MTX",2018,"B","Active",{"$f":"VLOOKUP(A1546,[1]Sheet1!$A$1:$C$65512,3,FALSE)","v":336},null,null,"No info","линк","https://bg.toolsworld.com/search/?query=","https://bg.toolsworld.com/search/?query=113329"]
[113379,"Csavarhúzó fejkészlettel, 14 db//MTX",1975,"B","Active",{"$f":"VLOOKUP(A1547,[1]Sheet1!$A$1:$C$65512,3,FALSE)","v":{"$error":"#N/A"}},null,null,"No info","линк","https://bg.toolsworld.com/search/?query=","https://bg.toolsworld.com/search/?query=113379"]
[113509,"Fejkészlet, PH1x25 mm, acél 45X, 20 db, muanyag dobozban// MTX",589,"B","Active",{"$f":"VLOOKUP(A1548,[1]Sheet1!$A$1:$C$65512,3,FALSE)","v":150},null,null,"No info","линк","https://bg.toolsworld.com/search/?query=","https://bg.toolsworld.com/search/?query=113509"]
[113529,"Fejkészlet, PH2x25 mm, acél 45X, 20 db, muanyag dobozban// MTX",589,"B","Active",{"$f":"VLOOKUP(A1549,[1]Sheet1!$A$1:$C$65512,3,FALSE)","v":{"$error":"#N/A"}},null,null,"No info","линк","https://bg.toolsworld.com/search/?query=","https://bg.toolsworld.com/search/?query=113529"]
[113809,"Fejkészlet, PH1x50 mm, acél 45X, 10 db, muanyag dobozban// MTX",589,"B","Active",{"$f":"VLOOKUP(A1550,[1]Sheet1!$A$1:$C$65512,3,FALSE)","v":577},null,null,"No info","линк","https://bg.toolsworld.com/search/?query=","https://bg.toolsworld.com/search/?query=113809"]
[113829,"Fejkészlet, PH2x50 mm, acél 45X, 10 db, muanyag dobozban// MTX",589,"B","Active",{"$f":"VLOOKUP(A1551,[1]Sheet1!$A$1:$C$65512,3,FALSE)","v":850},null,null,"No info","линк","https://bg.toolsworld.com/search/?query=","https://bg.toolsworld.com/search/?query=113829"]
[113839,"Multifunkciós fejkészlet, CrV, 18 db//MTX",1584,"B","Active",{"$f":"VLOOKUP(A1552,[1]Sheet1!$A$1:$C$65512,3,FALSE)","v":153},null,null,"No info","линк","https://bg.toolsworld.com/search/?query=","https://bg.toolsworld.com/search/?query=113839"]
[113869,"Fejkészlet, PZ1x50 mm, acél 45X, 10 db, muanyag dobozban// MTX",589,"B","Active",{"$f":"VLOOKUP(A1553,[1]Sheet1!$A$1:$C$65512,3,FALSE)","v":107},null,null,"No info","линк","https://bg.toolsworld.com/search/?query=","https://bg.toolsworld.com/search/?query=113869"]
[113879,"Fejkészlet mágneses tartóval, CrV, 61 elem// MTX",3199,"B","Active",{"$f":"VLOOKUP(A1554,[1]Sheet1!$A$1:$C$65512,3,FALSE)","v":357},null,null,"No info","линк","https://bg.toolsworld.com/search/?query=","https://bg.toolsworld.com/search/?query=113879"]
[113889,"Fejkészlet, PZ2x50 mm, acél 45X, 10 db, muanyag dobozban// MTX",589,"B","Active",{"$f":"VLOOKUP(A1555,[1]Sheet1!$A$1:$C$65512,3,FALSE)","v":718},null,null,"No info","линк","https://bg.toolsworld.com/search/?query=","https://bg.toolsworld.com/search/?query=113889"]
[113929,"Fejkészlet, mágneses adapterrel, acél 45X, 7 db, muanyag lezárt dobozban// MTX",574,"B","Active",{"$f":"VLOOKUP(A1556,[1]Sheet1!$A$1:$C$65512,3,FALSE)","v":328},null,null,"No info","линк","https://bg.toolsworld.com/search/?query=","https://bg.toolsworld.com/search/?query=113929"]
[113945,"Fejkészlet, mágneses adapterrel, acél 45X, 7 db, muanyag dobozban// SPARTA",458,"B","Active",{"$f":"VLOOKUP(A1557,[1]Sheet1!$A$1:$C$65512,3,FALSE)","v":918},null,null,"No info","линк","https://bg.toolsworld.com/search/?query=","https://bg.toolsworld.com/search/?query=113945"]
[113969,"Fejkészlet 65 mm, SL-SL, Ph-Ph, Pz-Pz, acél CrV, 10 db, dupla végu// MTX",756,"B","Active",{"$f":"VLOOKUP(A1558,[1]Sheet1!$A$1:$C$65512,3,FALSE)","v":2451},null,null,"No info","линк","https://bg.toolsworld.com/search/?query=","https://bg.toolsworld.com/search/?query=113969"]
[113989,"Hatoldalú fej adapter, 10 db// MTX",1379,"B","Active",{"$f":"VLOOKUP(A1559,[1]Sheet1!$A$1:$C$65512,3,FALSE)","v":564},null,null,"No info","линк","https://bg.toolsworld.com/search/?query=","https://bg.toolsworld.com/search/?query=113989"]
[114009,"Fúziós csavarhuzo, PZ 0 x 75 mm-es, CRV, csuszasmentes markolat 3 reszes // MTX",263,"B","Active",{"$f":"VLOOKUP(A1560,[1]Sheet1!$A$1:$C$65512,3,FALSE)","v":219},null,null,"No info","линк","https://bg.toolsworld.com/search/?query=","https://bg.toolsworld.com/search/?query=114009"]
[114019,"Fúziós csavarhuzo, PZ 1 x 75 mm-es, CRV, csuszasmentes markolat 3 reszes // MTX",365,"B","Active",{"$f":"VLOOKUP(A1561,[1]Sheet1!$A$1:$C$65512,3,FALSE)","v":932},null,null,"No info","линк","https://bg.toolsworld.com/search/?query=","https://bg.toolsworld.com/search/?query=114019"]
[114029,"Fúziós csavarhúzó, SL5,0 x 38 mm, CrV, három komponensu nyél \"csúszásmentes\"// MTX",299,"B","Active",{"$f":"VLOOKUP(A1562,[1]Sheet1!$A$1:$C$65512,3,FALSE)","v":357},null,null,"No info","линк","https://bg.toolsworld.com/search/?query=","https://bg.toolsworld.com/search/?query=114029"]
[114039,"Fúziós csavarhuzo, PZ 2 x 100 mm-es, CRV, csuszasmentes markolat 3 reszes // MTX",462,"B","Active",{"$f":"VLOOKUP(A1563,[1]Sheet1!$A$1:$C$65512,3,FALSE)","v":797},null,null,"No info","линк","https://bg.toolsworld.com/search/?query=","https://bg.toolsworld.com/search/?query=114039"]
[114049,"Fúziós csavarhúzó, SL6,0 x 38 mm, CrV, három komponensu nyél \"csúszásmentes\"// MTX",307,"B","Active",{"$f":"VLOOKUP(A1564,[1]Sheet1!$A$1:$C$65512,3,FALSE)","v":363},null,null,"No info","линк","https://bg.toolsworld.com/search/?query=","https://bg.toolsworld.com/search/?query=114049"]
[114059,"Fúziós csavarhuzo, PZ 3 x 150 mm-es, CRV, csuszasmentes markolat 3 reszes // MTX",698,"B","Active",{"$f":"VLOOKUP(A1565,[1]Sheet1!$A$1:$C$65512,3,FALSE)","v":199},null,null,"No info","линк","https://bg.toolsworld.com/search/?query=","https://bg.toolsworld.com/search/?query=114059"]
[114069,"Fúziós csavarhúzó, SL3,0 x 80 mm, CrV, három komponensu nyél \"csúszásmentes\"// MTX",255,"B","Active",{"$f":"VLOOKUP(A1566,[1]Sheet1!$A$1:$C$65512,3,FALSE)","v":597},null,null,"No info","линк","https://bg.toolsworld.com/search/?query=","https://bg.toolsworld.com/search/?query=114069"]
[114089,"Fúziós csavarhúzó, SL3,0 x 100 mm, CrV, három komponensu nyél \"csúszásmentes\"// MTX",279,"B","Active",{"$f":"VLOOKUP(A1567,[1]Sheet1!$A$1:$C$65512,3,FALSE)","v":531},null,null,"No info","линк","https://bg.toolsworld.com/search/?query=","https://bg.toolsworld.com/search/?query=114089"]
[114109,"Fúziós csavarhúzó, SL3,0 x 200 mm, CrV, három komponensu nyél \"csúszásmentes\"// MTX",332,"B","Active",{"$f":"VLOOKUP(A1568,[1]Sheet1!$A$1:$C$65512,3,FALSE)","v":292},null,null,"No info","линк","https://bg.toolsworld.com/search/?query=","https://bg.toolsworld.com/search/?query=114109"]
[114129,"Fúziós csavarhúzó, SL4,0 x 100 mm, CrV, három komponensu nyél \"csúszásmentes\"// MTX",289,"B","Active",{"$f":"VLOOKUP(A1569,[1]Sheet1!$A$1:$C$65512,3,FALSE)","v":1786},null,null,"No info","линк","https://bg.toolsworld.com/search/?query=","https://bg.toolsworld.com/search/?query=114129"]
[114149,"Fúziós csavarhúzó, SL4,0 x 150 mm, CrV, három komponensu nyél \"csúszásmentes\"// MTX",332,"B","Active",{"$f":"VLOOKUP(A1570,[1]Sheet1!$A$1:$C$65512,3,FALSE)","v":388},null,null,"No info","линк","https://bg.toolsworld.com/search/?query=","https://bg.toolsworld.com/search/?query=114149"]
[114169,"Fusion screwdriver, SL4,0 õ 200 mm, CrV, three-component handle \"anti slip\"// MTX",371,"B","Active",{"$f":"VLOOKUP(A1571,[1]Sheet1!$A$1:$C$65512,3,FALSE)","v":1019},null,null,"No info","линк","https://bg.toolsworld.com/search/?query=","https://bg.toolsworld.com/search/?query=114169"]
[114179,"Fúziós csavarhúzó, SL5,0 x 75 mm, CrV, három komponensu nyél \"csúszásmentes\"// MTX",346,"B","Active",{"$f":"VLOOKUP(A1572,[1]Sheet1!$A$1:$C$65512,3,FALSE)","v":455},null,null,"No info","линк","https://bg.toolsworld.com/search/?query=","https://bg.toolsworld.com/search/?query=114179"]
[114189,"Fúziós csavarhúzó, SL6,0 x 200 mm, CrV, három komponensu nyél \"csúszásmentes\"// MTX",521,"B","Active",{"$f":"VLOOKUP(A1573,[1]Sheet1!$A$1:$C$65512,3,FALSE)","v":376},null,null,"No info","линк","https://bg.toolsworld.com/search/?query=","https://bg.toolsworld.com/search/?query=114189"]
[114199,"Fúziós csavarhúzó, SL5,0 x 100 mm, CrV, három komponensu nyél \"csúszásmentes\"// MTX",358,"B","Active",{"$f":"VLOOKUP(A1574,[1]Sheet1!$A$1:$C$65512,3,FALSE)","v":893},null,null,"No info","линк","https://bg.toolsworld.com/search/?query=","https://bg.toolsworld.com/search/?query=114199"]
[114209,"Fúziós csavarhúzó, SL5,0 x 150 mm, CrV, három komponensu nyél \"csúszásmentes\"// MTX",379,"B","Active",{"$f":"VLOOKUP(A1575,[1]Sheet1!$A$1:$C$65512,3,FALSE)","v":271},null,null,"No info","линк","https://bg.toolsworld.com/search/?query=","https://bg.toolsworld.com/search/?query=114209"]
[114239,"Fúziós csavarhúzó, SL6,0 x 100 mm, CrV, három komponensu nyél \"csúszásmentes\"// MTX",462,"B","Active",{"$f":"VLOOKUP(A1576,[1]Sheet1!$A$1:$C$65512,3,FALSE)","v":1108},null,null,"No info","линк","https://bg.toolsworld.com/search/?query=","https://bg.toolsworld.com/search/?query=114239"]
[114249,"Fúziós csavarhúzó, SL6,0 x 150 mm, CrV, három komponensu nyél \"csúszásmentes\"// MTX",495,"B","Active",{"$f":"VLOOKUP(A1577,[1]Sheet1!$A$1:$C$65512,3,FALSE)","v":56},null,null,"No info","линк","https://bg.toolsworld.com/search/?query=","https://bg.toolsworld.com/search/?query=114249"]
[114259,"Fúziós csavarhúzó, SL8,0 x 150 mm, CrV, három komponensu nyél \"csúszásmentes\"// MTX",631,"B","Active",{"$f":"VLOOKUP(A1578,[1]Sheet1!$A$1:$C$65512,3,FALSE)","v":{"$error":"#N/A"}},null,null,"No info","линк","https://bg.toolsworld.com/search/?query=","https://bg.toolsworld.com/search/?query=114259"]
[114269,"Fúziós csavarhúzó, SL8,0 x 200 mm, CrV, három komponensu nyél \"csúszásmentes\"// MTX",698,"B","Active",{"$f":"VLOOKUP(A1579,[1]Sheet1!$A$1:$C$65512,3,FALSE)","v":54},null,null,"No info","линк","https://bg.toolsworld.com/search/?query=","https://bg.toolsworld.com/search/?query=114269"]
[114279,"Fúziós csavarhúzó, SL8,0  x 250 mm, CrV, három komponensu nyél \"csúszásmentes\"// MTX",760,"B","Active",{"$f":"VLOOKUP(A1580,[1]Sheet1!$A$1:$C$65512,3,FALSE)","v":120},null,null,"No info","линк","https://bg.toolsworld.com/search/?query=","https://bg.toolsworld.com/search/?query=114279"]
[114299,"Fúziós csavarhúzó, Ph1 x38 MM, CrV, három komponensu nyél \"csúszásmentes\"// MTX",299,"B","Active",{"$f":"VLOOKUP(A1581,[1]Sheet1!$A$1:$C$65512,3,FALSE)","v":225},null,null,"No info","линк","https://bg.toolsworld.com/search/?query=","https://bg.toolsworld.com/search/?query=114299"]
[114319,"Fúziós csavarhúzó, Ph2 x 38 MM, CrV, három komponensu nyél \"csúszásmentes\"// MTX",307,"B","Active",{"$f":"VLOOKUP(A1582,[1]Sheet1!$A$1:$C$65512,3,FALSE)","v":" "},null,null,"No info","линк","https://bg.toolsworld.com/search/?query=","https://bg.toolsworld.com/search/?query=114319"]
[114329,"Fúziós csavarhúzó, Ph0 x 80 MM, CrV, három komponensu nyél \"csúszásmentes\"// MTX",250,"B","Active",{"$f":"VLOOKUP(A1583,[1]Sheet1!$A$1:$C$65512,3,FALSE)","v":586},null,null,"No info","линк","https://bg.toolsworld.com/search/?query=","https://bg.toolsworld.com/search/?query=114329"]
[114359,"Fúziós csavarhúzó, Ph0 x 100 MM, CrV, három komponensu nyél \"csúszásmentes\"// MTX",275,"B","Active",{"$f":"VLOOKUP(A1584,[1]Sheet1!$A$1:$C$65512,3,FALSE)","v":1471},null,null,"No info","линк","https://bg.toolsworld.com/search/?query=","https://bg.toolsworld.com/search/?query=114359"]
[114369,"Fúziós csavarhúzó, Ph0 x 150 MM, CrV, három komponensu nyél \"csúszásmentes\"// MTX",299,"B","Active",{"$f":"VLOOKUP(A1585,[1]Sheet1!$A$1:$C$65512,3,FALSE)","v":674},null,null,"No info","линк","https://bg.toolsworld.com/search/?query=","https://bg.toolsworld.com/search/?query=114369"]
[114389,"Fúziós csavarhúzó, Ph1 x 100 MM, CrV, három komponensu nyél \"csúszásmentes\"// MTX",358,"B","Active",{"$f":"VLOOKUP(A1586,[1]Sheet1!$A$1:$C$65512,3,FALSE)","v":659},null,null,"No info",{"$f":"HYPERLINK(L1586,\"линк\")","v":"линк"},"https://bg.toolsworld.com/search/?query=","https://bg.toolsworld.com/search/?query=114389"]
[114399,"Fúziós csavarhúzó, Ph1 x 150 MM, CrV, három komponensu nyél \"csúszásmentes\"// MTX",379,"B","Active",{"$f":"VLOOKUP(A1587,[1]Sheet1!$A$1:$C$65512,3,FALSE)","v":687},null,null,"No info","линк","https://bg.toolsworld.com/search/?query=","https://bg.toolsworld.com/search/?query=114399"]
[114409,"Fúziós csavarhúzó, Ph1 x 75 MM, CrV, három komponensu nyél \"csúszásmentes\"// MTX",346,"B","Active",{"$f":"VLOOKUP(A1588,[1]Sheet1!$A$1:$C$65512,3,FALSE)","v":274},null,null,"No info","линк","https://bg.toolsworld.com/search/?query=",{"$f":"CONCATENATE(K1588,A1588)","v":"https://bg.toolsworld.com/search/?query=114409"}]
[114419,"Fúziós csavarhúzó, Ph2 x 100 MM, CrV, három komponensu nyél \"csúszásmentes\"// MTX",462,"B","Active",{"$f":"VLOOKUP(A1589,[1]Sheet1!$A$1:$C$65512,3,FALSE)","v":2548},null,null,"No info","линк","https://bg.toolsworld.com/search/?query=","https://bg.toolsworld.com/search/?query=114419"]
[114429,"Fúziós csavarhúzó, Ph2 x 200 MM, CrV, három komponensu nyél \"csúszásmentes\"// MTX",505,"B","Active",{"$f":"VLOOKUP(A1590,[1]Sheet1!$A$1:$C$65512,3,FALSE)","v":389},null,null,"No info","линк","https://bg.toolsworld.com/search/?query=","https://bg.toolsworld.com/search/?query=114429"]
[114439,"Fúziós csavarhúzó, Ph2 x 150 MM, CrV, három komponensu nyél \"csúszásmentes\"// MTX",495,"B","Active",{"$f":"VLOOKUP(A1591,[1]Sheet1!$A$1:$C$65512,3,FALSE)","v":850},null,null,"No info","линк","https://bg.toolsworld.com/search/?query=","https://bg.toolsworld.com/search/?query=114439"]
[114459,"Fúziós csavarhúzó, Ph3 x 150 MM CrV, három komponensu nyél \"csúszásmentes\"// MTX",635,"B","Active",{"$f":"VLOOKUP(A1592,[1]Sheet1!$A$1:$C$65512,3,FALSE)","v":386},null,null,"No info","линк","https://bg.toolsworld.com/search/?query=","https://bg.toolsworld.com/search/?query=114459"]
[114479,"Fúziós csavarhúzó, Ph3 x 200 MM, CrV, három komponensu nyél \"csúszásmentes\"// MTX",711,"B","Active",{"$f":"VLOOKUP(A1593,[1]Sheet1!$A$1:$C$65512,3,FALSE)","v":59},null,null,"No info","линк","https://bg.toolsworld.com/search/?query=","https://bg.toolsworld.com/search/?query=114479"]
[114499,"Fúziós csavarhúzó, Ph3 x 250 MM, CrV, három komponensu nyél \"csúszásmentes\"// MTX",760,"B","Active",{"$f":"VLOOKUP(A1594,[1]Sheet1!$A$1:$C$65512,3,FALSE)","v":143},null,null,"No info","линк","https://bg.toolsworld.com/search/?query=","https://bg.toolsworld.com/search/?query=114499"]
[114519,"Fúziós kombinált csavarhúzó,SL6,0/Ph2 mm, CrV, három komponensu nyél \"csúszásmentes\"// MTX",774,"B","Active",{"$f":"VLOOKUP(A1595,[1]Sheet1!$A$1:$C$65512,3,FALSE)","v":459},null,null,"No info","линк","https://bg.toolsworld.com/search/?query=","https://bg.toolsworld.com/search/?query=114519"]
[114529,"Fúziós csavarhuzo keszlet, fuggoleges alatamasztas 18 resz, CRV /// MTX",6858,"B","Active",{"$f":"VLOOKUP(A1596,[1]Sheet1!$A$1:$C$65512,3,FALSE)","v":43},null,null,"No info","линк","https://bg.toolsworld.com/search/?query=","https://bg.toolsworld.com/search/?query=114529"]
[114539,"Csavarhúzó fejkészlettel, 11 db, fúziós, három komponensu nyél \"csúszásmentes\"//MTX",1069,"B","Active",{"$f":"VLOOKUP(A1597,[1]Sheet1!$A$1:$C$65512,3,FALSE)","v":1013},null,null,"No info","линк","https://bg.toolsworld.com/search/?query=","https://bg.toolsworld.com/search/?query=114539"]
[115455,"Fordított csavarhúzó, fejkészlet,10 db, CrV// SPARTA",1120,"B","Active",{"$f":"VLOOKUP(A1598,[1]Sheet1!$A$1:$C$65512,3,FALSE)","v":269},null,null,"No info","линк","https://bg.toolsworld.com/search/?query=","https://bg.toolsworld.com/search/?query=115455"]
[115499,"Fordított csavarhúzó, hatoldalú aljzat, fejkészlet, CrV, 6 db// MTX",2505,"B","Active",{"$f":"VLOOKUP(A1599,[1]Sheet1!$A$1:$C$65512,3,FALSE)","v":23},null,null,"No info","линк","https://bg.toolsworld.com/search/?query=","https://bg.toolsworld.com/search/?query=115499"]
[115509,"Fordított csavarhúzó, pisztolyos, hatoldalú aljzat, fejkészlet, CrV, 6 db// MTX",2006,"B","Active",{"$f":"VLOOKUP(A1600,[1]Sheet1!$A$1:$C$65512,3,FALSE)","v":1691},null,null,"No info","линк","https://bg.toolsworld.com/search/?query=","https://bg.toolsworld.com/search/?query=115509"]
[115529,"Fordított csavarhúzó, teleszkópos, hatlapú csavarkulcshoz, bitkészlet, CrV, 15 db// MTX",3885,"B","Active",{"$f":"VLOOKUP(A1601,[1]Sheet1!$A$1:$C$65512,3,FALSE)","v":{"$error":"#N/A"}},null,null,"No info","линк","https://bg.toolsworld.com/search/?query=","https://bg.toolsworld.com/search/?query=115529"]
[115545,"Fordított csavarhúzó pánttal, fejekkel, 18 db// SPARTA",1313,"B","Active",{"$f":"VLOOKUP(A1602,[1]Sheet1!$A$1:$C$65512,3,FALSE)","v":159},null,null,"No info","линк","https://bg.toolsworld.com/search/?query=","https://bg.toolsworld.com/search/?query=115545"]
[115565,"Fordított csavarhúzó fejekkel, 14 db// SPARTA",1224,"B","Active",{"$f":"VLOOKUP(A1603,[1]Sheet1!$A$1:$C$65512,3,FALSE)","v":{"$error":"#N/A"}},null,null,"No info","линк","https://bg.toolsworld.com/search/?query=","https://bg.toolsworld.com/search/?query=115565"]
[115649,"Mágneses csuklópánt rögzítőkhöz// MTX",959,"B","Active",{"$f":"VLOOKUP(A1604,[1]Sheet1!$A$1:$C$65512,3,FALSE)","v":5},null,null,"No info","линк","https://bg.toolsworld.com/search/?query=","https://bg.toolsworld.com/search/?query=115649"]
[115655,"Csavarhúzó T-típusú nyéllel, fejkészlet, 11 db// SPARTA",491,"B","Active",{"$f":"VLOOKUP(A1605,[1]Sheet1!$A$1:$C$65512,3,FALSE)","v":{"$error":"#N/A"}},null,null,"No info","линк","https://bg.toolsworld.com/search/?query=","https://bg.toolsworld.com/search/?query=115655"]
[115669,"Torx bit d=6 mm L=45 mm//MTX",242,"B","Active",{"$f":"VLOOKUP(A1606,[1]Sheet1!$A$1:$C$65512,3,FALSE)","v":" "},null,null,"No info","линк","https://bg.toolsworld.com/search/?query=","https://bg.toolsworld.com/search/?query=115669"]
[115679,"Csavarhúzó T-típusú nyéllel ergonómikus fogás and fejkészlet, 11 db, CrV// MTX",812,"B","Active",{"$f":"VLOOKUP(A1607,[1]Sheet1!$A$1:$C$65512,3,FALSE)","v":495},null,null,"No info","линк","https://bg.toolsworld.com/search/?query=","https://bg.toolsworld.com/search/?query=115679"]
[115689,"Bit adapter 7 mm, 45 mm, 2 db. MTX",246,"B","Active",{"$f":"VLOOKUP(A1608,[1]Sheet1!$A$1:$C$65512,3,FALSE)","v":6},null,null,"No info","линк","https://bg.toolsworld.com/search/?query=","https://bg.toolsworld.com/search/?query=115689"]
[115699,"Fej megszorítóval  d=8mm  L=45mm// MTX",253,"B","Active",{"$f":"VLOOKUP(A1609,[1]Sheet1!$A$1:$C$65512,3,FALSE)","v":111},null,null,"No info","линк","https://bg.toolsworld.com/search/?query=","https://bg.toolsworld.com/search/?query=115699"]
[115719,"Bitfej dugokulcs kikepzessel d=10 L=45mm // MTX",283,"B","Active",{"$f":"VLOOKUP(A1610,[1]Sheet1!$A$1:$C$65512,3,FALSE)","v":1371},null,null,"No info","линк","https://bg.toolsworld.com/search/?query=","https://bg.toolsworld.com/search/?query=115719"]
[115729,"Csavarhúzó T-típusú nyéllel ergonómikus fogás és fejkészlet, 36 db, CrV, muanyag dobozban// MTX",1939,"B","Active",{"$f":"VLOOKUP(A1611,[1]Sheet1!$A$1:$C$65512,3,FALSE)","v":28},null,null,"No info","линк","https://bg.toolsworld.com/search/?query=","https://bg.toolsworld.com/search/?query=115729"]
[115739,"Csokulcs hegyek  d=8 mm L=65 mm, 2db// MATRIX",365,"B","Active",{"$f":"VLOOKUP(A1612,[1]Sheet1!$A$1:$C$65512,3,FALSE)","v":{"$error":"#N/A"}},null,null,"No info","линк","https://bg.toolsworld.com/search/?query=","https://bg.toolsworld.com/search/?query=115739"]
[115759,"Nyomófejes csavarhúzós, 1/2\", bit szett, 6 db, muanyag box, króm - nyél// MTX",2977,"B","Active",{"$f":"VLOOKUP(A1613,[1]Sheet1!$A$1:$C$65512,3,FALSE)","v":{"$error":"#N/A"}},null,null,"No info","линк","https://bg.toolsworld.com/search/?query=","https://bg.toolsworld.com/search/?query=115759"]
[115769,"Cso kulcs hegyek  d=10 mm L=65 mm, 2db// MATRIX",383,"B","Active",{"$f":"VLOOKUP(A1614,[1]Sheet1!$A$1:$C$65512,3,FALSE)","v":" "},null,null,"No info","линк","https://bg.toolsworld.com/search/?query=","https://bg.toolsworld.com/search/?query=115769"]
[115799,"Nyomófejes csavarhúzó 1/2\", fejkészlet, 6 db, gumírozott - nyél, muanyag dobozban// MTX",3000,"B","Active",{"$f":"VLOOKUP(A1615,[1]Sheet1!$A$1:$C$65512,3,FALSE)","v":269},null,null,"No info","линк","https://bg.toolsworld.com/search/?query=","https://bg.toolsworld.com/search/?query=115799"]
[115829,"Fúziós precíziós csavarhúzó fejekkel, 11 db muanyag dobozban, két komponensu nyél// MTX",1293,"B","Active",{"$f":"VLOOKUP(A1616,[1]Sheet1!$A$1:$C$65512,3,FALSE)","v":326},null,null,"No info","линк","https://bg.toolsworld.com/search/?query=","https://bg.toolsworld.com/search/?query=115829"]
[115849,"Fúziós precíziós csavarhúzó fejekkel, 22 db muanyag dobozban// MTX",1664,"B","Active",{"$f":"VLOOKUP(A1617,[1]Sheet1!$A$1:$C$65512,3,FALSE)","v":2378},null,null,"No info","линк","https://bg.toolsworld.com/search/?query=","https://bg.toolsworld.com/search/?query=115849"]
[115875,"Kombinált csavarhúzó SL6,0 / PH2// SPARTA",269,"B","Active",{"$f":"VLOOKUP(A1618,[1]Sheet1!$A$1:$C$65512,3,FALSE)","v":1059},null,null,"No info","линк","https://bg.toolsworld.com/search/?query=","https://bg.toolsworld.com/search/?query=115875"]
[115889,"Univerzalis csavarhuzo keszlet, 8 db, CRV // MTX",1770,"B","Active",{"$f":"VLOOKUP(A1619,[1]Sheet1!$A$1:$C$65512,3,FALSE)","v":370},null,null,"No info","линк","https://bg.toolsworld.com/search/?query=","https://bg.toolsworld.com/search/?query=115889"]
[115899,"A csavarhúzó készlet a precíz munkához mobiltelefonokhoz, 8 db, Crv // Matrix",1821,"B","Active",{"$f":"VLOOKUP(A1620,[1]Sheet1!$A$1:$C$65512,3,FALSE)","v":115},null,null,"No info","линк","https://bg.toolsworld.com/search/?query=","https://bg.toolsworld.com/search/?query=115899"]
[117589,"unuverzális lyukasztó, szögletes 6 x 100 mm// MATRIX",362,"B","Active",{"$f":"VLOOKUP(A1621,[1]Sheet1!$A$1:$C$65512,3,FALSE)","v":697},null,null,"No info","линк","https://bg.toolsworld.com/search/?query=","https://bg.toolsworld.com/search/?query=117589"]
[117599,"Egyszeru lyukaszto 6x100 mm// MTX",318,"B","Active",{"$f":"VLOOKUP(A1622,[1]Sheet1!$A$1:$C$65512,3,FALSE)","v":138},null,null,"No info","линк","https://bg.toolsworld.com/search/?query=","https://bg.toolsworld.com/search/?query=117599"]
[117609,"Egyszeru lyukaszto 4x75 mm// MTX",263,"B","Active",{"$f":"VLOOKUP(A1623,[1]Sheet1!$A$1:$C$65512,3,FALSE)","v":110},null,null,"No info","линк","https://bg.toolsworld.com/search/?query=","https://bg.toolsworld.com/search/?query=117609"]
[117619,"Horog készlet lakatos munkához, 4 db. MATRIX",1051,"B","Active",{"$f":"VLOOKUP(A1624,[1]Sheet1!$A$1:$C$65512,3,FALSE)","v":465},null,null,"No info","линк","https://bg.toolsworld.com/search/?query=","https://bg.toolsworld.com/search/?query=117619"]
[117889,"Fej megszorítóval d=12mm  L=45mm,2db//MTX",338,"B","Active",{"$f":"VLOOKUP(A1625,[1]Sheet1!$A$1:$C$65512,3,FALSE)","v":355},null,null,"No info","линк","https://bg.toolsworld.com/search/?query=","https://bg.toolsworld.com/search/?query=117889"]
[117899,"Fej megszorítóval d=13mm  L=45mm,2db//MTX",354,"B","Active",{"$f":"VLOOKUP(A1626,[1]Sheet1!$A$1:$C$65512,3,FALSE)","v":1069},null,null,"No info","линк","https://bg.toolsworld.com/search/?query=","https://bg.toolsworld.com/search/?query=117899"]
[117909,"Fej megszorítóval d=12mm  L=65mm,2db//MTX",403,"B","Active",{"$f":"VLOOKUP(A1627,[1]Sheet1!$A$1:$C$65512,3,FALSE)","v":17},null,null,"No info","линк","https://bg.toolsworld.com/search/?query=","https://bg.toolsworld.com/search/?query=117909"]
[117919,"Fej megszorítóval d=13mm  L=65mm,2db//MTX",505,"B","Active",{"$f":"VLOOKUP(A1628,[1]Sheet1!$A$1:$C$65512,3,FALSE)","v":{"$error":"#N/A"}},null,null,"No info","линк","https://bg.toolsworld.com/search/?query=","https://bg.toolsworld.com/search/?query=117919"]
[117929,"Mágneses adapter hexa bitekhez, 1db // MTX",269,"B","Active",{"$f":"VLOOKUP(A1629,[1]Sheet1!$A$1:$C$65512,3,FALSE)","v":823},null,null,"No info","линк","https://bg.toolsworld.com/search/?query=","https://bg.toolsworld.com/search/?query=117929"]
[119309,"Profi csavarhúzó, Ph0x75 mm, SVCM, két komponensu nyél// MTX",424,"B","Active",{"$f":"VLOOKUP(A1630,[1]Sheet1!$A$1:$C$65512,3,FALSE)","v":{"$error":"#N/A"}},null,null,"No info","линк","https://bg.toolsworld.com/search/?query=","https://bg.toolsworld.com/search/?query=119309"]
[119489,"Profi csavarhúzó, Pz0x75 mm, SVCM, két komponensu nyél// MTX",456,"B","Active",{"$f":"VLOOKUP(A1631,[1]Sheet1!$A$1:$C$65512,3,FALSE)","v":{"$error":"#N/A"}},null,null,"No info","линк","https://bg.toolsworld.com/search/?query=","https://bg.toolsworld.com/search/?query=119489"]
[119529,"Profi csavarhúzó, Pz3x150 mm, SVCM, kétkomponensű fogantyú// MTX",1132,"B","Active",{"$f":"VLOOKUP(A1632,[1]Sheet1!$A$1:$C$65512,3,FALSE)","v":{"$error":"#N/A"}},null,null,"No info","линк","https://bg.toolsworld.com/search/?query=","https://bg.toolsworld.com/search/?query=119529"]
[119539,"Profi csavarhúzó, Ph3x150 mm, SVCM, két komponensu nyél// MTX",1132,"B","Active",{"$f":"VLOOKUP(A1633,[1]Sheet1!$A$1:$C$65512,3,FALSE)","v":{"$error":"#N/A"}},null,null,"No info","линк","https://bg.toolsworld.com/search/?query=","https://bg.toolsworld.com/search/?query=119539"]
[119589,"Profi csavarhúzó, SL 4,0 x 75 mm, SVCM, két komponensu nyél// MTX",460,"B","Active",{"$f":"VLOOKUP(A1634,[1]Sheet1!$A$1:$C$65512,3,FALSE)","v":364},null,null,"No info","линк","https://bg.toolsworld.com/search/?query=","https://bg.toolsworld.com/search/?query=119589"]
[119749,"Profi csavarhúzó, SL 6,5 x 200 mm, SVCM, két komponensu nyél// MTX",914,"B","Active",{"$f":"VLOOKUP(A1635,[1]Sheet1!$A$1:$C$65512,3,FALSE)","v":263},null,null,"No info","линк","https://bg.toolsworld.com/search/?query=","https://bg.toolsworld.com/search/?query=119749"]
[119789,"Profi csavarhúzó, SL 8,0 x 150 mm, SVCM, két komponensu nyél// MTX",1144,"B","Active",{"$f":"VLOOKUP(A1636,[1]Sheet1!$A$1:$C$65512,3,FALSE)","v":30},null,null,"No info","линк","https://bg.toolsworld.com/search/?query=","https://bg.toolsworld.com/search/?query=119789"]
[119809,"Profi csavarhúzó, SL 8,0 x 175 mm, SVCM, két komponensu nyél// MTX",1197,"B","Active",{"$f":"VLOOKUP(A1637,[1]Sheet1!$A$1:$C$65512,3,FALSE)","v":197},null,null,"No info","линк","https://bg.toolsworld.com/search/?query=","https://bg.toolsworld.com/search/?query=119809"]
[120029,"Euro csavarhúzó, SL3.0 x 100 mm,CrV, három komponensu nyél// MTX MASTER",489,"B","Active",{"$f":"VLOOKUP(A1638,[1]Sheet1!$A$1:$C$65512,3,FALSE)","v":{"$error":"#N/A"}},null,null,"No info","линк","https://bg.toolsworld.com/search/?query=","https://bg.toolsworld.com/search/?query=120029"]
[120079,"Euro csavarhúzó, SL5.0 x 150 mm,CrV, három komponensu nyél// MTX MASTER",741,"B","Active",{"$f":"VLOOKUP(A1639,[1]Sheet1!$A$1:$C$65512,3,FALSE)","v":42},null,null,"No info","линк","https://bg.toolsworld.com/search/?query=","https://bg.toolsworld.com/search/?query=120079"]
[120249,"Euro csavarhúzó, PH0 x 100 mm,CrV, három komponensu nyél// MTX MASTER",489,"B","Active",{"$f":"VLOOKUP(A1640,[1]Sheet1!$A$1:$C$65512,3,FALSE)","v":{"$error":"#N/A"}},null,null,"No info","линк","https://bg.toolsworld.com/search/?query=","https://bg.toolsworld.com/search/?query=120249"]
[120279,"Euro csavarhúzó, Ph1 x 150 mm,CrV, három komponensu nyél// MTX MASTER",741,"B","Active",{"$f":"VLOOKUP(A1641,[1]Sheet1!$A$1:$C$65512,3,FALSE)","v":10},null,null,"No info","линк","https://bg.toolsworld.com/search/?query=","https://bg.toolsworld.com/search/?query=120279"]
[123019,"HEX kulcskészlet, 2-12 mm, CrV, 9 db, rövid, szatén// MTX",1275,"B","Active",{"$f":"VLOOKUP(A1642,[1]Sheet1!$A$1:$C$65512,3,FALSE)","v":{"$error":"#N/A"}},null,null,"No info","линк","https://bg.toolsworld.com/search/?query=","https://bg.toolsworld.com/search/?query=123019"]
[123059,"Torx fényes rövid T10-T50,  CrV  /  9db// MTX",977,"B","Active",{"$f":"VLOOKUP(A1643,[1]Sheet1!$A$1:$C$65512,3,FALSE)","v":112},null,null,"No info","линк","https://bg.toolsworld.com/search/?query=","https://bg.toolsworld.com/search/?query=123059"]
[123069,"Torx fényes hosszú T10-T50,  CrV / 9db// MTX",1134,"B","Active",{"$f":"VLOOKUP(A1644,[1]Sheet1!$A$1:$C$65512,3,FALSE)","v":806},null,null,"No info","линк","https://bg.toolsworld.com/search/?query=","https://bg.toolsworld.com/search/?query=123069"]
[123079,"Torx fényes extra-hosszú T10-T50,  CrV / 9db// MTX",1342,"B","Active",{"$f":"VLOOKUP(A1645,[1]Sheet1!$A$1:$C$65512,3,FALSE)","v":2},null,null,"No info","линк","https://bg.toolsworld.com/search/?query=","https://bg.toolsworld.com/search/?query=123079"]
[123119,"HEX kulcskészlet, 1,5-12 mm, CrV, 10 db., hosszú, golyósvéggel, szatén, tasak// MTX",2232,"B","Active",{"$f":"VLOOKUP(A1646,[1]Sheet1!$A$1:$C$65512,3,FALSE)","v":{"$error":"#N/A"}},null,null,"No info","линк","https://bg.toolsworld.com/search/?query=","https://bg.toolsworld.com/search/?query=123119"]
[123129,"Rövidkulcs szett, 9 db T10,15,20,25,27,30,40,45,50,  CrV// MTX",1633,"B","Active",{"$f":"VLOOKUP(A1647,[1]Sheet1!$A$1:$C$65512,3,FALSE)","v":112},null,null,"No info","линк","https://bg.toolsworld.com/search/?query=","https://bg.toolsworld.com/search/?query=123129"]
[123139,"TORX  hosszúkulcs szett,  T10,15,20,25,27,30,40,45,50,  CrV 9 db// MTX",2523,"B","Active",{"$f":"VLOOKUP(A1648,[1]Sheet1!$A$1:$C$65512,3,FALSE)","v":" "},null,null,"No info","линк","https://bg.toolsworld.com/search/?query=","https://bg.toolsworld.com/search/?query=123139"]
[129149,"Szigetelt csavarhúzó, SL3.0x80 mm, max. 1000 V-ig, két komponensu nyél//MTX PROFESSIONAL",735,"B","Active",{"$f":"VLOOKUP(A1649,[1]Sheet1!$A$1:$C$65512,3,FALSE)","v":5914},null,null,"No info","линк","https://bg.toolsworld.com/search/?query=","https://bg.toolsworld.com/search/?query=129149"]
[129169,"Szigetelt csavarhúzó, SL4.0x100 mm, max. 1000 V-ig, két komponensu nyél//MTX PROFESSIONAL",910,"B","Active",{"$f":"VLOOKUP(A1650,[1]Sheet1!$A$1:$C$65512,3,FALSE)","v":719},null,null,"No info",{"$f":"HYPERLINK(L1650,\"линк\")","v":"линк"},"https://bg.toolsworld.com/search/?query=","https://bg.toolsworld.com/search/?query=129169"]
[129189,"Szigetelt csavarhúzó, SL5.5x125 mm, max. 1000 V-ig, két komponensu nyél//MTX PROFESSIONAL",986,"B","Active",{"$f":"VLOOKUP(A1651,[1]Sheet1!$A$1:$C$65512,3,FALSE)","v":1100},null,null,"No info","линк","https://bg.toolsworld.com/search/?query=","https://bg.toolsworld.com/search/?query=129189"]
[129209,"Szigetelt csavarhúzó, SL6.5x150 mm, max. 1000 V-ig, két komponensu nyél//MTX PROFESSIONAL",1049,"B","Active",{"$f":"VLOOKUP(A1652,[1]Sheet1!$A$1:$C$65512,3,FALSE)","v":336},null,null,"No info","линк","https://bg.toolsworld.com/search/?query=",{"$f":"CONCATENATE(K1652,A1652)","v":"https://bg.toolsworld.com/search/?query=129209"}]
[129249,"Szigetelt csavarhúzó, PH0x75 mm, max. 1000 V-ig, két komponensu nyél//MTX PROFESSIONAL",735,"B","Active",{"$f":"VLOOKUP(A1653,[1]Sheet1!$A$1:$C$65512,3,FALSE)","v":527},null,null,"No info","линк","https://bg.toolsworld.com/search/?query=","https://bg.toolsworld.com/search/?query=129249"]
[129269,"Szigetelt csavarhúzó, PH1x75 mm, max. 1000 V-ig, két komponensu nyél//MTX PROFESSIONAL",829,"B","Active",{"$f":"VLOOKUP(A1654,[1]Sheet1!$A$1:$C$65512,3,FALSE)","v":3267},null,null,"No info","линк","https://bg.toolsworld.com/search/?query=","https://bg.toolsworld.com/search/?query=129269"]
[129289,"Szigetelt csavarhúzó, PH2x100 mm, max. 1000 V-ig, két komponensu nyél//MTX PROFESSIONAL",986,"B","Active",{"$f":"VLOOKUP(A1655,[1]Sheet1!$A$1:$C$65512,3,FALSE)","v":1129},null,null,"No info","линк","https://bg.toolsworld.com/search/?query=","https://bg.toolsworld.com/search/?query=129289"]
[130615,"Feszultség méro 190 mm, 100-500 V// MTX",252,"B","Active",{"$f":"VLOOKUP(A1656,[1]Sheet1!$A$1:$C$65512,3,FALSE)","v":{"$error":"#N/A"}},null,null,"No info","линк","https://bg.toolsworld.com/search/?query=","https://bg.toolsworld.com/search/?query=130615"]
[130805,"Feszültségvizsgáló 12-220 V, LCD kijelző// Sparta",259,"B","Active",{"$f":"VLOOKUP(A1657,[1]Sheet1!$A$1:$C$65512,3,FALSE)","v":{"$error":"#N/A"}},null,null,"No info","линк","https://bg.toolsworld.com/search/?query=","https://bg.toolsworld.com/search/?query=130805"]
[131109,"Hatlapfeju hajtócsavar 10mm , CrV, 1/2\", króm// MTX MASTER",395,"B","Active",{"$f":"VLOOKUP(A1658,[1]Sheet1!$A$1:$C$65512,3,FALSE)","v":842},null,null,"No info","линк","https://bg.toolsworld.com/search/?query=","https://bg.toolsworld.com/search/?query=131109"]
[131119,"Hatlapfeju hajtócsavar 11mm , CrV, 1/2\", króm// MTX MASTER",395,"B","Active",{"$f":"VLOOKUP(A1659,[1]Sheet1!$A$1:$C$65512,3,FALSE)","v":330},null,null,"No info","линк","https://bg.toolsworld.com/search/?query=","https://bg.toolsworld.com/search/?query=131119"]
[131129,"Hatlapfeju hajtócsavar 12mm , CrV, 1/2\", króm// MTX MASTER",395,"B","Active",{"$f":"VLOOKUP(A1660,[1]Sheet1!$A$1:$C$65512,3,FALSE)","v":524},null,null,"No info","линк","https://bg.toolsworld.com/search/?query=","https://bg.toolsworld.com/search/?query=131129"]
[131139,"Hatlapfeju hajtócsavar 13mm , CrV, 1/2\", króm// MTX MASTER",395,"B","Active",{"$f":"VLOOKUP(A1661,[1]Sheet1!$A$1:$C$65512,3,FALSE)","v":1080},null,null,"No info","линк","https://bg.toolsworld.com/search/?query=","https://bg.toolsworld.com/search/?query=131139"]
[131149,"Hatlapfeju hajtócsavar 14mm , CrV, 1/2\", króm// MTX MASTER",395,"B","Active",{"$f":"VLOOKUP(A1662,[1]Sheet1!$A$1:$C$65512,3,FALSE)","v":389},null,null,"No info","линк","https://bg.toolsworld.com/search/?query=","https://bg.toolsworld.com/search/?query=131149"]
[131159,"Hatlapfeju hajtócsavar 15mm , CrV, 1/2\", króm// MTX MASTER",395,"B","Active",{"$f":"VLOOKUP(A1663,[1]Sheet1!$A$1:$C$65512,3,FALSE)","v":214},null,null,"No info","линк","https://bg.toolsworld.com/search/?query=","https://bg.toolsworld.com/search/?query=131159"]
[131169,"Hatlapfeju hajtócsavar 16mm , CrV, 1/2\", króm// MTX MASTER",395,"B","Active",{"$f":"VLOOKUP(A1664,[1]Sheet1!$A$1:$C$65512,3,FALSE)","v":340},null,null,"No info","линк","https://bg.toolsworld.com/search/?query=","https://bg.toolsworld.com/search/?query=131169"]
[131179,"Hatlapfeju hajtócsavar 17mm , CrV, 1/2\", króm// MTX MASTER",403,"B","Active",{"$f":"VLOOKUP(A1665,[1]Sheet1!$A$1:$C$65512,3,FALSE)","v":725},null,null,"No info","линк","https://bg.toolsworld.com/search/?query=","https://bg.toolsworld.com/search/?query=131179"]
[131189,"Hatlapfeju hajtócsavar 18mm , CrV, 1/2\", króm// MTX MASTER",481,"B","Active",{"$f":"VLOOKUP(A1666,[1]Sheet1!$A$1:$C$65512,3,FALSE)","v":125},null,null,"No info","линк","https://bg.toolsworld.com/search/?query=","https://bg.toolsworld.com/search/?query=131189"]
[131199,"Hatlapfeju hajtócsavar 19mm , CrV, 1/2\", króm// MTX MASTER",491,"B","Active",{"$f":"VLOOKUP(A1667,[1]Sheet1!$A$1:$C$65512,3,FALSE)","v":1112},null,null,"No info","линк","https://bg.toolsworld.com/search/?query=","https://bg.toolsworld.com/search/?query=131199"]
[131209,"Hatlapfeju hajtócsavar 20mm , CrV, 1/2\", króm// MTX MASTER",491,"B","Active",{"$f":"VLOOKUP(A1668,[1]Sheet1!$A$1:$C$65512,3,FALSE)","v":293},null,null,"No info","линк","https://bg.toolsworld.com/search/?query=","https://bg.toolsworld.com/search/?query=131209"]
[131219,"Hatlapfeju hajtócsavar 21mm , CrV, 1/2\", króm// MTX MASTER",491,"B","Active",{"$f":"VLOOKUP(A1669,[1]Sheet1!$A$1:$C$65512,3,FALSE)","v":630},null,null,"No info","линк","https://bg.toolsworld.com/search/?query=","https://bg.toolsworld.com/search/?query=131219"]
[131229,"Hatlapfeju hajtócsavar 22mm , CrV, 1/2\", króm// MTX MASTER",576,"B","Active",{"$f":"VLOOKUP(A1670,[1]Sheet1!$A$1:$C$65512,3,FALSE)","v":424},null,null,"No info","линк","https://bg.toolsworld.com/search/?query=","https://bg.toolsworld.com/search/?query=131229"]
[131239,"Hatlapfeju hajtócsavar 23mm , CrV, 1/2\", króm// MTX MASTER",639,"B","Active",{"$f":"VLOOKUP(A1671,[1]Sheet1!$A$1:$C$65512,3,FALSE)","v":235},null,null,"No info","линк","https://bg.toolsworld.com/search/?query=","https://bg.toolsworld.com/search/?query=131239"]
[131249,"Hatlapfeju hajtócsavar 24mm , CrV, 1/2\", króm// MTX MASTER",660,"B","Active",{"$f":"VLOOKUP(A1672,[1]Sheet1!$A$1:$C$65512,3,FALSE)","v":180},null,null,"No info","линк","https://bg.toolsworld.com/search/?query=","https://bg.toolsworld.com/search/?query=131249"]
[131279,"Hatlapfeju hajtócsavar 27mm , CrV, 1/2\", króm// MTX MASTER",851,"B","Active",{"$f":"VLOOKUP(A1673,[1]Sheet1!$A$1:$C$65512,3,FALSE)","v":60},null,null,"No info","линк","https://bg.toolsworld.com/search/?query=","https://bg.toolsworld.com/search/?query=131279"]
[131309,"Hatlapfeju hajtócsavar 30mm , CrV, 1/2\", króm// MTX MASTER",1100,"B","Active",{"$f":"VLOOKUP(A1674,[1]Sheet1!$A$1:$C$65512,3,FALSE)","v":118},null,null,"No info","линк","https://bg.toolsworld.com/search/?query=","https://bg.toolsworld.com/search/?query=131309"]
[131329,"Hatlapfeju hajtócsavar 32mm , CrV, 1/2\", króm// MTX MASTER",1148,"B","Active",{"$f":"VLOOKUP(A1675,[1]Sheet1!$A$1:$C$65512,3,FALSE)","v":304},null,null,"No info","линк","https://bg.toolsworld.com/search/?query=","https://bg.toolsworld.com/search/?query=131329"]
[133445,"Precíziós csavarhúzó készlet, 6 db//SPARTA",403,"B","Active",{"$f":"VLOOKUP(A1676,[1]Sheet1!$A$1:$C$65512,3,FALSE)","v":{"$error":"#N/A"}},null,null,"No info","линк","https://bg.toolsworld.com/search/?query=","https://bg.toolsworld.com/search/?query=133445"]
[133519,"Fúziós professzionális csavarhúzó készlet, CrV, három komponensu, csúszásmentes nyél, 6 db// MTX",2397,"B","Active",{"$f":"VLOOKUP(A1677,[1]Sheet1!$A$1:$C$65512,3,FALSE)","v":1109},null,null,"No info","линк","https://bg.toolsworld.com/search/?query=","https://bg.toolsworld.com/search/?query=133519"]
[133559,"Dielektromos csavarhúzó 1000V-ig, teszt. - 250V-ig, kétkomponensű fogantyúk (7 db)// MTX",5775,"B","Active",{"$f":"VLOOKUP(A1678,[1]Sheet1!$A$1:$C$65512,3,FALSE)","v":24},null,null,"No info","линк","https://bg.toolsworld.com/search/?query=","https://bg.toolsworld.com/search/?query=133559"]
[133605,"Precíziós csavarhúzó készlet 11 db//SPARTA",582,"B","Active",{"$f":"VLOOKUP(A1679,[1]Sheet1!$A$1:$C$65512,3,FALSE)","v":{"$error":"#N/A"}},null,null,"No info","линк","https://bg.toolsworld.com/search/?query=","https://bg.toolsworld.com/search/?query=133605"]
[133619,"Fúziós professzionális csavarhúzó készlet, két komponensu nyél, 6 db, muanyag dobozban// MTX",1933,"B","Active",{"$f":"VLOOKUP(A1680,[1]Sheet1!$A$1:$C$65512,3,FALSE)","v":189},null,null,"No info","линк","https://bg.toolsworld.com/search/?query=","https://bg.toolsworld.com/search/?query=133619"]
[135099,"Szerszámkészlet,1/2”,1/4”,CrV, műanyag tok 94 db.// MTX",33987,"B","Active",{"$f":"VLOOKUP(A1681,[1]Sheet1!$A$1:$C$65512,3,FALSE)","v":91},null,null,"No info","линк","https://bg.toolsworld.com/search/?query=","https://bg.toolsworld.com/search/?query=135099"]
[135119,"Szerszámkészlet,1/2”,1/4”, CrV, 108 db// MTX",36027,"B","Active",{"$f":"VLOOKUP(A1682,[1]Sheet1!$A$1:$C$65512,3,FALSE)","v":107},null,null,"No info","линк","https://bg.toolsworld.com/search/?query=","https://bg.toolsworld.com/search/?query=135119"]
[135149,"Szerszámkészlet,1/2”,1/4”,CrV, műanyag tok 82 db.// MTX",34575,"B","Active",{"$f":"VLOOKUP(A1683,[1]Sheet1!$A$1:$C$65512,3,FALSE)","v":109},null,null,"No info","линк","https://bg.toolsworld.com/search/?query=","https://bg.toolsworld.com/search/?query=135149"]
[135239,"Szerszámkészlet, 1/4”, CrV, műanyag tok 29 db.// MTX",8714,"B","Active",{"$f":"VLOOKUP(A1684,[1]Sheet1!$A$1:$C$65512,3,FALSE)","v":41},null,null,"No info","линк","https://bg.toolsworld.com/search/?query=","https://bg.toolsworld.com/search/?query=135239"]
[135259,"Szerszámkészlet, 1/4”, CrV, műanyag tok 56 db.// MTX",11086,"B","Active",{"$f":"VLOOKUP(A1685,[1]Sheet1!$A$1:$C$65512,3,FALSE)","v":85},null,null,"No info","линк","https://bg.toolsworld.com/search/?query=","https://bg.toolsworld.com/search/?query=135259"]
[135269,"Meghajtó foglalat készlet, 12 db, 1/2\", foglalatok: 10 - 24 mm, racsnis kulcs// MTX MASTER",13866,"B","Active",{"$f":"VLOOKUP(A1686,[1]Sheet1!$A$1:$C$65512,3,FALSE)","v":231},null,null,"No info","линк","https://bg.toolsworld.com/search/?query=","https://bg.toolsworld.com/search/?query=135269"]
[135279,"Szerszámkészlet, 1/2”, CrV, műanyag tok 32 db.// MTX",26143,"B","Active",{"$f":"VLOOKUP(A1687,[1]Sheet1!$A$1:$C$65512,3,FALSE)","v":122},null,null,"No info","линк","https://bg.toolsworld.com/search/?query=","https://bg.toolsworld.com/search/?query=135279"]
[135289,"Szerszámkészlet,1/2”,1/4”,CrV, műanyag tok 76 db.// MTX",40473,"B","Active",{"$f":"VLOOKUP(A1688,[1]Sheet1!$A$1:$C$65512,3,FALSE)","v":142},null,null,"No info","линк","https://bg.toolsworld.com/search/?query=","https://bg.toolsworld.com/search/?query=135289"]
[135299,"Szerszámkészlet,1/2”,1/4”,CrV, műanyag tok 89 db.// MTX",42784,"B","Active",{"$f":"VLOOKUP(A1689,[1]Sheet1!$A$1:$C$65512,3,FALSE)","v":121},null,null,"No info","линк","https://bg.toolsworld.com/search/?query=","https://bg.toolsworld.com/search/?query=135299"]
[135369,"Meghajtó foglalat készlet, 20 db, 3/4\",  foglalatok: 19 x 50 mm, fém doboz// MTX",45503,"B","Active",{"$f":"VLOOKUP(A1690,[1]Sheet1!$A$1:$C$65512,3,FALSE)","v":53},null,null,"No info","линк","https://bg.toolsworld.com/search/?query=","https://bg.toolsworld.com/search/?query=135369"]
[135399,"Fejkészlet , 26 db, 3/4\"-1\", 21-65 mm, doboz muanyag // MTX",67273,"B","Active",{"$f":"VLOOKUP(A1691,[1]Sheet1!$A$1:$C$65512,3,FALSE)","v":7},null,null,"No info","линк","https://bg.toolsworld.com/search/?query=","https://bg.toolsworld.com/search/?query=135399"]
[135425,"2 db-os csavarhúzó szett// SPARTA",605,"B","Active",{"$f":"VLOOKUP(A1692,[1]Sheet1!$A$1:$C$65512,3,FALSE)","v":2816},null,null,"No info","линк","https://bg.toolsworld.com/search/?query=","https://bg.toolsworld.com/search/?query=135425"]
[135435,"Csavarhúzó készlet, PH, SL - 5, 2 db dielektromos csavarhúzó, 1 db 220V feszültségmérő, 8 db// Sparta",2716,"B","Active",{"$f":"VLOOKUP(A1693,[1]Sheet1!$A$1:$C$65512,3,FALSE)","v":87},null,null,"No info","линк","https://bg.toolsworld.com/search/?query=","https://bg.toolsworld.com/search/?query=135435"]
[135519,"Szerszámkészlet, 58 db, 1/2\", megerosített tartódoboz, CrV, S2// MTX",34461,"B","Active",{"$f":"VLOOKUP(A1694,[1]Sheet1!$A$1:$C$65512,3,FALSE)","v":110},null,null,"No info","линк","https://bg.toolsworld.com/search/?query=","https://bg.toolsworld.com/search/?query=135519"]
[135579,"Meghajtó foglalat készlet, 1/2\", hatoldalú, 10 db, 10 to 22 mm, CrV// MTX",5250,"B","Active",{"$f":"VLOOKUP(A1695,[1]Sheet1!$A$1:$C$65512,3,FALSE)","v":518},null,null,"No info","линк","https://bg.toolsworld.com/search/?query=","https://bg.toolsworld.com/search/?query=135579"]
[135589,"Meghajtó foglalat készlet, 3/8\", hatoldalú, 10 db, 8 to 19 mm, CrV// MTX",3942,"B","Active",{"$f":"VLOOKUP(A1696,[1]Sheet1!$A$1:$C$65512,3,FALSE)","v":{"$error":"#N/A"}},null,null,"No info","линк","https://bg.toolsworld.com/search/?query=","https://bg.toolsworld.com/search/?query=135589"]
[135599,"Meghajtó foglalat készlet, 1/4\", hatoldalú, 10 db, 4 to 13 mm, CrV// MTX",2637,"B","Active",{"$f":"VLOOKUP(A1697,[1]Sheet1!$A$1:$C$65512,3,FALSE)","v":" "},null,null,"No info","линк","https://bg.toolsworld.com/search/?query=","https://bg.toolsworld.com/search/?query=135599"]
[135619,"Szerszámkészlet, 22db// MTX",5936,"B","Active",{"$f":"VLOOKUP(A1698,[1]Sheet1!$A$1:$C$65512,3,FALSE)","v":399},null,null,"No info","линк","https://bg.toolsworld.com/search/?query=","https://bg.toolsworld.com/search/?query=135619"]
[135629,"Szerszámkészlet, 12 db// MTX",8832,"B","Active",{"$f":"VLOOKUP(A1699,[1]Sheet1!$A$1:$C$65512,3,FALSE)","v":23},null,null,"No info","линк","https://bg.toolsworld.com/search/?query=","https://bg.toolsworld.com/search/?query=135629"]
[135879,"Szerszámkészlet 1/4\", 1/2\",  muanyag tartódoboz,117 db// MTX",35056,"B","Active",{"$f":"VLOOKUP(A1700,[1]Sheet1!$A$1:$C$65512,3,FALSE)","v":{"$error":"#N/A"}},null,null,"No info","линк","https://bg.toolsworld.com/search/?query=","https://bg.toolsworld.com/search/?query=135879"]
[135909,"Hatlapfeju hajtócsavar szett, hosszított, 10 db 1/2\",CrV, 10-22mm// MTX",8351,"B","Active",{"$f":"VLOOKUP(A1701,[1]Sheet1!$A$1:$C$65512,3,FALSE)","v":320},null,null,"No info","линк","https://bg.toolsworld.com/search/?query=","https://bg.toolsworld.com/search/?query=135909"]
[135919,"Hatlapfeju hajtócsavar szett, hosszított, 10 db 3/8\" ,CrV, 8-19mm// MTX",5787,"B","Active",{"$f":"VLOOKUP(A1702,[1]Sheet1!$A$1:$C$65512,3,FALSE)","v":173},null,null,"No info","линк","https://bg.toolsworld.com/search/?query=","https://bg.toolsworld.com/search/?query=135919"]
[135929,"Hatlapfeju hajtócsavar szett, hosszított, 10 db 1/4\", CrV, 4-13mm// MTX",3955,"B","Active",{"$f":"VLOOKUP(A1703,[1]Sheet1!$A$1:$C$65512,3,FALSE)","v":245},null,null,"No info","линк","https://bg.toolsworld.com/search/?query=","https://bg.toolsworld.com/search/?query=135929"]
[135949,"Hatoldalú meghajtó szett, 10 db 1/4\", CrV , 4-13 mm// MTX",3234,"B","Active",{"$f":"VLOOKUP(A1704,[1]Sheet1!$A$1:$C$65512,3,FALSE)","v":221},null,null,"No info","линк","https://bg.toolsworld.com/search/?query=","https://bg.toolsworld.com/search/?query=135949"]
[135969,"Hatoldalú meghajtó szett, 10 db 1/2\", CrV, 10-24mm// MTX",6490,"B","Active",{"$f":"VLOOKUP(A1705,[1]Sheet1!$A$1:$C$65512,3,FALSE)","v":260},null,null,"No info","линк","https://bg.toolsworld.com/search/?query=","https://bg.toolsworld.com/search/?query=135969"]
[136769,"Hatoldalú meghajtó 8mm, Cr-V, 1/2', króm// MTX MASTER",373,"B","Active",{"$f":"VLOOKUP(A1706,[1]Sheet1!$A$1:$C$65512,3,FALSE)","v":685},null,null,"No info","линк","https://bg.toolsworld.com/search/?query=","https://bg.toolsworld.com/search/?query=136769"]
[136789,"Hatoldalú meghajtó 9mm, Cr-V, 1/2', króm// MTX MASTER",373,"B","Active",{"$f":"VLOOKUP(A1707,[1]Sheet1!$A$1:$C$65512,3,FALSE)","v":284},null,null,"No info","линк","https://bg.toolsworld.com/search/?query=","https://bg.toolsworld.com/search/?query=136789"]
[136809,"Hatoldalú meghajtó 10mm, Cr-V, 1/2', króm// MTX MASTER",373,"B","Active",{"$f":"VLOOKUP(A1708,[1]Sheet1!$A$1:$C$65512,3,FALSE)","v":{"$error":"#N/A"}},null,null,"No info","линк","https://bg.toolsworld.com/search/?query=","https://bg.toolsworld.com/search/?query=136809"]
[136829,"Hatoldalú meghajtó 11mm, Cr-V, 1/2', króm// MTX MASTER",373,"B","Active",{"$f":"VLOOKUP(A1709,[1]Sheet1!$A$1:$C$65512,3,FALSE)","v":513},null,null,"No info","линк","https://bg.toolsworld.com/search/?query=","https://bg.toolsworld.com/search/?query=136829"]
[136849,"Hatoldalú meghajtó 12mm, Cr-V, 1/2', króm// MTX MASTER",373,"B","Active",{"$f":"VLOOKUP(A1710,[1]Sheet1!$A$1:$C$65512,3,FALSE)","v":175},null,null,"No info","линк","https://bg.toolsworld.com/search/?query=","https://bg.toolsworld.com/search/?query=136849"]
[136869,"Hatoldalú meghajtó 13mm, Cr-V, 1/2', króm// MTX MASTER",373,"B","Active",{"$f":"VLOOKUP(A1711,[1]Sheet1!$A$1:$C$65512,3,FALSE)","v":196},null,null,"No info","линк","https://bg.toolsworld.com/search/?query=","https://bg.toolsworld.com/search/?query=136869"]
[136889,"Hatoldalú meghajtó 14mm, Cr-V, 1/2', króm// MTX MASTER",373,"B","Active",{"$f":"VLOOKUP(A1712,[1]Sheet1!$A$1:$C$65512,3,FALSE)","v":430},null,null,"No info","линк","https://bg.toolsworld.com/search/?query=","https://bg.toolsworld.com/search/?query=136889"]
[136899,"Hatoldalú meghajtó 15mm, Cr-V, 1/2', króm// MTX MASTER",373,"B","Active",{"$f":"VLOOKUP(A1713,[1]Sheet1!$A$1:$C$65512,3,FALSE)","v":345},null,null,"No info","линк","https://bg.toolsworld.com/search/?query=","https://bg.toolsworld.com/search/?query=136899"]
[136909,"Hatoldalú meghajtó 17mm, Cr-V, 1/2', króm// MTX MASTER",424,"B","Active",{"$f":"VLOOKUP(A1714,[1]Sheet1!$A$1:$C$65512,3,FALSE)","v":{"$error":"#N/A"}},null,null,"No info",{"$f":"HYPERLINK(L1714,\"линк\")","v":"линк"},"https://bg.toolsworld.com/search/?query=","https://bg.toolsworld.com/search/?query=136909"]
[136919,"Hatoldalú meghajtó 19mm, Cr-V, 1/2', króm// MTX MASTER",438,"B","Active",{"$f":"VLOOKUP(A1715,[1]Sheet1!$A$1:$C$65512,3,FALSE)","v":{"$error":"#N/A"}},null,null,"No info","линк","https://bg.toolsworld.com/search/?query=","https://bg.toolsworld.com/search/?query=136919"]
[136929,"Hatoldalú meghajtó 22mm, Cr-V, 1/2', króm// MTX MASTER",552,"B","Active",{"$f":"VLOOKUP(A1716,[1]Sheet1!$A$1:$C$65512,3,FALSE)","v":{"$error":"#N/A"}},null,null,"No info","линк","https://bg.toolsworld.com/search/?query=",{"$f":"CONCATENATE(K1716,A1716)","v":"https://bg.toolsworld.com/search/?query=136929"}]
[136939,"Hatoldalú meghajtó 24mm, Cr-V, 1/2', króm// MTX MASTER",623,"B","Active",{"$f":"VLOOKUP(A1717,[1]Sheet1!$A$1:$C$65512,3,FALSE)","v":217},null,null,"No info","линк","https://bg.toolsworld.com/search/?query=","https://bg.toolsworld.com/search/?query=136939"]
[136979,"Hatoldalú meghajtó 30mm, Cr-V, 1/2', króm// MTX MASTER",1067,"B","Active",{"$f":"VLOOKUP(A1718,[1]Sheet1!$A$1:$C$65512,3,FALSE)","v":344},null,null,"No info","линк","https://bg.toolsworld.com/search/?query=","https://bg.toolsworld.com/search/?query=136979"]
[136989,"Aljzatfej, 32 mm, 12 pontos, CrV, krуm // MTX",1181,"B","Active",{"$f":"VLOOKUP(A1719,[1]Sheet1!$A$1:$C$65512,3,FALSE)","v":41},null,null,"No info","линк","https://bg.toolsworld.com/search/?query=","https://bg.toolsworld.com/search/?query=136989"]
[137109,"Cso alakú kulcs 8x10 mm, fehér cink// MTX",263,"B","Active",{"$f":"VLOOKUP(A1720,[1]Sheet1!$A$1:$C$65512,3,FALSE)","v":2301},null,null,"No info","линк","https://bg.toolsworld.com/search/?query=","https://bg.toolsworld.com/search/?query=137109"]
[137129,"Cso alakú kulcs 10x12 mm, fehér cink// MTX",356,"B","Active",{"$f":"VLOOKUP(A1721,[1]Sheet1!$A$1:$C$65512,3,FALSE)","v":134},null,null,"No info","линк","https://bg.toolsworld.com/search/?query=","https://bg.toolsworld.com/search/?query=137129"]
[137149,"Cso alakú kulcs 12x13 mm, fehér cink// MTX",356,"B","Active",{"$f":"VLOOKUP(A1722,[1]Sheet1!$A$1:$C$65512,3,FALSE)","v":628},null,null,"No info","линк","https://bg.toolsworld.com/search/?query=","https://bg.toolsworld.com/search/?query=137149"]
[137169,"Cso alakú kulcs 14x15 mm, fehér cink// MTX",424,"B","Active",{"$f":"VLOOKUP(A1723,[1]Sheet1!$A$1:$C$65512,3,FALSE)","v":265},null,null,"No info","линк","https://bg.toolsworld.com/search/?query=","https://bg.toolsworld.com/search/?query=137169"]
[137189,"Cso alakú kulcs 17x19 mm, fehér cink// MTX",625,"B","Active",{"$f":"VLOOKUP(A1724,[1]Sheet1!$A$1:$C$65512,3,FALSE)","v":175},null,null,"No info","линк","https://bg.toolsworld.com/search/?query=","https://bg.toolsworld.com/search/?query=137189"]
[137199,"7 DB CSŐ DOBOZ CSILLAGKULCS KÉSZLET// MTX",2847,"B","Active",{"$f":"VLOOKUP(A1725,[1]Sheet1!$A$1:$C$65512,3,FALSE)","v":117},null,null,"No info","линк","https://bg.toolsworld.com/search/?query=","https://bg.toolsworld.com/search/?query=137199"]
[137259,"Cso alakú kulcs szett, 9 db // MTX",3722,"B","Active",{"$f":"VLOOKUP(A1726,[1]Sheet1!$A$1:$C$65512,3,FALSE)","v":238},null,null,"No info","линк","https://bg.toolsworld.com/search/?query=","https://bg.toolsworld.com/search/?query=137259"]
[137405,"Cso alakú kulcs szett, 8-17 mm, Emelovas, cink borítás, 6 db//SPARTA",1360,"B","Active",{"$f":"VLOOKUP(A1727,[1]Sheet1!$A$1:$C$65512,3,FALSE)","v":625},null,null,"No info","линк","https://bg.toolsworld.com/search/?query=","https://bg.toolsworld.com/search/?query=137405"]
[137525,"10 db cso alakú kulcs szett, 6-22mm, Emelovas, cink borítás//SPARTA",2266,"B","Active",{"$f":"VLOOKUP(A1728,[1]Sheet1!$A$1:$C$65512,3,FALSE)","v":94},null,null,"No info","линк","https://bg.toolsworld.com/search/?query=","https://bg.toolsworld.com/search/?query=137525"]
[138305,"Gyújtógyertya-kulcs, 16 mm, kardánnal// SPARTA",788,"B","Active",{"$f":"VLOOKUP(A1729,[1]Sheet1!$A$1:$C$65512,3,FALSE)","v":204},null,null,"No info","линк","https://bg.toolsworld.com/search/?query=","https://bg.toolsworld.com/search/?query=138305"]
[138405,"Gyújtógyertya kulcs 21 mm  könyökkel// SPARTA",831,"B","Active",{"$f":"VLOOKUP(A1730,[1]Sheet1!$A$1:$C$65512,3,FALSE)","v":232},null,null,"No info","линк","https://bg.toolsworld.com/search/?query=","https://bg.toolsworld.com/search/?query=138405"]
[139209,"Csavarhúzó-nyél 1/4\", 150mm// MTX",648,"B","Active",{"$f":"VLOOKUP(A1731,[1]Sheet1!$A$1:$C$65512,3,FALSE)","v":478},null,null,"No info","линк","https://bg.toolsworld.com/search/?query=","https://bg.toolsworld.com/search/?query=139209"]
[139709,"Bovíto rúd 100mm 1/4\", CrV, csiszolt króm// MTX MASTER",617,"B","Active",{"$f":"VLOOKUP(A1732,[1]Sheet1!$A$1:$C$65512,3,FALSE)","v":631},null,null,"No info","линк","https://bg.toolsworld.com/search/?query=","https://bg.toolsworld.com/search/?query=139709"]
[139719,"Bovíto rúd 75mm 3/8\", CrV, csiszolt króm// MTX MASTER",829,"B","Active",{"$f":"VLOOKUP(A1733,[1]Sheet1!$A$1:$C$65512,3,FALSE)","v":20},null,null,"No info","линк","https://bg.toolsworld.com/search/?query=","https://bg.toolsworld.com/search/?query=139719"]
[139729,"Bovíto rúd 125mm 1/2\", CrV, csiszolt króm// MTX MASTER",1045,"B","Active",{"$f":"VLOOKUP(A1734,[1]Sheet1!$A$1:$C$65512,3,FALSE)","v":482},null,null,"No info","линк","https://bg.toolsworld.com/search/?query=","https://bg.toolsworld.com/search/?query=139729"]
[139739,"Bovíto rúd 250mm 1/2\", CrV, csiszolt króm// MTX MASTER",1924,"B","Active",{"$f":"VLOOKUP(A1735,[1]Sheet1!$A$1:$C$65512,3,FALSE)","v":696},null,null,"No info","линк","https://bg.toolsworld.com/search/?query=","https://bg.toolsworld.com/search/?query=139739"]
[139799,"Bovíto rúd 125 mm 1/2\", CrV, csiszolt króm// MTX MASTER",1544,"B","Active",{"$f":"VLOOKUP(A1736,[1]Sheet1!$A$1:$C$65512,3,FALSE)","v":451},null,null,"No info","линк","https://bg.toolsworld.com/search/?query=","https://bg.toolsworld.com/search/?query=139799"]
[139869,"Csúsztatható emelovas, 115mm 1/4\", CrV, króm// MTX MASTER",523,"B","Active",{"$f":"VLOOKUP(A1737,[1]Sheet1!$A$1:$C$65512,3,FALSE)","v":1176},null,null,"No info","линк","https://bg.toolsworld.com/search/?query=","https://bg.toolsworld.com/search/?query=139869"]
[139879,"Csúsztatható emelovas, 200mm 3/8\", CrV, króm// MTX MASTER",1112,"B","Active",{"$f":"VLOOKUP(A1738,[1]Sheet1!$A$1:$C$65512,3,FALSE)","v":{"$error":"#N/A"}},null,null,"No info","линк","https://bg.toolsworld.com/search/?query=","https://bg.toolsworld.com/search/?query=139879"]
[139889,"Csúsztatható emelovas, 250 mm 1/2\", CrV, króm// MTX MASTER",1814,"B","Active",{"$f":"VLOOKUP(A1739,[1]Sheet1!$A$1:$C$65512,3,FALSE)","v":187},null,null,"No info","линк","https://bg.toolsworld.com/search/?query=","https://bg.toolsworld.com/search/?query=139889"]
[139939,"Univerzális könyök 1/4\", CrV, csiszolt króm// MTX MASTER",619,"B","Active",{"$f":"VLOOKUP(A1740,[1]Sheet1!$A$1:$C$65512,3,FALSE)","v":273},null,null,"No info","линк","https://bg.toolsworld.com/search/?query=","https://bg.toolsworld.com/search/?query=139939"]
[139949,"Univerzális könyök 3/8\", CrV, csiszolt króm// MTX MASTER",792,"B","Active",{"$f":"VLOOKUP(A1741,[1]Sheet1!$A$1:$C$65512,3,FALSE)","v":" "},null,null,"No info","линк","https://bg.toolsworld.com/search/?query=","https://bg.toolsworld.com/search/?query=139949"]
[139959,"Univerzális könyök 1/2\", CrV, csiszolt króm// MTX MASTER",1487,"B","Active",{"$f":"VLOOKUP(A1742,[1]Sheet1!$A$1:$C$65512,3,FALSE)","v":300},null,null,"No info","линк","https://bg.toolsworld.com/search/?query=","https://bg.toolsworld.com/search/?query=139959"]
[140109,"Racsnis kulcs kapcsolóval, 1/4\"// MTX MASTER",2132,"B","Active",{"$f":"VLOOKUP(A1743,[1]Sheet1!$A$1:$C$65512,3,FALSE)","v":39},null,null,"No info","линк","https://bg.toolsworld.com/search/?query=","https://bg.toolsworld.com/search/?query=140109"]
[140139,"Racsnis kulcs kapcsolóval, 3/8\"// MTX MASTER",2780,"B","Active",{"$f":"VLOOKUP(A1744,[1]Sheet1!$A$1:$C$65512,3,FALSE)","v":44},null,null,"No info","линк","https://bg.toolsworld.com/search/?query=","https://bg.toolsworld.com/search/?query=140139"]
[140159,"Racsnis kulcs kapcsolóval, 1/2\"// MTX MASTER",3458,"B","Active",{"$f":"VLOOKUP(A1745,[1]Sheet1!$A$1:$C$65512,3,FALSE)","v":87},null,null,"No info","линк","https://bg.toolsworld.com/search/?query=","https://bg.toolsworld.com/search/?query=140159"]
[140205,"Racsni 1/4\", kapcsolóval//SPARTA",806,"B","Active",{"$f":"VLOOKUP(A1746,[1]Sheet1!$A$1:$C$65512,3,FALSE)","v":10},null,null,"No info","линк","https://bg.toolsworld.com/search/?query=","https://bg.toolsworld.com/search/?query=140205"]
[140405,"Racsni 3/8\", kapcsolóval//SPARTA",922,"B","Active",{"$f":"VLOOKUP(A1747,[1]Sheet1!$A$1:$C$65512,3,FALSE)","v":{"$error":"#N/A"}},null,null,"No info","линк","https://bg.toolsworld.com/search/?query=","https://bg.toolsworld.com/search/?query=140405"]
[140605,"Racsni 1/2\" Cr-V kapcsolóval//SPARTA",1089,"B","Active",{"$f":"VLOOKUP(A1748,[1]Sheet1!$A$1:$C$65512,3,FALSE)","v":7},null,null,"No info","линк","https://bg.toolsworld.com/search/?query=","https://bg.toolsworld.com/search/?query=140605"]
[140669,"Emelovas, 1/2\", 380 mm, könyökkel, CRV króm// MTX MASTER",4014,"B","Active",{"$f":"VLOOKUP(A1749,[1]Sheet1!$A$1:$C$65512,3,FALSE)","v":308},null,null,"No info","линк","https://bg.toolsworld.com/search/?query=","https://bg.toolsworld.com/search/?query=140669"]
[140909,"Racsnis kulcs, két komponensu nyél, 1/2\", CrV, 72 fogas, gyors alaphelyzetbe állítás// MTX",7382,"B","Active",{"$f":"VLOOKUP(A1750,[1]Sheet1!$A$1:$C$65512,3,FALSE)","v":100},null,null,"No info","линк","https://bg.toolsworld.com/search/?query=","https://bg.toolsworld.com/search/?query=140909"]
[140929,"Racsnis kulcs, két komponensu nyél, 3/8\", CrV, 72 fogas, gyors alaphelyzetbe állítás// MTX",5407,"B","Active",{"$f":"VLOOKUP(A1751,[1]Sheet1!$A$1:$C$65512,3,FALSE)","v":" "},null,null,"No info","линк","https://bg.toolsworld.com/search/?query=","https://bg.toolsworld.com/search/?query=140929"]
[140949,"Racsnis kulcs, két komponensu nyél, 1/4\", CrV, 72 fogas, gyors alaphelyzetbe állítás// MTX",4965,"B","Active",{"$f":"VLOOKUP(A1752,[1]Sheet1!$A$1:$C$65512,3,FALSE)","v":470},null,null,"No info","линк","https://bg.toolsworld.com/search/?query=","https://bg.toolsworld.com/search/?query=140949"]
[141609,"Nyomatékkulcs, 42 - 210 Nm, 1/2\", CrV, krómozott// MTX",14083,"B","Active",{"$f":"VLOOKUP(A1753,[1]Sheet1!$A$1:$C$65512,3,FALSE)","v":535},null,null,"No info","линк","https://bg.toolsworld.com/search/?query=","https://bg.toolsworld.com/search/?query=141609"]
[142379,"L alakú kerékkulcs, 1/2\", bovítheto, 17 x 19 mm// MTX",3126,"B","Active",{"$f":"VLOOKUP(A1754,[1]Sheet1!$A$1:$C$65512,3,FALSE)","v":434},null,null,"No info","линк","https://bg.toolsworld.com/search/?query=","https://bg.toolsworld.com/search/?query=142379"]
[142449,"Kerékkulcs, 17 x 19 x 21 x 22 mm, kereszt, megerosített, vastagság 16 mm// MTX PROFESSIONAL",3645,"B","Active",{"$f":"VLOOKUP(A1755,[1]Sheet1!$A$1:$C$65512,3,FALSE)","v":746},null,null,"No info","линк","https://bg.toolsworld.com/search/?query=","https://bg.toolsworld.com/search/?query=142449"]
[142459,"Kerékkulcs, 17 x 19 x 21 mm lekerekített 1/2\", kereszt, megerosített, vastagság 16 mm// MTX PROFESSIONAL",3531,"B","Active",{"$f":"VLOOKUP(A1756,[1]Sheet1!$A$1:$C$65512,3,FALSE)","v":207},null,null,"No info","линк","https://bg.toolsworld.com/search/?query=","https://bg.toolsworld.com/search/?query=142459"]
[142479,"Kerékkulcs, 17 x 19 x 21 mm lekerekített 1/2\", kereszt, vastagság 16 mm// MTX",3342,"B","Active",{"$f":"VLOOKUP(A1757,[1]Sheet1!$A$1:$C$65512,3,FALSE)","v":1198},null,null,"No info","линк","https://bg.toolsworld.com/search/?query=","https://bg.toolsworld.com/search/?query=142479"]
[142959,"Kerékkulcs, 24 x 27 mm, 350 mm, kettos végu, vastagság 26 mm// MTX",5193,"B","Active",{"$f":"VLOOKUP(A1758,[1]Sheet1!$A$1:$C$65512,3,FALSE)","v":5},null,null,"No info","линк","https://bg.toolsworld.com/search/?query=","https://bg.toolsworld.com/search/?query=142959"]
[142969,"Kerékkulcs, 30 x 32 mm, 350 mm, kettos végu, vastagság 26 mm// MTX",5313,"B","Active",{"$f":"VLOOKUP(A1759,[1]Sheet1!$A$1:$C$65512,3,FALSE)","v":14},null,null,"No info","линк","https://bg.toolsworld.com/search/?query=","https://bg.toolsworld.com/search/?query=142969"]
[144395,"Kettos villáskulcs 10 x 11 mm, króm// SPARTA",198,"B","Active",{"$f":"VLOOKUP(A1760,[1]Sheet1!$A$1:$C$65512,3,FALSE)","v":943},null,null,"No info","линк","https://bg.toolsworld.com/search/?query=","https://bg.toolsworld.com/search/?query=144395"]
[144475,"Kettos villáskulcs 12 x 13 mm, króm// SPARTA",216,"B","Active",{"$f":"VLOOKUP(A1761,[1]Sheet1!$A$1:$C$65512,3,FALSE)","v":562},null,null,"No info","линк","https://bg.toolsworld.com/search/?query=","https://bg.toolsworld.com/search/?query=144475"]
[144515,"Kettos villáskulcs 13 x 17mm, króm// SPARTA",295,"B","Active",{"$f":"VLOOKUP(A1762,[1]Sheet1!$A$1:$C$65512,3,FALSE)","v":970},null,null,"No info","линк","https://bg.toolsworld.com/search/?query=","https://bg.toolsworld.com/search/?query=144515"]
[144625,"Kettos villáskulcs 17 x 19mm, króm// SPARTA",397,"B","Active",{"$f":"VLOOKUP(A1763,[1]Sheet1!$A$1:$C$65512,3,FALSE)","v":21},null,null,"No info","линк","https://bg.toolsworld.com/search/?query=","https://bg.toolsworld.com/search/?query=144625"]
[144645,"Kettos villáskulcs 19 x 22 mm, króm// SPARTA",483,"B","Active",{"$f":"VLOOKUP(A1764,[1]Sheet1!$A$1:$C$65512,3,FALSE)","v":306},null,null,"No info","линк","https://bg.toolsworld.com/search/?query=","https://bg.toolsworld.com/search/?query=144645"]
[144655,"Kettos villáskulcs 20 x 22 mm, króm// SPARTA",509,"B","Active",{"$f":"VLOOKUP(A1765,[1]Sheet1!$A$1:$C$65512,3,FALSE)","v":{"$error":"#N/A"}},null,null,"No info","линк","https://bg.toolsworld.com/search/?query=","https://bg.toolsworld.com/search/?query=144655"]
[144715,"Kettos villáskulcs 22 x 24 mm, króm// SPARTA",599,"B","Active",{"$f":"VLOOKUP(A1766,[1]Sheet1!$A$1:$C$65512,3,FALSE)","v":197},null,null,"No info","линк","https://bg.toolsworld.com/search/?query=","https://bg.toolsworld.com/search/?query=144715"]
[144775,"Kettos villáskulcs 24 x 27 mm, króm// SPARTA",711,"B","Active",{"$f":"VLOOKUP(A1767,[1]Sheet1!$A$1:$C$65512,3,FALSE)","v":4},null,null,"No info","линк","https://bg.toolsworld.com/search/?query=","https://bg.toolsworld.com/search/?query=144775"]
[145039,"Kettos végu racsnis kulcs, 12 x 13 mm, CrV, csiszolt króm// MTX PROFESSIONAL",1601,"B","Active",{"$f":"VLOOKUP(A1768,[1]Sheet1!$A$1:$C$65512,3,FALSE)","v":{"$error":"#N/A"}},null,null,"No info","линк","https://bg.toolsworld.com/search/?query=","https://bg.toolsworld.com/search/?query=145039"]
[145049,"Kettos végu racsnis kulcs, 14 x 15 mm, CrV, csiszolt króm// MTX PROFESSIONAL",2002,"B","Active",{"$f":"VLOOKUP(A1769,[1]Sheet1!$A$1:$C$65512,3,FALSE)","v":63},null,null,"No info","линк","https://bg.toolsworld.com/search/?query=","https://bg.toolsworld.com/search/?query=145049"]
[145059,"Kettos végu racsnis kulcs, 16 x 17 mm, CrV, csiszolt króm// MTX PROFESSIONAL",2503,"B","Active",{"$f":"VLOOKUP(A1770,[1]Sheet1!$A$1:$C$65512,3,FALSE)","v":{"$error":"#N/A"}},null,null,"No info","линк","https://bg.toolsworld.com/search/?query=","https://bg.toolsworld.com/search/?query=145059"]
[145079,"Kettos végu racsnis kulcs, 18 x 19 mm, CrV, csiszolt króm// MTX PROFESSIONAL",2629,"B","Active",{"$f":"VLOOKUP(A1771,[1]Sheet1!$A$1:$C$65512,3,FALSE)","v":{"$error":"#N/A"}},null,null,"No info","линк","https://bg.toolsworld.com/search/?query=","https://bg.toolsworld.com/search/?query=145079"]
[147365,"Hajlított végu csillagkulcs 8 x 10 mm, króm// SPARTA",505,"B","Active",{"$f":"VLOOKUP(A1772,[1]Sheet1!$A$1:$C$65512,3,FALSE)","v":23},null,null,"No info","линк","https://bg.toolsworld.com/search/?query=","https://bg.toolsworld.com/search/?query=147365"]
[147395,"Hajlított végu csillagkulcs10 x 11 mm, króm// SPARTA",515,"B","Active",{"$f":"VLOOKUP(A1773,[1]Sheet1!$A$1:$C$65512,3,FALSE)","v":943},null,null,"No info","линк","https://bg.toolsworld.com/search/?query=","https://bg.toolsworld.com/search/?query=147395"]
[147475,"Hajlított végu csillagkulcs12 x 13 mm, króm// SPARTA",554,"B","Active",{"$f":"VLOOKUP(A1774,[1]Sheet1!$A$1:$C$65512,3,FALSE)","v":338},null,null,"No info","линк","https://bg.toolsworld.com/search/?query=","https://bg.toolsworld.com/search/?query=147475"]
[147535,"Hajlított végu csillagkulcs14 x 15 mm, króm// SPARTA",613,"B","Active",{"$f":"VLOOKUP(A1775,[1]Sheet1!$A$1:$C$65512,3,FALSE)","v":331},null,null,"No info","линк","https://bg.toolsworld.com/search/?query=","https://bg.toolsworld.com/search/?query=147535"]
[147615,"Hajlított végu csillagkulcs17 x 19 mm, króm// SPARTA",827,"B","Active",{"$f":"VLOOKUP(A1776,[1]Sheet1!$A$1:$C$65512,3,FALSE)","v":285},null,null,"No info","линк","https://bg.toolsworld.com/search/?query=","https://bg.toolsworld.com/search/?query=147615"]
[148019,"Kombinált racsnis kulcs, króm, CrV, 8mm // MTX PROFESSIONAL",1177,"B","Active",{"$f":"VLOOKUP(A1777,[1]Sheet1!$A$1:$C$65512,3,FALSE)","v":12},null,null,"No info","линк","https://bg.toolsworld.com/search/?query=","https://bg.toolsworld.com/search/?query=148019"]
[148029,"Kombinált racsnis kulcs, króm, CrV, 9mm // MTX PROFESSIONAL",1183,"B","Active",{"$f":"VLOOKUP(A1778,[1]Sheet1!$A$1:$C$65512,3,FALSE)","v":378},null,null,"No info",{"$f":"HYPERLINK(L1778,\"линк\")","v":"линк"},"https://bg.toolsworld.com/search/?query=","https://bg.toolsworld.com/search/?query=148029"]
[148039,"Kombinált racsnis kulcs, króm, CrV, 10mm // MTX PROFESSIONAL",1258,"B","Active",{"$f":"VLOOKUP(A1779,[1]Sheet1!$A$1:$C$65512,3,FALSE)","v":195},null,null,"No info","линк","https://bg.toolsworld.com/search/?query=","https://bg.toolsworld.com/search/?query=148039"]
[148049,"Kombinált racsnis kulcs, króm, CrV, 11mm // MTX PROFESSIONAL",1350,"B","Active",{"$f":"VLOOKUP(A1780,[1]Sheet1!$A$1:$C$65512,3,FALSE)","v":425},null,null,"No info","линк","https://bg.toolsworld.com/search/?query=",{"$f":"CONCATENATE(K1780,A1780)","v":"https://bg.toolsworld.com/search/?query=148049"}]
[148059,"Kombinált racsnis kulcs, króm, CrV, 12mm // MTX PROFESSIONAL",1354,"B","Active",{"$f":"VLOOKUP(A1781,[1]Sheet1!$A$1:$C$65512,3,FALSE)","v":914},null,null,"No info","линк","https://bg.toolsworld.com/search/?query=","https://bg.toolsworld.com/search/?query=148059"]
[148069,"Kombinált racsnis kulcs, króm, CrV, 13mm // MTX PROFESSIONAL",1558,"B","Active",{"$f":"VLOOKUP(A1782,[1]Sheet1!$A$1:$C$65512,3,FALSE)","v":453},null,null,"No info","линк","https://bg.toolsworld.com/search/?query=","https://bg.toolsworld.com/search/?query=148069"]
[148079,"Kombinált racsnis kulcs, króm, CrV, 14mm// MTX PROFESSIONAL",1601,"B","Active",{"$f":"VLOOKUP(A1783,[1]Sheet1!$A$1:$C$65512,3,FALSE)","v":135},null,null,"No info","линк","https://bg.toolsworld.com/search/?query=","https://bg.toolsworld.com/search/?query=148079"]
[148089,"Kombinált racsnis kulcs, króm, CrV, 15mm // MTX PROFESSIONAL",1686,"B","Active",{"$f":"VLOOKUP(A1784,[1]Sheet1!$A$1:$C$65512,3,FALSE)","v":60},null,null,"No info","линк","https://bg.toolsworld.com/search/?query=","https://bg.toolsworld.com/search/?query=148089"]
[148099,"Kombinált racsnis kulcs, króm, CrV, 16mm // MTX PROFESSIONAL",1851,"B","Active",{"$f":"VLOOKUP(A1785,[1]Sheet1!$A$1:$C$65512,3,FALSE)","v":20},null,null,"No info","линк","https://bg.toolsworld.com/search/?query=","https://bg.toolsworld.com/search/?query=148099"]
[148109,"Kombinált racsnis kulcs, króm, CrV, 17mm // MTX PROFESSIONAL",1932,"B","Active",{"$f":"VLOOKUP(A1786,[1]Sheet1!$A$1:$C$65512,3,FALSE)","v":200},null,null,"No info","линк","https://bg.toolsworld.com/search/?query=","https://bg.toolsworld.com/search/?query=148109"]
[148129,"Kombinált racsnis kulcs, króm, CrV, 19mm // MTX PROFESSIONAL",2238,"B","Active",{"$f":"VLOOKUP(A1787,[1]Sheet1!$A$1:$C$65512,3,FALSE)","v":96},null,null,"No info","линк","https://bg.toolsworld.com/search/?query=","https://bg.toolsworld.com/search/?query=148129"]
[148609,"Kombinált kulcs Racsnival, 8 mm, CrVfényezett// MTX PROFESSIONAL",1228,"B","Active",{"$f":"VLOOKUP(A1788,[1]Sheet1!$A$1:$C$65512,3,FALSE)","v":1341},null,null,"No info","линк","https://bg.toolsworld.com/search/?query=","https://bg.toolsworld.com/search/?query=148609"]
[148629,"Kombinált kulcs Racsnival, 10 mm, CrVfényezett// MTX PROFESSIONAL",1330,"B","Active",{"$f":"VLOOKUP(A1789,[1]Sheet1!$A$1:$C$65512,3,FALSE)","v":1244},null,null,"No info","линк","https://bg.toolsworld.com/search/?query=","https://bg.toolsworld.com/search/?query=148629"]
[148649,"Kombinált kulcs Racsnival, 12 mm, CrVfényezett// MTX PROFESSIONAL",1444,"B","Active",{"$f":"VLOOKUP(A1790,[1]Sheet1!$A$1:$C$65512,3,FALSE)","v":646},null,null,"No info","линк","https://bg.toolsworld.com/search/?query=","https://bg.toolsworld.com/search/?query=148649"]
[148659,"Kombinált kulcs Racsnival, 13 mm, CrVfényezett// MTX PROFESSIONAL",1491,"B","Active",{"$f":"VLOOKUP(A1791,[1]Sheet1!$A$1:$C$65512,3,FALSE)","v":322},null,null,"No info","линк","https://bg.toolsworld.com/search/?query=","https://bg.toolsworld.com/search/?query=148659"]
[148669,"Kombinált kulcs Racsnival, 14 mm, CrVfényezett// MTX PROFESSIONAL",1609,"B","Active",{"$f":"VLOOKUP(A1792,[1]Sheet1!$A$1:$C$65512,3,FALSE)","v":42},null,null,"No info","линк","https://bg.toolsworld.com/search/?query=","https://bg.toolsworld.com/search/?query=148669"]
[150375,"Kombinált kulcs 10 mm, króm// SPARTA",252,"B","Active",{"$f":"VLOOKUP(A1793,[1]Sheet1!$A$1:$C$65512,3,FALSE)","v":5903},null,null,"No info","линк","https://bg.toolsworld.com/search/?query=","https://bg.toolsworld.com/search/?query=150375"]
[150405,"Kombinált kulcs 13 mm, króm// SPARTA",318,"B","Active",{"$f":"VLOOKUP(A1794,[1]Sheet1!$A$1:$C$65512,3,FALSE)","v":5805},null,null,"No info","линк","https://bg.toolsworld.com/search/?query=","https://bg.toolsworld.com/search/?query=150405"]
[150445,"Kombinált kulcs 17 mm, króm// SPARTA",474,"B","Active",{"$f":"VLOOKUP(A1795,[1]Sheet1!$A$1:$C$65512,3,FALSE)","v":4451},null,null,"No info","линк","https://bg.toolsworld.com/search/?query=","https://bg.toolsworld.com/search/?query=150445"]
[150465,"Kombinált kulcs 19 mm, króm// SPARTA",513,"B","Active",{"$f":"VLOOKUP(A1796,[1]Sheet1!$A$1:$C$65512,3,FALSE)","v":3637},null,null,"No info","линк","https://bg.toolsworld.com/search/?query=","https://bg.toolsworld.com/search/?query=150465"]
[150495,"Kombinált kulcs 22 mm, króm// SPARTA",776,"B","Active",{"$f":"VLOOKUP(A1797,[1]Sheet1!$A$1:$C$65512,3,FALSE)","v":106},null,null,"No info","линк","https://bg.toolsworld.com/search/?query=","https://bg.toolsworld.com/search/?query=150495"]
[150525,"Kombinált kulcs 24 mm, króm// SPARTA",1234,"B","Active",{"$f":"VLOOKUP(A1798,[1]Sheet1!$A$1:$C$65512,3,FALSE)","v":207},null,null,"No info","линк","https://bg.toolsworld.com/search/?query=","https://bg.toolsworld.com/search/?query=150525"]
[151029,"Kombinált kulcs, 6 mm, CrV, fényes króm// MTX",301,"B","Active",{"$f":"VLOOKUP(A1799,[1]Sheet1!$A$1:$C$65512,3,FALSE)","v":162},null,null,"No info","линк","https://bg.toolsworld.com/search/?query=","https://bg.toolsworld.com/search/?query=151029"]
[151039,"Kombinált kulcs, 7 mm, CrV, fényes króm// MTX",281,"B","Active",{"$f":"VLOOKUP(A1800,[1]Sheet1!$A$1:$C$65512,3,FALSE)","v":270},null,null,"No info","линк","https://bg.toolsworld.com/search/?query=","https://bg.toolsworld.com/search/?query=151039"]
[151049,"Kombinált kulcs, 8 mm, CrV, fényes króm// MTX",348,"B","Active",{"$f":"VLOOKUP(A1801,[1]Sheet1!$A$1:$C$65512,3,FALSE)","v":736},null,null,"No info","линк","https://bg.toolsworld.com/search/?query=","https://bg.toolsworld.com/search/?query=151049"]
[151059,"Kombinált kulcs, 9 mm, CrV, fényes króm// MTX",336,"B","Active",{"$f":"VLOOKUP(A1802,[1]Sheet1!$A$1:$C$65512,3,FALSE)","v":1045},null,null,"No info","линк","https://bg.toolsworld.com/search/?query=","https://bg.toolsworld.com/search/?query=151059"]
[151069,"Kombinált kulcs, 10 mm, CrV, fényes króm// MTX",389,"B","Active",{"$f":"VLOOKUP(A1803,[1]Sheet1!$A$1:$C$65512,3,FALSE)","v":718},null,null,"No info","линк","https://bg.toolsworld.com/search/?query=","https://bg.toolsworld.com/search/?query=151069"]
[151079,"Kombinált kulcs, 11 mm, CrV, fényes króm// MTX",405,"B","Active",{"$f":"VLOOKUP(A1804,[1]Sheet1!$A$1:$C$65512,3,FALSE)","v":258},null,null,"No info","линк","https://bg.toolsworld.com/search/?query=","https://bg.toolsworld.com/search/?query=151079"]
[151089,"Kombinált kulcs, 12 mm, CrV, fényes króm// MTX",436,"B","Active",{"$f":"VLOOKUP(A1805,[1]Sheet1!$A$1:$C$65512,3,FALSE)","v":621},null,null,"No info","линк","https://bg.toolsworld.com/search/?query=","https://bg.toolsworld.com/search/?query=151089"]
[151099,"Kombinált kulcs, 13 mm, CrV, fényes króm// MTX",476,"B","Active",{"$f":"VLOOKUP(A1806,[1]Sheet1!$A$1:$C$65512,3,FALSE)","v":790},null,null,"No info","линк","https://bg.toolsworld.com/search/?query=","https://bg.toolsworld.com/search/?query=151099"]
[151109,"Kombinált kulcs, 14 mm, CrV, fényes króm// MTX",501,"B","Active",{"$f":"VLOOKUP(A1807,[1]Sheet1!$A$1:$C$65512,3,FALSE)","v":502},null,null,"No info","линк","https://bg.toolsworld.com/search/?query=","https://bg.toolsworld.com/search/?query=151109"]
[151119,"Kombinált kulcs, 15 mm, CrV, fényes króm// MTX",615,"B","Active",{"$f":"VLOOKUP(A1808,[1]Sheet1!$A$1:$C$65512,3,FALSE)","v":484},null,null,"No info","линк","https://bg.toolsworld.com/search/?query=","https://bg.toolsworld.com/search/?query=151119"]
[151139,"Kombinált kulcs, 17 mm, CrV, fényes króm// MTX",719,"B","Active",{"$f":"VLOOKUP(A1809,[1]Sheet1!$A$1:$C$65512,3,FALSE)","v":614},null,null,"No info","линк","https://bg.toolsworld.com/search/?query=","https://bg.toolsworld.com/search/?query=151139"]
[151159,"Kombinált kulcs, 19 mm, CrV, fényes króm// MTX",884,"B","Active",{"$f":"VLOOKUP(A1810,[1]Sheet1!$A$1:$C$65512,3,FALSE)","v":567},null,null,"No info","линк","https://bg.toolsworld.com/search/?query=","https://bg.toolsworld.com/search/?query=151159"]
[151169,"Kombinált kulcs, 20 mm, CrV, fényes króm// MTX",1079,"B","Active",{"$f":"VLOOKUP(A1811,[1]Sheet1!$A$1:$C$65512,3,FALSE)","v":244},null,null,"No info","линк","https://bg.toolsworld.com/search/?query=","https://bg.toolsworld.com/search/?query=151169"]
[151189,"Kombinált kulcs, 22 mm, CrV, fényes króm// MTX",1132,"B","Active",{"$f":"VLOOKUP(A1812,[1]Sheet1!$A$1:$C$65512,3,FALSE)","v":439},null,null,"No info","линк","https://bg.toolsworld.com/search/?query=","https://bg.toolsworld.com/search/?query=151189"]
[151199,"Kombinált kulcs, 24 mm, CrV, fényes króm// MTX",1599,"B","Active",{"$f":"VLOOKUP(A1813,[1]Sheet1!$A$1:$C$65512,3,FALSE)","v":537},null,null,"No info","линк","https://bg.toolsworld.com/search/?query=","https://bg.toolsworld.com/search/?query=151199"]
[151209,"Kombinált kulcs, 27 mm, CrV, fényes króm// MTX",1928,"B","Active",{"$f":"VLOOKUP(A1814,[1]Sheet1!$A$1:$C$65512,3,FALSE)","v":494},null,null,"No info","линк","https://bg.toolsworld.com/search/?query=","https://bg.toolsworld.com/search/?query=151209"]
[151219,"Kombinált kulcs, 32 mm, CrV, fényes króm// MTX",2837,"B","Active",{"$f":"VLOOKUP(A1815,[1]Sheet1!$A$1:$C$65512,3,FALSE)","v":139},null,null,"No info","линк","https://bg.toolsworld.com/search/?query=","https://bg.toolsworld.com/search/?query=151219"]
[151509,"Kombinált kulcs, 6 mm, CrV, csiszolt// MTX",228,"B","Active",{"$f":"VLOOKUP(A1816,[1]Sheet1!$A$1:$C$65512,3,FALSE)","v":3098},null,null,"No info","линк","https://bg.toolsworld.com/search/?query=","https://bg.toolsworld.com/search/?query=151509"]
[151519,"Kombinált kulcs, 7 mm, CrV, csiszolt// MTX",238,"B","Active",{"$f":"VLOOKUP(A1817,[1]Sheet1!$A$1:$C$65512,3,FALSE)","v":7431},null,null,"No info","линк","https://bg.toolsworld.com/search/?query=","https://bg.toolsworld.com/search/?query=151519"]
[151529,"Kombinált kulcs, 8 mm, CrV, csiszolt// MTX",263,"B","Active",{"$f":"VLOOKUP(A1818,[1]Sheet1!$A$1:$C$65512,3,FALSE)","v":9662},null,null,"No info","линк","https://bg.toolsworld.com/search/?query=","https://bg.toolsworld.com/search/?query=151529"]
[151539,"Kombinált kulcs, 9 mm, CrV, csiszolt// MTX",267,"B","Active",{"$f":"VLOOKUP(A1819,[1]Sheet1!$A$1:$C$65512,3,FALSE)","v":6693},null,null,"No info","линк","https://bg.toolsworld.com/search/?query=","https://bg.toolsworld.com/search/?query=151539"]
[151549,"Kombinált kulcs, 10 mm, CrV, csiszolt// MTX",279,"B","Active",{"$f":"VLOOKUP(A1820,[1]Sheet1!$A$1:$C$65512,3,FALSE)","v":11103},null,null,"No info","линк","https://bg.toolsworld.com/search/?query=","https://bg.toolsworld.com/search/?query=151549"]
[151559,"Kombinált kulcs, 11 mm, CrV, csiszolt// MTX",297,"B","Active",{"$f":"VLOOKUP(A1821,[1]Sheet1!$A$1:$C$65512,3,FALSE)","v":6568},null,null,"No info","линк","https://bg.toolsworld.com/search/?query=","https://bg.toolsworld.com/search/?query=151559"]
[151569,"Kombinált kulcs, 12 mm, CrV, csiszolt// MTX",320,"B","Active",{"$f":"VLOOKUP(A1822,[1]Sheet1!$A$1:$C$65512,3,FALSE)","v":4687},null,null,"No info","линк","https://bg.toolsworld.com/search/?query=","https://bg.toolsworld.com/search/?query=151569"]
[151579,"Kombinált kulcs, 13 mm, CrV, csiszolt// MTX",358,"B","Active",{"$f":"VLOOKUP(A1823,[1]Sheet1!$A$1:$C$65512,3,FALSE)","v":13876},null,null,"No info","линк","https://bg.toolsworld.com/search/?query=","https://bg.toolsworld.com/search/?query=151579"]
[151589,"Kombinált kulcs, 14 mm, CrV, csiszolt// MTX",405,"B","Active",{"$f":"VLOOKUP(A1824,[1]Sheet1!$A$1:$C$65512,3,FALSE)","v":4394},null,null,"No info","линк","https://bg.toolsworld.com/search/?query=","https://bg.toolsworld.com/search/?query=151589"]
[151599,"Kombinált kulcs, 15 mm, CrV, csiszolt// MTX",466,"B","Active",{"$f":"VLOOKUP(A1825,[1]Sheet1!$A$1:$C$65512,3,FALSE)","v":5686},null,null,"No info","линк","https://bg.toolsworld.com/search/?query=","https://bg.toolsworld.com/search/?query=151599"]
[151609,"Kombinált villáskulcs, 16 mm, CrV, polírozott// MTX",548,"B","Active",{"$f":"VLOOKUP(A1826,[1]Sheet1!$A$1:$C$65512,3,FALSE)","v":179},null,null,"No info","линк","https://bg.toolsworld.com/search/?query=","https://bg.toolsworld.com/search/?query=151609"]
[151619,"Kombinált kulcs, 17 mm, CrV, csiszolt// MTX",542,"B","Active",{"$f":"VLOOKUP(A1827,[1]Sheet1!$A$1:$C$65512,3,FALSE)","v":3747},null,null,"No info","линк","https://bg.toolsworld.com/search/?query=","https://bg.toolsworld.com/search/?query=151619"]
[151629,"Kombinált villáskulcs, 18 mm, CrV, polírozott// MTX",688,"B","Active",{"$f":"VLOOKUP(A1828,[1]Sheet1!$A$1:$C$65512,3,FALSE)","v":305},null,null,"No info","линк","https://bg.toolsworld.com/search/?query=","https://bg.toolsworld.com/search/?query=151629"]
[151639,"Kombinált kulcs, 19 mm, CrV, csiszolt// MTX",660,"B","Active",{"$f":"VLOOKUP(A1829,[1]Sheet1!$A$1:$C$65512,3,FALSE)","v":1028},null,null,"No info","линк","https://bg.toolsworld.com/search/?query=","https://bg.toolsworld.com/search/?query=151639"]
[151649,"Kombinált kulcs, 20 mm, CrV, csiszolt// MTX",794,"B","Active",{"$f":"VLOOKUP(A1830,[1]Sheet1!$A$1:$C$65512,3,FALSE)","v":2130},null,null,"No info","линк","https://bg.toolsworld.com/search/?query=","https://bg.toolsworld.com/search/?query=151649"]
[151659,"Kombinált villáskulcs, 21 mm, CrV, polírozott// MTX",900,"B","Active",{"$f":"VLOOKUP(A1831,[1]Sheet1!$A$1:$C$65512,3,FALSE)","v":92},null,null,"No info","линк","https://bg.toolsworld.com/search/?query=","https://bg.toolsworld.com/search/?query=151659"]
[151669,"Kombinált kulcs, 22 mm, CrV, csiszolt// MTX",845,"B","Active",{"$f":"VLOOKUP(A1832,[1]Sheet1!$A$1:$C$65512,3,FALSE)","v":2163},null,null,"No info","линк","https://bg.toolsworld.com/search/?query=","https://bg.toolsworld.com/search/?query=151669"]
[151679,"Kombinált kulcs, 32 mm, CrV, csiszolt// MTX",2480,"B","Active",{"$f":"VLOOKUP(A1833,[1]Sheet1!$A$1:$C$65512,3,FALSE)","v":1022},null,null,"No info","линк","https://bg.toolsworld.com/search/?query=","https://bg.toolsworld.com/search/?query=151679"]
[151699,"Kombinált villáskulcs, 24 mm, CrV, polírozott// MTX",1651,"B","Active",{"$f":"VLOOKUP(A1834,[1]Sheet1!$A$1:$C$65512,3,FALSE)","v":118},null,null,"No info","линк","https://bg.toolsworld.com/search/?query=","https://bg.toolsworld.com/search/?query=151699"]
[151759,"Kombinált villáskulcs, 36 mm, CrV, polírozott// MTX",6628,"B","Active",{"$f":"VLOOKUP(A1835,[1]Sheet1!$A$1:$C$65512,3,FALSE)","v":8},null,null,"No info","линк","https://bg.toolsworld.com/search/?query=","https://bg.toolsworld.com/search/?query=151759"]
[152319,"Villáskulcss szett, CrV, króm, 6x17 mm, 6 db// MTX",1963,"B","Active",{"$f":"VLOOKUP(A1836,[1]Sheet1!$A$1:$C$65512,3,FALSE)","v":50},null,null,"No info","линк","https://bg.toolsworld.com/search/?query=","https://bg.toolsworld.com/search/?query=152319"]
[152389,"Villáskulcss szett, elliptikus, tukrös hatásúra csiszolva, 6-22 mm , CrV, 8 db // MTX MASTER",4509,"B","Active",{"$f":"VLOOKUP(A1837,[1]Sheet1!$A$1:$C$65512,3,FALSE)","v":712},null,null,"No info","линк","https://bg.toolsworld.com/search/?query=","https://bg.toolsworld.com/search/?query=152389"]
[152429,"Villáskulcss szett, elliptikus, tukrös hatásúra csiszolva, 6-32 mm , CrV, 12 db // MTX MASTER",10249,"B","Active",{"$f":"VLOOKUP(A1838,[1]Sheet1!$A$1:$C$65512,3,FALSE)","v":609},null,null,"No info","линк","https://bg.toolsworld.com/search/?query=","https://bg.toolsworld.com/search/?query=152429"]
[152755,"Villáskulcs szett, 8 db, 6-22 mm, króm// SPARTA",2142,"B","Active",{"$f":"VLOOKUP(A1839,[1]Sheet1!$A$1:$C$65512,3,FALSE)","v":4625},null,null,"No info","линк","https://bg.toolsworld.com/search/?query=","https://bg.toolsworld.com/search/?query=152755"]
[152769,"Villáskulcss szett, CrV, csiszolt, 6x22 mm, 8 db // MTX",3364,"B","Active",{"$f":"VLOOKUP(A1840,[1]Sheet1!$A$1:$C$65512,3,FALSE)","v":397},null,null,"No info","линк","https://bg.toolsworld.com/search/?query=","https://bg.toolsworld.com/search/?query=152769"]
[152945,"Villáskulcs szett, 12 db, 6-32 mm, króm// SPARTA",5425,"B","Active",{"$f":"VLOOKUP(A1841,[1]Sheet1!$A$1:$C$65512,3,FALSE)","v":157},null,null,"No info","линк","https://bg.toolsworld.com/search/?query=","https://bg.toolsworld.com/search/?query=152945"]
[153305,"Csillagkulcs szett, 6 db, 6-17 mm, króm// SPARTA",2525,"B","Active",{"$f":"VLOOKUP(A1842,[1]Sheet1!$A$1:$C$65512,3,FALSE)","v":239},null,null,"No info",{"$f":"HYPERLINK(L1842,\"линк\")","v":"линк"},"https://bg.toolsworld.com/search/?query=","https://bg.toolsworld.com/search/?query=153305"]
[153319,"Csillagkulcs szett, CrV, csiszolt króm, 6-17 mm, 6 db // MTX",3592,"B","Active",{"$f":"VLOOKUP(A1843,[1]Sheet1!$A$1:$C$65512,3,FALSE)","v":2314},null,null,"No info","линк","https://bg.toolsworld.com/search/?query=","https://bg.toolsworld.com/search/?query=153319"]
[153329,"Csillagkulcs szett, CrV, csiszolt króm, 6-22 mm, 8 db // MTX",5466,"B","Active",{"$f":"VLOOKUP(A1844,[1]Sheet1!$A$1:$C$65512,3,FALSE)","v":227},null,null,"No info","линк","https://bg.toolsworld.com/search/?query=",{"$f":"CONCATENATE(K1844,A1844)","v":"https://bg.toolsworld.com/search/?query=153329"}]
[153755,"Csillagkulcs szett, 8 db, 6-22 mm, króm// SPARTA",4663,"B","Active",{"$f":"VLOOKUP(A1845,[1]Sheet1!$A$1:$C$65512,3,FALSE)","v":74},null,null,"No info","линк","https://bg.toolsworld.com/search/?query=","https://bg.toolsworld.com/search/?query=153755"]
[154029,"Kombinált kulcs szett, 6 - 17 mm, CrV, fényes véggel, 6 db // MTX",2260,"B","Active",{"$f":"VLOOKUP(A1846,[1]Sheet1!$A$1:$C$65512,3,FALSE)","v":276},null,null,"No info","линк","https://bg.toolsworld.com/search/?query=","https://bg.toolsworld.com/search/?query=154029"]
[154069,"8 db-os kombinált villáskulcs készlet, 8-19 mm, CrV, szatén kivitel// MTX",2753,"B","Active",{"$f":"VLOOKUP(A1847,[1]Sheet1!$A$1:$C$65512,3,FALSE)","v":{"$error":"#N/A"}},null,null,"No info","линк","https://bg.toolsworld.com/search/?query=","https://bg.toolsworld.com/search/?query=154069"]
[154089,"Kombinált kulcs szett, 6 - 19 mm, CrV, fényes  véggel, 8 db // MTX",3853,"B","Active",{"$f":"VLOOKUP(A1848,[1]Sheet1!$A$1:$C$65512,3,FALSE)","v":{"$error":"#N/A"}},null,null,"No info","линк","https://bg.toolsworld.com/search/?query=","https://bg.toolsworld.com/search/?query=154089"]
[154109,"Kombinált kulcs szett, 6 - 22 mm, CrV, fényes véggel, 9 db // MTX",5048,"B","Active",{"$f":"VLOOKUP(A1849,[1]Sheet1!$A$1:$C$65512,3,FALSE)","v":442},null,null,"No info","линк","https://bg.toolsworld.com/search/?query=","https://bg.toolsworld.com/search/?query=154109"]
[154129,"Kombinált kulcs szett, 6 - 22 mm, CrV, fényes véggel, 12 db // MTX",6038,"B","Active",{"$f":"VLOOKUP(A1850,[1]Sheet1!$A$1:$C$65512,3,FALSE)","v":980},null,null,"No info","линк","https://bg.toolsworld.com/search/?query=","https://bg.toolsworld.com/search/?query=154129"]
[154149,"Kombinált kulcs szett, 6 - 17 mm, CrV, csiszolt, 6 db // MTX",1945,"B","Active",{"$f":"VLOOKUP(A1851,[1]Sheet1!$A$1:$C$65512,3,FALSE)","v":1517},null,null,"No info","линк","https://bg.toolsworld.com/search/?query=","https://bg.toolsworld.com/search/?query=154149"]
[154229,"Kombinált kulcs szett, 6 - 19 mm, CrV, csiszolt, 8 db// MTX",3103,"B","Active",{"$f":"VLOOKUP(A1852,[1]Sheet1!$A$1:$C$65512,3,FALSE)","v":987},null,null,"No info","линк","https://bg.toolsworld.com/search/?query=","https://bg.toolsworld.com/search/?query=154229"]
[154249,"Kombinált kulcs szett, 6 - 22 mm, CrV, csiszolt, 9 db // MTX",3722,"B","Active",{"$f":"VLOOKUP(A1853,[1]Sheet1!$A$1:$C$65512,3,FALSE)","v":627},null,null,"No info","линк","https://bg.toolsworld.com/search/?query=","https://bg.toolsworld.com/search/?query=154249"]
[154259,"Kombinált kulcs szett, 6-32 mm, CrV, csiszolt, 25 db // MTX",22314,"B","Active",{"$f":"VLOOKUP(A1854,[1]Sheet1!$A$1:$C$65512,3,FALSE)","v":1182},null,null,"No info","линк","https://bg.toolsworld.com/search/?query=","https://bg.toolsworld.com/search/?query=154259"]
[154269,"Kombinált kulcs szett, 6 - 22 mm, CrV, csiszolt, 12 db // MTX",5215,"B","Active",{"$f":"VLOOKUP(A1855,[1]Sheet1!$A$1:$C$65512,3,FALSE)","v":168},null,null,"No info","линк","https://bg.toolsworld.com/search/?query=","https://bg.toolsworld.com/search/?query=154269"]
[154305,"Kombinált kulcs szett, 6 db, 6-17 mm, króm// SPARTA",1605,"B","Active",{"$f":"VLOOKUP(A1856,[1]Sheet1!$A$1:$C$65512,3,FALSE)","v":" "},null,null,"No info","линк","https://bg.toolsworld.com/search/?query=","https://bg.toolsworld.com/search/?query=154305"]
[154419,"20 db-os Kombinált villáskulcs készlet, polírozott, 6-32 mm, CrV// MTX",19350,"B","Active",{"$f":"VLOOKUP(A1857,[1]Sheet1!$A$1:$C$65512,3,FALSE)","v":22},null,null,"No info","линк","https://bg.toolsworld.com/search/?query=","https://bg.toolsworld.com/search/?query=154419"]
[154605,"Kombinált kulcs szett, 8 db, 6-19 mm, króm// SPARTA",2248,"B","Active",{"$f":"VLOOKUP(A1858,[1]Sheet1!$A$1:$C$65512,3,FALSE)","v":1566},null,null,"No info","линк","https://bg.toolsworld.com/search/?query=","https://bg.toolsworld.com/search/?query=154605"]
[155019,"Állítható csokulcs, 150 mm // MTX",1006,"B","Active",{"$f":"VLOOKUP(A1859,[1]Sheet1!$A$1:$C$65512,3,FALSE)","v":70},null,null,"No info","линк","https://bg.toolsworld.com/search/?query=","https://bg.toolsworld.com/search/?query=155019"]
[155039,"Állítható csokulcs, 200 mm // MTX",1358,"B","Active",{"$f":"VLOOKUP(A1860,[1]Sheet1!$A$1:$C$65512,3,FALSE)","v":79},null,null,"No info","линк","https://bg.toolsworld.com/search/?query=","https://bg.toolsworld.com/search/?query=155039"]
[155059,"Állítható csokulcs, 250 mm // MTX",1821,"B","Active",{"$f":"VLOOKUP(A1861,[1]Sheet1!$A$1:$C$65512,3,FALSE)","v":" "},null,null,"No info","линк","https://bg.toolsworld.com/search/?query=","https://bg.toolsworld.com/search/?query=155059"]
[155079,"Állítható csokulcs, 300 mm // MTX",2511,"B","Active",{"$f":"VLOOKUP(A1862,[1]Sheet1!$A$1:$C$65512,3,FALSE)","v":65},null,null,"No info","линк","https://bg.toolsworld.com/search/?query=","https://bg.toolsworld.com/search/?query=155079"]
[155099,"Állítható csokulcs, 375 mm // MTX",4873,"B","Active",{"$f":"VLOOKUP(A1863,[1]Sheet1!$A$1:$C$65512,3,FALSE)","v":44},null,null,"No info","линк","https://bg.toolsworld.com/search/?query=","https://bg.toolsworld.com/search/?query=155099"]
[155119,"Állítható csokulcs, 450 mm // MTX",9475,"B","Active",{"$f":"VLOOKUP(A1864,[1]Sheet1!$A$1:$C$65512,3,FALSE)","v":32},null,null,"No info","линк","https://bg.toolsworld.com/search/?query=","https://bg.toolsworld.com/search/?query=155119"]
[155169,"Állítható csokulcs 150 mm, megfordítható pofa, két komponensu nyél//MTX",1291,"B","Active",{"$f":"VLOOKUP(A1865,[1]Sheet1!$A$1:$C$65512,3,FALSE)","v":52},null,null,"No info","линк","https://bg.toolsworld.com/search/?query=","https://bg.toolsworld.com/search/?query=155169"]
[155179,"Állítható csokulcs, 200 mm, megfordítható pofa, két komponensu nyél// MTX",1745,"B","Active",{"$f":"VLOOKUP(A1866,[1]Sheet1!$A$1:$C$65512,3,FALSE)","v":138},null,null,"No info","линк","https://bg.toolsworld.com/search/?query=","https://bg.toolsworld.com/search/?query=155179"]
[155189,"Állítható csokulcs, 250 mm, megfordítható pofa, két komponensu nyél// MTX",2588,"B","Active",{"$f":"VLOOKUP(A1867,[1]Sheet1!$A$1:$C$65512,3,FALSE)","v":47},null,null,"No info","линк","https://bg.toolsworld.com/search/?query=","https://bg.toolsworld.com/search/?query=155189"]
[155205,"Állítható csokulcs, krómozott 150mm//SPARTA",786,"B","Active",{"$f":"VLOOKUP(A1868,[1]Sheet1!$A$1:$C$65512,3,FALSE)","v":" "},null,null,"No info","линк","https://bg.toolsworld.com/search/?query=","https://bg.toolsworld.com/search/?query=155205"]
[155255,"Állítható csokulcs, króm, 200 mm//SPARTA",1081,"B","Active",{"$f":"VLOOKUP(A1869,[1]Sheet1!$A$1:$C$65512,3,FALSE)","v":" "},null,null,"No info","линк","https://bg.toolsworld.com/search/?query=","https://bg.toolsworld.com/search/?query=155255"]
[155355,"Állítható csavarkulcs, krómozott, 300mm// Sparta",1894,"B","Active",{"$f":"VLOOKUP(A1870,[1]Sheet1!$A$1:$C$65512,3,FALSE)","v":{"$error":"#N/A"}},null,null,"No info","линк","https://bg.toolsworld.com/search/?query=","https://bg.toolsworld.com/search/?query=155355"]
[155405,"Állítható csokulcs, króm, 375 mm//SPARTA",3555,"B","Active",{"$f":"VLOOKUP(A1871,[1]Sheet1!$A$1:$C$65512,3,FALSE)","v":126},null,null,"No info","линк","https://bg.toolsworld.com/search/?query=","https://bg.toolsworld.com/search/?query=155405"]
[155455,"Állítható csokulcs, króm, 450 mm//SPARTA",4977,"B","Active",{"$f":"VLOOKUP(A1872,[1]Sheet1!$A$1:$C$65512,3,FALSE)","v":4},null,null,"No info","линк","https://bg.toolsworld.com/search/?query=","https://bg.toolsworld.com/search/?query=155455"]
[157019,"Állítható csokulcs NICKEL 250 mm, Króm-vanádium, kétkomponensu nyél// MTX",2554,"B","Active",{"$f":"VLOOKUP(A1873,[1]Sheet1!$A$1:$C$65512,3,FALSE)","v":{"$error":"#N/A"}},null,null,"No info","линк","https://bg.toolsworld.com/search/?query=","https://bg.toolsworld.com/search/?query=157019"]
[157079,"Cso fogó, 165 mm, burkolt markolat// MTX",1250,"B","Active",{"$f":"VLOOKUP(A1874,[1]Sheet1!$A$1:$C$65512,3,FALSE)","v":147},null,null,"No info","линк","https://bg.toolsworld.com/search/?query=","https://bg.toolsworld.com/search/?query=157079"]
[157089,"Cso fogó, 250 mm, burkolt markolat// MTX",1495,"B","Active",{"$f":"VLOOKUP(A1875,[1]Sheet1!$A$1:$C$65512,3,FALSE)","v":623},null,null,"No info","линк","https://bg.toolsworld.com/search/?query=","https://bg.toolsworld.com/search/?query=157089"]
[157099,"Cso fogó, 300 mm, burkolt markolat// MTX",2342,"B","Active",{"$f":"VLOOKUP(A1876,[1]Sheet1!$A$1:$C$65512,3,FALSE)","v":190},null,null,"No info","линк","https://bg.toolsworld.com/search/?query=","https://bg.toolsworld.com/search/?query=157099"]
[157185,"Cso fogó, PVC markolat 250 mm// SPARTA",1450,"B","Active",{"$f":"VLOOKUP(A1877,[1]Sheet1!$A$1:$C$65512,3,FALSE)","v":2230},null,null,"No info","линк","https://bg.toolsworld.com/search/?query=","https://bg.toolsworld.com/search/?query=157185"]
[157195,"Cso fogó, PVC markolat 300 mm// SPARTA",2503,"B","Active",{"$f":"VLOOKUP(A1878,[1]Sheet1!$A$1:$C$65512,3,FALSE)","v":330},null,null,"No info","линк","https://bg.toolsworld.com/search/?query=","https://bg.toolsworld.com/search/?query=157195"]
[157565,"Csokulcs \"Stillson\" 2,0\"x254mm// SPARTA",1719,"B","Active",{"$f":"VLOOKUP(A1879,[1]Sheet1!$A$1:$C$65512,3,FALSE)","v":392},null,null,"No info","линк","https://bg.toolsworld.com/search/?query=","https://bg.toolsworld.com/search/?query=157565"]
[157645,"Csokulcs \"Stillson\" 2,5\"x350mm// SPARTA",1935,"B","Active",{"$f":"VLOOKUP(A1880,[1]Sheet1!$A$1:$C$65512,3,FALSE)","v":335},null,null,"No info","линк","https://bg.toolsworld.com/search/?query=","https://bg.toolsworld.com/search/?query=157645"]
[157685,"Csokulcs \"Stillson\" 3,3\" x 450 mm// SPARTA",3014,"B","Active",{"$f":"VLOOKUP(A1881,[1]Sheet1!$A$1:$C$65512,3,FALSE)","v":1294},null,null,"No info","линк","https://bg.toolsworld.com/search/?query=","https://bg.toolsworld.com/search/?query=157685"]
[158309,"5 db-os gyémánt reszelo szett, 140x50x3// MTX",1120,"B","Active",{"$f":"VLOOKUP(A1882,[1]Sheet1!$A$1:$C$65512,3,FALSE)","v":281},null,null,"No info","линк","https://bg.toolsworld.com/search/?query=","https://bg.toolsworld.com/search/?query=158309"]
[158319,"6 db-os gyémánt reszelo szett, 140x50x3// MTX",1383,"B","Active",{"$f":"VLOOKUP(A1883,[1]Sheet1!$A$1:$C$65512,3,FALSE)","v":27},null,null,"No info","линк","https://bg.toolsworld.com/search/?query=","https://bg.toolsworld.com/search/?query=158319"]
[158329,"9 db-os gyémánt reszelos szett, 140x50x3// MTX",2321,"B","Active",{"$f":"VLOOKUP(A1884,[1]Sheet1!$A$1:$C$65512,3,FALSE)","v":168},null,null,"No info","линк","https://bg.toolsworld.com/search/?query=","https://bg.toolsworld.com/search/?query=158329"]
[158339,"Gyémánt reszelo szett, 140x70x3, 5 db// MTX",1218,"B","Active",{"$f":"VLOOKUP(A1885,[1]Sheet1!$A$1:$C$65512,3,FALSE)","v":176},null,null,"No info","линк","https://bg.toolsworld.com/search/?query=","https://bg.toolsworld.com/search/?query=158339"]
[158349,"Gyémánt reszelo szett, 140x70x3, 6 db // MTX",1464,"B","Active",{"$f":"VLOOKUP(A1886,[1]Sheet1!$A$1:$C$65512,3,FALSE)","v":140},null,null,"No info","линк","https://bg.toolsworld.com/search/?query=","https://bg.toolsworld.com/search/?query=158349"]
[158359,"Gyémánt reszelos szett, 140x50x3, 10 db // MTX",2629,"B","Active",{"$f":"VLOOKUP(A1887,[1]Sheet1!$A$1:$C$65512,3,FALSE)","v":344},null,null,"No info","линк","https://bg.toolsworld.com/search/?query=","https://bg.toolsworld.com/search/?query=158359"]
[168079,"Gyorszáró tokmány zárral 2-13 mm - 1/2\"//MTX",2588,"B","Active",{"$f":"VLOOKUP(A1888,[1]Sheet1!$A$1:$C$65512,3,FALSE)","v":141},null,null,"No info","линк","https://bg.toolsworld.com/search/?query=","https://bg.toolsworld.com/search/?query=168079"]
[168089,"tokmány 1-10 mm - 1 / 2 \"//MTX",1146,"B","Active",{"$f":"VLOOKUP(A1889,[1]Sheet1!$A$1:$C$65512,3,FALSE)","v":77},null,null,"No info","линк","https://bg.toolsworld.com/search/?query=","https://bg.toolsworld.com/search/?query=168089"]
[168099,"Gyorszáró tokmány zárral 2-13 mm - 1/2\"//MTX",1601,"B","Active",{"$f":"VLOOKUP(A1890,[1]Sheet1!$A$1:$C$65512,3,FALSE)","v":756},null,null,"No info","линк","https://bg.toolsworld.com/search/?query=","https://bg.toolsworld.com/search/?query=168099"]
[168109,"tokmány 1-10 mm - 3 / 8 \"//MTX",1138,"B","Active",{"$f":"VLOOKUP(A1891,[1]Sheet1!$A$1:$C$65512,3,FALSE)","v":56},null,null,"No info","линк","https://bg.toolsworld.com/search/?query=","https://bg.toolsworld.com/search/?query=168109"]
[168129,"tokmány 2-13 mm - 3 / 8 \"// MTX",1609,"B","Active",{"$f":"VLOOKUP(A1892,[1]Sheet1!$A$1:$C$65512,3,FALSE)","v":60},null,null,"No info","линк","https://bg.toolsworld.com/search/?query=","https://bg.toolsworld.com/search/?query=168129"]
[168149,"Kulcs nélküli fúrótokmány 2-13 mm - M12х1,25// MTX",1605,"B","Active",{"$f":"VLOOKUP(A1893,[1]Sheet1!$A$1:$C$65512,3,FALSE)","v":97},null,null,"No info","линк","https://bg.toolsworld.com/search/?query=","https://bg.toolsworld.com/search/?query=168149"]
[168159,"Kulcsos fúrótokmány 1,5-10 mm - 1 / 2 \"// MTX",920,"B","Active",{"$f":"VLOOKUP(A1894,[1]Sheet1!$A$1:$C$65512,3,FALSE)","v":{"$error":"#N/A"}},null,null,"No info","линк","https://bg.toolsworld.com/search/?query=","https://bg.toolsworld.com/search/?query=168159"]
[168179,"Kulcsos tokmány 1,5-13 mm - 1 / 2 \"// MTX",1277,"B","Active",{"$f":"VLOOKUP(A1895,[1]Sheet1!$A$1:$C$65512,3,FALSE)","v":111},null,null,"No info","линк","https://bg.toolsworld.com/search/?query=","https://bg.toolsworld.com/search/?query=168179"]
[168189,"Kulcsos tokmány 1,5-13 mm - 3 / 8//MTX",1271,"B","Active",{"$f":"VLOOKUP(A1896,[1]Sheet1!$A$1:$C$65512,3,FALSE)","v":147},null,null,"No info","линк","https://bg.toolsworld.com/search/?query=","https://bg.toolsworld.com/search/?query=168189"]
[168199,"Kulcsos tokmány 3-16 mm - B16 //MTX",2554,"B","Active",{"$f":"VLOOKUP(A1897,[1]Sheet1!$A$1:$C$65512,3,FALSE)","v":40},null,null,"No info","линк","https://bg.toolsworld.com/search/?query=","https://bg.toolsworld.com/search/?query=168199"]
[168259,"Kulcsos fúrótokmány 1,5-13 mm - M12x1, 25// MTX",1287,"B","Active",{"$f":"VLOOKUP(A1898,[1]Sheet1!$A$1:$C$65512,3,FALSE)","v":{"$error":"#N/A"}},null,null,"No info","линк","https://bg.toolsworld.com/search/?query=","https://bg.toolsworld.com/search/?query=168259"]
[168859,"Tokmánykulcs, 10 mm, //MTX",263,"B","Active",{"$f":"VLOOKUP(A1899,[1]Sheet1!$A$1:$C$65512,3,FALSE)","v":302},null,null,"No info","линк","https://bg.toolsworld.com/search/?query=","https://bg.toolsworld.com/search/?query=168859"]
[168869,"Tokmánykulcs, 13 mm//MTX",285,"B","Active",{"$f":"VLOOKUP(A1900,[1]Sheet1!$A$1:$C$65512,3,FALSE)","v":384},null,null,"No info","линк","https://bg.toolsworld.com/search/?query=","https://bg.toolsworld.com/search/?query=168869"]
[168899,"Tokmánykulcs, 16 mm //MTX",383,"B","Active",{"$f":"VLOOKUP(A1901,[1]Sheet1!$A$1:$C$65512,3,FALSE)","v":291},null,null,"No info","линк","https://bg.toolsworld.com/search/?query=","https://bg.toolsworld.com/search/?query=168899"]
[169019,"Kombinált fogó 160mm, két komponensu nyél// MTX PROFESSIONAL",3063,"B","Active",{"$f":"VLOOKUP(A1902,[1]Sheet1!$A$1:$C$65512,3,FALSE)","v":3228},null,null,"No info","линк","https://bg.toolsworld.com/search/?query=","https://bg.toolsworld.com/search/?query=169019"]
[169029,"Lapos csoru fogó, 160 mm, két komponensu nyél, nikkelezett// MTX",1334,"B","Active",{"$f":"VLOOKUP(A1903,[1]Sheet1!$A$1:$C$65512,3,FALSE)","v":1443},null,null,"No info","линк","https://bg.toolsworld.com/search/?query=","https://bg.toolsworld.com/search/?query=169029"]
[169039,"Kombinált fogó 180mm, két komponensu nyél// MTX PROFESSIONAL",3500,"B","Active",{"$f":"VLOOKUP(A1904,[1]Sheet1!$A$1:$C$65512,3,FALSE)","v":2832},null,null,"No info","линк","https://bg.toolsworld.com/search/?query=","https://bg.toolsworld.com/search/?query=169039"]
[169049,"Lapos csoru fogó, 180 mm, két komponensu nyél, nikkelezett// MTX",1468,"B","Active",{"$f":"VLOOKUP(A1905,[1]Sheet1!$A$1:$C$65512,3,FALSE)","v":1611},null,null,"No info","линк","https://bg.toolsworld.com/search/?query=","https://bg.toolsworld.com/search/?query=169049"]
[169059,"Kombinált fogó 200mm, két komponensu nyél// MTX PROFESSIONAL",4142,"B","Active",{"$f":"VLOOKUP(A1906,[1]Sheet1!$A$1:$C$65512,3,FALSE)","v":2780},null,null,"No info",{"$f":"HYPERLINK(L1906,\"линк\")","v":"линк"},"https://bg.toolsworld.com/search/?query=","https://bg.toolsworld.com/search/?query=169059"]
[169069,"Lapos csoru fogó, 200 mm, két komponensu nyél, nikkelezett// MTX",1753,"B","Active",{"$f":"VLOOKUP(A1907,[1]Sheet1!$A$1:$C$65512,3,FALSE)","v":503},null,null,"No info","линк","https://bg.toolsworld.com/search/?query=","https://bg.toolsworld.com/search/?query=169069"]
[169089,"Lapos fogó, 160 mm, nikkelezett, kétkomponensű fogantyú, GRAND vonal// MTX",1499,"B","Active",{"$f":"VLOOKUP(A1908,[1]Sheet1!$A$1:$C$65512,3,FALSE)","v":{"$error":"#N/A"}},null,null,"No info","линк","https://bg.toolsworld.com/search/?query=",{"$f":"CONCATENATE(K1908,A1908)","v":"https://bg.toolsworld.com/search/?query=169089"}]
[169099,"Lapos fogó, 180 mm, nikkelezett, kétkomponensű fogantyú, GRAND vonal// MTX",1753,"B","Active",{"$f":"VLOOKUP(A1909,[1]Sheet1!$A$1:$C$65512,3,FALSE)","v":{"$error":"#N/A"}},null,null,"No info","линк","https://bg.toolsworld.com/search/?query=","https://bg.toolsworld.com/search/?query=169099"]
[169119,"Lapos fogó, 200 mm, nikkelezett, kétkomponensű fogantyú, GRAND vonal// MTX",1967,"B","Active",{"$f":"VLOOKUP(A1910,[1]Sheet1!$A$1:$C$65512,3,FALSE)","v":{"$error":"#N/A"}},null,null,"No info","линк","https://bg.toolsworld.com/search/?query=","https://bg.toolsworld.com/search/?query=169119"]
[169647,"160mm-es kombinált fogó kétkomponensű nyéllel, polírozott, Comfort line// Sparta",1083,"B","Active",{"$f":"VLOOKUP(A1911,[1]Sheet1!$A$1:$C$65512,3,FALSE)","v":" "},null,null,"No info","линк","https://bg.toolsworld.com/search/?query=","https://bg.toolsworld.com/search/?query=169647"]
[169687,"180mm-es kombinált fogó kétkomponensű nyéllel, polírozott, Comfort line// Sparta",1193,"B","Active",{"$f":"VLOOKUP(A1912,[1]Sheet1!$A$1:$C$65512,3,FALSE)","v":102},null,null,"No info","линк","https://bg.toolsworld.com/search/?query=","https://bg.toolsworld.com/search/?query=169687"]
[169699,"Lapos csoru kombinált fogó, 160 mm, muanyag markolat, sztenderd kivitel// MTX",1175,"B","Active",{"$f":"VLOOKUP(A1913,[1]Sheet1!$A$1:$C$65512,3,FALSE)","v":265},null,null,"No info","линк","https://bg.toolsworld.com/search/?query=","https://bg.toolsworld.com/search/?query=169699"]
[169709,"Lapos csoru kombinált fogó, 180 mm, muanyag markolat, sztenderd kivitel// MTX",1358,"B","Active",{"$f":"VLOOKUP(A1914,[1]Sheet1!$A$1:$C$65512,3,FALSE)","v":428},null,null,"No info","линк","https://bg.toolsworld.com/search/?query=","https://bg.toolsworld.com/search/?query=169709"]
[169749,"Lapos csoru kombinált fogó, 200 mm, muanyag markolat, sztenderd kivitel// MTX",1533,"B","Active",{"$f":"VLOOKUP(A1915,[1]Sheet1!$A$1:$C$65512,3,FALSE)","v":167},null,null,"No info","линк","https://bg.toolsworld.com/search/?query=","https://bg.toolsworld.com/search/?query=169749"]
[169789,"Lapos csoru kombinált fogó, 160 mm, két komponensu nyél, fekete nikkelezett kivitel// MTX",1348,"B","Active",{"$f":"VLOOKUP(A1916,[1]Sheet1!$A$1:$C$65512,3,FALSE)","v":{"$error":"#N/A"}},null,null,"No info","линк","https://bg.toolsworld.com/search/?query=","https://bg.toolsworld.com/search/?query=169789"]
[169809,"Lapos csoru kombinált fogó, 180 mm, két komponensu nyél, fekete nikkelezett kivitel// MTX",1540,"B","Active",{"$f":"VLOOKUP(A1917,[1]Sheet1!$A$1:$C$65512,3,FALSE)","v":443},null,null,"No info","линк","https://bg.toolsworld.com/search/?query=","https://bg.toolsworld.com/search/?query=169809"]
[169839,"Lapos csoru kombinált fogó, 200 mm, két komponensu nyél, fekete nikkelezett kivitel// MTX",1719,"B","Active",{"$f":"VLOOKUP(A1918,[1]Sheet1!$A$1:$C$65512,3,FALSE)","v":44},null,null,"No info","линк","https://bg.toolsworld.com/search/?query=","https://bg.toolsworld.com/search/?query=169839"]
[169929,"Lapos csoru fogó, 160 mm, muanyag markolat, Kényelmes kivitel// MTX",1142,"B","Active",{"$f":"VLOOKUP(A1919,[1]Sheet1!$A$1:$C$65512,3,FALSE)","v":281},null,null,"No info","линк","https://bg.toolsworld.com/search/?query=","https://bg.toolsworld.com/search/?query=169929"]
[169939,"Lapos csoru fogó, 180 mm, muanyag markolat, Kényelmes kivitel// MTX",1303,"B","Active",{"$f":"VLOOKUP(A1920,[1]Sheet1!$A$1:$C$65512,3,FALSE)","v":117},null,null,"No info","линк","https://bg.toolsworld.com/search/?query=","https://bg.toolsworld.com/search/?query=169939"]
[169949,"Lapos csoru fogó, 200 mm, muanyag markolat, Kényelmes kivitel// MTX",1444,"B","Active",{"$f":"VLOOKUP(A1921,[1]Sheet1!$A$1:$C$65512,3,FALSE)","v":190},null,null,"No info","линк","https://bg.toolsworld.com/search/?query=","https://bg.toolsworld.com/search/?query=169949"]
[170709,"Kombinált fogó \"Premium\", 160 mm, három komponensű fogantyú// MTX",1250,"B","Active",{"$f":"VLOOKUP(A1922,[1]Sheet1!$A$1:$C$65512,3,FALSE)","v":144},null,null,"No info","линк","https://bg.toolsworld.com/search/?query=","https://bg.toolsworld.com/search/?query=170709"]
[170719,"Kombinált fogó \"Premium\", 180 mm, három komponensű fogantyú// MTX",1458,"B","Active",{"$f":"VLOOKUP(A1923,[1]Sheet1!$A$1:$C$65512,3,FALSE)","v":" "},null,null,"No info","линк","https://bg.toolsworld.com/search/?query=","https://bg.toolsworld.com/search/?query=170719"]
[170729,"Kombinált fogó \"Premium\", 200 mm, három komponensű fogantyú// MTX",1652,"B","Active",{"$f":"VLOOKUP(A1924,[1]Sheet1!$A$1:$C$65512,3,FALSE)","v":21},null,null,"No info","линк","https://bg.toolsworld.com/search/?query=","https://bg.toolsworld.com/search/?query=170729"]
[171019,"Hosszú csoru fogó 160 mm, két komponensu nyél// MTX PROFESSIONAL",2839,"B","Active",{"$f":"VLOOKUP(A1925,[1]Sheet1!$A$1:$C$65512,3,FALSE)","v":3839},null,null,"No info","линк","https://bg.toolsworld.com/search/?query=","https://bg.toolsworld.com/search/?query=171019"]
[171039,"Hosszú csoru fogó 200 mm,  két komponensu nyél// MTX PROFESSIONAL",3376,"B","Active",{"$f":"VLOOKUP(A1926,[1]Sheet1!$A$1:$C$65512,3,FALSE)","v":3105},null,null,"No info","линк","https://bg.toolsworld.com/search/?query=","https://bg.toolsworld.com/search/?query=171039"]
[171369,"Hosszú orrú fogó, 160 mm, nikkelezett, kétkomponensű fogantyú, GRAND vonal// MTX",1340,"B","Active",{"$f":"VLOOKUP(A1927,[1]Sheet1!$A$1:$C$65512,3,FALSE)","v":58},null,null,"No info","линк","https://bg.toolsworld.com/search/?query=","https://bg.toolsworld.com/search/?query=171369"]
[171389,"Hosszú orrú fogó, 200 mm, nikkelezett, kétkomponensű fogantyú, GRAND vonal// MTX",1678,"B","Active",{"$f":"VLOOKUP(A1928,[1]Sheet1!$A$1:$C$65512,3,FALSE)","v":25},null,null,"No info","линк","https://bg.toolsworld.com/search/?query=","https://bg.toolsworld.com/search/?query=171389"]
[171509,"Hosszú csoru fogó, 160 mm, muanyag markolat, sztenderd kivitel, csiszolt// MTX",1049,"B","Active",{"$f":"VLOOKUP(A1929,[1]Sheet1!$A$1:$C$65512,3,FALSE)","v":1753},null,null,"No info","линк","https://bg.toolsworld.com/search/?query=","https://bg.toolsworld.com/search/?query=171509"]
[171529,"Hosszú csoru fogó, 180 mm, muanyag markolat, sztenderd kivitel, csiszolt// MTX",1171,"B","Active",{"$f":"VLOOKUP(A1930,[1]Sheet1!$A$1:$C$65512,3,FALSE)","v":455},null,null,"No info","линк","https://bg.toolsworld.com/search/?query=","https://bg.toolsworld.com/search/?query=171529"]
[171549,"Hosszú csoru fogó, 200 mm, muanyag markolat, sztenderd kivitel, csiszolt// MTX",1332,"B","Active",{"$f":"VLOOKUP(A1931,[1]Sheet1!$A$1:$C$65512,3,FALSE)","v":220},null,null,"No info","линк","https://bg.toolsworld.com/search/?query=","https://bg.toolsworld.com/search/?query=171549"]
[171589,"Hosszú csoru fogó, 160 mm, két komponensu nyél, fekete nikkelezett kivitel// MTX",1173,"B","Active",{"$f":"VLOOKUP(A1932,[1]Sheet1!$A$1:$C$65512,3,FALSE)","v":419},null,null,"No info","линк","https://bg.toolsworld.com/search/?query=","https://bg.toolsworld.com/search/?query=171589"]
[171609,"Hosszú csoru fogó, 180 mm, két komponensu nyél, fekete nikkelezett kivitel// MTX",1344,"B","Active",{"$f":"VLOOKUP(A1933,[1]Sheet1!$A$1:$C$65512,3,FALSE)","v":113},null,null,"No info","линк","https://bg.toolsworld.com/search/?query=","https://bg.toolsworld.com/search/?query=171609"]
[171629,"Hosszú csoru fogó, 200 mm, két komponensu nyél, fekete nikkelezett kivitel// MTX",1560,"B","Active",{"$f":"VLOOKUP(A1934,[1]Sheet1!$A$1:$C$65512,3,FALSE)","v":125},null,null,"No info","линк","https://bg.toolsworld.com/search/?query=","https://bg.toolsworld.com/search/?query=171629"]
[171649,"Hosszú csoru fogó, 160 mm, két komponensu nyél, nikkelezett kivitel// MTX",1138,"B","Active",{"$f":"VLOOKUP(A1935,[1]Sheet1!$A$1:$C$65512,3,FALSE)","v":375},null,null,"No info","линк","https://bg.toolsworld.com/search/?query=","https://bg.toolsworld.com/search/?query=171649"]
[171669,"Hosszú csoru fogó, 180 mm, két komponensu nyél, nikkelezett kivitel// MTX",1258,"B","Active",{"$f":"VLOOKUP(A1936,[1]Sheet1!$A$1:$C$65512,3,FALSE)","v":323},null,null,"No info","линк","https://bg.toolsworld.com/search/?query=","https://bg.toolsworld.com/search/?query=171669"]
[171677,"180mm hosszú orrú fogó kétkomponensű fogantyúval, polírozott Comfort vonal// Sparta",1030,"B","Active",{"$f":"VLOOKUP(A1937,[1]Sheet1!$A$1:$C$65512,3,FALSE)","v":" "},null,null,"No info","линк","https://bg.toolsworld.com/search/?query=","https://bg.toolsworld.com/search/?query=171677"]
[171689,"Hosszú csoru fogó, 200 mm, két komponensu nyél, nikkelezett kivitel// MTX",1454,"B","Active",{"$f":"VLOOKUP(A1938,[1]Sheet1!$A$1:$C$65512,3,FALSE)","v":215},null,null,"No info","линк","https://bg.toolsworld.com/search/?query=","https://bg.toolsworld.com/search/?query=171689"]
[171859,"Hosszú orrú fogó \"Premium\", 160 mm, egyenes, három komponensű fogantyú// MTX",1222,"B","Active",{"$f":"VLOOKUP(A1939,[1]Sheet1!$A$1:$C$65512,3,FALSE)","v":122},null,null,"No info","линк","https://bg.toolsworld.com/search/?query=","https://bg.toolsworld.com/search/?query=171859"]
[171929,"Hosszú csoru fogó, 160 mm, muanyag markolat, Kényelmes kivitel// MTX",1002,"B","Active",{"$f":"VLOOKUP(A1940,[1]Sheet1!$A$1:$C$65512,3,FALSE)","v":86},null,null,"No info","линк","https://bg.toolsworld.com/search/?query=","https://bg.toolsworld.com/search/?query=171929"]
[171939,"Hosszú csoru fogó, 180 mm, muanyag markolat, Kényelmes kivitel// MTX",1173,"B","Active",{"$f":"VLOOKUP(A1941,[1]Sheet1!$A$1:$C$65512,3,FALSE)","v":1009},null,null,"No info","линк","https://bg.toolsworld.com/search/?query=","https://bg.toolsworld.com/search/?query=171939"]
[171949,"Hosszú csoru fogó, 200 mm, muanyag markolat, Kényelmes kivitel// MTX",1322,"B","Active",{"$f":"VLOOKUP(A1942,[1]Sheet1!$A$1:$C$65512,3,FALSE)","v":1939},null,null,"No info","линк","https://bg.toolsworld.com/search/?query=","https://bg.toolsworld.com/search/?query=171949"]
[173559,"Kerek orrfogók NICKEL, 160 mm, nikkelezett, kétkomponensu fogantyúk MATRIX",1279,"B","Active",{"$f":"VLOOKUP(A1943,[1]Sheet1!$A$1:$C$65512,3,FALSE)","v":27},null,null,"No info","линк","https://bg.toolsworld.com/search/?query=","https://bg.toolsworld.com/search/?query=173559"]
[174209,"Hajlított hosszú csoru fogó, 160 mm, két komponensu nyél, nikkelezett kivitel// MTX",1138,"B","Active",{"$f":"VLOOKUP(A1944,[1]Sheet1!$A$1:$C$65512,3,FALSE)","v":271},null,null,"No info","линк","https://bg.toolsworld.com/search/?query=","https://bg.toolsworld.com/search/?query=174209"]
[174229,"Hajlított hosszú csoru fogó, 180 mm, két komponensu nyél, nikkelezett kivitel// MTX",1285,"B","Active",{"$f":"VLOOKUP(A1945,[1]Sheet1!$A$1:$C$65512,3,FALSE)","v":231},null,null,"No info","линк","https://bg.toolsworld.com/search/?query=","https://bg.toolsworld.com/search/?query=174229"]
[174249,"Hajlított hosszú csoru fogó, 200 mm, két komponensu nyél, nikkelezett kivitel// MTX",1478,"B","Active",{"$f":"VLOOKUP(A1946,[1]Sheet1!$A$1:$C$65512,3,FALSE)","v":197},null,null,"No info","линк","https://bg.toolsworld.com/search/?query=","https://bg.toolsworld.com/search/?query=174249"]
[174589,"Hajlított hosszú csoru fogó, 160 mm, két komponensu nyél, fekete nikkelezett kivitel// MTX",1197,"B","Active",{"$f":"VLOOKUP(A1947,[1]Sheet1!$A$1:$C$65512,3,FALSE)","v":85},null,null,"No info","линк","https://bg.toolsworld.com/search/?query=","https://bg.toolsworld.com/search/?query=174589"]
[174609,"Hajlított hosszú csoru fogó, 180 mm, két komponensu nyél, fekete nikkelezett kivitel// MTX",1401,"B","Active",{"$f":"VLOOKUP(A1948,[1]Sheet1!$A$1:$C$65512,3,FALSE)","v":154},null,null,"No info","линк","https://bg.toolsworld.com/search/?query=","https://bg.toolsworld.com/search/?query=174609"]
[174629,"Hajlított hosszú csoru fogó, 200 mm, két komponensu nyél, fekete nikkelezett kivitel// MTX",1421,"B","Active",{"$f":"VLOOKUP(A1949,[1]Sheet1!$A$1:$C$65512,3,FALSE)","v":103},null,null,"No info","линк","https://bg.toolsworld.com/search/?query=","https://bg.toolsworld.com/search/?query=174629"]
[174729,"Hajlított hosszú csoru fogó, 160 mm, Szigetelt, két komponensu nyél// MTX PROFESSIONAL",2924,"B","Active",{"$f":"VLOOKUP(A1950,[1]Sheet1!$A$1:$C$65512,3,FALSE)","v":697},null,null,"No info","линк","https://bg.toolsworld.com/search/?query=","https://bg.toolsworld.com/search/?query=174729"]
[174749,"Hajlított hosszú csoru fogó, 200 mm, Szigetelt, két komponensu nyél// MTX PROFESSIONAL",3307,"B","Active",{"$f":"VLOOKUP(A1951,[1]Sheet1!$A$1:$C$65512,3,FALSE)","v":17},null,null,"No info","линк","https://bg.toolsworld.com/search/?query=","https://bg.toolsworld.com/search/?query=174749"]
[174949,"Hajlított hosszú csoru fogó, 160 mm, muanyag markolat, Kényelmes kivitel// MTX",1016,"B","Active",{"$f":"VLOOKUP(A1952,[1]Sheet1!$A$1:$C$65512,3,FALSE)","v":143},null,null,"No info","линк","https://bg.toolsworld.com/search/?query=","https://bg.toolsworld.com/search/?query=174949"]
[174959,"Hajlított hosszú csoru fogó, 180 mm, muanyag markolat, Kényelmes kivitel// MTX",1183,"B","Active",{"$f":"VLOOKUP(A1953,[1]Sheet1!$A$1:$C$65512,3,FALSE)","v":48},null,null,"No info","линк","https://bg.toolsworld.com/search/?query=","https://bg.toolsworld.com/search/?query=174959"]
[174969,"Hajlított hosszú csoru fogó, 200 mm, muanyag markolat, Kényelmes kivitel// MTX",1313,"B","Active",{"$f":"VLOOKUP(A1954,[1]Sheet1!$A$1:$C$65512,3,FALSE)","v":57},null,null,"No info","линк","https://bg.toolsworld.com/search/?query=","https://bg.toolsworld.com/search/?query=174969"]
[175069,"Szigetelt csípofogó  160mm,  két komponensu nyél// MTX PROFESSIONAL",2989,"B","Active",{"$f":"VLOOKUP(A1955,[1]Sheet1!$A$1:$C$65512,3,FALSE)","v":112},null,null,"No info","линк","https://bg.toolsworld.com/search/?query=","https://bg.toolsworld.com/search/?query=175069"]
[175089,"Szigetelt csípofogó 200mm,  két komponensu nyél// MTX PROFESSIONAL",3439,"B","Active",{"$f":"VLOOKUP(A1956,[1]Sheet1!$A$1:$C$65512,3,FALSE)","v":83},null,null,"No info","линк","https://bg.toolsworld.com/search/?query=","https://bg.toolsworld.com/search/?query=175089"]
[175209,"Oldalcsípofogó, 160 mm, két komponensu nyél, nikkelezett kivitel// MTX",1118,"B","Active",{"$f":"VLOOKUP(A1957,[1]Sheet1!$A$1:$C$65512,3,FALSE)","v":626},null,null,"No info","линк","https://bg.toolsworld.com/search/?query=","https://bg.toolsworld.com/search/?query=175209"]
[175229,"Oldalcsípofogó, 180 mm, két komponensu nyél, nikkelezett kivitel// MTX",1297,"B","Active",{"$f":"VLOOKUP(A1958,[1]Sheet1!$A$1:$C$65512,3,FALSE)","v":614},null,null,"No info","линк","https://bg.toolsworld.com/search/?query=","https://bg.toolsworld.com/search/?query=175229"]
[175249,"Oldalcsípofogó, 200 mm, két komponensu nyél, nikkelezett kivitel// MTX",1448,"B","Active",{"$f":"VLOOKUP(A1959,[1]Sheet1!$A$1:$C$65512,3,FALSE)","v":229},null,null,"No info","линк","https://bg.toolsworld.com/search/?query=","https://bg.toolsworld.com/search/?query=175249"]
[175269,"Oldalt vágó fogó, 160 mm, nikkelezett, kétkomponensű fogantyú, GRAND vonal// MTX",1458,"B","Active",{"$f":"VLOOKUP(A1960,[1]Sheet1!$A$1:$C$65512,3,FALSE)","v":49},null,null,"No info","линк","https://bg.toolsworld.com/search/?query=","https://bg.toolsworld.com/search/?query=175269"]
[175289,"Oldalt vágó fogó, 190 mm, nikkelezett, kétkomponensű fogantyú, GRAND vonal// MTX",1678,"B","Active",{"$f":"VLOOKUP(A1961,[1]Sheet1!$A$1:$C$65512,3,FALSE)","v":1},null,null,"No info","линк","https://bg.toolsworld.com/search/?query=","https://bg.toolsworld.com/search/?query=175289"]
[175329,"Oldalt vágó fogó \"Premium\", 160 mm, három komponensű fogantyú// MTX",1397,"B","Active",{"$f":"VLOOKUP(A1962,[1]Sheet1!$A$1:$C$65512,3,FALSE)","v":131},null,null,"No info","линк","https://bg.toolsworld.com/search/?query=","https://bg.toolsworld.com/search/?query=175329"]
[175339,"Oldalt vágó fogó \"Premium\", 180 mm, három komponensű fogantyú// MTX",1639,"B","Active",{"$f":"VLOOKUP(A1963,[1]Sheet1!$A$1:$C$65512,3,FALSE)","v":110},null,null,"No info","линк","https://bg.toolsworld.com/search/?query=","https://bg.toolsworld.com/search/?query=175339"]
[175349,"Oldalt vágó fogó \"Premium\", 200 mm, három komponensű fogantyú// MTX",1764,"B","Active",{"$f":"VLOOKUP(A1964,[1]Sheet1!$A$1:$C$65512,3,FALSE)","v":103},null,null,"No info","линк","https://bg.toolsworld.com/search/?query=","https://bg.toolsworld.com/search/?query=175349"]
[175659,"Oldalcsípofogó, 160 mm, muanyag markolat, sztenderd kivitel// MTX",1085,"B","Active",{"$f":"VLOOKUP(A1965,[1]Sheet1!$A$1:$C$65512,3,FALSE)","v":155},null,null,"No info","линк","https://bg.toolsworld.com/search/?query=","https://bg.toolsworld.com/search/?query=175659"]
[175679,"Oldalcsípofogó, 180 mm, muanyag markolat, sztenderd kivitel// MTX",1293,"B","Active",{"$f":"VLOOKUP(A1966,[1]Sheet1!$A$1:$C$65512,3,FALSE)","v":221},null,null,"No info","линк","https://bg.toolsworld.com/search/?query=","https://bg.toolsworld.com/search/?query=175679"]
[175699,"Oldalcsípofogó, 200 mm, muanyag markolat, sztenderd kivitel// MTX",1203,"B","Active",{"$f":"VLOOKUP(A1967,[1]Sheet1!$A$1:$C$65512,3,FALSE)","v":23},null,null,"No info","линк","https://bg.toolsworld.com/search/?query=","https://bg.toolsworld.com/search/?query=175699"]
[175707,"Oldal vágó fogó 200mm kétkomponensű nyéllel, polírozott, Comfort vonal// Sparta",1474,"B","Active",{"$f":"VLOOKUP(A1968,[1]Sheet1!$A$1:$C$65512,3,FALSE)","v":1033},null,null,"No info","линк","https://bg.toolsworld.com/search/?query=","https://bg.toolsworld.com/search/?query=175707"]
[175729,"Oldalcsípofogó, 160 mm, két komponensu nyél, fekete nikkelezett kivitel// MTX",1230,"B","Active",{"$f":"VLOOKUP(A1969,[1]Sheet1!$A$1:$C$65512,3,FALSE)","v":152},null,null,"No info","линк","https://bg.toolsworld.com/search/?query=","https://bg.toolsworld.com/search/?query=175729"]
[175749,"Oldalcsípofogó, 180 mm, két komponensu nyél, fekete nikkelezett kivitel// MTX",1427,"B","Active",{"$f":"VLOOKUP(A1970,[1]Sheet1!$A$1:$C$65512,3,FALSE)","v":290},null,null,"No info",{"$f":"HYPERLINK(L1970,\"линк\")","v":"линк"},"https://bg.toolsworld.com/search/?query=","https://bg.toolsworld.com/search/?query=175749"]
[175769,"Oldalcsípofogó, 200 mm, két komponensu nyél, fekete nikkelezett kivitel// MTX",1550,"B","Active",{"$f":"VLOOKUP(A1971,[1]Sheet1!$A$1:$C$65512,3,FALSE)","v":95},null,null,"No info","линк","https://bg.toolsworld.com/search/?query=","https://bg.toolsworld.com/search/?query=175769"]
[175949,"Oldalcsípofogó, 160 mm, muanyag markolat, Kényelmes kivitel// MTX",973,"B","Active",{"$f":"VLOOKUP(A1972,[1]Sheet1!$A$1:$C$65512,3,FALSE)","v":293},null,null,"No info","линк","https://bg.toolsworld.com/search/?query=",{"$f":"CONCATENATE(K1972,A1972)","v":"https://bg.toolsworld.com/search/?query=175949"}]
[175959,"Oldalcsípofogó, 180 mm, muanyag markolat, Kényelmes kivitel// MTX",1108,"B","Active",{"$f":"VLOOKUP(A1973,[1]Sheet1!$A$1:$C$65512,3,FALSE)","v":102},null,null,"No info","линк","https://bg.toolsworld.com/search/?query=","https://bg.toolsworld.com/search/?query=175959"]
[175969,"Oldalcsípofogó, 200 mm, muanyag markolat, Kényelmes kivitel// MTX",1260,"B","Active",{"$f":"VLOOKUP(A1974,[1]Sheet1!$A$1:$C$65512,3,FALSE)","v":116},null,null,"No info","линк","https://bg.toolsworld.com/search/?query=","https://bg.toolsworld.com/search/?query=175969"]
[177065,"Krimpelők 0,5-6mm// Sparta",2951,"B","Active",{"$f":"VLOOKUP(A1975,[1]Sheet1!$A$1:$C$65512,3,FALSE)","v":55},null,null,"No info","линк","https://bg.toolsworld.com/search/?query=","https://bg.toolsworld.com/search/?query=177065"]
[177305,"Automata kábelcsupaszoló 170mm 1-3.2mm//SPARTA",1448,"B","Active",{"$f":"VLOOKUP(A1976,[1]Sheet1!$A$1:$C$65512,3,FALSE)","v":179},null,null,"No info","линк","https://bg.toolsworld.com/search/?query=","https://bg.toolsworld.com/search/?query=177305"]
[177505,"Harapófogó 210 mm 1.5-6.5 mm//SPARTA",536,"B","Active",{"$f":"VLOOKUP(A1977,[1]Sheet1!$A$1:$C$65512,3,FALSE)","v":809},null,null,"No info","линк","https://bg.toolsworld.com/search/?query=","https://bg.toolsworld.com/search/?query=177505"]
[178109,"Egyenes hosszú csoru fogó, 130 mm, nikkel, automatikusan nyíló, két komponensu nyél, MINI line// MTX",955,"B","Active",{"$f":"VLOOKUP(A1978,[1]Sheet1!$A$1:$C$65512,3,FALSE)","v":368},null,null,"No info","линк","https://bg.toolsworld.com/search/?query=","https://bg.toolsworld.com/search/?query=178109"]
[178129,"Hajlított hosszú csoru fogó, 130 mm, nikkel, automatikusan nyíló, két komponensu nyél, MINI line// MTX",922,"B","Active",{"$f":"VLOOKUP(A1979,[1]Sheet1!$A$1:$C$65512,3,FALSE)","v":298},null,null,"No info","линк","https://bg.toolsworld.com/search/?query=","https://bg.toolsworld.com/search/?query=178129"]
[178149,"Oldalcsípofogó, 130 mm, nikkel, automatikusan nyíló, két komponensu nyél, MINI line// MTX",945,"B","Active",{"$f":"VLOOKUP(A1980,[1]Sheet1!$A$1:$C$65512,3,FALSE)","v":392},null,null,"No info","линк","https://bg.toolsworld.com/search/?query=","https://bg.toolsworld.com/search/?query=178149"]
[178169,"Lapos csoru fogó, 130 mm, nikkel, automatikusan nyíló, két komponensu nyél, MINI line// MTX",945,"B","Active",{"$f":"VLOOKUP(A1981,[1]Sheet1!$A$1:$C$65512,3,FALSE)","v":9},null,null,"No info","линк","https://bg.toolsworld.com/search/?query=","https://bg.toolsworld.com/search/?query=178169"]
[183205,"Emelofogó 150 mm, ívelt pofa //SPARTA",929,"B","Active",{"$f":"VLOOKUP(A1982,[1]Sheet1!$A$1:$C$65512,3,FALSE)","v":191},null,null,"No info","линк","https://bg.toolsworld.com/search/?query=","https://bg.toolsworld.com/search/?query=183205"]
[183255,"Emelofogó 150 mm, ívelt pofa //SPARTA",929,"B","Active",{"$f":"VLOOKUP(A1983,[1]Sheet1!$A$1:$C$65512,3,FALSE)","v":444},null,null,"No info","линк","https://bg.toolsworld.com/search/?query=","https://bg.toolsworld.com/search/?query=183255"]
[183305,"Emelofogó 150 mm, egyenes //SPARTA",939,"B","Active",{"$f":"VLOOKUP(A1984,[1]Sheet1!$A$1:$C$65512,3,FALSE)","v":316},null,null,"No info","линк","https://bg.toolsworld.com/search/?query=","https://bg.toolsworld.com/search/?query=183305"]
[183355,"Emelofogó 150 mm, egyenes //SPARTA",939,"B","Active",{"$f":"VLOOKUP(A1985,[1]Sheet1!$A$1:$C$65512,3,FALSE)","v":601},null,null,"No info","линк","https://bg.toolsworld.com/search/?query=","https://bg.toolsworld.com/search/?query=183355"]
[183505,"Emelofogó 150 mm, with jets//SPARTA",1212,"B","Active",{"$f":"VLOOKUP(A1986,[1]Sheet1!$A$1:$C$65512,3,FALSE)","v":{"$error":"#N/A"}},null,null,"No info","линк","https://bg.toolsworld.com/search/?query=","https://bg.toolsworld.com/search/?query=183505"]
[184205,"Zárófogó, 180 mm, félig lekerekített markolat// SPARTA",1220,"B","Active",{"$f":"VLOOKUP(A1987,[1]Sheet1!$A$1:$C$65512,3,FALSE)","v":198},null,null,"No info","линк","https://bg.toolsworld.com/search/?query=","https://bg.toolsworld.com/search/?query=184205"]
[184305,"Reteszelő fogó, 250 mm, félkörfogó// Sparta",1334,"B","Active",{"$f":"VLOOKUP(A1988,[1]Sheet1!$A$1:$C$65512,3,FALSE)","v":{"$error":"#N/A"}},null,null,"No info","линк","https://bg.toolsworld.com/search/?query=","https://bg.toolsworld.com/search/?query=184305"]
[185055,"Satu rögzített alappal, 40 mm// SPARTA",1513,"B","Active",{"$f":"VLOOKUP(A1989,[1]Sheet1!$A$1:$C$65512,3,FALSE)","v":209},null,null,"No info","линк","https://bg.toolsworld.com/search/?query=","https://bg.toolsworld.com/search/?query=185055"]
[185075,"Satu rögzített alappal, 50 mm// SPARTA",1933,"B","Active",{"$f":"VLOOKUP(A1990,[1]Sheet1!$A$1:$C$65512,3,FALSE)","v":120},null,null,"No info","линк","https://bg.toolsworld.com/search/?query=","https://bg.toolsworld.com/search/?query=185075"]
[185089,"Pad satu (asztal), többfunkciós, cserélhető fúrószorító, forgatható típusú, csuklós mechanizmus .// MTX",6274,"B","Active",{"$f":"VLOOKUP(A1991,[1]Sheet1!$A$1:$C$65512,3,FALSE)","v":35},null,null,"No info","линк","https://bg.toolsworld.com/search/?query=","https://bg.toolsworld.com/search/?query=185089"]
[185095,"Satu rögzített alappal, 60 mm// SPARTA",2073,"B","Active",{"$f":"VLOOKUP(A1992,[1]Sheet1!$A$1:$C$65512,3,FALSE)","v":489},null,null,"No info","линк","https://bg.toolsworld.com/search/?query=","https://bg.toolsworld.com/search/?query=185095"]
[185115,"Satu rögzített alappal, 75 mm// SPARTA",2250,"B","Active",{"$f":"VLOOKUP(A1993,[1]Sheet1!$A$1:$C$65512,3,FALSE)","v":3087},null,null,"No info","линк","https://bg.toolsworld.com/search/?query=","https://bg.toolsworld.com/search/?query=185115"]
[186235,"Kovácssatu, 100 mm, forgatható, ullovel,",9713,"B","Active",{"$f":"VLOOKUP(A1994,[1]Sheet1!$A$1:$C$65512,3,FALSE)","v":203},null,null,"No info","линк","https://bg.toolsworld.com/search/?query=","https://bg.toolsworld.com/search/?query=186235"]
[186255,"Kovácssatu, 125 mm, forgatható, ullovel,",10221,"B","Active",{"$f":"VLOOKUP(A1995,[1]Sheet1!$A$1:$C$65512,3,FALSE)","v":" "},null,null,"No info","линк","https://bg.toolsworld.com/search/?query=","https://bg.toolsworld.com/search/?query=186255"]
[186275,"Kovácssatu, 150 mm, forgatható, ullovel,//SPARTA",20559,"B","Active",{"$f":"VLOOKUP(A1996,[1]Sheet1!$A$1:$C$65512,3,FALSE)","v":" "},null,null,"No info","линк","https://bg.toolsworld.com/search/?query=","https://bg.toolsworld.com/search/?query=186275"]
[186295,"Kovácssatu, 200 mm, forgatható, ullovel,",35455,"B","Active",{"$f":"VLOOKUP(A1997,[1]Sheet1!$A$1:$C$65512,3,FALSE)","v":30},null,null,"No info","линк","https://bg.toolsworld.com/search/?query=","https://bg.toolsworld.com/search/?query=186295"]
[187495,"Véso gumi borítással, 210 x 68 mm, színezett//SPARTA",1008,"B","Active",{"$f":"VLOOKUP(A1998,[1]Sheet1!$A$1:$C$65512,3,FALSE)","v":" "},null,null,"No info","линк","https://bg.toolsworld.com/search/?query=","https://bg.toolsworld.com/search/?query=187495"]
[187555,"Véso gumi borítással, 250 x 20 mm, színezett//SPARTA",788,"B","Active",{"$f":"VLOOKUP(A1999,[1]Sheet1!$A$1:$C$65512,3,FALSE)","v":" "},null,null,"No info","линк","https://bg.toolsworld.com/search/?query=","https://bg.toolsworld.com/search/?query=187555"]
[187585,"Hidegvéso burkolattal, 300 x 25 mm//SPARTA",904,"B","Active",{"$f":"VLOOKUP(A2000,[1]Sheet1!$A$1:$C$65512,3,FALSE)","v":{"$error":"#N/A"}},null,null,"No info","линк","https://bg.toolsworld.com/search/?query=","https://bg.toolsworld.com/search/?query=187585"]
[187605,"Véso muanyag borítással, 300 x 25 mm, színezett//SPARTA",1120,"B","Active",{"$f":"VLOOKUP(A2001,[1]Sheet1!$A$1:$C$65512,3,FALSE)","v":" "},null,null,"No info","линк","https://bg.toolsworld.com/search/?query=","https://bg.toolsworld.com/search/?query=187605"]
[188305,"Lyukasztó gumi borítással 250 mm//SPARTA",597,"B","Active",{"$f":"VLOOKUP(A2002,[1]Sheet1!$A$1:$C$65512,3,FALSE)","v":302},null,null,"No info","линк","https://bg.toolsworld.com/search/?query=","https://bg.toolsworld.com/search/?query=188305"]
[188345,"Lyukasztó muanyag borítással 250 mm//SPARTA",1041,"B","Active",{"$f":"VLOOKUP(A2003,[1]Sheet1!$A$1:$C$65512,3,FALSE)","v":2091},null,null,"No info","линк","https://bg.toolsworld.com/search/?query=","https://bg.toolsworld.com/search/?query=188345"]
[191149,"Ütőcsavarhúzó, SL5 x 75 mm, kétkomponensű fogantyú, CrV// MTX",334,"B","Active",{"$f":"VLOOKUP(A2004,[1]Sheet1!$A$1:$C$65512,3,FALSE)","v":155},null,null,"No info","линк","https://bg.toolsworld.com/search/?query=","https://bg.toolsworld.com/search/?query=191149"]
[191169,"Ütőcsavarhúzó, SL6 x 150 mm, kétkomponensű fogantyú, CrV// MTX",428,"B","Active",{"$f":"VLOOKUP(A2005,[1]Sheet1!$A$1:$C$65512,3,FALSE)","v":{"$error":"#N/A"}},null,null,"No info","линк","https://bg.toolsworld.com/search/?query=","https://bg.toolsworld.com/search/?query=191169"]
[191189,"Üthető csavarhúzó, PH1 x 75 mm, kétkomponensű fogantyú, CrV// MTX",334,"B","Active",{"$f":"VLOOKUP(A2006,[1]Sheet1!$A$1:$C$65512,3,FALSE)","v":127},null,null,"No info","линк","https://bg.toolsworld.com/search/?query=","https://bg.toolsworld.com/search/?query=191189"]
[191219,"Ütőcsavarhúzó készlet 2 db, PH2x100, SL6x100, CrV// MTX",1173,"B","Active",{"$f":"VLOOKUP(A2007,[1]Sheet1!$A$1:$C$65512,3,FALSE)","v":25},null,null,"No info","линк","https://bg.toolsworld.com/search/?query=","https://bg.toolsworld.com/search/?query=191219"]
[203205,"Alumínium sarokszorító 75mm// Sparta",833,"B","Active",{"$f":"VLOOKUP(A2008,[1]Sheet1!$A$1:$C$65512,3,FALSE)","v":2069},null,null,"No info","линк","https://bg.toolsworld.com/search/?query=","https://bg.toolsworld.com/search/?query=203205"]
[203229,"Gyorszár sarokszorító, 65/65 mm, kétkomponensű gumírozott fogantyúk// MTX",6506,"B","Active",{"$f":"VLOOKUP(A2009,[1]Sheet1!$A$1:$C$65512,3,FALSE)","v":630},null,null,"No info","линк","https://bg.toolsworld.com/search/?query=","https://bg.toolsworld.com/search/?query=203229"]
[204009,"F-szorító 150х80х230mm// MTX",2059,"B","Active",{"$f":"VLOOKUP(A2010,[1]Sheet1!$A$1:$C$65512,3,FALSE)","v":1456},null,null,"No info","линк","https://bg.toolsworld.com/search/?query=","https://bg.toolsworld.com/search/?query=204009"]
[204019,"F-szorító 200х80х280mm// MTX",2165,"B","Active",{"$f":"VLOOKUP(A2011,[1]Sheet1!$A$1:$C$65512,3,FALSE)","v":1429},null,null,"No info","линк","https://bg.toolsworld.com/search/?query=","https://bg.toolsworld.com/search/?query=204019"]
[204029,"F rögzíto 150x50x210mm// MTX",1295,"B","Active",{"$f":"VLOOKUP(A2012,[1]Sheet1!$A$1:$C$65512,3,FALSE)","v":875},null,null,"No info","линк","https://bg.toolsworld.com/search/?query=","https://bg.toolsworld.com/search/?query=204029"]
[204039,"F rögzíto 200x50x260mm// MTX",1362,"B","Active",{"$f":"VLOOKUP(A2013,[1]Sheet1!$A$1:$C$65512,3,FALSE)","v":578},null,null,"No info","линк","https://bg.toolsworld.com/search/?query=","https://bg.toolsworld.com/search/?query=204039"]
[204049,"F rögzíto 250x50x310mm// MTX",1425,"B","Active",{"$f":"VLOOKUP(A2014,[1]Sheet1!$A$1:$C$65512,3,FALSE)","v":828},null,null,"No info","линк","https://bg.toolsworld.com/search/?query=","https://bg.toolsworld.com/search/?query=204049"]
[204059,"F rögzíto 300x50x370mm// MTX",1487,"B","Active",{"$f":"VLOOKUP(A2015,[1]Sheet1!$A$1:$C$65512,3,FALSE)","v":769},null,null,"No info","линк","https://bg.toolsworld.com/search/?query=","https://bg.toolsworld.com/search/?query=204059"]
[204069,"F-szorító 300х80х380mm// MTX",2376,"B","Active",{"$f":"VLOOKUP(A2016,[1]Sheet1!$A$1:$C$65512,3,FALSE)","v":1423},null,null,"No info","линк","https://bg.toolsworld.com/search/?query=","https://bg.toolsworld.com/search/?query=204069"]
[204079,"F rögzíto 500x120x600mm// MTX",4820,"B","Active",{"$f":"VLOOKUP(A2017,[1]Sheet1!$A$1:$C$65512,3,FALSE)","v":503},null,null,"No info","линк","https://bg.toolsworld.com/search/?query=","https://bg.toolsworld.com/search/?query=204079"]
[204089,"F rögzíto 800x120x900mm// MTX",5808,"B","Active",{"$f":"VLOOKUP(A2018,[1]Sheet1!$A$1:$C$65512,3,FALSE)","v":35},null,null,"No info","линк","https://bg.toolsworld.com/search/?query=","https://bg.toolsworld.com/search/?query=204089"]
[204099,"F-szorító 400х80х480mm// MTX",2543,"B","Active",{"$f":"VLOOKUP(A2019,[1]Sheet1!$A$1:$C$65512,3,FALSE)","v":1204},null,null,"No info","линк","https://bg.toolsworld.com/search/?query=","https://bg.toolsworld.com/search/?query=204099"]
[204109,"F rögzíto 1000x120x1100mm// MTX",6769,"B","Active",{"$f":"VLOOKUP(A2020,[1]Sheet1!$A$1:$C$65512,3,FALSE)","v":260},null,null,"No info","линк","https://bg.toolsworld.com/search/?query=","https://bg.toolsworld.com/search/?query=204109"]
[204119,"F-szorító 400х120х500mm// MTX",4460,"B","Active",{"$f":"VLOOKUP(A2021,[1]Sheet1!$A$1:$C$65512,3,FALSE)","v":396},null,null,"No info","линк","https://bg.toolsworld.com/search/?query=","https://bg.toolsworld.com/search/?query=204119"]
[204179,"F-szorító 600х120х700mm// MTX",5073,"B","Active",{"$f":"VLOOKUP(A2022,[1]Sheet1!$A$1:$C$65512,3,FALSE)","v":165},null,null,"No info","линк","https://bg.toolsworld.com/search/?query=","https://bg.toolsworld.com/search/?query=204179"]
[205619,"Univerzális F rögzíto 150x265x45mm, muanyag tok// MTX",1004,"B","Active",{"$f":"VLOOKUP(A2023,[1]Sheet1!$A$1:$C$65512,3,FALSE)","v":1565},null,null,"No info","линк","https://bg.toolsworld.com/search/?query=","https://bg.toolsworld.com/search/?query=205619"]
[205629,"Univerzális F rögzíto 200x315x45mm, muanyag tok// MTX",1114,"B","Active",{"$f":"VLOOKUP(A2024,[1]Sheet1!$A$1:$C$65512,3,FALSE)","v":1873},null,null,"No info","линк","https://bg.toolsworld.com/search/?query=","https://bg.toolsworld.com/search/?query=205629"]
[205807,"G-szorító 50mm // MTX",617,"B","Active",{"$f":"VLOOKUP(A2025,[1]Sheet1!$A$1:$C$65512,3,FALSE)","v":648},null,null,"No info","линк","https://bg.toolsworld.com/search/?query=","https://bg.toolsworld.com/search/?query=205807"]
[205827,"G-szorító 75mm // MTX",1061,"B","Active",{"$f":"VLOOKUP(A2026,[1]Sheet1!$A$1:$C$65512,3,FALSE)","v":633},null,null,"No info","линк","https://bg.toolsworld.com/search/?query=","https://bg.toolsworld.com/search/?query=205827"]
[205847,"G-szorító 100mm // MTX",1409,"B","Active",{"$f":"VLOOKUP(A2027,[1]Sheet1!$A$1:$C$65512,3,FALSE)","v":653},null,null,"No info","линк","https://bg.toolsworld.com/search/?query=","https://bg.toolsworld.com/search/?query=205847"]
[205867,"G-szorító 150mm // MTX",2336,"B","Active",{"$f":"VLOOKUP(A2028,[1]Sheet1!$A$1:$C$65512,3,FALSE)","v":456},null,null,"No info","линк","https://bg.toolsworld.com/search/?query=","https://bg.toolsworld.com/search/?query=205867"]
[205887,"G-szorító 200mm // MTX",3061,"B","Active",{"$f":"VLOOKUP(A2029,[1]Sheet1!$A$1:$C$65512,3,FALSE)","v":633},null,null,"No info","линк","https://bg.toolsworld.com/search/?query=","https://bg.toolsworld.com/search/?query=205887"]
[205907,"G-szorító 250mm // MTX",4470,"B","Active",{"$f":"VLOOKUP(A2030,[1]Sheet1!$A$1:$C$65512,3,FALSE)","v":186},null,null,"No info","линк","https://bg.toolsworld.com/search/?query=","https://bg.toolsworld.com/search/?query=205907"]
[205927,"G-szorító 300mm // MTX",5433,"B","Active",{"$f":"VLOOKUP(A2031,[1]Sheet1!$A$1:$C$65512,3,FALSE)","v":194},null,null,"No info","линк","https://bg.toolsworld.com/search/?query=","https://bg.toolsworld.com/search/?query=205927"]
[206039,"G rögzíto 75mm// MTX",1713,"B","Active",{"$f":"VLOOKUP(A2032,[1]Sheet1!$A$1:$C$65512,3,FALSE)","v":98},null,null,"No info","линк","https://bg.toolsworld.com/search/?query=","https://bg.toolsworld.com/search/?query=206039"]
[206049,"G rögzíto 100mm// MTX",2197,"B","Active",{"$f":"VLOOKUP(A2033,[1]Sheet1!$A$1:$C$65512,3,FALSE)","v":150},null,null,"No info","линк","https://bg.toolsworld.com/search/?query=","https://bg.toolsworld.com/search/?query=206049"]
[206059,"G rögzíto 125mm// MTX",2918,"B","Active",{"$f":"VLOOKUP(A2034,[1]Sheet1!$A$1:$C$65512,3,FALSE)","v":125},null,null,"No info",{"$f":"HYPERLINK(L2034,\"линк\")","v":"линк"},"https://bg.toolsworld.com/search/?query=","https://bg.toolsworld.com/search/?query=206059"]
[206069,"G rögzíto 150mm// MTX",3401,"B","Active",{"$f":"VLOOKUP(A2035,[1]Sheet1!$A$1:$C$65512,3,FALSE)","v":90},null,null,"No info","линк","https://bg.toolsworld.com/search/?query=","https://bg.toolsworld.com/search/?query=206069"]
[207847,"erő szorító (két tónusú), műanyag test, kétkomponensű fogantyú, erősített rugó, 1-5/8\"/42mm // MTX",301,"B","Active",{"$f":"VLOOKUP(A2036,[1]Sheet1!$A$1:$C$65512,3,FALSE)","v":1547},null,null,"No info","линк","https://bg.toolsworld.com/search/?query=",{"$f":"CONCATENATE(K2036,A2036)","v":"https://bg.toolsworld.com/search/?query=207847"}]
[207867,"erő szorító (két tónusú), műanyag test, kétkomponensű fogantyú, erőltetett rugó, 2-3/4\"/70mm // MTX",519,"B","Active",{"$f":"VLOOKUP(A2037,[1]Sheet1!$A$1:$C$65512,3,FALSE)","v":1616},null,null,"No info","линк","https://bg.toolsworld.com/search/?query=","https://bg.toolsworld.com/search/?query=207867"]
[207887,"erő szorító (két tónusú), műanyag ház, kétkomponensű fogantyú, erősített rugó, 3-3/16\"/82 mm // MTX",755,"B","Active",{"$f":"VLOOKUP(A2038,[1]Sheet1!$A$1:$C$65512,3,FALSE)","v":891},null,null,"No info","линк","https://bg.toolsworld.com/search/?query=","https://bg.toolsworld.com/search/?query=207887"]
[210205,"Gyalutest, 140 x 45 mm, fém, kompakt// SPARTA",1843,"B","Active",{"$f":"VLOOKUP(A2039,[1]Sheet1!$A$1:$C$65512,3,FALSE)","v":125},null,null,"No info","линк","https://bg.toolsworld.com/search/?query=","https://bg.toolsworld.com/search/?query=210205"]
[210225,"Gyalutest, 175 x 50 mm, fém, kompakt// SPARTA",2187,"B","Active",{"$f":"VLOOKUP(A2040,[1]Sheet1!$A$1:$C$65512,3,FALSE)","v":156},null,null,"No info","линк","https://bg.toolsworld.com/search/?query=","https://bg.toolsworld.com/search/?query=210225"]
[210785,"Hántoló gyalu, 230 x 52 mm, fém// SPARTA",3655,"B","Active",{"$f":"VLOOKUP(A2041,[1]Sheet1!$A$1:$C$65512,3,FALSE)","v":173},null,null,"No info","линк","https://bg.toolsworld.com/search/?query=","https://bg.toolsworld.com/search/?query=210785"]
[210795,"Hántoló gyalu, 245 x 58 mm, fém// SPARTA",5071,"B","Active",{"$f":"VLOOKUP(A2042,[1]Sheet1!$A$1:$C$65512,3,FALSE)","v":216},null,null,"No info","линк","https://bg.toolsworld.com/search/?query=","https://bg.toolsworld.com/search/?query=210795"]
[216409,"Balta uvegszálas nyéllel, 600 g//MTX",2295,"B","Active",{"$f":"VLOOKUP(A2043,[1]Sheet1!$A$1:$C$65512,3,FALSE)","v":479},null,null,"No info","линк","https://bg.toolsworld.com/search/?query=","https://bg.toolsworld.com/search/?query=216409"]
[216479,"Balta uvegszálas nyéllel, 800 g//MTX",2690,"B","Active",{"$f":"VLOOKUP(A2044,[1]Sheet1!$A$1:$C$65512,3,FALSE)","v":176},null,null,"No info","линк","https://bg.toolsworld.com/search/?query=","https://bg.toolsworld.com/search/?query=216479"]
[216499,"Balta uvegszálas nyéllel, 1000 g//MTX",3160,"B","Active",{"$f":"VLOOKUP(A2045,[1]Sheet1!$A$1:$C$65512,3,FALSE)","v":983},null,null,"No info","линк","https://bg.toolsworld.com/search/?query=","https://bg.toolsworld.com/search/?query=216499"]
[218159,"Hasogató balta V alakú pengével, 1000 g, 380 mm, uvegszálas gumi borítású nyél // MTX",3492,"B","Active",{"$f":"VLOOKUP(A2046,[1]Sheet1!$A$1:$C$65512,3,FALSE)","v":622},null,null,"No info","линк","https://bg.toolsworld.com/search/?query=","https://bg.toolsworld.com/search/?query=218159"]
[218169,"Hasogató balta V alakú pengével, 2000 g, 880 mm, uvegszálas gumi borítású nyél// MTX",6026,"B","Active",{"$f":"VLOOKUP(A2047,[1]Sheet1!$A$1:$C$65512,3,FALSE)","v":787},null,null,"No info","линк","https://bg.toolsworld.com/search/?query=","https://bg.toolsworld.com/search/?query=218169"]
[218209,"Hasogató balta, 2700 g, 900 mm, uvegszálas gumi borítású nyél// MTX",7144,"B","Active",{"$f":"VLOOKUP(A2048,[1]Sheet1!$A$1:$C$65512,3,FALSE)","v":400},null,null,"No info","линк","https://bg.toolsworld.com/search/?query=","https://bg.toolsworld.com/search/?query=218209"]
[218249,"Csakány Mini, 500 g, 385 mm, uvegszálas gumi borítású nyél// MTX",2474,"B","Active",{"$f":"VLOOKUP(A2049,[1]Sheet1!$A$1:$C$65512,3,FALSE)","v":65},null,null,"No info","линк","https://bg.toolsworld.com/search/?query=","https://bg.toolsworld.com/search/?query=218249"]
[218269,"Csakány Mini, 500 g, 385 mm, biplanar, uvegszálas gumi borítású nyél// MTX",2501,"B","Active",{"$f":"VLOOKUP(A2050,[1]Sheet1!$A$1:$C$65512,3,FALSE)","v":119},null,null,"No info","линк","https://bg.toolsworld.com/search/?query=","https://bg.toolsworld.com/search/?query=218269"]
[218289,"Csakány Mini, 400 g, 385 mm, uvegszálas, gumi borítású nyél// MTX",2499,"B","Active",{"$f":"VLOOKUP(A2051,[1]Sheet1!$A$1:$C$65512,3,FALSE)","v":{"$error":"#N/A"}},null,null,"No info","линк","https://bg.toolsworld.com/search/?query=","https://bg.toolsworld.com/search/?query=218289"]
[218299,"Csakány, 1000 g, 900 mm, uvegszálas, gumi borítású nyél// MTX",4726,"B","Active",{"$f":"VLOOKUP(A2052,[1]Sheet1!$A$1:$C$65512,3,FALSE)","v":91},null,null,"No info","линк","https://bg.toolsworld.com/search/?query=","https://bg.toolsworld.com/search/?query=218299"]
[218309,"Csakány, 1500 g, 900 mm, uvegszálas, gumi borítású nyél// MTX",5734,"B","Active",{"$f":"VLOOKUP(A2053,[1]Sheet1!$A$1:$C$65512,3,FALSE)","v":310},null,null,"No info","линк","https://bg.toolsworld.com/search/?query=","https://bg.toolsworld.com/search/?query=218309"]
[225307,"Műanyag gérvágó doboz 300x65 mm + fűrész, 300 mm// Sparta",1149,"B","Active",{"$f":"VLOOKUP(A2054,[1]Sheet1!$A$1:$C$65512,3,FALSE)","v":349},null,null,"No info","линк","https://bg.toolsworld.com/search/?query=","https://bg.toolsworld.com/search/?query=225307"]
[225509,"Műanyag gérvágó doboz, 300 x 100 mm + fűrész 350 mm, kétkomponensű fogantyú// MTX",4551,"B","Active",{"$f":"VLOOKUP(A2055,[1]Sheet1!$A$1:$C$65512,3,FALSE)","v":78},null,null,"No info","линк","https://bg.toolsworld.com/search/?query=","https://bg.toolsworld.com/search/?query=225509"]
[227329,"Precíziós gérvágó doboz, 420 mm// MTX",10326,"B","Active",{"$f":"VLOOKUP(A2056,[1]Sheet1!$A$1:$C$65512,3,FALSE)","v":{"$error":"#N/A"}},null,null,"No info","линк","https://bg.toolsworld.com/search/?query=","https://bg.toolsworld.com/search/?query=227329"]
[227409,"Precíziós gérvágó doboz, 550 mm, pengedőléssel// MTX",19476,"B","Active",{"$f":"VLOOKUP(A2057,[1]Sheet1!$A$1:$C$65512,3,FALSE)","v":8},null,null,"No info","линк","https://bg.toolsworld.com/search/?query=","https://bg.toolsworld.com/search/?query=227409"]
[231039,"Kézifurész, 300 mm, két komponensu nyél, edzett fogazat// MTX",1478,"B","Active",{"$f":"VLOOKUP(A2058,[1]Sheet1!$A$1:$C$65512,3,FALSE)","v":434},null,null,"No info","линк","https://bg.toolsworld.com/search/?query=","https://bg.toolsworld.com/search/?query=231039"]
[231069,"Illesztofurész kisebb furészelési munkákhoz,  320 mm,  edzett fogazat egy komponensu nyél",1419,"B","Active",{"$f":"VLOOKUP(A2059,[1]Sheet1!$A$1:$C$65512,3,FALSE)","v":567},null,null,"No info","линк","https://bg.toolsworld.com/search/?query=","https://bg.toolsworld.com/search/?query=231069"]
[231499,"Fűrész rétegelt lemezhez fűrészelt, 330 mm-es, kétkomponensű nyéllel// MTX",1104,"B","Active",{"$f":"VLOOKUP(A2060,[1]Sheet1!$A$1:$C$65512,3,FALSE)","v":232},null,null,"No info","линк","https://bg.toolsworld.com/search/?query=","https://bg.toolsworld.com/search/?query=231499"]
[231855,"Fafurész 400mm, 7-8 TÐI, edzett fogazat, vonalzóval és fa nyéllel// SPARTA",1238,"B","Active",{"$f":"VLOOKUP(A2061,[1]Sheet1!$A$1:$C$65512,3,FALSE)","v":{"$error":"#N/A"}},null,null,"No info","линк","https://bg.toolsworld.com/search/?query=","https://bg.toolsworld.com/search/?query=231855"]
[231875,"Fafurész 450mm, 7-8 TÐI, edzett  fogazat  vonalzóval és fa nyéllel// SPARTA",1116,"B","Active",{"$f":"VLOOKUP(A2062,[1]Sheet1!$A$1:$C$65512,3,FALSE)","v":{"$error":"#N/A"}},null,null,"No info","линк","https://bg.toolsworld.com/search/?query=","https://bg.toolsworld.com/search/?query=231875"]
[231895,"Fafurész 500mm ,7-8 TÐI, edzett  fogazat vonalzóval és fa nyéllel//SPARTA",1395,"B","Active",{"$f":"VLOOKUP(A2063,[1]Sheet1!$A$1:$C$65512,3,FALSE)","v":231},null,null,"No info","линк","https://bg.toolsworld.com/search/?query=","https://bg.toolsworld.com/search/?query=231895"]
[233809,"Kézi furész habbetonhoz, 500mm, védo borítás, két komponensu nyél",4248,"B","Active",{"$f":"VLOOKUP(A2064,[1]Sheet1!$A$1:$C$65512,3,FALSE)","v":712},null,null,"No info","линк","https://bg.toolsworld.com/search/?query=","https://bg.toolsworld.com/search/?query=233809"]
[233829,"Kézi furész habbetonhoz, 700mm, védo borítás, két komponensu nyél",4950,"B","Active",{"$f":"VLOOKUP(A2065,[1]Sheet1!$A$1:$C$65512,3,FALSE)","v":173},null,null,"No info","линк","https://bg.toolsworld.com/search/?query=","https://bg.toolsworld.com/search/?query=233829"]
[233905,"Kézi furész gipszkartonhoz, 180 mm, fa nyél//SPARTA",348,"B","Active",{"$f":"VLOOKUP(A2066,[1]Sheet1!$A$1:$C$65512,3,FALSE)","v":162},null,null,"No info","линк","https://bg.toolsworld.com/search/?query=","https://bg.toolsworld.com/search/?query=233905"]
[233929,"Két elu egyenes furész, 180 mm, két komponensu nyél// MTX",1423,"B","Active",{"$f":"VLOOKUP(A2067,[1]Sheet1!$A$1:$C$65512,3,FALSE)","v":133},null,null,"No info","линк","https://bg.toolsworld.com/search/?query=","https://bg.toolsworld.com/search/?query=233929"]
[235015,"Kézifurész 400mm vonalvezetovel , két komponensu nyél,7-8Tpi, 2D edzett fogazat",1423,"B","Active",{"$f":"VLOOKUP(A2068,[1]Sheet1!$A$1:$C$65512,3,FALSE)","v":1428},null,null,"No info","линк","https://bg.toolsworld.com/search/?query=","https://bg.toolsworld.com/search/?query=235015"]
[235025,"Hand-saw 450mm with ruler, two-component handle,7-8Tpi, 2D tempered tooth// Sparta",1391,"B","Active",{"$f":"VLOOKUP(A2069,[1]Sheet1!$A$1:$C$65512,3,FALSE)","v":105},null,null,"No info","линк","https://bg.toolsworld.com/search/?query=","https://bg.toolsworld.com/search/?query=235025"]
[235035,"Kézifurész 500mm vonalvezetovel , két komponensu nyél,7-8Tpi, 2D edzett fogazat",1678,"B","Active",{"$f":"VLOOKUP(A2070,[1]Sheet1!$A$1:$C$65512,3,FALSE)","v":1613},null,null,"No info","линк","https://bg.toolsworld.com/search/?query=","https://bg.toolsworld.com/search/?query=235035"]
[235409,"Illesztofurész, 400 mm, 7 - 8 Tpi, 3D edzett fogazat, két komponensu nyél// MTX",1761,"B","Active",{"$f":"VLOOKUP(A2071,[1]Sheet1!$A$1:$C$65512,3,FALSE)","v":432},null,null,"No info","линк","https://bg.toolsworld.com/search/?query=","https://bg.toolsworld.com/search/?query=235409"]
[235419,"Illesztofurész, 450 mm, 7 - 8 Tpi, 3D edzett fogazat, két komponensu nyél// MTX",1908,"B","Active",{"$f":"VLOOKUP(A2072,[1]Sheet1!$A$1:$C$65512,3,FALSE)","v":524},null,null,"No info","линк","https://bg.toolsworld.com/search/?query=","https://bg.toolsworld.com/search/?query=235419"]
[235499,"Illesztofurész, 400 mm, 7 - 8 Tpi, 3D edzett fogazat, teflonos pengebevonat, két komponensu nyél",2659,"B","Active",{"$f":"VLOOKUP(A2073,[1]Sheet1!$A$1:$C$65512,3,FALSE)","v":252},null,null,"No info","линк","https://bg.toolsworld.com/search/?query=","https://bg.toolsworld.com/search/?query=235499"]
[235509,"Illesztofurész, 450 mm, 7 - 8 Tpi, 3D edzett fogazat, teflonos pengebevonat, két komponensu nyél",2714,"B","Active",{"$f":"VLOOKUP(A2074,[1]Sheet1!$A$1:$C$65512,3,FALSE)","v":3},null,null,"No info","линк","https://bg.toolsworld.com/search/?query=","https://bg.toolsworld.com/search/?query=235509"]
[235519,"Illesztofurész, 500 mm, 7 - 8 Tpi, 3D edzett fogazat, teflonos pengebevonat, két komponensu nyél",2767,"B","Active",{"$f":"VLOOKUP(A2075,[1]Sheet1!$A$1:$C$65512,3,FALSE)","v":73},null,null,"No info","линк","https://bg.toolsworld.com/search/?query=","https://bg.toolsworld.com/search/?query=235519"]
[235609,"Fafűrész, 500 mm, hullámvágás, 5-6 TPI, edzett fog 2D, kétkomponensű Matrix nyél",1843,"B","Active",{"$f":"VLOOKUP(A2076,[1]Sheet1!$A$1:$C$65512,3,FALSE)","v":{"$error":"#N/A"}},null,null,"No info","линк","https://bg.toolsworld.com/search/?query=","https://bg.toolsworld.com/search/?query=235609"]
[235709,"Illesztofurész Univerzális, 350 mm, 13 - 14 TPI, 3D/2D edzett fogazat, két vágóél",2399,"B","Active",{"$f":"VLOOKUP(A2077,[1]Sheet1!$A$1:$C$65512,3,FALSE)","v":" "},null,null,"No info","линк","https://bg.toolsworld.com/search/?query=","https://bg.toolsworld.com/search/?query=235709"]
[235789,"Kézifűrész, 450 mm, 7-8 Tpi, 3D temperált fogak, teflon pengebevonat// MTX",2370,"B","Active",{"$f":"VLOOKUP(A2078,[1]Sheet1!$A$1:$C$65512,3,FALSE)","v":{"$error":"#N/A"}},null,null,"No info","линк","https://bg.toolsworld.com/search/?query=","https://bg.toolsworld.com/search/?query=235789"]
[235799,"Illesztofurész fekete sorozat, 550 mm, 7-8 Tpi, 3D edzett fogazat , teflonos pengebevonat",3317,"B","Active",{"$f":"VLOOKUP(A2079,[1]Sheet1!$A$1:$C$65512,3,FALSE)","v":240},null,null,"No info","линк","https://bg.toolsworld.com/search/?query=","https://bg.toolsworld.com/search/?query=235799"]
[240245,"Lombfurész 300 mm// SPARTA",922,"B","Active",{"$f":"VLOOKUP(A2080,[1]Sheet1!$A$1:$C$65512,3,FALSE)","v":123},null,null,"No info","линк","https://bg.toolsworld.com/search/?query=","https://bg.toolsworld.com/search/?query=240245"]
[242405,"Lapos véso szett, 6-12-18-24 mm fa nyéllel, 4 db//SPARTA",1839,"B","Active",{"$f":"VLOOKUP(A2081,[1]Sheet1!$A$1:$C$65512,3,FALSE)","v":{"$error":"#N/A"}},null,null,"No info","линк","https://bg.toolsworld.com/search/?query=","https://bg.toolsworld.com/search/?query=242405"]
[243975,"Véso szett, 6-12-18-24mm, lapos penge, strapabíró muanyag nyél, 4 db // SPARTA",2100,"B","Active",{"$f":"VLOOKUP(A2082,[1]Sheet1!$A$1:$C$65512,3,FALSE)","v":21},null,null,"No info","линк","https://bg.toolsworld.com/search/?query=","https://bg.toolsworld.com/search/?query=243975"]
[244075,"Veso muanyag markolattal 10 mm//SPARTA",603,"B","Active",{"$f":"VLOOKUP(A2083,[1]Sheet1!$A$1:$C$65512,3,FALSE)","v":32},null,null,"No info","линк","https://bg.toolsworld.com/search/?query=","https://bg.toolsworld.com/search/?query=244075"]
[244105,"Veso muanyag markolattal 12 mm//SPARTA",631,"B","Active",{"$f":"VLOOKUP(A2084,[1]Sheet1!$A$1:$C$65512,3,FALSE)","v":56},null,null,"No info","линк","https://bg.toolsworld.com/search/?query=","https://bg.toolsworld.com/search/?query=244105"]
[244175,"Veso muanyag markolattal 16 mm//SPARTA",678,"B","Active",{"$f":"VLOOKUP(A2085,[1]Sheet1!$A$1:$C$65512,3,FALSE)","v":85},null,null,"No info","линк","https://bg.toolsworld.com/search/?query=","https://bg.toolsworld.com/search/?query=244175"]
[244205,"Véső műanyag nyéllel 18mm// Sparta",780,"B","Active",{"$f":"VLOOKUP(A2086,[1]Sheet1!$A$1:$C$65512,3,FALSE)","v":34},null,null,"No info","линк","https://bg.toolsworld.com/search/?query=","https://bg.toolsworld.com/search/?query=244205"]
[244255,"Véső műanyag nyéllel 24mm// Sparta",880,"B","Active",{"$f":"VLOOKUP(A2087,[1]Sheet1!$A$1:$C$65512,3,FALSE)","v":18},null,null,"No info","линк","https://bg.toolsworld.com/search/?query=","https://bg.toolsworld.com/search/?query=244255"]
[244305,"Véső műanyag nyéllel 30mm// Sparta",1299,"B","Active",{"$f":"VLOOKUP(A2088,[1]Sheet1!$A$1:$C$65512,3,FALSE)","v":4},null,null,"No info","линк","https://bg.toolsworld.com/search/?query=","https://bg.toolsworld.com/search/?query=244305"]
[245019,"Véso 6mm \"Tiger Eye\" gumi markolattal// MTX",1075,"B","Active",{"$f":"VLOOKUP(A2089,[1]Sheet1!$A$1:$C$65512,3,FALSE)","v":87},null,null,"No info","линк","https://bg.toolsworld.com/search/?query=","https://bg.toolsworld.com/search/?query=245019"]
[245039,"Véso 8mm \"Tiger Eye\" gumi markolattal// MTX",1089,"B","Active",{"$f":"VLOOKUP(A2090,[1]Sheet1!$A$1:$C$65512,3,FALSE)","v":225},null,null,"No info","линк","https://bg.toolsworld.com/search/?query=","https://bg.toolsworld.com/search/?query=245039"]
[245059,"Véso 10mm \"Tiger Eye\" gumi markolattal// MTX",1106,"B","Active",{"$f":"VLOOKUP(A2091,[1]Sheet1!$A$1:$C$65512,3,FALSE)","v":334},null,null,"No info","линк","https://bg.toolsworld.com/search/?query=","https://bg.toolsworld.com/search/?query=245059"]
[245079,"Véso 12mm \"Tiger Eye\" gumi markolattal// MTX",1108,"B","Active",{"$f":"VLOOKUP(A2092,[1]Sheet1!$A$1:$C$65512,3,FALSE)","v":214},null,null,"No info","линк","https://bg.toolsworld.com/search/?query=","https://bg.toolsworld.com/search/?query=245079"]
[245099,"Véso 14mm \"Tiger Eye\" gumi markolattal// MTX",1112,"B","Active",{"$f":"VLOOKUP(A2093,[1]Sheet1!$A$1:$C$65512,3,FALSE)","v":266},null,null,"No info","линк","https://bg.toolsworld.com/search/?query=","https://bg.toolsworld.com/search/?query=245099"]
[245119,"Véso 16mm \"Tiger Eye\" gumi markolattal// MTX",1157,"B","Active",{"$f":"VLOOKUP(A2094,[1]Sheet1!$A$1:$C$65512,3,FALSE)","v":414},null,null,"No info","линк","https://bg.toolsworld.com/search/?query=","https://bg.toolsworld.com/search/?query=245119"]
[245139,"Véso 18mm \"Tiger Eye\" gumi markolattal// MTX",1169,"B","Active",{"$f":"VLOOKUP(A2095,[1]Sheet1!$A$1:$C$65512,3,FALSE)","v":385},null,null,"No info","линк","https://bg.toolsworld.com/search/?query=","https://bg.toolsworld.com/search/?query=245139"]
[245159,"Véso 20mm \"Tiger Eye\" gumi markolattal// MTX",1226,"B","Active",{"$f":"VLOOKUP(A2096,[1]Sheet1!$A$1:$C$65512,3,FALSE)","v":163},null,null,"No info","линк","https://bg.toolsworld.com/search/?query=","https://bg.toolsworld.com/search/?query=245159"]
[245169,"Véso 22mm \"Tiger Eye\" gumi markolattal// MTX",1232,"B","Active",{"$f":"VLOOKUP(A2097,[1]Sheet1!$A$1:$C$65512,3,FALSE)","v":173},null,null,"No info","линк","https://bg.toolsworld.com/search/?query=","https://bg.toolsworld.com/search/?query=245169"]
[245179,"Véso 24mm \"Tiger Eye\" gumi markolattal// MTX",1322,"B","Active",{"$f":"VLOOKUP(A2098,[1]Sheet1!$A$1:$C$65512,3,FALSE)","v":263},null,null,"No info",{"$f":"HYPERLINK(L2098,\"линк\")","v":"линк"},"https://bg.toolsworld.com/search/?query=","https://bg.toolsworld.com/search/?query=245179"]
[245189,"Véso 26mm \"Tiger Eye\" gumi markolattal// MTX",1352,"B","Active",{"$f":"VLOOKUP(A2099,[1]Sheet1!$A$1:$C$65512,3,FALSE)","v":143},null,null,"No info","линк","https://bg.toolsworld.com/search/?query=","https://bg.toolsworld.com/search/?query=245189"]
[245199,"Véso 30mm \"Tiger Eye\" gumi markolattal// MTX",1454,"B","Active",{"$f":"VLOOKUP(A2100,[1]Sheet1!$A$1:$C$65512,3,FALSE)","v":474},null,null,"No info","линк","https://bg.toolsworld.com/search/?query=",{"$f":"CONCATENATE(K2100,A2100)","v":"https://bg.toolsworld.com/search/?query=245199"}]
[245209,"Véso 28mm \"Tiger Eye\" gumi markolattal// MTX",1423,"B","Active",{"$f":"VLOOKUP(A2101,[1]Sheet1!$A$1:$C$65512,3,FALSE)","v":157},null,null,"No info","линк","https://bg.toolsworld.com/search/?query=","https://bg.toolsworld.com/search/?query=245209"]
[245219,"Véso 32mm \"Tiger Eye\" gumi markolattal// MTX",1515,"B","Active",{"$f":"VLOOKUP(A2102,[1]Sheet1!$A$1:$C$65512,3,FALSE)","v":162},null,null,"No info","линк","https://bg.toolsworld.com/search/?query=","https://bg.toolsworld.com/search/?query=245219"]
[245259,"Véso 38mm \"Tiger Eye\" gumi markolattal// MTX",1592,"B","Active",{"$f":"VLOOKUP(A2103,[1]Sheet1!$A$1:$C$65512,3,FALSE)","v":304},null,null,"No info","линк","https://bg.toolsworld.com/search/?query=","https://bg.toolsworld.com/search/?query=245259"]
[246065,"Fafaragó készlet, fa fogantyúk, 6 db// Sparta",560,"B","Active",{"$f":"VLOOKUP(A2104,[1]Sheet1!$A$1:$C$65512,3,FALSE)","v":{"$error":"#N/A"}},null,null,"No info","линк","https://bg.toolsworld.com/search/?query=","https://bg.toolsworld.com/search/?query=246065"]
[252265,"Bontórúd, 600 mm, hatlapú, SZÍNued// Sparta",1755,"B","Active",{"$f":"VLOOKUP(A2105,[1]Sheet1!$A$1:$C$65512,3,FALSE)","v":91},null,null,"No info","линк","https://bg.toolsworld.com/search/?query=","https://bg.toolsworld.com/search/?query=252265"]
[252285,"Bontórúd, 900 mm, hatlapú, színes// Sparta",2342,"B","Active",{"$f":"VLOOKUP(A2106,[1]Sheet1!$A$1:$C$65512,3,FALSE)","v":{"$error":"#N/A"}},null,null,"No info","линк","https://bg.toolsworld.com/search/?query=","https://bg.toolsworld.com/search/?query=252285"]
[252319,"Megerosített feszítovas, 450x25x12 mm// MTX",2203,"B","Active",{"$f":"VLOOKUP(A2107,[1]Sheet1!$A$1:$C$65512,3,FALSE)","v":254},null,null,"No info","линк","https://bg.toolsworld.com/search/?query=","https://bg.toolsworld.com/search/?query=252319"]
[252339,"Megerosített feszítovas, 600x29x15 mm// MTX",3747,"B","Active",{"$f":"VLOOKUP(A2108,[1]Sheet1!$A$1:$C$65512,3,FALSE)","v":695},null,null,"No info","линк","https://bg.toolsworld.com/search/?query=","https://bg.toolsworld.com/search/?query=252339"]
[252359,"Megerosített feszítovas, 900x29x15 mm// MTX",5396,"B","Active",{"$f":"VLOOKUP(A2109,[1]Sheet1!$A$1:$C$65512,3,FALSE)","v":392},null,null,"No info","линк","https://bg.toolsworld.com/search/?query=","https://bg.toolsworld.com/search/?query=252359"]
[305045,"Vonalzó 150mm fém// SPARTA",140,"B","Active",{"$f":"VLOOKUP(A2110,[1]Sheet1!$A$1:$C$65512,3,FALSE)","v":399},null,null,"No info","линк","https://bg.toolsworld.com/search/?query=","https://bg.toolsworld.com/search/?query=305045"]
[305065,"Vonalzó 300mm fém// SPARTA",283,"B","Active",{"$f":"VLOOKUP(A2111,[1]Sheet1!$A$1:$C$65512,3,FALSE)","v":2158},null,null,"No info","линк","https://bg.toolsworld.com/search/?query=","https://bg.toolsworld.com/search/?query=305065"]
[305085,"Vonalzó 500mm fém// SPARTA",532,"B","Active",{"$f":"VLOOKUP(A2112,[1]Sheet1!$A$1:$C$65512,3,FALSE)","v":1253},null,null,"No info","линк","https://bg.toolsworld.com/search/?query=","https://bg.toolsworld.com/search/?query=305085"]
[305739,"Fém szintvonalzó, 600 mm, műanyag fogantyú, 2 fiola// MTX",2112,"B","Active",{"$f":"VLOOKUP(A2113,[1]Sheet1!$A$1:$C$65512,3,FALSE)","v":1583},null,null,"No info","линк","https://bg.toolsworld.com/search/?query=","https://bg.toolsworld.com/search/?query=305739"]
[305759,"Fém szintvonalzó, 800 mm, műanyag fogantyú, 2 fiola// MTX",2592,"B","Active",{"$f":"VLOOKUP(A2114,[1]Sheet1!$A$1:$C$65512,3,FALSE)","v":{"$error":"#N/A"}},null,null,"No info","линк","https://bg.toolsworld.com/search/?query=","https://bg.toolsworld.com/search/?query=305759"]
[305779,"Fém szintvonalzó, 1000 mm, muanyag nyél, 2  ampulla// MTX MASTER",2894,"B","Active",{"$f":"VLOOKUP(A2115,[1]Sheet1!$A$1:$C$65512,3,FALSE)","v":1125},null,null,"No info","линк","https://bg.toolsworld.com/search/?query=","https://bg.toolsworld.com/search/?query=305779"]
[305799,"Fém szintvonalzó, 1200 mm, muanyag nyél, 2  ampulla// MTX MASTER",4032,"B","Active",{"$f":"VLOOKUP(A2116,[1]Sheet1!$A$1:$C$65512,3,FALSE)","v":63},null,null,"No info","линк","https://bg.toolsworld.com/search/?query=","https://bg.toolsworld.com/search/?query=305799"]
[310009,"Méroszalag, 10mx32mm, kis szalagos, megnagyobbított mágneses akasztó// MTX",2924,"B","Active",{"$f":"VLOOKUP(A2117,[1]Sheet1!$A$1:$C$65512,3,FALSE)","v":{"$error":"#N/A"}},null,null,"No info","линк","https://bg.toolsworld.com/search/?query=","https://bg.toolsworld.com/search/?query=310009"]
[310017,"Gumi borítású mérőszalag 7,5m x 25mm, gumi test, CE// MTX",1368,"B","Active",{"$f":"VLOOKUP(A2118,[1]Sheet1!$A$1:$C$65512,3,FALSE)","v":296},null,null,"No info","линк","https://bg.toolsworld.com/search/?query=","https://bg.toolsworld.com/search/?query=310017"]
[310027,"Gumi borítású mérőszalag 5m x19mm, СЕ// MTX",849,"B","Active",{"$f":"VLOOKUP(A2119,[1]Sheet1!$A$1:$C$65512,3,FALSE)","v":475},null,null,"No info","линк","https://bg.toolsworld.com/search/?query=","https://bg.toolsworld.com/search/?query=310027"]
[310037,"Gumi mérőszalag 3m x16mm, CE// MTX",591,"B","Active",{"$f":"VLOOKUP(A2120,[1]Sheet1!$A$1:$C$65512,3,FALSE)","v":427},null,null,"No info","линк","https://bg.toolsworld.com/search/?query=","https://bg.toolsworld.com/search/?query=310037"]
[310039,"Gumi mérőszalag 3m x16mm// MTX",509,"B","Active",{"$f":"VLOOKUP(A2121,[1]Sheet1!$A$1:$C$65512,3,FALSE)","v":{"$error":"#N/A"}},null,null,"No info","линк","https://bg.toolsworld.com/search/?query=","https://bg.toolsworld.com/search/?query=310039"]
[310049,"Méroszalag, 3m x 16mm, megnagyobbított mágneses akasztó, 3 rögzítés// MTX",721,"B","Active",{"$f":"VLOOKUP(A2122,[1]Sheet1!$A$1:$C$65512,3,FALSE)","v":{"$error":"#N/A"}},null,null,"No info","линк","https://bg.toolsworld.com/search/?query=","https://bg.toolsworld.com/search/?query=310049"]
[310059,"Méroszalag, 5m x 25mm,, megnagyobbított mágneses akasztó, 3 rögzítés// MTX",1356,"B","Active",{"$f":"VLOOKUP(A2123,[1]Sheet1!$A$1:$C$65512,3,FALSE)","v":{"$error":"#N/A"}},null,null,"No info","линк","https://bg.toolsworld.com/search/?query=","https://bg.toolsworld.com/search/?query=310059"]
[310069,"Méroszalag, 3 rögzítés, 7.5m x 25mm,  megnagyobbított mágneses akasztó// MTX",1729,"B","Active",{"$f":"VLOOKUP(A2124,[1]Sheet1!$A$1:$C$65512,3,FALSE)","v":{"$error":"#N/A"}},null,null,"No info","линк","https://bg.toolsworld.com/search/?query=","https://bg.toolsworld.com/search/?query=310069"]
[310167,"Mérőszalag \"Fine\" 3m x 16 mm, műanyag ház, СЕ// MTX",497,"B","Active",{"$f":"VLOOKUP(A2125,[1]Sheet1!$A$1:$C$65512,3,FALSE)","v":1270},null,null,"No info","линк","https://bg.toolsworld.com/search/?query=","https://bg.toolsworld.com/search/?query=310167"]
[310177,"Mérőszalag 5mx19m, műanyag ház, СЕ// MTX",751,"B","Active",{"$f":"VLOOKUP(A2126,[1]Sheet1!$A$1:$C$65512,3,FALSE)","v":1757},null,null,"No info","линк","https://bg.toolsworld.com/search/?query=","https://bg.toolsworld.com/search/?query=310177"]
[310179,"Mérőszalag 5mx19m, műanyag ház// MTX",709,"B","Active",{"$f":"VLOOKUP(A2127,[1]Sheet1!$A$1:$C$65512,3,FALSE)","v":{"$error":"#N/A"}},null,null,"No info","линк","https://bg.toolsworld.com/search/?query=","https://bg.toolsworld.com/search/?query=310179"]
[310199,"Méroszalag, mágneses rögzítés, 3m x 16mm, gumi tok, megnagyobbított mágneses akasztó// MTX",678,"B","Active",{"$f":"VLOOKUP(A2128,[1]Sheet1!$A$1:$C$65512,3,FALSE)","v":{"$error":"#N/A"}},null,null,"No info","линк","https://bg.toolsworld.com/search/?query=","https://bg.toolsworld.com/search/?query=310199"]
[310319,"Méroszalag, mágneses rögzítés, 7,5m x 25mm, gumi tok, megnagyobbított mágneses akasztó// MTX",1680,"B","Active",{"$f":"VLOOKUP(A2129,[1]Sheet1!$A$1:$C$65512,3,FALSE)","v":{"$error":"#N/A"}},null,null,"No info","линк","https://bg.toolsworld.com/search/?query=","https://bg.toolsworld.com/search/?query=310319"]
[310409,"Méroszalag, 5m x 13mm, zseb, króm test// MTX",819,"B","Active",{"$f":"VLOOKUP(A2130,[1]Sheet1!$A$1:$C$65512,3,FALSE)","v":{"$error":"#N/A"}},null,null,"No info","линк","https://bg.toolsworld.com/search/?query=","https://bg.toolsworld.com/search/?query=310409"]
[310867,"Mérőszalag Folyamatos rögzítés, 3m x 16mm, gumi test, folyékony rögzítés, CE// MTX",629,"B","Active",{"$f":"VLOOKUP(A2131,[1]Sheet1!$A$1:$C$65512,3,FALSE)","v":454},null,null,"No info","линк","https://bg.toolsworld.com/search/?query=","https://bg.toolsworld.com/search/?query=310867"]
[310887,"Mérőszalag, 5m x 19mm, gumi test, folyékony rögzítés, CE// MTX",835,"B","Active",{"$f":"VLOOKUP(A2132,[1]Sheet1!$A$1:$C$65512,3,FALSE)","v":" "},null,null,"No info","линк","https://bg.toolsworld.com/search/?query=","https://bg.toolsworld.com/search/?query=310887"]
[313017,"Mérőszalag Classic, 2 m * 13 mm, műanyag ház, СЕ// Sparta",320,"B","Active",{"$f":"VLOOKUP(A2133,[1]Sheet1!$A$1:$C$65512,3,FALSE)","v":1393},null,null,"No info","линк","https://bg.toolsworld.com/search/?query=","https://bg.toolsworld.com/search/?query=313017"]
[313027,"Mérőszalag Classic, 3 m * 16 mm, műanyag ház, СЕ// Sparta",422,"B","Active",{"$f":"VLOOKUP(A2134,[1]Sheet1!$A$1:$C$65512,3,FALSE)","v":1677},null,null,"No info","линк","https://bg.toolsworld.com/search/?query=","https://bg.toolsworld.com/search/?query=313027"]
[313037,"Mérőszalag Classic, 5 m * 18 mm, műanyag ház, СЕ// Sparta",601,"B","Active",{"$f":"VLOOKUP(A2135,[1]Sheet1!$A$1:$C$65512,3,FALSE)","v":600},null,null,"No info","линк","https://bg.toolsworld.com/search/?query=","https://bg.toolsworld.com/search/?query=313037"]
[313047,"Mérőszalag Classic, 7,5 m * 24 mm, műanyag ház, СЕ// Sparta",982,"B","Active",{"$f":"VLOOKUP(A2136,[1]Sheet1!$A$1:$C$65512,3,FALSE)","v":531},null,null,"No info","линк","https://bg.toolsworld.com/search/?query=","https://bg.toolsworld.com/search/?query=313047"]
[313057,"Mérőszalag Classic, 10 m * 25 mm, műanyag ház, СЕ// Sparta",1289,"B","Active",{"$f":"VLOOKUP(A2137,[1]Sheet1!$A$1:$C$65512,3,FALSE)","v":635},null,null,"No info","линк","https://bg.toolsworld.com/search/?query=","https://bg.toolsworld.com/search/?query=313057"]
[313117,"Mérőszalag Elastica, 3 m * 16 mm, gumi test, СЕ// Sparta",464,"B","Active",{"$f":"VLOOKUP(A2138,[1]Sheet1!$A$1:$C$65512,3,FALSE)","v":6105},null,null,"No info","линк","https://bg.toolsworld.com/search/?query=","https://bg.toolsworld.com/search/?query=313117"]
[313127,"Mérőszalag Elastica, 5 m * 18 mm, gumi test, СЕ// Sparta",678,"B","Active",{"$f":"VLOOKUP(A2139,[1]Sheet1!$A$1:$C$65512,3,FALSE)","v":3809},null,null,"No info","линк","https://bg.toolsworld.com/search/?query=","https://bg.toolsworld.com/search/?query=313127"]
[313147,"Mérőszalag Elastica, 10 m * 25 mm, gumi test, СЕ// Sparta",1499,"B","Active",{"$f":"VLOOKUP(A2140,[1]Sheet1!$A$1:$C$65512,3,FALSE)","v":1151},null,null,"No info","линк","https://bg.toolsworld.com/search/?query=","https://bg.toolsworld.com/search/?query=313147"]
[314355,"Geodéziai méroszalag 30mx12,5mm (PVC) nyílt burkolat// SPARTA",1299,"B","Active",{"$f":"VLOOKUP(A2141,[1]Sheet1!$A$1:$C$65512,3,FALSE)","v":{"$error":"#N/A"}},null,null,"No info","линк","https://bg.toolsworld.com/search/?query=","https://bg.toolsworld.com/search/?query=314355"]
[316019,"Csúsztamérő 150 mm// MTX",7976,"B","Active",{"$f":"VLOOKUP(A2142,[1]Sheet1!$A$1:$C$65512,3,FALSE)","v":30},null,null,"No info","линк","https://bg.toolsworld.com/search/?query=","https://bg.toolsworld.com/search/?query=316019"]
[316119,"Tolómérő 150 mm, elektronikus mérleg// MTX",8215,"B","Active",{"$f":"VLOOKUP(A2143,[1]Sheet1!$A$1:$C$65512,3,FALSE)","v":{"$error":"#N/A"}},null,null,"No info","линк","https://bg.toolsworld.com/search/?query=","https://bg.toolsworld.com/search/?query=316119"]
[323425,"Fém derékszög, 250 mm//SPARTA",523,"B","Active",{"$f":"VLOOKUP(A2144,[1]Sheet1!$A$1:$C$65512,3,FALSE)","v":1303},null,null,"No info","линк","https://bg.toolsworld.com/search/?query=","https://bg.toolsworld.com/search/?query=323425"]
[323445,"Fém derékszög, 300 mm//SPARTA",550,"B","Active",{"$f":"VLOOKUP(A2145,[1]Sheet1!$A$1:$C$65512,3,FALSE)","v":2120},null,null,"No info","линк","https://bg.toolsworld.com/search/?query=","https://bg.toolsworld.com/search/?query=323445"]
[323465,"Fém derékszög, 350 mm//SPARTA",605,"B","Active",{"$f":"VLOOKUP(A2146,[1]Sheet1!$A$1:$C$65512,3,FALSE)","v":527},null,null,"No info","линк","https://bg.toolsworld.com/search/?query=","https://bg.toolsworld.com/search/?query=323465"]
[323525,"Fém derékszög, 500 mm//SPARTA",798,"B","Active",{"$f":"VLOOKUP(A2147,[1]Sheet1!$A$1:$C$65512,3,FALSE)","v":1850},null,null,"No info","линк","https://bg.toolsworld.com/search/?query=","https://bg.toolsworld.com/search/?query=323525"]
[323709,"Fém derékszög, 300 mm// MTX",629,"B","Active",{"$f":"VLOOKUP(A2148,[1]Sheet1!$A$1:$C$65512,3,FALSE)","v":1987},null,null,"No info","линк","https://bg.toolsworld.com/search/?query=","https://bg.toolsworld.com/search/?query=323709"]
[323719," Fém derékszög, 600 mm// MTX",1601,"B","Active",{"$f":"VLOOKUP(A2149,[1]Sheet1!$A$1:$C$65512,3,FALSE)","v":440},null,null,"No info","линк","https://bg.toolsworld.com/search/?query=","https://bg.toolsworld.com/search/?query=323719"]
[324719,"Derékszög, alumínium 250mm// MTX",1140,"B","Active",{"$f":"VLOOKUP(A2150,[1]Sheet1!$A$1:$C$65512,3,FALSE)","v":1804},null,null,"No info","линк","https://bg.toolsworld.com/search/?query=","https://bg.toolsworld.com/search/?query=324719"]
[324729,"Derékszög, alumínium 300mm// MTX",1338,"B","Active",{"$f":"VLOOKUP(A2151,[1]Sheet1!$A$1:$C$65512,3,FALSE)","v":2167},null,null,"No info","линк","https://bg.toolsworld.com/search/?query=","https://bg.toolsworld.com/search/?query=324729"]
[324739,"Derékszög, alumínium 350mm// MTX",1540,"B","Active",{"$f":"VLOOKUP(A2152,[1]Sheet1!$A$1:$C$65512,3,FALSE)","v":1768},null,null,"No info","линк","https://bg.toolsworld.com/search/?query=","https://bg.toolsworld.com/search/?query=324739"]
[324749,"Derékszög, alumínium 400mm// MTX",1755,"B","Active",{"$f":"VLOOKUP(A2153,[1]Sheet1!$A$1:$C$65512,3,FALSE)","v":1143},null,null,"No info","линк","https://bg.toolsworld.com/search/?query=","https://bg.toolsworld.com/search/?query=324749"]
[325207,"Kvarc mérőszalag, átlátszó test, puffer, 3m x 16 mm// MTX",586,"B","Active",{"$f":"VLOOKUP(A2154,[1]Sheet1!$A$1:$C$65512,3,FALSE)","v":228},null,null,"No info","линк","https://bg.toolsworld.com/search/?query=","https://bg.toolsworld.com/search/?query=325207"]
[325227,"Kvarc mérőszalag, átlátszó test, puffer, 5m x 25 mm// MTX",1134,"B","Active",{"$f":"VLOOKUP(A2155,[1]Sheet1!$A$1:$C$65512,3,FALSE)","v":" "},null,null,"No info","линк","https://bg.toolsworld.com/search/?query=","https://bg.toolsworld.com/search/?query=325227"]
[325247,"Kvarc mérőszalag, átlátszó test, puffer, 10m x 25 mm// MTX",2059,"B","Active",{"$f":"VLOOKUP(A2156,[1]Sheet1!$A$1:$C$65512,3,FALSE)","v":{"$error":"#N/A"}},null,null,"No info","линк","https://bg.toolsworld.com/search/?query=","https://bg.toolsworld.com/search/?query=325247"]
[325529,"Méroszalag, gumírozott borítás, CE tanúsított 5m x 25mm// MTX",1301,"B","Active",{"$f":"VLOOKUP(A2157,[1]Sheet1!$A$1:$C$65512,3,FALSE)","v":{"$error":"#N/A"}},null,null,"No info","линк","https://bg.toolsworld.com/search/?query=","https://bg.toolsworld.com/search/?query=325529"]
[325549,"Méroszalag, automatikus rögzítés, két komponensu borítás, CE tanúsított 3m x 16mm//MTX",760,"B","Active",{"$f":"VLOOKUP(A2158,[1]Sheet1!$A$1:$C$65512,3,FALSE)","v":{"$error":"#N/A"}},null,null,"No info","линк","https://bg.toolsworld.com/search/?query=","https://bg.toolsworld.com/search/?query=325549"]
[325559,"Méroszalag, automatikus rögzítés, két komponensu borítás, CE tanúsított 5m x 19mm//MTX",1153,"B","Active",{"$f":"VLOOKUP(A2159,[1]Sheet1!$A$1:$C$65512,3,FALSE)","v":{"$error":"#N/A"}},null,null,"No info","линк","https://bg.toolsworld.com/search/?query=","https://bg.toolsworld.com/search/?query=325559"]
[325579,"Méroszalag, automatikus rögzítés, két komponensu borítás, CE tanúsított 7,5m x 25mm//MTX",1651,"B","Active",{"$f":"VLOOKUP(A2160,[1]Sheet1!$A$1:$C$65512,3,FALSE)","v":{"$error":"#N/A"}},null,null,"No info","линк","https://bg.toolsworld.com/search/?query=","https://bg.toolsworld.com/search/?query=325579"]
[330205,"Alumínium vízmérték, 3 libella, vonalzó, sárga, 400 mm// SPARTA",890,"B","Active",{"$f":"VLOOKUP(A2161,[1]Sheet1!$A$1:$C$65512,3,FALSE)","v":111},null,null,"No info","линк","https://bg.toolsworld.com/search/?query=","https://bg.toolsworld.com/search/?query=330205"]
[330235,"Alumínium vízmérték, 3 libella, vonalzó, sárga, 600 mm// SPARTA",1167,"B","Active",{"$f":"VLOOKUP(A2162,[1]Sheet1!$A$1:$C$65512,3,FALSE)","v":101},null,null,"No info",{"$f":"HYPERLINK(L2162,\"линк\")","v":"линк"},"https://bg.toolsworld.com/search/?query=","https://bg.toolsworld.com/search/?query=330235"]
[330265,"Alumínium vízmérték, 3 libella, vonalzó, sárga, 800 mm// SPARTA",1379,"B","Active",{"$f":"VLOOKUP(A2163,[1]Sheet1!$A$1:$C$65512,3,FALSE)","v":56},null,null,"No info","линк","https://bg.toolsworld.com/search/?query=","https://bg.toolsworld.com/search/?query=330265"]
[330295,"Alumínium vízmérték, 3 libella, vonalzó,sárga, 1000 mm//SPARTA",1637,"B","Active",{"$f":"VLOOKUP(A2164,[1]Sheet1!$A$1:$C$65512,3,FALSE)","v":197},null,null,"No info","линк","https://bg.toolsworld.com/search/?query=",{"$f":"CONCATENATE(K2164,A2164)","v":"https://bg.toolsworld.com/search/?query=330295"}]
[330325,"Alumínium vízmérték, 3 libella, vonalzó, sárga, 1200 mm// SPARTA",1869,"B","Active",{"$f":"VLOOKUP(A2165,[1]Sheet1!$A$1:$C$65512,3,FALSE)","v":8},null,null,"No info","линк","https://bg.toolsworld.com/search/?query=","https://bg.toolsworld.com/search/?query=330325"]
[331205,"Alumínium vízmérték, 3 libella, vonalzó 400 mm// SPARTA",851,"B","Active",{"$f":"VLOOKUP(A2166,[1]Sheet1!$A$1:$C$65512,3,FALSE)","v":204},null,null,"No info","линк","https://bg.toolsworld.com/search/?query=","https://bg.toolsworld.com/search/?query=331205"]
[331235,"Alumínium vízmérték, 3 libella, vonalzó 600 mm// SPARTA",1053,"B","Active",{"$f":"VLOOKUP(A2167,[1]Sheet1!$A$1:$C$65512,3,FALSE)","v":97},null,null,"No info","линк","https://bg.toolsworld.com/search/?query=","https://bg.toolsworld.com/search/?query=331235"]
[331265,"Alumínium vízmérték,3 libella, vonalzó 800 mm// SPARTA",1240,"B","Active",{"$f":"VLOOKUP(A2168,[1]Sheet1!$A$1:$C$65512,3,FALSE)","v":54},null,null,"No info","линк","https://bg.toolsworld.com/search/?query=","https://bg.toolsworld.com/search/?query=331265"]
[331295,"Alumínium vízmérték, 3 libella, vonalzó 1000 mm// SPARTA",1517,"B","Active",{"$f":"VLOOKUP(A2169,[1]Sheet1!$A$1:$C$65512,3,FALSE)","v":116},null,null,"No info","линк","https://bg.toolsworld.com/search/?query=","https://bg.toolsworld.com/search/?query=331295"]
[331325,"Alumínium vízmérték, 3 libella, vonalzó 1200 mm// SPARTA",1721,"B","Active",{"$f":"VLOOKUP(A2170,[1]Sheet1!$A$1:$C$65512,3,FALSE)","v":52},null,null,"No info","линк","https://bg.toolsworld.com/search/?query=","https://bg.toolsworld.com/search/?query=331325"]
[331355,"Alumínium vízmérték, 3 buborék, vonalzó 1500 mm// Sparta",2523,"B","Active",{"$f":"VLOOKUP(A2171,[1]Sheet1!$A$1:$C$65512,3,FALSE)","v":{"$error":"#N/A"}},null,null,"No info","линк","https://bg.toolsworld.com/search/?query=","https://bg.toolsworld.com/search/?query=331355"]
[332209,"Alumínium vízmérték, 3 libella, vonalzó, piros, 400 mm// MTX",1368,"B","Active",{"$f":"VLOOKUP(A2172,[1]Sheet1!$A$1:$C$65512,3,FALSE)","v":134},null,null,"No info","линк","https://bg.toolsworld.com/search/?query=","https://bg.toolsworld.com/search/?query=332209"]
[332219,"Alumínium vízmérték, mart, 3 fiola, 2 ergonomikus fogantyú, 600 mm// MTX",3313,"B","Active",{"$f":"VLOOKUP(A2173,[1]Sheet1!$A$1:$C$65512,3,FALSE)","v":137},null,null,"No info","линк","https://bg.toolsworld.com/search/?query=","https://bg.toolsworld.com/search/?query=332219"]
[332239,"Alumínium vízmérték, 3 libella, vonalzó,piros, 600 mm// MTX",1729,"B","Active",{"$f":"VLOOKUP(A2174,[1]Sheet1!$A$1:$C$65512,3,FALSE)","v":15},null,null,"No info","линк","https://bg.toolsworld.com/search/?query=","https://bg.toolsworld.com/search/?query=332239"]
[332249,"Alumínium vízmérték, mart, 3 fiola, 2 ergonomikus fogantyú, 800 mm// MTX",3898,"B","Active",{"$f":"VLOOKUP(A2175,[1]Sheet1!$A$1:$C$65512,3,FALSE)","v":{"$error":"#N/A"}},null,null,"No info","линк","https://bg.toolsworld.com/search/?query=","https://bg.toolsworld.com/search/?query=332249"]
[332269,"Alumínium vízmérték, 3 libella, vonalzó, piros, 800 mm// MTX",2036,"B","Active",{"$f":"VLOOKUP(A2176,[1]Sheet1!$A$1:$C$65512,3,FALSE)","v":82},null,null,"No info","линк","https://bg.toolsworld.com/search/?query=","https://bg.toolsworld.com/search/?query=332269"]
[332299,"Alumínium vízmérték, 3 libella, vonalzó, piros, 1000 mm// MTX",2399,"B","Active",{"$f":"VLOOKUP(A2177,[1]Sheet1!$A$1:$C$65512,3,FALSE)","v":83},null,null,"No info","линк","https://bg.toolsworld.com/search/?query=","https://bg.toolsworld.com/search/?query=332299"]
[332309,"Alumínium vízmérték, mart, 3 fiola, 2 ergonomikus fogantyú, 1200 mm// MTX",5170,"B","Active",{"$f":"VLOOKUP(A2178,[1]Sheet1!$A$1:$C$65512,3,FALSE)","v":12},null,null,"No info","линк","https://bg.toolsworld.com/search/?query=","https://bg.toolsworld.com/search/?query=332309"]
[332329,"Alumínium vízmérték, 3 libella, vonalzó, piros, 1200 mm// MTX",2747,"B","Active",{"$f":"VLOOKUP(A2179,[1]Sheet1!$A$1:$C$65512,3,FALSE)","v":42},null,null,"No info","линк","https://bg.toolsworld.com/search/?query=","https://bg.toolsworld.com/search/?query=332329"]
[332359,"Alumínium vízmérték, 3 libella, vonalzó, piros, 1500 mm// MTX",3276,"B","Active",{"$f":"VLOOKUP(A2180,[1]Sheet1!$A$1:$C$65512,3,FALSE)","v":{"$error":"#N/A"}},null,null,"No info","линк","https://bg.toolsworld.com/search/?query=","https://bg.toolsworld.com/search/?query=332359"]
[332419,"Alumínium vízmérték, 3 libella, vonalzó, piros, 2000 mm// MTX",4128,"B","Active",{"$f":"VLOOKUP(A2181,[1]Sheet1!$A$1:$C$65512,3,FALSE)","v":{"$error":"#N/A"}},null,null,"No info","линк","https://bg.toolsworld.com/search/?query=","https://bg.toolsworld.com/search/?query=332419"]
[336049,"Alumínium vízmérték, 3 libella, 400 mm// MTX",1383,"B","Active",{"$f":"VLOOKUP(A2182,[1]Sheet1!$A$1:$C$65512,3,FALSE)","v":168},null,null,"No info","линк","https://bg.toolsworld.com/search/?query=","https://bg.toolsworld.com/search/?query=336049"]
[336069,"Alumínium vízmérték, 3 libella, 600 mm// MTX",1708,"B","Active",{"$f":"VLOOKUP(A2183,[1]Sheet1!$A$1:$C$65512,3,FALSE)","v":21},null,null,"No info","линк","https://bg.toolsworld.com/search/?query=","https://bg.toolsworld.com/search/?query=336069"]
[336089,"Alumínium vízmérték, 3 libella, 800 mm// MTX",2042,"B","Active",{"$f":"VLOOKUP(A2184,[1]Sheet1!$A$1:$C$65512,3,FALSE)","v":50},null,null,"No info","линк","https://bg.toolsworld.com/search/?query=","https://bg.toolsworld.com/search/?query=336089"]
[336109,"Alumínium vízmérték, 3 libella, 1000 mm// MTX",2403,"B","Active",{"$f":"VLOOKUP(A2185,[1]Sheet1!$A$1:$C$65512,3,FALSE)","v":35},null,null,"No info","линк","https://bg.toolsworld.com/search/?query=","https://bg.toolsworld.com/search/?query=336109"]
[337019,"Mágneses vízmérték, 3 libella, 460 mm// MTX",1774,"B","Active",{"$f":"VLOOKUP(A2186,[1]Sheet1!$A$1:$C$65512,3,FALSE)","v":201},null,null,"No info","линк","https://bg.toolsworld.com/search/?query=","https://bg.toolsworld.com/search/?query=337019"]
[337029,"Mágneses vízmérték, 3 libella, 600 mm// MTX",2144,"B","Active",{"$f":"VLOOKUP(A2187,[1]Sheet1!$A$1:$C$65512,3,FALSE)","v":95},null,null,"No info","линк","https://bg.toolsworld.com/search/?query=","https://bg.toolsworld.com/search/?query=337029"]
[340049,"Alumínium vízmérték \"sín\", 400 mm, 2 libella + 1 forgatható, megerosített// MTX",2089,"B","Active",{"$f":"VLOOKUP(A2188,[1]Sheet1!$A$1:$C$65512,3,FALSE)","v":7},null,null,"No info","линк","https://bg.toolsworld.com/search/?query=","https://bg.toolsworld.com/search/?query=340049"]
[340069,"Alumínium vízmérték \"sín\", 600 mm, 2 libella + 1 forgatható, megerosített// MTX",2861,"B","Active",{"$f":"VLOOKUP(A2189,[1]Sheet1!$A$1:$C$65512,3,FALSE)","v":19},null,null,"No info","линк","https://bg.toolsworld.com/search/?query=","https://bg.toolsworld.com/search/?query=340069"]
[340089,"Alumínium vízmérték \"sín\", 800 mm, 2 libella + 1 forgatható, megerosített// MTX",3588,"B","Active",{"$f":"VLOOKUP(A2190,[1]Sheet1!$A$1:$C$65512,3,FALSE)","v":" "},null,null,"No info","линк","https://bg.toolsworld.com/search/?query=","https://bg.toolsworld.com/search/?query=340089"]
[340109,"Alumínium vízmérték \"sín\", 1000 mm, 2 libella + 1 forgatható, megerosített// MTX",4058,"B","Active",{"$f":"VLOOKUP(A2191,[1]Sheet1!$A$1:$C$65512,3,FALSE)","v":102},null,null,"No info","линк","https://bg.toolsworld.com/search/?query=","https://bg.toolsworld.com/search/?query=340109"]
[340129,"Alumínium vízmérték \"sín\", 1200 mm, 2 libella + 1 forgatható, megerosített// MTX",4735,"B","Active",{"$f":"VLOOKUP(A2192,[1]Sheet1!$A$1:$C$65512,3,FALSE)","v":185},null,null,"No info","линк","https://bg.toolsworld.com/search/?query=","https://bg.toolsworld.com/search/?query=340129"]
[340209,"Alumínium vízmérték \"sín\", 400 mm, 2 libella + 1 forgatható// MTX",1340,"B","Active",{"$f":"VLOOKUP(A2193,[1]Sheet1!$A$1:$C$65512,3,FALSE)","v":151},null,null,"No info","линк","https://bg.toolsworld.com/search/?query=","https://bg.toolsworld.com/search/?query=340209"]
[340239,"Alumínium vízmérték \"sín\", 600 mm, 2 libella+ 1 forgatható// MTX",1678,"B","Active",{"$f":"VLOOKUP(A2194,[1]Sheet1!$A$1:$C$65512,3,FALSE)","v":634},null,null,"No info","линк","https://bg.toolsworld.com/search/?query=","https://bg.toolsworld.com/search/?query=340239"]
[340269,"Alumínium vízmérték \"sín\", 800 mm, 2 libella+ 1 forgatható// MTX",2161,"B","Active",{"$f":"VLOOKUP(A2195,[1]Sheet1!$A$1:$C$65512,3,FALSE)","v":2242},null,null,"No info","линк","https://bg.toolsworld.com/search/?query=","https://bg.toolsworld.com/search/?query=340269"]
[340299,"Alumínium vízmérték \"sín\", 1000 mm, 2 libella+ 1 forgatható// MTX",2334,"B","Active",{"$f":"VLOOKUP(A2196,[1]Sheet1!$A$1:$C$65512,3,FALSE)","v":122},null,null,"No info","линк","https://bg.toolsworld.com/search/?query=","https://bg.toolsworld.com/search/?query=340299"]
[340329,"Alumínium vízmérték \"sín\", 1200 mm, 2 libella+ 1 forgatható// MTX",2657,"B","Active",{"$f":"VLOOKUP(A2197,[1]Sheet1!$A$1:$C$65512,3,FALSE)","v":119},null,null,"No info","линк","https://bg.toolsworld.com/search/?query=","https://bg.toolsworld.com/search/?query=340329"]
[340359,"Alumínium vízmérték \"sín\", 1500 mm, 2 libella + 1 forgatható// MTX",3238,"B","Active",{"$f":"VLOOKUP(A2198,[1]Sheet1!$A$1:$C$65512,3,FALSE)","v":40},null,null,"No info","линк","https://bg.toolsworld.com/search/?query=","https://bg.toolsworld.com/search/?query=340359"]
[346055,"Muanyag vízmérték típus (II), 3 libella, mágneses, 225mm//SPARTA",354,"B","Active",{"$f":"VLOOKUP(A2199,[1]Sheet1!$A$1:$C$65512,3,FALSE)","v":727},null,null,"No info","линк","https://bg.toolsworld.com/search/?query=","https://bg.toolsworld.com/search/?query=346055"]
[346115,"Muanyag vízmérték típus (IV), 3 libella, mágneses, 230mm//SPARTA",692,"B","Active",{"$f":"VLOOKUP(A2200,[1]Sheet1!$A$1:$C$65512,3,FALSE)","v":716},null,null,"No info","линк","https://bg.toolsworld.com/search/?query=","https://bg.toolsworld.com/search/?query=346115"]
[347049,"Alumínium vízmérték, mágneses, 400 mm, 2 libella + 1 visszaverodo, recézett, megerosített// MTX",2330,"B","Active",{"$f":"VLOOKUP(A2201,[1]Sheet1!$A$1:$C$65512,3,FALSE)","v":386},null,null,"No info","линк","https://bg.toolsworld.com/search/?query=","https://bg.toolsworld.com/search/?query=347049"]
[347069,"Alumínium vízmérték, mágneses, 600 mm, 3 libella (1 visszaverodo), recézett, megerosített// MTX",2945,"B","Active",{"$f":"VLOOKUP(A2202,[1]Sheet1!$A$1:$C$65512,3,FALSE)","v":186},null,null,"No info","линк","https://bg.toolsworld.com/search/?query=","https://bg.toolsworld.com/search/?query=347069"]
[347089,"Alumínium vízmérték, mágneses, 800 mm, 2 libella+ 1 visszaverodo, recézett, megerosített// MTX",3688,"B","Active",{"$f":"VLOOKUP(A2203,[1]Sheet1!$A$1:$C$65512,3,FALSE)","v":129},null,null,"No info","линк","https://bg.toolsworld.com/search/?query=","https://bg.toolsworld.com/search/?query=347089"]
[347109,"Alumínium vízmérték, mágneses, 1000 mm, 2 libella + 1 visszaverodo, recézett, megerosített// MTX",4325,"B","Active",{"$f":"VLOOKUP(A2204,[1]Sheet1!$A$1:$C$65512,3,FALSE)","v":32},null,null,"No info","линк","https://bg.toolsworld.com/search/?query=","https://bg.toolsworld.com/search/?query=347109"]
[347129,"Alumínium vízmérték, mágneses, 1200 mm, 3 libella (1 visszaverodo), recézett, megerosített// MTX",5081,"B","Active",{"$f":"VLOOKUP(A2205,[1]Sheet1!$A$1:$C$65512,3,FALSE)","v":19},null,null,"No info","линк","https://bg.toolsworld.com/search/?query=","https://bg.toolsworld.com/search/?query=347129"]
[347159,"Alumínium vízmérték, mágneses, 1500 mm, 2 libella + 1 visszaverodo, recézett, megerosített// MTX",5926,"B","Active",{"$f":"VLOOKUP(A2206,[1]Sheet1!$A$1:$C$65512,3,FALSE)","v":654},null,null,"No info","линк","https://bg.toolsworld.com/search/?query=","https://bg.toolsworld.com/search/?query=347159"]
[347189,"Alumínium vízmérték, mágneses, 1800 mm, 2 libella + 1 visszaverodo, recézett, megerosített// MTX",7023,"B","Active",{"$f":"VLOOKUP(A2207,[1]Sheet1!$A$1:$C$65512,3,FALSE)","v":33},null,null,"No info","линк","https://bg.toolsworld.com/search/?query=","https://bg.toolsworld.com/search/?query=347189"]
[347209,"Alumínium vízmérték, mágneses, 2000 mm, 2 libella + 1 visszaverodo, recézett, megerosített// MTX",7830,"B","Active",{"$f":"VLOOKUP(A2208,[1]Sheet1!$A$1:$C$65512,3,FALSE)","v":17},null,null,"No info","линк","https://bg.toolsworld.com/search/?query=","https://bg.toolsworld.com/search/?query=347209"]
[349079,"Alumínium vízmérték, 600 mm, 2 libella (1 elulso)// MTX",4574,"B","Active",{"$f":"VLOOKUP(A2209,[1]Sheet1!$A$1:$C$65512,3,FALSE)","v":85},null,null,"No info","линк","https://bg.toolsworld.com/search/?query=","https://bg.toolsworld.com/search/?query=349079"]
[350339,"Lézeres szintező, 150 mm, állvány 1150 mm, önszintező, műanyag tokban készlet// MTX",21015,"B","Active",{"$f":"VLOOKUP(A2210,[1]Sheet1!$A$1:$C$65512,3,FALSE)","v":88},null,null,"No info","линк","https://bg.toolsworld.com/search/?query=","https://bg.toolsworld.com/search/?query=350339"]
[350879,"Menetes adapter 5/8\"-1/4\"// MTX",861,"B","Active",{"$f":"VLOOKUP(A2211,[1]Sheet1!$A$1:$C$65512,3,FALSE)","v":8},null,null,"No info","линк","https://bg.toolsworld.com/search/?query=","https://bg.toolsworld.com/search/?query=350879"]
[350899,"Állvány lézeres szintezőhöz, 1100 mm, adapter 5/8\"-1/4\"// MTX",6091,"B","Active",{"$f":"VLOOKUP(A2212,[1]Sheet1!$A$1:$C$65512,3,FALSE)","v":{"$error":"#N/A"}},null,null,"No info","линк","https://bg.toolsworld.com/search/?query=","https://bg.toolsworld.com/search/?query=350899"]
[405159,"Szegecselo 225 mm, szegecsek 2,4-3,2-4,0-4,8 mm // MTX",2063,"B","Active",{"$f":"VLOOKUP(A2213,[1]Sheet1!$A$1:$C$65512,3,FALSE)","v":572},null,null,"No info","линк","https://bg.toolsworld.com/search/?query=","https://bg.toolsworld.com/search/?query=405159"]
[405249,"Szegecselo, 250 mm, szegecsek 2.4–3.2–4.0–4.8 mm// MTX",2108,"B","Active",{"$f":"VLOOKUP(A2214,[1]Sheet1!$A$1:$C$65512,3,FALSE)","v":669},null,null,"No info","линк","https://bg.toolsworld.com/search/?query=","https://bg.toolsworld.com/search/?query=405249"]
[405279,"Szegecselo, 250 mm, szegecsek 2.4–3.2–4.0–4.8 mm, állítható 0 - 90°// MTX",2731,"B","Active",{"$f":"VLOOKUP(A2215,[1]Sheet1!$A$1:$C$65512,3,FALSE)","v":1966},null,null,"No info","линк","https://bg.toolsworld.com/search/?query=","https://bg.toolsworld.com/search/?query=405279"]
[405339,"Szegecselo, 263 mm,  szegecsek 2.4–3.2–4.0–4.8 mm, forgatható 0 - 360°// MTX",3753,"B","Active",{"$f":"VLOOKUP(A2216,[1]Sheet1!$A$1:$C$65512,3,FALSE)","v":3037},null,null,"No info","линк","https://bg.toolsworld.com/search/?query=","https://bg.toolsworld.com/search/?query=405339"]
[405359,"Két karú szegecselo, 3,2-4,0-4,8-6,0-6,4//MTX",9092,"B","Active",{"$f":"VLOOKUP(A2217,[1]Sheet1!$A$1:$C$65512,3,FALSE)","v":60},null,null,"No info","линк","https://bg.toolsworld.com/search/?query=","https://bg.toolsworld.com/search/?query=405359"]
[405385,"Szegecselo 450 mm, két nyelu, megerosített, szegecsek 3,2-4,0-4,8 mm//SPARTA",3680,"B","Active",{"$f":"VLOOKUP(A2218,[1]Sheet1!$A$1:$C$65512,3,FALSE)","v":165},null,null,"No info","линк","https://bg.toolsworld.com/search/?query=","https://bg.toolsworld.com/search/?query=405385"]
[406109,"Szegecsek 3,2x6 mm, 50 db-os készlet// MTX",177,"B","Active",{"$f":"VLOOKUP(A2219,[1]Sheet1!$A$1:$C$65512,3,FALSE)","v":2017},null,null,"No info","линк","https://bg.toolsworld.com/search/?query=","https://bg.toolsworld.com/search/?query=406109"]
[406209,"Szegecsek 3,2x8 mm, 50 db-os készlet// MTX",177,"B","Active",{"$f":"VLOOKUP(A2220,[1]Sheet1!$A$1:$C$65512,3,FALSE)","v":2271},null,null,"No info","линк","https://bg.toolsworld.com/search/?query=","https://bg.toolsworld.com/search/?query=406209"]
[406259,"Szegecsek 3,2x10 mm, 50 db-os készlet// MTX",195,"B","Active",{"$f":"VLOOKUP(A2221,[1]Sheet1!$A$1:$C$65512,3,FALSE)","v":460},null,null,"No info","линк","https://bg.toolsworld.com/search/?query=","https://bg.toolsworld.com/search/?query=406259"]
[406279,"Szegecsek 3,2x12 mm, 50 db-os készlet// MTX",200,"B","Active",{"$f":"VLOOKUP(A2222,[1]Sheet1!$A$1:$C$65512,3,FALSE)","v":690},null,null,"No info","линк","https://bg.toolsworld.com/search/?query=","https://bg.toolsworld.com/search/?query=406279"]
[406319,"Szegecsek 4,0x6 mm, 50 db-os készlet// MTX",234,"B","Active",{"$f":"VLOOKUP(A2223,[1]Sheet1!$A$1:$C$65512,3,FALSE)","v":511},null,null,"No info","линк","https://bg.toolsworld.com/search/?query=","https://bg.toolsworld.com/search/?query=406319"]
[406329,"Szegecsek 4.0x8 mm, 50 db-os készlet// MTX",242,"B","Active",{"$f":"VLOOKUP(A2224,[1]Sheet1!$A$1:$C$65512,3,FALSE)","v":1769},null,null,"No info","линк","https://bg.toolsworld.com/search/?query=","https://bg.toolsworld.com/search/?query=406329"]
[406359,"Szegecsek 4.0 x 10 mm, 50 db-os készlet// MTX",257,"B","Active",{"$f":"VLOOKUP(A2225,[1]Sheet1!$A$1:$C$65512,3,FALSE)","v":638},null,null,"No info","линк","https://bg.toolsworld.com/search/?query=","https://bg.toolsworld.com/search/?query=406359"]
[406409,"Szegecsek 4.0 x 12 mm, 50 db-os készlet// MTX",281,"B","Active",{"$f":"VLOOKUP(A2226,[1]Sheet1!$A$1:$C$65512,3,FALSE)","v":1094},null,null,"No info",{"$f":"HYPERLINK(L2226,\"линк\")","v":"линк"},"https://bg.toolsworld.com/search/?query=","https://bg.toolsworld.com/search/?query=406409"]
[406439,"Szegecsek 4.0 x 14 mm, 50 db-os készlet// MTX",291,"B","Active",{"$f":"VLOOKUP(A2227,[1]Sheet1!$A$1:$C$65512,3,FALSE)","v":605},null,null,"No info","линк","https://bg.toolsworld.com/search/?query=","https://bg.toolsworld.com/search/?query=406439"]
[406459,"Szegecsek 4.0 x 16 mm, 50 db-os készlet// MTX",308,"B","Active",{"$f":"VLOOKUP(A2228,[1]Sheet1!$A$1:$C$65512,3,FALSE)","v":1569},null,null,"No info","линк","https://bg.toolsworld.com/search/?query=",{"$f":"CONCATENATE(K2228,A2228)","v":"https://bg.toolsworld.com/search/?query=406459"}]
[406509,"Szegecsek 4.8 x 8 mm, 50 db-os készlet// MTX",320,"B","Active",{"$f":"VLOOKUP(A2229,[1]Sheet1!$A$1:$C$65512,3,FALSE)","v":1376},null,null,"No info","линк","https://bg.toolsworld.com/search/?query=","https://bg.toolsworld.com/search/?query=406509"]
[406559,"Szegecsek 4.8 x 10 mm, 50 db-os készlet// MTX",364,"B","Active",{"$f":"VLOOKUP(A2230,[1]Sheet1!$A$1:$C$65512,3,FALSE)","v":67},null,null,"No info","линк","https://bg.toolsworld.com/search/?query=","https://bg.toolsworld.com/search/?query=406559"]
[406609,"Szegecsek 4.8 x 12 mm, 50 db-os készlet// MTX",377,"B","Active",{"$f":"VLOOKUP(A2231,[1]Sheet1!$A$1:$C$65512,3,FALSE)","v":1000},null,null,"No info","линк","https://bg.toolsworld.com/search/?query=","https://bg.toolsworld.com/search/?query=406609"]
[406639,"Szegecsek 4.8 x 14 mm, 50 db-os készlet// MTX",403,"B","Active",{"$f":"VLOOKUP(A2232,[1]Sheet1!$A$1:$C$65512,3,FALSE)","v":615},null,null,"No info","линк","https://bg.toolsworld.com/search/?query=","https://bg.toolsworld.com/search/?query=406639"]
[406659,"Szegecsek 4.8 x 16 mm, 50 db-os készlet// MTX",434,"B","Active",{"$f":"VLOOKUP(A2233,[1]Sheet1!$A$1:$C$65512,3,FALSE)","v":746},null,null,"No info","линк","https://bg.toolsworld.com/search/?query=","https://bg.toolsworld.com/search/?query=406659"]
[409019,"Bútor tuzogép, típus: 140, 36, 300, 500, 6-14mm// MTX",7241,"B","Active",{"$f":"VLOOKUP(A2234,[1]Sheet1!$A$1:$C$65512,3,FALSE)","v":2014},null,null,"No info","линк","https://bg.toolsworld.com/search/?query=","https://bg.toolsworld.com/search/?query=409019"]
[409029,"Bútor tuzogép, állítható, kapocs típusa: 53, 4-14mm// MTX",4415,"B","Active",{"$f":"VLOOKUP(A2235,[1]Sheet1!$A$1:$C$65512,3,FALSE)","v":5445},null,null,"No info","линк","https://bg.toolsworld.com/search/?query=","https://bg.toolsworld.com/search/?query=409029"]
[409039,"Bútor tuzogép, típus: 53, 4-8mm// MTX",2961,"B","Active",{"$f":"VLOOKUP(A2236,[1]Sheet1!$A$1:$C$65512,3,FALSE)","v":1128},null,null,"No info","линк","https://bg.toolsworld.com/search/?query=","https://bg.toolsworld.com/search/?query=409039"]
[409079,"Bútor tuzogép, muanyag,  kapocs típusa: 53, 4-8mm// MTX",2248,"B","Active",{"$f":"VLOOKUP(A2237,[1]Sheet1!$A$1:$C$65512,3,FALSE)","v":898},null,null,"No info","линк","https://bg.toolsworld.com/search/?query=","https://bg.toolsworld.com/search/?query=409079"]
[409139,"Bútor tuzogép, fém, állítható, kapocs típusa 53, 6 to 14 mm// MTX PROFESSIONAL",4278,"B","Active",{"$f":"VLOOKUP(A2238,[1]Sheet1!$A$1:$C$65512,3,FALSE)","v":1113},null,null,"No info","линк","https://bg.toolsworld.com/search/?query=","https://bg.toolsworld.com/search/?query=409139"]
[411169,"Kapcsok, 6 mm bútor tuzogéphez N53, 1000db// MTX",159,"B","Active",{"$f":"VLOOKUP(A2239,[1]Sheet1!$A$1:$C$65512,3,FALSE)","v":945},null,null,"No info","линк","https://bg.toolsworld.com/search/?query=","https://bg.toolsworld.com/search/?query=411169"]
[411189,"Kapcsok, 8 mm bútor tuzogéphez N53, 1000db// MTX",183,"B","Active",{"$f":"VLOOKUP(A2240,[1]Sheet1!$A$1:$C$65512,3,FALSE)","v":1812},null,null,"No info","линк","https://bg.toolsworld.com/search/?query=","https://bg.toolsworld.com/search/?query=411189"]
[411209,"Kapcsok 10 mm bútor tuzogéphez 1000db// MTX",216,"B","Active",{"$f":"VLOOKUP(A2241,[1]Sheet1!$A$1:$C$65512,3,FALSE)","v":527},null,null,"No info","линк","https://bg.toolsworld.com/search/?query=","https://bg.toolsworld.com/search/?query=411209"]
[411229,"Kapcsok 12 mm bútor tuzogéphez N53, 1000db// MTX",250,"B","Active",{"$f":"VLOOKUP(A2242,[1]Sheet1!$A$1:$C$65512,3,FALSE)","v":82},null,null,"No info","линк","https://bg.toolsworld.com/search/?query=","https://bg.toolsworld.com/search/?query=411229"]
[411249,"Kapcsok 14mm bútor tuzogéphez N 53, 1000db// MTX",275,"B","Active",{"$f":"VLOOKUP(A2243,[1]Sheet1!$A$1:$C$65512,3,FALSE)","v":{"$error":"#N/A"}},null,null,"No info","линк","https://bg.toolsworld.com/search/?query=","https://bg.toolsworld.com/search/?query=411249"]
[411369,"Kapcsok, 6 mm hegyes bútor tuzogéphez N53, 1000db// MTX",173,"B","Active",{"$f":"VLOOKUP(A2244,[1]Sheet1!$A$1:$C$65512,3,FALSE)","v":539},null,null,"No info","линк","https://bg.toolsworld.com/search/?query=","https://bg.toolsworld.com/search/?query=411369"]
[411389,"Kapcsok, 8 mm hegyes bútor tuzogéphez N 53,1000db// MTX",196,"B","Active",{"$f":"VLOOKUP(A2245,[1]Sheet1!$A$1:$C$65512,3,FALSE)","v":442},null,null,"No info","линк","https://bg.toolsworld.com/search/?query=","https://bg.toolsworld.com/search/?query=411389"]
[411409,"Kapcsok 10 mm hegyes bútor tuzogéphez, N 53, 1000db// MTX",230,"B","Active",{"$f":"VLOOKUP(A2246,[1]Sheet1!$A$1:$C$65512,3,FALSE)","v":390},null,null,"No info","линк","https://bg.toolsworld.com/search/?query=","https://bg.toolsworld.com/search/?query=411409"]
[411429,"Kapcsok 12 mm hegyes bútor tuzogéphez N53, 1000db// MTX",261,"B","Active",{"$f":"VLOOKUP(A2247,[1]Sheet1!$A$1:$C$65512,3,FALSE)","v":158},null,null,"No info","линк","https://bg.toolsworld.com/search/?query=","https://bg.toolsworld.com/search/?query=411429"]
[411449,"Kapcsok 14 mm bútor tuzogéphez hegyes N53, 1000db// MTX",293,"B","Active",{"$f":"VLOOKUP(A2248,[1]Sheet1!$A$1:$C$65512,3,FALSE)","v":374},null,null,"No info","линк","https://bg.toolsworld.com/search/?query=","https://bg.toolsworld.com/search/?query=411449"]
[412069,"Kapcsok 6 mm bútor tuzogéphez edzett N53, 1000db// MTX",183,"B","Active",{"$f":"VLOOKUP(A2249,[1]Sheet1!$A$1:$C$65512,3,FALSE)","v":396},null,null,"No info","линк","https://bg.toolsworld.com/search/?query=","https://bg.toolsworld.com/search/?query=412069"]
[412089,"Kapcsok 8 mm bútor tuzogéphez edzett N53, 1000db// MTX",206,"B","Active",{"$f":"VLOOKUP(A2250,[1]Sheet1!$A$1:$C$65512,3,FALSE)","v":971},null,null,"No info","линк","https://bg.toolsworld.com/search/?query=","https://bg.toolsworld.com/search/?query=412089"]
[412109,"Kapcsok 10 mm bútor tuzogéphez edzett, N53, 1000 db// MTX",244,"B","Active",{"$f":"VLOOKUP(A2251,[1]Sheet1!$A$1:$C$65512,3,FALSE)","v":862},null,null,"No info","линк","https://bg.toolsworld.com/search/?query=","https://bg.toolsworld.com/search/?query=412109"]
[412129,"Kapcsok 12 mm bútor tuzogéphez, edzett, N 53, 1000 db// MTX",283,"B","Active",{"$f":"VLOOKUP(A2252,[1]Sheet1!$A$1:$C$65512,3,FALSE)","v":180},null,null,"No info","линк","https://bg.toolsworld.com/search/?query=","https://bg.toolsworld.com/search/?query=412129"]
[412149,"Kapcsok 14 mm bútor tuzogéphez edzett N53, 1000db// MTX",307,"B","Active",{"$f":"VLOOKUP(A2253,[1]Sheet1!$A$1:$C$65512,3,FALSE)","v":195},null,null,"No info","линк","https://bg.toolsworld.com/search/?query=","https://bg.toolsworld.com/search/?query=412149"]
[413069,"Kapcsok 6 mm bútor tuzogéphez edzett N140, 1000db// MTX",275,"B","Active",{"$f":"VLOOKUP(A2254,[1]Sheet1!$A$1:$C$65512,3,FALSE)","v":702},null,null,"No info","линк","https://bg.toolsworld.com/search/?query=","https://bg.toolsworld.com/search/?query=413069"]
[413089,"Kapcsok 8 mm bútor tuzogéphez edzett N140, 1000db// MTX",308,"B","Active",{"$f":"VLOOKUP(A2255,[1]Sheet1!$A$1:$C$65512,3,FALSE)","v":242},null,null,"No info","линк","https://bg.toolsworld.com/search/?query=","https://bg.toolsworld.com/search/?query=413089"]
[413109,"Kapcsok 10 mm, bútor tuzogéphez edzett, N140, 1000 db// MTX",356,"B","Active",{"$f":"VLOOKUP(A2256,[1]Sheet1!$A$1:$C$65512,3,FALSE)","v":158},null,null,"No info","линк","https://bg.toolsworld.com/search/?query=","https://bg.toolsworld.com/search/?query=413109"]
[413129,"Kapcsok 12 mm bútor tuzogéphez, edzett, N 140, 1000 db// MTX",415,"B","Active",{"$f":"VLOOKUP(A2257,[1]Sheet1!$A$1:$C$65512,3,FALSE)","v":16},null,null,"No info","линк","https://bg.toolsworld.com/search/?query=","https://bg.toolsworld.com/search/?query=413129"]
[413149,"Kapcsok 14 mm bútor tuzogéphez edzett N140, 1000db// MTX",458,"B","Active",{"$f":"VLOOKUP(A2258,[1]Sheet1!$A$1:$C$65512,3,FALSE)","v":104},null,null,"No info","линк","https://bg.toolsworld.com/search/?query=","https://bg.toolsworld.com/search/?query=413149"]
[414109,"Kapcsok 12 mm tuzogéphez ( 40905), edzett, N 28, 1000 db// MTX",446,"B","Active",{"$f":"VLOOKUP(A2259,[1]Sheet1!$A$1:$C$65512,3,FALSE)","v":1143},null,null,"No info","линк","https://bg.toolsworld.com/search/?query=","https://bg.toolsworld.com/search/?query=414109"]
[414129,"Kapcsok 12 mm  tuzogéphez  ( 40901), edzett, N 36, 1000 db// MTX",607,"B","Active",{"$f":"VLOOKUP(A2260,[1]Sheet1!$A$1:$C$65512,3,FALSE)","v":226},null,null,"No info","линк","https://bg.toolsworld.com/search/?query=","https://bg.toolsworld.com/search/?query=414129"]
[414149,"Kapcsok 14 mm  tuzogéphez  (40901) edzett N36, 1000db// MTX",703,"B","Active",{"$f":"VLOOKUP(A2261,[1]Sheet1!$A$1:$C$65512,3,FALSE)","v":73},null,null,"No info","линк","https://bg.toolsworld.com/search/?query=","https://bg.toolsworld.com/search/?query=414149"]
[415049,"Szegek 14 mm, bútor tuzogéphez, fej nélkuli, 500 típus, 1000 db MASTER// MTX",391,"B","Active",{"$f":"VLOOKUP(A2262,[1]Sheet1!$A$1:$C$65512,3,FALSE)","v":1091},null,null,"No info","линк","https://bg.toolsworld.com/search/?query=","https://bg.toolsworld.com/search/?query=415049"]
[415109,"Szegek 10 mm, bútor tuzogéphez, fejjel, 300 típus, 1000 db MASTER// MTX",259,"B","Active",{"$f":"VLOOKUP(A2263,[1]Sheet1!$A$1:$C$65512,3,FALSE)","v":170},null,null,"No info","линк","https://bg.toolsworld.com/search/?query=","https://bg.toolsworld.com/search/?query=415109"]
[415129,"Szegek 12 mm, bútor tuzogéphez, fejjel, 300 típus, 1000 db MASTER// MTX",279,"B","Active",{"$f":"VLOOKUP(A2264,[1]Sheet1!$A$1:$C$65512,3,FALSE)","v":122},null,null,"No info","линк","https://bg.toolsworld.com/search/?query=","https://bg.toolsworld.com/search/?query=415129"]
[415149,"Szegek 14 mm, bútor tuzogéphez, fejjel, 300 típus, 1000 db MASTER// MTX",373,"B","Active",{"$f":"VLOOKUP(A2265,[1]Sheet1!$A$1:$C$65512,3,FALSE)","v":180},null,null,"No info","линк","https://bg.toolsworld.com/search/?query=","https://bg.toolsworld.com/search/?query=415149"]
[420027,"Bútorlépcső állítható, 53 típusú kapocs, 4-14 mm// Sparta",1876,"B","Active",{"$f":"VLOOKUP(A2266,[1]Sheet1!$A$1:$C$65512,3,FALSE)","v":731},null,null,"No info","линк","https://bg.toolsworld.com/search/?query=","https://bg.toolsworld.com/search/?query=420027"]
[507299,"Hidraulikus palackemelő 15 t, emelkedő 230-460 mm// MTX",15808,"B","Active",{"$f":"VLOOKUP(A2267,[1]Sheet1!$A$1:$C$65512,3,FALSE)","v":{"$error":"#N/A"}},null,null,"No info","линк","https://bg.toolsworld.com/search/?query=","https://bg.toolsworld.com/search/?query=507299"]
[507569,"Hidraulikus palackemelő 5 t, emelkedés 216-413 mm, műanyag tokban// MTX",10353,"B","Active",{"$f":"VLOOKUP(A2268,[1]Sheet1!$A$1:$C$65512,3,FALSE)","v":40},null,null,"No info","линк","https://bg.toolsworld.com/search/?query=","https://bg.toolsworld.com/search/?query=507569"]
[510165,"Hydraulic floor jack 3 t, up gradient 130-465 mm// Stels",43030,"B","Active",{"$f":"VLOOKUP(A2269,[1]Sheet1!$A$1:$C$65512,3,FALSE)","v":{"$error":"#N/A"}},null,null,"No info","линк","https://bg.toolsworld.com/search/?query=","https://bg.toolsworld.com/search/?query=510165"]
[511365,"Hydraulic Trolley Jack 2t, LOW PROFILE QUICK LIFT, 75-515mm, for professional use// Stels",60075,"B","Active",{"$f":"VLOOKUP(A2270,[1]Sheet1!$A$1:$C$65512,3,FALSE)","v":{"$error":"#N/A"}},null,null,"No info","линк","https://bg.toolsworld.com/search/?query=","https://bg.toolsworld.com/search/?query=511365"]
[516239,"Összecsukható jack-állvány 3t, h emelés 295-425 mm 2 db készlet// MTX",10937,"B","Active",{"$f":"VLOOKUP(A2271,[1]Sheet1!$A$1:$C$65512,3,FALSE)","v":27},null,null,"No info","линк","https://bg.toolsworld.com/search/?query=","https://bg.toolsworld.com/search/?query=516239"]
[520117,"Elektromos csörlő TF-250, 0,25 t, 540 W, magasság 12 m 10 m/perc// Denzel",40059,"B","Active",{"$f":"VLOOKUP(A2272,[1]Sheet1!$A$1:$C$65512,3,FALSE)","v":{"$error":"#N/A"}},null,null,"No info","линк","https://bg.toolsworld.com/search/?query=","https://bg.toolsworld.com/search/?query=520117"]
[520167,"Elektromos csörlő TF-1000, 1t, 1600 W, magasság 12 m, 8 m/perc// Denzel",102366,"B","Active",{"$f":"VLOOKUP(A2273,[1]Sheet1!$A$1:$C$65512,3,FALSE)","v":" "},null,null,"No info","линк","https://bg.toolsworld.com/search/?query=","https://bg.toolsworld.com/search/?query=520167"]
[522209,"Levered winch, rod - 2t, lifting - 0.8t, single ratchet wheel// MTX",8172,"B","Active",{"$f":"VLOOKUP(A2274,[1]Sheet1!$A$1:$C$65512,3,FALSE)","v":55},null,null,"No info","линк","https://bg.toolsworld.com/search/?query=","https://bg.toolsworld.com/search/?query=522209"]
[522259,"Csörlo, kar - 4 tonna, emelo - 1,6 tonna, dupla reteszkerék MATRIX",15945,"B","Active",{"$f":"VLOOKUP(A2275,[1]Sheet1!$A$1:$C$65512,3,FALSE)","v":22},null,null,"No info","линк","https://bg.toolsworld.com/search/?query=","https://bg.toolsworld.com/search/?query=522259"]
[522609,"Csörlo, kar, 2 tonna, emelo - 0,8 tonna, dupla reteszkerék MATRIX",8699,"B","Active",{"$f":"VLOOKUP(A2276,[1]Sheet1!$A$1:$C$65512,3,FALSE)","v":33},null,null,"No info","линк","https://bg.toolsworld.com/search/?query=","https://bg.toolsworld.com/search/?query=522609"]
[525005,"Csapágylehúzó, 2 lábú 75 mm//  SPARTA",1540,"B","Active",{"$f":"VLOOKUP(A2277,[1]Sheet1!$A$1:$C$65512,3,FALSE)","v":{"$error":"#N/A"}},null,null,"No info","линк","https://bg.toolsworld.com/search/?query=","https://bg.toolsworld.com/search/?query=525005"]
[525055,"Csapágylehúzó, 2 lábú 150 mm//  SPARTA",2987,"B","Active",{"$f":"VLOOKUP(A2278,[1]Sheet1!$A$1:$C$65512,3,FALSE)","v":{"$error":"#N/A"}},null,null,"No info","линк","https://bg.toolsworld.com/search/?query=","https://bg.toolsworld.com/search/?query=525055"]
[525105,"Csapágylehúzó, 2 lábú 100 mm//  SPARTA",1839,"B","Active",{"$f":"VLOOKUP(A2279,[1]Sheet1!$A$1:$C$65512,3,FALSE)","v":{"$error":"#N/A"}},null,null,"No info","линк","https://bg.toolsworld.com/search/?query=","https://bg.toolsworld.com/search/?query=525105"]
[525155,"Csapágylehúzó, 2 lábú 200 mm// SPARTA",3873,"B","Active",{"$f":"VLOOKUP(A2280,[1]Sheet1!$A$1:$C$65512,3,FALSE)","v":{"$error":"#N/A"}},null,null,"No info","линк","https://bg.toolsworld.com/search/?query=","https://bg.toolsworld.com/search/?query=525155"]
[525165,"Csapágylehúzó, 2 lábú 250 mm//  SPARTA",4893,"B","Active",{"$f":"VLOOKUP(A2281,[1]Sheet1!$A$1:$C$65512,3,FALSE)","v":{"$error":"#N/A"}},null,null,"No info","линк","https://bg.toolsworld.com/search/?query=","https://bg.toolsworld.com/search/?query=525165"]
[525205,"Csapágylehúzó, 3 lábú 75 mm//  SPARTA",1723,"B","Active",{"$f":"VLOOKUP(A2282,[1]Sheet1!$A$1:$C$65512,3,FALSE)","v":{"$error":"#N/A"}},null,null,"No info","линк","https://bg.toolsworld.com/search/?query=","https://bg.toolsworld.com/search/?query=525205"]
[525305,"Csapágylehúzó, 3 lábú 100 mm//  SPARTA",2138,"B","Active",{"$f":"VLOOKUP(A2283,[1]Sheet1!$A$1:$C$65512,3,FALSE)","v":{"$error":"#N/A"}},null,null,"No info","линк","https://bg.toolsworld.com/search/?query=","https://bg.toolsworld.com/search/?query=525305"]
[525355,"Csapágylehúzó, 3 lábú 150 mm//  SPARTA",3207,"B","Active",{"$f":"VLOOKUP(A2284,[1]Sheet1!$A$1:$C$65512,3,FALSE)","v":{"$error":"#N/A"}},null,null,"No info","линк","https://bg.toolsworld.com/search/?query=","https://bg.toolsworld.com/search/?query=525355"]
[525405,"Csapágylehúzó, 3 lábú 200 mm//  SPARTA",4311,"B","Active",{"$f":"VLOOKUP(A2285,[1]Sheet1!$A$1:$C$65512,3,FALSE)","v":{"$error":"#N/A"}},null,null,"No info","линк","https://bg.toolsworld.com/search/?query=","https://bg.toolsworld.com/search/?query=525405"]
[525415,"Csapágylehúzó, 3 lábú 250 mm//  SPARTA",4950,"B","Active",{"$f":"VLOOKUP(A2286,[1]Sheet1!$A$1:$C$65512,3,FALSE)","v":63},null,null,"No info","линк","https://bg.toolsworld.com/search/?query=","https://bg.toolsworld.com/search/?query=525415"]
[525425,"Csapágylehúzó, 3 lábú 300 mm//  SPARTA",5482,"B","Active",{"$f":"VLOOKUP(A2287,[1]Sheet1!$A$1:$C$65512,3,FALSE)","v":14},null,null,"No info","линк","https://bg.toolsworld.com/search/?query=","https://bg.toolsworld.com/search/?query=525425"]
[528205,"Olajszuro leszedo // SPARTA",912,"B","Active",{"$f":"VLOOKUP(A2288,[1]Sheet1!$A$1:$C$65512,3,FALSE)","v":210},null,null,"No info",{"$f":"HYPERLINK(L2288,\"линк\")","v":"линк"},"https://bg.toolsworld.com/search/?query=","https://bg.toolsworld.com/search/?query=528205"]
[531305,"Olajozó, 0.3 ltr, rugalmas fejjel// SPARTA",1142,"B","Active",{"$f":"VLOOKUP(A2289,[1]Sheet1!$A$1:$C$65512,3,FALSE)","v":412},null,null,"No info","линк","https://bg.toolsworld.com/search/?query=","https://bg.toolsworld.com/search/?query=531305"]
[540025,"Fém szorító szett 8-18mm, 5 db-os készlet// SPARTA",163,"B","Active",{"$f":"VLOOKUP(A2290,[1]Sheet1!$A$1:$C$65512,3,FALSE)","v":170},null,null,"No info","линк","https://bg.toolsworld.com/search/?query=",{"$f":"CONCATENATE(K2290,A2290)","v":"https://bg.toolsworld.com/search/?query=540025"}]
[540045,"Fém szorító szett 11-20mm, 5 db-os készlet// SPARTA",163,"B","Active",{"$f":"VLOOKUP(A2291,[1]Sheet1!$A$1:$C$65512,3,FALSE)","v":1207},null,null,"No info","линк","https://bg.toolsworld.com/search/?query=","https://bg.toolsworld.com/search/?query=540045"]
[540065,"Fém szorító szett 13-23mm, 5 db-os készlet// SPARTA",173,"B","Active",{"$f":"VLOOKUP(A2292,[1]Sheet1!$A$1:$C$65512,3,FALSE)","v":956},null,null,"No info","линк","https://bg.toolsworld.com/search/?query=","https://bg.toolsworld.com/search/?query=540065"]
[540085,"Fém szorító szett 18-25mm, 5 db-os készlet// SPARTA",173,"B","Active",{"$f":"VLOOKUP(A2293,[1]Sheet1!$A$1:$C$65512,3,FALSE)","v":1102},null,null,"No info","линк","https://bg.toolsworld.com/search/?query=","https://bg.toolsworld.com/search/?query=540085"]
[540105,"Fém szorító szett 14-27mm, 5 db-os készlet// SPARTA",173,"B","Active",{"$f":"VLOOKUP(A2294,[1]Sheet1!$A$1:$C$65512,3,FALSE)","v":1378},null,null,"No info","линк","https://bg.toolsworld.com/search/?query=","https://bg.toolsworld.com/search/?query=540105"]
[543305,"Gumipók 8 akasztóval // SPARTA",523,"B","Active",{"$f":"VLOOKUP(A2295,[1]Sheet1!$A$1:$C$65512,3,FALSE)","v":{"$error":"#N/A"}},null,null,"No info","линк","https://bg.toolsworld.com/search/?query=","https://bg.toolsworld.com/search/?query=543305"]
[543345,"Gumipók szett 450-600-900mm, 3 db // SPARTA",371,"B","Active",{"$f":"VLOOKUP(A2296,[1]Sheet1!$A$1:$C$65512,3,FALSE)","v":2339},null,null,"No info","линк","https://bg.toolsworld.com/search/?query=","https://bg.toolsworld.com/search/?query=543345"]
[543385,"Csomagtartó szíj akasztóval, 5m, automatikusan bepattintható// SPARTA",906,"B","Active",{"$f":"VLOOKUP(A2297,[1]Sheet1!$A$1:$C$65512,3,FALSE)","v":{"$error":"#N/A"}},null,null,"No info","линк","https://bg.toolsworld.com/search/?query=","https://bg.toolsworld.com/search/?query=543385"]
[552915,"Hókefe jégkaparóval, 415 mm // SIBRTEH Russian",772,"B","Active",{"$f":"VLOOKUP(A2298,[1]Sheet1!$A$1:$C$65512,3,FALSE)","v":557},null,null,"No info","линк","https://bg.toolsworld.com/search/?query=","https://bg.toolsworld.com/search/?query=552915"]
[552935,"Velour festohenger, 100 mm, nyél 2 mm, D 36 mm, fogantyú D 6 mm Russia// PALISAD",1018,"B","Active",{"$f":"VLOOKUP(A2299,[1]Sheet1!$A$1:$C$65512,3,FALSE)","v":583},null,null,"No info","линк","https://bg.toolsworld.com/search/?query=","https://bg.toolsworld.com/search/?query=552935"]
[552955,"Brush for snow with scraper, 400 mm, turquois// Sparta",986,"B","Active",{"$f":"VLOOKUP(A2300,[1]Sheet1!$A$1:$C$65512,3,FALSE)","v":{"$error":"#N/A"}},null,null,"No info","линк","https://bg.toolsworld.com/search/?query=","https://bg.toolsworld.com/search/?query=552955"]
[552985,"Hókefe kapróval, 530 mm, turquois// Sparta",880,"B","Active",{"$f":"VLOOKUP(A2301,[1]Sheet1!$A$1:$C$65512,3,FALSE)","v":1},null,null,"No info","линк","https://bg.toolsworld.com/search/?query=","https://bg.toolsworld.com/search/?query=552985"]
[570029,"Spirál légtömlo, 5 m, gyors lecsatlakoztathatóság// MTX",1454,"B","Active",{"$f":"VLOOKUP(A2302,[1]Sheet1!$A$1:$C$65512,3,FALSE)","v":321},null,null,"No info","линк","https://bg.toolsworld.com/search/?query=","https://bg.toolsworld.com/search/?query=570029"]
[570049,"Spirál légtömlo, 10 m, gyors lecsatlakoztathatóság// MTX",2167,"B","Active",{"$f":"VLOOKUP(A2303,[1]Sheet1!$A$1:$C$65512,3,FALSE)","v":154},null,null,"No info","линк","https://bg.toolsworld.com/search/?query=","https://bg.toolsworld.com/search/?query=570049"]
[570069,"Spirál légtömlo, 15 m, gyors lecsatlakoztathatóság// MTX",2849,"B","Active",{"$f":"VLOOKUP(A2304,[1]Sheet1!$A$1:$C$65512,3,FALSE)","v":158},null,null,"No info","линк","https://bg.toolsworld.com/search/?query=","https://bg.toolsworld.com/search/?query=570069"]
[570077,"PU spirál visszahúzódó levegő tömlő gyorscsatlakozóval, BASF, 10 m// Stels",3560,"B","Active",{"$f":"VLOOKUP(A2305,[1]Sheet1!$A$1:$C$65512,3,FALSE)","v":112},null,null,"No info","линк","https://bg.toolsworld.com/search/?query=","https://bg.toolsworld.com/search/?query=570077"]
[570089,"Pára leválasztó, 1/4\"// MTX",1385,"B","Active",{"$f":"VLOOKUP(A2306,[1]Sheet1!$A$1:$C$65512,3,FALSE)","v":85},null,null,"No info","линк","https://bg.toolsworld.com/search/?query=","https://bg.toolsworld.com/search/?query=570089"]
[570097,"PU spirál visszahúzódó levegő tömlő gyorscsatlakozóval, BASF, 15 m// Stels",5107,"B","Active",{"$f":"VLOOKUP(A2307,[1]Sheet1!$A$1:$C$65512,3,FALSE)","v":" "},null,null,"No info","линк","https://bg.toolsworld.com/search/?query=","https://bg.toolsworld.com/search/?query=570097"]
[570157,"Spirális légtömlő 8x12 mm, 18 bar, gyorscsatlakozók, 10 m// Stels",3052,"B","Active",{"$f":"VLOOKUP(A2308,[1]Sheet1!$A$1:$C$65512,3,FALSE)","v":30},null,null,"No info","линк","https://bg.toolsworld.com/search/?query=","https://bg.toolsworld.com/search/?query=570157"]
[570169,"Átalakító szett, gyors lecsatlakoztathatóság, menetes, 2 db,1/2\"// MTX",1100,"B","Active",{"$f":"VLOOKUP(A2309,[1]Sheet1!$A$1:$C$65512,3,FALSE)","v":295},null,null,"No info","линк","https://bg.toolsworld.com/search/?query=","https://bg.toolsworld.com/search/?query=570169"]
[570197,"Spirális légtömlő 8x12 mm, 18 bar, gyorscsatlakozók, 15 m// Stels",3948,"B","Active",{"$f":"VLOOKUP(A2310,[1]Sheet1!$A$1:$C$65512,3,FALSE)","v":34},null,null,"No info","линк","https://bg.toolsworld.com/search/?query=","https://bg.toolsworld.com/search/?query=570197"]
[570217,"Léggumi tömlő, 10x16 mm, 24 bar, megerősített, gyorscsatlakozó, 10 m// Stels",6323,"B","Active",{"$f":"VLOOKUP(A2311,[1]Sheet1!$A$1:$C$65512,3,FALSE)","v":{"$error":"#N/A"}},null,null,"No info","линк","https://bg.toolsworld.com/search/?query=","https://bg.toolsworld.com/search/?query=570217"]
[570237,"Léggumi tömlő, 10x16 mm, 24 bar, megerősített, gyorscsatlakozó, 20 m// Stels",11463,"B","Active",{"$f":"VLOOKUP(A2312,[1]Sheet1!$A$1:$C$65512,3,FALSE)","v":{"$error":"#N/A"}},null,null,"No info","линк","https://bg.toolsworld.com/search/?query=","https://bg.toolsworld.com/search/?query=570237"]
[570507,"Gyorscsatlakozó, 1/4\" belső menet, 2 db// Stels",1937,"B","Active",{"$f":"VLOOKUP(A2313,[1]Sheet1!$A$1:$C$65512,3,FALSE)","v":{"$error":"#N/A"}},null,null,"No info","линк","https://bg.toolsworld.com/search/?query=","https://bg.toolsworld.com/search/?query=570507"]
[570537,"Gyor csatlakozó, 1/4\", külső menet, 2 db// Stels",332,"B","Active",{"$f":"VLOOKUP(A2314,[1]Sheet1!$A$1:$C$65512,3,FALSE)","v":{"$error":"#N/A"}},null,null,"No info","линк","https://bg.toolsworld.com/search/?query=","https://bg.toolsworld.com/search/?query=570537"]
[570547,"Gyor csatlakozó, 1/4\" belső menet, 2 db// Stels",332,"B","Active",{"$f":"VLOOKUP(A2315,[1]Sheet1!$A$1:$C$65512,3,FALSE)","v":{"$error":"#N/A"}},null,null,"No info","линк","https://bg.toolsworld.com/search/?query=","https://bg.toolsworld.com/search/?query=570547"]
[570597,"Dugaszolható csatlakozó, 3/8\", külső menet, 2 db// Stels",487,"B","Active",{"$f":"VLOOKUP(A2316,[1]Sheet1!$A$1:$C$65512,3,FALSE)","v":100},null,null,"No info","линк","https://bg.toolsworld.com/search/?query=","https://bg.toolsworld.com/search/?query=570597"]
[570607,"Dugaszolható csatlakozó, 3/8\", belső menet, 2 db// Stels",487,"B","Active",{"$f":"VLOOKUP(A2317,[1]Sheet1!$A$1:$C$65512,3,FALSE)","v":178},null,null,"No info","линк","https://bg.toolsworld.com/search/?query=","https://bg.toolsworld.com/search/?query=570607"]
[570617,"Dugaszolható csonk, 3/8\", tömlőhöz 8 mm, 2 db// Stels",367,"B","Active",{"$f":"VLOOKUP(A2318,[1]Sheet1!$A$1:$C$65512,3,FALSE)","v":87},null,null,"No info","линк","https://bg.toolsworld.com/search/?query=","https://bg.toolsworld.com/search/?query=570617"]
[570627,"Karos csatlakozó tömlőhöz 8 mm, 2 db// Stels",511,"B","Active",{"$f":"VLOOKUP(A2319,[1]Sheet1!$A$1:$C$65512,3,FALSE)","v":" "},null,null,"No info","линк","https://bg.toolsworld.com/search/?query=","https://bg.toolsworld.com/search/?query=570627"]
[570637,"Gyorscsatlakozó tömlőhöz 8 mm, 2 db// Stels",548,"B","Active",{"$f":"VLOOKUP(A2320,[1]Sheet1!$A$1:$C$65512,3,FALSE)","v":132},null,null,"No info","линк","https://bg.toolsworld.com/search/?query=","https://bg.toolsworld.com/search/?query=570637"]
[570647,"Gyorscsatlakozó, 1/2\" belső menet, 1 db// Stels",1151,"B","Active",{"$f":"VLOOKUP(A2321,[1]Sheet1!$A$1:$C$65512,3,FALSE)","v":{"$error":"#N/A"}},null,null,"No info","линк","https://bg.toolsworld.com/search/?query=","https://bg.toolsworld.com/search/?query=570647"]
[570657,"Gyorscsatlakozó, 1/2\" külső menet, 1 db// Stels",1151,"B","Active",{"$f":"VLOOKUP(A2322,[1]Sheet1!$A$1:$C$65512,3,FALSE)","v":90},null,null,"No info","линк","https://bg.toolsworld.com/search/?query=","https://bg.toolsworld.com/search/?query=570657"]
[570667,"Gyorscsatlakozó, 1/2\", tömlőhöz 10 mm, 1 db// Stels",1061,"B","Active",{"$f":"VLOOKUP(A2323,[1]Sheet1!$A$1:$C$65512,3,FALSE)","v":{"$error":"#N/A"}},null,null,"No info","линк","https://bg.toolsworld.com/search/?query=","https://bg.toolsworld.com/search/?query=570667"]
[570677,"Dugaszolható csatlakozó, 1/2\", külső menet, 2 db// Stels",664,"B","Active",{"$f":"VLOOKUP(A2324,[1]Sheet1!$A$1:$C$65512,3,FALSE)","v":63},null,null,"No info","линк","https://bg.toolsworld.com/search/?query=","https://bg.toolsworld.com/search/?query=570677"]
[570707,"Karos csatlakozó tömlőhöz 10 mm, 2 db// Stels",688,"B","Active",{"$f":"VLOOKUP(A2325,[1]Sheet1!$A$1:$C$65512,3,FALSE)","v":135},null,null,"No info","линк","https://bg.toolsworld.com/search/?query=","https://bg.toolsworld.com/search/?query=570707"]
[573049,"Szórópisztoly készlet, 5 egység, gyors csatlakoztatás, kompresszorhoz // MTX",12037,"B","Active",{"$f":"VLOOKUP(A2326,[1]Sheet1!$A$1:$C$65512,3,FALSE)","v":118},null,null,"No info","линк","https://bg.toolsworld.com/search/?query=","https://bg.toolsworld.com/search/?query=573049"]
[573149,"Festékszóró pisztoly ,felso tartállyal 0.6L + fejátméro 1.2, 1.5, - 1.8 mm, kompresszorhoz // MTX",5962,"B","Active",{"$f":"VLOOKUP(A2327,[1]Sheet1!$A$1:$C$65512,3,FALSE)","v":505},null,null,"No info","линк","https://bg.toolsworld.com/search/?query=","https://bg.toolsworld.com/search/?query=573149"]
[573159,"Festékszóró pisztoly ,felso tartállyal 1.0L + fejátméro 1.2, 1.5, - 1.8 mm, kompresszorhoz// MTX",6349,"B","Active",{"$f":"VLOOKUP(A2328,[1]Sheet1!$A$1:$C$65512,3,FALSE)","v":101},null,null,"No info","линк","https://bg.toolsworld.com/search/?query=","https://bg.toolsworld.com/search/?query=573159"]
[573169,"Festékszóró pisztoly, alsó tartállyal 1.0L + fejátméro 1.2, 1.5, - 1.8 mm, kompresszorhoz // MTX",7133,"B","Active",{"$f":"VLOOKUP(A2329,[1]Sheet1!$A$1:$C$65512,3,FALSE)","v":184},null,null,"No info","линк","https://bg.toolsworld.com/search/?query=","https://bg.toolsworld.com/search/?query=573169"]
[573179,"Festékszóró  pisztoly ,alsó tartállyal 0.75L + fejátméro1.2, 1.5, - 1.8 mm, kompresszorhoz // MTX",6742,"B","Active",{"$f":"VLOOKUP(A2330,[1]Sheet1!$A$1:$C$65512,3,FALSE)","v":111},null,null,"No info","линк","https://bg.toolsworld.com/search/?query=","https://bg.toolsworld.com/search/?query=573179"]
[573189,"Festékszóró pisztoly ,felso tartállyal 0.1L, fej 0.5 mm , kompresszorhoz // MTX",4543,"B","Active",{"$f":"VLOOKUP(A2331,[1]Sheet1!$A$1:$C$65512,3,FALSE)","v":1132},null,null,"No info","линк","https://bg.toolsworld.com/search/?query=","https://bg.toolsworld.com/search/?query=573189"]
[573229,"Kerékfúvató pisztoly órával, tömlovel, kompresszorhoz // MTX",2769,"B","Active",{"$f":"VLOOKUP(A2332,[1]Sheet1!$A$1:$C$65512,3,FALSE)","v":168},null,null,"No info","линк","https://bg.toolsworld.com/search/?query=","https://bg.toolsworld.com/search/?query=573229"]
[573269,"Homokszóró pisztoly alsó tartállyal, kompresszorhoz // MTX",5244,"B","Active",{"$f":"VLOOKUP(A2333,[1]Sheet1!$A$1:$C$65512,3,FALSE)","v":265},null,null,"No info","линк","https://bg.toolsworld.com/search/?query=","https://bg.toolsworld.com/search/?query=573269"]
[573289,"Homokszóró pisztoly tömlovel, kompresszorhoz // MTX",5093,"B","Active",{"$f":"VLOOKUP(A2334,[1]Sheet1!$A$1:$C$65512,3,FALSE)","v":102},null,null,"No info","линк","https://bg.toolsworld.com/search/?query=","https://bg.toolsworld.com/search/?query=573289"]
[573309,"Levego fúvató pisztoly, kompresszorhoz // MTX",1089,"B","Active",{"$f":"VLOOKUP(A2335,[1]Sheet1!$A$1:$C$65512,3,FALSE)","v":30},null,null,"No info","линк","https://bg.toolsworld.com/search/?query=","https://bg.toolsworld.com/search/?query=573309"]
[573329,"Levego fúvató pisztoly hosszított fejjel, 135 mm, kompresszorhoz // MTX",1521,"B","Active",{"$f":"VLOOKUP(A2336,[1]Sheet1!$A$1:$C$65512,3,FALSE)","v":559},null,null,"No info","линк","https://bg.toolsworld.com/search/?query=","https://bg.toolsworld.com/search/?query=573329"]
[573349,"Levego fúvató pisztoly hosszított, hajlított fejjel, 270 mm, kompresszorhoz // MTX",1171,"B","Active",{"$f":"VLOOKUP(A2337,[1]Sheet1!$A$1:$C$65512,3,FALSE)","v":530},null,null,"No info","линк","https://bg.toolsworld.com/search/?query=","https://bg.toolsworld.com/search/?query=573349"]
[573369,"Levego fúvató pisztoly fejjel, 6 db, kompresszorhoz // MTX",1474,"B","Active",{"$f":"VLOOKUP(A2338,[1]Sheet1!$A$1:$C$65512,3,FALSE)","v":225},null,null,"No info","линк","https://bg.toolsworld.com/search/?query=","https://bg.toolsworld.com/search/?query=573369"]
[573389,"Levego fúvató pisztoly fejjel, 4 db, kompresszorhoz // MTX",1586,"B","Active",{"$f":"VLOOKUP(A2339,[1]Sheet1!$A$1:$C$65512,3,FALSE)","v":9},null,null,"No info","линк","https://bg.toolsworld.com/search/?query=","https://bg.toolsworld.com/search/?query=573389"]
[573409,"Olajszóró pisztoly kompresszorhoz // MTX",3733,"B","Active",{"$f":"VLOOKUP(A2340,[1]Sheet1!$A$1:$C$65512,3,FALSE)","v":" "},null,null,"No info","линк","https://bg.toolsworld.com/search/?query=","https://bg.toolsworld.com/search/?query=573409"]
[573607,"AG 801 HVLP szórópisztoly, gravitációs, fúvóka 1,5 mm és 1,8 mm// Stels",9424,"B","Active",{"$f":"VLOOKUP(A2341,[1]Sheet1!$A$1:$C$65512,3,FALSE)","v":424},null,null,"No info","линк","https://bg.toolsworld.com/search/?query=","https://bg.toolsworld.com/search/?query=573607"]
[573617,"AG 810 HVLP szórópisztoly, gravitációs, fúvóka 0,8 mm és 1 mm// Stels",6926,"B","Active",{"$f":"VLOOKUP(A2342,[1]Sheet1!$A$1:$C$65512,3,FALSE)","v":174},null,null,"No info","линк","https://bg.toolsworld.com/search/?query=","https://bg.toolsworld.com/search/?query=573617"]
[573647,"AS 702 НP professzionális szórópisztoly, fogyasztási típus, fúvóka 1,8 mm és 2,0 mm// Stels",13238,"B","Active",{"$f":"VLOOKUP(A2343,[1]Sheet1!$A$1:$C$65512,3,FALSE)","v":44},null,null,"No info","линк","https://bg.toolsworld.com/search/?query=","https://bg.toolsworld.com/search/?query=573647"]
[573657,"AG 901 LVMP professzionális szórópisztoly, gravitációs, fúvóka 1,3 mm és 1,1 mm// Stels",23017,"B","Active",{"$f":"VLOOKUP(A2344,[1]Sheet1!$A$1:$C$65512,3,FALSE)","v":8},null,null,"No info","линк","https://bg.toolsworld.com/search/?query=","https://bg.toolsworld.com/search/?query=573657"]
[573697,"AG 970 LVLP szórópisztoly, professzionális, gravitációs típusú, fúvóka 0,8 mm// Stels",12149,"B","Active",{"$f":"VLOOKUP(A2345,[1]Sheet1!$A$1:$C$65512,3,FALSE)","v":52},null,null,"No info","линк","https://bg.toolsworld.com/search/?query=","https://bg.toolsworld.com/search/?query=573697"]
[573809,"Javítókészlet szórópisztolyhoz: fej 1.2mm+tu+szórórész+fejrögzíto// MTX",973,"B","Active",{"$f":"VLOOKUP(A2346,[1]Sheet1!$A$1:$C$65512,3,FALSE)","v":153},null,null,"No info","линк","https://bg.toolsworld.com/search/?query=","https://bg.toolsworld.com/search/?query=573809"]
[573829,"Javítókészlet szórópisztolyhoz: fej 1.5mm+tu+szórórész+fejrögzíto// MTX",973,"B","Active",{"$f":"VLOOKUP(A2347,[1]Sheet1!$A$1:$C$65512,3,FALSE)","v":58},null,null,"No info","линк","https://bg.toolsworld.com/search/?query=","https://bg.toolsworld.com/search/?query=573829"]
[573849,"Javítókészlet szórópisztolyhoz: fej 1.8mm+tu+szórórész+fejrögzíto// MTX",975,"B","Active",{"$f":"VLOOKUP(A2348,[1]Sheet1!$A$1:$C$65512,3,FALSE)","v":129},null,null,"No info","линк","https://bg.toolsworld.com/search/?query=","https://bg.toolsworld.com/search/?query=573849"]
[574209,"Pneumatikus Tuzogép szögletes kapcsokhoz 10-22 mm//MTX",10133,"B","Active",{"$f":"VLOOKUP(A2349,[1]Sheet1!$A$1:$C$65512,3,FALSE)","v":{"$error":"#N/A"}},null,null,"No info","линк","https://bg.toolsworld.com/search/?query=","https://bg.toolsworld.com/search/?query=574209"]
[574717,"1/2\"penumatikus csavarkulcs, IW680, 680 Nm, 7000 RPM// Denzel",19574,"B","Active",{"$f":"VLOOKUP(A2350,[1]Sheet1!$A$1:$C$65512,3,FALSE)","v":275},null,null,"No info","линк","https://bg.toolsworld.com/search/?query=","https://bg.toolsworld.com/search/?query=574717"]
[574767,"Excentrikus csiszológép, EPG 150, 150 mm, 5 mm, 160 L/perc, 10000 RPM//Denzel",13819,"B","Active",{"$f":"VLOOKUP(A2351,[1]Sheet1!$A$1:$C$65512,3,FALSE)","v":199},null,null,"No info",{"$f":"HYPERLINK(L2351,\"линк\")","v":"линк"},"https://bg.toolsworld.com/search/?query=","https://bg.toolsworld.com/search/?query=574767"]
[574787,"Pneumatikus fúró PD500, 500 ford./perc, 114 l/perc, 13 mm Denzel",12619,"B","Active",{"$f":"VLOOKUP(A2352,[1]Sheet1!$A$1:$C$65512,3,FALSE)","v":299},null,null,"No info","линк","https://bg.toolsworld.com/search/?query=","https://bg.toolsworld.com/search/?query=574787"]
[576029,"SZögek penumatikus szögbelovohöz, hossz. - 10mm, széles - 1,25mm, vastag - 1 mm, 5000pcs//MTX",882,"B","Active",{"$f":"VLOOKUP(A2353,[1]Sheet1!$A$1:$C$65512,3,FALSE)","v":26},null,null,"No info","линк","https://bg.toolsworld.com/search/?query=","https://bg.toolsworld.com/search/?query=576029"]
[576049,"SZögek penumatikus szögbelovohöz, hossz. - 15 mm, széles - 1,25mm, vastag - 1 mm, 5000pcs//MTX",1256,"B","Active",{"$f":"VLOOKUP(A2354,[1]Sheet1!$A$1:$C$65512,3,FALSE)","v":11},null,null,"No info","линк","https://bg.toolsworld.com/search/?query=",{"$f":"CONCATENATE(K2354,A2354)","v":"https://bg.toolsworld.com/search/?query=576049"}]
[576069,"SZögek penumatikus szögbelovohöz, hossz. - 20 mm, széles - 1,25mm, vastag - 1 mm, 5000pcs//MTX",1562,"B","Active",{"$f":"VLOOKUP(A2355,[1]Sheet1!$A$1:$C$65512,3,FALSE)","v":88},null,null,"No info","линк","https://bg.toolsworld.com/search/?query=","https://bg.toolsworld.com/search/?query=576069"]
[576089,"SZögek penumatikus szögbelovohöz, hossz. - 25 mm, széles - 1,25mm, vastag - 1 mm, 5000pcs//MTX",1943,"B","Active",{"$f":"VLOOKUP(A2356,[1]Sheet1!$A$1:$C$65512,3,FALSE)","v":195},null,null,"No info","линк","https://bg.toolsworld.com/search/?query=","https://bg.toolsworld.com/search/?query=576089"]
[576109,"SZögek penumatikus szögbelovohöz, hossz. - 30 mm, széles - 1,25mm, vastag - 1 mm, 5000pcs//MTX",2387,"B","Active",{"$f":"VLOOKUP(A2357,[1]Sheet1!$A$1:$C$65512,3,FALSE)","v":517},null,null,"No info","линк","https://bg.toolsworld.com/search/?query=","https://bg.toolsworld.com/search/?query=576109"]
[576129,"SZögek penumatikus szögbelovohöz, hossz. - 32 mm, széles - 1,25mm, vastag - 1 mm, 5000pcs//MTX",2423,"B","Active",{"$f":"VLOOKUP(A2358,[1]Sheet1!$A$1:$C$65512,3,FALSE)","v":75},null,null,"No info","линк","https://bg.toolsworld.com/search/?query=","https://bg.toolsworld.com/search/?query=576129"]
[576149,"SZögek penumatikus szögbelovohöz, hossz. - 35 mm, széles - 1,25mm, vastag - 1 mm, 5000pcs//MTX",2735,"B","Active",{"$f":"VLOOKUP(A2359,[1]Sheet1!$A$1:$C$65512,3,FALSE)","v":72},null,null,"No info","линк","https://bg.toolsworld.com/search/?query=","https://bg.toolsworld.com/search/?query=576149"]
[576169,"SZögek penumatikus szögbelovohöz, hossz. - 40 mm, széles - 1,25mm, vastag - 1 mm, 5000pcs//MTX",3103,"B","Active",{"$f":"VLOOKUP(A2360,[1]Sheet1!$A$1:$C$65512,3,FALSE)","v":68},null,null,"No info","линк","https://bg.toolsworld.com/search/?query=","https://bg.toolsworld.com/search/?query=576169"]
[576189,"SZögek penumatikus szögbelovohöz, hossz. - 45 mm, széles - 1,25mm, vastag - 1 mm, 5000pcs//MTX",3350,"B","Active",{"$f":"VLOOKUP(A2361,[1]Sheet1!$A$1:$C$65512,3,FALSE)","v":208},null,null,"No info","линк","https://bg.toolsworld.com/search/?query=","https://bg.toolsworld.com/search/?query=576189"]
[576209,"SZögek penumatikus szögbelovohöz, hossz. - 50 mm, széles - 1,25mm, vastag - 1 mm, 5000pcs//MTX",3796,"B","Active",{"$f":"VLOOKUP(A2362,[1]Sheet1!$A$1:$C$65512,3,FALSE)","v":38},null,null,"No info","линк","https://bg.toolsworld.com/search/?query=","https://bg.toolsworld.com/search/?query=576209"]
[576529,"Kapocs Pneumatikus Tuzogép 6 mm, széles - 1,2mm, vastag - 0,6mm, kapocs széles 11,2 mm, 5000pcs/",902,"B","Active",{"$f":"VLOOKUP(A2363,[1]Sheet1!$A$1:$C$65512,3,FALSE)","v":461},null,null,"No info","линк","https://bg.toolsworld.com/search/?query=","https://bg.toolsworld.com/search/?query=576529"]
[576549,"Kapocs Pneumatikus Tuzogép 8 mm, széles - 1,2mm, vastag - 0,6mm, kapocs széles 11,2 mm, 5000pcs/",890,"B","Active",{"$f":"VLOOKUP(A2364,[1]Sheet1!$A$1:$C$65512,3,FALSE)","v":107},null,null,"No info","линк","https://bg.toolsworld.com/search/?query=","https://bg.toolsworld.com/search/?query=576549"]
[576569,"Kapocs Pneumatikus Tuzogép 10 mm, széles - 1,2mm, vastag - 0,6mm, kapocs széles 11,2 mm, 5000pcs",1187,"B","Active",{"$f":"VLOOKUP(A2365,[1]Sheet1!$A$1:$C$65512,3,FALSE)","v":63},null,null,"No info","линк","https://bg.toolsworld.com/search/?query=","https://bg.toolsworld.com/search/?query=576569"]
[576589,"Kapocs Pneumatikus Tuzogép 13 mm, széles - 1,2mm, vastag - 0,6mm, kapocs széles 11,2 mm, 5000pcs",1452,"B","Active",{"$f":"VLOOKUP(A2366,[1]Sheet1!$A$1:$C$65512,3,FALSE)","v":115},null,null,"No info","линк","https://bg.toolsworld.com/search/?query=","https://bg.toolsworld.com/search/?query=576589"]
[576609,"Kapocs Pneumatikus Tuzogép 16 mm, széles - 1,2mm, vastag - 0,6mm, kapocs széles 11,2 mm, 5000pcs",1647,"B","Active",{"$f":"VLOOKUP(A2367,[1]Sheet1!$A$1:$C$65512,3,FALSE)","v":100},null,null,"No info","линк","https://bg.toolsworld.com/search/?query=","https://bg.toolsworld.com/search/?query=576609"]
[576629,"Kapocs Pneumatikus Tuzogép 19 mm, széles - 1,2mm, vastag - 0,6mm, kapocs széles 11,2 mm, 5000pcs",1914,"B","Active",{"$f":"VLOOKUP(A2368,[1]Sheet1!$A$1:$C$65512,3,FALSE)","v":164},null,null,"No info","линк","https://bg.toolsworld.com/search/?query=","https://bg.toolsworld.com/search/?query=576629"]
[576649,"Kapocs Pneumatikus Tuzogép 22 mm, széles - 1,2mm, vastag - 0,6mm, kapocs széles 11,2 mm, 5000pcs",2254,"B","Active",{"$f":"VLOOKUP(A2369,[1]Sheet1!$A$1:$C$65512,3,FALSE)","v":53},null,null,"No info","линк","https://bg.toolsworld.com/search/?query=","https://bg.toolsworld.com/search/?query=576649"]
[587107,"Akkumulátoros Fűkasza RT300-36, Li-ion, 36 V, 4 Ah, fűnyírási szélesség 300 mm// Denzel",78596,"B","Active",{"$f":"VLOOKUP(A2370,[1]Sheet1!$A$1:$C$65512,3,FALSE)","v":96},null,null,"No info","линк","https://bg.toolsworld.com/search/?query=","https://bg.toolsworld.com/search/?query=587107"]
[588027,"Benzines fűnyíró GLD-460, 146 cc, 457 mm, kézi toló, 50 L// Denzel",95377,"B","Active",{"$f":"VLOOKUP(A2371,[1]Sheet1!$A$1:$C$65512,3,FALSE)","v":313},null,null,"No info","линк","https://bg.toolsworld.com/search/?query=","https://bg.toolsworld.com/search/?query=588027"]
[588037,"Benzines fűnyíró GLD-460SP, 146 cc, 457 mm, önjáró, 50 L// Denzel",104954,"B","Active",{"$f":"VLOOKUP(A2372,[1]Sheet1!$A$1:$C$65512,3,FALSE)","v":{"$error":"#N/A"}},null,null,"No info","линк","https://bg.toolsworld.com/search/?query=","https://bg.toolsworld.com/search/?query=588037"]
[588047,"Benzines fűnyíró GLD-520SP, 196 cc, 520 mm, önjáró, 60 L// Denzel",145667,"B","Active",{"$f":"VLOOKUP(A2373,[1]Sheet1!$A$1:$C$65512,3,FALSE)","v":{"$error":"#N/A"}},null,null,"No info","линк","https://bg.toolsworld.com/search/?query=","https://bg.toolsworld.com/search/?query=588047"]
[588057,"Benzines fűnyíró GLD-420, 146 cc, 420 mm, kézi toló, 40 L// Denzel",86051,"B","Active",{"$f":"VLOOKUP(A2374,[1]Sheet1!$A$1:$C$65512,3,FALSE)","v":414},null,null,"No info","линк","https://bg.toolsworld.com/search/?query=","https://bg.toolsworld.com/search/?query=588057"]
[588077,"Benzines fűnyíró GLD-520SP-BS, 161 cc BRIGGS STRATTON, 520 mm",206889,"B","Active",{"$f":"VLOOKUP(A2375,[1]Sheet1!$A$1:$C$65512,3,FALSE)","v":6},null,null,"No info","линк","https://bg.toolsworld.com/search/?query=","https://bg.toolsworld.com/search/?query=588077"]
[594107,"Akkus bozótvágó RBC510-36, Li-ion, 36 V, 4 Ah, 510 mm-es kés, megfordítható nyél // Denzel",77781,"B","Active",{"$f":"VLOOKUP(A2376,[1]Sheet1!$A$1:$C$65512,3,FALSE)","v":194},null,null,"No info","линк","https://bg.toolsworld.com/search/?query=","https://bg.toolsworld.com/search/?query=594107"]
[598017,"Vezetőlemez DGS-4516 láncfűrészhez, hossz 40 cm (16\"), emelkedés 3/8\", szelvény 1,3 mm, 57 lengőkar// Denzel",2580,"B","Active",{"$f":"VLOOKUP(A2377,[1]Sheet1!$A$1:$C$65512,3,FALSE)","v":564},null,null,"No info","линк","https://bg.toolsworld.com/search/?query=","https://bg.toolsworld.com/search/?query=598017"]
[598027,"Vezetőlemez DGS-5218 láncfűrészhez, hossz 45 cm (18\"), emelkedés 0,325\", nyomtáv 1,5 mm, 72 lengőkar// Denzel",2859,"B","Active",{"$f":"VLOOKUP(A2378,[1]Sheet1!$A$1:$C$65512,3,FALSE)","v":{"$error":"#N/A"}},null,null,"No info","линк","https://bg.toolsworld.com/search/?query=","https://bg.toolsworld.com/search/?query=598027"]
[598037,"Vezetőlemez DGS-5820 láncfűrészhez, hossz 50 cm (20\"), emelkedés 0,325\", nyomtáv 1,5 mm, 76 lengőkar// Denzel",3120,"B","Active",{"$f":"VLOOKUP(A2379,[1]Sheet1!$A$1:$C$65512,3,FALSE)","v":176},null,null,"No info","линк","https://bg.toolsworld.com/search/?query=","https://bg.toolsworld.com/search/?query=598037"]
[598047,"Lánc DGS-4516 láncfűrészhez, vezetőrúd 40 cm (16\"), emelkedés 3/8\", nyomtáv 1,3 mm, 57 lengőkar// Denzel",2311,"B","Active",{"$f":"VLOOKUP(A2380,[1]Sheet1!$A$1:$C$65512,3,FALSE)","v":463},null,null,"No info","линк","https://bg.toolsworld.com/search/?query=","https://bg.toolsworld.com/search/?query=598047"]
[598067,"Lánc DGS-5820 láncfűrészhez, vezetőlemez 50 cm (20\"), emelkedés 0,325\", nyomtáv 1,5 mm, 76 lengőkar// Denzel",3439,"B","Active",{"$f":"VLOOKUP(A2381,[1]Sheet1!$A$1:$C$65512,3,FALSE)","v":4},null,null,"No info","линк","https://bg.toolsworld.com/search/?query=","https://bg.toolsworld.com/search/?query=598067"]
[598077,"Vezetőlemez GCS-4540 láncfűrészhez, hossz 40 cm (16\"), emelkedés 0,325\", nyomtáv 1,5 mm, 64 lengőkar// MTX",2028,"B","Active",{"$f":"VLOOKUP(A2382,[1]Sheet1!$A$1:$C$65512,3,FALSE)","v":{"$error":"#N/A"}},null,null,"No info","линк","https://bg.toolsworld.com/search/?query=","https://bg.toolsworld.com/search/?query=598077"]
[598087,"Vezetőlemez GCS-5245 láncfűrészhez, hossz 45 cm (18\"), emelkedés 0,325\", nyomtáv 1,5 mm, 72 lengőkar// MTX",2258,"B","Active",{"$f":"VLOOKUP(A2383,[1]Sheet1!$A$1:$C$65512,3,FALSE)","v":13},null,null,"No info","линк","https://bg.toolsworld.com/search/?query=","https://bg.toolsworld.com/search/?query=598087"]
[598097,"Vezetőlemez GCS-5850 láncfűrészhez, hossz 50 cm (20\"), emelkedés 0,325\", nyomtáv 1,5 mm, 76 lengőkar// MTX",2513,"B","Active",{"$f":"VLOOKUP(A2384,[1]Sheet1!$A$1:$C$65512,3,FALSE)","v":272},null,null,"No info","линк","https://bg.toolsworld.com/search/?query=","https://bg.toolsworld.com/search/?query=598097"]
[598107,"Lánc GCS-4540 láncfűrészhez, vezetőrúd 40 cm (16\"), emelkedés 0,325\", nyomtáv 1,5 mm, 64 lengőkar// MTX",2047,"B","Active",{"$f":"VLOOKUP(A2385,[1]Sheet1!$A$1:$C$65512,3,FALSE)","v":{"$error":"#N/A"}},null,null,"No info","линк","https://bg.toolsworld.com/search/?query=","https://bg.toolsworld.com/search/?query=598107"]
[598127,"Lánc GCS-5850 láncfűrészhez, vezetőrúd 50 cm (20\"), emelkedés 0,325\", nyomtáv 1,5 mm, 76 lengőkar// MTX",2417,"B","Active",{"$f":"VLOOKUP(A2386,[1]Sheet1!$A$1:$C$65512,3,FALSE)","v":{"$error":"#N/A"}},null,null,"No info","линк","https://bg.toolsworld.com/search/?query=","https://bg.toolsworld.com/search/?query=598127"]
[604118,"Folding pruning saw, 175 mm, 3D-fog, gumírozott nyél with protective sector// PALISAD",1698,"B","Active",{"$f":"VLOOKUP(A2387,[1]Sheet1!$A$1:$C$65512,3,FALSE)","v":{"$error":"#N/A"}},null,null,"No info","линк","https://bg.toolsworld.com/search/?query=","https://bg.toolsworld.com/search/?query=604118"]
[604145,"Összecsukható metszőfűrész, munkadarab 150 mm, gumírozott műanyag nyél// Palisad",1440,"B","Active",{"$f":"VLOOKUP(A2388,[1]Sheet1!$A$1:$C$65512,3,FALSE)","v":{"$error":"#N/A"}},null,null,"No info","линк","https://bg.toolsworld.com/search/?query=","https://bg.toolsworld.com/search/?query=604145"]
[604148,"Kerti furész összecsukható, 170 mm, 3D fog, gumi fogantyú // PALISAD",1680,"B","Active",{"$f":"VLOOKUP(A2389,[1]Sheet1!$A$1:$C$65512,3,FALSE)","v":546},null,null,"No info","линк","https://bg.toolsworld.com/search/?query=","https://bg.toolsworld.com/search/?query=604148"]
[604208,"Lombfurész, védo szárny, két komponensu nyél, 530 mm//PALISAD",1743,"B","Active",{"$f":"VLOOKUP(A2390,[1]Sheet1!$A$1:$C$65512,3,FALSE)","v":313},null,null,"No info","линк","https://bg.toolsworld.com/search/?query=","https://bg.toolsworld.com/search/?query=604208"]
[604218,"Penge lombfurészhez, 530 mm//PALISAD",389,"B","Active",{"$f":"VLOOKUP(A2391,[1]Sheet1!$A$1:$C$65512,3,FALSE)","v":49},null,null,"No info","линк","https://bg.toolsworld.com/search/?query=","https://bg.toolsworld.com/search/?query=604218"]
[604407,"Kerti olló növényekhez, KS-610, LUXE// Palisad",1409,"B","Active",{"$f":"VLOOKUP(A2392,[1]Sheet1!$A$1:$C$65512,3,FALSE)","v":863},null,null,"No info","линк","https://bg.toolsworld.com/search/?query=","https://bg.toolsworld.com/search/?query=604407"]
[604417,"Kerti olló növényekhez, KS-609, LUXE// Palisad",1409,"B","Active",{"$f":"VLOOKUP(A2393,[1]Sheet1!$A$1:$C$65512,3,FALSE)","v":752},null,null,"No info","линк","https://bg.toolsworld.com/search/?query=","https://bg.toolsworld.com/search/?query=604417"]
[604707,"Rugós metszővágó, 210 mm, megfogó állítás, alumínium fogantyúk, LUXE// Palisad",6826,"B","Active",{"$f":"VLOOKUP(A2394,[1]Sheet1!$A$1:$C$65512,3,FALSE)","v":525},null,null,"No info","линк","https://bg.toolsworld.com/search/?query=","https://bg.toolsworld.com/search/?query=604707"]
[604717,"Rugós metszővágó, 230 mm, megerősített, alsó PVC köpenyben, LUXE// Palisad",6769,"B","Active",{"$f":"VLOOKUP(A2395,[1]Sheet1!$A$1:$C$65512,3,FALSE)","v":1195},null,null,"No info","линк","https://bg.toolsworld.com/search/?query=","https://bg.toolsworld.com/search/?query=604717"]
[604727,"Rugós metsző, 230 mm, alumínium nyelek, LUXE// Palisad",3936,"B","Active",{"$f":"VLOOKUP(A2396,[1]Sheet1!$A$1:$C$65512,3,FALSE)","v":174},null,null,"No info","линк","https://bg.toolsworld.com/search/?query=","https://bg.toolsworld.com/search/?query=604727"]
[604737,"Rugós metszővágó, 220 mm, alumínium fogantyúk, LUXE// Palisad",2729,"B","Active",{"$f":"VLOOKUP(A2397,[1]Sheet1!$A$1:$C$65512,3,FALSE)","v":218},null,null,"No info","линк","https://bg.toolsworld.com/search/?query=","https://bg.toolsworld.com/search/?query=604737"]
[604747,"Rugós metszővágó, 210 mm, megfogó állítás, alumínium fogantyúk, LUXE// Palisad",4093,"B","Active",{"$f":"VLOOKUP(A2398,[1]Sheet1!$A$1:$C$65512,3,FALSE)","v":1030},null,null,"No info","линк","https://bg.toolsworld.com/search/?query=","https://bg.toolsworld.com/search/?query=604747"]
[604757,"Üllő metsző, 205 mm, fogó állítás, alumínium fogantyúk, LUXE// Palisad",4026,"B","Active",{"$f":"VLOOKUP(A2399,[1]Sheet1!$A$1:$C$65512,3,FALSE)","v":484},null,null,"No info","линк","https://bg.toolsworld.com/search/?query=","https://bg.toolsworld.com/search/?query=604757"]
[604767,"Kerti vágókapcsok, 215 mm, markolat állítható, alumínium fogantyúk, LUXE// Palisad",4144,"B","Active",{"$f":"VLOOKUP(A2400,[1]Sheet1!$A$1:$C$65512,3,FALSE)","v":1131},null,null,"No info","линк","https://bg.toolsworld.com/search/?query=","https://bg.toolsworld.com/search/?query=604767"]
[604858,"Rugós metszo olló, állítható nyél// PALISAD",2552,"B","Active",{"$f":"VLOOKUP(A2401,[1]Sheet1!$A$1:$C$65512,3,FALSE)","v":273},null,null,"No info","линк","https://bg.toolsworld.com/search/?query=","https://bg.toolsworld.com/search/?query=604858"]
[604868,"ullos metszóolló, állítható nyél// PALISAD",2254,"B","Active",{"$f":"VLOOKUP(A2402,[1]Sheet1!$A$1:$C$65512,3,FALSE)","v":79},null,null,"No info","линк","https://bg.toolsworld.com/search/?query=","https://bg.toolsworld.com/search/?query=604868"]
[604878,"Virág metszo olló muanyag nyél// PALISAD",2034,"B","Active",{"$f":"VLOOKUP(A2403,[1]Sheet1!$A$1:$C$65512,3,FALSE)","v":{"$error":"#N/A"}},null,null,"No info","линк","https://bg.toolsworld.com/search/?query=","https://bg.toolsworld.com/search/?query=604878"]
[604898,"Rugós metszoolló , aluminum nyéllel// PALISAD",2376,"B","Active",{"$f":"VLOOKUP(A2404,[1]Sheet1!$A$1:$C$65512,3,FALSE)","v":192},null,null,"No info","линк","https://bg.toolsworld.com/search/?query=","https://bg.toolsworld.com/search/?query=604898"]
[604908,"ullos metszo olló, aluminum nyéllel// PALISAD",1615,"B","Active",{"$f":"VLOOKUP(A2405,[1]Sheet1!$A$1:$C$65512,3,FALSE)","v":65},null,null,"No info","линк","https://bg.toolsworld.com/search/?query=","https://bg.toolsworld.com/search/?query=604908"]
[604918,"Virág metszo olló, aluminum nyéllel// Palisad",1793,"B","Active",{"$f":"VLOOKUP(A2406,[1]Sheet1!$A$1:$C$65512,3,FALSE)","v":{"$error":"#N/A"}},null,null,"No info","линк","https://bg.toolsworld.com/search/?query=","https://bg.toolsworld.com/search/?query=604918"]
[604937,"Rugós metszővágó, 185 mm, műanyag fogantyúk// Palisad",1041,"B","Active",{"$f":"VLOOKUP(A2407,[1]Sheet1!$A$1:$C$65512,3,FALSE)","v":682},null,null,"No info","линк","https://bg.toolsworld.com/search/?query=","https://bg.toolsworld.com/search/?query=604937"]
[604947,"Kerti snips, 205 mm, műanyag fogantyúk// Palisad",1041,"B","Active",{"$f":"VLOOKUP(A2408,[1]Sheet1!$A$1:$C$65512,3,FALSE)","v":531},null,null,"No info","линк","https://bg.toolsworld.com/search/?query=","https://bg.toolsworld.com/search/?query=604947"]
[605017,"Rugós metszővágó, 210 mm, megerősített, alsó nyél PVC kabátban, LUXE// Palisad",6604,"B","Active",{"$f":"VLOOKUP(A2409,[1]Sheet1!$A$1:$C$65512,3,FALSE)","v":1146},null,null,"No info","линк","https://bg.toolsworld.com/search/?query=","https://bg.toolsworld.com/search/?query=605017"]
[605037,"Rugós metszővágó, 180 mm, gumírozott fém fogantyúk// Palisad",1083,"B","Active",{"$f":"VLOOKUP(A2410,[1]Sheet1!$A$1:$C$65512,3,FALSE)","v":355},null,null,"No info","линк","https://bg.toolsworld.com/search/?query=","https://bg.toolsworld.com/search/?query=605037"]
[605038,"Metszoolló, 180mm, rugós, gumírozott markolat//PALISAD",1187,"B","Active",{"$f":"VLOOKUP(A2411,[1]Sheet1!$A$1:$C$65512,3,FALSE)","v":55},null,null,"No info","линк","https://bg.toolsworld.com/search/?query=","https://bg.toolsworld.com/search/?query=605038"]
[605068,"Hosszú nyelu metszoolló, 700mm, két komponensu markolat// PALISAD",3419,"B","Active",{"$f":"VLOOKUP(A2412,[1]Sheet1!$A$1:$C$65512,3,FALSE)","v":{"$error":"#N/A"}},null,null,"No info","линк","https://bg.toolsworld.com/search/?query=","https://bg.toolsworld.com/search/?query=605068"]
[605217,"Rugós lopper, 700 mm, gumírozott acél fogantyúk// Palisad",1922,"B","Active",{"$f":"VLOOKUP(A2413,[1]Sheet1!$A$1:$C$65512,3,FALSE)","v":38},null,null,"No info","линк","https://bg.toolsworld.com/search/?query=","https://bg.toolsworld.com/search/?query=605217"]
[605218,"Hosszú nyelu metszoolló 700mm, gumi csillapító, fém gumírozott markolat//PALISAD",2596,"B","Active",{"$f":"VLOOKUP(A2414,[1]Sheet1!$A$1:$C$65512,3,FALSE)","v":{"$error":"#N/A"}},null,null,"No info",{"$f":"HYPERLINK(L2414,\"линк\")","v":"линк"},"https://bg.toolsworld.com/search/?query=","https://bg.toolsworld.com/search/?query=605218"]
[605297,"Rugós metszővágó, 170 mm, megerősített, alsó nyél PVC kabátban, LUXE// Palisad",6129,"B","Active",{"$f":"VLOOKUP(A2415,[1]Sheet1!$A$1:$C$65512,3,FALSE)","v":1245},null,null,"No info","линк","https://bg.toolsworld.com/search/?query=","https://bg.toolsworld.com/search/?query=605297"]
[605318,"Metszoolló,210 mm,két komponensu markolat, fogaskerekes//PALISAD",2211,"B","Active",{"$f":"VLOOKUP(A2416,[1]Sheet1!$A$1:$C$65512,3,FALSE)","v":266},null,null,"No info","линк","https://bg.toolsworld.com/search/?query=","https://bg.toolsworld.com/search/?query=605318"]
[605328,"Metszoolló 210 mm, egyenes vágás, két komponensu markolat, fogaskerekes//PALISAD",2100,"B","Active",{"$f":"VLOOKUP(A2417,[1]Sheet1!$A$1:$C$65512,3,FALSE)","v":416},null,null,"No info","линк","https://bg.toolsworld.com/search/?query=","https://bg.toolsworld.com/search/?query=605328"]
[605367,"Rugós metszőollóó, 200 mm, kétkomponensű fogantyúk// Palisad",1990,"B","Active",{"$f":"VLOOKUP(A2418,[1]Sheet1!$A$1:$C$65512,3,FALSE)","v":460},null,null,"No info","линк","https://bg.toolsworld.com/search/?query=",{"$f":"CONCATENATE(K2418,A2418)","v":"https://bg.toolsworld.com/search/?query=605367"}]
[605368,"Metszoolló, 200 mm, szalagos típus  rugós, teflon borítás, gumírozott 2-komp. muanyag markolat//PALISAD",2205,"B","Active",{"$f":"VLOOKUP(A2419,[1]Sheet1!$A$1:$C$65512,3,FALSE)","v":{"$error":"#N/A"}},null,null,"No info","линк","https://bg.toolsworld.com/search/?query=","https://bg.toolsworld.com/search/?query=605368"]
[605518,"Metszoolló, 200 mm,spirál típus  rugós, teflon borítás, gumírozott 2-komp. muanyag markolat//PALISAD",2073,"B","Active",{"$f":"VLOOKUP(A2420,[1]Sheet1!$A$1:$C$65512,3,FALSE)","v":238},null,null,"No info","линк","https://bg.toolsworld.com/search/?query=","https://bg.toolsworld.com/search/?query=605518"]
[605548,"Kerti metszoolló, 180 mm,spirál rugós, teflon borítás, egyenes vágás//PALISAD",1193,"B","Active",{"$f":"VLOOKUP(A2421,[1]Sheet1!$A$1:$C$65512,3,FALSE)","v":{"$error":"#N/A"}},null,null,"No info","линк","https://bg.toolsworld.com/search/?query=","https://bg.toolsworld.com/search/?query=605548"]
[605578,"Metszoolló, 200 mm,spirál típus  rugós, teflon borítás, gumírozott markolat//PALISAD",2085,"B","Active",{"$f":"VLOOKUP(A2422,[1]Sheet1!$A$1:$C$65512,3,FALSE)","v":1507},null,null,"No info","линк","https://bg.toolsworld.com/search/?query=","https://bg.toolsworld.com/search/?query=605578"]
[605608,"Metszoolló, 200 mm,rugós,Racsni, teflon borítás, gumírozott fém markolat//PALISAD",2812,"B","Active",{"$f":"VLOOKUP(A2423,[1]Sheet1!$A$1:$C$65512,3,FALSE)","v":519},null,null,"No info","линк","https://bg.toolsworld.com/search/?query=","https://bg.toolsworld.com/search/?query=605608"]
[605617,"Rugós metszővágó 200 mm, gumibevonatú fogantyúk// Palisad",1478,"B","Active",{"$f":"VLOOKUP(A2424,[1]Sheet1!$A$1:$C$65512,3,FALSE)","v":2804},null,null,"No info","линк","https://bg.toolsworld.com/search/?query=","https://bg.toolsworld.com/search/?query=605617"]
[605618,"Metszoolló, 200 mm,spirál típus  rugós, alloy acél, gumírozott markolat//PALISAD",1474,"B","Active",{"$f":"VLOOKUP(A2425,[1]Sheet1!$A$1:$C$65512,3,FALSE)","v":{"$error":"#N/A"}},null,null,"No info","линк","https://bg.toolsworld.com/search/?query=","https://bg.toolsworld.com/search/?query=605618"]
[605628,"Hedge shears 500 mm, steel rubber-coated nyéllel// PALISAD",2159,"B","Active",{"$f":"VLOOKUP(A2426,[1]Sheet1!$A$1:$C$65512,3,FALSE)","v":19},null,null,"No info","линк","https://bg.toolsworld.com/search/?query=","https://bg.toolsworld.com/search/?query=605628"]
[605648,"190 mm-es metszoolló, egyenes vágással, muanyag gumi bevonattal ellátott nyéllel // PALISAD",794,"B","Active",{"$f":"VLOOKUP(A2427,[1]Sheet1!$A$1:$C$65512,3,FALSE)","v":{"$error":"#N/A"}},null,null,"No info","линк","https://bg.toolsworld.com/search/?query=","https://bg.toolsworld.com/search/?query=605648"]
[605658,"190 mm-es  virág metszoolló, egyenes vágással, muanyag gumi bevonattal ellátott nyéllel // PALISAD",812,"B","Active",{"$f":"VLOOKUP(A2428,[1]Sheet1!$A$1:$C$65512,3,FALSE)","v":" "},null,null,"No info","линк","https://bg.toolsworld.com/search/?query=","https://bg.toolsworld.com/search/?query=605658"]
[605688,"Ágvágó, 350 mm-es, gumírozott acél fogantyúk Palisad// PALISAD",1664,"B","Active",{"$f":"VLOOKUP(A2429,[1]Sheet1!$A$1:$C$65512,3,FALSE)","v":{"$error":"#N/A"}},null,null,"No info","линк","https://bg.toolsworld.com/search/?query=","https://bg.toolsworld.com/search/?query=605688"]
[605718,"Ágvágó 530 mm, gumi borítású nyél/ PALISAD",2666,"B","Active",{"$f":"VLOOKUP(A2430,[1]Sheet1!$A$1:$C$65512,3,FALSE)","v":105},null,null,"No info","линк","https://bg.toolsworld.com/search/?query=","https://bg.toolsworld.com/search/?query=605718"]
[605738,"Fuvágó olló 310 mm, gumírozott acél nyéllel// PALISAD",1816,"B","Active",{"$f":"VLOOKUP(A2431,[1]Sheet1!$A$1:$C$65512,3,FALSE)","v":168},null,null,"No info","линк","https://bg.toolsworld.com/search/?query=","https://bg.toolsworld.com/search/?query=605738"]
[605748,"Fuvágó olló 360 mm, 180° turn, gumírozott muanyag nyéllel// PALISAD",2639,"B","Active",{"$f":"VLOOKUP(A2432,[1]Sheet1!$A$1:$C$65512,3,FALSE)","v":40},null,null,"No info","линк","https://bg.toolsworld.com/search/?query=","https://bg.toolsworld.com/search/?query=605748"]
[605817,"Racsnis rúdmetsző, fűrésszel, összeszerelt, műanyag szárral 25 mm// Palisad",5207,"B","Active",{"$f":"VLOOKUP(A2433,[1]Sheet1!$A$1:$C$65512,3,FALSE)","v":" "},null,null,"No info","линк","https://bg.toolsworld.com/search/?query=","https://bg.toolsworld.com/search/?query=605817"]
[605818,"Hosszú nyelu metszoolló furésszel//PALISAD",3757,"B","Active",{"$f":"VLOOKUP(A2434,[1]Sheet1!$A$1:$C$65512,3,FALSE)","v":227},null,null,"No info","линк","https://bg.toolsworld.com/search/?query=","https://bg.toolsworld.com/search/?query=605818"]
[605977,"Rugós lopper, 750 mm, kétkaros mechanizmus, kétkomponensű fogantyúk, LUXE// Palisad",6467,"B","Active",{"$f":"VLOOKUP(A2435,[1]Sheet1!$A$1:$C$65512,3,FALSE)","v":560},null,null,"No info","линк","https://bg.toolsworld.com/search/?query=","https://bg.toolsworld.com/search/?query=605977"]
[605987,"Rugós lopper, 610 mm, kétkaros mechanizmus, kétkomponensű fogantyúk, LUXE// Palisad",6060,"B","Active",{"$f":"VLOOKUP(A2436,[1]Sheet1!$A$1:$C$65512,3,FALSE)","v":252},null,null,"No info","линк","https://bg.toolsworld.com/search/?query=","https://bg.toolsworld.com/search/?query=605987"]
[608307,"Fűollók, 310 mm, fém fogantyúk// Palisad",1098,"B","Active",{"$f":"VLOOKUP(A2437,[1]Sheet1!$A$1:$C$65512,3,FALSE)","v":1264},null,null,"No info","линк","https://bg.toolsworld.com/search/?query=","https://bg.toolsworld.com/search/?query=608307"]
[608308,"Lombvágó, 310mm//PALISAD",1287,"B","Active",{"$f":"VLOOKUP(A2438,[1]Sheet1!$A$1:$C$65512,3,FALSE)","v":{"$error":"#N/A"}},null,null,"No info","линк","https://bg.toolsworld.com/search/?query=","https://bg.toolsworld.com/search/?query=608308"]
[608367,"Sövényolló, 560 mm, hullámos pengék, kétkomponensű nyél// Palisad",3191,"B","Active",{"$f":"VLOOKUP(A2439,[1]Sheet1!$A$1:$C$65512,3,FALSE)","v":" "},null,null,"No info","линк","https://bg.toolsworld.com/search/?query=","https://bg.toolsworld.com/search/?query=608367"]
[608368,"Bokorvágó, 560 mm, hullámos pengék, 2. komp markolat//PALISAD",3191,"B","Active",{"$f":"VLOOKUP(A2440,[1]Sheet1!$A$1:$C$65512,3,FALSE)","v":" "},null,null,"No info","линк","https://bg.toolsworld.com/search/?query=","https://bg.toolsworld.com/search/?query=608368"]
[613607,"Professzionális körlapát, 225х295х1150 mm, teljesen fém// Palisad",3651,"B","Active",{"$f":"VLOOKUP(A2441,[1]Sheet1!$A$1:$C$65512,3,FALSE)","v":55},null,null,"No info","линк","https://bg.toolsworld.com/search/?query=","https://bg.toolsworld.com/search/?query=613607"]
[613617,"Kerek hegyű lapát fogazott éllel, 220х290х1480 mm, üvegszálas nyél, LUXE// Palisad",5445,"B","Active",{"$f":"VLOOKUP(A2442,[1]Sheet1!$A$1:$C$65512,3,FALSE)","v":74},null,null,"No info","линк","https://bg.toolsworld.com/search/?query=","https://bg.toolsworld.com/search/?query=613617"]
[613627,"Kerek hegyű lapát, 215х295х1480 mm, üvegszálas nyél, LUXE// Palisad",4936,"B","Active",{"$f":"VLOOKUP(A2443,[1]Sheet1!$A$1:$C$65512,3,FALSE)","v":43},null,null,"No info","линк","https://bg.toolsworld.com/search/?query=","https://bg.toolsworld.com/search/?query=613627"]
[613637,"Négyszögű lapát, 235х280х1480 mm, üvegszálas nyél, LUXE// Palisad",4944,"B","Active",{"$f":"VLOOKUP(A2444,[1]Sheet1!$A$1:$C$65512,3,FALSE)","v":{"$error":"#N/A"}},null,null,"No info","линк","https://bg.toolsworld.com/search/?query=","https://bg.toolsworld.com/search/?query=613637"]
[613697,"Teljesen acél szénavilla, 4 szarv, 205х310х1210 mm, kovácsolt, LUXE// Palisad",6105,"B","Active",{"$f":"VLOOKUP(A2445,[1]Sheet1!$A$1:$C$65512,3,FALSE)","v":1725},null,null,"No info","линк","https://bg.toolsworld.com/search/?query=","https://bg.toolsworld.com/search/?query=613697"]
[613707,"Kerek hegyű lapát, 150x205x720 mm, teljesen acél, LUXE// Palisad",3107,"B","Active",{"$f":"VLOOKUP(A2446,[1]Sheet1!$A$1:$C$65512,3,FALSE)","v":1696},null,null,"No info","линк","https://bg.toolsworld.com/search/?query=","https://bg.toolsworld.com/search/?query=613707"]
[613717,"Kerek hegyű lapát, 195x285x1200 mm, teljesen acél, LUXE// Palisad",5905,"B","Active",{"$f":"VLOOKUP(A2447,[1]Sheet1!$A$1:$C$65512,3,FALSE)","v":1690},null,null,"No info","линк","https://bg.toolsworld.com/search/?query=","https://bg.toolsworld.com/search/?query=613717"]
[613727,"Szegélyásó, 195х285х1200 mm, teljesen acél, LUXE// Palisad",5610,"B","Active",{"$f":"VLOOKUP(A2448,[1]Sheet1!$A$1:$C$65512,3,FALSE)","v":1744},null,null,"No info","линк","https://bg.toolsworld.com/search/?query=","https://bg.toolsworld.com/search/?query=613727"]
[613737,"Négyszögű lapát, 240х290х1200 mm, teljesen acél, LUXE// Palisad",5600,"B","Active",{"$f":"VLOOKUP(A2449,[1]Sheet1!$A$1:$C$65512,3,FALSE)","v":194},null,null,"No info","линк","https://bg.toolsworld.com/search/?query=","https://bg.toolsworld.com/search/?query=613737"]
[613757,"Kerek hegyű lapát, 150x205x720 mm, fa lakkozott nyél// Palisad",2493,"B","Active",{"$f":"VLOOKUP(A2450,[1]Sheet1!$A$1:$C$65512,3,FALSE)","v":707},null,null,"No info","линк","https://bg.toolsworld.com/search/?query=","https://bg.toolsworld.com/search/?query=613757"]
[613767," Négyszöglű ásó, 195х290х1150 mm, fa lakkozott nyél// Palisad",3596,"B","Active",{"$f":"VLOOKUP(A2451,[1]Sheet1!$A$1:$C$65512,3,FALSE)","v":1315},null,null,"No info","линк","https://bg.toolsworld.com/search/?query=","https://bg.toolsworld.com/search/?query=613767"]
[613777,"Kerek hegyű lapát amerikai típusú, 215x285x1500 mm, fa lakkozott nyél, LUXE// Palisad",4431,"B","Active",{"$f":"VLOOKUP(A2452,[1]Sheet1!$A$1:$C$65512,3,FALSE)","v":4107},null,null,"No info","линк","https://bg.toolsworld.com/search/?query=","https://bg.toolsworld.com/search/?query=613777"]
[613787,"Négyszögű lapát, 230х285х1500 mm, fa lakkozott nyél, LUXE// Palisad",4466,"B","Active",{"$f":"VLOOKUP(A2453,[1]Sheet1!$A$1:$C$65512,3,FALSE)","v":3231},null,null,"No info","линк","https://bg.toolsworld.com/search/?query=","https://bg.toolsworld.com/search/?query=613787"]
[613797,"Széna villa 4 fogas, kovácsolt, 210x340x1260 mm, fa lakkozott nyél// Palisad",4983,"B","Active",{"$f":"VLOOKUP(A2454,[1]Sheet1!$A$1:$C$65512,3,FALSE)","v":905},null,null,"No info","линк","https://bg.toolsworld.com/search/?query=","https://bg.toolsworld.com/search/?query=613797"]
[613807,"Vas villa 4 fogas, kerti, kovácsolt, 195х295х1165 mm, fa lakkozott nyél// Palisad",4370,"B","Active",{"$f":"VLOOKUP(A2455,[1]Sheet1!$A$1:$C$65512,3,FALSE)","v":715},null,null,"No info","линк","https://bg.toolsworld.com/search/?query=","https://bg.toolsworld.com/search/?query=613807"]
[614028,"Kerek végu ásó, fém markolat, lekerekített//PALISAD",3710,"B","Active",{"$f":"VLOOKUP(A2456,[1]Sheet1!$A$1:$C$65512,3,FALSE)","v":766},null,null,"No info","линк","https://bg.toolsworld.com/search/?query=","https://bg.toolsworld.com/search/?query=614028"]
[614038,"Kerek végu ásó, fém markolat, élezett//PALISAD",2995,"B","Active",{"$f":"VLOOKUP(A2457,[1]Sheet1!$A$1:$C$65512,3,FALSE)","v":{"$error":"#N/A"}},null,null,"No info","линк","https://bg.toolsworld.com/search/?query=","https://bg.toolsworld.com/search/?query=614038"]
[614287,"Összecsukható kempinglapát, 150x200x253-620 mm, teljesen fém, tokban// Palisad",3258,"B","Active",{"$f":"VLOOKUP(A2458,[1]Sheet1!$A$1:$C$65512,3,FALSE)","v":{"$error":"#N/A"}},null,null,"No info","линк","https://bg.toolsworld.com/search/?query=","https://bg.toolsworld.com/search/?query=614287"]
[614288,"Sáncásó, összehajtható, 150 x 200mm//PALISAD",3431,"B","Active",{"$f":"VLOOKUP(A2459,[1]Sheet1!$A$1:$C$65512,3,FALSE)","v":438},null,null,"No info","линк","https://bg.toolsworld.com/search/?query=","https://bg.toolsworld.com/search/?query=614288"]
[614737,"Négyszögű lapát, 245x295x1150 mm, teljesen acél // Palisad",3737,"B","Active",{"$f":"VLOOKUP(A2460,[1]Sheet1!$A$1:$C$65512,3,FALSE)","v":502},null,null,"No info","линк","https://bg.toolsworld.com/search/?query=","https://bg.toolsworld.com/search/?query=614737"]
[614777,"Négyszögű lapát, 235x290x1150 mm, üvegszálas nyél// Palisad",4323,"B","Active",{"$f":"VLOOKUP(A2461,[1]Sheet1!$A$1:$C$65512,3,FALSE)","v":250},null,null,"No info","линк","https://bg.toolsworld.com/search/?query=","https://bg.toolsworld.com/search/?query=614777"]
[614798,"Kerek hegyű lapát, 210х290х1150 mm, fa lakkozott nyél// Palisad",3484,"B","Active",{"$f":"VLOOKUP(A2462,[1]Sheet1!$A$1:$C$65512,3,FALSE)","v":{"$error":"#N/A"}},null,null,"No info","линк","https://bg.toolsworld.com/search/?query=","https://bg.toolsworld.com/search/?query=614798"]
[614808,"Négyszögű lapát, 250х295х1150 mm, fa lakkozott nyél// Palisad",3619,"B","Active",{"$f":"VLOOKUP(A2463,[1]Sheet1!$A$1:$C$65512,3,FALSE)","v":35},null,null,"No info","линк","https://bg.toolsworld.com/search/?query=","https://bg.toolsworld.com/search/?query=614808"]
[615745,"Hólapát 360 x 380 mm, aluminum él, nyéllel// Россия",2531,"B","Active",{"$f":"VLOOKUP(A2464,[1]Sheet1!$A$1:$C$65512,3,FALSE)","v":{"$error":"#N/A"}},null,null,"No info","линк","https://bg.toolsworld.com/search/?query=","https://bg.toolsworld.com/search/?query=615745"]
[616537,"Teljesen acél fűnyíró, 450x1540 mm, 22 fog, LUXE// Palisad",3362,"B","Active",{"$f":"VLOOKUP(A2465,[1]Sheet1!$A$1:$C$65512,3,FALSE)","v":1321},null,null,"No info","линк","https://bg.toolsworld.com/search/?query=","https://bg.toolsworld.com/search/?query=616537"]
[616547,"Teljesen acél kapa, megerősített, 180х55х1520 mm, LUXE// Palisad",3448,"B","Active",{"$f":"VLOOKUP(A2466,[1]Sheet1!$A$1:$C$65512,3,FALSE)","v":436},null,null,"No info","линк","https://bg.toolsworld.com/search/?query=","https://bg.toolsworld.com/search/?query=616547"]
[617018,"Ventillátoros gereblye, 22 fog, nyél nélkül, infós// PALISAD",1601,"B","Active",{"$f":"VLOOKUP(A2467,[1]Sheet1!$A$1:$C$65512,3,FALSE)","v":716},null,null,"No info","линк","https://bg.toolsworld.com/search/?query=","https://bg.toolsworld.com/search/?query=617018"]
[617028,"Lombgereblye , 22 fogas, markolat nélkul//PALISAD",1290,"B","Active",{"$f":"VLOOKUP(A2468,[1]Sheet1!$A$1:$C$65512,3,FALSE)","v":{"$error":"#N/A"}},null,null,"No info","линк","https://bg.toolsworld.com/search/?query=","https://bg.toolsworld.com/search/?query=617028"]
[617207,"Acél gereblye, 350x1500 mm, 14 fog, teljesen fém, LUXE// Palisad",3413,"B","Active",{"$f":"VLOOKUP(A2469,[1]Sheet1!$A$1:$C$65512,3,FALSE)","v":23},null,null,"No info","линк","https://bg.toolsworld.com/search/?query=","https://bg.toolsworld.com/search/?query=617207"]
[617217,"Acél gereblye, 350x1500 mm, 14 egyenes fog, üvegszálas fogantyú, LUXE// Palisad",3875,"B","Active",{"$f":"VLOOKUP(A2470,[1]Sheet1!$A$1:$C$65512,3,FALSE)","v":{"$error":"#N/A"}},null,null,"No info","линк","https://bg.toolsworld.com/search/?query=","https://bg.toolsworld.com/search/?query=617217"]
[617558,"Gereblye 5 fogas, 90mm, fa nyél 340mm//PALISAD",819,"B","Active",{"$f":"VLOOKUP(A2471,[1]Sheet1!$A$1:$C$65512,3,FALSE)","v":244},null,null,"No info","линк","https://bg.toolsworld.com/search/?query=","https://bg.toolsworld.com/search/?query=617558"]
[617568,"Gereblye, 15 fogas, hosszabbítható fém nyél//PALISAD",2330,"B","Active",{"$f":"VLOOKUP(A2472,[1]Sheet1!$A$1:$C$65512,3,FALSE)","v":2446},null,null,"No info","линк","https://bg.toolsworld.com/search/?query=","https://bg.toolsworld.com/search/?query=617568"]
[617587,"Csavart gereblye, 6 fog, 120x390 mm, acél, fa nyél// Palisad",990,"B","Active",{"$f":"VLOOKUP(A2473,[1]Sheet1!$A$1:$C$65512,3,FALSE)","v":30},null,null,"No info","линк","https://bg.toolsworld.com/search/?query=","https://bg.toolsworld.com/search/?query=617587"]
[617617,"Gereblye csavart 8 fogú, 160x390 mm, acél, fa nyél// Palisad",1489,"B","Active",{"$f":"VLOOKUP(A2474,[1]Sheet1!$A$1:$C$65512,3,FALSE)","v":{"$error":"#N/A"}},null,null,"No info","линк","https://bg.toolsworld.com/search/?query=","https://bg.toolsworld.com/search/?query=617617"]
[617678,"Állítható lombgereblye 270-460mm nyél nélkul ,22 fogas//PALISAD",1318,"B","Active",{"$f":"VLOOKUP(A2475,[1]Sheet1!$A$1:$C$65512,3,FALSE)","v":" "},null,null,"No info","линк","https://bg.toolsworld.com/search/?query=","https://bg.toolsworld.com/search/?query=617678"]
[617707,"Acél lomb gereblye, 425 mm, 22 lapos fog, zománcozott, tengely nélkül, Palisad",861,"B","Active",{"$f":"VLOOKUP(A2476,[1]Sheet1!$A$1:$C$65512,3,FALSE)","v":675},null,null,"No info","линк","https://bg.toolsworld.com/search/?query=","https://bg.toolsworld.com/search/?query=617707"]
[617708,"Lombsepru nyél nélkul 22 fogas//PALISAD",861,"B","Active",{"$f":"VLOOKUP(A2477,[1]Sheet1!$A$1:$C$65512,3,FALSE)","v":{"$error":"#N/A"}},null,null,"No info","линк","https://bg.toolsworld.com/search/?query=","https://bg.toolsworld.com/search/?query=617708"]
[617718,"Állítható lombgereblye , 22 fogas fém markolat//PALISAD",3382,"B","Active",{"$f":"VLOOKUP(A2478,[1]Sheet1!$A$1:$C$65512,3,FALSE)","v":264},null,null,"No info",{"$f":"HYPERLINK(L2478,\"линк\")","v":"линк"},"https://bg.toolsworld.com/search/?query=","https://bg.toolsworld.com/search/?query=617718"]
[617767,"Acél gereblye, 370x1400 mm, csavart fogak, fa lakkozott nyél, LUXE// Palisad",3853,"B","Active",{"$f":"VLOOKUP(A2479,[1]Sheet1!$A$1:$C$65512,3,FALSE)","v":159},null,null,"No info","линк","https://bg.toolsworld.com/search/?query=","https://bg.toolsworld.com/search/?query=617767"]
[617778,"Gereblye, 5-fogas, 90 mm, védo borítás, gumírozott ergonómikus fogás// PALISAD",1106,"B","Active",{"$f":"VLOOKUP(A2480,[1]Sheet1!$A$1:$C$65512,3,FALSE)","v":{"$error":"#N/A"}},null,null,"No info","линк","https://bg.toolsworld.com/search/?query=","https://bg.toolsworld.com/search/?query=617778"]
[617947,"Acél gereblye, 350x1400 mm, 14 egyenes fog, fa lakkozott nyél, LUXE// Palisad",3431,"B","Active",{"$f":"VLOOKUP(A2481,[1]Sheet1!$A$1:$C$65512,3,FALSE)","v":247},null,null,"No info","линк","https://bg.toolsworld.com/search/?query=","https://bg.toolsworld.com/search/?query=617947"]
[620378,"Keskeny kislapát, muanyag nyéllel// Palisad",925,"B","Active",{"$f":"VLOOKUP(A2482,[1]Sheet1!$A$1:$C$65512,3,FALSE)","v":{"$error":"#N/A"}},null,null,"No info","линк","https://bg.toolsworld.com/search/?query=",{"$f":"CONCATENATE(K2482,A2482)","v":"https://bg.toolsworld.com/search/?query=620378"}]
[620388,"Ripper, 3 fogú, műanyag nyél// Palisad",963,"B","Active",{"$f":"VLOOKUP(A2483,[1]Sheet1!$A$1:$C$65512,3,FALSE)","v":837},null,null,"No info","линк","https://bg.toolsworld.com/search/?query=","https://bg.toolsworld.com/search/?query=620388"]
[620398,"Egyens Gereblye, 5-fog, muanyag nyéllel// Palisad",1148,"B","Active",{"$f":"VLOOKUP(A2484,[1]Sheet1!$A$1:$C$65512,3,FALSE)","v":120},null,null,"No info","линк","https://bg.toolsworld.com/search/?query=","https://bg.toolsworld.com/search/?query=620398"]
[620408,"Több funkciós kapa, \"szirom alakú + 3 fog\", muanyag nyéllel// Palisad",1216,"B","Active",{"$f":"VLOOKUP(A2485,[1]Sheet1!$A$1:$C$65512,3,FALSE)","v":316},null,null,"No info","линк","https://bg.toolsworld.com/search/?query=","https://bg.toolsworld.com/search/?query=620408"]
[620418,"Több funkciós kapa, \"trapéz + 3 fog\", muanyag nyéllel// Palisad",1320,"B","Active",{"$f":"VLOOKUP(A2486,[1]Sheet1!$A$1:$C$65512,3,FALSE)","v":84},null,null,"No info","линк","https://bg.toolsworld.com/search/?query=","https://bg.toolsworld.com/search/?query=620418"]
[620428,"Gyep gereblye kerkített fogak bumiburkolatú nyél//PALISAD",1261,"B","Active",{"$f":"VLOOKUP(A2487,[1]Sheet1!$A$1:$C$65512,3,FALSE)","v":972},null,null,"No info","линк","https://bg.toolsworld.com/search/?query=","https://bg.toolsworld.com/search/?query=620428"]
[620438,"Széles kislapát, hosszabbított muanyag nyéllel// Palisad",1399,"B","Active",{"$f":"VLOOKUP(A2488,[1]Sheet1!$A$1:$C$65512,3,FALSE)","v":{"$error":"#N/A"}},null,null,"No info","линк","https://bg.toolsworld.com/search/?query=","https://bg.toolsworld.com/search/?query=620438"]
[620458,"Talaj lazító, 3-fog,  hosszabbított, gumírozott nyél// PALISAD",1332,"B","Active",{"$f":"VLOOKUP(A2489,[1]Sheet1!$A$1:$C$65512,3,FALSE)","v":160},null,null,"No info","линк","https://bg.toolsworld.com/search/?query=","https://bg.toolsworld.com/search/?query=620458"]
[620468,"Egyenes gereblye, 5-fog, hosszabbított, gumírozott nyél// PALISAD",1599,"B","Active",{"$f":"VLOOKUP(A2490,[1]Sheet1!$A$1:$C$65512,3,FALSE)","v":{"$error":"#N/A"}},null,null,"No info","линк","https://bg.toolsworld.com/search/?query=","https://bg.toolsworld.com/search/?query=620468"]
[620478,"Több funkciós kapa, \"szirom alakú + 3 fog\",hosszabbított muanyag nyéllel// Palisad",1666,"B","Active",{"$f":"VLOOKUP(A2491,[1]Sheet1!$A$1:$C$65512,3,FALSE)","v":{"$error":"#N/A"}},null,null,"No info","линк","https://bg.toolsworld.com/search/?query=","https://bg.toolsworld.com/search/?query=620478"]
[620508,"Gyep gereblye, kerek fog, hosszabbított, gumírozott nyél// PALISAD",1383,"B","Active",{"$f":"VLOOKUP(A2492,[1]Sheet1!$A$1:$C$65512,3,FALSE)","v":276},null,null,"No info","линк","https://bg.toolsworld.com/search/?query=","https://bg.toolsworld.com/search/?query=620508"]
[620607,"Kerti simító, 85x335 mm, acél, gumírozott ergonomikus nyél, LSR1// Palisad",821,"B","Active",{"$f":"VLOOKUP(A2493,[1]Sheet1!$A$1:$C$65512,3,FALSE)","v":394},null,null,"No info","линк","https://bg.toolsworld.com/search/?query=","https://bg.toolsworld.com/search/?query=620607"]
[620617,"Gereblye 6 fogú, 110x300 mm, acél, gumírozott ergonomikus nyél, LSR1// Palisad",855,"B","Active",{"$f":"VLOOKUP(A2494,[1]Sheet1!$A$1:$C$65512,3,FALSE)","v":168},null,null,"No info","линк","https://bg.toolsworld.com/search/?query=","https://bg.toolsworld.com/search/?query=620617"]
[620627,"Dupla kapa, 75x300 mm, acél, gumírozott ergonomikus nyél, LSR1// Palisad",977,"B","Active",{"$f":"VLOOKUP(A2495,[1]Sheet1!$A$1:$C$65512,3,FALSE)","v":439},null,null,"No info","линк","https://bg.toolsworld.com/search/?query=","https://bg.toolsworld.com/search/?query=620627"]
[620637,"Kézi kultivátor, 3 fogas, 60x400 mm, acél, gumírozott ergonomikus nyél, LSR1// Palisad",729,"B","Active",{"$f":"VLOOKUP(A2496,[1]Sheet1!$A$1:$C$65512,3,FALSE)","v":66},null,null,"No info","линк","https://bg.toolsworld.com/search/?query=","https://bg.toolsworld.com/search/?query=620637"]
[620647,"Gyomirtó, 380 mm, acél, gumírozott ergonomikus nyél, LSR1// Palisad",709,"B","Active",{"$f":"VLOOKUP(A2497,[1]Sheet1!$A$1:$C$65512,3,FALSE)","v":140},null,null,"No info","линк","https://bg.toolsworld.com/search/?query=","https://bg.toolsworld.com/search/?query=620647"]
[622857,"Acél kapa, 120х70х1500 mm, teljesen fém, LUXE// Palisad",3279,"B","Active",{"$f":"VLOOKUP(A2498,[1]Sheet1!$A$1:$C$65512,3,FALSE)","v":320},null,null,"No info","линк","https://bg.toolsworld.com/search/?query=","https://bg.toolsworld.com/search/?query=622857"]
[622867,"Acél kapa, 160х120х1500 mm, üvegszálas nyél, LUXE// Palisad",3472,"B","Active",{"$f":"VLOOKUP(A2499,[1]Sheet1!$A$1:$C$65512,3,FALSE)","v":{"$error":"#N/A"}},null,null,"No info","линк","https://bg.toolsworld.com/search/?query=","https://bg.toolsworld.com/search/?query=622867"]
[623218,"Gazoló, védo borítás, gumírozott ergonómikus fogás// PALISAD",959,"B","Active",{"$f":"VLOOKUP(A2500,[1]Sheet1!$A$1:$C$65512,3,FALSE)","v":{"$error":"#N/A"}},null,null,"No info","линк","https://bg.toolsworld.com/search/?query=","https://bg.toolsworld.com/search/?query=623218"]
[623417,"Kombinált kapa, 75х380 mm, acél, fa nyél// Palisad",1295,"B","Active",{"$f":"VLOOKUP(A2501,[1]Sheet1!$A$1:$C$65512,3,FALSE)","v":101},null,null,"No info","линк","https://bg.toolsworld.com/search/?query=","https://bg.toolsworld.com/search/?query=623417"]
[623538,"Ötágú talaj lazító fa nyél 330mm// PALISAD",517,"B","Active",{"$f":"VLOOKUP(A2502,[1]Sheet1!$A$1:$C$65512,3,FALSE)","v":433},null,null,"No info","линк","https://bg.toolsworld.com/search/?query=","https://bg.toolsworld.com/search/?query=623538"]
[623758,"Földlazító, 3-fogas, védo borítás, gumírozott ergonómikus fogás// PALISAD",766,"B","Active",{"$f":"VLOOKUP(A2503,[1]Sheet1!$A$1:$C$65512,3,FALSE)","v":{"$error":"#N/A"}},null,null,"No info","линк","https://bg.toolsworld.com/search/?query=","https://bg.toolsworld.com/search/?query=623758"]
[623778,"Kombinált kapa, szirom, 3-fogas, védo borítás, gumírozott ergonómikus fogás// PALISAD",1311,"B","Active",{"$f":"VLOOKUP(A2504,[1]Sheet1!$A$1:$C$65512,3,FALSE)","v":{"$error":"#N/A"}},null,null,"No info","линк","https://bg.toolsworld.com/search/?query=","https://bg.toolsworld.com/search/?query=623778"]
[623858,"Kerti földlazító, 3-fogas, védo borítás, muanyag nyél//PALISAD",267,"B","Active",{"$f":"VLOOKUP(A2505,[1]Sheet1!$A$1:$C$65512,3,FALSE)","v":472},null,null,"No info","линк","https://bg.toolsworld.com/search/?query=","https://bg.toolsworld.com/search/?query=623858"]
[623868,"Fuszedo, védo borítás, muanyag nyél//PALISAD",303,"B","Active",{"$f":"VLOOKUP(A2506,[1]Sheet1!$A$1:$C$65512,3,FALSE)","v":213},null,null,"No info","линк","https://bg.toolsworld.com/search/?query=","https://bg.toolsworld.com/search/?query=623868"]
[623878,"ulteto villa, védo borítás, muanyag nyél//PALISAD",281,"B","Active",{"$f":"VLOOKUP(A2507,[1]Sheet1!$A$1:$C$65512,3,FALSE)","v":939},null,null,"No info","линк","https://bg.toolsworld.com/search/?query=","https://bg.toolsworld.com/search/?query=623878"]
[623888,"Kerti kapa, védo borítás, muanyag nyél//PALISAD",312,"B","Active",{"$f":"VLOOKUP(A2508,[1]Sheet1!$A$1:$C$65512,3,FALSE)","v":690},null,null,"No info","линк","https://bg.toolsworld.com/search/?query=","https://bg.toolsworld.com/search/?query=623888"]
[623908,"Műanyag széles simító, Nylon// Palisad",364,"B","Active",{"$f":"VLOOKUP(A2509,[1]Sheet1!$A$1:$C$65512,3,FALSE)","v":1016},null,null,"No info","линк","https://bg.toolsworld.com/search/?query=","https://bg.toolsworld.com/search/?query=623908"]
[623918,"Műanyag keskeny simító, Nylon// Palisad",336,"B","Active",{"$f":"VLOOKUP(A2510,[1]Sheet1!$A$1:$C$65512,3,FALSE)","v":1457},null,null,"No info","линк","https://bg.toolsworld.com/search/?query=","https://bg.toolsworld.com/search/?query=623918"]
[623928,"Műanyag hasadó, Nylon// Palisad",328,"B","Active",{"$f":"VLOOKUP(A2511,[1]Sheet1!$A$1:$C$65512,3,FALSE)","v":895},null,null,"No info","линк","https://bg.toolsworld.com/search/?query=","https://bg.toolsworld.com/search/?query=623928"]
[623938,"Műanyag gyomirtó villa, Nylon// Palisad",336,"B","Active",{"$f":"VLOOKUP(A2512,[1]Sheet1!$A$1:$C$65512,3,FALSE)","v":858},null,null,"No info","линк","https://bg.toolsworld.com/search/?query=","https://bg.toolsworld.com/search/?query=623938"]
[623948,"Műanyag kombinált kapa, Nylon// Palisad",947,"B","Active",{"$f":"VLOOKUP(A2513,[1]Sheet1!$A$1:$C$65512,3,FALSE)","v":467},null,null,"No info","линк","https://bg.toolsworld.com/search/?query=","https://bg.toolsworld.com/search/?query=623948"]
[623958,"Műanyag fűnyíró, Nylon// Palisad",597,"B","Active",{"$f":"VLOOKUP(A2514,[1]Sheet1!$A$1:$C$65512,3,FALSE)","v":1713},null,null,"No info","линк","https://bg.toolsworld.com/search/?query=","https://bg.toolsworld.com/search/?query=623958"]
[626068,"Ültetőkanál széles fa nyéllel 380mm// PALISAD",715,"B","Active",{"$f":"VLOOKUP(A2515,[1]Sheet1!$A$1:$C$65512,3,FALSE)","v":81},null,null,"No info","линк","https://bg.toolsworld.com/search/?query=","https://bg.toolsworld.com/search/?query=626068"]
[626098,"villás kapa szirom alakú 3 D-s és 3 fog, teljes fém// PALISAD",0,"B","Active",{"$f":"VLOOKUP(A2516,[1]Sheet1!$A$1:$C$65512,3,FALSE)","v":{"$error":"#N/A"}},null,null,"No info","линк","https://bg.toolsworld.com/search/?query=","https://bg.toolsworld.com/search/?query=626098"]
[626147,"Széles simító, 70x310 mm, acél, fa nyél// Palisad",601,"B","Active",{"$f":"VLOOKUP(A2517,[1]Sheet1!$A$1:$C$65512,3,FALSE)","v":229},null,null,"No info","линк","https://bg.toolsworld.com/search/?query=","https://bg.toolsworld.com/search/?query=626147"]
[626458,"Széles vakolókanál, védo borítás, gumírozott ergonómikus fogás// PALISAD",1165,"B","Active",{"$f":"VLOOKUP(A2518,[1]Sheet1!$A$1:$C$65512,3,FALSE)","v":{"$error":"#N/A"}},null,null,"No info","линк","https://bg.toolsworld.com/search/?query=","https://bg.toolsworld.com/search/?query=626458"]
[626478,"Vékony vakolókanál, védo borítás, gumírozott ergonómikus fogás// PALISAD",1102,"B","Active",{"$f":"VLOOKUP(A2519,[1]Sheet1!$A$1:$C$65512,3,FALSE)","v":{"$error":"#N/A"}},null,null,"No info","линк","https://bg.toolsworld.com/search/?query=","https://bg.toolsworld.com/search/?query=626478"]
[629018,"Kerti szerszámkészlet metszoolló, tömör alumíniumöntvény, 3 db, LUXE// Palisad",6005,"B","Active",{"$f":"VLOOKUP(A2520,[1]Sheet1!$A$1:$C$65512,3,FALSE)","v":106},null,null,"No info","линк","https://bg.toolsworld.com/search/?query=","https://bg.toolsworld.com/search/?query=629018"]
[629048,"Kerti szerszámkészlet metszővágóval, műanyag nyéllel, 3 darabos, STANDARD// Palisad",2216,"B","Active",{"$f":"VLOOKUP(A2521,[1]Sheet1!$A$1:$C$65512,3,FALSE)","v":64},null,null,"No info","линк","https://bg.toolsworld.com/search/?query=","https://bg.toolsworld.com/search/?query=629048"]
[629058,"Kerti szerszámkészlet, műanyag fogantyúk, 4 db, STANDARD// Palisad",1489,"B","Active",{"$f":"VLOOKUP(A2522,[1]Sheet1!$A$1:$C$65512,3,FALSE)","v":{"$error":"#N/A"}},null,null,"No info","линк","https://bg.toolsworld.com/search/?query=","https://bg.toolsworld.com/search/?query=629058"]
[629098,"Szobanövények ápolására szolgáló készlet, teljesen fém, 3 elemes, LUXE// Palisad",1036,"B","Active",{"$f":"VLOOKUP(A2523,[1]Sheet1!$A$1:$C$65512,3,FALSE)","v":224},null,null,"No info","линк","https://bg.toolsworld.com/search/?query=","https://bg.toolsworld.com/search/?query=629098"]
[629117,"Kerti szerszámkészlet, fa fogantyúk, 3 db// Palisad",7119,"B","Active",{"$f":"VLOOKUP(A2524,[1]Sheet1!$A$1:$C$65512,3,FALSE)","v":475},null,null,"No info","линк","https://bg.toolsworld.com/search/?query=","https://bg.toolsworld.com/search/?query=629117"]
[629127,"Kerti szerszámkészlet, muanyag fogantyúk, 6 db// Palisad",12082,"B","Active",{"$f":"VLOOKUP(A2525,[1]Sheet1!$A$1:$C$65512,3,FALSE)","v":398},null,null,"No info","линк","https://bg.toolsworld.com/search/?query=","https://bg.toolsworld.com/search/?query=629127"]
[630017,"Széles simító, 85х300 mm, acél, műanyag nyél// Palisad",731,"B","Active",{"$f":"VLOOKUP(A2526,[1]Sheet1!$A$1:$C$65512,3,FALSE)","v":2390},null,null,"No info","линк","https://bg.toolsworld.com/search/?query=","https://bg.toolsworld.com/search/?query=630017"]
[630018,"ulteto lapát, széles, gumírozott nyéllel, használható kombinálva: 63016, 63017//PALISAD",768,"B","Active",{"$f":"VLOOKUP(A2527,[1]Sheet1!$A$1:$C$65512,3,FALSE)","v":{"$error":"#N/A"}},null,null,"No info","линк","https://bg.toolsworld.com/search/?query=","https://bg.toolsworld.com/search/?query=630018"]
[630027,"Keskeny simító, 62х315 mm, acél, műanyag nyél// Palisad",709,"B","Active",{"$f":"VLOOKUP(A2528,[1]Sheet1!$A$1:$C$65512,3,FALSE)","v":920},null,null,"No info","линк","https://bg.toolsworld.com/search/?query=","https://bg.toolsworld.com/search/?query=630027"]
[630028,"ulteto lapát vékony gumírozott nyéllel//PALISAD",707,"B","Active",{"$f":"VLOOKUP(A2529,[1]Sheet1!$A$1:$C$65512,3,FALSE)","v":{"$error":"#N/A"}},null,null,"No info","линк","https://bg.toolsworld.com/search/?query=","https://bg.toolsworld.com/search/?query=630028"]
[630037,"Gereblye 5 fogú, 115x275 mm, acél, műanyag nyél// Palisad",731,"B","Active",{"$f":"VLOOKUP(A2530,[1]Sheet1!$A$1:$C$65512,3,FALSE)","v":1593},null,null,"No info","линк","https://bg.toolsworld.com/search/?query=","https://bg.toolsworld.com/search/?query=630037"]
[630038,"Gereblye, 5 fogas,115x280 mm gumírozott nyéllel, használható kombinálva: 63016, 63017//PALISAD",810,"B","Active",{"$f":"VLOOKUP(A2531,[1]Sheet1!$A$1:$C$65512,3,FALSE)","v":19},null,null,"No info","линк","https://bg.toolsworld.com/search/?query=","https://bg.toolsworld.com/search/?query=630038"]
[630057,"Kombinált kapa, 80х285 mm, acél, műanyag nyél// Palisad",755,"B","Active",{"$f":"VLOOKUP(A2532,[1]Sheet1!$A$1:$C$65512,3,FALSE)","v":2137},null,null,"No info","линк","https://bg.toolsworld.com/search/?query=","https://bg.toolsworld.com/search/?query=630057"]
[630058,"Kombinált kapa, 2 fogas, gumírozott - nyél, használható kombinálva: 63016, 63017//PALISAD",884,"B","Active",{"$f":"VLOOKUP(A2533,[1]Sheet1!$A$1:$C$65512,3,FALSE)","v":{"$error":"#N/A"}},null,null,"No info","линк","https://bg.toolsworld.com/search/?query=","https://bg.toolsworld.com/search/?query=630058"]
[630068,"Földlazító 3 fogas, gumírozott - nyél, használható kombinálva: 63016, 63017//PALISAD",749,"B","Active",{"$f":"VLOOKUP(A2534,[1]Sheet1!$A$1:$C$65512,3,FALSE)","v":967},null,null,"No info","линк","https://bg.toolsworld.com/search/?query=","https://bg.toolsworld.com/search/?query=630068"]
[630078,"Lombsepru, 9 fogas, gumírozott - nyél//PALISAD",784,"B","Active",{"$f":"VLOOKUP(A2535,[1]Sheet1!$A$1:$C$65512,3,FALSE)","v":{"$error":"#N/A"}},null,null,"No info","линк","https://bg.toolsworld.com/search/?query=","https://bg.toolsworld.com/search/?query=630078"]
[630087,"Kombinált kapa, 80х280 mm, acél, műanyag nyél// Palisad",790,"B","Active",{"$f":"VLOOKUP(A2536,[1]Sheet1!$A$1:$C$65512,3,FALSE)","v":3568},null,null,"No info","линк","https://bg.toolsworld.com/search/?query=","https://bg.toolsworld.com/search/?query=630087"]
[630088,"Kombinált kapa, trapéz és 3 fogas, gumírozott - nyél, használható kombinálva: 63016, 63017//PALISAD",925,"B","Active",{"$f":"VLOOKUP(A2537,[1]Sheet1!$A$1:$C$65512,3,FALSE)","v":{"$error":"#N/A"}},null,null,"No info","линк","https://bg.toolsworld.com/search/?query=","https://bg.toolsworld.com/search/?query=630088"]
[630098,"Gyökérszedo, gumírozott - nyél, használható kombinálva: 63016, 63017//PALISAD",721,"B","Active",{"$f":"VLOOKUP(A2538,[1]Sheet1!$A$1:$C$65512,3,FALSE)","v":1036},null,null,"No info","линк","https://bg.toolsworld.com/search/?query=","https://bg.toolsworld.com/search/?query=630098"]
[630108,"Trapéz kapa, gumírozott - nyél, használható kombinálva: 63016, 63017//PALISAD",743,"B","Active",{"$f":"VLOOKUP(A2539,[1]Sheet1!$A$1:$C$65512,3,FALSE)","v":659},null,null,"No info","линк","https://bg.toolsworld.com/search/?query=","https://bg.toolsworld.com/search/?query=630108"]
[630168,"Hosszabbító nyél 500mm//PALISAD",719,"B","Active",{"$f":"VLOOKUP(A2540,[1]Sheet1!$A$1:$C$65512,3,FALSE)","v":342},null,null,"No info","линк","https://bg.toolsworld.com/search/?query=","https://bg.toolsworld.com/search/?query=630168"]
[630178,"Hosszabbító nyél 800mm, használható kombinálva: 63001-63010//PALISAD",924,"B","Active",{"$f":"VLOOKUP(A2541,[1]Sheet1!$A$1:$C$65512,3,FALSE)","v":1825},null,null,"No info","линк","https://bg.toolsworld.com/search/?query=","https://bg.toolsworld.com/search/?query=630178"]
[630208,"Kerti szerszámkézlet 7 db (lombsepru, gazoló, 5-fogas gereblye, kapa, hosszabbított markolat szett)//PALISAD",3930,"B","Active",{"$f":"VLOOKUP(A2542,[1]Sheet1!$A$1:$C$65512,3,FALSE)","v":316},null,null,"No info",{"$f":"HYPERLINK(L2542,\"линк\")","v":"линк"},"https://bg.toolsworld.com/search/?query=","https://bg.toolsworld.com/search/?query=630208"]
[630218,"Kerti szerszámkészlet, műanyag, zselés fogantyúk, 3 db, NYLON SOFT// Palisad",3458,"B","Active",{"$f":"VLOOKUP(A2543,[1]Sheet1!$A$1:$C$65512,3,FALSE)","v":343},null,null,"No info","линк","https://bg.toolsworld.com/search/?query=","https://bg.toolsworld.com/search/?query=630218"]
[630438,"Szobanövény ápolási készlet, fa nyél, 3 db// Palisad",570,"B","Active",{"$f":"VLOOKUP(A2544,[1]Sheet1!$A$1:$C$65512,3,FALSE)","v":4497},null,null,"No info","линк","https://bg.toolsworld.com/search/?query=","https://bg.toolsworld.com/search/?query=630438"]
[635017,"Karosvilla, 4 fogas, kovácsolt, 190х295х1150 mm, teljesen fém// Palisad",4234,"B","Active",{"$f":"VLOOKUP(A2545,[1]Sheet1!$A$1:$C$65512,3,FALSE)","v":362},null,null,"No info","линк","https://bg.toolsworld.com/search/?query=","https://bg.toolsworld.com/search/?query=635017"]
[635047,"Karosvilla, 4 fogas, kovácsolt, 235х280х1150 mm, üvegszálas fogantyú// Palisad",4908,"B","Active",{"$f":"VLOOKUP(A2546,[1]Sheet1!$A$1:$C$65512,3,FALSE)","v":427},null,null,"No info","линк","https://bg.toolsworld.com/search/?query=",{"$f":"CONCATENATE(K2546,A2546)","v":"https://bg.toolsworld.com/search/?query=635047"}]
[638137,"Karosvilla, 9 ágú, kovácsolt, 235х355х1150 mm, fa lakkozott nyél// Palisad",8581,"B","Active",{"$f":"VLOOKUP(A2547,[1]Sheet1!$A$1:$C$65512,3,FALSE)","v":99},null,null,"No info","линк","https://bg.toolsworld.com/search/?query=","https://bg.toolsworld.com/search/?query=638137"]
[638147,"Vasvilla, 9 ágú, kovácsolt 235х355х1500 mm, kovácsolt, fa lakkozott nyél// Palisad",9068,"B","Active",{"$f":"VLOOKUP(A2548,[1]Sheet1!$A$1:$C$65512,3,FALSE)","v":47},null,null,"No info","линк","https://bg.toolsworld.com/search/?query=","https://bg.toolsworld.com/search/?query=638147"]
[644038,"Önzáró zsák 20l (30*30cm) kerti hulladékhoz// PALISAD",1228,"B","Active",{"$f":"VLOOKUP(A2549,[1]Sheet1!$A$1:$C$65512,3,FALSE)","v":68},null,null,"No info","линк","https://bg.toolsworld.com/search/?query=","https://bg.toolsworld.com/search/?query=644038"]
[644085,"Bambusz növény karó, színes, 40 cm, 25 db/db.// PALISAD",244,"B","Active",{"$f":"VLOOKUP(A2550,[1]Sheet1!$A$1:$C$65512,3,FALSE)","v":{"$error":"#N/A"}},null,null,"No info","линк","https://bg.toolsworld.com/search/?query=","https://bg.toolsworld.com/search/?query=644085"]
[644408,"Gyumölcs szedo,  tasakkal, belso átméro - 110 MM//PALISAD",817,"B","Active",{"$f":"VLOOKUP(A2551,[1]Sheet1!$A$1:$C$65512,3,FALSE)","v":687},null,null,"No info","линк","https://bg.toolsworld.com/search/?query=","https://bg.toolsworld.com/search/?query=644408"]
[644508,"Talajfúró 850 mm, csavaros//PALISAD",3509,"B","Active",{"$f":"VLOOKUP(A2552,[1]Sheet1!$A$1:$C$65512,3,FALSE)","v":500},null,null,"No info","линк","https://bg.toolsworld.com/search/?query=","https://bg.toolsworld.com/search/?query=644508"]
[644697,"Spiráltartó, magasság 0,8 m, 1 db, huzal átmérő 5 mm// Palisad",269,"B","Active",{"$f":"VLOOKUP(A2553,[1]Sheet1!$A$1:$C$65512,3,FALSE)","v":{"$error":"#N/A"}},null,null,"No info","линк","https://bg.toolsworld.com/search/?query=","https://bg.toolsworld.com/search/?query=644697"]
[644837,"Gyepszegély szalag, 10x900 cm, polipropilén, barna, Russia// Palisad",1552,"B","Active",{"$f":"VLOOKUP(A2554,[1]Sheet1!$A$1:$C$65512,3,FALSE)","v":{"$error":"#N/A"}},null,null,"No info","линк","https://bg.toolsworld.com/search/?query=","https://bg.toolsworld.com/search/?query=644837"]
[644857,"Gyepszegély szalag, 20x900 cm, polipropilén, barna, Russia// Palisad",3091,"B","Active",{"$f":"VLOOKUP(A2555,[1]Sheet1!$A$1:$C$65512,3,FALSE)","v":{"$error":"#N/A"}},null,null,"No info","линк","https://bg.toolsworld.com/search/?query=","https://bg.toolsworld.com/search/?query=644857"]
[644888,"Kötözo, huzalos, tekercs méret: 20 m// PALISAD",307,"B","Active",{"$f":"VLOOKUP(A2556,[1]Sheet1!$A$1:$C$65512,3,FALSE)","v":470},null,null,"No info","линк","https://bg.toolsworld.com/search/?query=","https://bg.toolsworld.com/search/?query=644888"]
[644898,"Kötözo, huzalos, tekercs méret: 30 m// PALISAD",330,"B","Active",{"$f":"VLOOKUP(A2557,[1]Sheet1!$A$1:$C$65512,3,FALSE)","v":1084},null,null,"No info","линк","https://bg.toolsworld.com/search/?query=","https://bg.toolsworld.com/search/?query=644898"]
[644938,"Kerti jelzotábla, 35 x 55 mm,  110 mm, 20 db.// PALISAD",470,"B","Active",{"$f":"VLOOKUP(A2558,[1]Sheet1!$A$1:$C$65512,3,FALSE)","v":361},null,null,"No info","линк","https://bg.toolsworld.com/search/?query=","https://bg.toolsworld.com/search/?query=644938"]
[644948,"Kerti gyors kötözo, 13 cm, muanyag, 50 db// PALISAD",476,"B","Active",{"$f":"VLOOKUP(A2559,[1]Sheet1!$A$1:$C$65512,3,FALSE)","v":{"$error":"#N/A"}},null,null,"No info","линк","https://bg.toolsworld.com/search/?query=","https://bg.toolsworld.com/search/?query=644948"]
[644988,"Gyeplevegozteto szandál// PALISAD",2932,"B","Active",{"$f":"VLOOKUP(A2560,[1]Sheet1!$A$1:$C$65512,3,FALSE)","v":205},null,null,"No info","линк","https://bg.toolsworld.com/search/?query=","https://bg.toolsworld.com/search/?query=644988"]
[647328,"Spriccelofej//PALISAD",175,"B","Active",{"$f":"VLOOKUP(A2561,[1]Sheet1!$A$1:$C$65512,3,FALSE)","v":514},null,null,"No info","линк","https://bg.toolsworld.com/search/?query=","https://bg.toolsworld.com/search/?query=647328"]
[647358,"Nyomós spriccelo 1,25l// PALISAD",589,"B","Active",{"$f":"VLOOKUP(A2562,[1]Sheet1!$A$1:$C$65512,3,FALSE)","v":" "},null,null,"No info","линк","https://bg.toolsworld.com/search/?query=","https://bg.toolsworld.com/search/?query=647358"]
[647368,"Kézi permetező, 1L, pumpával// Palisad",1193,"B","Active",{"$f":"VLOOKUP(A2563,[1]Sheet1!$A$1:$C$65512,3,FALSE)","v":379},null,null,"No info","линк","https://bg.toolsworld.com/search/?query=","https://bg.toolsworld.com/search/?query=647368"]
[647388,"Permetszóró flaska , 2l//PALISAD",1452,"B","Active",{"$f":"VLOOKUP(A2564,[1]Sheet1!$A$1:$C$65512,3,FALSE)","v":{"$error":"#N/A"}},null,null,"No info","линк","https://bg.toolsworld.com/search/?query=","https://bg.toolsworld.com/search/?query=647388"]
[647408,"Permetszóró flaska 5l//PALISAD",4105,"B","Active",{"$f":"VLOOKUP(A2565,[1]Sheet1!$A$1:$C$65512,3,FALSE)","v":" "},null,null,"No info","линк","https://bg.toolsworld.com/search/?query=","https://bg.toolsworld.com/search/?query=647408"]
[647508,"Permetszóró flaska 7L pumpával és csovel // PALISAD",6602,"B","Active",{"$f":"VLOOKUP(A2566,[1]Sheet1!$A$1:$C$65512,3,FALSE)","v":4936},null,null,"No info","линк","https://bg.toolsworld.com/search/?query=","https://bg.toolsworld.com/search/?query=647508"]
[651468,"Locsolófej + csatlakozással 3/4\"//PALISAD",1120,"B","Active",{"$f":"VLOOKUP(A2567,[1]Sheet1!$A$1:$C$65512,3,FALSE)","v":1867},null,null,"No info","линк","https://bg.toolsworld.com/search/?query=","https://bg.toolsworld.com/search/?query=651468"]
[651498,"Locsolófej, állítható, ergonómikus//PALISAD",979,"B","Active",{"$f":"VLOOKUP(A2568,[1]Sheet1!$A$1:$C$65512,3,FALSE)","v":{"$error":"#N/A"}},null,null,"No info","линк","https://bg.toolsworld.com/search/?query=","https://bg.toolsworld.com/search/?query=651498"]
[651618,"Locsolófej, 5 uzemmód//PALISAD//PALISAD",698,"B","Active",{"$f":"VLOOKUP(A2569,[1]Sheet1!$A$1:$C$65512,3,FALSE)","v":199},null,null,"No info","линк","https://bg.toolsworld.com/search/?query=","https://bg.toolsworld.com/search/?query=651618"]
[651768,"Tömlocsatlakoztató szett 1/2 \", 4 db//PALISAD//PALISAD",786,"B","Active",{"$f":"VLOOKUP(A2570,[1]Sheet1!$A$1:$C$65512,3,FALSE)","v":902},null,null,"No info","линк","https://bg.toolsworld.com/search/?query=","https://bg.toolsworld.com/search/?query=651768"]
[651778,"3/4-es tömlocsatlakoztató szett (8-uzemmódú locsoló, átalakító, 2 csatlakozó), 4 db//PALISAD",1768,"B","Active",{"$f":"VLOOKUP(A2571,[1]Sheet1!$A$1:$C$65512,3,FALSE)","v":405},null,null,"No info","линк","https://bg.toolsworld.com/search/?query=","https://bg.toolsworld.com/search/?query=651778"]
[651788,"Tömlocsatlakoztató szett 3/4 \", 4 db//PALISAD",1179,"B","Active",{"$f":"VLOOKUP(A2572,[1]Sheet1!$A$1:$C$65512,3,FALSE)","v":533},null,null,"No info","линк","https://bg.toolsworld.com/search/?query=","https://bg.toolsworld.com/search/?query=651788"]
[651798,"Tömlocsatlakoztató szett 3/4 \", 4 db//PALISAD",841,"B","Active",{"$f":"VLOOKUP(A2573,[1]Sheet1!$A$1:$C$65512,3,FALSE)","v":388},null,null,"No info","линк","https://bg.toolsworld.com/search/?query=","https://bg.toolsworld.com/search/?query=651798"]
[651828,"Állítható locsolófej //PALISAD",248,"B","Active",{"$f":"VLOOKUP(A2574,[1]Sheet1!$A$1:$C$65512,3,FALSE)","v":1917},null,null,"No info","линк","https://bg.toolsworld.com/search/?query=","https://bg.toolsworld.com/search/?query=651828"]
[652828,"Állítható locsolófej, sárgaréz //PALISAD",1387,"B","Active",{"$f":"VLOOKUP(A2575,[1]Sheet1!$A$1:$C$65512,3,FALSE)","v":23},null,null,"No info","линк","https://bg.toolsworld.com/search/?query=","https://bg.toolsworld.com/search/?query=652828"]
[654008,"Sprayer- sprinkler,8 modes, on a stand, with regulation// Palisad",1814,"B","Active",{"$f":"VLOOKUP(A2576,[1]Sheet1!$A$1:$C$65512,3,FALSE)","v":640},null,null,"No info","линк","https://bg.toolsworld.com/search/?query=","https://bg.toolsworld.com/search/?query=654008"]
[654018,"Spinnig Sprinkler with three arm, butterfly base// Palisad",2008,"B","Active",{"$f":"VLOOKUP(A2577,[1]Sheet1!$A$1:$C$65512,3,FALSE)","v":529},null,null,"No info","линк","https://bg.toolsworld.com/search/?query=","https://bg.toolsworld.com/search/?query=654018"]
[654028,"Impluse sprinkler, butterfly base, with regulation// Palisad",2073,"B","Active",{"$f":"VLOOKUP(A2578,[1]Sheet1!$A$1:$C$65512,3,FALSE)","v":202},null,null,"No info","линк","https://bg.toolsworld.com/search/?query=","https://bg.toolsworld.com/search/?query=654028"]
[654098,"Forgó szórófej 3 / 4 \", S. 180 sq. m, D 15 m//PALISAD",1377,"B","Active",{"$f":"VLOOKUP(A2579,[1]Sheet1!$A$1:$C$65512,3,FALSE)","v":587},null,null,"No info","линк","https://bg.toolsworld.com/search/?query=","https://bg.toolsworld.com/search/?query=654098"]
[654128,"Sárgaréz  esozteto , impulzus, állítható vízszintes szög. 26 m lövotáv//PALISAD",2877,"B","Active",{"$f":"VLOOKUP(A2580,[1]Sheet1!$A$1:$C$65512,3,FALSE)","v":846},null,null,"No info","линк","https://bg.toolsworld.com/search/?query=","https://bg.toolsworld.com/search/?query=654128"]
[654158,"Muanyag esozteto. 26 m lövotáv//PALISAD",975,"B","Active",{"$f":"VLOOKUP(A2581,[1]Sheet1!$A$1:$C$65512,3,FALSE)","v":803},null,null,"No info","линк","https://bg.toolsworld.com/search/?query=","https://bg.toolsworld.com/search/?query=654158"]
[654608,"Muanyag esozteto, forgó, 19 lyuk, muanyag rúd, D 3 / 4 \"//PALISAD",4087,"B","Active",{"$f":"VLOOKUP(A2582,[1]Sheet1!$A$1:$C$65512,3,FALSE)","v":" "},null,null,"No info","линк","https://bg.toolsworld.com/search/?query=","https://bg.toolsworld.com/search/?query=654608"]
[654638,"Esozteto, 5 módozat, állványon, fojtóval 1 / 2 \"//PALISAD",1586,"B","Active",{"$f":"VLOOKUP(A2583,[1]Sheet1!$A$1:$C$65512,3,FALSE)","v":993},null,null,"No info","линк","https://bg.toolsworld.com/search/?query=","https://bg.toolsworld.com/search/?query=654638"]
[654728,"Esozteto, leszúrható//PALISAD",387,"B","Active",{"$f":"VLOOKUP(A2584,[1]Sheet1!$A$1:$C$65512,3,FALSE)","v":1559},null,null,"No info","линк","https://bg.toolsworld.com/search/?query=","https://bg.toolsworld.com/search/?query=654728"]
[654878,"Állítható szögu univerzális öntözo (muanyag), LUXE// PALISAD",7461,"B","Active",{"$f":"VLOOKUP(A2585,[1]Sheet1!$A$1:$C$65512,3,FALSE)","v":271},null,null,"No info","линк","https://bg.toolsworld.com/search/?query=","https://bg.toolsworld.com/search/?query=654878"]
[657208,"Muanyag tömlovég belso csatlakozással 1/2 \"-3/4\"//PALISAD",130,"B","Active",{"$f":"VLOOKUP(A2586,[1]Sheet1!$A$1:$C$65512,3,FALSE)","v":{"$error":"#N/A"}},null,null,"No info","линк","https://bg.toolsworld.com/search/?query=","https://bg.toolsworld.com/search/?query=657208"]
[657258,"Muanyag tömlovég belso csatlakozással 3/4\"//PALISAD",100,"B","Active",{"$f":"VLOOKUP(A2587,[1]Sheet1!$A$1:$C$65512,3,FALSE)","v":2532},null,null,"No info","линк","https://bg.toolsworld.com/search/?query=","https://bg.toolsworld.com/search/?query=657258"]
[657308,"Muanyag tömlovég belso csatlakozással 1\"// PALISAD",114,"B","Active",{"$f":"VLOOKUP(A2588,[1]Sheet1!$A$1:$C$65512,3,FALSE)","v":743},null,null,"No info","линк","https://bg.toolsworld.com/search/?query=","https://bg.toolsworld.com/search/?query=657308"]
[657358,"Muanyag tömlovég belso csatlakozással 1/2 \"-3/4\" - 1//PALISAD",187,"B","Active",{"$f":"VLOOKUP(A2589,[1]Sheet1!$A$1:$C$65512,3,FALSE)","v":2940},null,null,"No info","линк","https://bg.toolsworld.com/search/?query=","https://bg.toolsworld.com/search/?query=657358"]
[657408,"Muanyag tömlovég belso csatlakozással 3/4\" - 1//PALISAD",173,"B","Active",{"$f":"VLOOKUP(A2590,[1]Sheet1!$A$1:$C$65512,3,FALSE)","v":{"$error":"#N/A"}},null,null,"No info","линк","https://bg.toolsworld.com/search/?query=","https://bg.toolsworld.com/search/?query=657408"]
[657508,"Muanyag adapter kulso csatlakozással 3/4 \"//PALISAD",96,"B","Active",{"$f":"VLOOKUP(A2591,[1]Sheet1!$A$1:$C$65512,3,FALSE)","v":1246},null,null,"No info","линк","https://bg.toolsworld.com/search/?query=","https://bg.toolsworld.com/search/?query=657508"]
[657558,"Muanyag csatlakozó adapter , 3 / 4 \"apa menet, tömlocsatlakozás 3 / 4\"//PALISAD",277,"B","Active",{"$f":"VLOOKUP(A2592,[1]Sheet1!$A$1:$C$65512,3,FALSE)","v":60},null,null,"No info","линк","https://bg.toolsworld.com/search/?query=","https://bg.toolsworld.com/search/?query=657558"]
[657608,"Muanyag adapter 3/4\" kulso szorítóval //PALISAD",470,"B","Active",{"$f":"VLOOKUP(A2593,[1]Sheet1!$A$1:$C$65512,3,FALSE)","v":1272},null,null,"No info","линк","https://bg.toolsworld.com/search/?query=","https://bg.toolsworld.com/search/?query=657608"]
[657618,"Adapter külső menettel 3/4\", LUXE// Palisad",212,"B","Active",{"$f":"VLOOKUP(A2594,[1]Sheet1!$A$1:$C$65512,3,FALSE)","v":668},null,null,"No info","линк","https://bg.toolsworld.com/search/?query=","https://bg.toolsworld.com/search/?query=657618"]
[657628,"Adapter anyamenetes 1/2\", LUXE// Palisad",242,"B","Active",{"$f":"VLOOKUP(A2595,[1]Sheet1!$A$1:$C$65512,3,FALSE)","v":1011},null,null,"No info","линк","https://bg.toolsworld.com/search/?query=","https://bg.toolsworld.com/search/?query=657628"]
[657638,"Adapter anyamenetes 3/4\", LUXE// Palisad",218,"B","Active",{"$f":"VLOOKUP(A2596,[1]Sheet1!$A$1:$C$65512,3,FALSE)","v":{"$error":"#N/A"}},null,null,"No info","линк","https://bg.toolsworld.com/search/?query=","https://bg.toolsworld.com/search/?query=657638"]
[657648,"Adapter anyamenetes 1\", LUXE// Palisad",273,"B","Active",{"$f":"VLOOKUP(A2597,[1]Sheet1!$A$1:$C$65512,3,FALSE)","v":790},null,null,"No info","линк","https://bg.toolsworld.com/search/?query=","https://bg.toolsworld.com/search/?query=657648"]
[657658,"2-utas csatolás, LUXE// Palisad",299,"B","Active",{"$f":"VLOOKUP(A2598,[1]Sheet1!$A$1:$C$65512,3,FALSE)","v":1207},null,null,"No info","линк","https://bg.toolsworld.com/search/?query=","https://bg.toolsworld.com/search/?query=657658"]
[657668,"3-utas tengelykapcsoló, LUXE// Palisad",310,"B","Active",{"$f":"VLOOKUP(A2599,[1]Sheet1!$A$1:$C$65512,3,FALSE)","v":1011},null,null,"No info","линк","https://bg.toolsworld.com/search/?query=","https://bg.toolsworld.com/search/?query=657668"]
[657678,"Érintse meg a csatlakozót a menet nélküli leágazásokhoz 1/2\", LUXE// Palisad",503,"B","Active",{"$f":"VLOOKUP(A2600,[1]Sheet1!$A$1:$C$65512,3,FALSE)","v":1523},null,null,"No info","линк","https://bg.toolsworld.com/search/?query=","https://bg.toolsworld.com/search/?query=657678"]
[657748,"Kétcsapos csatlakozó belső menettel 3/4\"-1\" LUXE// Palisad",1452,"B","Active",{"$f":"VLOOKUP(A2601,[1]Sheet1!$A$1:$C$65512,3,FALSE)","v":2228},null,null,"No info","линк","https://bg.toolsworld.com/search/?query=","https://bg.toolsworld.com/search/?query=657748"]
[657758,"Gyorscsatlakozó 3/4\", kétkomponensű, LUXE// Palisad",521,"B","Active",{"$f":"VLOOKUP(A2602,[1]Sheet1!$A$1:$C$65512,3,FALSE)","v":396},null,null,"No info","линк","https://bg.toolsworld.com/search/?query=","https://bg.toolsworld.com/search/?query=657758"]
[657768,"Gyorscsatlakozó 3/4\", aquastop, kétkomponensű, LUXE// Palisad",550,"B","Active",{"$f":"VLOOKUP(A2603,[1]Sheet1!$A$1:$C$65512,3,FALSE)","v":1698},null,null,"No info","линк","https://bg.toolsworld.com/search/?query=","https://bg.toolsworld.com/search/?query=657768"]
[657778,"Gyorscsatlakozó 1/2\", kétkomponensű, LUXE// Palisad",485,"B","Active",{"$f":"VLOOKUP(A2604,[1]Sheet1!$A$1:$C$65512,3,FALSE)","v":958},null,null,"No info","линк","https://bg.toolsworld.com/search/?query=","https://bg.toolsworld.com/search/?query=657778"]
[657788,"Gyorscsatlakozó 1/2\", aquastop, kétkomponensű, LUXE// Palisad",493,"B","Active",{"$f":"VLOOKUP(A2605,[1]Sheet1!$A$1:$C$65512,3,FALSE)","v":655},null,null,"No info","линк","https://bg.toolsworld.com/search/?query=","https://bg.toolsworld.com/search/?query=657788"]
[657828,"Gyorskioldó csapcsatlakozó kapcsolóval, LUXE// Palisad",762,"B","Active",{"$f":"VLOOKUP(A2606,[1]Sheet1!$A$1:$C$65512,3,FALSE)","v":2006},null,null,"No info",{"$f":"HYPERLINK(L2606,\"линк\")","v":"линк"},"https://bg.toolsworld.com/search/?query=","https://bg.toolsworld.com/search/?query=657828"]
[657838,"Univerzális adapter 1/2\"-1\" zsanérral, LUXE// Palisad",1092,"B","Active",{"$f":"VLOOKUP(A2607,[1]Sheet1!$A$1:$C$65512,3,FALSE)","v":2435},null,null,"No info","линк","https://bg.toolsworld.com/search/?query=","https://bg.toolsworld.com/search/?query=657838"]
[657848,"Tömlőjavító csatlakozó 1/2\"-3/4\", kétkomponensű, LUXE// Palisad",424,"B","Active",{"$f":"VLOOKUP(A2608,[1]Sheet1!$A$1:$C$65512,3,FALSE)","v":1658},null,null,"No info","линк","https://bg.toolsworld.com/search/?query=","https://bg.toolsworld.com/search/?query=657848"]
[657858,"Univerzális gyorscsatlakozó 1/2\"-1\" kapcsolóval, LUXE// Palisad",747,"B","Active",{"$f":"VLOOKUP(A2609,[1]Sheet1!$A$1:$C$65512,3,FALSE)","v":2189},null,null,"No info","линк","https://bg.toolsworld.com/search/?query=","https://bg.toolsworld.com/search/?query=657858"]
[657868,"Dual Tap Connector, belső menettel 3/4\"-1\", LUXE// Palisad",2193,"B","Active",{"$f":"VLOOKUP(A2610,[1]Sheet1!$A$1:$C$65512,3,FALSE)","v":1277},null,null,"No info","линк","https://bg.toolsworld.com/search/?query=",{"$f":"CONCATENATE(K2610,A2610)","v":"https://bg.toolsworld.com/search/?query=657868"}]
[657878,"4-utas csapcsatlakozó, belső menettel 3/4\"-1\", LUXE// Palisad",3635,"B","Active",{"$f":"VLOOKUP(A2611,[1]Sheet1!$A$1:$C$65512,3,FALSE)","v":1290},null,null,"No info","линк","https://bg.toolsworld.com/search/?query=","https://bg.toolsworld.com/search/?query=657878"]
[657888,"Tömlőjavító csatlakozó 1/2\", kétkomponensű, LUXE// Palisad",391,"B","Active",{"$f":"VLOOKUP(A2612,[1]Sheet1!$A$1:$C$65512,3,FALSE)","v":488},null,null,"No info","линк","https://bg.toolsworld.com/search/?query=","https://bg.toolsworld.com/search/?query=657888"]
[657898,"Tömlőjavító csatlakozó 3/4\", kétkomponensű, LUXE// Palisad",586,"B","Active",{"$f":"VLOOKUP(A2613,[1]Sheet1!$A$1:$C$65512,3,FALSE)","v":528},null,null,"No info","линк","https://bg.toolsworld.com/search/?query=","https://bg.toolsworld.com/search/?query=657898"]
[657908,"Javítási tengelykapcsoló 1/2\" - 3/4\", LUXE// Palisad",395,"B","Active",{"$f":"VLOOKUP(A2614,[1]Sheet1!$A$1:$C$65512,3,FALSE)","v":1368},null,null,"No info","линк","https://bg.toolsworld.com/search/?query=","https://bg.toolsworld.com/search/?query=657908"]
[657918,"Tömlőjavító csatlakozó adapterrel 3/4\"-1\", kétkomponensű, LUXE// Palisad",430,"B","Active",{"$f":"VLOOKUP(A2615,[1]Sheet1!$A$1:$C$65512,3,FALSE)","v":{"$error":"#N/A"}},null,null,"No info","линк","https://bg.toolsworld.com/search/?query=","https://bg.toolsworld.com/search/?query=657918"]
[657948,"Oszcilláló sprinkler, 19 fúvóka, öntözési zóna állítás, LUXE// Palisad",7471,"B","Active",{"$f":"VLOOKUP(A2616,[1]Sheet1!$A$1:$C$65512,3,FALSE)","v":327},null,null,"No info","линк","https://bg.toolsworld.com/search/?query=","https://bg.toolsworld.com/search/?query=657948"]
[657968,"Impulzus Sprinkler, 390m2, LUXE// Palisad",2102,"B","Active",{"$f":"VLOOKUP(A2617,[1]Sheet1!$A$1:$C$65512,3,FALSE)","v":290},null,null,"No info","линк","https://bg.toolsworld.com/search/?query=","https://bg.toolsworld.com/search/?query=657968"]
[657978,"Szórópisztoly, állítható, kioldóval, LUXE// Palisad",2411,"B","Active",{"$f":"VLOOKUP(A2618,[1]Sheet1!$A$1:$C$65512,3,FALSE)","v":102},null,null,"No info","линк","https://bg.toolsworld.com/search/?query=","https://bg.toolsworld.com/search/?query=657978"]
[657988,"Szórópisztoly, állítható, fém, kioldóval, LUXE// Palisad",3372,"B","Active",{"$f":"VLOOKUP(A2619,[1]Sheet1!$A$1:$C$65512,3,FALSE)","v":11},null,null,"No info","линк","https://bg.toolsworld.com/search/?query=","https://bg.toolsworld.com/search/?query=657988"]
[657998,"Szórópisztoly, 8 üzemmód, állítható, kioldóval, LUXE// Palisad",2655,"B","Active",{"$f":"VLOOKUP(A2620,[1]Sheet1!$A$1:$C$65512,3,FALSE)","v":{"$error":"#N/A"}},null,null,"No info","линк","https://bg.toolsworld.com/search/?query=","https://bg.toolsworld.com/search/?query=657998"]
[658008,"Szórópisztoly, 8 üzemmód, állítható, fém, kioldóval, LUXE// Palisad",3906,"B","Active",{"$f":"VLOOKUP(A2621,[1]Sheet1!$A$1:$C$65512,3,FALSE)","v":260},null,null,"No info","линк","https://bg.toolsworld.com/search/?query=","https://bg.toolsworld.com/search/?query=658008"]
[658018,"Lance Spray, 10 mód, alumínium rúd, 850 mm, LUXE// Palisad",2914,"B","Active",{"$f":"VLOOKUP(A2622,[1]Sheet1!$A$1:$C$65512,3,FALSE)","v":448},null,null,"No info","линк","https://bg.toolsworld.com/search/?query=","https://bg.toolsworld.com/search/?query=658018"]
[658028,"Lance Spray, 7 mód, alumínium rúd, 500 mm, forgófej, LUXE// Palisad",4942,"B","Active",{"$f":"VLOOKUP(A2623,[1]Sheet1!$A$1:$C$65512,3,FALSE)","v":534},null,null,"No info","линк","https://bg.toolsworld.com/search/?query=","https://bg.toolsworld.com/search/?query=658028"]
[658048,"Sprinkler-permetező, 8 üzemmód, állítható, súlyozott talp, LUXE// Palisad",2649,"B","Active",{"$f":"VLOOKUP(A2624,[1]Sheet1!$A$1:$C$65512,3,FALSE)","v":699},null,null,"No info","линк","https://bg.toolsworld.com/search/?query=","https://bg.toolsworld.com/search/?query=658048"]
[658058,"Sprinkler-permetező, 8 üzemmód, megnövelt alap, LUXE// Palisad",2877,"B","Active",{"$f":"VLOOKUP(A2625,[1]Sheet1!$A$1:$C$65512,3,FALSE)","v":471},null,null,"No info","линк","https://bg.toolsworld.com/search/?query=","https://bg.toolsworld.com/search/?query=658058"]
[658068,"Forgó locsoló, 3 lapátos, súlyozott talp, LUXE// Palisad",2808,"B","Active",{"$f":"VLOOKUP(A2626,[1]Sheet1!$A$1:$C$65512,3,FALSE)","v":536},null,null,"No info","линк","https://bg.toolsworld.com/search/?query=","https://bg.toolsworld.com/search/?query=658068"]
[658208,"Sárgaréz tömlovég belso csatlakozással 1/2\"- 3/4\"// PALISAD",825,"B","Active",{"$f":"VLOOKUP(A2627,[1]Sheet1!$A$1:$C$65512,3,FALSE)","v":1246},null,null,"No info","линк","https://bg.toolsworld.com/search/?query=","https://bg.toolsworld.com/search/?query=658208"]
[658258,"Sárgaréz tömlovég belso csatlakozással 3/4\"// PALISAD",513,"B","Active",{"$f":"VLOOKUP(A2628,[1]Sheet1!$A$1:$C$65512,3,FALSE)","v":" "},null,null,"No info","линк","https://bg.toolsworld.com/search/?query=","https://bg.toolsworld.com/search/?query=658258"]
[658308,"Sárgaréz tömlovég belso csatlakozással 1\"// PALISAD",648,"B","Active",{"$f":"VLOOKUP(A2629,[1]Sheet1!$A$1:$C$65512,3,FALSE)","v":" "},null,null,"No info","линк","https://bg.toolsworld.com/search/?query=","https://bg.toolsworld.com/search/?query=658308"]
[658408,"Sárgaréz tömlovég belso csatlakozással 3/4-1\"// PALISAD",1114,"B","Active",{"$f":"VLOOKUP(A2630,[1]Sheet1!$A$1:$C$65512,3,FALSE)","v":" "},null,null,"No info","линк","https://bg.toolsworld.com/search/?query=","https://bg.toolsworld.com/search/?query=658408"]
[658508,"Sárgaréz adapter kulso csatlakozással  3/4 \"// PALISAD",479,"B","Active",{"$f":"VLOOKUP(A2631,[1]Sheet1!$A$1:$C$65512,3,FALSE)","v":486},null,null,"No info","линк","https://bg.toolsworld.com/search/?query=","https://bg.toolsworld.com/search/?query=658508"]
[658518,"Sárgaréz adapter kulso csatlakozással 1\"// PALISAD",819,"B","Active",{"$f":"VLOOKUP(A2632,[1]Sheet1!$A$1:$C$65512,3,FALSE)","v":167},null,null,"No info","линк","https://bg.toolsworld.com/search/?query=","https://bg.toolsworld.com/search/?query=658518"]
[661358,"Muanyag gyorsan lecsatlakoztatható csatlakozás tömlohöz 1 / 2 \"//PALISAD",165,"B","Active",{"$f":"VLOOKUP(A2633,[1]Sheet1!$A$1:$C$65512,3,FALSE)","v":{"$error":"#N/A"}},null,null,"No info","линк","https://bg.toolsworld.com/search/?query=","https://bg.toolsworld.com/search/?query=661358"]
[661408,"Muanyag gyorsan lecsatlakoztatható csatlakozás tömlohöz 1 / 2 \", autostoppal//PALISAD",183,"B","Active",{"$f":"VLOOKUP(A2634,[1]Sheet1!$A$1:$C$65512,3,FALSE)","v":1324},null,null,"No info","линк","https://bg.toolsworld.com/search/?query=","https://bg.toolsworld.com/search/?query=661408"]
[661458,"Muanyag csatlakozó tömlohöz apa menettel 1 / 2 \"//PALISAD",157,"B","Active",{"$f":"VLOOKUP(A2635,[1]Sheet1!$A$1:$C$65512,3,FALSE)","v":1202},null,null,"No info","линк","https://bg.toolsworld.com/search/?query=","https://bg.toolsworld.com/search/?query=661458"]
[661558,"Muanyag gyorsan lecsatlakoztatható csatlakozás, belso menet 3 / 4 \"//PALISAD",165,"B","Active",{"$f":"VLOOKUP(A2636,[1]Sheet1!$A$1:$C$65512,3,FALSE)","v":716},null,null,"No info","линк","https://bg.toolsworld.com/search/?query=","https://bg.toolsworld.com/search/?query=661558"]
[661608,"Muanyag gyorsan lecsatlakoztatható csatlakozás tömlohöz 3 / 4 \"//PALISAD",210,"B","Active",{"$f":"VLOOKUP(A2637,[1]Sheet1!$A$1:$C$65512,3,FALSE)","v":" "},null,null,"No info","линк","https://bg.toolsworld.com/search/?query=","https://bg.toolsworld.com/search/?query=661608"]
[661658,"Muanyag gyorsan lecsatlakoztatható csatlakozás tömlohöz 3 / 4 \", autostoppal//PALISAD",220,"B","Active",{"$f":"VLOOKUP(A2638,[1]Sheet1!$A$1:$C$65512,3,FALSE)","v":2089},null,null,"No info","линк","https://bg.toolsworld.com/search/?query=","https://bg.toolsworld.com/search/?query=661658"]
[661708,"Muanyag gyorsan lecsatlakoztatható csatlakozás, belso menet 3 / 4 \", autostoppal//PALISAD",183,"B","Active",{"$f":"VLOOKUP(A2639,[1]Sheet1!$A$1:$C$65512,3,FALSE)","v":825},null,null,"No info","линк","https://bg.toolsworld.com/search/?query=","https://bg.toolsworld.com/search/?query=661708"]
[661758,"Muanyag gyorsan lecsatlakoztatható csatlakozás, apa menet 3 / 4 \"//PALISAD",165,"B","Active",{"$f":"VLOOKUP(A2640,[1]Sheet1!$A$1:$C$65512,3,FALSE)","v":747},null,null,"No info","линк","https://bg.toolsworld.com/search/?query=","https://bg.toolsworld.com/search/?query=661758"]
[661808,"Muanyag adapter 3/4\" apa menet, adapter csatlakozás//PALISAD",94,"B","Active",{"$f":"VLOOKUP(A2641,[1]Sheet1!$A$1:$C$65512,3,FALSE)","v":1152},null,null,"No info","линк","https://bg.toolsworld.com/search/?query=","https://bg.toolsworld.com/search/?query=661808"]
[661908,"Locsolás idozíto, max. 2 óra, mechanikus//PALISAD",3338,"B","Active",{"$f":"VLOOKUP(A2642,[1]Sheet1!$A$1:$C$65512,3,FALSE)","v":{"$error":"#N/A"}},null,null,"No info","линк","https://bg.toolsworld.com/search/?query=","https://bg.toolsworld.com/search/?query=661908"]
[662108,"Tömlocsatlakoztató szett 1/2 \" (osztóegység és 2 csatlakozó), bronz,3 db // PALISAD",2947,"B","Active",{"$f":"VLOOKUP(A2643,[1]Sheet1!$A$1:$C$65512,3,FALSE)","v":113},null,null,"No info","линк","https://bg.toolsworld.com/search/?query=","https://bg.toolsworld.com/search/?query=662108"]
[662408,"Sárgaréz csatlakozó tömlokhöz, gyorsan lecsatlakoztatható 1 / 2 \", autostoppal// PALISAD",1311,"B","Active",{"$f":"VLOOKUP(A2644,[1]Sheet1!$A$1:$C$65512,3,FALSE)","v":810},null,null,"No info","линк","https://bg.toolsworld.com/search/?query=","https://bg.toolsworld.com/search/?query=662408"]
[662418,"Univerzális csatlakozó 3/4 \"// PALISAD LUXE",1069,"B","Active",{"$f":"VLOOKUP(A2645,[1]Sheet1!$A$1:$C$65512,3,FALSE)","v":332},null,null,"No info","линк","https://bg.toolsworld.com/search/?query=","https://bg.toolsworld.com/search/?query=662418"]
[662428,"Univerzális vízmegállító csatlakozó 3 / 4 \" zárral és TRP-vel// PALISAD LUXE",943,"B","Active",{"$f":"VLOOKUP(A2646,[1]Sheet1!$A$1:$C$65512,3,FALSE)","v":107},null,null,"No info","линк","https://bg.toolsworld.com/search/?query=","https://bg.toolsworld.com/search/?query=662428"]
[662438,"Vízmegállító csatlakozó 1/2 zárral és TRP-vel// PALISAD LUXE",947,"B","Active",{"$f":"VLOOKUP(A2647,[1]Sheet1!$A$1:$C$65512,3,FALSE)","v":{"$error":"#N/A"}},null,null,"No info","линк","https://bg.toolsworld.com/search/?query=","https://bg.toolsworld.com/search/?query=662438"]
[662448,"Csatlakozó 1/2 \"tömlohöz, aqua-stop, kétkomponensu // PALISAD LUXE",1010,"B","Active",{"$f":"VLOOKUP(A2648,[1]Sheet1!$A$1:$C$65512,3,FALSE)","v":447},null,null,"No info","линк","https://bg.toolsworld.com/search/?query=","https://bg.toolsworld.com/search/?query=662448"]
[662458,"Univerzális tömlo csatlakozó zárral & TPR LUXE// PALISAD",1173,"B","Active",{"$f":"VLOOKUP(A2649,[1]Sheet1!$A$1:$C$65512,3,FALSE)","v":296},null,null,"No info","линк","https://bg.toolsworld.com/search/?query=","https://bg.toolsworld.com/search/?query=662458"]
[662478,"Fojtócsatlakozó belsomenetes 1/2\"-3/4\" csatlakozóval, LUXE// PALISAD",1348,"B","Active",{"$f":"VLOOKUP(A2650,[1]Sheet1!$A$1:$C$65512,3,FALSE)","v":{"$error":"#N/A"}},null,null,"No info","линк","https://bg.toolsworld.com/search/?query=","https://bg.toolsworld.com/search/?query=662478"]
[662488,"Fojtócsatlakozó kapcsolóval, LUXE // PALISAD",1796,"B","Active",{"$f":"VLOOKUP(A2651,[1]Sheet1!$A$1:$C$65512,3,FALSE)","v":{"$error":"#N/A"}},null,null,"No info","линк","https://bg.toolsworld.com/search/?query=","https://bg.toolsworld.com/search/?query=662488"]
[662518,"Gyors kapcsoló csatlakozóval belsomenetes 1/2\"-3/4\", LUXE// PALISAD",1670,"B","Active",{"$f":"VLOOKUP(A2652,[1]Sheet1!$A$1:$C$65512,3,FALSE)","v":{"$error":"#N/A"}},null,null,"No info","линк","https://bg.toolsworld.com/search/?query=","https://bg.toolsworld.com/search/?query=662518"]
[662528,"Univerzális cstlakozó huvely 1/2\"-3/4\", LUXE// PALISAD",867,"B","Active",{"$f":"VLOOKUP(A2653,[1]Sheet1!$A$1:$C$65512,3,FALSE)","v":{"$error":"#N/A"}},null,null,"No info","линк","https://bg.toolsworld.com/search/?query=","https://bg.toolsworld.com/search/?query=662528"]
[662558,"Sárgaréz tömloelem, gyors csatlakozó, belso menet 3 / 4 \"// PALISAD",1151,"B","Active",{"$f":"VLOOKUP(A2654,[1]Sheet1!$A$1:$C$65512,3,FALSE)","v":" "},null,null,"No info","линк","https://bg.toolsworld.com/search/?query=","https://bg.toolsworld.com/search/?query=662558"]
[662608,"Sárgaréz tömloelem, gyorsan lecsatlakoztatható 3 / 4 \"// PALISAD",1690,"B","Active",{"$f":"VLOOKUP(A2655,[1]Sheet1!$A$1:$C$65512,3,FALSE)","v":140},null,null,"No info","линк","https://bg.toolsworld.com/search/?query=","https://bg.toolsworld.com/search/?query=662608"]
[662648,"Brass quick connector for 1/2\" hose// PALISAD",1126,"B","Active",{"$f":"VLOOKUP(A2656,[1]Sheet1!$A$1:$C$65512,3,FALSE)","v":{"$error":"#N/A"}},null,null,"No info","линк","https://bg.toolsworld.com/search/?query=","https://bg.toolsworld.com/search/?query=662648"]
[662658,"Sárgaréz tömloelem, gyorsan lecsatlakoztatható 3 / 4 \", autostoppal// PALISAD",1759,"B","Active",{"$f":"VLOOKUP(A2657,[1]Sheet1!$A$1:$C$65512,3,FALSE)","v":66},null,null,"No info","линк","https://bg.toolsworld.com/search/?query=","https://bg.toolsworld.com/search/?query=662658"]
[662708,"Réz gyors tömlo cstalakozó , 1/2\" anya menet// PALISAD",1171,"B","Active",{"$f":"VLOOKUP(A2658,[1]Sheet1!$A$1:$C$65512,3,FALSE)","v":{"$error":"#N/A"}},null,null,"No info","линк","https://bg.toolsworld.com/search/?query=","https://bg.toolsworld.com/search/?query=662708"]
[662728,"1/2\" réz csatlakozór, apa menet// PALISAD",479,"B","Active",{"$f":"VLOOKUP(A2659,[1]Sheet1!$A$1:$C$65512,3,FALSE)","v":" "},null,null,"No info","линк","https://bg.toolsworld.com/search/?query=","https://bg.toolsworld.com/search/?query=662728"]
[662758,"Sárgaréz tömloelem, gyorsan lecsatlakoztatható,  menet 3 / 4 \", D 3 / 4\"// PALISAD",1208,"B","Active",{"$f":"VLOOKUP(A2660,[1]Sheet1!$A$1:$C$65512,3,FALSE)","v":" "},null,null,"No info","линк","https://bg.toolsworld.com/search/?query=","https://bg.toolsworld.com/search/?query=662758"]
[664268,"Elosztó, 2 csatornás, állítható, szórófejes//PALISAD",513,"B","Active",{"$f":"VLOOKUP(A2661,[1]Sheet1!$A$1:$C$65512,3,FALSE)","v":25},null,null,"No info","линк","https://bg.toolsworld.com/search/?query=","https://bg.toolsworld.com/search/?query=664268"]
[664318,"Csatlakozó tömlohöz 1/2\" - 3/4\"// PALISAD",252,"B","Active",{"$f":"VLOOKUP(A2662,[1]Sheet1!$A$1:$C$65512,3,FALSE)","v":37},null,null,"No info","линк","https://bg.toolsworld.com/search/?query=","https://bg.toolsworld.com/search/?query=664318"]
[664338,"Csatlakozó tömlohöz 1\"// PALISAD",470,"B","Active",{"$f":"VLOOKUP(A2663,[1]Sheet1!$A$1:$C$65512,3,FALSE)","v":" "},null,null,"No info","линк","https://bg.toolsworld.com/search/?query=","https://bg.toolsworld.com/search/?query=664338"]
[664348,"Csatlakozó tömlohöz 3/4\"-1\"// PALISAD",297,"B","Active",{"$f":"VLOOKUP(A2664,[1]Sheet1!$A$1:$C$65512,3,FALSE)","v":" "},null,null,"No info","линк","https://bg.toolsworld.com/search/?query=","https://bg.toolsworld.com/search/?query=664348"]
[664358,"Javítóelem 1/2\"//PALISAD",151,"B","Active",{"$f":"VLOOKUP(A2665,[1]Sheet1!$A$1:$C$65512,3,FALSE)","v":4033},null,null,"No info","линк","https://bg.toolsworld.com/search/?query=","https://bg.toolsworld.com/search/?query=664358"]
[664368,"Javítóelem 1 / 2 \"// PALISAD LUXE",536,"B","Active",{"$f":"VLOOKUP(A2666,[1]Sheet1!$A$1:$C$65512,3,FALSE)","v":146},null,null,"No info","линк","https://bg.toolsworld.com/search/?query=","https://bg.toolsworld.com/search/?query=664368"]
[664378,"Javítóelem 3 / 4 \"// PALISAD LUXE",731,"B","Active",{"$f":"VLOOKUP(A2667,[1]Sheet1!$A$1:$C$65512,3,FALSE)","v":352},null,null,"No info","линк","https://bg.toolsworld.com/search/?query=","https://bg.toolsworld.com/search/?query=664378"]
[664418,"Javítóelem  3/4\"//PALISAD",183,"B","Active",{"$f":"VLOOKUP(A2668,[1]Sheet1!$A$1:$C$65512,3,FALSE)","v":{"$error":"#N/A"}},null,null,"No info","линк","https://bg.toolsworld.com/search/?query=","https://bg.toolsworld.com/search/?query=664418"]
[664658,"Adapter - csatlakozó, muanyag, tömloméret: 1/2\"",104,"B","Active",{"$f":"VLOOKUP(A2669,[1]Sheet1!$A$1:$C$65512,3,FALSE)","v":192},null,null,"No info","линк","https://bg.toolsworld.com/search/?query=","https://bg.toolsworld.com/search/?query=664658"]
[664688,"T-elosztó, folytás, tömloméret: 1 / 2 \", muanyag//PALISAD",159,"B","Active",{"$f":"VLOOKUP(A2670,[1]Sheet1!$A$1:$C$65512,3,FALSE)","v":2193},null,null,"No info",{"$f":"HYPERLINK(L2670,\"линк\")","v":"линк"},"https://bg.toolsworld.com/search/?query=","https://bg.toolsworld.com/search/?query=664688"]
[665238,"Elosztó, 2 csatornás, állítható, kulso and belso menet 3 / 4 \", sárgaréz// PALISAD",3250,"B","Active",{"$f":"VLOOKUP(A2671,[1]Sheet1!$A$1:$C$65512,3,FALSE)","v":364},null,null,"No info","линк","https://bg.toolsworld.com/search/?query=","https://bg.toolsworld.com/search/?query=665238"]
[665358,"Javítóelem, sárgaréz 1/2\"// PALISAD",1195,"B","Active",{"$f":"VLOOKUP(A2672,[1]Sheet1!$A$1:$C$65512,3,FALSE)","v":" "},null,null,"No info","линк","https://bg.toolsworld.com/search/?query=","https://bg.toolsworld.com/search/?query=665358"]
[665418,"Javítóelem, sárgaréz 3/4\"// PALISAD",1605,"B","Active",{"$f":"VLOOKUP(A2673,[1]Sheet1!$A$1:$C$65512,3,FALSE)","v":{"$error":"#N/A"}},null,null,"No info","линк","https://bg.toolsworld.com/search/?query=","https://bg.toolsworld.com/search/?query=665418"]
[665658,"Adapter - csatlakozó, sárgaréz, tömloméret: 1/2\"// PALISAD",601,"B","Active",{"$f":"VLOOKUP(A2674,[1]Sheet1!$A$1:$C$65512,3,FALSE)","v":520},null,null,"No info","линк","https://bg.toolsworld.com/search/?query=",{"$f":"CONCATENATE(K2674,A2674)","v":"https://bg.toolsworld.com/search/?query=665658"}]
[665688,"T-elosztó, folytás, sárgaréz, tömloméret: 1 / 2 \"// PALISAD",1328,"B","Active",{"$f":"VLOOKUP(A2675,[1]Sheet1!$A$1:$C$65512,3,FALSE)","v":432},null,null,"No info","линк","https://bg.toolsworld.com/search/?query=","https://bg.toolsworld.com/search/?query=665688"]
[671258,"Állítható egyszeru kerti zuhany, 3 részes//PALISAD",3553,"B","Active",{"$f":"VLOOKUP(A2676,[1]Sheet1!$A$1:$C$65512,3,FALSE)","v":{"$error":"#N/A"}},null,null,"No info","линк","https://bg.toolsworld.com/search/?query=","https://bg.toolsworld.com/search/?query=671258"]
[673526,"megerosített kerti locsoló tömlo  PVC 1/2\", 25m, \"Dachnik\"// Сибртех",5826,"B","Active",{"$f":"VLOOKUP(A2677,[1]Sheet1!$A$1:$C$65512,3,FALSE)","v":{"$error":"#N/A"}},null,null,"No info","линк","https://bg.toolsworld.com/search/?query=","https://bg.toolsworld.com/search/?query=673526"]
[673586,"megerosített kerti locsoló tömlo  PVC3/4\", 25m, \"Dachnik\"// Сибртех",18171,"B","Active",{"$f":"VLOOKUP(A2678,[1]Sheet1!$A$1:$C$65512,3,FALSE)","v":{"$error":"#N/A"}},null,null,"No info","линк","https://bg.toolsworld.com/search/?query=","https://bg.toolsworld.com/search/?query=673586"]
[674028,"Kerti tömlődob, 20 m// Palisad",6649,"B","Active",{"$f":"VLOOKUP(A2679,[1]Sheet1!$A$1:$C$65512,3,FALSE)","v":36},null,null,"No info","линк","https://bg.toolsworld.com/search/?query=","https://bg.toolsworld.com/search/?query=674028"]
[674038,"Kerti tömlőkocsi, 30 m// Palisad",8563,"B","Active",{"$f":"VLOOKUP(A2680,[1]Sheet1!$A$1:$C$65512,3,FALSE)","v":42},null,null,"No info","линк","https://bg.toolsworld.com/search/?query=","https://bg.toolsworld.com/search/?query=674038"]
[674058,"Slagcsörlo (45m) kerekekkel//PALISAD",9261,"B","Active",{"$f":"VLOOKUP(A2681,[1]Sheet1!$A$1:$C$65512,3,FALSE)","v":82},null,null,"No info","линк","https://bg.toolsworld.com/search/?query=","https://bg.toolsworld.com/search/?query=674058"]
[674128,"Spirál tömlo, 7,5 m x 10 mm, muanyag csatlakozók (adapter 1/2-3/4\" + Tömlofej)//PALISAD",3482,"B","Active",{"$f":"VLOOKUP(A2682,[1]Sheet1!$A$1:$C$65512,3,FALSE)","v":{"$error":"#N/A"}},null,null,"No info","линк","https://bg.toolsworld.com/search/?query=","https://bg.toolsworld.com/search/?query=674128"]
[674808,"PVC zöld kerti slag, megerosített  1/2\" 15m// PALISAD",0,"B","Active",{"$f":"VLOOKUP(A2683,[1]Sheet1!$A$1:$C$65512,3,FALSE)","v":{"$error":"#N/A"}},null,null,"No info","линк","https://bg.toolsworld.com/search/?query=","https://bg.toolsworld.com/search/?query=674808"]
[674988,"Háromcsöves csepego öntözotömlo, 7,5 m Palisad",1888,"B","Active",{"$f":"VLOOKUP(A2684,[1]Sheet1!$A$1:$C$65512,3,FALSE)","v":{"$error":"#N/A"}},null,null,"No info","линк","https://bg.toolsworld.com/search/?query=","https://bg.toolsworld.com/search/?query=674988"]
[674998,"Háromcsöves csepego öntözotömlo, 15 m Palisad",3533,"B","Active",{"$f":"VLOOKUP(A2685,[1]Sheet1!$A$1:$C$65512,3,FALSE)","v":495},null,null,"No info","линк","https://bg.toolsworld.com/search/?query=","https://bg.toolsworld.com/search/?query=674998"]
[675468,"Öntözőkészlet, megerősített hosszabbító tömlő 15m, 7 üzemmódú szórópisztoly, kon. adapter// Palisad",3297,"B","Active",{"$f":"VLOOKUP(A2686,[1]Sheet1!$A$1:$C$65512,3,FALSE)","v":" "},null,null,"No info","линк","https://bg.toolsworld.com/search/?query=","https://bg.toolsworld.com/search/?query=675468"]
[675680,"Megerositett kerti tomolo 1/2\", 15м // PALISAD",2415,"B","Active",{"$f":"VLOOKUP(A2687,[1]Sheet1!$A$1:$C$65512,3,FALSE)","v":1417},null,null,"No info","линк","https://bg.toolsworld.com/search/?query=","https://bg.toolsworld.com/search/?query=675680"]
[675690,"Megerositett kerti tomolo 1/2\", 20m",3195,"B","Active",{"$f":"VLOOKUP(A2688,[1]Sheet1!$A$1:$C$65512,3,FALSE)","v":1123},null,null,"No info","линк","https://bg.toolsworld.com/search/?query=","https://bg.toolsworld.com/search/?query=675690"]
[675700,"Megerositett kerti tomolo 1/2\", 30m",4519,"B","Active",{"$f":"VLOOKUP(A2689,[1]Sheet1!$A$1:$C$65512,3,FALSE)","v":2154},null,null,"No info","линк","https://bg.toolsworld.com/search/?query=","https://bg.toolsworld.com/search/?query=675700"]
[675719,"PVC tömlő 1/2\", 10 m, drótpáncélozott// Palisad",0,"B","Active",{"$f":"VLOOKUP(A2690,[1]Sheet1!$A$1:$C$65512,3,FALSE)","v":{"$error":"#N/A"}},null,null,"No info","линк","https://bg.toolsworld.com/search/?query=","https://bg.toolsworld.com/search/?query=675719"]
[675730,"Megerositett kerti tomolo  1/2\", 50м // PALISAD",7514,"B","Active",{"$f":"VLOOKUP(A2691,[1]Sheet1!$A$1:$C$65512,3,FALSE)","v":236},null,null,"No info","линк","https://bg.toolsworld.com/search/?query=","https://bg.toolsworld.com/search/?query=675730"]
[675739,"PVC hose 1/2\", 30 m, wire-armored// Palisad",5789,"B","Active",{"$f":"VLOOKUP(A2692,[1]Sheet1!$A$1:$C$65512,3,FALSE)","v":{"$error":"#N/A"}},null,null,"No info","линк","https://bg.toolsworld.com/search/?query=","https://bg.toolsworld.com/search/?query=675739"]
[675740,"Megerositett kerti tomolo 3/4\", 15м // Palisad",3885,"B","Active",{"$f":"VLOOKUP(A2693,[1]Sheet1!$A$1:$C$65512,3,FALSE)","v":663},null,null,"No info","линк","https://bg.toolsworld.com/search/?query=","https://bg.toolsworld.com/search/?query=675740"]
[675750,"Megerositett kerti tomolo 3/4\", 20m",5111,"B","Active",{"$f":"VLOOKUP(A2694,[1]Sheet1!$A$1:$C$65512,3,FALSE)","v":2156},null,null,"No info","линк","https://bg.toolsworld.com/search/?query=","https://bg.toolsworld.com/search/?query=675750"]
[675759,"PVC hose 1/2\", 50 m, wire-armored// Palisad",9025,"B","Active",{"$f":"VLOOKUP(A2695,[1]Sheet1!$A$1:$C$65512,3,FALSE)","v":{"$error":"#N/A"}},null,null,"No info","линк","https://bg.toolsworld.com/search/?query=","https://bg.toolsworld.com/search/?query=675759"]
[675760,"Megerositett kerti tomolo 3/4\", 30м // Palisad",7563,"B","Active",{"$f":"VLOOKUP(A2696,[1]Sheet1!$A$1:$C$65512,3,FALSE)","v":137},null,null,"No info","линк","https://bg.toolsworld.com/search/?query=","https://bg.toolsworld.com/search/?query=675760"]
[675767,"Erosített kerti tomlo 1/2\", 20 m, 6 retegu, ftalat mentes, kek, Luxe// Palisad",7590,"B","Active",{"$f":"VLOOKUP(A2697,[1]Sheet1!$A$1:$C$65512,3,FALSE)","v":311},null,null,"No info","линк","https://bg.toolsworld.com/search/?query=","https://bg.toolsworld.com/search/?query=675767"]
[675770,"Megerositett kerti tomolo 3/4\", 50м // Palisad",11962,"B","Active",{"$f":"VLOOKUP(A2698,[1]Sheet1!$A$1:$C$65512,3,FALSE)","v":802},null,null,"No info","линк","https://bg.toolsworld.com/search/?query=","https://bg.toolsworld.com/search/?query=675770"]
[675777,"Erosített kerti tomlo 1/2\", 30 m, 6 retegu, ftalatmentes, kek, Luxe// Palisad",11381,"B","Active",{"$f":"VLOOKUP(A2699,[1]Sheet1!$A$1:$C$65512,3,FALSE)","v":140},null,null,"No info","линк","https://bg.toolsworld.com/search/?query=","https://bg.toolsworld.com/search/?query=675777"]
[675787,"Erosített kerti tomlo 1/2\", 50 m, 6 retegu, ftalat mentes, kek, Luxe// Palisad",18965,"B","Active",{"$f":"VLOOKUP(A2700,[1]Sheet1!$A$1:$C$65512,3,FALSE)","v":218},null,null,"No info","линк","https://bg.toolsworld.com/search/?query=","https://bg.toolsworld.com/search/?query=675787"]
[675797,"Erosített kerti tomlo 3/4\", 20 m, 6 retegu, ftalat mentes, kek, Luxe// Palisad",12357,"B","Active",{"$f":"VLOOKUP(A2701,[1]Sheet1!$A$1:$C$65512,3,FALSE)","v":160},null,null,"No info","линк","https://bg.toolsworld.com/search/?query=","https://bg.toolsworld.com/search/?query=675797"]
[675807,"Erosített kerti tomlo 3/4\", 30 m, 6 retegu, ftalatmentes, kek, Luxe// Palisad",17891,"B","Active",{"$f":"VLOOKUP(A2702,[1]Sheet1!$A$1:$C$65512,3,FALSE)","v":118},null,null,"No info","линк","https://bg.toolsworld.com/search/?query=","https://bg.toolsworld.com/search/?query=675807"]
[675817,"Erosített kerti tomlo 3/4\", 50 m, 6 retegu, ftalat mentes, kek, Luxe// Palisad",29810,"B","Active",{"$f":"VLOOKUP(A2703,[1]Sheet1!$A$1:$C$65512,3,FALSE)","v":61},null,null,"No info","линк","https://bg.toolsworld.com/search/?query=","https://bg.toolsworld.com/search/?query=675817"]
[675880,"megerosített Locsoló tömlo 1\", 25m// Palisad",12907,"B","Active",{"$f":"VLOOKUP(A2704,[1]Sheet1!$A$1:$C$65512,3,FALSE)","v":477},null,null,"No info","линк","https://bg.toolsworld.com/search/?query=","https://bg.toolsworld.com/search/?query=675880"]
[676788,"Permetező készlet, polietilén tömlő, hossza 9 m, fúvókák 9 db// Palisad",5213,"B","Active",{"$f":"VLOOKUP(A2705,[1]Sheet1!$A$1:$C$65512,3,FALSE)","v":146},null,null,"No info","линк","https://bg.toolsworld.com/search/?query=","https://bg.toolsworld.com/search/?query=676788"]
[676798,"Permetező készlet, polietilén tömlő, hossza 15 m, fúvókák 15 db// Palisad",7754,"B","Active",{"$f":"VLOOKUP(A2706,[1]Sheet1!$A$1:$C$65512,3,FALSE)","v":74},null,null,"No info","линк","https://bg.toolsworld.com/search/?query=","https://bg.toolsworld.com/search/?query=676798"]
[676847,"Erosített kerti tomlo 1/2\", 20 m, 4 retegu, ftalat mentes, szurke// Palisad",3215,"B","Active",{"$f":"VLOOKUP(A2707,[1]Sheet1!$A$1:$C$65512,3,FALSE)","v":1281},null,null,"No info","линк","https://bg.toolsworld.com/search/?query=","https://bg.toolsworld.com/search/?query=676847"]
[676857,"Erosített kerti tomlo 1/2\", 30 m, 4 retegu, ftalat mentes, szurke// Palisad",4830,"B","Active",{"$f":"VLOOKUP(A2708,[1]Sheet1!$A$1:$C$65512,3,FALSE)","v":768},null,null,"No info","линк","https://bg.toolsworld.com/search/?query=","https://bg.toolsworld.com/search/?query=676857"]
[676867,"Erosített kerti tomlo 1/2\", 50 m, 4 retegu, ftalat mentes, szurke// Palisad",8015,"B","Active",{"$f":"VLOOKUP(A2709,[1]Sheet1!$A$1:$C$65512,3,FALSE)","v":579},null,null,"No info","линк","https://bg.toolsworld.com/search/?query=","https://bg.toolsworld.com/search/?query=676867"]
[676877,"Erоsitett ontozotomlo 3/4\", 20 m, 4 retegu, ftalatmentes, szurke// Palisad",7331,"B","Active",{"$f":"VLOOKUP(A2710,[1]Sheet1!$A$1:$C$65512,3,FALSE)","v":458},null,null,"No info","линк","https://bg.toolsworld.com/search/?query=","https://bg.toolsworld.com/search/?query=676877"]
[676887,"Erosített kerti tomlo 3/4\", 30 m, 4 retegu, ftalat mentes, szurke// Palisad",9512,"B","Active",{"$f":"VLOOKUP(A2711,[1]Sheet1!$A$1:$C$65512,3,FALSE)","v":334},null,null,"No info","линк","https://bg.toolsworld.com/search/?query=","https://bg.toolsworld.com/search/?query=676887"]
[676897,"Erositett ontozotomlo 3/4\", 50 m, 4 retegu, ftalatmentes, szurke// Palisad",16930,"B","Active",{"$f":"VLOOKUP(A2712,[1]Sheet1!$A$1:$C$65512,3,FALSE)","v":153},null,null,"No info","линк","https://bg.toolsworld.com/search/?query=","https://bg.toolsworld.com/search/?query=676897"]
[676907,"Megerositett ontozotomlo 1/2\", 20 m, 4 retegu, ftalatmentes, fekete// Palisad",4857,"B","Active",{"$f":"VLOOKUP(A2713,[1]Sheet1!$A$1:$C$65512,3,FALSE)","v":865},null,null,"No info","линк","https://bg.toolsworld.com/search/?query=","https://bg.toolsworld.com/search/?query=676907"]
[676917,"Megerositett ontozotomlo 1/2\", 30 m, 4 retegu, ftalatmentes, fekete// Palisad",7284,"B","Active",{"$f":"VLOOKUP(A2714,[1]Sheet1!$A$1:$C$65512,3,FALSE)","v":769},null,null,"No info","линк","https://bg.toolsworld.com/search/?query=","https://bg.toolsworld.com/search/?query=676917"]
[676927,"Erositett kerti tomlo 1/2\", 50 m, 4 retegu, ftalat mentes, fekete// Palisad",11049,"B","Active",{"$f":"VLOOKUP(A2715,[1]Sheet1!$A$1:$C$65512,3,FALSE)","v":254},null,null,"No info","линк","https://bg.toolsworld.com/search/?query=","https://bg.toolsworld.com/search/?query=676927"]
[676937,"Erositett ontozotomlo 3/4\", 20 m, 4 retegu, ftalatmentes, fekete// Palisad",7455,"B","Active",{"$f":"VLOOKUP(A2716,[1]Sheet1!$A$1:$C$65512,3,FALSE)","v":310},null,null,"No info","линк","https://bg.toolsworld.com/search/?query=","https://bg.toolsworld.com/search/?query=676937"]
[676947,"Erositett kerti tomlo 3/4\", 30 m, 4 retegu, ftalat mentes, fekete// Palisad",10662,"B","Active",{"$f":"VLOOKUP(A2717,[1]Sheet1!$A$1:$C$65512,3,FALSE)","v":393},null,null,"No info","линк","https://bg.toolsworld.com/search/?query=","https://bg.toolsworld.com/search/?query=676947"]
[676957,"Erosített kerti tomlo 3/4\", 50 m, 4 retegu, ftalatmentes, fekete// Palisad",17769,"B","Active",{"$f":"VLOOKUP(A2718,[1]Sheet1!$A$1:$C$65512,3,FALSE)","v":161},null,null,"No info","линк","https://bg.toolsworld.com/search/?query=","https://bg.toolsworld.com/search/?query=676957"]
[677628,"Kerti pamut kesztyu, PVC pöttyök on palm and fingers, knitted wrist, M// PALISAD",452,"B","Active",{"$f":"VLOOKUP(A2719,[1]Sheet1!$A$1:$C$65512,3,FALSE)","v":{"$error":"#N/A"}},null,null,"No info","линк","https://bg.toolsworld.com/search/?query=","https://bg.toolsworld.com/search/?query=677628"]
[684128,"Fa nyél, 32x1200 mm, bükk, EFP// Palisad",1603,"B","Active",{"$f":"VLOOKUP(A2720,[1]Sheet1!$A$1:$C$65512,3,FALSE)","v":1480},null,null,"No info","линк","https://bg.toolsworld.com/search/?query=","https://bg.toolsworld.com/search/?query=684128"]
[684148,"Fa nyél, 25x1200 mm, bükk, EFP// Palisad",1224,"B","Active",{"$f":"VLOOKUP(A2721,[1]Sheet1!$A$1:$C$65512,3,FALSE)","v":1977},null,null,"No info","линк","https://bg.toolsworld.com/search/?query=","https://bg.toolsworld.com/search/?query=684148"]
[684158,"Fa nyél, 30x1200 mm, bükk, EFP// Palisad",1584,"B","Active",{"$f":"VLOOKUP(A2722,[1]Sheet1!$A$1:$C$65512,3,FALSE)","v":2199},null,null,"No info","линк","https://bg.toolsworld.com/search/?query=","https://bg.toolsworld.com/search/?query=684158"]
[684258,"Fa nyél, 40x1200 mm, bükk, EFP// Palisad",1878,"B","Active",{"$f":"VLOOKUP(A2723,[1]Sheet1!$A$1:$C$65512,3,FALSE)","v":1934},null,null,"No info","линк","https://bg.toolsworld.com/search/?query=","https://bg.toolsworld.com/search/?query=684258"]
[684265,"Műanyag fogantyú V-alakú, D 36 mm, RUSSIA// Сибртех",138,"B","Active",{"$f":"VLOOKUP(A2724,[1]Sheet1!$A$1:$C$65512,3,FALSE)","v":148},null,null,"No info","линк","https://bg.toolsworld.com/search/?query=","https://bg.toolsworld.com/search/?query=684265"]
[687017,"Háztartási kerék, D 50 mm// MTX",183,"B","Active",{"$f":"VLOOKUP(A2725,[1]Sheet1!$A$1:$C$65512,3,FALSE)","v":57},null,null,"No info","линк","https://bg.toolsworld.com/search/?query=","https://bg.toolsworld.com/search/?query=687017"]
[687027,"Háztartási kerék, D 75 mm// MTX",364,"B","Active",{"$f":"VLOOKUP(A2726,[1]Sheet1!$A$1:$C$65512,3,FALSE)","v":91},null,null,"No info","линк","https://bg.toolsworld.com/search/?query=","https://bg.toolsworld.com/search/?query=687027"]
[687037,"Háztartási kerék, D 100 mm// MTX",774,"B","Active",{"$f":"VLOOKUP(A2727,[1]Sheet1!$A$1:$C$65512,3,FALSE)","v":912},null,null,"No info","линк","https://bg.toolsworld.com/search/?query=","https://bg.toolsworld.com/search/?query=687037"]
[687047,"Görgo  konténer alá D125mm//MTX",959,"B","Active",{"$f":"VLOOKUP(A2728,[1]Sheet1!$A$1:$C$65512,3,FALSE)","v":789},null,null,"No info","линк","https://bg.toolsworld.com/search/?query=","https://bg.toolsworld.com/search/?query=687047"]
[687067,"Görgo  konténer alá D 200mm//MTX",2570,"B","Active",{"$f":"VLOOKUP(A2729,[1]Sheet1!$A$1:$C$65512,3,FALSE)","v":92},null,null,"No info","линк","https://bg.toolsworld.com/search/?query=","https://bg.toolsworld.com/search/?query=687067"]
[687077,"Nem forgó kerék D 50 mm, platformrögzítés// MTX",474,"B","Active",{"$f":"VLOOKUP(A2730,[1]Sheet1!$A$1:$C$65512,3,FALSE)","v":445},null,null,"No info","линк","https://bg.toolsworld.com/search/?query=","https://bg.toolsworld.com/search/?query=687077"]
[687087,"Nem forgó kerék D 75 mm, platformrögzítés// MTX",1098,"B","Active",{"$f":"VLOOKUP(A2731,[1]Sheet1!$A$1:$C$65512,3,FALSE)","v":175},null,null,"No info","линк","https://bg.toolsworld.com/search/?query=","https://bg.toolsworld.com/search/?query=687087"]
[687097,"Nem forgó kerék D 100 mm, platformrögzítés// MTX",1611,"B","Active",{"$f":"VLOOKUP(A2732,[1]Sheet1!$A$1:$C$65512,3,FALSE)","v":1038},null,null,"No info",{"$f":"HYPERLINK(L2732,\"линк\")","v":"линк"},"https://bg.toolsworld.com/search/?query=","https://bg.toolsworld.com/search/?query=687097"]
[687117,"Nem forgó kerék D 160 mm, platformrögzítés// MTX",3898,"B","Active",{"$f":"VLOOKUP(A2733,[1]Sheet1!$A$1:$C$65512,3,FALSE)","v":198},null,null,"No info","линк","https://bg.toolsworld.com/search/?query=","https://bg.toolsworld.com/search/?query=687117"]
[687127,"Nem forgó kerék D 200 mm, platformrögzítés// MTX",4918,"B","Active",{"$f":"VLOOKUP(A2734,[1]Sheet1!$A$1:$C$65512,3,FALSE)","v":92},null,null,"No info","линк","https://bg.toolsworld.com/search/?query=","https://bg.toolsworld.com/search/?query=687127"]
[687137,"Görgőkerék D 50 mm, platformrögzítés// MTX",692,"B","Active",{"$f":"VLOOKUP(A2735,[1]Sheet1!$A$1:$C$65512,3,FALSE)","v":{"$error":"#N/A"}},null,null,"No info","линк","https://bg.toolsworld.com/search/?query=","https://bg.toolsworld.com/search/?query=687137"]
[687147,"Görgőkerék D 75 mm, platformrögzítés// MTX",1320,"B","Active",{"$f":"VLOOKUP(A2736,[1]Sheet1!$A$1:$C$65512,3,FALSE)","v":440},null,null,"No info","линк","https://bg.toolsworld.com/search/?query=",{"$f":"CONCATENATE(K2736,A2736)","v":"https://bg.toolsworld.com/search/?query=687147"}]
[687157,"Görgo  konténer alá D100 szerlo platform//MTX",1873,"B","Active",{"$f":"VLOOKUP(A2737,[1]Sheet1!$A$1:$C$65512,3,FALSE)","v":{"$error":"#N/A"}},null,null,"No info","линк","https://bg.toolsworld.com/search/?query=","https://bg.toolsworld.com/search/?query=687157"]
[687167,"Görgő D 125 mm, platformrögzítés// MTX",2189,"B","Active",{"$f":"VLOOKUP(A2738,[1]Sheet1!$A$1:$C$65512,3,FALSE)","v":591},null,null,"No info","линк","https://bg.toolsworld.com/search/?query=","https://bg.toolsworld.com/search/?query=687167"]
[687177,"Görgőkerék D 160 mm, platformrögzítés// MTX",4521,"B","Active",{"$f":"VLOOKUP(A2739,[1]Sheet1!$A$1:$C$65512,3,FALSE)","v":273},null,null,"No info","линк","https://bg.toolsworld.com/search/?query=","https://bg.toolsworld.com/search/?query=687177"]
[687187,"Görgő D 200 mm, platformrögzítés// MTX",5327,"B","Active",{"$f":"VLOOKUP(A2740,[1]Sheet1!$A$1:$C$65512,3,FALSE)","v":169},null,null,"No info","линк","https://bg.toolsworld.com/search/?query=","https://bg.toolsworld.com/search/?query=687187"]
[687197,"Fékes görgő D 50 mm, platformrögzítés// MTX",853,"B","Active",{"$f":"VLOOKUP(A2741,[1]Sheet1!$A$1:$C$65512,3,FALSE)","v":{"$error":"#N/A"}},null,null,"No info","линк","https://bg.toolsworld.com/search/?query=","https://bg.toolsworld.com/search/?query=687197"]
[687217,"Fékes görgő D 100 mm, platformrögzítés// MTX",2104,"B","Active",{"$f":"VLOOKUP(A2742,[1]Sheet1!$A$1:$C$65512,3,FALSE)","v":146},null,null,"No info","линк","https://bg.toolsworld.com/search/?query=","https://bg.toolsworld.com/search/?query=687217"]
[687227,"Fékes görgő D 125 mm, platformrögzítés// MTX",2875,"B","Active",{"$f":"VLOOKUP(A2743,[1]Sheet1!$A$1:$C$65512,3,FALSE)","v":338},null,null,"No info","линк","https://bg.toolsworld.com/search/?query=","https://bg.toolsworld.com/search/?query=687227"]
[687237,"Fékes görgő D 160 mm, platformrögzítés// MTX",4726,"B","Active",{"$f":"VLOOKUP(A2744,[1]Sheet1!$A$1:$C$65512,3,FALSE)","v":322},null,null,"No info","линк","https://bg.toolsworld.com/search/?query=","https://bg.toolsworld.com/search/?query=687237"]
[687247,"Görgo  konténer alá fékkel D200 szerlo platform//MTX",6850,"B","Active",{"$f":"VLOOKUP(A2745,[1]Sheet1!$A$1:$C$65512,3,FALSE)","v":107},null,null,"No info","линк","https://bg.toolsworld.com/search/?query=","https://bg.toolsworld.com/search/?query=687247"]
[689108,"Kerti talicska, teherbírása 120kg, tálca térfogata 58l// Palisad",15034,"B","Active",{"$f":"VLOOKUP(A2746,[1]Sheet1!$A$1:$C$65512,3,FALSE)","v":219},null,null,"No info","линк","https://bg.toolsworld.com/search/?query=","https://bg.toolsworld.com/search/?query=689108"]
[689128,"Kerti talicska, teherbírása 100kg, tálca térfogata 65l// Palisad",16855,"B","Active",{"$f":"VLOOKUP(A2747,[1]Sheet1!$A$1:$C$65512,3,FALSE)","v":{"$error":"#N/A"}},null,null,"No info","линк","https://bg.toolsworld.com/search/?query=","https://bg.toolsworld.com/search/?query=689128"]
[689148,"Talicska, 90 kg teherbírás, 65l urtartalom// PALISAD",15142,"B","Active",{"$f":"VLOOKUP(A2748,[1]Sheet1!$A$1:$C$65512,3,FALSE)","v":356},null,null,"No info","линк","https://bg.toolsworld.com/search/?query=","https://bg.toolsworld.com/search/?query=689148"]
[689158,"Kerti talicska, teherbírása 160kg, tálca térfogata 78l// Palisad",16304,"B","Active",{"$f":"VLOOKUP(A2749,[1]Sheet1!$A$1:$C$65512,3,FALSE)","v":803},null,null,"No info","линк","https://bg.toolsworld.com/search/?query=","https://bg.toolsworld.com/search/?query=689158"]
[689188,"Talicska, teherbírása 200kg, tálca térfogata 90l// Palisad",15521,"B","Active",{"$f":"VLOOKUP(A2750,[1]Sheet1!$A$1:$C$65512,3,FALSE)","v":1115},null,null,"No info","линк","https://bg.toolsworld.com/search/?query=","https://bg.toolsworld.com/search/?query=689188"]
[689228,"Kerti talicska, két kerék, teherbírása 170 kg, tálca térfogata 78 l// Palisad",16545,"B","Active",{"$f":"VLOOKUP(A2751,[1]Sheet1!$A$1:$C$65512,3,FALSE)","v":934},null,null,"No info","линк","https://bg.toolsworld.com/search/?query=","https://bg.toolsworld.com/search/?query=689228"]
[689238,"Építőipari talicska, két kerék, teherbírása 320 kg, tálca térfogata 100 l// Palisad",20761,"B","Active",{"$f":"VLOOKUP(A2752,[1]Sheet1!$A$1:$C$65512,3,FALSE)","v":" "},null,null,"No info","линк","https://bg.toolsworld.com/search/?query=","https://bg.toolsworld.com/search/?query=689238"]
[689328,"Kerti talicska, térfogata 50 l, teherbírása 30 kg// Palisad",9400,"B","Active",{"$f":"VLOOKUP(A2753,[1]Sheet1!$A$1:$C$65512,3,FALSE)","v":27},null,null,"No info","линк","https://bg.toolsworld.com/search/?query=","https://bg.toolsworld.com/search/?query=689328"]
[689388,"GUMIKERÉK 4,00-6 D325 mm, bels. csapágy D16 mm, fejsze hossza 100 mm// PALISAD",5187,"B","Active",{"$f":"VLOOKUP(A2754,[1]Sheet1!$A$1:$C$65512,3,FALSE)","v":224},null,null,"No info","линк","https://bg.toolsworld.com/search/?query=","https://bg.toolsworld.com/search/?query=689388"]
[689408,"GUMIKERÉK 3,00-8 D360 mm, bel. csapágy D16 mm, tengely hossza 92 mm// Palisad",5421,"B","Active",{"$f":"VLOOKUP(A2755,[1]Sheet1!$A$1:$C$65512,3,FALSE)","v":199},null,null,"No info","линк","https://bg.toolsworld.com/search/?query=","https://bg.toolsworld.com/search/?query=689408"]
[689438,"Talicska abroncs 3.25/3.00-8 D360 mm, belso csapágy D16 mm, hossz 94 mm//PALISAD",5445,"B","Active",{"$f":"VLOOKUP(A2756,[1]Sheet1!$A$1:$C$65512,3,FALSE)","v":320},null,null,"No info","линк","https://bg.toolsworld.com/search/?query=","https://bg.toolsworld.com/search/?query=689438"]
[689468,"GUMIKERÉK 4,80/4,00-8 D380 mm, bels. csapágy D12 mm, tengely hossza 80 mm// Palisad",6757,"B","Active",{"$f":"VLOOKUP(A2757,[1]Sheet1!$A$1:$C$65512,3,FALSE)","v":647},null,null,"No info","линк","https://bg.toolsworld.com/search/?query=","https://bg.toolsworld.com/search/?query=689468"]
[689478,"Pneumatikus kerék, 4,80/4,00-8 D380 mm, csapágy belső átm. 12mm, fejsze hossza 90mm// Palisad",4702,"B","Active",{"$f":"VLOOKUP(A2758,[1]Sheet1!$A$1:$C$65512,3,FALSE)","v":167},null,null,"No info","линк","https://bg.toolsworld.com/search/?query=","https://bg.toolsworld.com/search/?query=689478"]
[689488,"Talicska abroncs 4.80/4.00-8  D380 mm, belso csapágy D12 mm, hossz 90 mm//PALISAD",6757,"B","Active",{"$f":"VLOOKUP(A2759,[1]Sheet1!$A$1:$C$65512,3,FALSE)","v":89},null,null,"No info","линк","https://bg.toolsworld.com/search/?query=","https://bg.toolsworld.com/search/?query=689488"]
[689528,"Megerősített pneumatikus kerék, gumiabroncs 8PR, 4,00-8 D400 mm, csapágy belső átmérő 12 mm, tengelyhossz 90 m",7258,"B","Active",{"$f":"VLOOKUP(A2760,[1]Sheet1!$A$1:$C$65512,3,FALSE)","v":199},null,null,"No info","линк","https://bg.toolsworld.com/search/?query=","https://bg.toolsworld.com/search/?query=689528"]
[689538,"Megerősített pneumatikus kerék, gumiabroncs 8PR, 4,00-8 D400 mm, csapágy belső átmérő 20 mm, tengelyhossz 90 m",7258,"B","Active",{"$f":"VLOOKUP(A2761,[1]Sheet1!$A$1:$C$65512,3,FALSE)","v":66},null,null,"No info","линк","https://bg.toolsworld.com/search/?query=","https://bg.toolsworld.com/search/?query=689538"]
[689558,"GUMI BELSŐ KERÉKHEZ 3,25/8 D360 mm// Palisad",872,"B","Active",{"$f":"VLOOKUP(A2762,[1]Sheet1!$A$1:$C$65512,3,FALSE)","v":175},null,null,"No info","линк","https://bg.toolsworld.com/search/?query=","https://bg.toolsworld.com/search/?query=689558"]
[689568,"Kerékbelso  4.80/4.00-8  D380 mm//PALISAD",1130,"B","Active",{"$f":"VLOOKUP(A2763,[1]Sheet1!$A$1:$C$65512,3,FALSE)","v":1239},null,null,"No info","линк","https://bg.toolsworld.com/search/?query=","https://bg.toolsworld.com/search/?query=689568"]
[689718,"Pneumatikus kerék 3,00-8, tengelyhossz 90 mm, csapágy 16 mm// Palisad",3244,"B","Active",{"$f":"VLOOKUP(A2764,[1]Sheet1!$A$1:$C$65512,3,FALSE)","v":243},null,null,"No info","линк","https://bg.toolsworld.com/search/?query=","https://bg.toolsworld.com/search/?query=689718"]
[689738,"Pneumatikus kerék 3,25/3-8, tengelyhossz 90 mm, csapágy 16 mm// Palisad",3268,"B","Active",{"$f":"VLOOKUP(A2765,[1]Sheet1!$A$1:$C$65512,3,FALSE)","v":179},null,null,"No info","линк","https://bg.toolsworld.com/search/?query=","https://bg.toolsworld.com/search/?query=689738"]
[689758,"Poliuretán kerék  3.00-8, tengely hossz. 90 mm, csapágy 16 mm// PALISAD",5003,"B","Active",{"$f":"VLOOKUP(A2766,[1]Sheet1!$A$1:$C$65512,3,FALSE)","v":24},null,null,"No info","линк","https://bg.toolsworld.com/search/?query=","https://bg.toolsworld.com/search/?query=689758"]
[689768,"Poliuretán kerék  3.00-8, tengely hossz. 90 mm, csapágy 20 mm// PALISAD",5003,"B","Active",{"$f":"VLOOKUP(A2767,[1]Sheet1!$A$1:$C$65512,3,FALSE)","v":17},null,null,"No info","линк","https://bg.toolsworld.com/search/?query=","https://bg.toolsworld.com/search/?query=689768"]
[689778,"Poliuretán kerék 4,80/4-8, tengelyhossz 90 mm, csapágy 20 mm// PALISAD",7249,"B","Active",{"$f":"VLOOKUP(A2768,[1]Sheet1!$A$1:$C$65512,3,FALSE)","v":66},null,null,"No info","линк","https://bg.toolsworld.com/search/?query=","https://bg.toolsworld.com/search/?query=689778"]
[689788,"Poliuretán kerék 4,80/4-8, tengelyhossz 90 mm, csapágy 12 mm// PALISAD",7249,"B","Active",{"$f":"VLOOKUP(A2769,[1]Sheet1!$A$1:$C$65512,3,FALSE)","v":58},null,null,"No info","линк","https://bg.toolsworld.com/search/?query=","https://bg.toolsworld.com/search/?query=689788"]
[690018,"Fuggo virágtaró, 25 cm, with a kókuszos kosár// PALISAD",1706,"B","Active",{"$f":"VLOOKUP(A2770,[1]Sheet1!$A$1:$C$65512,3,FALSE)","v":188},null,null,"No info","линк","https://bg.toolsworld.com/search/?query=","https://bg.toolsworld.com/search/?query=690018"]
[690028,"Fuggo virágtaró, 30 cm, with a kókuszos kosár// PALISAD",2047,"B","Active",{"$f":"VLOOKUP(A2771,[1]Sheet1!$A$1:$C$65512,3,FALSE)","v":998},null,null,"No info","линк","https://bg.toolsworld.com/search/?query=","https://bg.toolsworld.com/search/?query=690028"]
[690048,"Fali virágtartó láncos, kókusz betétes kosárral, D 300 mm, // PALISAD",2582,"B","Active",{"$f":"VLOOKUP(A2772,[1]Sheet1!$A$1:$C$65512,3,FALSE)","v":{"$error":"#N/A"}},null,null,"No info","линк","https://bg.toolsworld.com/search/?query=","https://bg.toolsworld.com/search/?query=690048"]
[690058,"Fuggo virágtartó díszített, 25 cm, kókuszos kosár// PALISAD",2171,"B","Active",{"$f":"VLOOKUP(A2773,[1]Sheet1!$A$1:$C$65512,3,FALSE)","v":{"$error":"#N/A"}},null,null,"No info","линк","https://bg.toolsworld.com/search/?query=","https://bg.toolsworld.com/search/?query=690058"]
[690108,"Fali virágtartó láncos, kókusz betétes kosárral, 30cm, // PALISAD",2598,"B","Active",{"$f":"VLOOKUP(A2774,[1]Sheet1!$A$1:$C$65512,3,FALSE)","v":117},null,null,"No info","линк","https://bg.toolsworld.com/search/?query=","https://bg.toolsworld.com/search/?query=690108"]
[690158,"Függesztett ültetőgép, D 26 cm, magasság lánccal és kampóval 53,5 cm// Palisad",2466,"B","Active",{"$f":"VLOOKUP(A2775,[1]Sheet1!$A$1:$C$65512,3,FALSE)","v":{"$error":"#N/A"}},null,null,"No info","линк","https://bg.toolsworld.com/search/?query=","https://bg.toolsworld.com/search/?query=690158"]
[690168,"Fuggo kosár , átméro 25,4 cm, magasság lánccal és kampóval 53,5 cm// PALISAD",2867,"B","Active",{"$f":"VLOOKUP(A2776,[1]Sheet1!$A$1:$C$65512,3,FALSE)","v":11},null,null,"No info","линк","https://bg.toolsworld.com/search/?query=","https://bg.toolsworld.com/search/?query=690168"]
[690178,"Lógas kosár kókuszbéléssel, félkör, D 30 cm// Palisad",2004,"B","Active",{"$f":"VLOOKUP(A2777,[1]Sheet1!$A$1:$C$65512,3,FALSE)","v":1831},null,null,"No info","линк","https://bg.toolsworld.com/search/?query=","https://bg.toolsworld.com/search/?query=690178"]
[690188,"Fuggo díszcserép, 240 mm//PALISAD",1167,"B","Active",{"$f":"VLOOKUP(A2778,[1]Sheet1!$A$1:$C$65512,3,FALSE)","v":{"$error":"#N/A"}},null,null,"No info","линк","https://bg.toolsworld.com/search/?query=","https://bg.toolsworld.com/search/?query=690188"]
[690208,"Függesztett kosár kókusz béléssel, kúpos, D 25 cm// Palisad",1519,"B","Active",{"$f":"VLOOKUP(A2779,[1]Sheet1!$A$1:$C$65512,3,FALSE)","v":446},null,null,"No info","линк","https://bg.toolsworld.com/search/?query=","https://bg.toolsworld.com/search/?query=690208"]
[690228,"Lógas kosár kókuszbéléssel, kúpos, D 35 cm// Palisad",2057,"B","Active",{"$f":"VLOOKUP(A2780,[1]Sheet1!$A$1:$C$65512,3,FALSE)","v":981},null,null,"No info","линк","https://bg.toolsworld.com/search/?query=","https://bg.toolsworld.com/search/?query=690228"]
[690308,"Falra akaszthato dekorativ viragtarto //PALISAD",1258,"B","Active",{"$f":"VLOOKUP(A2781,[1]Sheet1!$A$1:$C$65512,3,FALSE)","v":303},null,null,"No info","линк","https://bg.toolsworld.com/search/?query=","https://bg.toolsworld.com/search/?query=690308"]
[690318,"Virágállvány, falra szerelheto, 180° rotation// PALISAD",1766,"B","Active",{"$f":"VLOOKUP(A2782,[1]Sheet1!$A$1:$C$65512,3,FALSE)","v":14},null,null,"No info","линк","https://bg.toolsworld.com/search/?query=","https://bg.toolsworld.com/search/?query=690318"]
[690328,"Virágállvány, padlóra// PALISAD",2442,"B","Active",{"$f":"VLOOKUP(A2783,[1]Sheet1!$A$1:$C$65512,3,FALSE)","v":434},null,null,"No info","линк","https://bg.toolsworld.com/search/?query=","https://bg.toolsworld.com/search/?query=690328"]
[691238,"Virágfuttató (Arch) 277x128cm// PALISAD",20977,"B","Active",{"$f":"VLOOKUP(A2784,[1]Sheet1!$A$1:$C$65512,3,FALSE)","v":92},null,null,"No info","линк","https://bg.toolsworld.com/search/?query=","https://bg.toolsworld.com/search/?query=691238"]
[691268,"Dekoratív kerti piramis futó növényeknek, 112,5 x 23 cm// PALISAD",4849,"B","Active",{"$f":"VLOOKUP(A2785,[1]Sheet1!$A$1:$C$65512,3,FALSE)","v":{"$error":"#N/A"}},null,null,"No info","линк","https://bg.toolsworld.com/search/?query=","https://bg.toolsworld.com/search/?query=691268"]
[691328,"Virágállvány(Arch) 139x35cm//PALISAD",5887,"B","Active",{"$f":"VLOOKUP(A2786,[1]Sheet1!$A$1:$C$65512,3,FALSE)","v":{"$error":"#N/A"}},null,null,"No info","линк","https://bg.toolsworld.com/search/?query=","https://bg.toolsworld.com/search/?query=691328"]
[691377,"Rács, mintás háló, 0,5х2,1 m// Palisad",3046,"B","Active",{"$f":"VLOOKUP(A2787,[1]Sheet1!$A$1:$C$65512,3,FALSE)","v":{"$error":"#N/A"}},null,null,"No info","линк","https://bg.toolsworld.com/search/?query=","https://bg.toolsworld.com/search/?query=691377"]
[695818,"Öszecsukható pecaszék háttámlával 30*24,5*38//70 см Camping// Palisad",4099,"B","Active",{"$f":"VLOOKUP(A2788,[1]Sheet1!$A$1:$C$65512,3,FALSE)","v":174},null,null,"No info","линк","https://bg.toolsworld.com/search/?query=","https://bg.toolsworld.com/search/?query=695818"]
[695828,"Összecsukhatú, alumínium MDF lapos kemping aszatal, 600x450x250/590 mm//Palisad Camping",9825,"B","Active",{"$f":"VLOOKUP(A2789,[1]Sheet1!$A$1:$C$65512,3,FALSE)","v":20},null,null,"No info","линк","https://bg.toolsworld.com/search/?query=","https://bg.toolsworld.com/search/?query=695828"]
[695838,"Összecsukhatú, alumínium MDF lapos kemping aszatal, 900x600x300/700 mm//Palisad Camping",12719,"B","Active",{"$f":"VLOOKUP(A2790,[1]Sheet1!$A$1:$C$65512,3,FALSE)","v":1},null,null,"No info","линк","https://bg.toolsworld.com/search/?query=","https://bg.toolsworld.com/search/?query=695838"]
[695858,"Függőágy terelőrudak nélkül 200x100 сm, Camping// Palisad",5431,"B","Active",{"$f":"VLOOKUP(A2791,[1]Sheet1!$A$1:$C$65512,3,FALSE)","v":102},null,null,"No info","линк","https://bg.toolsworld.com/search/?query=","https://bg.toolsworld.com/search/?query=695858"]
[695878,"2 állású tengerparti szék 156*60*82cm Camping// Palisad",17513,"B","Active",{"$f":"VLOOKUP(A2792,[1]Sheet1!$A$1:$C$65512,3,FALSE)","v":{"$error":"#N/A"}},null,null,"No info","линк","https://bg.toolsworld.com/search/?query=","https://bg.toolsworld.com/search/?query=695878"]
[695888,"Összecsukható szék with elbow-rest and glass holder 890*540*860 mm//Palisad Camping",6457,"B","Active",{"$f":"VLOOKUP(A2793,[1]Sheet1!$A$1:$C$65512,3,FALSE)","v":809},null,null,"No info","линк","https://bg.toolsworld.com/search/?query=","https://bg.toolsworld.com/search/?query=695888"]
[695898,"Összecsukható szék 350*300*360 mm//Palisad Camping",2733,"B","Active",{"$f":"VLOOKUP(A2794,[1]Sheet1!$A$1:$C$65512,3,FALSE)","v":585},null,null,"No info","линк","https://bg.toolsworld.com/search/?query=","https://bg.toolsworld.com/search/?query=695898"]
[695918,"Összecsukható szék with elbow-rest. 60*53*75 cm Camping// PALISAD",6602,"B","Active",{"$f":"VLOOKUP(A2795,[1]Sheet1!$A$1:$C$65512,3,FALSE)","v":16},null,null,"No info","линк","https://bg.toolsworld.com/search/?query=","https://bg.toolsworld.com/search/?query=695918"]
[695928,"Összecsukahto karosszék könyök támasszal és pogártartóval  60/60/110/92 Camping// Palisad",13644,"B","Active",{"$f":"VLOOKUP(A2796,[1]Sheet1!$A$1:$C$65512,3,FALSE)","v":34},null,null,"No info",{"$f":"HYPERLINK(L2796,\"линк\")","v":"линк"},"https://bg.toolsworld.com/search/?query=","https://bg.toolsworld.com/search/?query=695928"]
[695958,"Thermal bag 44*24*26 cм Camping// Palisad",5005,"B","Active",{"$f":"VLOOKUP(A2797,[1]Sheet1!$A$1:$C$65512,3,FALSE)","v":661},null,null,"No info","линк","https://bg.toolsworld.com/search/?query=","https://bg.toolsworld.com/search/?query=695958"]
[695978,"Hűtőzsák 320x250x240 mm, két fagyasztó jégtömbbel// Palisad",5850,"B","Active",{"$f":"VLOOKUP(A2798,[1]Sheet1!$A$1:$C$65512,3,FALSE)","v":{"$error":"#N/A"}},null,null,"No info","линк","https://bg.toolsworld.com/search/?query=","https://bg.toolsworld.com/search/?query=695978"]
[701029,"Spirál fa fúrófej, 12 x 230 mm, hatoldalú rúd// MTX",670,"B","Active",{"$f":"VLOOKUP(A2799,[1]Sheet1!$A$1:$C$65512,3,FALSE)","v":359},null,null,"No info","линк","https://bg.toolsworld.com/search/?query=","https://bg.toolsworld.com/search/?query=701029"]
[701049,"Spirál fa fúrófej, 14 x 230 mm, hatoldalú rúd// MTX",882,"B","Active",{"$f":"VLOOKUP(A2800,[1]Sheet1!$A$1:$C$65512,3,FALSE)","v":111},null,null,"No info","линк","https://bg.toolsworld.com/search/?query=",{"$f":"CONCATENATE(K2800,A2800)","v":"https://bg.toolsworld.com/search/?query=701049"}]
[701069,"Spirál fa fúrófej, 16 x 230 mm, hatoldalú rúd// MTX",1032,"B","Active",{"$f":"VLOOKUP(A2801,[1]Sheet1!$A$1:$C$65512,3,FALSE)","v":152},null,null,"No info","линк","https://bg.toolsworld.com/search/?query=","https://bg.toolsworld.com/search/?query=701069"]
[701089,"Spirál fa fúrófej, 20 x 230 mm, hatoldalú rúd// MTX",1128,"B","Active",{"$f":"VLOOKUP(A2802,[1]Sheet1!$A$1:$C$65512,3,FALSE)","v":14},null,null,"No info","линк","https://bg.toolsworld.com/search/?query=","https://bg.toolsworld.com/search/?query=701089"]
[701109,"Spirál fa fúrófej, 25 x 230 mm, hatoldalú rúd// MTX",1484,"B","Active",{"$f":"VLOOKUP(A2803,[1]Sheet1!$A$1:$C$65512,3,FALSE)","v":24},null,null,"No info","линк","https://bg.toolsworld.com/search/?query=","https://bg.toolsworld.com/search/?query=701109"]
[701209,"Spirál fa fúrófej, 12 x 460 mm, hatoldalú rúd// MTX",1047,"B","Active",{"$f":"VLOOKUP(A2804,[1]Sheet1!$A$1:$C$65512,3,FALSE)","v":149},null,null,"No info","линк","https://bg.toolsworld.com/search/?query=","https://bg.toolsworld.com/search/?query=701209"]
[701229,"Spirál fa fúrófej, 14 x 460 mm, hatoldalú rúd// MTX",1140,"B","Active",{"$f":"VLOOKUP(A2805,[1]Sheet1!$A$1:$C$65512,3,FALSE)","v":244},null,null,"No info","линк","https://bg.toolsworld.com/search/?query=","https://bg.toolsworld.com/search/?query=701229"]
[701249,"Spirál fa fúrófej, 16 x 460 mm, hatoldalú rúd// MTX",1285,"B","Active",{"$f":"VLOOKUP(A2806,[1]Sheet1!$A$1:$C$65512,3,FALSE)","v":220},null,null,"No info","линк","https://bg.toolsworld.com/search/?query=","https://bg.toolsworld.com/search/?query=701249"]
[701269,"Spirál fa fúrófej, 20 x 460 mm, hatoldalú rúd// MTX",1792,"B","Active",{"$f":"VLOOKUP(A2807,[1]Sheet1!$A$1:$C$65512,3,FALSE)","v":114},null,null,"No info","линк","https://bg.toolsworld.com/search/?query=","https://bg.toolsworld.com/search/?query=701269"]
[701289,"Spirál fa fúrófej, 25 x 460 mm, hatoldalú rúd// MTX",2702,"B","Active",{"$f":"VLOOKUP(A2808,[1]Sheet1!$A$1:$C$65512,3,FALSE)","v":120},null,null,"No info","линк","https://bg.toolsworld.com/search/?query=","https://bg.toolsworld.com/search/?query=701289"]
[701309,"Spirál fa fúrófej, 32 x 460 mm, hatoldalú rúd// MTX",4315,"B","Active",{"$f":"VLOOKUP(A2809,[1]Sheet1!$A$1:$C$65512,3,FALSE)","v":50},null,null,"No info","линк","https://bg.toolsworld.com/search/?query=","https://bg.toolsworld.com/search/?query=701309"]
[702105,"5 db fa fúrófej készlet, 4-5-6-8-10 mm, egyenes szárú//SPARTA",381,"B","Active",{"$f":"VLOOKUP(A2810,[1]Sheet1!$A$1:$C$65512,3,FALSE)","v":{"$error":"#N/A"}},null,null,"No info","линк","https://bg.toolsworld.com/search/?query=","https://bg.toolsworld.com/search/?query=702105"]
[702125,"8 db fa fúrófej készlet, 3-4-5-6-7-8-9-10 mm, egyenes szárú//SPARTA",540,"B","Active",{"$f":"VLOOKUP(A2811,[1]Sheet1!$A$1:$C$65512,3,FALSE)","v":{"$error":"#N/A"}},null,null,"No info","линк","https://bg.toolsworld.com/search/?query=","https://bg.toolsworld.com/search/?query=702125"]
[703019,"ureges véso, 14 x 22 x 250 mm, SDS PLUS// MTX",682,"B","Active",{"$f":"VLOOKUP(A2812,[1]Sheet1!$A$1:$C$65512,3,FALSE)","v":191},null,null,"No info","линк","https://bg.toolsworld.com/search/?query=","https://bg.toolsworld.com/search/?query=703019"]
[703109,"Ásós véso, 14 x 40 x 250 mm, SDS PLUS// MTX",700,"B","Active",{"$f":"VLOOKUP(A2813,[1]Sheet1!$A$1:$C$65512,3,FALSE)","v":1},null,null,"No info","линк","https://bg.toolsworld.com/search/?query=","https://bg.toolsworld.com/search/?query=703109"]
[703159,"Ásós véso, 14 x 40 x 250 mm,  SDS PLUS, bent// MTX",747,"B","Active",{"$f":"VLOOKUP(A2814,[1]Sheet1!$A$1:$C$65512,3,FALSE)","v":201},null,null,"No info","линк","https://bg.toolsworld.com/search/?query=","https://bg.toolsworld.com/search/?query=703159"]
[703209,"Lapos véso, 14 x 20 x 250 mm, SDS PLUS// MTX",591,"B","Active",{"$f":"VLOOKUP(A2815,[1]Sheet1!$A$1:$C$65512,3,FALSE)","v":1076},null,null,"No info","линк","https://bg.toolsworld.com/search/?query=","https://bg.toolsworld.com/search/?query=703209"]
[703299,"Összeszerelt fej ureges maggal M22 x 68 mm, SDS PLUS// MTX",2883,"B","Active",{"$f":"VLOOKUP(A2816,[1]Sheet1!$A$1:$C$65512,3,FALSE)","v":1171},null,null,"No info","линк","https://bg.toolsworld.com/search/?query=","https://bg.toolsworld.com/search/?query=703299"]
[703309,"Összeszerelt fej ureges maggal M22 x 65 mm, SDS PLUS// MTX",2782,"B","Active",{"$f":"VLOOKUP(A2817,[1]Sheet1!$A$1:$C$65512,3,FALSE)","v":390},null,null,"No info","линк","https://bg.toolsworld.com/search/?query=","https://bg.toolsworld.com/search/?query=703309"]
[703319,"Összeszerelt fej ureges maggal M22 x 80 mm, SDS PLUS// MTX",3513,"B","Active",{"$f":"VLOOKUP(A2818,[1]Sheet1!$A$1:$C$65512,3,FALSE)","v":446},null,null,"No info","линк","https://bg.toolsworld.com/search/?query=","https://bg.toolsworld.com/search/?query=703319"]
[703389,"Hosszabbító szár SDS plus, M22 x 250 mm, központosító fúrófej// MTX",1440,"B","Active",{"$f":"VLOOKUP(A2819,[1]Sheet1!$A$1:$C$65512,3,FALSE)","v":20},null,null,"No info","линк","https://bg.toolsworld.com/search/?query=","https://bg.toolsworld.com/search/?query=703389"]
[703399,"Hosszabbító szár SDS max, M22 x 350 mm, központosító fúrófej// MTX",1774,"B","Active",{"$f":"VLOOKUP(A2820,[1]Sheet1!$A$1:$C$65512,3,FALSE)","v":52},null,null,"No info","линк","https://bg.toolsworld.com/search/?query=","https://bg.toolsworld.com/search/?query=703399"]
[703409,"Hegyes véso, 14 x 250 mm, SDS PLUS// MTX",560,"B","Active",{"$f":"VLOOKUP(A2821,[1]Sheet1!$A$1:$C$65512,3,FALSE)","v":1147},null,null,"No info","линк","https://bg.toolsworld.com/search/?query=","https://bg.toolsworld.com/search/?query=703409"]
[703419,"Lapos véso, 18 x 25 x 280 mm, SDS MAX// MTX",1051,"B","Active",{"$f":"VLOOKUP(A2822,[1]Sheet1!$A$1:$C$65512,3,FALSE)","v":59},null,null,"No info","линк","https://bg.toolsworld.com/search/?query=","https://bg.toolsworld.com/search/?query=703419"]
[703429,"Lapos véso, 18 x 25 x 400 mm, SDS MAX// MTX",1269,"B","Active",{"$f":"VLOOKUP(A2823,[1]Sheet1!$A$1:$C$65512,3,FALSE)","v":143},null,null,"No info","линк","https://bg.toolsworld.com/search/?query=","https://bg.toolsworld.com/search/?query=703429"]
[703439,"Lapos véso, 18 x 25 x 600 mm, SDS MAX// MTX",2297,"B","Active",{"$f":"VLOOKUP(A2824,[1]Sheet1!$A$1:$C$65512,3,FALSE)","v":71},null,null,"No info","линк","https://bg.toolsworld.com/search/?query=","https://bg.toolsworld.com/search/?query=703439"]
[703449,"Ásós véso, 25 x 50 x 360 mm, SDS MAX// MTX",2358,"B","Active",{"$f":"VLOOKUP(A2825,[1]Sheet1!$A$1:$C$65512,3,FALSE)","v":103},null,null,"No info","линк","https://bg.toolsworld.com/search/?query=","https://bg.toolsworld.com/search/?query=703449"]
[703459,"ureges véso, 18 x 25 x 320 mm, SDS MAX// MTX",1185,"B","Active",{"$f":"VLOOKUP(A2826,[1]Sheet1!$A$1:$C$65512,3,FALSE)","v":31},null,null,"No info","линк","https://bg.toolsworld.com/search/?query=","https://bg.toolsworld.com/search/?query=703459"]
[703469,"Hegyes véso, 18 x 280 mm, SDS MAX// MTX",971,"B","Active",{"$f":"VLOOKUP(A2827,[1]Sheet1!$A$1:$C$65512,3,FALSE)","v":{"$error":"#N/A"}},null,null,"No info","линк","https://bg.toolsworld.com/search/?query=","https://bg.toolsworld.com/search/?query=703469"]
[703479,"Hegyes véso, 18 x 280 mm, SDS MAX// MTX",1265,"B","Active",{"$f":"VLOOKUP(A2828,[1]Sheet1!$A$1:$C$65512,3,FALSE)","v":76},null,null,"No info","линк","https://bg.toolsworld.com/search/?query=","https://bg.toolsworld.com/search/?query=703479"]
[703489,"Hegyes véso, 18 x 280 mm, SDS MAX// MTX",2071,"B","Active",{"$f":"VLOOKUP(A2829,[1]Sheet1!$A$1:$C$65512,3,FALSE)","v":100},null,null,"No info","линк","https://bg.toolsworld.com/search/?query=","https://bg.toolsworld.com/search/?query=703489"]
[703499,"Hosszabbítószár SDS Plus, M22 x 120 mm, központosító fúrószár// MTX",943,"B","Active",{"$f":"VLOOKUP(A2830,[1]Sheet1!$A$1:$C$65512,3,FALSE)","v":{"$error":"#N/A"}},null,null,"No info","линк","https://bg.toolsworld.com/search/?query=","https://bg.toolsworld.com/search/?query=703499"]
[703519,"Hosszabbítószár SDS Plus, M22 x 400 mm, központosító fúrószár// MTX",2260,"B","Active",{"$f":"VLOOKUP(A2831,[1]Sheet1!$A$1:$C$65512,3,FALSE)","v":{"$error":"#N/A"}},null,null,"No info","линк","https://bg.toolsworld.com/search/?query=","https://bg.toolsworld.com/search/?query=703519"]
[703539,"Hosszabbítószár SDS Max, M22 х 160 mm, központosító fúrószár// MTX",1291,"B","Active",{"$f":"VLOOKUP(A2832,[1]Sheet1!$A$1:$C$65512,3,FALSE)","v":28},null,null,"No info","линк","https://bg.toolsworld.com/search/?query=","https://bg.toolsworld.com/search/?query=703539"]
[703569,"Adapter, menet: 1/2'', SDS plus// MTX",224,"B","Active",{"$f":"VLOOKUP(A2833,[1]Sheet1!$A$1:$C$65512,3,FALSE)","v":597},null,null,"No info","линк","https://bg.toolsworld.com/search/?query=","https://bg.toolsworld.com/search/?query=703569"]
[703579,"Adapter, menet: M12 x 1,25, SDS plusz// MTX",242,"B","Active",{"$f":"VLOOKUP(A2834,[1]Sheet1!$A$1:$C$65512,3,FALSE)","v":101},null,null,"No info","линк","https://bg.toolsworld.com/search/?query=","https://bg.toolsworld.com/search/?query=703579"]
[703619,"Beton magfúró, M22 х 35 mm// MTX",953,"B","Active",{"$f":"VLOOKUP(A2835,[1]Sheet1!$A$1:$C$65512,3,FALSE)","v":{"$error":"#N/A"}},null,null,"No info","линк","https://bg.toolsworld.com/search/?query=","https://bg.toolsworld.com/search/?query=703619"]
[703639,"Hosszabbítószár SDS Max, M22 х 600 mm, központosító fúrószár// MTX",4006,"B","Active",{"$f":"VLOOKUP(A2836,[1]Sheet1!$A$1:$C$65512,3,FALSE)","v":13},null,null,"No info","линк","https://bg.toolsworld.com/search/?query=","https://bg.toolsworld.com/search/?query=703639"]
[703659,"Beton magfúró, M22 х 40 mm// MTX",1016,"B","Active",{"$f":"VLOOKUP(A2837,[1]Sheet1!$A$1:$C$65512,3,FALSE)","v":{"$error":"#N/A"}},null,null,"No info","линк","https://bg.toolsworld.com/search/?query=","https://bg.toolsworld.com/search/?query=703659"]
[703779,"Beton magfúró, M22 х 65 mm// MTX",1878,"B","Active",{"$f":"VLOOKUP(A2838,[1]Sheet1!$A$1:$C$65512,3,FALSE)","v":2},null,null,"No info","линк","https://bg.toolsworld.com/search/?query=","https://bg.toolsworld.com/search/?query=703779"]
[703839,"Beton magfúró, M22 х 80 mm// MTX",2383,"B","Active",{"$f":"VLOOKUP(A2839,[1]Sheet1!$A$1:$C$65512,3,FALSE)","v":{"$error":"#N/A"}},null,null,"No info","линк","https://bg.toolsworld.com/search/?query=","https://bg.toolsworld.com/search/?query=703839"]
[703899,"Beton magfúró, M22 х 100 mm// MTX",3376,"B","Active",{"$f":"VLOOKUP(A2840,[1]Sheet1!$A$1:$C$65512,3,FALSE)","v":{"$error":"#N/A"}},null,null,"No info","линк","https://bg.toolsworld.com/search/?query=","https://bg.toolsworld.com/search/?query=703899"]
[703919,"Beton magfúró, M22 х 110 mm// MTX",4311,"B","Active",{"$f":"VLOOKUP(A2841,[1]Sheet1!$A$1:$C$65512,3,FALSE)","v":{"$error":"#N/A"}},null,null,"No info","линк","https://bg.toolsworld.com/search/?query=","https://bg.toolsworld.com/search/?query=703919"]
[704009,"Lapos fúrószár 6 mm, hatlapú szár// MTX",295,"B","Active",{"$f":"VLOOKUP(A2842,[1]Sheet1!$A$1:$C$65512,3,FALSE)","v":322},null,null,"No info","линк","https://bg.toolsworld.com/search/?query=","https://bg.toolsworld.com/search/?query=704009"]
[704019,"Lapos fúrószár 8 mm, hatlapú szár// MTX",305,"B","Active",{"$f":"VLOOKUP(A2843,[1]Sheet1!$A$1:$C$65512,3,FALSE)","v":283},null,null,"No info","линк","https://bg.toolsworld.com/search/?query=","https://bg.toolsworld.com/search/?query=704019"]
[704055,"6 db Központfúrófej szett 10-12-16-18-20-25 mm, hatoldalú rúd//SPARTA",1175,"B","Active",{"$f":"VLOOKUP(A2844,[1]Sheet1!$A$1:$C$65512,3,FALSE)","v":{"$error":"#N/A"}},null,null,"No info","линк","https://bg.toolsworld.com/search/?query=","https://bg.toolsworld.com/search/?query=704055"]
[704069,"Központfúrófej szett 10-12-16-18-20-25 mm, kiegészíto  300 mm, 6 db// MTX",2309,"B","Active",{"$f":"VLOOKUP(A2845,[1]Sheet1!$A$1:$C$65512,3,FALSE)","v":241},null,null,"No info","линк","https://bg.toolsworld.com/search/?query=","https://bg.toolsworld.com/search/?query=704069"]
[704089,"Központfúrófej 16 mm, hatoldalú rúd// MTX",342,"B","Active",{"$f":"VLOOKUP(A2846,[1]Sheet1!$A$1:$C$65512,3,FALSE)","v":376},null,null,"No info","линк","https://bg.toolsworld.com/search/?query=","https://bg.toolsworld.com/search/?query=704089"]
[704109,"Központfúrófej 18 mm, hatoldalú rúd// MTX",362,"B","Active",{"$f":"VLOOKUP(A2847,[1]Sheet1!$A$1:$C$65512,3,FALSE)","v":310},null,null,"No info","линк","https://bg.toolsworld.com/search/?query=","https://bg.toolsworld.com/search/?query=704109"]
[704129,"Központfúrófej 20 mm, hatoldalú rúd// MTX",369,"B","Active",{"$f":"VLOOKUP(A2848,[1]Sheet1!$A$1:$C$65512,3,FALSE)","v":301},null,null,"No info","линк","https://bg.toolsworld.com/search/?query=","https://bg.toolsworld.com/search/?query=704129"]
[704149,"Központfúrófej 22 mm, hatoldalú rúd// MTX",375,"B","Active",{"$f":"VLOOKUP(A2849,[1]Sheet1!$A$1:$C$65512,3,FALSE)","v":328},null,null,"No info","линк","https://bg.toolsworld.com/search/?query=","https://bg.toolsworld.com/search/?query=704149"]
[704159,"Központfúrófej 24 mm, hatoldalú rúd// MTX",432,"B","Active",{"$f":"VLOOKUP(A2850,[1]Sheet1!$A$1:$C$65512,3,FALSE)","v":151},null,null,"No info","линк","https://bg.toolsworld.com/search/?query=","https://bg.toolsworld.com/search/?query=704159"]
[704169,"Központfúrófej 25 mm, hatoldalú rúd// MTX",436,"B","Active",{"$f":"VLOOKUP(A2851,[1]Sheet1!$A$1:$C$65512,3,FALSE)","v":340},null,null,"No info","линк","https://bg.toolsworld.com/search/?query=","https://bg.toolsworld.com/search/?query=704169"]
[704209,"Központfúrófej 28 mm, hatoldalú rúd// MTX",450,"B","Active",{"$f":"VLOOKUP(A2852,[1]Sheet1!$A$1:$C$65512,3,FALSE)","v":173},null,null,"No info","линк","https://bg.toolsworld.com/search/?query=","https://bg.toolsworld.com/search/?query=704209"]
[704229,"Központfúrófej 30 mm, hatoldalú rúd// MTX",470,"B","Active",{"$f":"VLOOKUP(A2853,[1]Sheet1!$A$1:$C$65512,3,FALSE)","v":226},null,null,"No info","линк","https://bg.toolsworld.com/search/?query=","https://bg.toolsworld.com/search/?query=704229"]
[704249,"Központfúrófej 32 mm, hatoldalú rúd// MTX",566,"B","Active",{"$f":"VLOOKUP(A2854,[1]Sheet1!$A$1:$C$65512,3,FALSE)","v":374},null,null,"No info","линк","https://bg.toolsworld.com/search/?query=","https://bg.toolsworld.com/search/?query=704249"]
[704279,"Központfúrófej 35 mm, hatoldalú rúd// MTX",595,"B","Active",{"$f":"VLOOKUP(A2855,[1]Sheet1!$A$1:$C$65512,3,FALSE)","v":{"$error":"#N/A"}},null,null,"No info","линк","https://bg.toolsworld.com/search/?query=","https://bg.toolsworld.com/search/?query=704279"]
[704299,"Központfúrófej 36 mm, hatoldalú rúd// MTX",703,"B","Active",{"$f":"VLOOKUP(A2856,[1]Sheet1!$A$1:$C$65512,3,FALSE)","v":146},null,null,"No info","линк","https://bg.toolsworld.com/search/?query=","https://bg.toolsworld.com/search/?query=704299"]
[704309,"Központfúrófej 38 mm, hatoldalú rúd// MTX",709,"B","Active",{"$f":"VLOOKUP(A2857,[1]Sheet1!$A$1:$C$65512,3,FALSE)","v":561},null,null,"No info","линк","https://bg.toolsworld.com/search/?query=","https://bg.toolsworld.com/search/?query=704309"]
[704329,"Központfúrófej 40 mm, hatoldalú rúd// MTX",717,"B","Active",{"$f":"VLOOKUP(A2858,[1]Sheet1!$A$1:$C$65512,3,FALSE)","v":627},null,null,"No info","линк","https://bg.toolsworld.com/search/?query=","https://bg.toolsworld.com/search/?query=704329"]
[704339,"Központfúrófej 45 mm, hatoldalú rúd// MTX",780,"B","Active",{"$f":"VLOOKUP(A2859,[1]Sheet1!$A$1:$C$65512,3,FALSE)","v":378},null,null,"No info","линк","https://bg.toolsworld.com/search/?query=","https://bg.toolsworld.com/search/?query=704339"]
[704349,"Központfúrófej 50 mm, hatoldalú rúd// MTX",808,"B","Active",{"$f":"VLOOKUP(A2860,[1]Sheet1!$A$1:$C$65512,3,FALSE)","v":664},null,null,"No info",{"$f":"HYPERLINK(L2860,\"линк\")","v":"линк"},"https://bg.toolsworld.com/search/?query=","https://bg.toolsworld.com/search/?query=704349"]
[704359,"Központfúró 55 mm, hatoldalú rúd// MTX",933,"B","Active",{"$f":"VLOOKUP(A2861,[1]Sheet1!$A$1:$C$65512,3,FALSE)","v":242},null,null,"No info","линк","https://bg.toolsworld.com/search/?query=","https://bg.toolsworld.com/search/?query=704359"]
[704405,"5 db Forstner fúrókészlet 10-15-20-25-35mm, fa tok// Sparta",4130,"B","Active",{"$f":"VLOOKUP(A2862,[1]Sheet1!$A$1:$C$65512,3,FALSE)","v":131},null,null,"No info","линк","https://bg.toolsworld.com/search/?query=","https://bg.toolsworld.com/search/?query=704405"]
[704709,"Lyukfurész fához , 60-67-74-81-95mm 1 1/ 2\"// MTX",1945,"B","Active",{"$f":"VLOOKUP(A2863,[1]Sheet1!$A$1:$C$65512,3,FALSE)","v":85},null,null,"No info","линк","https://bg.toolsworld.com/search/?query=","https://bg.toolsworld.com/search/?query=704709"]
[704729,"Lyukfurész fához,  szett 19-127mm, 13 db// MTX",2998,"B","Active",{"$f":"VLOOKUP(A2864,[1]Sheet1!$A$1:$C$65512,3,FALSE)","v":567},null,null,"No info","линк","https://bg.toolsworld.com/search/?query=",{"$f":"CONCATENATE(K2864,A2864)","v":"https://bg.toolsworld.com/search/?query=704729"}]
[704899,"Forstner  fafúró 32 mm, karbid pengék, egyenes szárú// MTX",1077,"B","Active",{"$f":"VLOOKUP(A2865,[1]Sheet1!$A$1:$C$65512,3,FALSE)","v":42},null,null,"No info","линк","https://bg.toolsworld.com/search/?query=","https://bg.toolsworld.com/search/?query=704899"]
[704909,"Forstner  fafúró 35 mm, karbid pengék, egyenes szárú// MTX",1187,"B","Active",{"$f":"VLOOKUP(A2866,[1]Sheet1!$A$1:$C$65512,3,FALSE)","v":267},null,null,"No info","линк","https://bg.toolsworld.com/search/?query=","https://bg.toolsworld.com/search/?query=704909"]
[704919,"Zárszerelo szett, 22 mm/48 mm, fúrószerszám, 3 db// MTX PROFESSIONAL",2047,"B","Active",{"$f":"VLOOKUP(A2867,[1]Sheet1!$A$1:$C$65512,3,FALSE)","v":35},null,null,"No info","линк","https://bg.toolsworld.com/search/?query=","https://bg.toolsworld.com/search/?query=704919"]
[704929,"Zárszerelo szett, 22 mm/54 mm, fúrószerszám, 3 db// MTX PROFESSIONAL",2081,"B","Active",{"$f":"VLOOKUP(A2868,[1]Sheet1!$A$1:$C$65512,3,FALSE)","v":56},null,null,"No info","линк","https://bg.toolsworld.com/search/?query=","https://bg.toolsworld.com/search/?query=704929"]
[704979,"Állítható lukvágó 30-120mm// MTX",1680,"B","Active",{"$f":"VLOOKUP(A2869,[1]Sheet1!$A$1:$C$65512,3,FALSE)","v":232},null,null,"No info","линк","https://bg.toolsworld.com/search/?query=","https://bg.toolsworld.com/search/?query=704979"]
[704999,"Rotációs reszelo fához,  szett 5 db // MTX",1108,"B","Active",{"$f":"VLOOKUP(A2870,[1]Sheet1!$A$1:$C$65512,3,FALSE)","v":694},null,null,"No info","линк","https://bg.toolsworld.com/search/?query=","https://bg.toolsworld.com/search/?query=704999"]
[706269,"SDS-plus drill bit, 6 x 110 mm, Cross TIP//MTX",316,"B","Active",{"$f":"VLOOKUP(A2871,[1]Sheet1!$A$1:$C$65512,3,FALSE)","v":1518},null,null,"No info","линк","https://bg.toolsworld.com/search/?query=","https://bg.toolsworld.com/search/?query=706269"]
[706289,"SDS-plus drill bit, 8 x 110 mm, Cross TIP//MTX",324,"B","Active",{"$f":"VLOOKUP(A2872,[1]Sheet1!$A$1:$C$65512,3,FALSE)","v":680},null,null,"No info","линк","https://bg.toolsworld.com/search/?query=","https://bg.toolsworld.com/search/?query=706289"]
[706309,"SDS-plus drill bit, 10 x 110 mm, Cross TIP//MTX",395,"B","Active",{"$f":"VLOOKUP(A2873,[1]Sheet1!$A$1:$C$65512,3,FALSE)","v":327},null,null,"No info","линк","https://bg.toolsworld.com/search/?query=","https://bg.toolsworld.com/search/?query=706309"]
[706369,"SDS-plus drill bit, 6 x 160 mm, Cross TIP//MTX",348,"B","Active",{"$f":"VLOOKUP(A2874,[1]Sheet1!$A$1:$C$65512,3,FALSE)","v":1359},null,null,"No info","линк","https://bg.toolsworld.com/search/?query=","https://bg.toolsworld.com/search/?query=706369"]
[706389,"SDS-plus drill bit, 8 x 160 mm, Cross TIP//MTX",405,"B","Active",{"$f":"VLOOKUP(A2875,[1]Sheet1!$A$1:$C$65512,3,FALSE)","v":496},null,null,"No info","линк","https://bg.toolsworld.com/search/?query=","https://bg.toolsworld.com/search/?query=706389"]
[706409,"SDS-plus drill bit, 10 x 160 mm, Cross TIP//MTX",495,"B","Active",{"$f":"VLOOKUP(A2876,[1]Sheet1!$A$1:$C$65512,3,FALSE)","v":524},null,null,"No info","линк","https://bg.toolsworld.com/search/?query=","https://bg.toolsworld.com/search/?query=706409"]
[706429,"SDS-plus drill bit, 12 x 160 mm, Cross TIP//MTX",576,"B","Active",{"$f":"VLOOKUP(A2877,[1]Sheet1!$A$1:$C$65512,3,FALSE)","v":139},null,null,"No info","линк","https://bg.toolsworld.com/search/?query=","https://bg.toolsworld.com/search/?query=706429"]
[706469,"SDS-plus drill bit, 6 x 210 mm, Cross TIP//MTX",430,"B","Active",{"$f":"VLOOKUP(A2878,[1]Sheet1!$A$1:$C$65512,3,FALSE)","v":548},null,null,"No info","линк","https://bg.toolsworld.com/search/?query=","https://bg.toolsworld.com/search/?query=706469"]
[706489,"SDS-plus drill bit, 8 x 210 mm, Cross TIP//MTX",485,"B","Active",{"$f":"VLOOKUP(A2879,[1]Sheet1!$A$1:$C$65512,3,FALSE)","v":512},null,null,"No info","линк","https://bg.toolsworld.com/search/?query=","https://bg.toolsworld.com/search/?query=706489"]
[706509,"SDS-plus drill bit, 10 x 210 mm, Cross TIP//MTX",566,"B","Active",{"$f":"VLOOKUP(A2880,[1]Sheet1!$A$1:$C$65512,3,FALSE)","v":936},null,null,"No info","линк","https://bg.toolsworld.com/search/?query=","https://bg.toolsworld.com/search/?query=706509"]
[706529,"SDS-plus drill bit, 12 x 210 mm, Cross TIP//MTX",674,"B","Active",{"$f":"VLOOKUP(A2881,[1]Sheet1!$A$1:$C$65512,3,FALSE)","v":267},null,null,"No info","линк","https://bg.toolsworld.com/search/?query=","https://bg.toolsworld.com/search/?query=706529"]
[707019,"Komuves fúrófej 4 x 75 mm, háromszög formájú szár// MTX",126,"B","Active",{"$f":"VLOOKUP(A2882,[1]Sheet1!$A$1:$C$65512,3,FALSE)","v":23},null,null,"No info","линк","https://bg.toolsworld.com/search/?query=","https://bg.toolsworld.com/search/?query=707019"]
[707029,"Komuves fúrófej 5 x 85 mm, háromszög formájú szár// MTX",138,"B","Active",{"$f":"VLOOKUP(A2883,[1]Sheet1!$A$1:$C$65512,3,FALSE)","v":282},null,null,"No info","линк","https://bg.toolsworld.com/search/?query=","https://bg.toolsworld.com/search/?query=707029"]
[707049,"Komuves fúrófej 6 x 100 mm, háromszög formájú szár// MTX",173,"B","Active",{"$f":"VLOOKUP(A2884,[1]Sheet1!$A$1:$C$65512,3,FALSE)","v":1093},null,null,"No info","линк","https://bg.toolsworld.com/search/?query=","https://bg.toolsworld.com/search/?query=707049"]
[707059,"Komuves fúrófej 6 x 150 mm, háromszög formájú szár// MTX",216,"B","Active",{"$f":"VLOOKUP(A2885,[1]Sheet1!$A$1:$C$65512,3,FALSE)","v":685},null,null,"No info","линк","https://bg.toolsworld.com/search/?query=","https://bg.toolsworld.com/search/?query=707059"]
[707069,"Komuves fúrófej 6 x 200 mm, háromszög formájú szár// MTX",299,"B","Active",{"$f":"VLOOKUP(A2886,[1]Sheet1!$A$1:$C$65512,3,FALSE)","v":949},null,null,"No info","линк","https://bg.toolsworld.com/search/?query=","https://bg.toolsworld.com/search/?query=707069"]
[707079,"Komuves fúrófej 8 x 120 mm, háromszög formájú szár// MTX",198,"B","Active",{"$f":"VLOOKUP(A2887,[1]Sheet1!$A$1:$C$65512,3,FALSE)","v":583},null,null,"No info","линк","https://bg.toolsworld.com/search/?query=","https://bg.toolsworld.com/search/?query=707079"]
[707109,"Komuves fúrófej 10 x 120 mm, háromszög formájú szár// MTX",259,"B","Active",{"$f":"VLOOKUP(A2888,[1]Sheet1!$A$1:$C$65512,3,FALSE)","v":160},null,null,"No info","линк","https://bg.toolsworld.com/search/?query=","https://bg.toolsworld.com/search/?query=707109"]
[707139,"Komuves fúrófej 12 x 150 mm, háromszög formájú szár// MTX",328,"B","Active",{"$f":"VLOOKUP(A2889,[1]Sheet1!$A$1:$C$65512,3,FALSE)","v":350},null,null,"No info","линк","https://bg.toolsworld.com/search/?query=","https://bg.toolsworld.com/search/?query=707139"]
[707209,"Komuves fúrófej 4 x 75 mm, háromszög formájú szár, központosított fej// MTX",112,"B","Active",{"$f":"VLOOKUP(A2890,[1]Sheet1!$A$1:$C$65512,3,FALSE)","v":781},null,null,"No info","линк","https://bg.toolsworld.com/search/?query=","https://bg.toolsworld.com/search/?query=707209"]
[707219,"Kőművesfúró 5 x 85 mm, háromszög szár, központosítás TIP// MTX",130,"B","Active",{"$f":"VLOOKUP(A2891,[1]Sheet1!$A$1:$C$65512,3,FALSE)","v":940},null,null,"No info","линк","https://bg.toolsworld.com/search/?query=","https://bg.toolsworld.com/search/?query=707219"]
[707229,"Falazófúró 6 x 100 mm, háromszög szár, központosítás TIP// MTX",165,"B","Active",{"$f":"VLOOKUP(A2892,[1]Sheet1!$A$1:$C$65512,3,FALSE)","v":1014},null,null,"No info","линк","https://bg.toolsworld.com/search/?query=","https://bg.toolsworld.com/search/?query=707229"]
[707239,"Falazófúró 8 x 120 mm, háromszög szár, központosítás TIP// MTX",179,"B","Active",{"$f":"VLOOKUP(A2893,[1]Sheet1!$A$1:$C$65512,3,FALSE)","v":421},null,null,"No info","линк","https://bg.toolsworld.com/search/?query=","https://bg.toolsworld.com/search/?query=707239"]
[707249,"Falazófúró 10 x 120 mm, háromszög alakú szár, központosító TIP// MTX",220,"B","Active",{"$f":"VLOOKUP(A2894,[1]Sheet1!$A$1:$C$65512,3,FALSE)","v":45},null,null,"No info","линк","https://bg.toolsworld.com/search/?query=","https://bg.toolsworld.com/search/?query=707249"]
[707259,"Falazófúró 12 x 150 mm, háromszög szár, központosítás TIP// MTX",281,"B","Active",{"$f":"VLOOKUP(A2895,[1]Sheet1!$A$1:$C$65512,3,FALSE)","v":24},null,null,"No info","линк","https://bg.toolsworld.com/search/?query=","https://bg.toolsworld.com/search/?query=707259"]
[708049,"Komuves fúrófej, 4 x 75 mm, Golden Line sorozat// MTX",126,"B","Active",{"$f":"VLOOKUP(A2896,[1]Sheet1!$A$1:$C$65512,3,FALSE)","v":{"$error":"#N/A"}},null,null,"No info","линк","https://bg.toolsworld.com/search/?query=","https://bg.toolsworld.com/search/?query=708049"]
[708059,"Komuves fúrófej, 5 x 85 mm, Golden Line sorozat// MTX",140,"B","Active",{"$f":"VLOOKUP(A2897,[1]Sheet1!$A$1:$C$65512,3,FALSE)","v":{"$error":"#N/A"}},null,null,"No info","линк","https://bg.toolsworld.com/search/?query=","https://bg.toolsworld.com/search/?query=708059"]
[708069,"Komuves fúrófej, 6 x 100 mm, Golden Line sorozat// MTX",183,"B","Active",{"$f":"VLOOKUP(A2898,[1]Sheet1!$A$1:$C$65512,3,FALSE)","v":614},null,null,"No info","линк","https://bg.toolsworld.com/search/?query=","https://bg.toolsworld.com/search/?query=708069"]
[708089,"Komuves fúrófej, 8 x 120 mm, Golden Line sorozat// MTX",242,"B","Active",{"$f":"VLOOKUP(A2899,[1]Sheet1!$A$1:$C$65512,3,FALSE)","v":38},null,null,"No info","линк","https://bg.toolsworld.com/search/?query=","https://bg.toolsworld.com/search/?query=708089"]
[708109,"Komuves fúrófej, 10 x 120 mm, Golden Line sorozat// MTX",289,"B","Active",{"$f":"VLOOKUP(A2900,[1]Sheet1!$A$1:$C$65512,3,FALSE)","v":378},null,null,"No info","линк","https://bg.toolsworld.com/search/?query=","https://bg.toolsworld.com/search/?query=708109"]
[708129,"Komuves fúrófej, 12 x 150 mm, Golden Line sorozat// MTX",399,"B","Active",{"$f":"VLOOKUP(A2901,[1]Sheet1!$A$1:$C$65512,3,FALSE)","v":195},null,null,"No info","линк","https://bg.toolsworld.com/search/?query=","https://bg.toolsworld.com/search/?query=708129"]
[708259,"Komuves fúrófej set  5-6-8-10 mm, Golden Line sorozat// MTX",737,"B","Active",{"$f":"VLOOKUP(A2902,[1]Sheet1!$A$1:$C$65512,3,FALSE)","v":{"$error":"#N/A"}},null,null,"No info","линк","https://bg.toolsworld.com/search/?query=","https://bg.toolsworld.com/search/?query=708259"]
[708549,"Komuves fúrófej, 4 x 75 mm, egyenes szárú// MTX",128,"B","Active",{"$f":"VLOOKUP(A2903,[1]Sheet1!$A$1:$C$65512,3,FALSE)","v":223},null,null,"No info","линк","https://bg.toolsworld.com/search/?query=","https://bg.toolsworld.com/search/?query=708549"]
[708559,"Komuves fúrófej, 5 x 85 mm, egyenes szárú// MTX",141,"B","Active",{"$f":"VLOOKUP(A2904,[1]Sheet1!$A$1:$C$65512,3,FALSE)","v":153},null,null,"No info","линк","https://bg.toolsworld.com/search/?query=","https://bg.toolsworld.com/search/?query=708559"]
[708569,"Komuves fúrófej, 6 x 100 mm, egyenes szárú// MTX",163,"B","Active",{"$f":"VLOOKUP(A2905,[1]Sheet1!$A$1:$C$65512,3,FALSE)","v":141},null,null,"No info","линк","https://bg.toolsworld.com/search/?query=","https://bg.toolsworld.com/search/?query=708569"]
[708589,"Komuves fúrófej, 8 x 120 mm, egyenes szárú// MTX",183,"B","Active",{"$f":"VLOOKUP(A2906,[1]Sheet1!$A$1:$C$65512,3,FALSE)","v":208},null,null,"No info","линк","https://bg.toolsworld.com/search/?query=","https://bg.toolsworld.com/search/?query=708589"]
[708609,"Komuves fúrófej, 10 x 120 mm, egyenes szárú// MTX",250,"B","Active",{"$f":"VLOOKUP(A2907,[1]Sheet1!$A$1:$C$65512,3,FALSE)","v":800},null,null,"No info","линк","https://bg.toolsworld.com/search/?query=","https://bg.toolsworld.com/search/?query=708609"]
[708629,"Komuves fúrófej, 12 x 150 mm, egyenes szárú// MTX",346,"B","Active",{"$f":"VLOOKUP(A2908,[1]Sheet1!$A$1:$C$65512,3,FALSE)","v":{"$error":"#N/A"}},null,null,"No info","линк","https://bg.toolsworld.com/search/?query=","https://bg.toolsworld.com/search/?query=708629"]
[708669,"Komuves fúrófej, 6 x 200 mm, egyenes szárú// MTX",275,"B","Active",{"$f":"VLOOKUP(A2909,[1]Sheet1!$A$1:$C$65512,3,FALSE)","v":468},null,null,"No info","линк","https://bg.toolsworld.com/search/?query=","https://bg.toolsworld.com/search/?query=708669"]
[708689,"Komuves fúrófej, 8 x 200 mm, egyenes szárú// MTX",326,"B","Active",{"$f":"VLOOKUP(A2910,[1]Sheet1!$A$1:$C$65512,3,FALSE)","v":399},null,null,"No info","линк","https://bg.toolsworld.com/search/?query=","https://bg.toolsworld.com/search/?query=708689"]
[708709,"Komuves fúrófej, 10 x 200 mm, egyenes szárú// MTX",381,"B","Active",{"$f":"VLOOKUP(A2911,[1]Sheet1!$A$1:$C$65512,3,FALSE)","v":381},null,null,"No info","линк","https://bg.toolsworld.com/search/?query=","https://bg.toolsworld.com/search/?query=708709"]
[708729,"Komuves fúrófej, 12 x 200 mm, egyenes szárú// MTX",438,"B","Active",{"$f":"VLOOKUP(A2912,[1]Sheet1!$A$1:$C$65512,3,FALSE)","v":36},null,null,"No info","линк","https://bg.toolsworld.com/search/?query=","https://bg.toolsworld.com/search/?query=708729"]
[708789,"Komuves fúrófej, 8 x 400 mm, egyenes szárú// MTX",426,"B","Active",{"$f":"VLOOKUP(A2913,[1]Sheet1!$A$1:$C$65512,3,FALSE)","v":272},null,null,"No info","линк","https://bg.toolsworld.com/search/?query=","https://bg.toolsworld.com/search/?query=708789"]
[708809,"Komuves fúrófej, 10 x 400 mm, egyenes szárú// MTX",713,"B","Active",{"$f":"VLOOKUP(A2914,[1]Sheet1!$A$1:$C$65512,3,FALSE)","v":34},null,null,"No info","линк","https://bg.toolsworld.com/search/?query=","https://bg.toolsworld.com/search/?query=708809"]
[708829,"Komuves fúrófej, 12 x 400 mm, egyenes szárú// MTX",819,"B","Active",{"$f":"VLOOKUP(A2915,[1]Sheet1!$A$1:$C$65512,3,FALSE)","v":28},null,null,"No info","линк","https://bg.toolsworld.com/search/?query=","https://bg.toolsworld.com/search/?query=708829"]
[708849,"Komuves fúrófej, 12 x 600 mm, egyenes szárú// MTX",1179,"B","Active",{"$f":"VLOOKUP(A2916,[1]Sheet1!$A$1:$C$65512,3,FALSE)","v":47},null,null,"No info","линк","https://bg.toolsworld.com/search/?query=","https://bg.toolsworld.com/search/?query=708849"]
[709129,"SDS-plus fúrófej, 18 x 300 mm, központosított fej// MTX",1175,"B","Active",{"$f":"VLOOKUP(A2917,[1]Sheet1!$A$1:$C$65512,3,FALSE)","v":180},null,null,"No info","линк","https://bg.toolsworld.com/search/?query=","https://bg.toolsworld.com/search/?query=709129"]
[709149,"SDS-plus fúrófej, 20 x 300 mm, központosított fej// MTX",1509,"B","Active",{"$f":"VLOOKUP(A2918,[1]Sheet1!$A$1:$C$65512,3,FALSE)","v":136},null,null,"No info","линк","https://bg.toolsworld.com/search/?query=","https://bg.toolsworld.com/search/?query=709149"]
[709169,"SDS-plus fúrófej, 22 x 300 mm, központosított fej// MTX",1757,"B","Active",{"$f":"VLOOKUP(A2919,[1]Sheet1!$A$1:$C$65512,3,FALSE)","v":82},null,null,"No info","линк","https://bg.toolsworld.com/search/?query=","https://bg.toolsworld.com/search/?query=709169"]
[709189,"SDS-plus fúrófej, 24 x 300 mm, központosított fej// MTX",2238,"B","Active",{"$f":"VLOOKUP(A2920,[1]Sheet1!$A$1:$C$65512,3,FALSE)","v":35},null,null,"No info","линк","https://bg.toolsworld.com/search/?query=","https://bg.toolsworld.com/search/?query=709189"]
[709229,"SDS-plus fúrófej, 26 x 300 mm, központosított fej// MTX",2554,"B","Active",{"$f":"VLOOKUP(A2921,[1]Sheet1!$A$1:$C$65512,3,FALSE)","v":4},null,null,"No info","линк","https://bg.toolsworld.com/search/?query=","https://bg.toolsworld.com/search/?query=709229"]
[709269,"SDS-plus fúrófej, 28 x 300 mm, központosított fej// MTX",2959,"B","Active",{"$f":"VLOOKUP(A2922,[1]Sheet1!$A$1:$C$65512,3,FALSE)","v":30},null,null,"No info","линк","https://bg.toolsworld.com/search/?query=","https://bg.toolsworld.com/search/?query=709269"]
[709289,"SDS-plus fúrófej, 30 x 300 mm, központosított fej// MTX",3441,"B","Active",{"$f":"VLOOKUP(A2923,[1]Sheet1!$A$1:$C$65512,3,FALSE)","v":19},null,null,"No info","линк","https://bg.toolsworld.com/search/?query=","https://bg.toolsworld.com/search/?query=709289"]
[709329,"SDS-plus fúrófej, 32 x 300 mm, központosított fej// MTX",4698,"B","Active",{"$f":"VLOOKUP(A2924,[1]Sheet1!$A$1:$C$65512,3,FALSE)","v":36},null,null,"No info",{"$f":"HYPERLINK(L2924,\"линк\")","v":"линк"},"https://bg.toolsworld.com/search/?query=","https://bg.toolsworld.com/search/?query=709329"]
[709649,"SDS-plus fúrófej, 26 x 600 mm, központosított fej// MTX",4783,"B","Active",{"$f":"VLOOKUP(A2925,[1]Sheet1!$A$1:$C$65512,3,FALSE)","v":63},null,null,"No info","линк","https://bg.toolsworld.com/search/?query=","https://bg.toolsworld.com/search/?query=709649"]
[709689,"SDS-plus fúrófej, 30 x 600 mm, központosított fej// MTX",7207,"B","Active",{"$f":"VLOOKUP(A2926,[1]Sheet1!$A$1:$C$65512,3,FALSE)","v":54},null,null,"No info","линк","https://bg.toolsworld.com/search/?query=","https://bg.toolsworld.com/search/?query=709689"]
[709709,"SDS-plus fúrófej, 32 x 600 mm, központosított fej// MTX",8347,"B","Active",{"$f":"VLOOKUP(A2927,[1]Sheet1!$A$1:$C$65512,3,FALSE)","v":13},null,null,"No info","линк","https://bg.toolsworld.com/search/?query=","https://bg.toolsworld.com/search/?query=709709"]
[710019,"SDS-plus fúrófej, 4 x 110 mm, központosított fej// MTX",234,"B","Active",{"$f":"VLOOKUP(A2928,[1]Sheet1!$A$1:$C$65512,3,FALSE)","v":416},null,null,"No info","линк","https://bg.toolsworld.com/search/?query=",{"$f":"CONCATENATE(K2928,A2928)","v":"https://bg.toolsworld.com/search/?query=710019"}]
[710029,"SDS-plus fúrófej, 5 x 110 mm, központosított fej// MTX",244,"B","Active",{"$f":"VLOOKUP(A2929,[1]Sheet1!$A$1:$C$65512,3,FALSE)","v":107},null,null,"No info","линк","https://bg.toolsworld.com/search/?query=","https://bg.toolsworld.com/search/?query=710029"]
[710039,"SDS-plus fúrófej, 6 x 110 mm, központosított fej// MTX",253,"B","Active",{"$f":"VLOOKUP(A2930,[1]Sheet1!$A$1:$C$65512,3,FALSE)","v":976},null,null,"No info","линк","https://bg.toolsworld.com/search/?query=","https://bg.toolsworld.com/search/?query=710039"]
[710049,"SDS-plus drill bit, 5,5 x 110 mm, Centering TIP//MTX",244,"B","Active",{"$f":"VLOOKUP(A2931,[1]Sheet1!$A$1:$C$65512,3,FALSE)","v":54},null,null,"No info","линк","https://bg.toolsworld.com/search/?query=","https://bg.toolsworld.com/search/?query=710049"]
[710059,"SDS-plus fúrófej, 8 x 110 mm, központosított fej// MTX",259,"B","Active",{"$f":"VLOOKUP(A2932,[1]Sheet1!$A$1:$C$65512,3,FALSE)","v":213},null,null,"No info","линк","https://bg.toolsworld.com/search/?query=","https://bg.toolsworld.com/search/?query=710059"]
[710069,"SDS-plus drill bit, 5,5 x 160 mm, Centering TIP//MTX",279,"B","Active",{"$f":"VLOOKUP(A2933,[1]Sheet1!$A$1:$C$65512,3,FALSE)","v":94},null,null,"No info","линк","https://bg.toolsworld.com/search/?query=","https://bg.toolsworld.com/search/?query=710069"]
[710079,"SDS-plus fúrófej, 10 x 110 mm, központosított fej// MTX",316,"B","Active",{"$f":"VLOOKUP(A2934,[1]Sheet1!$A$1:$C$65512,3,FALSE)","v":92},null,null,"No info","линк","https://bg.toolsworld.com/search/?query=","https://bg.toolsworld.com/search/?query=710079"]
[710099,"SDS-plus drill bit, 6,5 x 110 mm, Centering TIP//MTX",250,"B","Active",{"$f":"VLOOKUP(A2935,[1]Sheet1!$A$1:$C$65512,3,FALSE)","v":364},null,null,"No info","линк","https://bg.toolsworld.com/search/?query=","https://bg.toolsworld.com/search/?query=710099"]
[710109,"SDS-plus drill bit, 6,5 x 160 mm, Centering TIP//MTX",293,"B","Active",{"$f":"VLOOKUP(A2936,[1]Sheet1!$A$1:$C$65512,3,FALSE)","v":156},null,null,"No info","линк","https://bg.toolsworld.com/search/?query=","https://bg.toolsworld.com/search/?query=710109"]
[710119,"SDS-plus drill bit, 6,5 x 210 mm, Centering TIP//MTX",364,"B","Active",{"$f":"VLOOKUP(A2937,[1]Sheet1!$A$1:$C$65512,3,FALSE)","v":97},null,null,"No info","линк","https://bg.toolsworld.com/search/?query=","https://bg.toolsworld.com/search/?query=710119"]
[710169,"SDS-plus fúrófej, 6 x 160 mm, központosított fej// MTX",281,"B","Active",{"$f":"VLOOKUP(A2938,[1]Sheet1!$A$1:$C$65512,3,FALSE)","v":1603},null,null,"No info","линк","https://bg.toolsworld.com/search/?query=","https://bg.toolsworld.com/search/?query=710169"]
[710189,"SDS-plus fúrófej, 8 x 160 mm, központosított fej// MTX",334,"B","Active",{"$f":"VLOOKUP(A2939,[1]Sheet1!$A$1:$C$65512,3,FALSE)","v":438},null,null,"No info","линк","https://bg.toolsworld.com/search/?query=","https://bg.toolsworld.com/search/?query=710189"]
[710229,"SDS-plus fúrófej, 10 x 160 mm, központosított fej// MTX",373,"B","Active",{"$f":"VLOOKUP(A2940,[1]Sheet1!$A$1:$C$65512,3,FALSE)","v":149},null,null,"No info","линк","https://bg.toolsworld.com/search/?query=","https://bg.toolsworld.com/search/?query=710229"]
[710239,"SDS-plus fúrófej, 12 x 160 mm, központosított fej// MTX",420,"B","Active",{"$f":"VLOOKUP(A2941,[1]Sheet1!$A$1:$C$65512,3,FALSE)","v":292},null,null,"No info","линк","https://bg.toolsworld.com/search/?query=","https://bg.toolsworld.com/search/?query=710239"]
[710249,"SDS-plus fúrófej, 14 x 160 mm, központosított fej// MTX",507,"B","Active",{"$f":"VLOOKUP(A2942,[1]Sheet1!$A$1:$C$65512,3,FALSE)","v":187},null,null,"No info","линк","https://bg.toolsworld.com/search/?query=","https://bg.toolsworld.com/search/?query=710249"]
[710269,"SDS-plus fúrófej, 6 x 210 mm, központosított fej// MTX",338,"B","Active",{"$f":"VLOOKUP(A2943,[1]Sheet1!$A$1:$C$65512,3,FALSE)","v":152},null,null,"No info","линк","https://bg.toolsworld.com/search/?query=","https://bg.toolsworld.com/search/?query=710269"]
[710279,"SDS-plus fúrófej, 8 x 210 mm, központosított fej// MTX",395,"B","Active",{"$f":"VLOOKUP(A2944,[1]Sheet1!$A$1:$C$65512,3,FALSE)","v":350},null,null,"No info","линк","https://bg.toolsworld.com/search/?query=","https://bg.toolsworld.com/search/?query=710279"]
[710299,"SDS-plus fúrófej, 10 x 210 mm, központosított fej// MTX",448,"B","Active",{"$f":"VLOOKUP(A2945,[1]Sheet1!$A$1:$C$65512,3,FALSE)","v":401},null,null,"No info","линк","https://bg.toolsworld.com/search/?query=","https://bg.toolsworld.com/search/?query=710299"]
[710319,"SDS-plus fúrófej, 12 x 210 mm, központosított fej// MTX",485,"B","Active",{"$f":"VLOOKUP(A2946,[1]Sheet1!$A$1:$C$65512,3,FALSE)","v":323},null,null,"No info","линк","https://bg.toolsworld.com/search/?query=","https://bg.toolsworld.com/search/?query=710319"]
[710339,"SDS-plus fúrófej, 14 x 210 mm, központosított fej// MTX",644,"B","Active",{"$f":"VLOOKUP(A2947,[1]Sheet1!$A$1:$C$65512,3,FALSE)","v":285},null,null,"No info","линк","https://bg.toolsworld.com/search/?query=","https://bg.toolsworld.com/search/?query=710339"]
[710379,"SDS-plus fúrófej, 12 x 300 mm, központosított fej// MTX",641,"B","Active",{"$f":"VLOOKUP(A2948,[1]Sheet1!$A$1:$C$65512,3,FALSE)","v":346},null,null,"No info","линк","https://bg.toolsworld.com/search/?query=","https://bg.toolsworld.com/search/?query=710379"]
[710389,"SDS-plus fúrófej, 8 x 300 mm, központosított fej// MTX",505,"B","Active",{"$f":"VLOOKUP(A2949,[1]Sheet1!$A$1:$C$65512,3,FALSE)","v":{"$error":"#N/A"}},null,null,"No info","линк","https://bg.toolsworld.com/search/?query=","https://bg.toolsworld.com/search/?query=710389"]
[710399,"SDS-plus fúrófej, 14 x 300 mm, központosított fej// MTX",808,"B","Active",{"$f":"VLOOKUP(A2950,[1]Sheet1!$A$1:$C$65512,3,FALSE)","v":228},null,null,"No info","линк","https://bg.toolsworld.com/search/?query=","https://bg.toolsworld.com/search/?query=710399"]
[710409,"SDS-plus fúrófej, 10 x 300 mm, központosított fej// MTX",597,"B","Active",{"$f":"VLOOKUP(A2951,[1]Sheet1!$A$1:$C$65512,3,FALSE)","v":815},null,null,"No info","линк","https://bg.toolsworld.com/search/?query=","https://bg.toolsworld.com/search/?query=710409"]
[710419,"SDS-plus fúrófej, 16 x 300 mm, központosított fej// MTX",949,"B","Active",{"$f":"VLOOKUP(A2952,[1]Sheet1!$A$1:$C$65512,3,FALSE)","v":69},null,null,"No info","линк","https://bg.toolsworld.com/search/?query=","https://bg.toolsworld.com/search/?query=710419"]
[710429,"SDS-plus fúrófej, 12 x 400 mm, központosított fej// MTX",817,"B","Active",{"$f":"VLOOKUP(A2953,[1]Sheet1!$A$1:$C$65512,3,FALSE)","v":196},null,null,"No info","линк","https://bg.toolsworld.com/search/?query=","https://bg.toolsworld.com/search/?query=710429"]
[710449,"SDS-plus fúrófej, 14 x 400 mm, központosított fej// MTX",1016,"B","Active",{"$f":"VLOOKUP(A2954,[1]Sheet1!$A$1:$C$65512,3,FALSE)","v":115},null,null,"No info","линк","https://bg.toolsworld.com/search/?query=","https://bg.toolsworld.com/search/?query=710449"]
[710469,"SDS-plus fúrófej, 16 x 400 mm, központosított fej// MTX",1462,"B","Active",{"$f":"VLOOKUP(A2955,[1]Sheet1!$A$1:$C$65512,3,FALSE)","v":133},null,null,"No info","линк","https://bg.toolsworld.com/search/?query=","https://bg.toolsworld.com/search/?query=710469"]
[710489,"SDS-plus fúrófej, 18 x 400 mm, központosított fej// MTX",1597,"B","Active",{"$f":"VLOOKUP(A2956,[1]Sheet1!$A$1:$C$65512,3,FALSE)","v":122},null,null,"No info","линк","https://bg.toolsworld.com/search/?query=","https://bg.toolsworld.com/search/?query=710489"]
[710509,"SDS-plus fúrófej, 20 x 400 mm, központosított fej// MTX",1841,"B","Active",{"$f":"VLOOKUP(A2957,[1]Sheet1!$A$1:$C$65512,3,FALSE)","v":15},null,null,"No info","линк","https://bg.toolsworld.com/search/?query=","https://bg.toolsworld.com/search/?query=710509"]
[710529,"SDS-plus fúrófej, 22 x 400 mm, központosított fej// MTX",2238,"B","Active",{"$f":"VLOOKUP(A2958,[1]Sheet1!$A$1:$C$65512,3,FALSE)","v":112},null,null,"No info","линк","https://bg.toolsworld.com/search/?query=","https://bg.toolsworld.com/search/?query=710529"]
[710649,"SDS-plus fúrófej, 14 x 600 mm, központosított fej// MTX",1656,"B","Active",{"$f":"VLOOKUP(A2959,[1]Sheet1!$A$1:$C$65512,3,FALSE)","v":46},null,null,"No info","линк","https://bg.toolsworld.com/search/?query=","https://bg.toolsworld.com/search/?query=710649"]
[710669,"SDS-plus fúrófej, 16 x 600 mm, központosított fej// MTX",1831,"B","Active",{"$f":"VLOOKUP(A2960,[1]Sheet1!$A$1:$C$65512,3,FALSE)","v":110},null,null,"No info","линк","https://bg.toolsworld.com/search/?query=","https://bg.toolsworld.com/search/?query=710669"]
[710689,"SDS-plus fúrófej, 18 x 600 mm, központosított fej// MTX",2273,"B","Active",{"$f":"VLOOKUP(A2961,[1]Sheet1!$A$1:$C$65512,3,FALSE)","v":127},null,null,"No info","линк","https://bg.toolsworld.com/search/?query=","https://bg.toolsworld.com/search/?query=710689"]
[710709,"SDS-plus fúrófej, 20 x 600 mm, központosított fej// MTX",2564,"B","Active",{"$f":"VLOOKUP(A2962,[1]Sheet1!$A$1:$C$65512,3,FALSE)","v":12},null,null,"No info","линк","https://bg.toolsworld.com/search/?query=","https://bg.toolsworld.com/search/?query=710709"]
[710729,"SDS-plus fúrófej, 22 x 600 mm, központosított fej// MTX",3189,"B","Active",{"$f":"VLOOKUP(A2963,[1]Sheet1!$A$1:$C$65512,3,FALSE)","v":13},null,null,"No info","линк","https://bg.toolsworld.com/search/?query=","https://bg.toolsworld.com/search/?query=710729"]
[710939,"Fúrófej szett 5x110mm, 6x110mm, 8x160mm, 3 db SDS-plus, muanyag tartódoboz// MTX",719,"B","Active",{"$f":"VLOOKUP(A2964,[1]Sheet1!$A$1:$C$65512,3,FALSE)","v":222},null,null,"No info","линк","https://bg.toolsworld.com/search/?query=","https://bg.toolsworld.com/search/?query=710939"]
[710949,"SDS-plus fúrófej készlet 5-6-8-10x160mm, muanyag tartódoboz, 4 db// MTX",1387,"B","Active",{"$f":"VLOOKUP(A2965,[1]Sheet1!$A$1:$C$65512,3,FALSE)","v":{"$error":"#N/A"}},null,null,"No info","линк","https://bg.toolsworld.com/search/?query=","https://bg.toolsworld.com/search/?query=710949"]
[710959,"SDS-plus fúrófej készlet 5-6X110mm 6-8-10x160mm, muanyag tartódoboz, 5 db// MTX",1157,"B","Active",{"$f":"VLOOKUP(A2966,[1]Sheet1!$A$1:$C$65512,3,FALSE)","v":236},null,null,"No info","линк","https://bg.toolsworld.com/search/?query=","https://bg.toolsworld.com/search/?query=710959"]
[712279,"SDS-max utvefúró fej, 12 x 400 mm, // MTX",2002,"B","Active",{"$f":"VLOOKUP(A2967,[1]Sheet1!$A$1:$C$65512,3,FALSE)","v":73},null,null,"No info","линк","https://bg.toolsworld.com/search/?query=","https://bg.toolsworld.com/search/?query=712279"]
[712289,"SDS-max utvefúró fej, 14 x 400 mm, kereszt TIP// MTX",2102,"B","Active",{"$f":"VLOOKUP(A2968,[1]Sheet1!$A$1:$C$65512,3,FALSE)","v":30},null,null,"No info","линк","https://bg.toolsworld.com/search/?query=","https://bg.toolsworld.com/search/?query=712289"]
[712299,"SDS-max utvefúró fej, 16 x 400 mm, kereszt TIP// MTX",2309,"B","Active",{"$f":"VLOOKUP(A2969,[1]Sheet1!$A$1:$C$65512,3,FALSE)","v":85},null,null,"No info","линк","https://bg.toolsworld.com/search/?query=","https://bg.toolsworld.com/search/?query=712299"]
[712309,"utvefúró fej, 18 x 400 mm, SDS MAX// MTX",2643,"B","Active",{"$f":"VLOOKUP(A2970,[1]Sheet1!$A$1:$C$65512,3,FALSE)","v":127},null,null,"No info","линк","https://bg.toolsworld.com/search/?query=","https://bg.toolsworld.com/search/?query=712309"]
[712319,"SDS-max utvefúró fej, 20 x 400 mm, // MTX",2725,"B","Active",{"$f":"VLOOKUP(A2971,[1]Sheet1!$A$1:$C$65512,3,FALSE)","v":{"$error":"#N/A"}},null,null,"No info","линк","https://bg.toolsworld.com/search/?query=","https://bg.toolsworld.com/search/?query=712319"]
[712329,"SDS-max utvefúró fej, 22 x 400 mm, // MTX",3305,"B","Active",{"$f":"VLOOKUP(A2972,[1]Sheet1!$A$1:$C$65512,3,FALSE)","v":19},null,null,"No info","линк","https://bg.toolsworld.com/search/?query=","https://bg.toolsworld.com/search/?query=712329"]
[712359,"SDS-max utvefúró fej, 26 x 400 mm, kereszt TIP// MTX",4260,"B","Active",{"$f":"VLOOKUP(A2973,[1]Sheet1!$A$1:$C$65512,3,FALSE)","v":24},null,null,"No info","линк","https://bg.toolsworld.com/search/?query=","https://bg.toolsworld.com/search/?query=712359"]
[712369,"SDS-max utvefúró fej, 28 x 400 mm, kereszt TIP// MTX",4985,"B","Active",{"$f":"VLOOKUP(A2974,[1]Sheet1!$A$1:$C$65512,3,FALSE)","v":56},null,null,"No info","линк","https://bg.toolsworld.com/search/?query=","https://bg.toolsworld.com/search/?query=712369"]
[712389,"SDS-max utvefúró fej, 32 x 400 mm, // MTX",6706,"B","Active",{"$f":"VLOOKUP(A2975,[1]Sheet1!$A$1:$C$65512,3,FALSE)","v":32},null,null,"No info","линк","https://bg.toolsworld.com/search/?query=","https://bg.toolsworld.com/search/?query=712389"]
[712529,"SDS-max utvefúró fej, 12 x 600 mm, kereszt TIP// MTX",2751,"B","Active",{"$f":"VLOOKUP(A2976,[1]Sheet1!$A$1:$C$65512,3,FALSE)","v":12},null,null,"No info","линк","https://bg.toolsworld.com/search/?query=","https://bg.toolsworld.com/search/?query=712529"]
[712539,"SDS-max utvefúró fej, 14 x 600 mm, kereszt TIP// MTX",2902,"B","Active",{"$f":"VLOOKUP(A2977,[1]Sheet1!$A$1:$C$65512,3,FALSE)","v":7},null,null,"No info","линк","https://bg.toolsworld.com/search/?query=","https://bg.toolsworld.com/search/?query=712539"]
[712549,"SDS-max utvefúró fej, 16 x 600 mm, kereszt TIP// MTX",3077,"B","Active",{"$f":"VLOOKUP(A2978,[1]Sheet1!$A$1:$C$65512,3,FALSE)","v":57},null,null,"No info","линк","https://bg.toolsworld.com/search/?query=","https://bg.toolsworld.com/search/?query=712549"]
[712559,"SDS-max utvefúró fej, 18 x 600 mm, // MTX",3496,"B","Active",{"$f":"VLOOKUP(A2979,[1]Sheet1!$A$1:$C$65512,3,FALSE)","v":224},null,null,"No info","линк","https://bg.toolsworld.com/search/?query=","https://bg.toolsworld.com/search/?query=712559"]
[712569,"SDS-max utvefúró fej, 20 x 600 mm, kereszt TIP// MTX",3733,"B","Active",{"$f":"VLOOKUP(A2980,[1]Sheet1!$A$1:$C$65512,3,FALSE)","v":18},null,null,"No info","линк","https://bg.toolsworld.com/search/?query=","https://bg.toolsworld.com/search/?query=712569"]
[712579,"SDS-max utvefúró fej, 22 x 600 mm, kereszt TIP// MTX",4327,"B","Active",{"$f":"VLOOKUP(A2981,[1]Sheet1!$A$1:$C$65512,3,FALSE)","v":30},null,null,"No info","линк","https://bg.toolsworld.com/search/?query=","https://bg.toolsworld.com/search/?query=712579"]
[712589,"SDS-max utvefúró fej, 24 x 600 mm, // MTX",4537,"B","Active",{"$f":"VLOOKUP(A2982,[1]Sheet1!$A$1:$C$65512,3,FALSE)","v":" "},null,null,"No info","линк","https://bg.toolsworld.com/search/?query=","https://bg.toolsworld.com/search/?query=712589"]
[712609,"SDS-max utvefúró fej, 26 x 600 mm, // MTX",5588,"B","Active",{"$f":"VLOOKUP(A2983,[1]Sheet1!$A$1:$C$65512,3,FALSE)","v":12},null,null,"No info","линк","https://bg.toolsworld.com/search/?query=","https://bg.toolsworld.com/search/?query=712609"]
[712619,"SDS-max utvefúró fej, 28 x 600 mm, kereszt TIP// MTX",6370,"B","Active",{"$f":"VLOOKUP(A2984,[1]Sheet1!$A$1:$C$65512,3,FALSE)","v":26},null,null,"No info","линк","https://bg.toolsworld.com/search/?query=","https://bg.toolsworld.com/search/?query=712619"]
[712629,"SDS-max utvefúró fej, 30 x 600 mm, // MTX",7484,"B","Active",{"$f":"VLOOKUP(A2985,[1]Sheet1!$A$1:$C$65512,3,FALSE)","v":{"$error":"#N/A"}},null,null,"No info","линк","https://bg.toolsworld.com/search/?query=","https://bg.toolsworld.com/search/?query=712629"]
[712639,"SDS-max utvefúró fej, 32 x 600 mm, // MTX",8408,"B","Active",{"$f":"VLOOKUP(A2986,[1]Sheet1!$A$1:$C$65512,3,FALSE)","v":20},null,null,"No info","линк","https://bg.toolsworld.com/search/?query=","https://bg.toolsworld.com/search/?query=712639"]
[712649,"SDS-max utvefúró fej, 35 x 600 mm, // MTX",9508,"B","Active",{"$f":"VLOOKUP(A2987,[1]Sheet1!$A$1:$C$65512,3,FALSE)","v":23},null,null,"No info","линк","https://bg.toolsworld.com/search/?query=","https://bg.toolsworld.com/search/?query=712649"]
[712769,"SDS-max utvefúró fej, 30 x 800 mm, kereszt TIP// MTX",9679,"B","Active",{"$f":"VLOOKUP(A2988,[1]Sheet1!$A$1:$C$65512,3,FALSE)","v":21},null,null,"No info",{"$f":"HYPERLINK(L2988,\"линк\")","v":"линк"},"https://bg.toolsworld.com/search/?query=","https://bg.toolsworld.com/search/?query=712769"]
[712779,"SDS-max utvefúró fej, 32 x 800 mm, kereszt TIP// MTX",10500,"B","Active",{"$f":"VLOOKUP(A2989,[1]Sheet1!$A$1:$C$65512,3,FALSE)","v":7},null,null,"No info","линк","https://bg.toolsworld.com/search/?query=","https://bg.toolsworld.com/search/?query=712779"]
[712789,"SDS-max utvefúró fej, 35 x 800 mm, // MTX",12243,"B","Active",{"$f":"VLOOKUP(A2990,[1]Sheet1!$A$1:$C$65512,3,FALSE)","v":56},null,null,"No info","линк","https://bg.toolsworld.com/search/?query=","https://bg.toolsworld.com/search/?query=712789"]
[714029,"Fém fúrófej HSS-Co, 2 mm, 2 db// MTX",216,"B","Active",{"$f":"VLOOKUP(A2991,[1]Sheet1!$A$1:$C$65512,3,FALSE)","v":934},null,null,"No info","линк","https://bg.toolsworld.com/search/?query=","https://bg.toolsworld.com/search/?query=714029"]
[714069,"Fém fúrófej HSS-Co, 2,5 mm, 2 db//MTX",261,"B","Active",{"$f":"VLOOKUP(A2992,[1]Sheet1!$A$1:$C$65512,3,FALSE)","v":448},null,null,"No info","линк","https://bg.toolsworld.com/search/?query=",{"$f":"CONCATENATE(K2992,A2992)","v":"https://bg.toolsworld.com/search/?query=714069"}]
[714119,"Fém fúrófej HSS-Co, 3 mm, 2 db// MTX",299,"B","Active",{"$f":"VLOOKUP(A2993,[1]Sheet1!$A$1:$C$65512,3,FALSE)","v":372},null,null,"No info","линк","https://bg.toolsworld.com/search/?query=","https://bg.toolsworld.com/search/?query=714119"]
[714129,"Fém fúrófej HSS-Co, 3,2 mm, 2 db// MTX",314,"B","Active",{"$f":"VLOOKUP(A2994,[1]Sheet1!$A$1:$C$65512,3,FALSE)","v":519},null,null,"No info","линк","https://bg.toolsworld.com/search/?query=","https://bg.toolsworld.com/search/?query=714129"]
[714179,"Fém fúrófej HSS-Co, 3,5 mm, 2 db// MTX",348,"B","Active",{"$f":"VLOOKUP(A2995,[1]Sheet1!$A$1:$C$65512,3,FALSE)","v":{"$error":"#N/A"}},null,null,"No info","линк","https://bg.toolsworld.com/search/?query=","https://bg.toolsworld.com/search/?query=714179"]
[714199,"Fém fúrófej HSS-Co, 4 mm",253,"B","Active",{"$f":"VLOOKUP(A2996,[1]Sheet1!$A$1:$C$65512,3,FALSE)","v":727},null,null,"No info","линк","https://bg.toolsworld.com/search/?query=","https://bg.toolsworld.com/search/?query=714199"]
[714229,"Fém fúrófej HSS-Co, 4,5 mm// MTX",303,"B","Active",{"$f":"VLOOKUP(A2997,[1]Sheet1!$A$1:$C$65512,3,FALSE)","v":{"$error":"#N/A"}},null,null,"No info","линк","https://bg.toolsworld.com/search/?query=","https://bg.toolsworld.com/search/?query=714229"]
[714239,"Fém fúrófej HSS-Co, 4,8 mm// MTX",383,"B","Active",{"$f":"VLOOKUP(A2998,[1]Sheet1!$A$1:$C$65512,3,FALSE)","v":210},null,null,"No info","линк","https://bg.toolsworld.com/search/?query=","https://bg.toolsworld.com/search/?query=714239"]
[714269,"Fém fúrófej HSS-Co, 5 mm// MTX",399,"B","Active",{"$f":"VLOOKUP(A2999,[1]Sheet1!$A$1:$C$65512,3,FALSE)","v":1421},null,null,"No info","линк","https://bg.toolsworld.com/search/?query=","https://bg.toolsworld.com/search/?query=714269"]
[714299,"Fém fúrófej HSS-Co, 5,5 mm// MTX",460,"B","Active",{"$f":"VLOOKUP(A3000,[1]Sheet1!$A$1:$C$65512,3,FALSE)","v":408},null,null,"No info","линк","https://bg.toolsworld.com/search/?query=","https://bg.toolsworld.com/search/?query=714299"]
[714369,"Fém fúrófej HSS-Co, 6 mm// MTX",483,"B","Active",{"$f":"VLOOKUP(A3001,[1]Sheet1!$A$1:$C$65512,3,FALSE)","v":{"$error":"#N/A"}},null,null,"No info","линк","https://bg.toolsworld.com/search/?query=","https://bg.toolsworld.com/search/?query=714369"]
[714399,"Fém fúrófej HSS-Co, 6,5 mm// MTX",591,"B","Active",{"$f":"VLOOKUP(A3002,[1]Sheet1!$A$1:$C$65512,3,FALSE)","v":612},null,null,"No info","линк","https://bg.toolsworld.com/search/?query=","https://bg.toolsworld.com/search/?query=714399"]
[714479,"Fém fúrófej HSS-Co, 7 mm",676,"B","Active",{"$f":"VLOOKUP(A3003,[1]Sheet1!$A$1:$C$65512,3,FALSE)","v":226},null,null,"No info","линк","https://bg.toolsworld.com/search/?query=","https://bg.toolsworld.com/search/?query=714479"]
[714539,"Fém fúrófej HSS-Co, 7,5 mm// MTX",756,"B","Active",{"$f":"VLOOKUP(A3004,[1]Sheet1!$A$1:$C$65512,3,FALSE)","v":{"$error":"#N/A"}},null,null,"No info","линк","https://bg.toolsworld.com/search/?query=","https://bg.toolsworld.com/search/?query=714539"]
[714589,"Fém fúrófej HSS-Co, 8 mm// MTX",920,"B","Active",{"$f":"VLOOKUP(A3005,[1]Sheet1!$A$1:$C$65512,3,FALSE)","v":{"$error":"#N/A"}},null,null,"No info","линк","https://bg.toolsworld.com/search/?query=","https://bg.toolsworld.com/search/?query=714589"]
[714699,"Fém fúrófej HSS-Co, 9 mm//MTX",1206,"B","Active",{"$f":"VLOOKUP(A3006,[1]Sheet1!$A$1:$C$65512,3,FALSE)","v":235},null,null,"No info","линк","https://bg.toolsworld.com/search/?query=","https://bg.toolsworld.com/search/?query=714699"]
[714729,"Fém fúrófej HSS-Co, 10 mm// MTX",1558,"B","Active",{"$f":"VLOOKUP(A3007,[1]Sheet1!$A$1:$C$65512,3,FALSE)","v":{"$error":"#N/A"}},null,null,"No info","линк","https://bg.toolsworld.com/search/?query=","https://bg.toolsworld.com/search/?query=714729"]
[714829,"Fém fúrófej HSS-Co, 12 mm// MTX",2317,"B","Active",{"$f":"VLOOKUP(A3008,[1]Sheet1!$A$1:$C$65512,3,FALSE)","v":3},null,null,"No info","линк","https://bg.toolsworld.com/search/?query=","https://bg.toolsworld.com/search/?query=714829"]
[715109,"Csiszolt fúrófej, 1,0 mm, HSS, 10 db// MTX",206,"B","Active",{"$f":"VLOOKUP(A3009,[1]Sheet1!$A$1:$C$65512,3,FALSE)","v":130},null,null,"No info","линк","https://bg.toolsworld.com/search/?query=","https://bg.toolsworld.com/search/?query=715109"]
[715159,"Csiszolt fúrófej, 1,5 mm, HSS, 10 db// MTX",232,"B","Active",{"$f":"VLOOKUP(A3010,[1]Sheet1!$A$1:$C$65512,3,FALSE)","v":223},null,null,"No info","линк","https://bg.toolsworld.com/search/?query=","https://bg.toolsworld.com/search/?query=715159"]
[715209,"Csiszolt fúrófej, 2,0 mm, HSS, 10 db// MTX",265,"B","Active",{"$f":"VLOOKUP(A3011,[1]Sheet1!$A$1:$C$65512,3,FALSE)","v":455},null,null,"No info","линк","https://bg.toolsworld.com/search/?query=","https://bg.toolsworld.com/search/?query=715209"]
[715219,"Csiszolt fúrófej, 2,1 mm, HSS, 10 db// MTX",204,"B","Active",{"$f":"VLOOKUP(A3012,[1]Sheet1!$A$1:$C$65512,3,FALSE)","v":13},null,null,"No info","линк","https://bg.toolsworld.com/search/?query=","https://bg.toolsworld.com/search/?query=715219"]
[715239,"Csiszolt fúrófej, 2,3 mm, HSS, 10 db// MTX",204,"B","Active",{"$f":"VLOOKUP(A3013,[1]Sheet1!$A$1:$C$65512,3,FALSE)","v":72},null,null,"No info","линк","https://bg.toolsworld.com/search/?query=","https://bg.toolsworld.com/search/?query=715239"]
[715259,"Csiszolt fúrófej, 2,5 mm, HSS, 10 db// MTX",310,"B","Active",{"$f":"VLOOKUP(A3014,[1]Sheet1!$A$1:$C$65512,3,FALSE)","v":547},null,null,"No info","линк","https://bg.toolsworld.com/search/?query=","https://bg.toolsworld.com/search/?query=715259"]
[715269,"Csiszolt fúrófej, 2,6 mm, HSS, 10 db// MTX",240,"B","Active",{"$f":"VLOOKUP(A3015,[1]Sheet1!$A$1:$C$65512,3,FALSE)","v":53},null,null,"No info","линк","https://bg.toolsworld.com/search/?query=","https://bg.toolsworld.com/search/?query=715269"]
[715279,"Csiszolt fúrófej, 2,7 mm, HSS, 10 db// MTX",240,"B","Active",{"$f":"VLOOKUP(A3016,[1]Sheet1!$A$1:$C$65512,3,FALSE)","v":84},null,null,"No info","линк","https://bg.toolsworld.com/search/?query=","https://bg.toolsworld.com/search/?query=715279"]
[715289,"Csiszolt fúrófej, 2,8 mm, HSS, 10 db// MTX",364,"B","Active",{"$f":"VLOOKUP(A3017,[1]Sheet1!$A$1:$C$65512,3,FALSE)","v":298},null,null,"No info","линк","https://bg.toolsworld.com/search/?query=","https://bg.toolsworld.com/search/?query=715289"]
[715299,"Csiszolt fúrófej, 2,9 mm, HSS, 10 db// MTX",240,"B","Active",{"$f":"VLOOKUP(A3018,[1]Sheet1!$A$1:$C$65512,3,FALSE)","v":54},null,null,"No info","линк","https://bg.toolsworld.com/search/?query=","https://bg.toolsworld.com/search/?query=715299"]
[715309,"Csiszolt fúrófej, 3,0 mm, HSS, 10 db// MTX",393,"B","Active",{"$f":"VLOOKUP(A3019,[1]Sheet1!$A$1:$C$65512,3,FALSE)","v":1096},null,null,"No info","линк","https://bg.toolsworld.com/search/?query=","https://bg.toolsworld.com/search/?query=715309"]
[715319,"Csiszolt fúrófej, 3,1 mm, HSS, 10 db// MTX",283,"B","Active",{"$f":"VLOOKUP(A3020,[1]Sheet1!$A$1:$C$65512,3,FALSE)","v":{"$error":"#N/A"}},null,null,"No info","линк","https://bg.toolsworld.com/search/?query=","https://bg.toolsworld.com/search/?query=715319"]
[715339,"Csiszolt fúrófej, 3,3 mm, HSS, 10 db// MTX",430,"B","Active",{"$f":"VLOOKUP(A3021,[1]Sheet1!$A$1:$C$65512,3,FALSE)","v":190},null,null,"No info","линк","https://bg.toolsworld.com/search/?query=","https://bg.toolsworld.com/search/?query=715339"]
[715349,"Csiszolt fúrófej, 3,4 mm, HSS, 10 db// MTX",354,"B","Active",{"$f":"VLOOKUP(A3022,[1]Sheet1!$A$1:$C$65512,3,FALSE)","v":60},null,null,"No info","линк","https://bg.toolsworld.com/search/?query=","https://bg.toolsworld.com/search/?query=715349"]
[715359,"Csiszolt fúrófej, 3,5 mm, HSS, 10 db// MTX",485,"B","Active",{"$f":"VLOOKUP(A3023,[1]Sheet1!$A$1:$C$65512,3,FALSE)","v":655},null,null,"No info","линк","https://bg.toolsworld.com/search/?query=","https://bg.toolsworld.com/search/?query=715359"]
[715369,"Csiszolt fúrófej, 3,6 mm, HSS, 10 db// MTX",381,"B","Active",{"$f":"VLOOKUP(A3024,[1]Sheet1!$A$1:$C$65512,3,FALSE)","v":79},null,null,"No info","линк","https://bg.toolsworld.com/search/?query=","https://bg.toolsworld.com/search/?query=715369"]
[715379,"Csiszolt fúrófej, 3,7 mm, HSS, 10 db// MTX",381,"B","Active",{"$f":"VLOOKUP(A3025,[1]Sheet1!$A$1:$C$65512,3,FALSE)","v":116},null,null,"No info","линк","https://bg.toolsworld.com/search/?query=","https://bg.toolsworld.com/search/?query=715379"]
[715389,"Csiszolt fúrófej, 3,8 mm, HSS, 10 db// MTX",458,"B","Active",{"$f":"VLOOKUP(A3026,[1]Sheet1!$A$1:$C$65512,3,FALSE)","v":276},null,null,"No info","линк","https://bg.toolsworld.com/search/?query=","https://bg.toolsworld.com/search/?query=715389"]
[715399,"Csiszolt fúrófej, 3,9 mm, HSS, 10 db// MTX",381,"B","Active",{"$f":"VLOOKUP(A3027,[1]Sheet1!$A$1:$C$65512,3,FALSE)","v":86},null,null,"No info","линк","https://bg.toolsworld.com/search/?query=","https://bg.toolsworld.com/search/?query=715399"]
[715409,"Csiszolt fúrófej, 4,0 mm, HSS, 10 db// MTX",505,"B","Active",{"$f":"VLOOKUP(A3028,[1]Sheet1!$A$1:$C$65512,3,FALSE)","v":547},null,null,"No info","линк","https://bg.toolsworld.com/search/?query=","https://bg.toolsworld.com/search/?query=715409"]
[715449,"Csiszolt fúrófej, 4,4 mm, HSS, 10 db// MTX",430,"B","Active",{"$f":"VLOOKUP(A3029,[1]Sheet1!$A$1:$C$65512,3,FALSE)","v":3},null,null,"No info","линк","https://bg.toolsworld.com/search/?query=","https://bg.toolsworld.com/search/?query=715449"]
[715459,"Csiszolt fúrófej, 4,5 mm, HSS, 10 db// MTX",639,"B","Active",{"$f":"VLOOKUP(A3030,[1]Sheet1!$A$1:$C$65512,3,FALSE)","v":203},null,null,"No info","линк","https://bg.toolsworld.com/search/?query=","https://bg.toolsworld.com/search/?query=715459"]
[715469,"Csiszolt fúrófej, 4,6 mm, HSS, 10 db// MTX",532,"B","Active",{"$f":"VLOOKUP(A3031,[1]Sheet1!$A$1:$C$65512,3,FALSE)","v":29},null,null,"No info","линк","https://bg.toolsworld.com/search/?query=","https://bg.toolsworld.com/search/?query=715469"]
[715479,"Csiszolt fúrófej, 4,7 mm, HSS, 10 db// MTX",540,"B","Active",{"$f":"VLOOKUP(A3032,[1]Sheet1!$A$1:$C$65512,3,FALSE)","v":92},null,null,"No info","линк","https://bg.toolsworld.com/search/?query=","https://bg.toolsworld.com/search/?query=715479"]
[715489,"Csiszolt fúrófej, 4,8 mm, HSS, 10 db// MTX",784,"B","Active",{"$f":"VLOOKUP(A3033,[1]Sheet1!$A$1:$C$65512,3,FALSE)","v":9},null,null,"No info","линк","https://bg.toolsworld.com/search/?query=","https://bg.toolsworld.com/search/?query=715489"]
[715499,"Csiszolt fúrófej, 4,9 mm, HSS, 10 db// MTX",784,"B","Active",{"$f":"VLOOKUP(A3034,[1]Sheet1!$A$1:$C$65512,3,FALSE)","v":181},null,null,"No info","линк","https://bg.toolsworld.com/search/?query=","https://bg.toolsworld.com/search/?query=715499"]
[715509,"Csiszolt fúrófej, 5,0 mm, HSS, 10 db// MTX",760,"B","Active",{"$f":"VLOOKUP(A3035,[1]Sheet1!$A$1:$C$65512,3,FALSE)","v":365},null,null,"No info","линк","https://bg.toolsworld.com/search/?query=","https://bg.toolsworld.com/search/?query=715509"]
[715539,"Csiszolt fúrófej, 5,3 mm, HSS, 10 db// MTX",650,"B","Active",{"$f":"VLOOKUP(A3036,[1]Sheet1!$A$1:$C$65512,3,FALSE)","v":37},null,null,"No info","линк","https://bg.toolsworld.com/search/?query=","https://bg.toolsworld.com/search/?query=715539"]
[715559,"Csiszolt fúrófej, 5,5 mm, HSS, 10 db// MTX",796,"B","Active",{"$f":"VLOOKUP(A3037,[1]Sheet1!$A$1:$C$65512,3,FALSE)","v":212},null,null,"No info","линк","https://bg.toolsworld.com/search/?query=","https://bg.toolsworld.com/search/?query=715559"]
[715569,"Csiszolt fúrófej, 5,6 mm, HSS, 10 db// MTX",727,"B","Active",{"$f":"VLOOKUP(A3038,[1]Sheet1!$A$1:$C$65512,3,FALSE)","v":62},null,null,"No info","линк","https://bg.toolsworld.com/search/?query=","https://bg.toolsworld.com/search/?query=715569"]
[715579,"Csiszolt fúrófej, 5,7 mm, HSS, 10 db// MTX",727,"B","Active",{"$f":"VLOOKUP(A3039,[1]Sheet1!$A$1:$C$65512,3,FALSE)","v":116},null,null,"No info","линк","https://bg.toolsworld.com/search/?query=","https://bg.toolsworld.com/search/?query=715579"]
[715589,"Csiszolt fúrófej, 5,8 mm, HSS, 10 db// MTX",727,"B","Active",{"$f":"VLOOKUP(A3040,[1]Sheet1!$A$1:$C$65512,3,FALSE)","v":63},null,null,"No info","линк","https://bg.toolsworld.com/search/?query=","https://bg.toolsworld.com/search/?query=715589"]
[715599,"Csiszolt fúrófej, 5,9 mm, HSS, 10 db// MTX",727,"B","Active",{"$f":"VLOOKUP(A3041,[1]Sheet1!$A$1:$C$65512,3,FALSE)","v":13},null,null,"No info","линк","https://bg.toolsworld.com/search/?query=","https://bg.toolsworld.com/search/?query=715599"]
[715609,"Csiszolt fúrófej, 6,0 mm, HSS, 10 db// MTX",1012,"B","Active",{"$f":"VLOOKUP(A3042,[1]Sheet1!$A$1:$C$65512,3,FALSE)","v":221},null,null,"No info","линк","https://bg.toolsworld.com/search/?query=","https://bg.toolsworld.com/search/?query=715609"]
[715639,"Csiszolt fúrófej, 6,3 mm, HSS, 10 db// MTX",847,"B","Active",{"$f":"VLOOKUP(A3043,[1]Sheet1!$A$1:$C$65512,3,FALSE)","v":40},null,null,"No info","линк","https://bg.toolsworld.com/search/?query=","https://bg.toolsworld.com/search/?query=715639"]
[715649,"Csiszolt fúrófej, 6,4 mm, HSS, 10 db// MTX",847,"B","Active",{"$f":"VLOOKUP(A3044,[1]Sheet1!$A$1:$C$65512,3,FALSE)","v":{"$error":"#N/A"}},null,null,"No info","линк","https://bg.toolsworld.com/search/?query=","https://bg.toolsworld.com/search/?query=715649"]
[715659,"Csiszolt fúrófej, 6,5 mm, HSS, 10 db// MTX",1199,"B","Active",{"$f":"VLOOKUP(A3045,[1]Sheet1!$A$1:$C$65512,3,FALSE)","v":352},null,null,"No info","линк","https://bg.toolsworld.com/search/?query=","https://bg.toolsworld.com/search/?query=715659"]
[715679,"Csiszolt fúrófej, 6,7 mm, HSS, 10 db// MTX",1024,"B","Active",{"$f":"VLOOKUP(A3046,[1]Sheet1!$A$1:$C$65512,3,FALSE)","v":{"$error":"#N/A"}},null,null,"No info","линк","https://bg.toolsworld.com/search/?query=","https://bg.toolsworld.com/search/?query=715679"]
[715709,"Csiszolt fúrófej, 7,0 mm, HSS, 10 db// MTX",1440,"B","Active",{"$f":"VLOOKUP(A3047,[1]Sheet1!$A$1:$C$65512,3,FALSE)","v":125},null,null,"No info","линк","https://bg.toolsworld.com/search/?query=","https://bg.toolsworld.com/search/?query=715709"]
[715759,"Csiszolt fúrófej, 7,5 mm, HSS, 10 db// MTX",1373,"B","Active",{"$f":"VLOOKUP(A3048,[1]Sheet1!$A$1:$C$65512,3,FALSE)","v":299},null,null,"No info","линк","https://bg.toolsworld.com/search/?query=","https://bg.toolsworld.com/search/?query=715759"]
[715809,"Csiszolt fúrófej, 8,0 mm, HSS, 10 db// MTX",1922,"B","Active",{"$f":"VLOOKUP(A3049,[1]Sheet1!$A$1:$C$65512,3,FALSE)","v":111},null,null,"No info","линк","https://bg.toolsworld.com/search/?query=","https://bg.toolsworld.com/search/?query=715809"]
[715859,"Csiszolt fúrófej, 8,5 mm, HSS, 10 db// MTX",2161,"B","Active",{"$f":"VLOOKUP(A3050,[1]Sheet1!$A$1:$C$65512,3,FALSE)","v":65},null,null,"No info","линк","https://bg.toolsworld.com/search/?query=","https://bg.toolsworld.com/search/?query=715859"]
[715909,"Csiszolt fúrófej, 9,0 mm, HSS, 10 db// MTX",2505,"B","Active",{"$f":"VLOOKUP(A3051,[1]Sheet1!$A$1:$C$65512,3,FALSE)","v":125},null,null,"No info","линк","https://bg.toolsworld.com/search/?query=","https://bg.toolsworld.com/search/?query=715909"]
[715959,"Csiszolt fúrófej, 9,5 mm, HSS, 10 db// MTX",2635,"B","Active",{"$f":"VLOOKUP(A3052,[1]Sheet1!$A$1:$C$65512,3,FALSE)","v":42},null,null,"No info",{"$f":"HYPERLINK(L3052,\"линк\")","v":"линк"},"https://bg.toolsworld.com/search/?query=","https://bg.toolsworld.com/search/?query=715959"]
[715999,"Csiszolt fúrófej, 10 mm, HSS, 10 db// MTX",3126,"B","Active",{"$f":"VLOOKUP(A3053,[1]Sheet1!$A$1:$C$65512,3,FALSE)","v":181},null,null,"No info","линк","https://bg.toolsworld.com/search/?query=","https://bg.toolsworld.com/search/?query=715999"]
[720109,"Csiszolt fúrófej, 11 mm, HSS, 5 db// MTX",2004,"B","Active",{"$f":"VLOOKUP(A3054,[1]Sheet1!$A$1:$C$65512,3,FALSE)","v":131},null,null,"No info","линк","https://bg.toolsworld.com/search/?query=","https://bg.toolsworld.com/search/?query=720109"]
[720209,"Polished twist drill bit, 12 mm, HSS, 5 pcs// MTX",2393,"B","Active",{"$f":"VLOOKUP(A3055,[1]Sheet1!$A$1:$C$65512,3,FALSE)","v":122},null,null,"No info","линк","https://bg.toolsworld.com/search/?query=","https://bg.toolsworld.com/search/?query=720209"]
[720309,"Csiszolt fúrófej, 13 mm, HSS, 5 db// MTX",2784,"B","Active",{"$f":"VLOOKUP(A3056,[1]Sheet1!$A$1:$C$65512,3,FALSE)","v":46},null,null,"No info","линк","https://bg.toolsworld.com/search/?query=",{"$f":"CONCATENATE(K3056,A3056)","v":"https://bg.toolsworld.com/search/?query=720309"}]
[720999,"Polished twist drill bit, 20 mm, HSS, 5 pcs// MTX",10689,"B","Active",{"$f":"VLOOKUP(A3057,[1]Sheet1!$A$1:$C$65512,3,FALSE)","v":10},null,null,"No info","линк","https://bg.toolsworld.com/search/?query=","https://bg.toolsworld.com/search/?query=720999"]
[722985,"Fém csavarfúró HSS-R 12,0 mm, 5 db// Сибртех",2417,"B","Active",{"$f":"VLOOKUP(A3058,[1]Sheet1!$A$1:$C$65512,3,FALSE)","v":40},null,null,"No info","линк","https://bg.toolsworld.com/search/?query=","https://bg.toolsworld.com/search/?query=722985"]
[723105,"Fémfúró készlet 4-5-6-8-10 mm, HSS, 5 db // SPARTA",727,"B","Active",{"$f":"VLOOKUP(A3059,[1]Sheet1!$A$1:$C$65512,3,FALSE)","v":338},null,null,"No info","линк","https://bg.toolsworld.com/search/?query=","https://bg.toolsworld.com/search/?query=723105"]
[723205,"8 db Fúrókészlet fémhez 3-10 mm HSS// Sparta",1566,"B","Active",{"$f":"VLOOKUP(A3060,[1]Sheet1!$A$1:$C$65512,3,FALSE)","v":{"$error":"#N/A"}},null,null,"No info","линк","https://bg.toolsworld.com/search/?query=","https://bg.toolsworld.com/search/?query=723205"]
[723355,"Csavart fúró készlet 2-8mm HSS,13 db //SPARTA",1324,"B","Active",{"$f":"VLOOKUP(A3061,[1]Sheet1!$A$1:$C$65512,3,FALSE)","v":183},null,null,"No info","линк","https://bg.toolsworld.com/search/?query=","https://bg.toolsworld.com/search/?query=723355"]
[723539,"Lépcsős fúró fémhez, 4-5-6-7-8-9-10-11-12 mm, HSS, spirálprofil, hatlapú szár",1336,"B","Active",{"$f":"VLOOKUP(A3062,[1]Sheet1!$A$1:$C$65512,3,FALSE)","v":177},null,null,"No info","линк","https://bg.toolsworld.com/search/?query=","https://bg.toolsworld.com/search/?query=723539"]
[723569,"Lépcsőfúró fémhez, 4-6-8-10-12-14-16-18-20 mm, HSS, spirálprofil, hatlapú szár",1963,"B","Active",{"$f":"VLOOKUP(A3063,[1]Sheet1!$A$1:$C$65512,3,FALSE)","v":510},null,null,"No info","линк","https://bg.toolsworld.com/search/?query=","https://bg.toolsworld.com/search/?query=723569"]
[723579,"Step drill for metal, 6-8-10-12-14-16-18-20 -22-24-26-28-30 mm, HSS, spiral prof., triang. Shank",3224,"B","Active",{"$f":"VLOOKUP(A3064,[1]Sheet1!$A$1:$C$65512,3,FALSE)","v":280},null,null,"No info","линк","https://bg.toolsworld.com/search/?query=","https://bg.toolsworld.com/search/?query=723579"]
[723589,"Lépcsőfúró fémhez, 9-12-15-18-21-24-27-30-33-36 mm, HSS, spirálprofil, háromszög szár// MTX",3562,"B","Active",{"$f":"VLOOKUP(A3065,[1]Sheet1!$A$1:$C$65512,3,FALSE)","v":295},null,null,"No info","линк","https://bg.toolsworld.com/search/?query=","https://bg.toolsworld.com/search/?query=723589"]
[723599,"Step drill for metal, 4-6-8-10-12-14-16-18-20-22-24-26-28-30-32 mm, HSS, spiral prof., triang. shank",3230,"B","Active",{"$f":"VLOOKUP(A3066,[1]Sheet1!$A$1:$C$65512,3,FALSE)","v":143},null,null,"No info","линк","https://bg.toolsworld.com/search/?query=","https://bg.toolsworld.com/search/?query=723599"]
[723705,"19 db Csavart fúró készlet 1-10mm, (lépték 0,5mm), HSS, muanyag box// SPARTA",2499,"B","Active",{"$f":"VLOOKUP(A3067,[1]Sheet1!$A$1:$C$65512,3,FALSE)","v":{"$error":"#N/A"}},null,null,"No info","линк","https://bg.toolsworld.com/search/?query=","https://bg.toolsworld.com/search/?query=723705"]
[723839,"Fémfúró készlet, 3–4–5–6–8 mm, HSS, egyenes szárú, 5 db., nitrid-titánborítás, muanyag dobozban// MTX",698,"B","Active",{"$f":"VLOOKUP(A3068,[1]Sheet1!$A$1:$C$65512,3,FALSE)","v":377},null,null,"No info","линк","https://bg.toolsworld.com/search/?query=","https://bg.toolsworld.com/search/?query=723839"]
[723869,"Csavart fúró készlet 1.5-6.5mm HSS fém tartódobozban, 13 db // MTX",1688,"B","Active",{"$f":"VLOOKUP(A3069,[1]Sheet1!$A$1:$C$65512,3,FALSE)","v":{"$error":"#N/A"}},null,null,"No info","линк","https://bg.toolsworld.com/search/?query=","https://bg.toolsworld.com/search/?query=723869"]
[723879,"Fémfúró készlet, 2–8 mm (in 0,5 mm), HSS, egyenes szárú, 13 db., fém tartódobozban// MTX",2446,"B","Active",{"$f":"VLOOKUP(A3070,[1]Sheet1!$A$1:$C$65512,3,FALSE)","v":{"$error":"#N/A"}},null,null,"No info","линк","https://bg.toolsworld.com/search/?query=","https://bg.toolsworld.com/search/?query=723879"]
[723889,"Fémfúró készlet, 1–10 mm (in  0,5 mm), HSS, egyenes szárú, 19 db., fém tartódobozban// MTX",3820,"B","Active",{"$f":"VLOOKUP(A3071,[1]Sheet1!$A$1:$C$65512,3,FALSE)","v":115},null,null,"No info","линк","https://bg.toolsworld.com/search/?query=","https://bg.toolsworld.com/search/?query=723889"]
[724149,"Kettosfém lyukfurész, 14 mm// MTX",407,"B","Active",{"$f":"VLOOKUP(A3072,[1]Sheet1!$A$1:$C$65512,3,FALSE)","v":24},null,null,"No info","линк","https://bg.toolsworld.com/search/?query=","https://bg.toolsworld.com/search/?query=724149"]
[724169,"Kettosfém lyukfurész, 16 mm// MTX",436,"B","Active",{"$f":"VLOOKUP(A3073,[1]Sheet1!$A$1:$C$65512,3,FALSE)","v":3},null,null,"No info","линк","https://bg.toolsworld.com/search/?query=","https://bg.toolsworld.com/search/?query=724169"]
[724199,"Kettosfém lyukfurész, 19 mm// MTX",519,"B","Active",{"$f":"VLOOKUP(A3074,[1]Sheet1!$A$1:$C$65512,3,FALSE)","v":258},null,null,"No info","линк","https://bg.toolsworld.com/search/?query=","https://bg.toolsworld.com/search/?query=724199"]
[724229,"Kettosfém lyukfurész, 22 mm// MTX",601,"B","Active",{"$f":"VLOOKUP(A3075,[1]Sheet1!$A$1:$C$65512,3,FALSE)","v":203},null,null,"No info","линк","https://bg.toolsworld.com/search/?query=","https://bg.toolsworld.com/search/?query=724229"]
[724259,"Kettosfém lyukfurész, 25 mm// MTX",607,"B","Active",{"$f":"VLOOKUP(A3076,[1]Sheet1!$A$1:$C$65512,3,FALSE)","v":127},null,null,"No info","линк","https://bg.toolsworld.com/search/?query=","https://bg.toolsworld.com/search/?query=724259"]
[724299,"Kettosfém lyukfurész, 29 mm// MTX",711,"B","Active",{"$f":"VLOOKUP(A3077,[1]Sheet1!$A$1:$C$65512,3,FALSE)","v":64},null,null,"No info","линк","https://bg.toolsworld.com/search/?query=","https://bg.toolsworld.com/search/?query=724299"]
[724329,"Kettosfém lyukfurész, 32 mm// MTX",782,"B","Active",{"$f":"VLOOKUP(A3078,[1]Sheet1!$A$1:$C$65512,3,FALSE)","v":111},null,null,"No info","линк","https://bg.toolsworld.com/search/?query=","https://bg.toolsworld.com/search/?query=724329"]
[724359,"Kettosfém lyukfurész, 35 mm// MTX",861,"B","Active",{"$f":"VLOOKUP(A3079,[1]Sheet1!$A$1:$C$65512,3,FALSE)","v":213},null,null,"No info","линк","https://bg.toolsworld.com/search/?query=","https://bg.toolsworld.com/search/?query=724359"]
[724419,"Kettosfém lyukfurész, 41 mm// MTX",986,"B","Active",{"$f":"VLOOKUP(A3080,[1]Sheet1!$A$1:$C$65512,3,FALSE)","v":174},null,null,"No info","линк","https://bg.toolsworld.com/search/?query=","https://bg.toolsworld.com/search/?query=724419"]
[724449,"Kettosfém lyukfurész, 44 mm// MTX",1055,"B","Active",{"$f":"VLOOKUP(A3081,[1]Sheet1!$A$1:$C$65512,3,FALSE)","v":132},null,null,"No info","линк","https://bg.toolsworld.com/search/?query=","https://bg.toolsworld.com/search/?query=724449"]
[724519,"Kettosfém lyukfurész, 51 mm// MTX",1293,"B","Active",{"$f":"VLOOKUP(A3082,[1]Sheet1!$A$1:$C$65512,3,FALSE)","v":131},null,null,"No info","линк","https://bg.toolsworld.com/search/?query=","https://bg.toolsworld.com/search/?query=724519"]
[724549,"Kettosfém lyukfurész, 54 mm// MTX",1305,"B","Active",{"$f":"VLOOKUP(A3083,[1]Sheet1!$A$1:$C$65512,3,FALSE)","v":191},null,null,"No info","линк","https://bg.toolsworld.com/search/?query=","https://bg.toolsworld.com/search/?query=724549"]
[724609,"Kettosfém lyukfurész, 60 mm// MTX",1731,"B","Active",{"$f":"VLOOKUP(A3084,[1]Sheet1!$A$1:$C$65512,3,FALSE)","v":251},null,null,"No info","линк","https://bg.toolsworld.com/search/?query=","https://bg.toolsworld.com/search/?query=724609"]
[724649,"Kettosfém lyukfurész, 64 mm// MTX",1847,"B","Active",{"$f":"VLOOKUP(A3085,[1]Sheet1!$A$1:$C$65512,3,FALSE)","v":108},null,null,"No info","линк","https://bg.toolsworld.com/search/?query=","https://bg.toolsworld.com/search/?query=724649"]
[724689,"Kettosfém lyukfurész, 68 mm// MTX",1977,"B","Active",{"$f":"VLOOKUP(A3086,[1]Sheet1!$A$1:$C$65512,3,FALSE)","v":106},null,null,"No info","линк","https://bg.toolsworld.com/search/?query=","https://bg.toolsworld.com/search/?query=724689"]
[724739,"Kettosfém lyukfurész, 73 mm// MTX",2136,"B","Active",{"$f":"VLOOKUP(A3087,[1]Sheet1!$A$1:$C$65512,3,FALSE)","v":67},null,null,"No info","линк","https://bg.toolsworld.com/search/?query=","https://bg.toolsworld.com/search/?query=724739"]
[724839,"Kettosfém lyukfurész, 83 mm// MTX",2189,"B","Active",{"$f":"VLOOKUP(A3088,[1]Sheet1!$A$1:$C$65512,3,FALSE)","v":60},null,null,"No info","линк","https://bg.toolsworld.com/search/?query=","https://bg.toolsworld.com/search/?query=724839"]
[724909,"SDS-plus lyukfurész < 30 mm, pilot fúrófej// MTX",845,"B","Active",{"$f":"VLOOKUP(A3089,[1]Sheet1!$A$1:$C$65512,3,FALSE)","v":184},null,null,"No info","линк","https://bg.toolsworld.com/search/?query=","https://bg.toolsworld.com/search/?query=724909"]
[724929,"SDS-plus lyukfurész > 30 mm, pilot fúrófej// MTX",1470,"B","Active",{"$f":"VLOOKUP(A3090,[1]Sheet1!$A$1:$C$65512,3,FALSE)","v":{"$error":"#N/A"}},null,null,"No info","линк","https://bg.toolsworld.com/search/?query=","https://bg.toolsworld.com/search/?query=724929"]
[724949,"Hex plus lyukfurész < 30 mm, pilot fúrófej// MTX",776,"B","Active",{"$f":"VLOOKUP(A3091,[1]Sheet1!$A$1:$C$65512,3,FALSE)","v":{"$error":"#N/A"}},null,null,"No info","линк","https://bg.toolsworld.com/search/?query=","https://bg.toolsworld.com/search/?query=724949"]
[724969,"Hex plus lyukfurész > 30 mm, pilot fúrófej// MTX",1336,"B","Active",{"$f":"VLOOKUP(A3092,[1]Sheet1!$A$1:$C$65512,3,FALSE)","v":765},null,null,"No info","линк","https://bg.toolsworld.com/search/?query=","https://bg.toolsworld.com/search/?query=724969"]
[725055,"Furészfej készlet betonhoz 5-6-8 mm + fém 5-6-8 mm + fa 5-6-8 mm, 9 db //SPARTA",796,"B","Active",{"$f":"VLOOKUP(A3093,[1]Sheet1!$A$1:$C$65512,3,FALSE)","v":{"$error":"#N/A"}},null,null,"No info","линк","https://bg.toolsworld.com/search/?query=","https://bg.toolsworld.com/search/?query=725055"]
[725085,"Furészfej készlet betonhoz, fémhez, fához 4-5-6-8-10 mm,15 db, muanyag box, hatoldalú rúd //SPARTA",1470,"B","Active",{"$f":"VLOOKUP(A3094,[1]Sheet1!$A$1:$C$65512,3,FALSE)","v":60},null,null,"No info","линк","https://bg.toolsworld.com/search/?query=","https://bg.toolsworld.com/search/?query=725085"]
[725305,"Kombinált szett 3-4-5-6-8-10 mm (HSS+Komuves+fa) muanyag dobozban,18 db // SPARTA",1240,"B","Active",{"$f":"VLOOKUP(A3095,[1]Sheet1!$A$1:$C$65512,3,FALSE)","v":84},null,null,"No info","линк","https://bg.toolsworld.com/search/?query=","https://bg.toolsworld.com/search/?query=725305"]
[725779,"Kombinált fúrófej szett (beton 4-10mm, HSS 2-10mm, fa 4-10mm) + fuldugó, 300 db// MTX",3423,"B","Active",{"$f":"VLOOKUP(A3096,[1]Sheet1!$A$1:$C$65512,3,FALSE)","v":56},null,null,"No info","линк","https://bg.toolsworld.com/search/?query=","https://bg.toolsworld.com/search/?query=725779"]
[726069,"Galvanizált gyémánt lyukfurész, 6 x 67 mm, hatoldalú rúd, 2 db// MTX",872,"B","Active",{"$f":"VLOOKUP(A3097,[1]Sheet1!$A$1:$C$65512,3,FALSE)","v":598},null,null,"No info","линк","https://bg.toolsworld.com/search/?query=","https://bg.toolsworld.com/search/?query=726069"]
[726089,"Galvanizált gyémánt lyukfurész, 8 x 67 mm, hatoldalú rúd, 2 db// MTX",1149,"B","Active",{"$f":"VLOOKUP(A3098,[1]Sheet1!$A$1:$C$65512,3,FALSE)","v":491},null,null,"No info","линк","https://bg.toolsworld.com/search/?query=","https://bg.toolsworld.com/search/?query=726089"]
[726109,"Galvanizált gyémánt lyukfurész, 10 x 67 mm, hatoldalú rúd, 2 db// MTX",1397,"B","Active",{"$f":"VLOOKUP(A3099,[1]Sheet1!$A$1:$C$65512,3,FALSE)","v":358},null,null,"No info","линк","https://bg.toolsworld.com/search/?query=","https://bg.toolsworld.com/search/?query=726109"]
[726129,"Galvanizált gyémánt lyukfurész, 12 x 67 mm, hatoldalú rúd, 2 db// MTX",1682,"B","Active",{"$f":"VLOOKUP(A3100,[1]Sheet1!$A$1:$C$65512,3,FALSE)","v":" "},null,null,"No info","линк","https://bg.toolsworld.com/search/?query=","https://bg.toolsworld.com/search/?query=726129"]
[726149,"Galvanizált gyémánt lyukfurész, 14 x 67 mm  hatoldalú rúd// MTX",1028,"B","Active",{"$f":"VLOOKUP(A3101,[1]Sheet1!$A$1:$C$65512,3,FALSE)","v":28},null,null,"No info","линк","https://bg.toolsworld.com/search/?query=","https://bg.toolsworld.com/search/?query=726149"]
[726169,"Galvanizált gyémánt lyukfurész, 16 x 67 mm  hatoldalú rúd// MTX",1181,"B","Active",{"$f":"VLOOKUP(A3102,[1]Sheet1!$A$1:$C$65512,3,FALSE)","v":216},null,null,"No info","линк","https://bg.toolsworld.com/search/?query=","https://bg.toolsworld.com/search/?query=726169"]
[726189,"Galvanizált gyémánt lyukfurész, 18 x 67 mm  hatoldalú rúd// MTX",1326,"B","Active",{"$f":"VLOOKUP(A3103,[1]Sheet1!$A$1:$C$65512,3,FALSE)","v":162},null,null,"No info","линк","https://bg.toolsworld.com/search/?query=","https://bg.toolsworld.com/search/?query=726189"]
[726209,"Galvanizált gyémánt lyukfurész, 20 x 67 mm  hatoldalú rúd// MTX",1478,"B","Active",{"$f":"VLOOKUP(A3104,[1]Sheet1!$A$1:$C$65512,3,FALSE)","v":415},null,null,"No info","линк","https://bg.toolsworld.com/search/?query=","https://bg.toolsworld.com/search/?query=726209"]
[726229,"Galvanizált gyémánt lyukfurész, 22 x 67 mm  hatoldalú rúd// MTX",1613,"B","Active",{"$f":"VLOOKUP(A3105,[1]Sheet1!$A$1:$C$65512,3,FALSE)","v":196},null,null,"No info","линк","https://bg.toolsworld.com/search/?query=","https://bg.toolsworld.com/search/?query=726229"]
[726259,"Galvanizált gyémánt lyukfurész, 25 x 67 mm  hatoldalú rúd// MTX",1833,"B","Active",{"$f":"VLOOKUP(A3106,[1]Sheet1!$A$1:$C$65512,3,FALSE)","v":26},null,null,"No info","линк","https://bg.toolsworld.com/search/?query=","https://bg.toolsworld.com/search/?query=726259"]
[726289,"Galvanizált gyémánt lyukfurész, 28 x 67 mm hatoldalú rúd// MTX",2053,"B","Active",{"$f":"VLOOKUP(A3107,[1]Sheet1!$A$1:$C$65512,3,FALSE)","v":45},null,null,"No info","линк","https://bg.toolsworld.com/search/?query=","https://bg.toolsworld.com/search/?query=726289"]
[726309,"Galvanizált gyémánt lyukfurész, 30 x 67 mm hatoldalú rúd// MTX",2203,"B","Active",{"$f":"VLOOKUP(A3108,[1]Sheet1!$A$1:$C$65512,3,FALSE)","v":" "},null,null,"No info","линк","https://bg.toolsworld.com/search/?query=","https://bg.toolsworld.com/search/?query=726309"]
[726329,"Galvanizált gyémánt lyukfurész, 32 x 67 mm hatoldalú rúd// MTX",2380,"B","Active",{"$f":"VLOOKUP(A3109,[1]Sheet1!$A$1:$C$65512,3,FALSE)","v":77},null,null,"No info","линк","https://bg.toolsworld.com/search/?query=","https://bg.toolsworld.com/search/?query=726329"]
[726359,"Galvanizált gyémánt lyukfurész, 35 x 67 mm hatoldalú rúd// MTX",2572,"B","Active",{"$f":"VLOOKUP(A3110,[1]Sheet1!$A$1:$C$65512,3,FALSE)","v":" "},null,null,"No info","линк","https://bg.toolsworld.com/search/?query=","https://bg.toolsworld.com/search/?query=726359"]
[726409,"Galvanizált gyémánt lyukfurész, 40 x 67 mm hatoldalú rúd// MTX",2955,"B","Active",{"$f":"VLOOKUP(A3111,[1]Sheet1!$A$1:$C$65512,3,FALSE)","v":" "},null,null,"No info","линк","https://bg.toolsworld.com/search/?query=","https://bg.toolsworld.com/search/?query=726409"]
[726459,"Galvanizált gyémánt lyukfurész, 45 x 67 mm hatoldalú rúd// MTX",3215,"B","Active",{"$f":"VLOOKUP(A3112,[1]Sheet1!$A$1:$C$65512,3,FALSE)","v":" "},null,null,"No info","линк","https://bg.toolsworld.com/search/?query=","https://bg.toolsworld.com/search/?query=726459"]
[726509,"Galvanizált gyémánt lyukfurész, 50 x 67 mm hatoldalú rúd// MTX",3450,"B","Active",{"$f":"VLOOKUP(A3113,[1]Sheet1!$A$1:$C$65512,3,FALSE)","v":" "},null,null,"No info","линк","https://bg.toolsworld.com/search/?query=","https://bg.toolsworld.com/search/?query=726509"]
[726559,"Galvanizált gyémánt lyukfurész, 55 x 67 mm hatoldalú rúd// MTX",3676,"B","Active",{"$f":"VLOOKUP(A3114,[1]Sheet1!$A$1:$C$65512,3,FALSE)","v":" "},null,null,"No info","линк","https://bg.toolsworld.com/search/?query=","https://bg.toolsworld.com/search/?query=726559"]
[726609,"Galvanizált gyémánt lyukfurész, 60 x 67 mm hatoldalú rúd// MTX",3834,"B","Active",{"$f":"VLOOKUP(A3115,[1]Sheet1!$A$1:$C$65512,3,FALSE)","v":" "},null,null,"No info","линк","https://bg.toolsworld.com/search/?query=","https://bg.toolsworld.com/search/?query=726609"]
[726659,"Galvanizált gyémánt lyukfurész, 65 x 67 mm hatoldalú rúd// MTX",3938,"B","Active",{"$f":"VLOOKUP(A3116,[1]Sheet1!$A$1:$C$65512,3,FALSE)","v":" "},null,null,"No info",{"$f":"HYPERLINK(L3116,\"линк\")","v":"линк"},"https://bg.toolsworld.com/search/?query=","https://bg.toolsworld.com/search/?query=726659"]
[728045,"Galvanizált gyémánt lyukfurész 4mm//SPARTA",143,"B","Active",{"$f":"VLOOKUP(A3117,[1]Sheet1!$A$1:$C$65512,3,FALSE)","v":107},null,null,"No info","линк","https://bg.toolsworld.com/search/?query=","https://bg.toolsworld.com/search/?query=728045"]
[728065,"Galvanizált gyémánt lyukfurész 6mm//SPARTA",183,"B","Active",{"$f":"VLOOKUP(A3118,[1]Sheet1!$A$1:$C$65512,3,FALSE)","v":771},null,null,"No info","линк","https://bg.toolsworld.com/search/?query=","https://bg.toolsworld.com/search/?query=728065"]
[728085,"Galvanizált gyémánt lyukfurész 8 mm// SPARTA",250,"B","Active",{"$f":"VLOOKUP(A3119,[1]Sheet1!$A$1:$C$65512,3,FALSE)","v":{"$error":"#N/A"}},null,null,"No info","линк","https://bg.toolsworld.com/search/?query=","https://bg.toolsworld.com/search/?query=728085"]
[728105,"Galvanizált gyémánt lyukfurész 10 mm// SPARTA",308,"B","Active",{"$f":"VLOOKUP(A3120,[1]Sheet1!$A$1:$C$65512,3,FALSE)","v":796},null,null,"No info","линк","https://bg.toolsworld.com/search/?query=",{"$f":"CONCATENATE(K3120,A3120)","v":"https://bg.toolsworld.com/search/?query=728105"}]
[728139,"Csempe fúrófej 3 mm, egyenes szárú// MTX",293,"B","Active",{"$f":"VLOOKUP(A3121,[1]Sheet1!$A$1:$C$65512,3,FALSE)","v":267},null,null,"No info","линк","https://bg.toolsworld.com/search/?query=","https://bg.toolsworld.com/search/?query=728139"]
[728149,"Csempe fúrófej 4 mm, egyenes szárú// MTX",330,"B","Active",{"$f":"VLOOKUP(A3122,[1]Sheet1!$A$1:$C$65512,3,FALSE)","v":255},null,null,"No info","линк","https://bg.toolsworld.com/search/?query=","https://bg.toolsworld.com/search/?query=728149"]
[728159,"Csempe fúrófej 5 mm, egyenes szárú// MTX",354,"B","Active",{"$f":"VLOOKUP(A3123,[1]Sheet1!$A$1:$C$65512,3,FALSE)","v":662},null,null,"No info","линк","https://bg.toolsworld.com/search/?query=","https://bg.toolsworld.com/search/?query=728159"]
[728169,"Csempe fúrófej 6 mm, egyenes szárú// MTX",395,"B","Active",{"$f":"VLOOKUP(A3124,[1]Sheet1!$A$1:$C$65512,3,FALSE)","v":" "},null,null,"No info","линк","https://bg.toolsworld.com/search/?query=","https://bg.toolsworld.com/search/?query=728169"]
[728189,"Csempe fúrófej 8 mm, egyenes szárú// MTX",452,"B","Active",{"$f":"VLOOKUP(A3125,[1]Sheet1!$A$1:$C$65512,3,FALSE)","v":1816},null,null,"No info","линк","https://bg.toolsworld.com/search/?query=","https://bg.toolsworld.com/search/?query=728189"]
[728209,"Csempe fúrófej 10 mm, egyenes szárú// MTX",550,"B","Active",{"$f":"VLOOKUP(A3126,[1]Sheet1!$A$1:$C$65512,3,FALSE)","v":{"$error":"#N/A"}},null,null,"No info","линк","https://bg.toolsworld.com/search/?query=","https://bg.toolsworld.com/search/?query=728209"]
[728229,"Csempe fúrófej 12 mm, egyenes szárú// MTX",568,"B","Active",{"$f":"VLOOKUP(A3127,[1]Sheet1!$A$1:$C$65512,3,FALSE)","v":225},null,null,"No info","линк","https://bg.toolsworld.com/search/?query=","https://bg.toolsworld.com/search/?query=728229"]
[728259,"Csempe fúrófej set, 5-6-8mm, hatoldalú rúd //MTX",1112,"B","Active",{"$f":"VLOOKUP(A3128,[1]Sheet1!$A$1:$C$65512,3,FALSE)","v":{"$error":"#N/A"}},null,null,"No info","линк","https://bg.toolsworld.com/search/?query=","https://bg.toolsworld.com/search/?query=728259"]
[728269,"Furész fúró HSS-TiN 6mm, egyenes szárú// MTX",287,"B","Active",{"$f":"VLOOKUP(A3129,[1]Sheet1!$A$1:$C$65512,3,FALSE)","v":145},null,null,"No info","линк","https://bg.toolsworld.com/search/?query=","https://bg.toolsworld.com/search/?query=728269"]
[728289,"Furész fúró HSS-TiN 8mm, egyenes szárú// MTX",426,"B","Active",{"$f":"VLOOKUP(A3130,[1]Sheet1!$A$1:$C$65512,3,FALSE)","v":323},null,null,"No info","линк","https://bg.toolsworld.com/search/?query=","https://bg.toolsworld.com/search/?query=728289"]
[728409,"Volfrám szemcsézett végu lyukfurész szett 33-53-67-73 mm, hatoldalú rúd// MTX",5012,"B","Active",{"$f":"VLOOKUP(A3131,[1]Sheet1!$A$1:$C$65512,3,FALSE)","v":622},null,null,"No info","линк","https://bg.toolsworld.com/search/?query=","https://bg.toolsworld.com/search/?query=728409"]
[728429,"Volfrám szemcsézett végu lyukfurész szett 33-53-67-73-83 mm, félig-lekerekített// MTX",10512,"B","Active",{"$f":"VLOOKUP(A3132,[1]Sheet1!$A$1:$C$65512,3,FALSE)","v":87},null,null,"No info","линк","https://bg.toolsworld.com/search/?query=","https://bg.toolsworld.com/search/?query=728429"]
[728469,"Volfrám szemcsézett végu lyukfurész 33 mm// MTX",599,"B","Active",{"$f":"VLOOKUP(A3133,[1]Sheet1!$A$1:$C$65512,3,FALSE)","v":203},null,null,"No info","линк","https://bg.toolsworld.com/search/?query=","https://bg.toolsworld.com/search/?query=728469"]
[728489,"Volfrám szemcsézett végu lyukfurész 53 mm// MTX",967,"B","Active",{"$f":"VLOOKUP(A3134,[1]Sheet1!$A$1:$C$65512,3,FALSE)","v":284},null,null,"No info","линк","https://bg.toolsworld.com/search/?query=","https://bg.toolsworld.com/search/?query=728489"]
[728529,"Volfrám szemcsézett végu lyukfurész 67 mm// MTX",1232,"B","Active",{"$f":"VLOOKUP(A3135,[1]Sheet1!$A$1:$C$65512,3,FALSE)","v":65},null,null,"No info","линк","https://bg.toolsworld.com/search/?query=","https://bg.toolsworld.com/search/?query=728529"]
[728549,"Volfrám szemcsézett végu lyukfurész 73 mm// MTX",1330,"B","Active",{"$f":"VLOOKUP(A3136,[1]Sheet1!$A$1:$C$65512,3,FALSE)","v":47},null,null,"No info","линк","https://bg.toolsworld.com/search/?query=","https://bg.toolsworld.com/search/?query=728549"]
[728569,"Volfrám szemcsézett végu lyukfurész 83 mm// MTX",1501,"B","Active",{"$f":"VLOOKUP(A3137,[1]Sheet1!$A$1:$C$65512,3,FALSE)","v":58},null,null,"No info","линк","https://bg.toolsworld.com/search/?query=","https://bg.toolsworld.com/search/?query=728569"]
[728609,"Aluminíum ötvözet alap lyukfurészhez 33 - 103 mm, anyacsavar// MTX",1128,"B","Active",{"$f":"VLOOKUP(A3138,[1]Sheet1!$A$1:$C$65512,3,FALSE)","v":459},null,null,"No info","линк","https://bg.toolsworld.com/search/?query=","https://bg.toolsworld.com/search/?query=728609"]
[728629,"Karbid végu fúrófej 10 mm, hatoldalú rúd// MTX",346,"B","Active",{"$f":"VLOOKUP(A3139,[1]Sheet1!$A$1:$C$65512,3,FALSE)","v":662},null,null,"No info","линк","https://bg.toolsworld.com/search/?query=","https://bg.toolsworld.com/search/?query=728629"]
[729809,"Két soros gyémánt tárcs 115 mm//MTX",2888,"B","Active",{"$f":"VLOOKUP(A3140,[1]Sheet1!$A$1:$C$65512,3,FALSE)","v":16},null,null,"No info","линк","https://bg.toolsworld.com/search/?query=","https://bg.toolsworld.com/search/?query=729809"]
[729859,"Gyémánt trácsa, 125 mm, un rand //MTX",2395,"B","Active",{"$f":"VLOOKUP(A3141,[1]Sheet1!$A$1:$C$65512,3,FALSE)","v":8},null,null,"No info","линк","https://bg.toolsworld.com/search/?query=","https://bg.toolsworld.com/search/?query=729859"]
[729889,"Gyémánt tárcsa kúpos, 125 mm, turbo-segmentat // MTX",3203,"B","Active",{"$f":"VLOOKUP(A3142,[1]Sheet1!$A$1:$C$65512,3,FALSE)","v":" "},null,null,"No info","линк","https://bg.toolsworld.com/search/?query=","https://bg.toolsworld.com/search/?query=729889"]
[729909,"Gyémántvágó korong 125 mm// MTX",4168,"B","Active",{"$f":"VLOOKUP(A3143,[1]Sheet1!$A$1:$C$65512,3,FALSE)","v":232},null,null,"No info","линк","https://bg.toolsworld.com/search/?query=","https://bg.toolsworld.com/search/?query=729909"]
[729959,"Gyémántvágó korong Turbó 125 mm// MTX",4280,"B","Active",{"$f":"VLOOKUP(A3144,[1]Sheet1!$A$1:$C$65512,3,FALSE)","v":682},null,null,"No info","линк","https://bg.toolsworld.com/search/?query=","https://bg.toolsworld.com/search/?query=729959"]
[729969,"Gyémánt csésze kerék Duplasoros 150 mm// MTX",5783,"B","Active",{"$f":"VLOOKUP(A3145,[1]Sheet1!$A$1:$C$65512,3,FALSE)","v":1},null,null,"No info","линк","https://bg.toolsworld.com/search/?query=","https://bg.toolsworld.com/search/?query=729969"]
[729979,"Gyemant csiszolo, turbo, 150 mm",5745,"B","Active",{"$f":"VLOOKUP(A3146,[1]Sheet1!$A$1:$C$65512,3,FALSE)","v":18},null,null,"No info","линк","https://bg.toolsworld.com/search/?query=","https://bg.toolsworld.com/search/?query=729979"]
[729989,"Gyémánt csésze kerék Duplasoros 180 mm// MTX",8655,"B","Active",{"$f":"VLOOKUP(A3147,[1]Sheet1!$A$1:$C$65512,3,FALSE)","v":87},null,null,"No info","линк","https://bg.toolsworld.com/search/?query=","https://bg.toolsworld.com/search/?query=729989"]
[729999,"Gyemant csiszolo, turbo, 180 mm",7188,"B","Active",{"$f":"VLOOKUP(A3148,[1]Sheet1!$A$1:$C$65512,3,FALSE)","v":52},null,null,"No info","линк","https://bg.toolsworld.com/search/?query=","https://bg.toolsworld.com/search/?query=729999"]
[730497,"Folyamatos gyémántvágó penge ô230x22,2mm // GROSS",9612,"B","Active",{"$f":"VLOOKUP(A3149,[1]Sheet1!$A$1:$C$65512,3,FALSE)","v":{"$error":"#N/A"}},null,null,"No info","линк","https://bg.toolsworld.com/search/?query=","https://bg.toolsworld.com/search/?query=730497"]
[731075,"Szegmentál gyémánt vágó tárcsa 125 x 22,2 mm, száraz vágáshoz//SPARTA",776,"B","Active",{"$f":"VLOOKUP(A3150,[1]Sheet1!$A$1:$C$65512,3,FALSE)","v":51},null,null,"No info","линк","https://bg.toolsworld.com/search/?query=","https://bg.toolsworld.com/search/?query=731075"]
[731155,"Szegmentál gyémánt vágó tárcsa 230 x 22,2 mm, száraz vágáshoz//SPARTA",3476,"B","Active",{"$f":"VLOOKUP(A3151,[1]Sheet1!$A$1:$C$65512,3,FALSE)","v":130},null,null,"No info","линк","https://bg.toolsworld.com/search/?query=","https://bg.toolsworld.com/search/?query=731155"]
[731175,"Turbó gyémántvágó penge 115 x 22,2 mm, száraz vágás// SPARTA",666,"B","Active",{"$f":"VLOOKUP(A3152,[1]Sheet1!$A$1:$C$65512,3,FALSE)","v":479},null,null,"No info","линк","https://bg.toolsworld.com/search/?query=","https://bg.toolsworld.com/search/?query=731175"]
[731195,"Turbó gyémántvágó penge 125 x 22,2 mm, száraz vágás// SPARTA",747,"B","Active",{"$f":"VLOOKUP(A3153,[1]Sheet1!$A$1:$C$65512,3,FALSE)","v":{"$error":"#N/A"}},null,null,"No info","линк","https://bg.toolsworld.com/search/?query=","https://bg.toolsworld.com/search/?query=731195"]
[731229,"Folytonos gyémánt vágó 115 × 22,2 mm, száraz vágáshoz//MTX",1091,"B","Active",{"$f":"VLOOKUP(A3154,[1]Sheet1!$A$1:$C$65512,3,FALSE)","v":1023},null,null,"No info","линк","https://bg.toolsworld.com/search/?query=","https://bg.toolsworld.com/search/?query=731229"]
[731249,"Folytonos gyémányt vágó 125 × 22,2 mm, száraz vágáshoz//MTX",1230,"B","Active",{"$f":"VLOOKUP(A3155,[1]Sheet1!$A$1:$C$65512,3,FALSE)","v":1377},null,null,"No info","линк","https://bg.toolsworld.com/search/?query=","https://bg.toolsworld.com/search/?query=731249"]
[731255,"Turbogyémánt vágó 200 x 32 mm, száraz vágáshoz//SPARTA",2142,"B","Active",{"$f":"VLOOKUP(A3156,[1]Sheet1!$A$1:$C$65512,3,FALSE)","v":{"$error":"#N/A"}},null,null,"No info","линк","https://bg.toolsworld.com/search/?query=","https://bg.toolsworld.com/search/?query=731255"]
[731275,"Turbó gyémántvágó penge 230 x 22,2 mm, száraz vágás// SPARTA",2782,"B","Active",{"$f":"VLOOKUP(A3157,[1]Sheet1!$A$1:$C$65512,3,FALSE)","v":790},null,null,"No info","линк","https://bg.toolsworld.com/search/?query=","https://bg.toolsworld.com/search/?query=731275"]
[731289,"Folytonos gyémánt vágó 180 × 22,2 mm, száraz vágáshoz//MTX",2643,"B","Active",{"$f":"VLOOKUP(A3158,[1]Sheet1!$A$1:$C$65512,3,FALSE)","v":865},null,null,"No info","линк","https://bg.toolsworld.com/search/?query=","https://bg.toolsworld.com/search/?query=731289"]
[731369,"Folytonos gyémánt vágó 230 × 22,2 mm, száraz vágáshoz//MTX",4321,"B","Active",{"$f":"VLOOKUP(A3159,[1]Sheet1!$A$1:$C$65512,3,FALSE)","v":695},null,null,"No info","линк","https://bg.toolsworld.com/search/?query=","https://bg.toolsworld.com/search/?query=731369"]
[731395,"Folyamatos gyémántvágó penge 115 x 22,2 mm, nedves vágás// SPARTA",523,"B","Active",{"$f":"VLOOKUP(A3160,[1]Sheet1!$A$1:$C$65512,3,FALSE)","v":1319},null,null,"No info","линк","https://bg.toolsworld.com/search/?query=","https://bg.toolsworld.com/search/?query=731395"]
[731409,"Turbo-Szegmentál gyémánt vágó tárcsa 115 × 22,2 mm, száraz vágáshoz//MTX",1045,"B","Active",{"$f":"VLOOKUP(A3161,[1]Sheet1!$A$1:$C$65512,3,FALSE)","v":628},null,null,"No info","линк","https://bg.toolsworld.com/search/?query=","https://bg.toolsworld.com/search/?query=731409"]
[731415,"Folyamatos gyémántvágó penge 125 x 22,2 mm, nedves vágás// SPARTA",625,"B","Active",{"$f":"VLOOKUP(A3162,[1]Sheet1!$A$1:$C$65512,3,FALSE)","v":1557},null,null,"No info","линк","https://bg.toolsworld.com/search/?query=","https://bg.toolsworld.com/search/?query=731415"]
[731429,"Turbo-Szegmentál gyémánt vágó tárcsa 125 × 22,2 mm, száraz vágáshoz//MTX",1236,"B","Active",{"$f":"VLOOKUP(A3163,[1]Sheet1!$A$1:$C$65512,3,FALSE)","v":836},null,null,"No info","линк","https://bg.toolsworld.com/search/?query=","https://bg.toolsworld.com/search/?query=731429"]
[731469,"Turbo-Szegmentál gyémánt vágó tárcsa 180 × 22,2 mm, száraz vágáshoz//MTX",2564,"B","Active",{"$f":"VLOOKUP(A3164,[1]Sheet1!$A$1:$C$65512,3,FALSE)","v":1078},null,null,"No info","линк","https://bg.toolsworld.com/search/?query=","https://bg.toolsworld.com/search/?query=731469"]
[731509,"Turbo-Szegmentál gyémánt vágó tárcsa 230 × 22,2 mm, száraz vágáshoz//MTX",4052,"B","Active",{"$f":"VLOOKUP(A3165,[1]Sheet1!$A$1:$C$65512,3,FALSE)","v":844},null,null,"No info","линк","https://bg.toolsworld.com/search/?query=","https://bg.toolsworld.com/search/?query=731509"]
[731515,"Folytonos gyémánt vágó 230 x 22,2 mm, wet cutting//SPARTA",2214,"B","Active",{"$f":"VLOOKUP(A3166,[1]Sheet1!$A$1:$C$65512,3,FALSE)","v":{"$error":"#N/A"}},null,null,"No info","линк","https://bg.toolsworld.com/search/?query=","https://bg.toolsworld.com/search/?query=731515"]
[731529,"Penge szegmentált gyémántvágóhoz védo zónákkal 115 x 22,2 mm, száraz vágás// MTX PROFESSIONAL",1324,"B","Active",{"$f":"VLOOKUP(A3167,[1]Sheet1!$A$1:$C$65512,3,FALSE)","v":492},null,null,"No info","линк","https://bg.toolsworld.com/search/?query=","https://bg.toolsworld.com/search/?query=731529"]
[731539,"Penge szegmentált gyémántvágóhoz védo zónákkal 125 x 22,2 mm, száraz vágás// MTX PROFESSIONAL",1375,"B","Active",{"$f":"VLOOKUP(A3168,[1]Sheet1!$A$1:$C$65512,3,FALSE)","v":307},null,null,"No info","линк","https://bg.toolsworld.com/search/?query=","https://bg.toolsworld.com/search/?query=731539"]
[731549,"Penge szegmentált gyémántvágóhoz védo zónákkal 150 x 22,2 mm, száraz vágás// MTX",1963,"B","Active",{"$f":"VLOOKUP(A3169,[1]Sheet1!$A$1:$C$65512,3,FALSE)","v":991},null,null,"No info","линк","https://bg.toolsworld.com/search/?query=","https://bg.toolsworld.com/search/?query=731549"]
[731559,"Penge szegmentált gyémántvágóhoz védo zónákkal 180 x 22,2 mm, száraz vágás// MTX",2291,"B","Active",{"$f":"VLOOKUP(A3170,[1]Sheet1!$A$1:$C$65512,3,FALSE)","v":1198},null,null,"No info","линк","https://bg.toolsworld.com/search/?query=","https://bg.toolsworld.com/search/?query=731559"]
[731579,"Penge szegmentált gyémántvágóhoz védo zónákkal 230 x 22,2 mm, száraz vágás// MTX PROFESSIONAL",3792,"B","Active",{"$f":"VLOOKUP(A3171,[1]Sheet1!$A$1:$C$65512,3,FALSE)","v":687},null,null,"No info","линк","https://bg.toolsworld.com/search/?query=","https://bg.toolsworld.com/search/?query=731579"]
[731729,"Penge szegmentált gyémántvágóhoz 115 x 22,2 mm, száraz vágás// MTX",800,"B","Active",{"$f":"VLOOKUP(A3172,[1]Sheet1!$A$1:$C$65512,3,FALSE)","v":627},null,null,"No info","линк","https://bg.toolsworld.com/search/?query=","https://bg.toolsworld.com/search/?query=731729"]
[731739,"Penge szegmentált gyémántvágóhoz 125 x 22,2 mm, száraz vágás// MTX",947,"B","Active",{"$f":"VLOOKUP(A3173,[1]Sheet1!$A$1:$C$65512,3,FALSE)","v":806},null,null,"No info","линк","https://bg.toolsworld.com/search/?query=","https://bg.toolsworld.com/search/?query=731739"]
[731749,"Penge szegmentált gyémántvágóhoz 150 x 22,2 mm, száraz vágás// MTX",1413,"B","Active",{"$f":"VLOOKUP(A3174,[1]Sheet1!$A$1:$C$65512,3,FALSE)","v":790},null,null,"No info","линк","https://bg.toolsworld.com/search/?query=","https://bg.toolsworld.com/search/?query=731749"]
[731759,"Penge szegmentált gyémántvágóhoz 180 x 22,2 mm, száraz vágás// MTX",2106,"B","Active",{"$f":"VLOOKUP(A3175,[1]Sheet1!$A$1:$C$65512,3,FALSE)","v":932},null,null,"No info","линк","https://bg.toolsworld.com/search/?query=","https://bg.toolsworld.com/search/?query=731759"]
[731779,"Penge szegmentált gyémántvágóhoz 230 x 22,2 mm, száraz vágás// MTX",3148,"B","Active",{"$f":"VLOOKUP(A3176,[1]Sheet1!$A$1:$C$65512,3,FALSE)","v":465},null,null,"No info","линк","https://bg.toolsworld.com/search/?query=","https://bg.toolsworld.com/search/?query=731779"]
[731789,"Turbó gyémántvágó penge 115 x 22,2 mm, száraz vágás// MTX",912,"B","Active",{"$f":"VLOOKUP(A3177,[1]Sheet1!$A$1:$C$65512,3,FALSE)","v":777},null,null,"No info","линк","https://bg.toolsworld.com/search/?query=","https://bg.toolsworld.com/search/?query=731789"]
[731799,"Turbó gyémántvágó penge 125 x 22,2 mm, száraz vágás// MTX",1063,"B","Active",{"$f":"VLOOKUP(A3178,[1]Sheet1!$A$1:$C$65512,3,FALSE)","v":623},null,null,"No info","линк","https://bg.toolsworld.com/search/?query=","https://bg.toolsworld.com/search/?query=731799"]
[731819,"Turbó gyémántvágó penge 180 x 22,2 mm, száraz vágás// MTX",2028,"B","Active",{"$f":"VLOOKUP(A3179,[1]Sheet1!$A$1:$C$65512,3,FALSE)","v":956},null,null,"No info","линк","https://bg.toolsworld.com/search/?query=","https://bg.toolsworld.com/search/?query=731819"]
[731829,"Turbó gyémántvágó penge 200 x 22,2 mm, száraz vágás// MTX",2888,"B","Active",{"$f":"VLOOKUP(A3180,[1]Sheet1!$A$1:$C$65512,3,FALSE)","v":1201},null,null,"No info",{"$f":"HYPERLINK(L3180,\"линк\")","v":"линк"},"https://bg.toolsworld.com/search/?query=","https://bg.toolsworld.com/search/?query=731829"]
[731839,"Turbó gyémántvágó penge 230 x 22,2 mm, száraz vágás// MTX",3236,"B","Active",{"$f":"VLOOKUP(A3181,[1]Sheet1!$A$1:$C$65512,3,FALSE)","v":146},null,null,"No info","линк","https://bg.toolsworld.com/search/?query=","https://bg.toolsworld.com/search/?query=731839"]
[731849,"Folyamatos gyémántvágó penge 115 x 22,2 mm, nedves vágás// MTX",760,"B","Active",{"$f":"VLOOKUP(A3182,[1]Sheet1!$A$1:$C$65512,3,FALSE)","v":138},null,null,"No info","линк","https://bg.toolsworld.com/search/?query=","https://bg.toolsworld.com/search/?query=731849"]
[731859,"Folyamatos gyémántvágó penge 125 x 22,2 mm, nedves vágás// MTX",831,"B","Active",{"$f":"VLOOKUP(A3183,[1]Sheet1!$A$1:$C$65512,3,FALSE)","v":229},null,null,"No info","линк","https://bg.toolsworld.com/search/?query=","https://bg.toolsworld.com/search/?query=731859"]
[731869,"Folyamatos gyémánt fűrészlap 150 x 22,2 mm, nedves vágás// MTX",1568,"B","Active",{"$f":"VLOOKUP(A3184,[1]Sheet1!$A$1:$C$65512,3,FALSE)","v":{"$error":"#N/A"}},null,null,"No info","линк","https://bg.toolsworld.com/search/?query=",{"$f":"CONCATENATE(K3184,A3184)","v":"https://bg.toolsworld.com/search/?query=731869"}]
[731879,"Folyamatos gyémántvágó penge 180 x 22,2 mm, nedves vágás// MTX",1725,"B","Active",{"$f":"VLOOKUP(A3185,[1]Sheet1!$A$1:$C$65512,3,FALSE)","v":633},null,null,"No info","линк","https://bg.toolsworld.com/search/?query=","https://bg.toolsworld.com/search/?query=731879"]
[731889,"Folyamatos gyémántvágó penge 180 x 25,4 mm, nedves vágás// MTX",2000,"B","Active",{"$f":"VLOOKUP(A3186,[1]Sheet1!$A$1:$C$65512,3,FALSE)","v":1082},null,null,"No info","линк","https://bg.toolsworld.com/search/?query=","https://bg.toolsworld.com/search/?query=731889"]
[731899,"Folyamatos gyémántvágó penge 200 x 22,2 mm, nedves vágás// MTX",2452,"B","Active",{"$f":"VLOOKUP(A3187,[1]Sheet1!$A$1:$C$65512,3,FALSE)","v":1108},null,null,"No info","линк","https://bg.toolsworld.com/search/?query=","https://bg.toolsworld.com/search/?query=731899"]
[731909,"Folyamatos gyémánt fűrészlap 200 x 25,4 mm, nedves vágás// MTX",2674,"B","Active",{"$f":"VLOOKUP(A3188,[1]Sheet1!$A$1:$C$65512,3,FALSE)","v":11},null,null,"No info","линк","https://bg.toolsworld.com/search/?query=","https://bg.toolsworld.com/search/?query=731909"]
[731919,"Folyamatos gyémántvágó penge 230 x 22,2 mm, nedves vágás// MTX",2998,"B","Active",{"$f":"VLOOKUP(A3189,[1]Sheet1!$A$1:$C$65512,3,FALSE)","v":889},null,null,"No info","линк","https://bg.toolsworld.com/search/?query=","https://bg.toolsworld.com/search/?query=731919"]
[731939,"Turbó extra gyémántvágó penge 115 x 22,2 mm, száraz vágás// MTX PROFESSIONAL",1370,"B","Active",{"$f":"VLOOKUP(A3190,[1]Sheet1!$A$1:$C$65512,3,FALSE)","v":317},null,null,"No info","линк","https://bg.toolsworld.com/search/?query=","https://bg.toolsworld.com/search/?query=731939"]
[731949,"Turbó extra gyémántvágó penge 125 x 22,2 mm, száraz vágás// MTX PROFESSIONAL",1413,"B","Active",{"$f":"VLOOKUP(A3191,[1]Sheet1!$A$1:$C$65512,3,FALSE)","v":596},null,null,"No info","линк","https://bg.toolsworld.com/search/?query=","https://bg.toolsworld.com/search/?query=731949"]
[731959,"Turbo Extra diamond saw blade 150 х 22,2 mm, dry cutting// MTX",1741,"B","Active",{"$f":"VLOOKUP(A3192,[1]Sheet1!$A$1:$C$65512,3,FALSE)","v":1085},null,null,"No info","линк","https://bg.toolsworld.com/search/?query=","https://bg.toolsworld.com/search/?query=731959"]
[731989,"Turbó extra gyémántvágó penge 230 x 22,2 mm, száraz vágás// MTX PROFESSIONAL",3837,"B","Active",{"$f":"VLOOKUP(A3193,[1]Sheet1!$A$1:$C$65512,3,FALSE)","v":674},null,null,"No info","линк","https://bg.toolsworld.com/search/?query=","https://bg.toolsworld.com/search/?query=731989"]
[732109,"T.C.T. Favágó penge, 140 x 20 mm, 20T, + gyuru 16/20// MTX",755,"B","Active",{"$f":"VLOOKUP(A3194,[1]Sheet1!$A$1:$C$65512,3,FALSE)","v":1205},null,null,"No info","линк","https://bg.toolsworld.com/search/?query=","https://bg.toolsworld.com/search/?query=732109"]
[732119,"T.C.T. Favágó penge, 160 x 20 mm, 24T, + gyuru 16/20// MTX",961,"B","Active",{"$f":"VLOOKUP(A3195,[1]Sheet1!$A$1:$C$65512,3,FALSE)","v":707},null,null,"No info","линк","https://bg.toolsworld.com/search/?query=","https://bg.toolsworld.com/search/?query=732119"]
[732129,"T.C.T. Favágó penge, 160 x 20 mm, 48T, + gyuru 16/20// MTX",1193,"B","Active",{"$f":"VLOOKUP(A3196,[1]Sheet1!$A$1:$C$65512,3,FALSE)","v":357},null,null,"No info","линк","https://bg.toolsworld.com/search/?query=","https://bg.toolsworld.com/search/?query=732129"]
[732139,"T.C.T. Favágó penge, 190 x 20 mm, 24T + gyuru 16/20// MTX",1159,"B","Active",{"$f":"VLOOKUP(A3197,[1]Sheet1!$A$1:$C$65512,3,FALSE)","v":867},null,null,"No info","линк","https://bg.toolsworld.com/search/?query=","https://bg.toolsworld.com/search/?query=732139"]
[732149,"T.C.T. Favágó penge, 190 x 20 mm, 48T, + gyuru 16/20// MTX",1519,"B","Active",{"$f":"VLOOKUP(A3198,[1]Sheet1!$A$1:$C$65512,3,FALSE)","v":980},null,null,"No info","линк","https://bg.toolsworld.com/search/?query=","https://bg.toolsworld.com/search/?query=732149"]
[732179,"T.C.T. Favágó penge, 190 x 30 mm, 24T// MTX",1204,"B","Active",{"$f":"VLOOKUP(A3199,[1]Sheet1!$A$1:$C$65512,3,FALSE)","v":437},null,null,"No info","линк","https://bg.toolsworld.com/search/?query=","https://bg.toolsworld.com/search/?query=732179"]
[732199,"T.C.T. Favágó penge, 190 x 30 mm, 48T// MTX",1511,"B","Active",{"$f":"VLOOKUP(A3200,[1]Sheet1!$A$1:$C$65512,3,FALSE)","v":538},null,null,"No info","линк","https://bg.toolsworld.com/search/?query=","https://bg.toolsworld.com/search/?query=732199"]
[732395,"T.C.T. Favágó penge, 125 x 22 mm, 36T // SPARTA",1136,"B","Active",{"$f":"VLOOKUP(A3201,[1]Sheet1!$A$1:$C$65512,3,FALSE)","v":{"$error":"#N/A"}},null,null,"No info","линк","https://bg.toolsworld.com/search/?query=","https://bg.toolsworld.com/search/?query=732395"]
[732405,"T.C.T. Favágó penge, 150 x 22 mm, 40T // SPARTA",1232,"B","Active",{"$f":"VLOOKUP(A3202,[1]Sheet1!$A$1:$C$65512,3,FALSE)","v":{"$error":"#N/A"}},null,null,"No info","линк","https://bg.toolsworld.com/search/?query=","https://bg.toolsworld.com/search/?query=732405"]
[732465,"T.C.T. Favágó penge, 230 x 22 mm, 40T // SPARTA",2268,"B","Active",{"$f":"VLOOKUP(A3203,[1]Sheet1!$A$1:$C$65512,3,FALSE)","v":{"$error":"#N/A"}},null,null,"No info","линк","https://bg.toolsworld.com/search/?query=","https://bg.toolsworld.com/search/?query=732465"]
[732499,"T.C.T. Favágó penge, 160 x 32 mm, 24T// MTX",986,"B","Active",{"$f":"VLOOKUP(A3204,[1]Sheet1!$A$1:$C$65512,3,FALSE)","v":1167},null,null,"No info","линк","https://bg.toolsworld.com/search/?query=","https://bg.toolsworld.com/search/?query=732499"]
[732519,"T.C.T. Favágó penge, 160 x 32 mm, 48T// MTX",1287,"B","Active",{"$f":"VLOOKUP(A3205,[1]Sheet1!$A$1:$C$65512,3,FALSE)","v":711},null,null,"No info","линк","https://bg.toolsworld.com/search/?query=","https://bg.toolsworld.com/search/?query=732519"]
[732619,"T.C.T. Favágó penge, 200 x 32 mm, 24T, + gyuru 30/32// MTX",1456,"B","Active",{"$f":"VLOOKUP(A3206,[1]Sheet1!$A$1:$C$65512,3,FALSE)","v":1305},null,null,"No info","линк","https://bg.toolsworld.com/search/?query=","https://bg.toolsworld.com/search/?query=732619"]
[732629,"T.C.T. Favágó penge, 200 x 32 mm, 36T, + gyuru 30/32// MTX",1584,"B","Active",{"$f":"VLOOKUP(A3207,[1]Sheet1!$A$1:$C$65512,3,FALSE)","v":1291},null,null,"No info","линк","https://bg.toolsworld.com/search/?query=","https://bg.toolsworld.com/search/?query=732629"]
[732639,"T.C.T. Favágó penge, 200 x 32 mm, 48T, + gyuru 30/32// MTX",1965,"B","Active",{"$f":"VLOOKUP(A3208,[1]Sheet1!$A$1:$C$65512,3,FALSE)","v":1210},null,null,"No info","линк","https://bg.toolsworld.com/search/?query=","https://bg.toolsworld.com/search/?query=732639"]
[732649,"T.C.T. Favágó penge, 200 x 32 mm, 60T, + gyuru 30/32// MTX",2157,"B","Active",{"$f":"VLOOKUP(A3209,[1]Sheet1!$A$1:$C$65512,3,FALSE)","v":1012},null,null,"No info","линк","https://bg.toolsworld.com/search/?query=","https://bg.toolsworld.com/search/?query=732649"]
[732659,"T.C.T. Favágó penge, 250 x 32 mm, 24T// MTX",2515,"B","Active",{"$f":"VLOOKUP(A3210,[1]Sheet1!$A$1:$C$65512,3,FALSE)","v":1217},null,null,"No info","линк","https://bg.toolsworld.com/search/?query=","https://bg.toolsworld.com/search/?query=732659"]
[732669,"T.C.T. Favágó penge, 250 x 32 mm, 48T// MTX",2973,"B","Active",{"$f":"VLOOKUP(A3211,[1]Sheet1!$A$1:$C$65512,3,FALSE)","v":949},null,null,"No info","линк","https://bg.toolsworld.com/search/?query=","https://bg.toolsworld.com/search/?query=732669"]
[732679,"T.C.T. Favágó penge, 250 x 32 mm, 60T// MTX",3002,"B","Active",{"$f":"VLOOKUP(A3212,[1]Sheet1!$A$1:$C$65512,3,FALSE)","v":1288},null,null,"No info","линк","https://bg.toolsworld.com/search/?query=","https://bg.toolsworld.com/search/?query=732679"]
[732689,"T.C.T. Favágó penge, 250 x 32 mm, 80T// MTX",3482,"B","Active",{"$f":"VLOOKUP(A3213,[1]Sheet1!$A$1:$C$65512,3,FALSE)","v":1143},null,null,"No info","линк","https://bg.toolsworld.com/search/?query=","https://bg.toolsworld.com/search/?query=732689"]
[732699,"T.C.T. Favágó penge, 300 x 32 mm, 48T// MTX",3792,"B","Active",{"$f":"VLOOKUP(A3214,[1]Sheet1!$A$1:$C$65512,3,FALSE)","v":1033},null,null,"No info","линк","https://bg.toolsworld.com/search/?query=","https://bg.toolsworld.com/search/?query=732699"]
[732709,"T.C.T. Favágó penge, 300 x 32 mm, 60T// MTX",4401,"B","Active",{"$f":"VLOOKUP(A3215,[1]Sheet1!$A$1:$C$65512,3,FALSE)","v":1128},null,null,"No info","линк","https://bg.toolsworld.com/search/?query=","https://bg.toolsworld.com/search/?query=732709"]
[732729,"T.C.T. Favágó penge, 150 x 20 mm, 24T + gyuru 16/20// MTX PROFESSIONAL",953,"B","Active",{"$f":"VLOOKUP(A3216,[1]Sheet1!$A$1:$C$65512,3,FALSE)","v":928},null,null,"No info","линк","https://bg.toolsworld.com/search/?query=","https://bg.toolsworld.com/search/?query=732729"]
[732769,"T.C.T. Favágó penge, 160 x 20 mm, 36T + gyuru 16/20// MTX PROFESSIONAL",1126,"B","Active",{"$f":"VLOOKUP(A3217,[1]Sheet1!$A$1:$C$65512,3,FALSE)","v":1007},null,null,"No info","линк","https://bg.toolsworld.com/search/?query=","https://bg.toolsworld.com/search/?query=732769"]
[732789,"T.C.T. Favágó penge, 185 x 20 mm, 36T + gyuru 16/20// MTX PROFESSIONAL",1330,"B","Active",{"$f":"VLOOKUP(A3218,[1]Sheet1!$A$1:$C$65512,3,FALSE)","v":152},null,null,"No info","линк","https://bg.toolsworld.com/search/?query=","https://bg.toolsworld.com/search/?query=732789"]
[732799,"T.C.T. Favágó penge, 190 x 20 mm, 36T + gyuru 16/20// MTX PROFESSIONAL",1432,"B","Active",{"$f":"VLOOKUP(A3219,[1]Sheet1!$A$1:$C$65512,3,FALSE)","v":1025},null,null,"No info","линк","https://bg.toolsworld.com/search/?query=","https://bg.toolsworld.com/search/?query=732799"]
[732849,"T.C.T. Favágó penge, 185 x 30 mm, 36T// MTX PROFESSIONAL",1313,"B","Active",{"$f":"VLOOKUP(A3220,[1]Sheet1!$A$1:$C$65512,3,FALSE)","v":194},null,null,"No info","линк","https://bg.toolsworld.com/search/?query=","https://bg.toolsworld.com/search/?query=732849"]
[732869,"T.C.T. Favágó penge, 190 x 30 mm, 36T// MTX PROFESSIONAL",1423,"B","Active",{"$f":"VLOOKUP(A3221,[1]Sheet1!$A$1:$C$65512,3,FALSE)","v":1036},null,null,"No info","линк","https://bg.toolsworld.com/search/?query=","https://bg.toolsworld.com/search/?query=732869"]
[732909,"T.C.T. Favágó penge, 210 x 30 mm, 36T// MTX PROFESSIONAL",1867,"B","Active",{"$f":"VLOOKUP(A3222,[1]Sheet1!$A$1:$C$65512,3,FALSE)","v":1068},null,null,"No info","линк","https://bg.toolsworld.com/search/?query=","https://bg.toolsworld.com/search/?query=732909"]
[732969,"T.C.T. Favágó penge, 230 x 32 mm, 36T + gyuru 30/32// MTX PROFESSIONAL",2497,"B","Active",{"$f":"VLOOKUP(A3223,[1]Sheet1!$A$1:$C$65512,3,FALSE)","v":1060},null,null,"No info","линк","https://bg.toolsworld.com/search/?query=","https://bg.toolsworld.com/search/?query=732969"]
[732989,"T.C.T. Favágó penge, 250 x 32 mm, 36T + gyuru 30/32// MTX PROFESSIONAL",3303,"B","Active",{"$f":"VLOOKUP(A3224,[1]Sheet1!$A$1:$C$65512,3,FALSE)","v":1148},null,null,"No info","линк","https://bg.toolsworld.com/search/?query=","https://bg.toolsworld.com/search/?query=732989"]
[738009,"Velcro csiszoló korong, perforált, P 24, 125 mm, 5 db// MTX",236,"B","Active",{"$f":"VLOOKUP(A3225,[1]Sheet1!$A$1:$C$65512,3,FALSE)","v":1087},null,null,"No info","линк","https://bg.toolsworld.com/search/?query=","https://bg.toolsworld.com/search/?query=738009"]
[738019,"Velcro csiszoló korong, perforált, P 36, 125 mm, 5 db// MTX",236,"B","Active",{"$f":"VLOOKUP(A3226,[1]Sheet1!$A$1:$C$65512,3,FALSE)","v":688},null,null,"No info","линк","https://bg.toolsworld.com/search/?query=","https://bg.toolsworld.com/search/?query=738019"]
[738029,"Velcro csiszoló korong, perforált, P 40, 125 mm, 5 db// MTX",236,"B","Active",{"$f":"VLOOKUP(A3227,[1]Sheet1!$A$1:$C$65512,3,FALSE)","v":1},null,null,"No info","линк","https://bg.toolsworld.com/search/?query=","https://bg.toolsworld.com/search/?query=738029"]
[738039,"Velcro csiszoló korong, perforált, P 60, 125 mm, 5 db// MTX",236,"B","Active",{"$f":"VLOOKUP(A3228,[1]Sheet1!$A$1:$C$65512,3,FALSE)","v":42},null,null,"No info","линк","https://bg.toolsworld.com/search/?query=","https://bg.toolsworld.com/search/?query=738039"]
[738049,"Velcro csiszoló korong, perforált, P 80, 125 mm, 5 db// MTX",236,"B","Active",{"$f":"VLOOKUP(A3229,[1]Sheet1!$A$1:$C$65512,3,FALSE)","v":{"$error":"#N/A"}},null,null,"No info","линк","https://bg.toolsworld.com/search/?query=","https://bg.toolsworld.com/search/?query=738049"]
[738059,"Velcro csiszoló korong, perforált, P 100, 125 mm, 5 db// MTX",236,"B","Active",{"$f":"VLOOKUP(A3230,[1]Sheet1!$A$1:$C$65512,3,FALSE)","v":67},null,null,"No info","линк","https://bg.toolsworld.com/search/?query=","https://bg.toolsworld.com/search/?query=738059"]
[738069,"Velcro csiszoló korong, perforált, P 120, 125 mm, 5 db// MTX",236,"B","Active",{"$f":"VLOOKUP(A3231,[1]Sheet1!$A$1:$C$65512,3,FALSE)","v":772},null,null,"No info","линк","https://bg.toolsworld.com/search/?query=","https://bg.toolsworld.com/search/?query=738069"]
[738079,"Velcro csiszoló korong, perforált, P 150, 125 mm, 5 db// MTX",236,"B","Active",{"$f":"VLOOKUP(A3232,[1]Sheet1!$A$1:$C$65512,3,FALSE)","v":8},null,null,"No info","линк","https://bg.toolsworld.com/search/?query=","https://bg.toolsworld.com/search/?query=738079"]
[738089,"Velcro csiszoló korong, perforált, P 180, 125 mm, 5 db// MTX",236,"B","Active",{"$f":"VLOOKUP(A3233,[1]Sheet1!$A$1:$C$65512,3,FALSE)","v":" "},null,null,"No info","линк","https://bg.toolsworld.com/search/?query=","https://bg.toolsworld.com/search/?query=738089"]
[738099,"Velcro csiszoló korong, perforált, P 220, 125 mm, 5 db// MTX",236,"B","Active",{"$f":"VLOOKUP(A3234,[1]Sheet1!$A$1:$C$65512,3,FALSE)","v":133},null,null,"No info","линк","https://bg.toolsworld.com/search/?query=","https://bg.toolsworld.com/search/?query=738099"]
[738109,"Velcro csiszoló korong, P 24, 115 mm, 10 db// MTX",432,"B","Active",{"$f":"VLOOKUP(A3235,[1]Sheet1!$A$1:$C$65512,3,FALSE)","v":1949},null,null,"No info","линк","https://bg.toolsworld.com/search/?query=","https://bg.toolsworld.com/search/?query=738109"]
[738159,"Velcro csiszoló korong, P 40, 115 mm, 10 db// MTX",432,"B","Active",{"$f":"VLOOKUP(A3236,[1]Sheet1!$A$1:$C$65512,3,FALSE)","v":284},null,null,"No info","линк","https://bg.toolsworld.com/search/?query=","https://bg.toolsworld.com/search/?query=738159"]
[738209,"Velcro csiszoló korong, P 60, 115 mm, 10 db// MTX",432,"B","Active",{"$f":"VLOOKUP(A3237,[1]Sheet1!$A$1:$C$65512,3,FALSE)","v":1071},null,null,"No info","линк","https://bg.toolsworld.com/search/?query=","https://bg.toolsworld.com/search/?query=738209"]
[738259,"Velcro csiszoló korong, P 80, 115 mm, 10 db// MTX",432,"B","Active",{"$f":"VLOOKUP(A3238,[1]Sheet1!$A$1:$C$65512,3,FALSE)","v":524},null,null,"No info","линк","https://bg.toolsworld.com/search/?query=","https://bg.toolsworld.com/search/?query=738259"]
[738309,"Velcro csiszoló korong, P 24, 125 mm, 10 db// MTX",432,"B","Active",{"$f":"VLOOKUP(A3239,[1]Sheet1!$A$1:$C$65512,3,FALSE)","v":{"$error":"#N/A"}},null,null,"No info","линк","https://bg.toolsworld.com/search/?query=","https://bg.toolsworld.com/search/?query=738309"]
[738339,"Velcro csiszoló korong, P 36, 125 mm, 10 db// MTX",432,"B","Active",{"$f":"VLOOKUP(A3240,[1]Sheet1!$A$1:$C$65512,3,FALSE)","v":140},null,null,"No info","линк","https://bg.toolsworld.com/search/?query=","https://bg.toolsworld.com/search/?query=738339"]
[738359,"Velcro csiszoló korong, P 40, 125 mm, 10 db// MTX",432,"B","Active",{"$f":"VLOOKUP(A3241,[1]Sheet1!$A$1:$C$65512,3,FALSE)","v":{"$error":"#N/A"}},null,null,"No info","линк","https://bg.toolsworld.com/search/?query=","https://bg.toolsworld.com/search/?query=738359"]
[738409,"Velcro csiszoló korong, P 60, 125 mm, 10 db// MTX",432,"B","Active",{"$f":"VLOOKUP(A3242,[1]Sheet1!$A$1:$C$65512,3,FALSE)","v":{"$error":"#N/A"}},null,null,"No info","линк","https://bg.toolsworld.com/search/?query=","https://bg.toolsworld.com/search/?query=738409"]
[738459,"Velcro csiszoló korong, P 80, 125 mm, 10 db// MTX",432,"B","Active",{"$f":"VLOOKUP(A3243,[1]Sheet1!$A$1:$C$65512,3,FALSE)","v":{"$error":"#N/A"}},null,null,"No info","линк","https://bg.toolsworld.com/search/?query=","https://bg.toolsworld.com/search/?query=738459"]
[738509,"Velcro csiszoló korong, P 100, 125 mm, 10 db// MTX",432,"B","Active",{"$f":"VLOOKUP(A3244,[1]Sheet1!$A$1:$C$65512,3,FALSE)","v":{"$error":"#N/A"}},null,null,"No info",{"$f":"HYPERLINK(L3244,\"линк\")","v":"линк"},"https://bg.toolsworld.com/search/?query=","https://bg.toolsworld.com/search/?query=738509"]
[738559,"Velcro csiszoló korong, P 120, 125 mm, 10 db// MTX",432,"B","Active",{"$f":"VLOOKUP(A3245,[1]Sheet1!$A$1:$C$65512,3,FALSE)","v":{"$error":"#N/A"}},null,null,"No info","линк","https://bg.toolsworld.com/search/?query=","https://bg.toolsworld.com/search/?query=738559"]
[738659,"Velcro csiszoló korong, P 180, 125 mm, 10 db// MTX",432,"B","Active",{"$f":"VLOOKUP(A3246,[1]Sheet1!$A$1:$C$65512,3,FALSE)","v":{"$error":"#N/A"}},null,null,"No info","линк","https://bg.toolsworld.com/search/?query=","https://bg.toolsworld.com/search/?query=738659"]
[740269,"Lamellás tárcsa, P 25, 115 x 22,2 mm// MTX",308,"B","Active",{"$f":"VLOOKUP(A3247,[1]Sheet1!$A$1:$C$65512,3,FALSE)","v":178},null,null,"No info","линк","https://bg.toolsworld.com/search/?query=","https://bg.toolsworld.com/search/?query=740269"]
[740279,"Lamellás tárcsa, P 40, 115 x 22,2 mm// MTX",289,"B","Active",{"$f":"VLOOKUP(A3248,[1]Sheet1!$A$1:$C$65512,3,FALSE)","v":852},null,null,"No info","линк","https://bg.toolsworld.com/search/?query=",{"$f":"CONCATENATE(K3248,A3248)","v":"https://bg.toolsworld.com/search/?query=740279"}]
[740289,"Lamellás tárcsa, P 60, 115 x 22,2 mm// MTX",299,"B","Active",{"$f":"VLOOKUP(A3249,[1]Sheet1!$A$1:$C$65512,3,FALSE)","v":{"$error":"#N/A"}},null,null,"No info","линк","https://bg.toolsworld.com/search/?query=","https://bg.toolsworld.com/search/?query=740289"]
[740299,"Lamellás tárcsa, P 80, 115 x 22,2 mm// MTX",289,"B","Active",{"$f":"VLOOKUP(A3250,[1]Sheet1!$A$1:$C$65512,3,FALSE)","v":531},null,null,"No info","линк","https://bg.toolsworld.com/search/?query=","https://bg.toolsworld.com/search/?query=740299"]
[740319,"Lamellás tárcsa, P 100, 115 x 22,2 mm//MTX",285,"B","Active",{"$f":"VLOOKUP(A3251,[1]Sheet1!$A$1:$C$65512,3,FALSE)","v":{"$error":"#N/A"}},null,null,"No info","линк","https://bg.toolsworld.com/search/?query=","https://bg.toolsworld.com/search/?query=740319"]
[740329,"Lamellás tárcsa, P 120, 115 x 22,2 mm//MTX",285,"B","Active",{"$f":"VLOOKUP(A3252,[1]Sheet1!$A$1:$C$65512,3,FALSE)","v":{"$error":"#N/A"}},null,null,"No info","линк","https://bg.toolsworld.com/search/?query=","https://bg.toolsworld.com/search/?query=740329"]
[740419,"Lamellás tárcsa, P 25, 125 x 22,2 mm// MTX",322,"B","Active",{"$f":"VLOOKUP(A3253,[1]Sheet1!$A$1:$C$65512,3,FALSE)","v":821},null,null,"No info","линк","https://bg.toolsworld.com/search/?query=","https://bg.toolsworld.com/search/?query=740419"]
[740429,"Lamellás tárcsa, P 40, 125 x 22,2 mm// MTX",322,"B","Active",{"$f":"VLOOKUP(A3254,[1]Sheet1!$A$1:$C$65512,3,FALSE)","v":4080},null,null,"No info","линк","https://bg.toolsworld.com/search/?query=","https://bg.toolsworld.com/search/?query=740429"]
[740439,"Lamellás tárcsa, P 60, 125 x 22,2 mm// MTX",322,"B","Active",{"$f":"VLOOKUP(A3255,[1]Sheet1!$A$1:$C$65512,3,FALSE)","v":527},null,null,"No info","линк","https://bg.toolsworld.com/search/?query=","https://bg.toolsworld.com/search/?query=740439"]
[740449,"Lamellás tárcsa, P 80, 125 x 22,2 mm// MTX",322,"B","Active",{"$f":"VLOOKUP(A3256,[1]Sheet1!$A$1:$C$65512,3,FALSE)","v":1848},null,null,"No info","линк","https://bg.toolsworld.com/search/?query=","https://bg.toolsworld.com/search/?query=740449"]
[740479,"Lamellás tárcsa, P 100, 125 x 22,2 mm//MTX",322,"B","Active",{"$f":"VLOOKUP(A3257,[1]Sheet1!$A$1:$C$65512,3,FALSE)","v":156},null,null,"No info","линк","https://bg.toolsworld.com/search/?query=","https://bg.toolsworld.com/search/?query=740479"]
[740489,"Lamellás tárcsa, P 120, 125 x 22,2 mm//MTX",322,"B","Active",{"$f":"VLOOKUP(A3258,[1]Sheet1!$A$1:$C$65512,3,FALSE)","v":94},null,null,"No info","линк","https://bg.toolsworld.com/search/?query=","https://bg.toolsworld.com/search/?query=740489"]
[740569,"Lamellás tárcsa,, P 24, 150 х 22,2 mm// MTX",584,"B","Active",{"$f":"VLOOKUP(A3259,[1]Sheet1!$A$1:$C$65512,3,FALSE)","v":{"$error":"#N/A"}},null,null,"No info","линк","https://bg.toolsworld.com/search/?query=","https://bg.toolsworld.com/search/?query=740569"]
[740579,"Lapos tárcsa, P 40, 150 х 22,2 mm// MTX",568,"B","Active",{"$f":"VLOOKUP(A3260,[1]Sheet1!$A$1:$C$65512,3,FALSE)","v":5},null,null,"No info","линк","https://bg.toolsworld.com/search/?query=","https://bg.toolsworld.com/search/?query=740579"]
[740599,"Lamellás tárcsa,, P 80, 150 х 22,2 mm// MTX",568,"B","Active",{"$f":"VLOOKUP(A3261,[1]Sheet1!$A$1:$C$65512,3,FALSE)","v":{"$error":"#N/A"}},null,null,"No info","линк","https://bg.toolsworld.com/search/?query=","https://bg.toolsworld.com/search/?query=740599"]
[740729,"Lamellás tárcsa, P 25, 180 x 22,2 mm// MTX",770,"B","Active",{"$f":"VLOOKUP(A3262,[1]Sheet1!$A$1:$C$65512,3,FALSE)","v":1402},null,null,"No info","линк","https://bg.toolsworld.com/search/?query=","https://bg.toolsworld.com/search/?query=740729"]
[740739,"Lamellás tárcsa, P 40, 180 x 22,2 mm// MTX",760,"B","Active",{"$f":"VLOOKUP(A3263,[1]Sheet1!$A$1:$C$65512,3,FALSE)","v":742},null,null,"No info","линк","https://bg.toolsworld.com/search/?query=","https://bg.toolsworld.com/search/?query=740739"]
[740749,"Lamellás tárcsa, P 60, 180 x 22,2 mm// MTX",756,"B","Active",{"$f":"VLOOKUP(A3264,[1]Sheet1!$A$1:$C$65512,3,FALSE)","v":1013},null,null,"No info","линк","https://bg.toolsworld.com/search/?query=","https://bg.toolsworld.com/search/?query=740749"]
[740759,"Lamellás tárcsa, P 80, 180 x 22,2 mm// MTX",756,"B","Active",{"$f":"VLOOKUP(A3265,[1]Sheet1!$A$1:$C$65512,3,FALSE)","v":1148},null,null,"No info","линк","https://bg.toolsworld.com/search/?query=","https://bg.toolsworld.com/search/?query=740759"]
[741109,"Tengelyre szerelt lamellás tárcsa, P 40,  60 x 20 x 6 mm // MTX",316,"B","Active",{"$f":"VLOOKUP(A3266,[1]Sheet1!$A$1:$C$65512,3,FALSE)","v":1718},null,null,"No info","линк","https://bg.toolsworld.com/search/?query=","https://bg.toolsworld.com/search/?query=741109"]
[741129,"Tengelyre szerelt lamellás tárcsa, P 60,  60 x 20 x 6 mm //MTX",316,"B","Active",{"$f":"VLOOKUP(A3267,[1]Sheet1!$A$1:$C$65512,3,FALSE)","v":1508},null,null,"No info","линк","https://bg.toolsworld.com/search/?query=","https://bg.toolsworld.com/search/?query=741129"]
[741149,"Tengelyre szerelt lamellás tárcsa, P 80,  60 x 20 x 6 mm// MTX",316,"B","Active",{"$f":"VLOOKUP(A3268,[1]Sheet1!$A$1:$C$65512,3,FALSE)","v":654},null,null,"No info","линк","https://bg.toolsworld.com/search/?query=","https://bg.toolsworld.com/search/?query=741149"]
[741209,"Tengelyre szerelt lamellás tárcsa, P 40,  60 x 30 x 6 mm // MTX",399,"B","Active",{"$f":"VLOOKUP(A3269,[1]Sheet1!$A$1:$C$65512,3,FALSE)","v":469},null,null,"No info","линк","https://bg.toolsworld.com/search/?query=","https://bg.toolsworld.com/search/?query=741209"]
[741229,"Tengelyre szerelt lamellás tárcsa, P 60, 60 x 30 x 6 mm // MTX",399,"B","Active",{"$f":"VLOOKUP(A3270,[1]Sheet1!$A$1:$C$65512,3,FALSE)","v":297},null,null,"No info","линк","https://bg.toolsworld.com/search/?query=","https://bg.toolsworld.com/search/?query=741229"]
[741249,"Tengelyre szerelt lamellás tárcsa, Ð 80, 60 x 30 x 6 mm // MTX",399,"B","Active",{"$f":"VLOOKUP(A3271,[1]Sheet1!$A$1:$C$65512,3,FALSE)","v":196},null,null,"No info","линк","https://bg.toolsworld.com/search/?query=","https://bg.toolsworld.com/search/?query=741249"]
[741409,"Tengelyre szerelt lamellás tárcsa, P 40, 80 x 30 x 6 mm // MTX",548,"B","Active",{"$f":"VLOOKUP(A3272,[1]Sheet1!$A$1:$C$65512,3,FALSE)","v":1440},null,null,"No info","линк","https://bg.toolsworld.com/search/?query=","https://bg.toolsworld.com/search/?query=741409"]
[741429,"Tengelyre szerelt lamellás tárcsa, P 60,  80 x 30 x 6 mm // MTX",548,"B","Active",{"$f":"VLOOKUP(A3273,[1]Sheet1!$A$1:$C$65512,3,FALSE)","v":1763},null,null,"No info","линк","https://bg.toolsworld.com/search/?query=","https://bg.toolsworld.com/search/?query=741429"]
[741449,"Tengelyre szerelt lamellás tárcsa, P 80, 80 x 30 x 6 mm// MTX",548,"B","Active",{"$f":"VLOOKUP(A3274,[1]Sheet1!$A$1:$C$65512,3,FALSE)","v":1506},null,null,"No info","линк","https://bg.toolsworld.com/search/?query=","https://bg.toolsworld.com/search/?query=741449"]
[741509,"Tengelyre szerelt lamellás tárcsa, P 40,  80 x 40 x 6 mm // MTX",692,"B","Active",{"$f":"VLOOKUP(A3275,[1]Sheet1!$A$1:$C$65512,3,FALSE)","v":1791},null,null,"No info","линк","https://bg.toolsworld.com/search/?query=","https://bg.toolsworld.com/search/?query=741509"]
[741529,"Tengelyre szerelt lamellás tárcsa, P 60,  80 x 40 x 6 mm // MTX",692,"B","Active",{"$f":"VLOOKUP(A3276,[1]Sheet1!$A$1:$C$65512,3,FALSE)","v":1496},null,null,"No info","линк","https://bg.toolsworld.com/search/?query=","https://bg.toolsworld.com/search/?query=741529"]
[741549,"Tengelyre szerelt lamellás tárcsa, P 80,  80 x 40 x 6 mm // MTX",692,"B","Active",{"$f":"VLOOKUP(A3277,[1]Sheet1!$A$1:$C$65512,3,FALSE)","v":1724},null,null,"No info","линк","https://bg.toolsworld.com/search/?query=","https://bg.toolsworld.com/search/?query=741549"]
[742059,"Csiszolószalag végtelenített, P 40, 75 x 457 mm, 10 db. MATRIX",1277,"B","Active",{"$f":"VLOOKUP(A3278,[1]Sheet1!$A$1:$C$65512,3,FALSE)","v":176},null,null,"No info","линк","https://bg.toolsworld.com/search/?query=","https://bg.toolsworld.com/search/?query=742059"]
[742109,"Alumínium-oxid végtelenített szíjak, P 60, 75 х 457 mm, 10 db// MTX",1277,"B","Active",{"$f":"VLOOKUP(A3279,[1]Sheet1!$A$1:$C$65512,3,FALSE)","v":124},null,null,"No info","линк","https://bg.toolsworld.com/search/?query=","https://bg.toolsworld.com/search/?query=742109"]
[742159,"Alumínium-oxid végtelenített szíjak, P 80, 75 х 457 mm, 10 db// MTX",1277,"B","Active",{"$f":"VLOOKUP(A3280,[1]Sheet1!$A$1:$C$65512,3,FALSE)","v":2},null,null,"No info","линк","https://bg.toolsworld.com/search/?query=","https://bg.toolsworld.com/search/?query=742159"]
[742179,"Alumínium oxid végtelenített szíjak, P 100, 75 х 457 mm, 10 db// MTX",1277,"B","Active",{"$f":"VLOOKUP(A3281,[1]Sheet1!$A$1:$C$65512,3,FALSE)","v":74},null,null,"No info","линк","https://bg.toolsworld.com/search/?query=","https://bg.toolsworld.com/search/?query=742179"]
[742199,"Alumínium oxid végtelenített szíjak, P 120, 75 х 457 mm, 10 db// MTX",1277,"B","Active",{"$f":"VLOOKUP(A3282,[1]Sheet1!$A$1:$C$65512,3,FALSE)","v":48},null,null,"No info","линк","https://bg.toolsworld.com/search/?query=","https://bg.toolsworld.com/search/?query=742199"]
[742219,"Alumínium oxid végtelenített szíjak, P 150, 75 х 457 mm, 10 db// MTX",1277,"B","Active",{"$f":"VLOOKUP(A3283,[1]Sheet1!$A$1:$C$65512,3,FALSE)","v":14},null,null,"No info","линк","https://bg.toolsworld.com/search/?query=","https://bg.toolsworld.com/search/?query=742219"]
[742259,"Alumínium-oxid végtelenített szíjak, P 40, 75 х 533 mm, 10 db// MTX",1474,"B","Active",{"$f":"VLOOKUP(A3284,[1]Sheet1!$A$1:$C$65512,3,FALSE)","v":129},null,null,"No info","линк","https://bg.toolsworld.com/search/?query=","https://bg.toolsworld.com/search/?query=742259"]
[742309,"Alumínium-oxid végtelenített szíjak, P 60, 75 х 533 mm, 10 db// MTX",1474,"B","Active",{"$f":"VLOOKUP(A3285,[1]Sheet1!$A$1:$C$65512,3,FALSE)","v":74},null,null,"No info","линк","https://bg.toolsworld.com/search/?query=","https://bg.toolsworld.com/search/?query=742309"]
[742359,"Alumínium-oxid végtelenített szíjak, P 80, 75 х 533 mm, 10 db// MTX",1474,"B","Active",{"$f":"VLOOKUP(A3286,[1]Sheet1!$A$1:$C$65512,3,FALSE)","v":23},null,null,"No info","линк","https://bg.toolsworld.com/search/?query=","https://bg.toolsworld.com/search/?query=742359"]
[742379,"Alumínium-oxid végtelenített szíjak, P 100, 75 x 533 mm, 10 db// MTX",1474,"B","Active",{"$f":"VLOOKUP(A3287,[1]Sheet1!$A$1:$C$65512,3,FALSE)","v":63},null,null,"No info","линк","https://bg.toolsworld.com/search/?query=","https://bg.toolsworld.com/search/?query=742379"]
[742399,"Alumínium-oxid végtelenített szíjak, P 120, 75 х 533 mm, 10 db// MTX",1474,"B","Active",{"$f":"VLOOKUP(A3288,[1]Sheet1!$A$1:$C$65512,3,FALSE)","v":21},null,null,"No info","линк","https://bg.toolsworld.com/search/?query=","https://bg.toolsworld.com/search/?query=742399"]
[742419,"Alumínium-oxid végtelenített szíjak, P 150, 75 х 533 mm, 10 db// MTX",1474,"B","Active",{"$f":"VLOOKUP(A3289,[1]Sheet1!$A$1:$C$65512,3,FALSE)","v":23},null,null,"No info","линк","https://bg.toolsworld.com/search/?query=","https://bg.toolsworld.com/search/?query=742419"]
[742509,"Alumínium-oxid végtelenített szíjak, P 40, 100 х 610 mm, 10 db// MTX",1749,"B","Active",{"$f":"VLOOKUP(A3290,[1]Sheet1!$A$1:$C$65512,3,FALSE)","v":158},null,null,"No info","линк","https://bg.toolsworld.com/search/?query=","https://bg.toolsworld.com/search/?query=742509"]
[742559,"Alumínium oxid, végtelenített csiszolószsalag, P 60, 100 х 610 mm, 10 pcs// MTX",1749,"B","Active",{"$f":"VLOOKUP(A3291,[1]Sheet1!$A$1:$C$65512,3,FALSE)","v":317},null,null,"No info","линк","https://bg.toolsworld.com/search/?query=","https://bg.toolsworld.com/search/?query=742559"]
[742609,"Alumínium oxid, végtelenített csiszolószsalag, P 80, 100 х 610 mm, 10 pcs// MTX",1749,"B","Active",{"$f":"VLOOKUP(A3292,[1]Sheet1!$A$1:$C$65512,3,FALSE)","v":397},null,null,"No info","линк","https://bg.toolsworld.com/search/?query=","https://bg.toolsworld.com/search/?query=742609"]
[742659,"Alumínium oxid, végtelenített csiszolószsalag, P 100, 100 х 610 mm, 10 pcs// MTX",1749,"B","Active",{"$f":"VLOOKUP(A3293,[1]Sheet1!$A$1:$C$65512,3,FALSE)","v":29},null,null,"No info","линк","https://bg.toolsworld.com/search/?query=","https://bg.toolsworld.com/search/?query=742659"]
[742679,"Alumínium oxid, végtelenített csiszolószsalag, P 120, 100 х 610 mm, 10 pcs// MTX",1749,"B","Active",{"$f":"VLOOKUP(A3294,[1]Sheet1!$A$1:$C$65512,3,FALSE)","v":156},null,null,"No info","линк","https://bg.toolsworld.com/search/?query=","https://bg.toolsworld.com/search/?query=742679"]
[742699,"Csiszolószalag végtelenített, P 150, 100 x 610 mm, 10 db.// MTX",1749,"B","Active",{"$f":"VLOOKUP(A3295,[1]Sheet1!$A$1:$C$65512,3,FALSE)","v":70},null,null,"No info","линк","https://bg.toolsworld.com/search/?query=","https://bg.toolsworld.com/search/?query=742699"]
[742759,"Alumínium-oxid szalaggyuru, P 40,  75 x 457 mm, 3 db// MTX",568,"B","Active",{"$f":"VLOOKUP(A3296,[1]Sheet1!$A$1:$C$65512,3,FALSE)","v":1679},null,null,"No info","линк","https://bg.toolsworld.com/search/?query=","https://bg.toolsworld.com/search/?query=742759"]
[742769,"Alumínium-oxid szalaggyuru, P 60,  75 x 457 mm, 3 db// MTX",568,"B","Active",{"$f":"VLOOKUP(A3297,[1]Sheet1!$A$1:$C$65512,3,FALSE)","v":1606},null,null,"No info","линк","https://bg.toolsworld.com/search/?query=","https://bg.toolsworld.com/search/?query=742769"]
[742779,"Alumínium-oxid szalaggyuru, P 80,  75 x 457 mm, 3 db// MTX",568,"B","Active",{"$f":"VLOOKUP(A3298,[1]Sheet1!$A$1:$C$65512,3,FALSE)","v":1684},null,null,"No info","линк","https://bg.toolsworld.com/search/?query=","https://bg.toolsworld.com/search/?query=742779"]
[742789,"Alumínium-oxid szalaggyuru, P 100, 75 x 457 mm, 3 db// MTX",568,"B","Active",{"$f":"VLOOKUP(A3299,[1]Sheet1!$A$1:$C$65512,3,FALSE)","v":1830},null,null,"No info","линк","https://bg.toolsworld.com/search/?query=","https://bg.toolsworld.com/search/?query=742789"]
[742799,"Alumínium-oxid szalaggyuru, P 120 , 75 x 457 mm, 3 db// MTX",568,"B","Active",{"$f":"VLOOKUP(A3300,[1]Sheet1!$A$1:$C$65512,3,FALSE)","v":1662},null,null,"No info","линк","https://bg.toolsworld.com/search/?query=","https://bg.toolsworld.com/search/?query=742799"]
[742809,"Alumínium-oxid szalaggyuru, P 150,  75 x 457 mm, 3 db// MTX",568,"B","Active",{"$f":"VLOOKUP(A3301,[1]Sheet1!$A$1:$C$65512,3,FALSE)","v":1569},null,null,"No info","линк","https://bg.toolsworld.com/search/?query=","https://bg.toolsworld.com/search/?query=742809"]
[742819,"Alumínium-oxid szalaggyuru, P 40,  75 x 533 mm, 3 db// MTX",589,"B","Active",{"$f":"VLOOKUP(A3302,[1]Sheet1!$A$1:$C$65512,3,FALSE)","v":834},null,null,"No info","линк","https://bg.toolsworld.com/search/?query=","https://bg.toolsworld.com/search/?query=742819"]
[742829,"Alumínium-oxid szalaggyuru, P 60,  75 x 533 mm, 3 db// MTX",589,"B","Active",{"$f":"VLOOKUP(A3303,[1]Sheet1!$A$1:$C$65512,3,FALSE)","v":928},null,null,"No info","линк","https://bg.toolsworld.com/search/?query=","https://bg.toolsworld.com/search/?query=742829"]
[742839,"Alumínium-oxid szalaggyuru, P 80,  75 x 533 mm, 3 db// MTX",589,"B","Active",{"$f":"VLOOKUP(A3304,[1]Sheet1!$A$1:$C$65512,3,FALSE)","v":718},null,null,"No info","линк","https://bg.toolsworld.com/search/?query=","https://bg.toolsworld.com/search/?query=742839"]
[742849,"Alumínium-oxid szalaggyuru, P 100,  75 x 533 mm, 3 db// MTX",589,"B","Active",{"$f":"VLOOKUP(A3305,[1]Sheet1!$A$1:$C$65512,3,FALSE)","v":379},null,null,"No info","линк","https://bg.toolsworld.com/search/?query=","https://bg.toolsworld.com/search/?query=742849"]
[742859,"Alumínium-oxid szalaggyuru, P 120,  75 x 533 mm, 3 db// MTX",589,"B","Active",{"$f":"VLOOKUP(A3306,[1]Sheet1!$A$1:$C$65512,3,FALSE)","v":489},null,null,"No info","линк","https://bg.toolsworld.com/search/?query=","https://bg.toolsworld.com/search/?query=742859"]
[742869,"Alumínium-oxid szalaggyuru, P 150,  75 x 533 mm, 3 db// MTX",589,"B","Active",{"$f":"VLOOKUP(A3307,[1]Sheet1!$A$1:$C$65512,3,FALSE)","v":1781},null,null,"No info","линк","https://bg.toolsworld.com/search/?query=","https://bg.toolsworld.com/search/?query=742869"]
[742879,"Alumínium-oxid szalaggyuru, P 40, 100 х 610 mm, 3 pcs// MTX",867,"B","Active",{"$f":"VLOOKUP(A3308,[1]Sheet1!$A$1:$C$65512,3,FALSE)","v":25},null,null,"No info",{"$f":"HYPERLINK(L3308,\"линк\")","v":"линк"},"https://bg.toolsworld.com/search/?query=","https://bg.toolsworld.com/search/?query=742879"]
[742889,"Alumínium-oxid szalaggyuru, P 60, 100 х 610 mm, 3 pcs// MTX",867,"B","Active",{"$f":"VLOOKUP(A3309,[1]Sheet1!$A$1:$C$65512,3,FALSE)","v":12},null,null,"No info","линк","https://bg.toolsworld.com/search/?query=","https://bg.toolsworld.com/search/?query=742889"]
[742909,"Alumínium-oxid szalaggyuru, P 100, 100 х 610 mm, 3 pcs// MTX",867,"B","Active",{"$f":"VLOOKUP(A3310,[1]Sheet1!$A$1:$C$65512,3,FALSE)","v":18},null,null,"No info","линк","https://bg.toolsworld.com/search/?query=","https://bg.toolsworld.com/search/?query=742909"]
[742929,"Alumínium-oxid szalaggyuru, P 150, 100 x 610 mm, 3 db// MTX",867,"B","Active",{"$f":"VLOOKUP(A3311,[1]Sheet1!$A$1:$C$65512,3,FALSE)","v":18},null,null,"No info","линк","https://bg.toolsworld.com/search/?query=","https://bg.toolsworld.com/search/?query=742929"]
[743269,"Fém vágó korong, 115 х 1,0 х 22,2 mm// MTX",181,"B","Active",{"$f":"VLOOKUP(A3312,[1]Sheet1!$A$1:$C$65512,3,FALSE)","v":5203},null,null,"No info","линк","https://bg.toolsworld.com/search/?query=",{"$f":"CONCATENATE(K3312,A3312)","v":"https://bg.toolsworld.com/search/?query=743269"}]
[743279,"Fém vágó korong, 115 х 1,2 х 22,2 mm// MTX",181,"B","Active",{"$f":"VLOOKUP(A3313,[1]Sheet1!$A$1:$C$65512,3,FALSE)","v":2580},null,null,"No info","линк","https://bg.toolsworld.com/search/?query=","https://bg.toolsworld.com/search/?query=743279"]
[743289,"Fém vágó korong, 115 х 1,6 х 22,2 mm// MTX",181,"B","Active",{"$f":"VLOOKUP(A3314,[1]Sheet1!$A$1:$C$65512,3,FALSE)","v":{"$error":"#N/A"}},null,null,"No info","линк","https://bg.toolsworld.com/search/?query=","https://bg.toolsworld.com/search/?query=743289"]
[743339,"Fém vágó korong, 125 х 1,0 х 22,2 mm// MTX",206,"B","Active",{"$f":"VLOOKUP(A3315,[1]Sheet1!$A$1:$C$65512,3,FALSE)","v":11664},null,null,"No info","линк","https://bg.toolsworld.com/search/?query=","https://bg.toolsworld.com/search/?query=743339"]
[743349,"Fém vágó korong, 125 х 1,2 х 22,2 mm// MTX",206,"B","Active",{"$f":"VLOOKUP(A3316,[1]Sheet1!$A$1:$C$65512,3,FALSE)","v":7814},null,null,"No info","линк","https://bg.toolsworld.com/search/?query=","https://bg.toolsworld.com/search/?query=743349"]
[743539,"Fém vágó korong, 230 х 1,8 х 22,2 mm// MTX",637,"B","Active",{"$f":"VLOOKUP(A3317,[1]Sheet1!$A$1:$C$65512,3,FALSE)","v":3399},null,null,"No info","линк","https://bg.toolsworld.com/search/?query=","https://bg.toolsworld.com/search/?query=743539"]
[743549,"Fém vágó korong, 230 х 2,0 х 22,2 mm// MTX",643,"B","Active",{"$f":"VLOOKUP(A3318,[1]Sheet1!$A$1:$C$65512,3,FALSE)","v":6992},null,null,"No info","линк","https://bg.toolsworld.com/search/?query=","https://bg.toolsworld.com/search/?query=743549"]
[743559,"Fém vágó korong, 230 х 2,5 х 22,2 mm// MTX",733,"B","Active",{"$f":"VLOOKUP(A3319,[1]Sheet1!$A$1:$C$65512,3,FALSE)","v":831},null,null,"No info","линк","https://bg.toolsworld.com/search/?query=","https://bg.toolsworld.com/search/?query=743559"]
[744409,"Hullámkreppelt tengelyre szerelt kefekorong 30mm, 6mm szár, bronz bevonatos acélszál// MTX",242,"B","Active",{"$f":"VLOOKUP(A3320,[1]Sheet1!$A$1:$C$65512,3,FALSE)","v":{"$error":"#N/A"}},null,null,"No info","линк","https://bg.toolsworld.com/search/?query=","https://bg.toolsworld.com/search/?query=744409"]
[744429,"Hullámkreppelt tengelyre szerelt kefekorong 40mm, 6mm szár, bronz bevonatos acélszál// MTX",250,"B","Active",{"$f":"VLOOKUP(A3321,[1]Sheet1!$A$1:$C$65512,3,FALSE)","v":694},null,null,"No info","линк","https://bg.toolsworld.com/search/?query=","https://bg.toolsworld.com/search/?query=744429"]
[744449,"Hullámkreppelt tengelyre szerelt kefekorong 50mm, 6mm szár, bronz bevonatos acélszál// MTX",265,"B","Active",{"$f":"VLOOKUP(A3322,[1]Sheet1!$A$1:$C$65512,3,FALSE)","v":" "},null,null,"No info","линк","https://bg.toolsworld.com/search/?query=","https://bg.toolsworld.com/search/?query=744449"]
[744469,"Hullámkreppelt tengelyre szerelt kefekorong 60mm, 6mm szár, bronz bevonatos acélszál// MTX",308,"B","Active",{"$f":"VLOOKUP(A3323,[1]Sheet1!$A$1:$C$65512,3,FALSE)","v":{"$error":"#N/A"}},null,null,"No info","линк","https://bg.toolsworld.com/search/?query=","https://bg.toolsworld.com/search/?query=744469"]
[744489,"Hullámkreppelt tengelyre szerelt kefekorong 75mm, 6mm szár, bronz bevonatos acélszál// MTX",391,"B","Active",{"$f":"VLOOKUP(A3324,[1]Sheet1!$A$1:$C$65512,3,FALSE)","v":{"$error":"#N/A"}},null,null,"No info","линк","https://bg.toolsworld.com/search/?query=","https://bg.toolsworld.com/search/?query=744489"]
[744509,"Hullámkreppelt tengelyre szerelt kefekorong 100mm, 6mm szár, bronz bevonatos acélszál// MTX",564,"B","Active",{"$f":"VLOOKUP(A3325,[1]Sheet1!$A$1:$C$65512,3,FALSE)","v":{"$error":"#N/A"}},null,null,"No info","линк","https://bg.toolsworld.com/search/?query=","https://bg.toolsworld.com/search/?query=744509"]
[744649,"Tekert tengelyre szerelt ecset 25 mm, 6mm szár, lágyított acéldrót// MTX",564,"B","Active",{"$f":"VLOOKUP(A3326,[1]Sheet1!$A$1:$C$65512,3,FALSE)","v":101},null,null,"No info","линк","https://bg.toolsworld.com/search/?query=","https://bg.toolsworld.com/search/?query=744649"]
[744669,"Tekert tengelyre szerelt ecset 30 mm, 6mm szár, lágyított acéldrót// MTX",644,"B","Active",{"$f":"VLOOKUP(A3327,[1]Sheet1!$A$1:$C$65512,3,FALSE)","v":13},null,null,"No info","линк","https://bg.toolsworld.com/search/?query=","https://bg.toolsworld.com/search/?query=744669"]
[744689,"Tekert tengelyre szerelt ecset 65 mm, 6mm szár, lágyított acéldrót// MTX",770,"B","Active",{"$f":"VLOOKUP(A3328,[1]Sheet1!$A$1:$C$65512,3,FALSE)","v":{"$error":"#N/A"}},null,null,"No info","линк","https://bg.toolsworld.com/search/?query=","https://bg.toolsworld.com/search/?query=744689"]
[744709,"Drótkefe, 75 mm, \"cup\" with stud, tekert fém//MTX",878,"B","Active",{"$f":"VLOOKUP(A3329,[1]Sheet1!$A$1:$C$65512,3,FALSE)","v":{"$error":"#N/A"}},null,null,"No info","линк","https://bg.toolsworld.com/search/?query=","https://bg.toolsworld.com/search/?query=744709"]
[744759,"Hullámkreppelt tengelyre szerelt ecset 50 mm, 6mm szár, bronz bevonatos acélszál// MTX",365,"B","Active",{"$f":"VLOOKUP(A3330,[1]Sheet1!$A$1:$C$65512,3,FALSE)","v":228},null,null,"No info","линк","https://bg.toolsworld.com/search/?query=","https://bg.toolsworld.com/search/?query=744759"]
[744779,"Hullámkreppelt tengelyre szerelt ecset 65 mm, 6mm szár, bronz bevonatos acélszál// MTX",448,"B","Active",{"$f":"VLOOKUP(A3331,[1]Sheet1!$A$1:$C$65512,3,FALSE)","v":{"$error":"#N/A"}},null,null,"No info","линк","https://bg.toolsworld.com/search/?query=","https://bg.toolsworld.com/search/?query=744779"]
[744789,"Hullámkreppelt tengelyre szerelt ecset 75 mm, 6mm szár, bronz bevonatos acélszál// MTX",481,"B","Active",{"$f":"VLOOKUP(A3332,[1]Sheet1!$A$1:$C$65512,3,FALSE)","v":{"$error":"#N/A"}},null,null,"No info","линк","https://bg.toolsworld.com/search/?query=","https://bg.toolsworld.com/search/?query=744789"]
[744809,"Acél drótkefe készlet szárral, 2 db, lapos kefe 100 mm, pohárkefe 75 mm// MTX",890,"B","Active",{"$f":"VLOOKUP(A3333,[1]Sheet1!$A$1:$C$65512,3,FALSE)","v":{"$error":"#N/A"}},null,null,"No info","линк","https://bg.toolsworld.com/search/?query=","https://bg.toolsworld.com/search/?query=744809"]
[744849,"Hullámkreppelt tengelyre szerelt kefe készlet, kefekorong 65 mm + kehely 50mm + késkefe, 2 db// MTX",1091,"B","Active",{"$f":"VLOOKUP(A3334,[1]Sheet1!$A$1:$C$65512,3,FALSE)","v":{"$error":"#N/A"}},null,null,"No info","линк","https://bg.toolsworld.com/search/?query=","https://bg.toolsworld.com/search/?query=744849"]
[744869,"Hullámkreppelt tengelyre szerelt kefe készlet, kefekorong 50 mm + kehely 25-50 mm, 3 db// MTX",599,"B","Active",{"$f":"VLOOKUP(A3335,[1]Sheet1!$A$1:$C$65512,3,FALSE)","v":" "},null,null,"No info","линк","https://bg.toolsworld.com/search/?query=","https://bg.toolsworld.com/search/?query=744869"]
[744909,"Hullámkreppelt tengelyre szerelt kefekorong szett, 50-63-75 mm, 3 db// MTX",560,"B","Active",{"$f":"VLOOKUP(A3336,[1]Sheet1!$A$1:$C$65512,3,FALSE)","v":112},null,null,"No info","линк","https://bg.toolsworld.com/search/?query=","https://bg.toolsworld.com/search/?query=744909"]
[744929,"Hullámkreppelt tengelyre szerelt kefe készlet, kefekorong 50-75 mm + kehely 75mm, 5 db// MTX",1442,"B","Active",{"$f":"VLOOKUP(A3337,[1]Sheet1!$A$1:$C$65512,3,FALSE)","v":288},null,null,"No info","линк","https://bg.toolsworld.com/search/?query=","https://bg.toolsworld.com/search/?query=744929"]
[744949,"Hullámkreppelt tengelyre szerelt kefekorong szett, 25-38-50-63-75 mm, 5 db// MTX",599,"B","Active",{"$f":"VLOOKUP(A3338,[1]Sheet1!$A$1:$C$65512,3,FALSE)","v":682},null,null,"No info","линк","https://bg.toolsworld.com/search/?query=","https://bg.toolsworld.com/search/?query=744949"]
[744969,"Drótkefe készlet, 6 db, 5 lapos kefe 40-50-65-75-100 mm, 1 csésze kefe 50 mm, tengelyekkel// MTX",1513,"B","Active",{"$f":"VLOOKUP(A3339,[1]Sheet1!$A$1:$C$65512,3,FALSE)","v":{"$error":"#N/A"}},null,null,"No info","линк","https://bg.toolsworld.com/search/?query=","https://bg.toolsworld.com/search/?query=744969"]
[746039,"Hullámkreppelt tengelyre szerelt csiszoló kefe 65 mm, M14, bronz bevonatos acélszál// MTX",588,"B","Active",{"$f":"VLOOKUP(A3340,[1]Sheet1!$A$1:$C$65512,3,FALSE)","v":697},null,null,"No info","линк","https://bg.toolsworld.com/search/?query=","https://bg.toolsworld.com/search/?query=746039"]
[746049,"Hullámkreppelt tengelyre szerelt csiszoló kefe 75 mm, M14, bronz bevonatos acélszál// MTX",770,"B","Active",{"$f":"VLOOKUP(A3341,[1]Sheet1!$A$1:$C$65512,3,FALSE)","v":1834},null,null,"No info","линк","https://bg.toolsworld.com/search/?query=","https://bg.toolsworld.com/search/?query=746049"]
[746059,"Hullámkreppelt tengelyre szerelt csiszoló kefe 100 mm, M14, bronz bevonatos acélszál// MTX",1218,"B","Active",{"$f":"VLOOKUP(A3342,[1]Sheet1!$A$1:$C$65512,3,FALSE)","v":923},null,null,"No info","линк","https://bg.toolsworld.com/search/?query=","https://bg.toolsworld.com/search/?query=746059"]
[746067,"Acél drótkefe sarokcsiszolóhoz, 125 mm, M14// Сибртех",1796,"B","Active",{"$f":"VLOOKUP(A3343,[1]Sheet1!$A$1:$C$65512,3,FALSE)","v":{"$error":"#N/A"}},null,null,"No info","линк","https://bg.toolsworld.com/search/?query=","https://bg.toolsworld.com/search/?query=746067"]
[746069,"Hullámkreppelt tengelyre szerelt csiszoló kefe 125 mm, M14, bronz bevonatos acélszál// MTX",1782,"B","Active",{"$f":"VLOOKUP(A3344,[1]Sheet1!$A$1:$C$65512,3,FALSE)","v":{"$error":"#N/A"}},null,null,"No info","линк","https://bg.toolsworld.com/search/?query=","https://bg.toolsworld.com/search/?query=746069"]
[746079,"Hullámkreppelt tengelyre szerelt csiszoló kefe 150 mm, M14, bronz bevonatos acélszál// MTX",2352,"B","Active",{"$f":"VLOOKUP(A3345,[1]Sheet1!$A$1:$C$65512,3,FALSE)","v":182},null,null,"No info","линк","https://bg.toolsworld.com/search/?query=","https://bg.toolsworld.com/search/?query=746079"]
[746087,"Acélhuzal félig lapos kefe sarokcsiszolóhoz, 100 mm, M14// Сибртех",713,"B","Active",{"$f":"VLOOKUP(A3346,[1]Sheet1!$A$1:$C$65512,3,FALSE)","v":{"$error":"#N/A"}},null,null,"No info","линк","https://bg.toolsworld.com/search/?query=","https://bg.toolsworld.com/search/?query=746087"]
[746089,"Hullámkreppelt tengelyre szerelt csiszoló kefe, kúpozott 100 mm, M14, acéldrót// MTX",727,"B","Active",{"$f":"VLOOKUP(A3347,[1]Sheet1!$A$1:$C$65512,3,FALSE)","v":{"$error":"#N/A"}},null,null,"No info","линк","https://bg.toolsworld.com/search/?query=","https://bg.toolsworld.com/search/?query=746089"]
[746097,"Lemezkefe sarokcsiszolóhoz, 100 mm, M14, sodrott acélhuzal 0,5 mm// Сибртех",770,"B","Active",{"$f":"VLOOKUP(A3348,[1]Sheet1!$A$1:$C$65512,3,FALSE)","v":7},null,null,"No info","линк","https://bg.toolsworld.com/search/?query=","https://bg.toolsworld.com/search/?query=746097"]
[746099,"Drotkefe csavart sarokcsiszolohoz, 100mm, M14, 0,5mm aceldrot // MTX",804,"B","Active",{"$f":"VLOOKUP(A3349,[1]Sheet1!$A$1:$C$65512,3,FALSE)","v":327},null,null,"No info","линк","https://bg.toolsworld.com/search/?query=","https://bg.toolsworld.com/search/?query=746099"]
[746109,"Drotkefe csavart sarokcsiszolohoz, 115mm, M14, 0,5mm aceldrot // MTX",933,"B","Active",{"$f":"VLOOKUP(A3350,[1]Sheet1!$A$1:$C$65512,3,FALSE)","v":452},null,null,"No info","линк","https://bg.toolsworld.com/search/?query=","https://bg.toolsworld.com/search/?query=746109"]
[746117,"Lemezkefe sarokcsiszolóhoz, 125 mm, M14, sodrott acélhuzal 0,5 mm// Сибртех",925,"B","Active",{"$f":"VLOOKUP(A3351,[1]Sheet1!$A$1:$C$65512,3,FALSE)","v":{"$error":"#N/A"}},null,null,"No info","линк","https://bg.toolsworld.com/search/?query=","https://bg.toolsworld.com/search/?query=746117"]
[746119,"Csavart korkefe sarokcsiszolohoz 125mm, M14, 0,5mm acel drot // MTX",1059,"B","Active",{"$f":"VLOOKUP(A3352,[1]Sheet1!$A$1:$C$65512,3,FALSE)","v":210},null,null,"No info","линк","https://bg.toolsworld.com/search/?query=","https://bg.toolsworld.com/search/?query=746119"]
[746129,"Hullámkreppelt tengelyre szerelt csiszoló kefe, kúpozott 115 mm, M14, acéldrót// MTX",847,"B","Active",{"$f":"VLOOKUP(A3353,[1]Sheet1!$A$1:$C$65512,3,FALSE)","v":335},null,null,"No info","линк","https://bg.toolsworld.com/search/?query=","https://bg.toolsworld.com/search/?query=746129"]
[746139,"Pohárkefe sarokcsiszolóhoz, 65 mm, M14, csavart acélhuzal 0,35 mm// MTX",1106,"B","Active",{"$f":"VLOOKUP(A3354,[1]Sheet1!$A$1:$C$65512,3,FALSE)","v":{"$error":"#N/A"}},null,null,"No info","линк","https://bg.toolsworld.com/search/?query=","https://bg.toolsworld.com/search/?query=746139"]
[746149,"Csavart fazek drótkefe 75mm, 14,  0,35mm acel drot // MTX",792,"B","Active",{"$f":"VLOOKUP(A3355,[1]Sheet1!$A$1:$C$65512,3,FALSE)","v":96},null,null,"No info","линк","https://bg.toolsworld.com/search/?query=","https://bg.toolsworld.com/search/?query=746149"]
[746159,"Pohárkefe sarokcsiszolóhoz, 100 mm, M14, sodrott acélhuzal 0,35 mm// MTX",1187,"B","Active",{"$f":"VLOOKUP(A3356,[1]Sheet1!$A$1:$C$65512,3,FALSE)","v":{"$error":"#N/A"}},null,null,"No info","линк","https://bg.toolsworld.com/search/?query=","https://bg.toolsworld.com/search/?query=746159"]
[746169,"Hullámkreppelt tengelyre szerelt csiszoló kefe, kúpozott 125 mm, M14, acéldrót// MTX",1012,"B","Active",{"$f":"VLOOKUP(A3357,[1]Sheet1!$A$1:$C$65512,3,FALSE)","v":308},null,null,"No info","линк","https://bg.toolsworld.com/search/?query=","https://bg.toolsworld.com/search/?query=746169"]
[746179,"Pohárkefe sarokcsiszolóhoz, 125 mm, M14, sodrott acélhuzal 0,35 mm// MTX",1719,"B","Active",{"$f":"VLOOKUP(A3358,[1]Sheet1!$A$1:$C$65512,3,FALSE)","v":{"$error":"#N/A"}},null,null,"No info","линк","https://bg.toolsworld.com/search/?query=","https://bg.toolsworld.com/search/?query=746179"]
[746189,"Pohárkefe sarokcsiszolóhoz, 150 mm, M14, sodrott acélhuzal 0,35 mm// MTX",2077,"B","Active",{"$f":"VLOOKUP(A3359,[1]Sheet1!$A$1:$C$65512,3,FALSE)","v":{"$error":"#N/A"}},null,null,"No info","линк","https://bg.toolsworld.com/search/?query=","https://bg.toolsworld.com/search/?query=746189"]
[746209,"Csavart csiszoló kefe, 65 mm, M14, lágyított acéldrót// MTX",804,"B","Active",{"$f":"VLOOKUP(A3360,[1]Sheet1!$A$1:$C$65512,3,FALSE)","v":{"$error":"#N/A"}},null,null,"No info","линк","https://bg.toolsworld.com/search/?query=","https://bg.toolsworld.com/search/?query=746209"]
[746229,"Twist knot wire 0,8 mm cup brush for angle grinder, 75 mm, M14// MTX",865,"B","Active",{"$f":"VLOOKUP(A3361,[1]Sheet1!$A$1:$C$65512,3,FALSE)","v":{"$error":"#N/A"}},null,null,"No info","линк","https://bg.toolsworld.com/search/?query=","https://bg.toolsworld.com/search/?query=746229"]
[746249,"Csavart csiszoló kefe, 75 mm, M14, lágyított acéldrót// MTX",872,"B","Active",{"$f":"VLOOKUP(A3362,[1]Sheet1!$A$1:$C$65512,3,FALSE)","v":{"$error":"#N/A"}},null,null,"No info","линк","https://bg.toolsworld.com/search/?query=","https://bg.toolsworld.com/search/?query=746249"]
[746279,"Csavart csiszoló kefe, 125 mm, M14, lágyított acéldrót// MTX",1865,"B","Active",{"$f":"VLOOKUP(A3363,[1]Sheet1!$A$1:$C$65512,3,FALSE)","v":70},null,null,"No info","линк","https://bg.toolsworld.com/search/?query=","https://bg.toolsworld.com/search/?query=746279"]
[746287,"Pohárkefe sarokcsiszolóhoz, 100 mm, M14, sodrott acélhuzal 0,5 mm// Сибртех",1686,"B","Active",{"$f":"VLOOKUP(A3364,[1]Sheet1!$A$1:$C$65512,3,FALSE)","v":{"$error":"#N/A"}},null,null,"No info","линк","https://bg.toolsworld.com/search/?query=","https://bg.toolsworld.com/search/?query=746287"]
[746289,"Csavart csiszoló kefe, 100 mm, M14, lágyított acéldrót// MTX",1401,"B","Active",{"$f":"VLOOKUP(A3365,[1]Sheet1!$A$1:$C$65512,3,FALSE)","v":{"$error":"#N/A"}},null,null,"No info","линк","https://bg.toolsworld.com/search/?query=","https://bg.toolsworld.com/search/?query=746289"]
[746299,"Csavart csiszoló kefe, 150 mm, M14, lágyított acéldrót// MTX",2277,"B","Active",{"$f":"VLOOKUP(A3366,[1]Sheet1!$A$1:$C$65512,3,FALSE)","v":89},null,null,"No info","линк","https://bg.toolsworld.com/search/?query=","https://bg.toolsworld.com/search/?query=746299"]
[746309,"Csavart korongcsiszoló kefe, 100 mm, orsós lyukú 22,2 mm, lágyított acéldrót// MTX",737,"B","Active",{"$f":"VLOOKUP(A3367,[1]Sheet1!$A$1:$C$65512,3,FALSE)","v":401},null,null,"No info","линк","https://bg.toolsworld.com/search/?query=","https://bg.toolsworld.com/search/?query=746309"]
[746329,"Csavart korongcsiszoló kefe, 125 mm, orsós lyukú 22,2 mm, lágyított acéldrót// MTX",1026,"B","Active",{"$f":"VLOOKUP(A3368,[1]Sheet1!$A$1:$C$65512,3,FALSE)","v":{"$error":"#N/A"}},null,null,"No info","линк","https://bg.toolsworld.com/search/?query=","https://bg.toolsworld.com/search/?query=746329"]
[746339,"Csavart korongcsiszoló kefe 125 mm-es , M14, lapos, sodrott huzalú, 0,35 mm-es //MTX",1199,"B","Active",{"$f":"VLOOKUP(A3369,[1]Sheet1!$A$1:$C$65512,3,FALSE)","v":79},null,null,"No info","линк","https://bg.toolsworld.com/search/?query=","https://bg.toolsworld.com/search/?query=746339"]
[746349,"Csavart korongcsiszoló kefe, 150 mm, orsós lyukú 22,2 mm, lágyított acéldrót// MTX",1401,"B","Active",{"$f":"VLOOKUP(A3370,[1]Sheet1!$A$1:$C$65512,3,FALSE)","v":11},null,null,"No info","линк","https://bg.toolsworld.com/search/?query=","https://bg.toolsworld.com/search/?query=746349"]
[746369,"Csavart korongcsiszoló kefe, 175 mm, orsós lyukú 22,2 mm, lágyított acéldrót// MTX",1816,"B","Active",{"$f":"VLOOKUP(A3371,[1]Sheet1!$A$1:$C$65512,3,FALSE)","v":35},null,null,"No info","линк","https://bg.toolsworld.com/search/?query=","https://bg.toolsworld.com/search/?query=746369"]
[746389,"Csavart korongcsiszoló kefe, 200 mm, orsós lyukú 22,2 mm, lágyított acéldrót// MTX",2114,"B","Active",{"$f":"VLOOKUP(A3372,[1]Sheet1!$A$1:$C$65512,3,FALSE)","v":4},null,null,"No info",{"$f":"HYPERLINK(L3372,\"линк\")","v":"линк"},"https://bg.toolsworld.com/search/?query=","https://bg.toolsworld.com/search/?query=746389"]
[746449,"Csavart korongcsiszoló kefe 125 mm-es , M14, lapos, sodrott huzalú, 0,8 mm-es //MTX",1195,"B","Active",{"$f":"VLOOKUP(A3373,[1]Sheet1!$A$1:$C$65512,3,FALSE)","v":228},null,null,"No info","линк","https://bg.toolsworld.com/search/?query=","https://bg.toolsworld.com/search/?query=746449"]
[746489,"Hullámkreppelt korongcsiszoló kefe 100 mm, orsós lyukú 22,2 mm, bronz bevonatos acélszál// MTX",424,"B","Active",{"$f":"VLOOKUP(A3374,[1]Sheet1!$A$1:$C$65512,3,FALSE)","v":362},null,null,"No info","линк","https://bg.toolsworld.com/search/?query=","https://bg.toolsworld.com/search/?query=746489"]
[746569,"Hullámkreppelt korongcsiszoló kefe 125 mm, orsós lyukú 22,2 mm, bronz bevonatos acélszál// MTX",607,"B","Active",{"$f":"VLOOKUP(A3375,[1]Sheet1!$A$1:$C$65512,3,FALSE)","v":1109},null,null,"No info","линк","https://bg.toolsworld.com/search/?query=","https://bg.toolsworld.com/search/?query=746569"]
[746589,"Krimpelt drótkorongcsiszolókefe 100mm, peremlyuk 20mm, sárgaréz bevonatú huzal// MTX",650,"B","Active",{"$f":"VLOOKUP(A3376,[1]Sheet1!$A$1:$C$65512,3,FALSE)","v":{"$error":"#N/A"}},null,null,"No info","линк","https://bg.toolsworld.com/search/?query=",{"$f":"CONCATENATE(K3376,A3376)","v":"https://bg.toolsworld.com/search/?query=746589"}]
[746609,"Krimpelt drótkorongcsiszolókefe 150mm, peremlyuk 32mm, sárgaréz bevonatú huzal// MTX",1556,"B","Active",{"$f":"VLOOKUP(A3377,[1]Sheet1!$A$1:$C$65512,3,FALSE)","v":111},null,null,"No info","линк","https://bg.toolsworld.com/search/?query=","https://bg.toolsworld.com/search/?query=746609"]
[746619,"Hullámos huzalcsiszoló kefe 175mm, peremlyuk 32mm, sárgaréz bevonatú huzal// MTX",1794,"B","Active",{"$f":"VLOOKUP(A3378,[1]Sheet1!$A$1:$C$65512,3,FALSE)","v":19},null,null,"No info","линк","https://bg.toolsworld.com/search/?query=","https://bg.toolsworld.com/search/?query=746619"]
[746629,"Krimpelt drótkorongcsiszolókefe 200mm, peremlyuk 32mm, sárgaréz bevonatú huzal// MTX",2132,"B","Active",{"$f":"VLOOKUP(A3379,[1]Sheet1!$A$1:$C$65512,3,FALSE)","v":201},null,null,"No info","линк","https://bg.toolsworld.com/search/?query=","https://bg.toolsworld.com/search/?query=746629"]
[746649,"Hullámkreppelt korongcsiszoló kefe 150 mm, orsós lyukú 22,2 mm, bronz bevonatos acélszál// MTX",886,"B","Active",{"$f":"VLOOKUP(A3380,[1]Sheet1!$A$1:$C$65512,3,FALSE)","v":106},null,null,"No info","линк","https://bg.toolsworld.com/search/?query=","https://bg.toolsworld.com/search/?query=746649"]
[746669,"Hullámkreppelt korongcsiszoló kefe 175 mm, orsós lyukú 22,2 mm, bronz bevonatos acélszál //MTX",1258,"B","Active",{"$f":"VLOOKUP(A3381,[1]Sheet1!$A$1:$C$65512,3,FALSE)","v":{"$error":"#N/A"}},null,null,"No info","линк","https://bg.toolsworld.com/search/?query=","https://bg.toolsworld.com/search/?query=746669"]
[746689,"Hullámkreppelt korongcsiszoló kefe 200 mm, orsós lyukú 22,2 mm, bronz bevonatos acélszál//MTX",1324,"B","Active",{"$f":"VLOOKUP(A3382,[1]Sheet1!$A$1:$C$65512,3,FALSE)","v":{"$error":"#N/A"}},null,null,"No info","линк","https://bg.toolsworld.com/search/?query=","https://bg.toolsworld.com/search/?query=746689"]
[746769,"Pohárkefe sarokcsiszolóhoz, 75 mm, M14, kétsoros csavart acélhuzal 0,35 mm// MTX",1305,"B","Active",{"$f":"VLOOKUP(A3383,[1]Sheet1!$A$1:$C$65512,3,FALSE)","v":{"$error":"#N/A"}},null,null,"No info","линк","https://bg.toolsworld.com/search/?query=","https://bg.toolsworld.com/search/?query=746769"]
[746819,"Pohárkefe sarokcsiszolóhoz, 75 mm, M14, kétsoros csavart acélhuzal 0,5 mm// MTX",1228,"B","Active",{"$f":"VLOOKUP(A3384,[1]Sheet1!$A$1:$C$65512,3,FALSE)","v":{"$error":"#N/A"}},null,null,"No info","линк","https://bg.toolsworld.com/search/?query=","https://bg.toolsworld.com/search/?query=746819"]
[746889,"Pohárkefe sarokcsiszolóhoz, 125 mm, M14, kétsoros csavart acélhuzal 0,8 mm// MTX",4109,"B","Active",{"$f":"VLOOKUP(A3385,[1]Sheet1!$A$1:$C$65512,3,FALSE)","v":19},null,null,"No info","линк","https://bg.toolsworld.com/search/?query=","https://bg.toolsworld.com/search/?query=746889"]
[748205,"Acél drótkefe, 3 sor, fa nyéllel//SPARTA",216,"B","Active",{"$f":"VLOOKUP(A3386,[1]Sheet1!$A$1:$C$65512,3,FALSE)","v":1178},null,null,"No info","линк","https://bg.toolsworld.com/search/?query=","https://bg.toolsworld.com/search/?query=748205"]
[748225,"Acél drótkefe, 4 soros, fa nyéllel// Sparta",312,"B","Active",{"$f":"VLOOKUP(A3387,[1]Sheet1!$A$1:$C$65512,3,FALSE)","v":{"$error":"#N/A"}},null,null,"No info","линк","https://bg.toolsworld.com/search/?query=","https://bg.toolsworld.com/search/?query=748225"]
[748609,"Fém kézikefe szett, 3 db., kicsi, muanyag nyél// MTX",318,"B","Active",{"$f":"VLOOKUP(A3388,[1]Sheet1!$A$1:$C$65512,3,FALSE)","v":" "},null,null,"No info","линк","https://bg.toolsworld.com/search/?query=","https://bg.toolsworld.com/search/?query=748609"]
[748639,"Fém kézikefe szett, 3 db., nagy, muanyag nyél// MTX",709,"B","Active",{"$f":"VLOOKUP(A3389,[1]Sheet1!$A$1:$C$65512,3,FALSE)","v":1817},null,null,"No info","линк","https://bg.toolsworld.com/search/?query=","https://bg.toolsworld.com/search/?query=748639"]
[748655,"Acél drótkefe, 3 soros,  muanyag nyéllel// Sparta",255,"B","Active",{"$f":"VLOOKUP(A3390,[1]Sheet1!$A$1:$C$65512,3,FALSE)","v":{"$error":"#N/A"}},null,null,"No info","линк","https://bg.toolsworld.com/search/?query=","https://bg.toolsworld.com/search/?query=748655"]
[748685,"Acél drótkefe, 6 soros,  muanyag nyéllel// Sparta",395,"B","Active",{"$f":"VLOOKUP(A3391,[1]Sheet1!$A$1:$C$65512,3,FALSE)","v":{"$error":"#N/A"}},null,null,"No info","линк","https://bg.toolsworld.com/search/?query=","https://bg.toolsworld.com/search/?query=748685"]
[751185,"Szemcsés csiszoló, P 40, 115 x 280 mm, 10db// SPARTA",479,"B","Active",{"$f":"VLOOKUP(A3392,[1]Sheet1!$A$1:$C$65512,3,FALSE)","v":54},null,null,"No info","линк","https://bg.toolsworld.com/search/?query=","https://bg.toolsworld.com/search/?query=751185"]
[751205,"Szemcsés csiszoló, P 60, 115 x 280 mm, 10db // SPARTA",479,"B","Active",{"$f":"VLOOKUP(A3393,[1]Sheet1!$A$1:$C$65512,3,FALSE)","v":211},null,null,"No info","линк","https://bg.toolsworld.com/search/?query=","https://bg.toolsworld.com/search/?query=751205"]
[751225,"Szemcsés csiszoló, P 80, 115 x 280 mm, 10 db// SPARTA",479,"B","Active",{"$f":"VLOOKUP(A3394,[1]Sheet1!$A$1:$C$65512,3,FALSE)","v":567},null,null,"No info","линк","https://bg.toolsworld.com/search/?query=","https://bg.toolsworld.com/search/?query=751225"]
[751255,"Szemcsés csiszoló, P 100, 115 x 280 mm, 10db // SPARTA",479,"B","Active",{"$f":"VLOOKUP(A3395,[1]Sheet1!$A$1:$C$65512,3,FALSE)","v":489},null,null,"No info","линк","https://bg.toolsworld.com/search/?query=","https://bg.toolsworld.com/search/?query=751255"]
[751285,"Szemcsés csiszoló, P 120, 115 x 280 mm, 10db // SPARTA",479,"B","Active",{"$f":"VLOOKUP(A3396,[1]Sheet1!$A$1:$C$65512,3,FALSE)","v":160},null,null,"No info","линк","https://bg.toolsworld.com/search/?query=","https://bg.toolsworld.com/search/?query=751285"]
[751305,"Szemcsés csiszoló, P 150, 115 x 280 mm, 10db// SPARTA",479,"B","Active",{"$f":"VLOOKUP(A3397,[1]Sheet1!$A$1:$C$65512,3,FALSE)","v":42},null,null,"No info","линк","https://bg.toolsworld.com/search/?query=","https://bg.toolsworld.com/search/?query=751305"]
[751325,"Szemcsés csiszoló, P 180, 115 x 280 mm, 10db// SPARTA",479,"B","Active",{"$f":"VLOOKUP(A3398,[1]Sheet1!$A$1:$C$65512,3,FALSE)","v":234},null,null,"No info","линк","https://bg.toolsworld.com/search/?query=","https://bg.toolsworld.com/search/?query=751325"]
[751335,"Szemcsés csiszoló, P 200, 115 x 280 mm, 10db// SPARTA",479,"B","Active",{"$f":"VLOOKUP(A3399,[1]Sheet1!$A$1:$C$65512,3,FALSE)","v":4},null,null,"No info","линк","https://bg.toolsworld.com/search/?query=","https://bg.toolsworld.com/search/?query=751335"]
[751345,"Szemcsés csiszoló, P 220, 115 x 280 mm, 10db// SPARTA",479,"B","Active",{"$f":"VLOOKUP(A3400,[1]Sheet1!$A$1:$C$65512,3,FALSE)","v":762},null,null,"No info","линк","https://bg.toolsworld.com/search/?query=","https://bg.toolsworld.com/search/?query=751345"]
[751347,"Csiszolószita szemcseszemcse, P 220, 115 х 280mm, 5db// Сибртех",307,"B","Active",{"$f":"VLOOKUP(A3401,[1]Sheet1!$A$1:$C$65512,3,FALSE)","v":36},null,null,"No info","линк","https://bg.toolsworld.com/search/?query=","https://bg.toolsworld.com/search/?query=751347"]
[751365,"Szemcsés csiszoló, P 240, 115 x 280 mm, 10db // SPARTA",479,"B","Active",{"$f":"VLOOKUP(A3402,[1]Sheet1!$A$1:$C$65512,3,FALSE)","v":38},null,null,"No info","линк","https://bg.toolsworld.com/search/?query=","https://bg.toolsworld.com/search/?query=751365"]
[751367,"Csiszoló szitaszemcse, P 240, 115 х 280mm, 5db// Сибртех",307,"B","Active",{"$f":"VLOOKUP(A3403,[1]Sheet1!$A$1:$C$65512,3,FALSE)","v":74},null,null,"No info","линк","https://bg.toolsworld.com/search/?query=","https://bg.toolsworld.com/search/?query=751367"]
[751849,"Szemcsés csiszoló, P 320, 106 x 280 mm, 25db// MTX",1474,"B","Active",{"$f":"VLOOKUP(A3404,[1]Sheet1!$A$1:$C$65512,3,FALSE)","v":{"$error":"#N/A"}},null,null,"No info","линк","https://bg.toolsworld.com/search/?query=","https://bg.toolsworld.com/search/?query=751849"]
[751869,"Szemcsés csiszoló, P 400, 106 x 280 mm, 25db// MTX",1474,"B","Active",{"$f":"VLOOKUP(A3405,[1]Sheet1!$A$1:$C$65512,3,FALSE)","v":44},null,null,"No info","линк","https://bg.toolsworld.com/search/?query=","https://bg.toolsworld.com/search/?query=751869"]
[751889,"Szemcsés csiszoló, P 600, 106 x 280 mm, 25db// MTX",1474,"B","Active",{"$f":"VLOOKUP(A3406,[1]Sheet1!$A$1:$C$65512,3,FALSE)","v":54},null,null,"No info","линк","https://bg.toolsworld.com/search/?query=","https://bg.toolsworld.com/search/?query=751889"]
[751909,"Szemcsés csiszoló, P 800, 106 x 280 mm, 25db// MTX",1474,"B","Active",{"$f":"VLOOKUP(A3407,[1]Sheet1!$A$1:$C$65512,3,FALSE)","v":63},null,null,"No info","линк","https://bg.toolsworld.com/search/?query=","https://bg.toolsworld.com/search/?query=751909"]
[752829,"Csiszolópapír az alapon, P 40, 1000 mm x 20 m, vízálló MATRIX",31993,"B","Active",{"$f":"VLOOKUP(A3408,[1]Sheet1!$A$1:$C$65512,3,FALSE)","v":1},null,null,"No info","линк","https://bg.toolsworld.com/search/?query=","https://bg.toolsworld.com/search/?query=752829"]
[752849,"Csiszolópapír az alapon, P 46, 1000 mm x 20 m, vízálló MATRIX",31993,"B","Active",{"$f":"VLOOKUP(A3409,[1]Sheet1!$A$1:$C$65512,3,FALSE)","v":4},null,null,"No info","линк","https://bg.toolsworld.com/search/?query=","https://bg.toolsworld.com/search/?query=752849"]
[752929,"Csiszolópapír az alapon, P 120, 1000 mm x 20 m, vízálló MATRIX",31993,"B","Active",{"$f":"VLOOKUP(A3410,[1]Sheet1!$A$1:$C$65512,3,FALSE)","v":1},null,null,"No info","линк","https://bg.toolsworld.com/search/?query=","https://bg.toolsworld.com/search/?query=752929"]
[757059,"Csiszoló szivacs, 100 x 70 x 25 mm, puha, Ð 60/80, Ð 60/100, Ð 80/120, 3 db.// MTX",576,"B","Active",{"$f":"VLOOKUP(A3411,[1]Sheet1!$A$1:$C$65512,3,FALSE)","v":66},null,null,"No info","линк","https://bg.toolsworld.com/search/?query=","https://bg.toolsworld.com/search/?query=757059"]
[757109,"Csiszoló szivacs, 100 x 70 x 25 mm, közepes, Ð 60/80, Ð 60/100, Ð 80/120, 3 db.// MTX",745,"B","Active",{"$f":"VLOOKUP(A3412,[1]Sheet1!$A$1:$C$65512,3,FALSE)","v":263},null,null,"No info","линк","https://bg.toolsworld.com/search/?query=","https://bg.toolsworld.com/search/?query=757109"]
[757159,"Csiszoló szivacs, 125 x 100 x 10 mm, puha, Ð 60/80, Ð 60/100, Ð 80/120, 3 db.// MTX",519,"B","Active",{"$f":"VLOOKUP(A3413,[1]Sheet1!$A$1:$C$65512,3,FALSE)","v":90},null,null,"No info","линк","https://bg.toolsworld.com/search/?query=","https://bg.toolsworld.com/search/?query=757159"]
[758105,"Súroló szivacs 125 x 65mm gumi// SPARTA",599,"B","Active",{"$f":"VLOOKUP(A3414,[1]Sheet1!$A$1:$C$65512,3,FALSE)","v":233},null,null,"No info","линк","https://bg.toolsworld.com/search/?query=","https://bg.toolsworld.com/search/?query=758105"]
[758159,"Súroló szivacs, 150 mm, ragasztott szalaggal// MTX",1277,"B","Active",{"$f":"VLOOKUP(A3415,[1]Sheet1!$A$1:$C$65512,3,FALSE)","v":176},null,null,"No info","линк","https://bg.toolsworld.com/search/?query=","https://bg.toolsworld.com/search/?query=758159"]
[758209,"Súroló szivacs, 160 x 85 mm, muanyag kapcsokkal// MTX",882,"B","Active",{"$f":"VLOOKUP(A3416,[1]Sheet1!$A$1:$C$65512,3,FALSE)","v":{"$error":"#N/A"}},null,null,"No info","линк","https://bg.toolsworld.com/search/?query=","https://bg.toolsworld.com/search/?query=758209"]
[758309,"Súroló szivacs, 210 x 105 mm, muanyag kapcsokkal// MTX",1140,"B","Active",{"$f":"VLOOKUP(A3417,[1]Sheet1!$A$1:$C$65512,3,FALSE)","v":{"$error":"#N/A"}},null,null,"No info","линк","https://bg.toolsworld.com/search/?query=","https://bg.toolsworld.com/search/?query=758309"]
[758475,"Csiszolóblokk 230 х 105 mm, műanyag szorítóekkel// Sparta",1218,"B","Active",{"$f":"VLOOKUP(A3418,[1]Sheet1!$A$1:$C$65512,3,FALSE)","v":33},null,null,"No info","линк","https://bg.toolsworld.com/search/?query=","https://bg.toolsworld.com/search/?query=758475"]
[758515,"Csiszolóblokk 230 х 120 mm, műanyag szorítóekkel// Sparta",1063,"B","Active",{"$f":"VLOOKUP(A3419,[1]Sheet1!$A$1:$C$65512,3,FALSE)","v":{"$error":"#N/A"}},null,null,"No info","линк","https://bg.toolsworld.com/search/?query=","https://bg.toolsworld.com/search/?query=758515"]
[758529,"Súroló, 230 x 105 mm, muanyag kapcsokkal// MTX",1155,"B","Active",{"$f":"VLOOKUP(A3420,[1]Sheet1!$A$1:$C$65512,3,FALSE)","v":248},null,null,"No info","линк","https://bg.toolsworld.com/search/?query=","https://bg.toolsworld.com/search/?query=758529"]
[758539,"Súroló, 230 x 120 mm, muanyag kapcsokkal// MTX",1252,"B","Active",{"$f":"VLOOKUP(A3421,[1]Sheet1!$A$1:$C$65512,3,FALSE)","v":{"$error":"#N/A"}},null,null,"No info","линк","https://bg.toolsworld.com/search/?query=","https://bg.toolsworld.com/search/?query=758539"]
[759209,"Simító korong ragasztott szalaggal, 115 x 7 mm// MTX",542,"B","Active",{"$f":"VLOOKUP(A3422,[1]Sheet1!$A$1:$C$65512,3,FALSE)","v":324},null,null,"No info","линк","https://bg.toolsworld.com/search/?query=","https://bg.toolsworld.com/search/?query=759209"]
[759259,"Simító korong ragasztott szalaggal, 125 x 7 mm// MTX",578,"B","Active",{"$f":"VLOOKUP(A3423,[1]Sheet1!$A$1:$C$65512,3,FALSE)","v":645},null,null,"No info","линк","https://bg.toolsworld.com/search/?query=","https://bg.toolsworld.com/search/?query=759259"]
[759309,"Simító korong ragasztott szalaggal, 150 x 7 mm// MTX",853,"B","Active",{"$f":"VLOOKUP(A3424,[1]Sheet1!$A$1:$C$65512,3,FALSE)","v":1151},null,null,"No info","линк","https://bg.toolsworld.com/search/?query=","https://bg.toolsworld.com/search/?query=759309"]
[760209,"Polírozó fejek 5 db// MTX",631,"B","Active",{"$f":"VLOOKUP(A3425,[1]Sheet1!$A$1:$C$65512,3,FALSE)","v":734},null,null,"No info","линк","https://bg.toolsworld.com/search/?query=","https://bg.toolsworld.com/search/?query=760209"]
[762189,"Polírozó ( belsomenetes ) 115mm// MTX",611,"B","Active",{"$f":"VLOOKUP(A3426,[1]Sheet1!$A$1:$C$65512,3,FALSE)","v":972},null,null,"No info","линк","https://bg.toolsworld.com/search/?query=","https://bg.toolsworld.com/search/?query=762189"]
[762209,"Polírozó (belsomenetes ) 125mm// MTX",715,"B","Active",{"$f":"VLOOKUP(A3427,[1]Sheet1!$A$1:$C$65512,3,FALSE)","v":2828},null,null,"No info","линк","https://bg.toolsworld.com/search/?query=","https://bg.toolsworld.com/search/?query=762209"]
[762909,"Csatoló polírozóhoz, M14// MTX",151,"B","Active",{"$f":"VLOOKUP(A3428,[1]Sheet1!$A$1:$C$65512,3,FALSE)","v":1256},null,null,"No info","линк","https://bg.toolsworld.com/search/?query=","https://bg.toolsworld.com/search/?query=762909"]
[766719,"Kézi készrevágó menetfúró M4 x 0,7 mm, Ð6M5// MTX",487,"B","Active",{"$f":"VLOOKUP(A3429,[1]Sheet1!$A$1:$C$65512,3,FALSE)","v":671},null,null,"No info","линк","https://bg.toolsworld.com/search/?query=","https://bg.toolsworld.com/search/?query=766719"]
[766739,"Kézi készrevágó menetfúró M5 x 0,8 mm, Ð6M5// MTX",517,"B","Active",{"$f":"VLOOKUP(A3430,[1]Sheet1!$A$1:$C$65512,3,FALSE)","v":511},null,null,"No info","линк","https://bg.toolsworld.com/search/?query=","https://bg.toolsworld.com/search/?query=766739"]
[766759,"Kézi készrevágó menetfúró M6 x 1,0 mm, Ð6M5// MTX",652,"B","Active",{"$f":"VLOOKUP(A3431,[1]Sheet1!$A$1:$C$65512,3,FALSE)","v":233},null,null,"No info","линк","https://bg.toolsworld.com/search/?query=","https://bg.toolsworld.com/search/?query=766759"]
[766779,"Kézi készrevágó menetfúró M8 x 1,25 mm, Ð6M5// MTX",756,"B","Active",{"$f":"VLOOKUP(A3432,[1]Sheet1!$A$1:$C$65512,3,FALSE)","v":410},null,null,"No info","линк","https://bg.toolsworld.com/search/?query=","https://bg.toolsworld.com/search/?query=766779"]
[766919,"Kézi készrevágó menetfúró M10 x 1,25 mm, Ð6M5// MTX",996,"B","Active",{"$f":"VLOOKUP(A3433,[1]Sheet1!$A$1:$C$65512,3,FALSE)","v":331},null,null,"No info","линк","https://bg.toolsworld.com/search/?query=","https://bg.toolsworld.com/search/?query=766919"]
[766929,"Kézi készrevágó menetfúró M10 x 1,5 mm, Ð6M5// MTX",1000,"B","Active",{"$f":"VLOOKUP(A3434,[1]Sheet1!$A$1:$C$65512,3,FALSE)","v":631},null,null,"No info","линк","https://bg.toolsworld.com/search/?query=","https://bg.toolsworld.com/search/?query=766929"]
[766949,"Kézi készrevágó menetfúró M12 x 1,25 mm, Ð6M5// MTX",1246,"B","Active",{"$f":"VLOOKUP(A3435,[1]Sheet1!$A$1:$C$65512,3,FALSE)","v":542},null,null,"No info","линк","https://bg.toolsworld.com/search/?query=","https://bg.toolsworld.com/search/?query=766949"]
[766969,"Kézi készrevágó menetfúró M12 x 1,75 mm, Ð6M5// MTX",1260,"B","Active",{"$f":"VLOOKUP(A3436,[1]Sheet1!$A$1:$C$65512,3,FALSE)","v":516},null,null,"No info",{"$f":"HYPERLINK(L3436,\"линк\")","v":"линк"},"https://bg.toolsworld.com/search/?query=","https://bg.toolsworld.com/search/?query=766969"]
[769059,"Krómozott menetvágó tok racsnival, M3 – M8// MTX",1782,"B","Active",{"$f":"VLOOKUP(A3437,[1]Sheet1!$A$1:$C$65512,3,FALSE)","v":80},null,null,"No info","линк","https://bg.toolsworld.com/search/?query=","https://bg.toolsworld.com/search/?query=769059"]
[769079,"Krómozott menetvágó tok racsnival, M5 – M12// MTX",2110,"B","Active",{"$f":"VLOOKUP(A3438,[1]Sheet1!$A$1:$C$65512,3,FALSE)","v":611},null,null,"No info","линк","https://bg.toolsworld.com/search/?query=","https://bg.toolsworld.com/search/?query=769079"]
[770719,"Menetvágó  M4 x 0,7 mm// MTX",648,"B","Active",{"$f":"VLOOKUP(A3439,[1]Sheet1!$A$1:$C$65512,3,FALSE)","v":363},null,null,"No info","линк","https://bg.toolsworld.com/search/?query=","https://bg.toolsworld.com/search/?query=770719"]
[770739,"Menetvágó  M5 x 0,8 mm// MTX",707,"B","Active",{"$f":"VLOOKUP(A3440,[1]Sheet1!$A$1:$C$65512,3,FALSE)","v":547},null,null,"No info","линк","https://bg.toolsworld.com/search/?query=",{"$f":"CONCATENATE(K3440,A3440)","v":"https://bg.toolsworld.com/search/?query=770739"}]
[770759,"Menetvágó  M6 x 1,0 mm// MTX",812,"B","Active",{"$f":"VLOOKUP(A3441,[1]Sheet1!$A$1:$C$65512,3,FALSE)","v":316},null,null,"No info","линк","https://bg.toolsworld.com/search/?query=","https://bg.toolsworld.com/search/?query=770759"]
[770779,"Menetvágó  M8 x 1,25 mm// MTX",1045,"B","Active",{"$f":"VLOOKUP(A3442,[1]Sheet1!$A$1:$C$65512,3,FALSE)","v":500},null,null,"No info","линк","https://bg.toolsworld.com/search/?query=","https://bg.toolsworld.com/search/?query=770779"]
[770919,"Menetvágó  M10 x 1,25 mm// MTX",1550,"B","Active",{"$f":"VLOOKUP(A3443,[1]Sheet1!$A$1:$C$65512,3,FALSE)","v":539},null,null,"No info","линк","https://bg.toolsworld.com/search/?query=","https://bg.toolsworld.com/search/?query=770919"]
[770929,"Menetvágó  M10 x 1,5 mm// MTX",1576,"B","Active",{"$f":"VLOOKUP(A3444,[1]Sheet1!$A$1:$C$65512,3,FALSE)","v":1000},null,null,"No info","линк","https://bg.toolsworld.com/search/?query=","https://bg.toolsworld.com/search/?query=770929"]
[770949,"Menetvágó M12 x 1,25 mm// MTX",2802,"B","Active",{"$f":"VLOOKUP(A3445,[1]Sheet1!$A$1:$C$65512,3,FALSE)","v":308},null,null,"No info","линк","https://bg.toolsworld.com/search/?query=","https://bg.toolsworld.com/search/?query=770949"]
[770969,"Menetvágó  M12 x 1,75 mm// MTX",2855,"B","Active",{"$f":"VLOOKUP(A3446,[1]Sheet1!$A$1:$C$65512,3,FALSE)","v":163},null,null,"No info","линк","https://bg.toolsworld.com/search/?query=","https://bg.toolsworld.com/search/?query=770969"]
[773105,"Menetmetszo és menetvágó szett M3-M12, metszo-vágó fej  tartó, muanyag tartódoboz, 20 db// SPARTA",3556,"B","Active",{"$f":"VLOOKUP(A3447,[1]Sheet1!$A$1:$C$65512,3,FALSE)","v":2},null,null,"No info","линк","https://bg.toolsworld.com/search/?query=","https://bg.toolsworld.com/search/?query=773105"]
[773155,"40db Menetmetszo és menetvágó szett M3-M12, metszo-vágó fej  tartó, muanyag tartódoboz// SPARTA",6091,"B","Active",{"$f":"VLOOKUP(A3448,[1]Sheet1!$A$1:$C$65512,3,FALSE)","v":203},null,null,"No info","линк","https://bg.toolsworld.com/search/?query=","https://bg.toolsworld.com/search/?query=773155"]
[773329,"Menetvágó szett, 1/4\"–1/2\"–3/4\"–1\"–1,25\" +  racsnival, 8 egység// MTX",23050,"B","Active",{"$f":"VLOOKUP(A3449,[1]Sheet1!$A$1:$C$65512,3,FALSE)","v":6},null,null,"No info","линк","https://bg.toolsworld.com/search/?query=","https://bg.toolsworld.com/search/?query=773329"]
[773335,"6 db Menetvágó szett 1/2\" - 3/4\" -1\"  racsnival, 6 db//SPARTA",12232,"B","Active",{"$f":"VLOOKUP(A3450,[1]Sheet1!$A$1:$C$65512,3,FALSE)","v":{"$error":"#N/A"}},null,null,"No info","линк","https://bg.toolsworld.com/search/?query=","https://bg.toolsworld.com/search/?query=773335"]
[773345,"13 db-os készlet csővezetékekhez// Sparta",28589,"B","Active",{"$f":"VLOOKUP(A3451,[1]Sheet1!$A$1:$C$65512,3,FALSE)","v":1},null,null,"No info","линк","https://bg.toolsworld.com/search/?query=","https://bg.toolsworld.com/search/?query=773345"]
[773355,"9 db Menetvágó szett 1/4\"-3/8\"-1/2\"-3/4\"-1\"-1,25\" +  racsnival// SPARTA",18431,"B","Active",{"$f":"VLOOKUP(A3452,[1]Sheet1!$A$1:$C$65512,3,FALSE)","v":{"$error":"#N/A"}},null,null,"No info","линк","https://bg.toolsworld.com/search/?query=","https://bg.toolsworld.com/search/?query=773355"]
[773379,"Menetmetszo szerszámkészlet, 31 egység, metszo és vágó szett M3 – M12// MTX",11237,"B","Active",{"$f":"VLOOKUP(A3453,[1]Sheet1!$A$1:$C$65512,3,FALSE)","v":86},null,null,"No info","линк","https://bg.toolsworld.com/search/?query=","https://bg.toolsworld.com/search/?query=773379"]
[773399,"Menetvágó szerszámkészlet, 36 db, menetfúró szerszámkészlet М3 – М16// MTX",23088,"B","Active",{"$f":"VLOOKUP(A3454,[1]Sheet1!$A$1:$C$65512,3,FALSE)","v":85},null,null,"No info","линк","https://bg.toolsworld.com/search/?query=","https://bg.toolsworld.com/search/?query=773399"]
[773459,"Menetmetszo szerszámkészlet, 14 egység, vágó és metszo szett M3 – M10// MTX",6720,"B","Active",{"$f":"VLOOKUP(A3455,[1]Sheet1!$A$1:$C$65512,3,FALSE)","v":331},null,null,"No info","линк","https://bg.toolsworld.com/search/?query=","https://bg.toolsworld.com/search/?query=773459"]
[773505,"Eltávolító szett, 5 db// SPARTA",668,"B","Active",{"$f":"VLOOKUP(A3456,[1]Sheet1!$A$1:$C$65512,3,FALSE)","v":" "},null,null,"No info","линк","https://bg.toolsworld.com/search/?query=","https://bg.toolsworld.com/search/?query=773505"]
[773519,"5 db-os Square Extractor készlet// MTX",1662,"B","Active",{"$f":"VLOOKUP(A3457,[1]Sheet1!$A$1:$C$65512,3,FALSE)","v":{"$error":"#N/A"}},null,null,"No info","линк","https://bg.toolsworld.com/search/?query=","https://bg.toolsworld.com/search/?query=773519"]
[775435,"ADJ fémfurész fekete kerettel 200-300 mm// SPARTA",878,"B","Active",{"$f":"VLOOKUP(A3458,[1]Sheet1!$A$1:$C$65512,3,FALSE)","v":" "},null,null,"No info","линк","https://bg.toolsworld.com/search/?query=","https://bg.toolsworld.com/search/?query=775435"]
[775765,"Fémfurész króm kerettel , 250-300 mm// SPARTA",1368,"B","Active",{"$f":"VLOOKUP(A3459,[1]Sheet1!$A$1:$C$65512,3,FALSE)","v":{"$error":"#N/A"}},null,null,"No info","линк","https://bg.toolsworld.com/search/?query=","https://bg.toolsworld.com/search/?query=775765"]
[775865,"Kézi fémfurész 300 mm muanyag nyéllel// SPARTA",843,"B","Active",{"$f":"VLOOKUP(A3460,[1]Sheet1!$A$1:$C$65512,3,FALSE)","v":{"$error":"#N/A"}},null,null,"No info","линк","https://bg.toolsworld.com/search/?query=","https://bg.toolsworld.com/search/?query=775865"]
[775939,"Fémfurész, 300 mm, kettosfém penge, két komponensu nyél// MTX",3376,"B","Active",{"$f":"VLOOKUP(A3461,[1]Sheet1!$A$1:$C$65512,3,FALSE)","v":182},null,null,"No info","линк","https://bg.toolsworld.com/search/?query=","https://bg.toolsworld.com/search/?query=775939"]
[777105,"Fémfurész pengék, 150 mm, 10 db-os készlet//SPARTA",248,"B","Active",{"$f":"VLOOKUP(A3462,[1]Sheet1!$A$1:$C$65512,3,FALSE)","v":2361},null,null,"No info","линк","https://bg.toolsworld.com/search/?query=","https://bg.toolsworld.com/search/?query=777105"]
[777455,"Fém fémfűrészlap, 300 mm, 36 db// Sparta",1228,"B","Active",{"$f":"VLOOKUP(A3463,[1]Sheet1!$A$1:$C$65512,3,FALSE)","v":39},null,null,"No info","линк","https://bg.toolsworld.com/search/?query=","https://bg.toolsworld.com/search/?query=777455"]
[777555,"Fémfurész penge, 300 mm, 36 db, kétoldalú//SPARTA",2342,"B","Active",{"$f":"VLOOKUP(A3464,[1]Sheet1!$A$1:$C$65512,3,FALSE)","v":{"$error":"#N/A"}},null,null,"No info","линк","https://bg.toolsworld.com/search/?query=","https://bg.toolsworld.com/search/?query=777555"]
[777715,"Fémfurész penge, 300 mm, lágyított//SPARTA",57,"B","Active",{"$f":"VLOOKUP(A3465,[1]Sheet1!$A$1:$C$65512,3,FALSE)","v":" "},null,null,"No info","линк","https://bg.toolsworld.com/search/?query=","https://bg.toolsworld.com/search/?query=777715"]
[777729,"Fémfurész penge, 300 mm, 24TPI, Kettosfém, 2 db// MTX",729,"B","Active",{"$f":"VLOOKUP(A3466,[1]Sheet1!$A$1:$C$65512,3,FALSE)","v":1413},null,null,"No info","линк","https://bg.toolsworld.com/search/?query=","https://bg.toolsworld.com/search/?query=777729"]
[777749,"Fémfurész penge, 300 mm, 18TPI, rugalmas, 2 db// MTX",314,"B","Active",{"$f":"VLOOKUP(A3467,[1]Sheet1!$A$1:$C$65512,3,FALSE)","v":1045},null,null,"No info","линк","https://bg.toolsworld.com/search/?query=","https://bg.toolsworld.com/search/?query=777749"]
[779109,"Volfrám fémfurész penge, 150 mm// MTX",365,"B","Active",{"$f":"VLOOKUP(A3468,[1]Sheet1!$A$1:$C$65512,3,FALSE)","v":127},null,null,"No info","линк","https://bg.toolsworld.com/search/?query=","https://bg.toolsworld.com/search/?query=779109"]
[779159,"Volfrám fémfurész penge, 300 mm// MTX",692,"B","Active",{"$f":"VLOOKUP(A3469,[1]Sheet1!$A$1:$C$65512,3,FALSE)","v":542},null,null,"No info","линк","https://bg.toolsworld.com/search/?query=","https://bg.toolsworld.com/search/?query=779159"]
[779259,"Gyémánt fémfurész penge, 300 mm// MTX",1153,"B","Active",{"$f":"VLOOKUP(A3470,[1]Sheet1!$A$1:$C$65512,3,FALSE)","v":388},null,null,"No info","линк","https://bg.toolsworld.com/search/?query=","https://bg.toolsworld.com/search/?query=779259"]
[781409,"Penge furészgéphez, fához, 3 db 50 x 1,2 mm HCS// MTX",232,"B","Active",{"$f":"VLOOKUP(A3471,[1]Sheet1!$A$1:$C$65512,3,FALSE)","v":460},null,null,"No info","линк","https://bg.toolsworld.com/search/?query=","https://bg.toolsworld.com/search/?query=781409"]
[781419,"Penge furészgéphez, fához, 3 db 75 x 2,5 mm, HCS// MTX",232,"B","Active",{"$f":"VLOOKUP(A3472,[1]Sheet1!$A$1:$C$65512,3,FALSE)","v":321},null,null,"No info","линк","https://bg.toolsworld.com/search/?query=","https://bg.toolsworld.com/search/?query=781419"]
[781429,"Penge furészgéphez, fához, 3 db 90 x 4 mm, HCS// MTX",255,"B","Active",{"$f":"VLOOKUP(A3473,[1]Sheet1!$A$1:$C$65512,3,FALSE)","v":409},null,null,"No info","линк","https://bg.toolsworld.com/search/?query=","https://bg.toolsworld.com/search/?query=781429"]
[781439,"Penge furészgéphez, fémhez, 3 db 50 x 0,8 mm, HSS// MTX",491,"B","Active",{"$f":"VLOOKUP(A3474,[1]Sheet1!$A$1:$C$65512,3,FALSE)","v":506},null,null,"No info","линк","https://bg.toolsworld.com/search/?query=","https://bg.toolsworld.com/search/?query=781439"]
[781479,"Penge furészgéphez, fémhez, 3 db 50 x 1,2 mm, HSS// MTX",491,"B","Active",{"$f":"VLOOKUP(A3475,[1]Sheet1!$A$1:$C$65512,3,FALSE)","v":258},null,null,"No info","линк","https://bg.toolsworld.com/search/?query=","https://bg.toolsworld.com/search/?query=781479"]
[781509,"Penge furészgéphez, univerzális, 3 db 75 x 1,2 mm, kettosfém// MTX",556,"B","Active",{"$f":"VLOOKUP(A3476,[1]Sheet1!$A$1:$C$65512,3,FALSE)","v":134},null,null,"No info","линк","https://bg.toolsworld.com/search/?query=","https://bg.toolsworld.com/search/?query=781509"]
[782019,"Penge furészgéphez, fához, 3 db T101B, 75 x 2,5 mm, HCS// MTX PROFESSIONAL",438,"B","Active",{"$f":"VLOOKUP(A3477,[1]Sheet1!$A$1:$C$65512,3,FALSE)","v":790},null,null,"No info","линк","https://bg.toolsworld.com/search/?query=","https://bg.toolsworld.com/search/?query=782019"]
[782029,"Penge furészgéphez, fához, 3 db T101D, 75 x 4,0 mm, HCS// MTX PROFESSIONAL",438,"B","Active",{"$f":"VLOOKUP(A3478,[1]Sheet1!$A$1:$C$65512,3,FALSE)","v":{"$error":"#N/A"}},null,null,"No info","линк","https://bg.toolsworld.com/search/?query=","https://bg.toolsworld.com/search/?query=782029"]
[782039,"Penge furészgéphez, fához, 3 db T101BR, 75 x 2,5 mm, forgatható fogazat, HCS// MTX PROFESSIONAL",438,"B","Active",{"$f":"VLOOKUP(A3479,[1]Sheet1!$A$1:$C$65512,3,FALSE)","v":309},null,null,"No info","линк","https://bg.toolsworld.com/search/?query=","https://bg.toolsworld.com/search/?query=782039"]
[782049,"Penge furészgéphez, fához, 3 db T144D, 75 x 4,0 mm, HCS// MTX PROFESSIONAL",346,"B","Active",{"$f":"VLOOKUP(A3480,[1]Sheet1!$A$1:$C$65512,3,FALSE)","v":453},null,null,"No info","линк","https://bg.toolsworld.com/search/?query=","https://bg.toolsworld.com/search/?query=782049"]
[782059,"Penge furészgéphez, fához, 3 db T111C, 75 x 3,0 mm, HCS// MTX PROFESSIONAL",265,"B","Active",{"$f":"VLOOKUP(A3481,[1]Sheet1!$A$1:$C$65512,3,FALSE)","v":303},null,null,"No info","линк","https://bg.toolsworld.com/search/?query=","https://bg.toolsworld.com/search/?query=782059"]
[782069,"Penge furészgéphez, fémhez, 3 db T118G, 50 x 0,8 mm, HSS// MTX PROFESSIONAL",548,"B","Active",{"$f":"VLOOKUP(A3482,[1]Sheet1!$A$1:$C$65512,3,FALSE)","v":855},null,null,"No info","линк","https://bg.toolsworld.com/search/?query=","https://bg.toolsworld.com/search/?query=782069"]
[782079,"Penge furészgéphez, fémhez, 3 db T118A, 50 x 1,2 mm, HSS// MTX PROFESSIONAL",534,"B","Active",{"$f":"VLOOKUP(A3483,[1]Sheet1!$A$1:$C$65512,3,FALSE)","v":746},null,null,"No info","линк","https://bg.toolsworld.com/search/?query=","https://bg.toolsworld.com/search/?query=782079"]
[782089,"Penge furészgéphez, fémhez, 3 db T127D, 75 x 3,0 mm, HSS// MTX PROFESSIONAL",660,"B","Active",{"$f":"VLOOKUP(A3484,[1]Sheet1!$A$1:$C$65512,3,FALSE)","v":1256},null,null,"No info","линк","https://bg.toolsworld.com/search/?query=","https://bg.toolsworld.com/search/?query=782089"]
[782099,"Penge furészgéphez, fémhez, 3 db T118AF, 55 x 1,2 mm, kettosfém// MTX PROFESSIONAL",586,"B","Active",{"$f":"VLOOKUP(A3485,[1]Sheet1!$A$1:$C$65512,3,FALSE)","v":742},null,null,"No info","линк","https://bg.toolsworld.com/search/?query=","https://bg.toolsworld.com/search/?query=782099"]
[782109,"Penge furészgéphez, fához, 3 db T101AO, 50 x 1,4 mm, Precíziós vágás, HCS// MTX PROFESSIONAL",428,"B","Active",{"$f":"VLOOKUP(A3486,[1]Sheet1!$A$1:$C$65512,3,FALSE)","v":694},null,null,"No info","линк","https://bg.toolsworld.com/search/?query=","https://bg.toolsworld.com/search/?query=782109"]
[782119,"Penge furészgéphez, fához, 3 db T101BF, 75 x 2,5 mm, kettosfém// MTX PROFESSIONAL",804,"B","Active",{"$f":"VLOOKUP(A3487,[1]Sheet1!$A$1:$C$65512,3,FALSE)","v":1122},null,null,"No info","линк","https://bg.toolsworld.com/search/?query=","https://bg.toolsworld.com/search/?query=782119"]
[782129,"Penge furészgéphez, fához, 3 db T101DF, 75 x 4,0 mm, kettosfém// MTX PROFESSIONAL",794,"B","Active",{"$f":"VLOOKUP(A3488,[1]Sheet1!$A$1:$C$65512,3,FALSE)","v":340},null,null,"No info","линк","https://bg.toolsworld.com/search/?query=","https://bg.toolsworld.com/search/?query=782129"]
[782139,"Penge furészgéphez, fához, 3 db T101BRF, 75 x 2,5 mm, forgatható fogazat, kettosfém// MTX PROFESSIONAL",874,"B","Active",{"$f":"VLOOKUP(A3489,[1]Sheet1!$A$1:$C$65512,3,FALSE)","v":612},null,null,"No info","линк","https://bg.toolsworld.com/search/?query=","https://bg.toolsworld.com/search/?query=782139"]
[782159,"Penge furészgéphez, fához, 3 db T244D, 75 x 4,0 mm, HCS// MTX PROFESSIONAL",346,"B","Active",{"$f":"VLOOKUP(A3490,[1]Sheet1!$A$1:$C$65512,3,FALSE)","v":402},null,null,"No info","линк","https://bg.toolsworld.com/search/?query=","https://bg.toolsworld.com/search/?query=782159"]
[782169,"Penge furészgéphez, fához, 3 db T301CD, 90 x 3,0 mm, HCS// MTX PROFESSIONAL",472,"B","Active",{"$f":"VLOOKUP(A3491,[1]Sheet1!$A$1:$C$65512,3,FALSE)","v":189},null,null,"No info","линк","https://bg.toolsworld.com/search/?query=","https://bg.toolsworld.com/search/?query=782169"]
[782509,"Penge készlet furészgéphez, fához, 5 db// MTX PROFESSIONAL",589,"B","Active",{"$f":"VLOOKUP(A3492,[1]Sheet1!$A$1:$C$65512,3,FALSE)","v":199},null,null,"No info","линк","https://bg.toolsworld.com/search/?query=","https://bg.toolsworld.com/search/?query=782509"]
[782519,"Penge készlet furészgéphez, Univerzális, 5 db// MTX PROFESSIONAL",650,"B","Active",{"$f":"VLOOKUP(A3493,[1]Sheet1!$A$1:$C$65512,3,FALSE)","v":356},null,null,"No info","линк","https://bg.toolsworld.com/search/?query=","https://bg.toolsworld.com/search/?query=782519"]
[783089,"Többfunkciós lemezvágó, 200 mm",5183,"B","Active",{"$f":"VLOOKUP(A3494,[1]Sheet1!$A$1:$C$65512,3,FALSE)","v":471},null,null,"No info","линк","https://bg.toolsworld.com/search/?query=","https://bg.toolsworld.com/search/?query=783089"]
[783125,"Bádogmetszo olló, rugós D/F 200 mm// SPARTA",729,"B","Active",{"$f":"VLOOKUP(A3495,[1]Sheet1!$A$1:$C$65512,3,FALSE)","v":146},null,null,"No info","линк","https://bg.toolsworld.com/search/?query=","https://bg.toolsworld.com/search/?query=783125"]
[783135,"Bádogmetszo olló, rugós D/F 250 mm// SPARTA",1102,"B","Active",{"$f":"VLOOKUP(A3496,[1]Sheet1!$A$1:$C$65512,3,FALSE)","v":124},null,null,"No info","линк","https://bg.toolsworld.com/search/?query=","https://bg.toolsworld.com/search/?query=783135"]
[783145,"Bádogmetszo olló, rugós D/F 300 mm// SPARTA",943,"B","Active",{"$f":"VLOOKUP(A3497,[1]Sheet1!$A$1:$C$65512,3,FALSE)","v":9},null,null,"No info","линк","https://bg.toolsworld.com/search/?query=","https://bg.toolsworld.com/search/?query=783145"]
[783155,"Speciális lemezvágó 250mm (egyenes) gumi markolattal// SPARTA",1124,"B","Active",{"$f":"VLOOKUP(A3498,[1]Sheet1!$A$1:$C$65512,3,FALSE)","v":" "},null,null,"No info","линк","https://bg.toolsworld.com/search/?query=","https://bg.toolsworld.com/search/?query=783155"]
[783179,"Lemezvágó, 225 mm, éles vágás, glazed markolat// MTX",1853,"B","Active",{"$f":"VLOOKUP(A3499,[1]Sheet1!$A$1:$C$65512,3,FALSE)","v":547},null,null,"No info","линк","https://bg.toolsworld.com/search/?query=","https://bg.toolsworld.com/search/?query=783179"]
[783309,"Lemezvágó, egyenes vágás, 250 mm, gumi borítás markolat",1428,"B","Active",{"$f":"VLOOKUP(A3500,[1]Sheet1!$A$1:$C$65512,3,FALSE)","v":809},null,null,"No info",{"$f":"HYPERLINK(L3500,\"линк\")","v":"линк"},"https://bg.toolsworld.com/search/?query=","https://bg.toolsworld.com/search/?query=783309"]
[783329,"Lemezvágó 250 mm, gumi borítás markolat, jobb vágás",1301,"B","Active",{"$f":"VLOOKUP(A3501,[1]Sheet1!$A$1:$C$65512,3,FALSE)","v":143},null,null,"No info","линк","https://bg.toolsworld.com/search/?query=","https://bg.toolsworld.com/search/?query=783329"]
[783349,"Lemezvágó 250 mm, gumi borítás markolat, bal vágás",1301,"B","Active",{"$f":"VLOOKUP(A3502,[1]Sheet1!$A$1:$C$65512,3,FALSE)","v":125},null,null,"No info","линк","https://bg.toolsworld.com/search/?query=","https://bg.toolsworld.com/search/?query=783349"]
[784129,"Muanyagcso-metszo, D-42 mm// MTX",2857,"B","Active",{"$f":"VLOOKUP(A3503,[1]Sheet1!$A$1:$C$65512,3,FALSE)","v":380},null,null,"No info","линк","https://bg.toolsworld.com/search/?query=","https://bg.toolsworld.com/search/?query=784129"]
[785259,"Erovágó, 300 mm / 12\"// MTX",3083,"B","Active",{"$f":"VLOOKUP(A3504,[1]Sheet1!$A$1:$C$65512,3,FALSE)","v":" "},null,null,"No info","линк","https://bg.toolsworld.com/search/?query=",{"$f":"CONCATENATE(K3504,A3504)","v":"https://bg.toolsworld.com/search/?query=785259"}]
[785309,"Erovágó, 350 mm / 14\"// MTX",3319,"B","Active",{"$f":"VLOOKUP(A3505,[1]Sheet1!$A$1:$C$65512,3,FALSE)","v":53},null,null,"No info","линк","https://bg.toolsworld.com/search/?query=","https://bg.toolsworld.com/search/?query=785309"]
[785359,"Erovágó, 450 mm / 18\"// MTX",4616,"B","Active",{"$f":"VLOOKUP(A3506,[1]Sheet1!$A$1:$C$65512,3,FALSE)","v":" "},null,null,"No info","линк","https://bg.toolsworld.com/search/?query=","https://bg.toolsworld.com/search/?query=785359"]
[785409,"Erovágó, 600 mm / 24\"// MTX",6592,"B","Active",{"$f":"VLOOKUP(A3507,[1]Sheet1!$A$1:$C$65512,3,FALSE)","v":{"$error":"#N/A"}},null,null,"No info","линк","https://bg.toolsworld.com/search/?query=","https://bg.toolsworld.com/search/?query=785409"]
[785459,"Erovágó, 750 mm / 30\"// MTX",9689,"B","Active",{"$f":"VLOOKUP(A3508,[1]Sheet1!$A$1:$C$65512,3,FALSE)","v":" "},null,null,"No info","линк","https://bg.toolsworld.com/search/?query=","https://bg.toolsworld.com/search/?query=785459"]
[785559,"Erovágó, 900 mm / 36\"// MTX",13100,"B","Active",{"$f":"VLOOKUP(A3509,[1]Sheet1!$A$1:$C$65512,3,FALSE)","v":{"$error":"#N/A"}},null,null,"No info","линк","https://bg.toolsworld.com/search/?query=","https://bg.toolsworld.com/search/?query=785559"]
[785609,"Erovágó, 1050 mm / 42\"// MTX",18549,"B","Active",{"$f":"VLOOKUP(A3510,[1]Sheet1!$A$1:$C$65512,3,FALSE)","v":{"$error":"#N/A"}},null,null,"No info","линк","https://bg.toolsworld.com/search/?query=","https://bg.toolsworld.com/search/?query=785609"]
[785659,"Erovágó, 1200 mm / 48\"// MTX",21777,"B","Active",{"$f":"VLOOKUP(A3511,[1]Sheet1!$A$1:$C$65512,3,FALSE)","v":10},null,null,"No info","линк","https://bg.toolsworld.com/search/?query=","https://bg.toolsworld.com/search/?query=785659"]
[787209,"Cso vágó, 3-28 mm//MTX",1045,"B","Active",{"$f":"VLOOKUP(A3512,[1]Sheet1!$A$1:$C$65512,3,FALSE)","v":422},null,null,"No info","линк","https://bg.toolsworld.com/search/?query=","https://bg.toolsworld.com/search/?query=787209"]
[789099,"Könnyu papírvágó, teleszkópos kaparó penge kényelmes markolattal és fém vezetovel, 9 mm",165,"B","Active",{"$f":"VLOOKUP(A3513,[1]Sheet1!$A$1:$C$65512,3,FALSE)","v":386},null,null,"No info","линк","https://bg.toolsworld.com/search/?query=","https://bg.toolsworld.com/search/?query=789099"]
[789149,"Könnyu papírvágó,teleszkópos kaparó penge kényelmes markolattal és fix vágás, 18 mm",521,"B","Active",{"$f":"VLOOKUP(A3514,[1]Sheet1!$A$1:$C$65512,3,FALSE)","v":1164},null,null,"No info","линк","https://bg.toolsworld.com/search/?query=","https://bg.toolsworld.com/search/?query=789149"]
[789189,"Könnyu papírvágó, teleszkópos kaparó penge kényelmes markolattal, 18 mm",224,"B","Active",{"$f":"VLOOKUP(A3515,[1]Sheet1!$A$1:$C$65512,3,FALSE)","v":" "},null,null,"No info","линк","https://bg.toolsworld.com/search/?query=","https://bg.toolsworld.com/search/?query=789189"]
[789219,"Szike, 18mm, leveheto penge, 5 pótpenge, fém vezeto, gumi borítású nyél",1539,"B","Active",{"$f":"VLOOKUP(A3516,[1]Sheet1!$A$1:$C$65512,3,FALSE)","v":2133},null,null,"No info","линк","https://bg.toolsworld.com/search/?query=","https://bg.toolsworld.com/search/?query=789219"]
[789299,"Könnyu papírvágó 18 mm",122,"B","Active",{"$f":"VLOOKUP(A3517,[1]Sheet1!$A$1:$C$65512,3,FALSE)","v":184},null,null,"No info","линк","https://bg.toolsworld.com/search/?query=","https://bg.toolsworld.com/search/?query=789299"]
[789599,"Könnyu papírvágó 25mm, intenzív, fém, gumi markolat",1476,"B","Active",{"$f":"VLOOKUP(A3518,[1]Sheet1!$A$1:$C$65512,3,FALSE)","v":116},null,null,"No info","линк","https://bg.toolsworld.com/search/?query=","https://bg.toolsworld.com/search/?query=789599"]
[789649,"Könnyu papírvágó, teleszkópos trapéz kaparó penge, fém test",863,"B","Active",{"$f":"VLOOKUP(A3519,[1]Sheet1!$A$1:$C$65512,3,FALSE)","v":547},null,null,"No info","линк","https://bg.toolsworld.com/search/?query=","https://bg.toolsworld.com/search/?query=789649"]
[789679,"Könnyu papírvágó, teleszkópos trapéz kaparó penge",924,"B","Active",{"$f":"VLOOKUP(A3520,[1]Sheet1!$A$1:$C$65512,3,FALSE)","v":1322},null,null,"No info","линк","https://bg.toolsworld.com/search/?query=","https://bg.toolsworld.com/search/?query=789679"]
[789697,"Kaparókések 18mm, 10db készlet// Sparta",173,"B","Active",{"$f":"VLOOKUP(A3521,[1]Sheet1!$A$1:$C$65512,3,FALSE)","v":2460},null,null,"No info","линк","https://bg.toolsworld.com/search/?query=","https://bg.toolsworld.com/search/?query=789697"]
[789859,"Vágó szett 9-9-18mm teleszkópos pengékkel 3 db // MTX",393,"B","Active",{"$f":"VLOOKUP(A3522,[1]Sheet1!$A$1:$C$65512,3,FALSE)","v":1730},null,null,"No info","линк","https://bg.toolsworld.com/search/?query=","https://bg.toolsworld.com/search/?query=789859"]
[789899," padlószonyeg-linóleum vágó kés,180mm, két komponensu nyél // MTX",784,"B","Active",{"$f":"VLOOKUP(A3523,[1]Sheet1!$A$1:$C$65512,3,FALSE)","v":628},null,null,"No info","линк","https://bg.toolsworld.com/search/?query=","https://bg.toolsworld.com/search/?query=789899"]
[789919,"8 db vágó szett 9-18mm teleszkópos pengékkel, + Kaparós, rögzített teleszkópos pengék.",682,"B","Active",{"$f":"VLOOKUP(A3524,[1]Sheet1!$A$1:$C$65512,3,FALSE)","v":2366},null,null,"No info","линк","https://bg.toolsworld.com/search/?query=","https://bg.toolsworld.com/search/?query=789919"]
[790018,"Kerti kés, 170 mm, behajtható, ferde penge, fa nyél// PALISAD",1252,"B","Active",{"$f":"VLOOKUP(A3525,[1]Sheet1!$A$1:$C$65512,3,FALSE)","v":188},null,null,"No info","линк","https://bg.toolsworld.com/search/?query=","https://bg.toolsworld.com/search/?query=790018"]
[790028,"Kerti kés, 173 mm, behajtható, ferde penge, fa nyél// PALISAD",1261,"B","Active",{"$f":"VLOOKUP(A3526,[1]Sheet1!$A$1:$C$65512,3,FALSE)","v":601},null,null,"No info","линк","https://bg.toolsworld.com/search/?query=","https://bg.toolsworld.com/search/?query=790028"]
[790038,"Kerti kés, 173 mm, egyenes penge, fa nyél// PALISAD",1252,"B","Active",{"$f":"VLOOKUP(A3527,[1]Sheet1!$A$1:$C$65512,3,FALSE)","v":1855},null,null,"No info","линк","https://bg.toolsworld.com/search/?query=","https://bg.toolsworld.com/search/?query=790038"]
[790547,"Kerti kés, 165 mm, összecsukható, bimbózó, muanyag nyél// Palisad",1373,"B","Active",{"$f":"VLOOKUP(A3528,[1]Sheet1!$A$1:$C$65512,3,FALSE)","v":333},null,null,"No info","линк","https://bg.toolsworld.com/search/?query=","https://bg.toolsworld.com/search/?query=790547"]
[790557,"Kerti kés, 165 mm, összecsukható, kopuláló, muanyag nyél// Palisad",1218,"B","Active",{"$f":"VLOOKUP(A3529,[1]Sheet1!$A$1:$C$65512,3,FALSE)","v":381},null,null,"No info","линк","https://bg.toolsworld.com/search/?query=","https://bg.toolsworld.com/search/?query=790557"]
[790567,"Kerti kés, 168 mm, összecsukható, két pengével, muanyag nyéllel// Palisad",1613,"B","Active",{"$f":"VLOOKUP(A3530,[1]Sheet1!$A$1:$C$65512,3,FALSE)","v":380},null,null,"No info","линк","https://bg.toolsworld.com/search/?query=","https://bg.toolsworld.com/search/?query=790567"]
[791009,"Élezo késekhez és más vágóeszközökhöz// MTX",1908,"B","Active",{"$f":"VLOOKUP(A3531,[1]Sheet1!$A$1:$C$65512,3,FALSE)","v":748},null,null,"No info","линк","https://bg.toolsworld.com/search/?query=","https://bg.toolsworld.com/search/?query=791009"]
[791019,"Élezo késekhez és más vágóeszközökhöz, kicsi// MTX",1821,"B","Active",{"$f":"VLOOKUP(A3532,[1]Sheet1!$A$1:$C$65512,3,FALSE)","v":505},null,null,"No info","линк","https://bg.toolsworld.com/search/?query=","https://bg.toolsworld.com/search/?query=791019"]
[791029,"Élezo kerti ollóhoz és metszoollóhoz// MTX",2605,"B","Active",{"$f":"VLOOKUP(A3533,[1]Sheet1!$A$1:$C$65512,3,FALSE)","v":353},null,null,"No info","линк","https://bg.toolsworld.com/search/?query=","https://bg.toolsworld.com/search/?query=791029"]
[791049,"Élezo bármilyen késekhez,  fém vezeto// MTX",5394,"B","Active",{"$f":"VLOOKUP(A3534,[1]Sheet1!$A$1:$C$65512,3,FALSE)","v":352},null,null,"No info","линк","https://bg.toolsworld.com/search/?query=","https://bg.toolsworld.com/search/?query=791049"]
[795305,"uveg kaparó 40 mm// SPARTA",187,"B","Active",{"$f":"VLOOKUP(A3535,[1]Sheet1!$A$1:$C$65512,3,FALSE)","v":398},null,null,"No info","линк","https://bg.toolsworld.com/search/?query=","https://bg.toolsworld.com/search/?query=795305"]
[795405,"uveg kaparó 51 mm// SPARTA",220,"B","Active",{"$f":"VLOOKUP(A3536,[1]Sheet1!$A$1:$C$65512,3,FALSE)","v":246},null,null,"No info","линк","https://bg.toolsworld.com/search/?query=","https://bg.toolsworld.com/search/?query=795405"]
[795459,"Kaparó, 100 mm, rögzített penge, fém gumi borítású nyél// MTX",1081,"B","Active",{"$f":"VLOOKUP(A3537,[1]Sheet1!$A$1:$C$65512,3,FALSE)","v":115},null,null,"No info","линк","https://bg.toolsworld.com/search/?query=","https://bg.toolsworld.com/search/?query=795459"]
[795509,"Festékkaparó, 100 mm, fix penge, kiterjesztett fém gumi bevonatú nyél// MTX",1179,"B","Active",{"$f":"VLOOKUP(A3538,[1]Sheet1!$A$1:$C$65512,3,FALSE)","v":{"$error":"#N/A"}},null,null,"No info","линк","https://bg.toolsworld.com/search/?query=","https://bg.toolsworld.com/search/?query=795509"]
[795609,"Kaparó, 250 mm, csempéhez, volfrám-karbid borítás// MTX",688,"B","Active",{"$f":"VLOOKUP(A3539,[1]Sheet1!$A$1:$C$65512,3,FALSE)","v":90},null,null,"No info","линк","https://bg.toolsworld.com/search/?query=","https://bg.toolsworld.com/search/?query=795609"]
[802209,"Habhenger, 230 mm, D 80 mm, sima, szerkezeti, fogantyú D 6 mm// MTX",859,"B","Active",{"$f":"VLOOKUP(A3540,[1]Sheet1!$A$1:$C$65512,3,FALSE)","v":35},null,null,"No info","линк","https://bg.toolsworld.com/search/?query=","https://bg.toolsworld.com/search/?query=802209"]
[802219,"Habhenger, 230 mm, D 80 mm, durva, szerkezeti, fogantyú D 6 mm// MTX",859,"B","Active",{"$f":"VLOOKUP(A3541,[1]Sheet1!$A$1:$C$65512,3,FALSE)","v":571},null,null,"No info","линк","https://bg.toolsworld.com/search/?query=","https://bg.toolsworld.com/search/?query=802219"]
[802229,"Hab henger, 230 mm, D 80 mm, borsó típusú szerkezet, nyéllel, 230 mm// MTX",859,"B","Active",{"$f":"VLOOKUP(A3542,[1]Sheet1!$A$1:$C$65512,3,FALSE)","v":{"$error":"#N/A"}},null,null,"No info","линк","https://bg.toolsworld.com/search/?query=","https://bg.toolsworld.com/search/?query=802229"]
[802835,"Festohenger szett, 100mm, D 35 mm , nyél Átm: 6 mm,  10db + 2 Henger keretek// SPARTA",1083,"B","Active",{"$f":"VLOOKUP(A3543,[1]Sheet1!$A$1:$C$65512,3,FALSE)","v":6},null,null,"No info","линк","https://bg.toolsworld.com/search/?query=","https://bg.toolsworld.com/search/?query=802835"]
[806039,"Mini henger nejlon profi, cserélheto, 70 mm, bolyhosság 12mm, D 15mm, poliamid,  nyél Átm: 6mm// MTX",140,"B","Active",{"$f":"VLOOKUP(A3544,[1]Sheet1!$A$1:$C$65512,3,FALSE)","v":501},null,null,"No info","линк","https://bg.toolsworld.com/search/?query=","https://bg.toolsworld.com/search/?query=806039"]
[806069,"Mini-görgő Nylon profi, cserélhető, 150 mm, cölöp 12 mm, D 16 mm, poliamid, nyél D 6 mm// MTX",220,"B","Active",{"$f":"VLOOKUP(A3545,[1]Sheet1!$A$1:$C$65512,3,FALSE)","v":464},null,null,"No info","линк","https://bg.toolsworld.com/search/?query=","https://bg.toolsworld.com/search/?query=806069"]
[806079,"Mini henger nejlon standard, cserélheto, 70mm, bolyhosság 9mm, Átm: 44mm, poliamid, nyél Átm: 6mm// MTX",141,"B","Active",{"$f":"VLOOKUP(A3546,[1]Sheet1!$A$1:$C$65512,3,FALSE)","v":372},null,null,"No info","линк","https://bg.toolsworld.com/search/?query=","https://bg.toolsworld.com/search/?query=806079"]
[806099,"Mini henger nejlon standard, cserélheto, 100mm, bolyhosság 9 mm, Átm: 44 mm, poliamid, nyél Átm: 6 mm// MTX",183,"B","Active",{"$f":"VLOOKUP(A3547,[1]Sheet1!$A$1:$C$65512,3,FALSE)","v":264},null,null,"No info","линк","https://bg.toolsworld.com/search/?query=","https://bg.toolsworld.com/search/?query=806099"]
[806109,"Mini henger nejlon standard, cserélheto, 150mm, bolyhosság 9mm, Átm: 44 mm, poliamid, nyél Átm: 6mm// MTX",252,"B","Active",{"$f":"VLOOKUP(A3548,[1]Sheet1!$A$1:$C$65512,3,FALSE)","v":134},null,null,"No info","линк","https://bg.toolsworld.com/search/?query=","https://bg.toolsworld.com/search/?query=806109"]
[806129,"Mini henger szintex, cserélheto, 70mm, bolyhosság 12mm, Átm: 44mm, nyél Átm: 6mm, poliakril// MTX",110,"B","Active",{"$f":"VLOOKUP(A3549,[1]Sheet1!$A$1:$C$65512,3,FALSE)","v":333},null,null,"No info","линк","https://bg.toolsworld.com/search/?query=","https://bg.toolsworld.com/search/?query=806129"]
[806139,"Mini henger szintex, cserélheto,100mm, bolyhosság 12mm, Átm: 44mm, nyél Átm: 6mm, poliakril// MTX",128,"B","Active",{"$f":"VLOOKUP(A3550,[1]Sheet1!$A$1:$C$65512,3,FALSE)","v":{"$error":"#N/A"}},null,null,"No info","линк","https://bg.toolsworld.com/search/?query=","https://bg.toolsworld.com/search/?query=806139"]
[806149,"Mini henger szintex, cserélheto,150mm, bolyhosság 12mm, Átm: 44mm, nyél Átm: 6mm, poliakril// MTX",157,"B","Active",{"$f":"VLOOKUP(A3551,[1]Sheet1!$A$1:$C$65512,3,FALSE)","v":94},null,null,"No info","линк","https://bg.toolsworld.com/search/?query=","https://bg.toolsworld.com/search/?query=806149"]
[806159,"Mini henger velúr, cserélheto, 70mm, bolyhosság 4 mm, Átm: 44mm, nyél Átm: 6mm, gyapjú// MTX",151,"B","Active",{"$f":"VLOOKUP(A3552,[1]Sheet1!$A$1:$C$65512,3,FALSE)","v":1129},null,null,"No info","линк","https://bg.toolsworld.com/search/?query=","https://bg.toolsworld.com/search/?query=806159"]
[806169,"Mini henger velúr, cserélheto, 100mm, bolyhosság 4 mm, Átm: 44mm, nyél Átm: 6mm, gyapjú// MTX",189,"B","Active",{"$f":"VLOOKUP(A3553,[1]Sheet1!$A$1:$C$65512,3,FALSE)","v":476},null,null,"No info","линк","https://bg.toolsworld.com/search/?query=","https://bg.toolsworld.com/search/?query=806169"]
[806179,"Mini henger velúr, cserélheto, 150mm, bolyhosság 4 mm, Átm: 44mm, nyél Átm: 6mm, gyapjú// MTX",252,"B","Active",{"$f":"VLOOKUP(A3554,[1]Sheet1!$A$1:$C$65512,3,FALSE)","v":79},null,null,"No info","линк","https://bg.toolsworld.com/search/?query=","https://bg.toolsworld.com/search/?query=806179"]
[806239,"Henger nejlon standard, cserélheto, 250mm, bolyhosság 9 mm, Átm: 44 mm, nyél Átm: 8 mm, poliamid// MTX",0,"B","Active",{"$f":"VLOOKUP(A3555,[1]Sheet1!$A$1:$C$65512,3,FALSE)","v":{"$error":"#N/A"}},null,null,"No info","линк","https://bg.toolsworld.com/search/?query=","https://bg.toolsworld.com/search/?query=806239"]
[806269,"Festőhenger utántöltő NYLON, 180 mm, halom 18 mm, D 48 mm, fogantyú D 8 mm// MTX",623,"B","Active",{"$f":"VLOOKUP(A3556,[1]Sheet1!$A$1:$C$65512,3,FALSE)","v":12},null,null,"No info","линк","https://bg.toolsworld.com/search/?query=","https://bg.toolsworld.com/search/?query=806269"]
[806299,"Szintetikus festőhenger homlokzati munkákhoz, 180mm, kupac 18mm, D38mm, fogantyú D8mm, poliakril// MTX",872,"B","Active",{"$f":"VLOOKUP(A3557,[1]Sheet1!$A$1:$C$65512,3,FALSE)","v":28},null,null,"No info","линк","https://bg.toolsworld.com/search/?query=","https://bg.toolsworld.com/search/?query=806299"]
[806359,"Henger  szintex, 250 mm, bolyhosság 18 mm, Átm: 38 mm, poliakril, nyéllel// MTX",1356,"B","Active",{"$f":"VLOOKUP(A3558,[1]Sheet1!$A$1:$C$65512,3,FALSE)","v":176},null,null,"No info","линк","https://bg.toolsworld.com/search/?query=","https://bg.toolsworld.com/search/?query=806359"]
[806369,"Tapéta varrathenger, \"hordó\" forma, 50mm, műanyag// MTX",297,"B","Active",{"$f":"VLOOKUP(A3559,[1]Sheet1!$A$1:$C$65512,3,FALSE)","v":27},null,null,"No info","линк","https://bg.toolsworld.com/search/?query=","https://bg.toolsworld.com/search/?query=806369"]
[806379,"Nyomóhenger, 50 mm, kúpos, muanyag// MTX",328,"B","Active",{"$f":"VLOOKUP(A3560,[1]Sheet1!$A$1:$C$65512,3,FALSE)","v":159},null,null,"No info","линк","https://bg.toolsworld.com/search/?query=","https://bg.toolsworld.com/search/?query=806379"]
[806469,"NYLON festőhenger, 250 mm, cölöp 9 mm, D 48 mm, fogantyú D 6 mm// MTX",876,"B","Active",{"$f":"VLOOKUP(A3561,[1]Sheet1!$A$1:$C$65512,3,FALSE)","v":147},null,null,"No info","линк","https://bg.toolsworld.com/search/?query=","https://bg.toolsworld.com/search/?query=806469"]
[806479,"Nylon Profi paint roller, 180 mm, pile 12 mm, D 48 mm, handle D 6 mm, polyamide// MTX",1364,"B","Active",{"$f":"VLOOKUP(A3562,[1]Sheet1!$A$1:$C$65512,3,FALSE)","v":164},null,null,"No info","линк","https://bg.toolsworld.com/search/?query=","https://bg.toolsworld.com/search/?query=806479"]
[806499,"NYLON festőhenger, 250 mm, cölöp 12 mm, D 48 mm, fogantyú D 6 mm// MTX",1654,"B","Active",{"$f":"VLOOKUP(A3563,[1]Sheet1!$A$1:$C$65512,3,FALSE)","v":123},null,null,"No info","линк","https://bg.toolsworld.com/search/?query=","https://bg.toolsworld.com/search/?query=806499"]
[806529,"Nylon Luxe paint roller,two-component handle,180mm,pile 18mm,D48mm,handle D6mm,polyamide// MTX",1584,"B","Active",{"$f":"VLOOKUP(A3564,[1]Sheet1!$A$1:$C$65512,3,FALSE)","v":165},null,null,"No info",{"$f":"HYPERLINK(L3564,\"линк\")","v":"линк"},"https://bg.toolsworld.com/search/?query=","https://bg.toolsworld.com/search/?query=806529"]
[806619,"Festőhenger utántöltő POLYACRIL sárga csík, 2-komp. fogantyú, 250 mm, halom 12 mm, D48 mm, fogantyú D6 mm// MTX",1446,"B","Active",{"$f":"VLOOKUP(A3565,[1]Sheet1!$A$1:$C$65512,3,FALSE)","v":181},null,null,"No info","линк","https://bg.toolsworld.com/search/?query=","https://bg.toolsworld.com/search/?query=806619"]
[806639,"VELOUR festőhenger, 2-komp. fogantyú, 250 mm, cölöp 4 mm, D 48 mm, nyél D 6 mm// MTX",1517,"B","Active",{"$f":"VLOOKUP(A3566,[1]Sheet1!$A$1:$C$65512,3,FALSE)","v":44},null,null,"No info","линк","https://bg.toolsworld.com/search/?query=","https://bg.toolsworld.com/search/?query=806639"]
[807089,"Mini-henger, Polytex, 100mm, cölöp 12mm, D 16mm, fogantyú D 6mm, poliakril// MTX",118,"B","Active",{"$f":"VLOOKUP(A3567,[1]Sheet1!$A$1:$C$65512,3,FALSE)","v":{"$error":"#N/A"}},null,null,"No info","линк","https://bg.toolsworld.com/search/?query=","https://bg.toolsworld.com/search/?query=807089"]
[807119,"Mini henger , Girpaint, 100mm, bolyhosság 12mm, Átm: 44mm, nyél Átm: 6mm, poliakril// MTX",128,"B","Active",{"$f":"VLOOKUP(A3568,[1]Sheet1!$A$1:$C$65512,3,FALSE)","v":1578},null,null,"No info","линк","https://bg.toolsworld.com/search/?query=",{"$f":"CONCATENATE(K3568,A3568)","v":"https://bg.toolsworld.com/search/?query=807119"}]
[807239,"Mini-görgő, Polytex, 150mm, cölöp 12mm, D 16mm, fogantyú D 6mm, poliakril// MTX",134,"B","Active",{"$f":"VLOOKUP(A3569,[1]Sheet1!$A$1:$C$65512,3,FALSE)","v":318},null,null,"No info","линк","https://bg.toolsworld.com/search/?query=","https://bg.toolsworld.com/search/?query=807239"]
[807269,"Mini henger , Girpaint, 150mm, bolyhosság 12mm, Átm: 44mm, nyél Átm: 6mm, poliakril// MTX",155,"B","Active",{"$f":"VLOOKUP(A3570,[1]Sheet1!$A$1:$C$65512,3,FALSE)","v":487},null,null,"No info","линк","https://bg.toolsworld.com/search/?query=","https://bg.toolsworld.com/search/?query=807269"]
[807359,"henger Greytex, changeable, 180mm, pile 12 mm, D 44mm, handle D 8mm, polyacril// MTX",668,"B","Active",{"$f":"VLOOKUP(A3571,[1]Sheet1!$A$1:$C$65512,3,FALSE)","v":51},null,null,"No info","линк","https://bg.toolsworld.com/search/?query=","https://bg.toolsworld.com/search/?query=807359"]
[807419,"henger Greytex, changeable, 250mm, pile 12 mm, D 44mm, handle D 8mm, polyacril// MTX",882,"B","Active",{"$f":"VLOOKUP(A3572,[1]Sheet1!$A$1:$C$65512,3,FALSE)","v":{"$error":"#N/A"}},null,null,"No info","линк","https://bg.toolsworld.com/search/?query=","https://bg.toolsworld.com/search/?query=807419"]
[807449,"Henger Girpaint, 180 mm, bolyhosság 12 mm, Átm: 44 mm, poliakril, nyél Átm: 44 mm, cserélheto// MTX",790,"B","Active",{"$f":"VLOOKUP(A3573,[1]Sheet1!$A$1:$C$65512,3,FALSE)","v":323},null,null,"No info","линк","https://bg.toolsworld.com/search/?query=","https://bg.toolsworld.com/search/?query=807449"]
[807459,"Festékhenger Girpaint, 8 mm-es fogantyúval, 180 mm, 12 mm-es bolyhos, D 48 mm-es, poliakrilid // MTX",1440,"B","Active",{"$f":"VLOOKUP(A3574,[1]Sheet1!$A$1:$C$65512,3,FALSE)","v":77},null,null,"No info","линк","https://bg.toolsworld.com/search/?query=","https://bg.toolsworld.com/search/?query=807459"]
[807469,"Festékhenger Girpaint, 8 mm-es fogantyúval, 250 mm, 12 mm-es cölöp, D 48 mm, poliakrilát // MTX",1749,"B","Active",{"$f":"VLOOKUP(A3575,[1]Sheet1!$A$1:$C$65512,3,FALSE)","v":180},null,null,"No info","линк","https://bg.toolsworld.com/search/?query=","https://bg.toolsworld.com/search/?query=807469"]
[807509,"Henger Girpaint, 250 mm, bolyhosság 12 mm, Átm: 44 mm, poliakril, nyél Átm: 44 mm, cserélheto// MTX",961,"B","Active",{"$f":"VLOOKUP(A3576,[1]Sheet1!$A$1:$C$65512,3,FALSE)","v":132},null,null,"No info","линк","https://bg.toolsworld.com/search/?query=","https://bg.toolsworld.com/search/?query=807509"]
[807519,"Festohenger \"szintex\" nyéllel 8mm, 180 mm, bolyhosság 18 mm, Átm: 48 mm, poliakril// MTX",1637,"B","Active",{"$f":"VLOOKUP(A3577,[1]Sheet1!$A$1:$C$65512,3,FALSE)","v":155},null,null,"No info","линк","https://bg.toolsworld.com/search/?query=","https://bg.toolsworld.com/search/?query=807519"]
[807529,"Festohenger \"szintex\" nyéllel 8mm, 250 mm, bolyhosság 18 mm, Átm: 48 mm, poliakril// MTX",2006,"B","Active",{"$f":"VLOOKUP(A3578,[1]Sheet1!$A$1:$C$65512,3,FALSE)","v":125},null,null,"No info","линк","https://bg.toolsworld.com/search/?query=","https://bg.toolsworld.com/search/?query=807529"]
[807539,"Henger szintex, 180 mm, bolyhosság 18 mm, Átm: 44 mm, nyél Átm: 44 mm, kulso, cserélheto, poliakril// MTX",996,"B","Active",{"$f":"VLOOKUP(A3579,[1]Sheet1!$A$1:$C$65512,3,FALSE)","v":93},null,null,"No info","линк","https://bg.toolsworld.com/search/?query=","https://bg.toolsworld.com/search/?query=807539"]
[807549,"Festohenger \"Neylon Standard\" Átm: nyél 8mm, 180 mm, bolyhosság 9 mm, Átm: 48 mm, poliamid// MTX",1574,"B","Active",{"$f":"VLOOKUP(A3580,[1]Sheet1!$A$1:$C$65512,3,FALSE)","v":113},null,null,"No info","линк","https://bg.toolsworld.com/search/?query=","https://bg.toolsworld.com/search/?query=807549"]
[807559,"Festohenger \"Neylon Standard\" Átm: nyél 8mm, 250 mm, bolyhosság 9mm, Átm: 48 mm, poliamid// MTX",1863,"B","Active",{"$f":"VLOOKUP(A3581,[1]Sheet1!$A$1:$C$65512,3,FALSE)","v":73},null,null,"No info","линк","https://bg.toolsworld.com/search/?query=","https://bg.toolsworld.com/search/?query=807559"]
[807579,"Festohenger \"Neylon Profi\" nyéllel 8mm, 180 mm, bolyhosság 12 mm, Átm: 48 mm, poliamid// MTX",1548,"B","Active",{"$f":"VLOOKUP(A3582,[1]Sheet1!$A$1:$C$65512,3,FALSE)","v":37},null,null,"No info","линк","https://bg.toolsworld.com/search/?query=","https://bg.toolsworld.com/search/?query=807579"]
[807589,"Festohenger \"Neylon Profi\" nyéllel 8mm, 250 mm, bolyhosság 12 mm, Átm: 48 mm, poliamid// MTX",1890,"B","Active",{"$f":"VLOOKUP(A3583,[1]Sheet1!$A$1:$C$65512,3,FALSE)","v":336},null,null,"No info","линк","https://bg.toolsworld.com/search/?query=","https://bg.toolsworld.com/search/?query=807589"]
[807599,"Henger szintex, 250 mm, bolyhosság 18 mm, Átm: 44 mm, nyél Átm: 8 mm, kulso, cserélheto, poliakril// MTX",1279,"B","Active",{"$f":"VLOOKUP(A3584,[1]Sheet1!$A$1:$C$65512,3,FALSE)","v":91},null,null,"No info","линк","https://bg.toolsworld.com/search/?query=","https://bg.toolsworld.com/search/?query=807599"]
[807619,"\"NYLON LUX\" festohenger, 250 mm, szálhossz 18 mm, D 48 mm, D fogantyú 8 mm, poliamid // MTX",1692,"B","Active",{"$f":"VLOOKUP(A3585,[1]Sheet1!$A$1:$C$65512,3,FALSE)","v":{"$error":"#N/A"}},null,null,"No info","линк","https://bg.toolsworld.com/search/?query=","https://bg.toolsworld.com/search/?query=807619"]
[807689,"Paint roller ref. Polytex, for exterior works, 250mm, pile 18mm, D69mm, handle D8mm, polyacril// MTX",729,"B","Active",{"$f":"VLOOKUP(A3586,[1]Sheet1!$A$1:$C$65512,3,FALSE)","v":580},null,null,"No info","линк","https://bg.toolsworld.com/search/?query=","https://bg.toolsworld.com/search/?query=807689"]
[807729,"Festohenger \"Microfiber\" Átm: nyél 8mm , 180 mm, bolyhosság 12 mm, Átm: 44 mm, poliakril // MTX",1594,"B","Active",{"$f":"VLOOKUP(A3587,[1]Sheet1!$A$1:$C$65512,3,FALSE)","v":189},null,null,"No info","линк","https://bg.toolsworld.com/search/?query=","https://bg.toolsworld.com/search/?query=807729"]
[807739,"Festohenger \"Microfiber\" Átm: nyél 8mm ,250 mm, bolyhosság 12 mm, Átm: 44 mm, poliakril// MTX",1943,"B","Active",{"$f":"VLOOKUP(A3588,[1]Sheet1!$A$1:$C$65512,3,FALSE)","v":148},null,null,"No info","линк","https://bg.toolsworld.com/search/?query=","https://bg.toolsworld.com/search/?query=807739"]
[807779,"Festőhenger ref. Tetracolor, kültéri munkákhoz, 250mm, cölöp 18mm, D55mm, nyél D8mm, poliakril// MTX",1104,"B","Active",{"$f":"VLOOKUP(A3589,[1]Sheet1!$A$1:$C$65512,3,FALSE)","v":1332},null,null,"No info","линк","https://bg.toolsworld.com/search/?query=","https://bg.toolsworld.com/search/?query=807779"]
[807789,"Festohenger \"velúr\" Átm: nyél 8mm ,180 mm, bolyhosság  4 mm, Átm: 44 mm, gyapjú// MTX",1770,"B","Active",{"$f":"VLOOKUP(A3590,[1]Sheet1!$A$1:$C$65512,3,FALSE)","v":192},null,null,"No info","линк","https://bg.toolsworld.com/search/?query=","https://bg.toolsworld.com/search/?query=807789"]
[807799,"Festohenger \"velúr\" Átm: nyél 8mm, 250 mm, bolyhosság 4 mm, Átm: 44 mm, gyapjú// MTX",2254,"B","Active",{"$f":"VLOOKUP(A3591,[1]Sheet1!$A$1:$C$65512,3,FALSE)","v":132},null,null,"No info","линк","https://bg.toolsworld.com/search/?query=","https://bg.toolsworld.com/search/?query=807799"]
[807809,"Henger velúr, gyapjú, 180 mm, bolyhosság 4 mm, Átm: 44 mm, nyél Átm: 44 mm// MTX",1028,"B","Active",{"$f":"VLOOKUP(A3592,[1]Sheet1!$A$1:$C$65512,3,FALSE)","v":12},null,null,"No info","линк","https://bg.toolsworld.com/search/?query=","https://bg.toolsworld.com/search/?query=807809"]
[807839,"Henger velúr, gyapjú, 250 mm, bolyhosság 4 mm, Átm: 44 mm, nyél Átm: 44 mm// MTX",1065,"B","Active",{"$f":"VLOOKUP(A3593,[1]Sheet1!$A$1:$C$65512,3,FALSE)","v":3},null,null,"No info","линк","https://bg.toolsworld.com/search/?query=","https://bg.toolsworld.com/search/?query=807839"]
[808849,"NYLON festőhenger, 180 mm, cölöp 9 mm, D 36 mm, fogantyú D 6 mm// MTX",591,"B","Active",{"$f":"VLOOKUP(A3594,[1]Sheet1!$A$1:$C$65512,3,FALSE)","v":89},null,null,"No info","линк","https://bg.toolsworld.com/search/?query=","https://bg.toolsworld.com/search/?query=808849"]
[808859,"NYLON festőhenger, 250 mm, cölöp 9 mm, D 36 mm, fogantyú D 6 mm// MTX",713,"B","Active",{"$f":"VLOOKUP(A3595,[1]Sheet1!$A$1:$C$65512,3,FALSE)","v":33},null,null,"No info","линк","https://bg.toolsworld.com/search/?query=","https://bg.toolsworld.com/search/?query=808859"]
[808869,"Paint roller, 180mm, pile 18mm, D 40mm, handle D 6mm, polyacryl// MTX",1118,"B","Active",{"$f":"VLOOKUP(A3596,[1]Sheet1!$A$1:$C$65512,3,FALSE)","v":404},null,null,"No info","линк","https://bg.toolsworld.com/search/?query=","https://bg.toolsworld.com/search/?query=808869"]
[808879,"Szintetikus festo henger homlokzatokhoz, 250 mm, bolyh 18mm D36mm nyél D 6mm.",1342,"B","Active",{"$f":"VLOOKUP(A3597,[1]Sheet1!$A$1:$C$65512,3,FALSE)","v":168},null,null,"No info","линк","https://bg.toolsworld.com/search/?query=","https://bg.toolsworld.com/search/?query=808879"]
[808889,"VELOUR festőhenger, 180 mm, cölöp 4 mm, D 36 mm, fogantyú D 6 mm// MTX",707,"B","Active",{"$f":"VLOOKUP(A3598,[1]Sheet1!$A$1:$C$65512,3,FALSE)","v":196},null,null,"No info","линк","https://bg.toolsworld.com/search/?query=","https://bg.toolsworld.com/search/?query=808889"]
[808899,"VELOUR festőhenger, 250 mm, cölöp 4 mm, D 36 mm, fogantyú D6 mm// MTX",863,"B","Active",{"$f":"VLOOKUP(A3599,[1]Sheet1!$A$1:$C$65512,3,FALSE)","v":103},null,null,"No info","линк","https://bg.toolsworld.com/search/?query=","https://bg.toolsworld.com/search/?query=808899"]
[810059,"Simítóhenger, 40 mm// MTX",417,"B","Active",{"$f":"VLOOKUP(A3600,[1]Sheet1!$A$1:$C$65512,3,FALSE)","v":{"$error":"#N/A"}},null,null,"No info","линк","https://bg.toolsworld.com/search/?query=","https://bg.toolsworld.com/search/?query=810059"]
[810159,"Simítóhenger, 150 mm// MTX",768,"B","Active",{"$f":"VLOOKUP(A3601,[1]Sheet1!$A$1:$C$65512,3,FALSE)","v":167},null,null,"No info","линк","https://bg.toolsworld.com/search/?query=","https://bg.toolsworld.com/search/?query=810159"]
[812219,"Keret 180 mm-es mini hengerekhez , Átm: 8 mm, nikkelezett, két komponensu nyél// MTX",324,"B","Active",{"$f":"VLOOKUP(A3602,[1]Sheet1!$A$1:$C$65512,3,FALSE)","v":{"$error":"#N/A"}},null,null,"No info","линк","https://bg.toolsworld.com/search/?query=","https://bg.toolsworld.com/search/?query=812219"]
[812309,"Fém hosszabbító rúd 0,75-1,5m// MTX",992,"B","Active",{"$f":"VLOOKUP(A3603,[1]Sheet1!$A$1:$C$65512,3,FALSE)","v":{"$error":"#N/A"}},null,null,"No info","линк","https://bg.toolsworld.com/search/?query=","https://bg.toolsworld.com/search/?query=812309"]
[812319,"Fém hosszabbító rúd 1,0-2m// MTX",1132,"B","Active",{"$f":"VLOOKUP(A3604,[1]Sheet1!$A$1:$C$65512,3,FALSE)","v":269},null,null,"No info","линк","https://bg.toolsworld.com/search/?query=","https://bg.toolsworld.com/search/?query=812319"]
[812329,"Fém hosszabbító rúd 1,5-3m// MTX",1582,"B","Active",{"$f":"VLOOKUP(A3605,[1]Sheet1!$A$1:$C$65512,3,FALSE)","v":125},null,null,"No info","линк","https://bg.toolsworld.com/search/?query=","https://bg.toolsworld.com/search/?query=812329"]
[812509,"Fém hosszabbító rúd 1,20-2,40cm, menetes// MTX",1432,"B","Active",{"$f":"VLOOKUP(A3606,[1]Sheet1!$A$1:$C$65512,3,FALSE)","v":48},null,null,"No info","линк","https://bg.toolsworld.com/search/?query=","https://bg.toolsworld.com/search/?query=812509"]
[814639,"Műanyag építési vödör, ütésálló, 16 L// MTX",876,"B","Active",{"$f":"VLOOKUP(A3607,[1]Sheet1!$A$1:$C$65512,3,FALSE)","v":1474},null,null,"No info","линк","https://bg.toolsworld.com/search/?query=","https://bg.toolsworld.com/search/?query=814639"]
[814679,"Műanyag kerek szerkezetű mosdó, ütésálló, 45 L// MTX",2798,"B","Active",{"$f":"VLOOKUP(A3608,[1]Sheet1!$A$1:$C$65512,3,FALSE)","v":374},null,null,"No info","линк","https://bg.toolsworld.com/search/?query=","https://bg.toolsworld.com/search/?query=814679"]
[814689,"Műanyag kerek szerkezetű mosdó, ütésálló, 65 L// MTX",3006,"B","Active",{"$f":"VLOOKUP(A3609,[1]Sheet1!$A$1:$C$65512,3,FALSE)","v":" "},null,null,"No info","линк","https://bg.toolsworld.com/search/?query=","https://bg.toolsworld.com/search/?query=814689"]
[814699,"Műanyag kerek szerkezetű mosdó, ütésálló, 90 L// MTX",3568,"B","Active",{"$f":"VLOOKUP(A3610,[1]Sheet1!$A$1:$C$65512,3,FALSE)","v":67},null,null,"No info","линк","https://bg.toolsworld.com/search/?query=","https://bg.toolsworld.com/search/?query=814699"]
[814709,"Műanyag négyszögletes konstrukciós mosdó, ütésálló, 40 L//MTX",2499,"B","Active",{"$f":"VLOOKUP(A3611,[1]Sheet1!$A$1:$C$65512,3,FALSE)","v":107},null,null,"No info","линк","https://bg.toolsworld.com/search/?query=","https://bg.toolsworld.com/search/?query=814709"]
[814719,"Műanyag téglalap konstrukciós mosdó, ütésálló, 60 L//MTX",2865,"B","Active",{"$f":"VLOOKUP(A3612,[1]Sheet1!$A$1:$C$65512,3,FALSE)","v":{"$error":"#N/A"}},null,null,"No info","линк","https://bg.toolsworld.com/search/?query=","https://bg.toolsworld.com/search/?query=814719"]
[814729,"Műanyag téglalap konstrukciós mosdó, ütésálló, 80 L//MTX",4130,"B","Active",{"$f":"VLOOKUP(A3613,[1]Sheet1!$A$1:$C$65512,3,FALSE)","v":766},null,null,"No info","линк","https://bg.toolsworld.com/search/?query=","https://bg.toolsworld.com/search/?query=814729"]
[820019,"Kerekfeju ecset Elite №18, természetes sörte, három komponensu nyél// MTX",487,"B","Active",{"$f":"VLOOKUP(A3614,[1]Sheet1!$A$1:$C$65512,3,FALSE)","v":39},null,null,"No info","линк","https://bg.toolsworld.com/search/?query=","https://bg.toolsworld.com/search/?query=820019"]
[820059,"Kerekfeju ecset Elite №25, természetes sörte, három komponensu nyél// MTX",770,"B","Active",{"$f":"VLOOKUP(A3615,[1]Sheet1!$A$1:$C$65512,3,FALSE)","v":{"$error":"#N/A"}},null,null,"No info","линк","https://bg.toolsworld.com/search/?query=","https://bg.toolsworld.com/search/?query=820059"]
[820459,"Kerekfeju ecset Profi ¹8 (35mm), természetes sörte, fa nyél//MTX",159,"B","Active",{"$f":"VLOOKUP(A3616,[1]Sheet1!$A$1:$C$65512,3,FALSE)","v":{"$error":"#N/A"}},null,null,"No info","линк","https://bg.toolsworld.com/search/?query=","https://bg.toolsworld.com/search/?query=820459"]
[820539,"Kerekfeju ecset Profi ¹16 (55mm), természetes sörte, fa nyél//MTX",485,"B","Active",{"$f":"VLOOKUP(A3617,[1]Sheet1!$A$1:$C$65512,3,FALSE)","v":{"$error":"#N/A"}},null,null,"No info","линк","https://bg.toolsworld.com/search/?query=","https://bg.toolsworld.com/search/?query=820539"]
[820729,"Kerekfeju ecset ¹2 (20mm), természetes sörte, fa nyél// MTX",92,"B","Active",{"$f":"VLOOKUP(A3618,[1]Sheet1!$A$1:$C$65512,3,FALSE)","v":2076},null,null,"No info","линк","https://bg.toolsworld.com/search/?query=","https://bg.toolsworld.com/search/?query=820729"]
[820749,"Kerekfeju ecset ¹4 (25 mm), természetes sörte, fa nyél// MTX",114,"B","Active",{"$f":"VLOOKUP(A3619,[1]Sheet1!$A$1:$C$65512,3,FALSE)","v":582},null,null,"No info","линк","https://bg.toolsworld.com/search/?query=","https://bg.toolsworld.com/search/?query=820749"]
[820769,"Kerekfeju ecset ¹6 (30 mm), természetes sörte, fa nyél// MTX",147,"B","Active",{"$f":"VLOOKUP(A3620,[1]Sheet1!$A$1:$C$65512,3,FALSE)","v":1000},null,null,"No info","линк","https://bg.toolsworld.com/search/?query=","https://bg.toolsworld.com/search/?query=820769"]
[820789,"Kerekfeju ecset ¹8 (35 mm), természetes sörte, fa nyél// MTX",196,"B","Active",{"$f":"VLOOKUP(A3621,[1]Sheet1!$A$1:$C$65512,3,FALSE)","v":133},null,null,"No info","линк","https://bg.toolsworld.com/search/?query=","https://bg.toolsworld.com/search/?query=820789"]
[820809,"Kerekfeju ecset ¹10 (40 mm), természetes sörte, fa nyél// MTX",232,"B","Active",{"$f":"VLOOKUP(A3622,[1]Sheet1!$A$1:$C$65512,3,FALSE)","v":684},null,null,"No info","линк","https://bg.toolsworld.com/search/?query=","https://bg.toolsworld.com/search/?query=820809"]
[820829,"Kerekfeju ecset ¹12 (45 mm), természetes sörte, fa nyél// MTX",354,"B","Active",{"$f":"VLOOKUP(A3623,[1]Sheet1!$A$1:$C$65512,3,FALSE)","v":180},null,null,"No info","линк","https://bg.toolsworld.com/search/?query=","https://bg.toolsworld.com/search/?query=820829"]
[820849,"Kerekfeju ecset ¹14 (50mm), természetes sörte, fa nyél// MTX",464,"B","Active",{"$f":"VLOOKUP(A3624,[1]Sheet1!$A$1:$C$65512,3,FALSE)","v":289},null,null,"No info","линк","https://bg.toolsworld.com/search/?query=","https://bg.toolsworld.com/search/?query=820849"]
[820869,"Kerekfeju ecset ¹16 (55mm), természetes sörte, fa nyél// MTX",601,"B","Active",{"$f":"VLOOKUP(A3625,[1]Sheet1!$A$1:$C$65512,3,FALSE)","v":354},null,null,"No info","линк","https://bg.toolsworld.com/search/?query=","https://bg.toolsworld.com/search/?query=820869"]
[820889,"Kerekfeju ecset ¹18 (60 mm), természetes sörte, fa nyél// MTX",654,"B","Active",{"$f":"VLOOKUP(A3626,[1]Sheet1!$A$1:$C$65512,3,FALSE)","v":182},null,null,"No info","линк","https://bg.toolsworld.com/search/?query=","https://bg.toolsworld.com/search/?query=820889"]
[824155,"Laposfeju ecset Slimline 3/4\", természetes sörte, fa nyél//SPARTA",51,"B","Active",{"$f":"VLOOKUP(A3627,[1]Sheet1!$A$1:$C$65512,3,FALSE)","v":393},null,null,"No info","линк","https://bg.toolsworld.com/search/?query=","https://bg.toolsworld.com/search/?query=824155"]
[824205,"Laposfeju ecset Slimline 1\", természetes sörte, fa nyél//SPARTA",79,"B","Active",{"$f":"VLOOKUP(A3628,[1]Sheet1!$A$1:$C$65512,3,FALSE)","v":273},null,null,"No info",{"$f":"HYPERLINK(L3628,\"линк\")","v":"линк"},"https://bg.toolsworld.com/search/?query=","https://bg.toolsworld.com/search/?query=824205"]
[824255,"Laposfeju ecset Slimline 1,5\", természetes sörte, fa nyél//SPARTA",96,"B","Active",{"$f":"VLOOKUP(A3629,[1]Sheet1!$A$1:$C$65512,3,FALSE)","v":490},null,null,"No info","линк","https://bg.toolsworld.com/search/?query=","https://bg.toolsworld.com/search/?query=824255"]
[824305,"Lapos kefe Slimline 2\" (50mm), természetes sörtéjű, fa nyéllel// Sparta",134,"B","Active",{"$f":"VLOOKUP(A3630,[1]Sheet1!$A$1:$C$65512,3,FALSE)","v":{"$error":"#N/A"}},null,null,"No info","линк","https://bg.toolsworld.com/search/?query=","https://bg.toolsworld.com/search/?query=824305"]
[824355,"Lapos kefe Slimline 2,5\" (63mm), természetes sörtéjű, fa nyéllel// Sparta",169,"B","Active",{"$f":"VLOOKUP(A3631,[1]Sheet1!$A$1:$C$65512,3,FALSE)","v":639},null,null,"No info","линк","https://bg.toolsworld.com/search/?query=","https://bg.toolsworld.com/search/?query=824355"]
[824455,"Laposfeju ecset Slimline 4\", természetes sörte, fa nyél//SPARTA",271,"B","Active",{"$f":"VLOOKUP(A3632,[1]Sheet1!$A$1:$C$65512,3,FALSE)","v":244},null,null,"No info","линк","https://bg.toolsworld.com/search/?query=",{"$f":"CONCATENATE(K3632,A3632)","v":"https://bg.toolsworld.com/search/?query=824455"}]
[825159,"Laposfeju ecset \"Standard\", 3/4\", természetes sörte, fa nyél// MTX",75,"B","Active",{"$f":"VLOOKUP(A3633,[1]Sheet1!$A$1:$C$65512,3,FALSE)","v":2667},null,null,"No info","линк","https://bg.toolsworld.com/search/?query=","https://bg.toolsworld.com/search/?query=825159"]
[825209,"Laposfeju ecset \"Standard\", 1\", természetes sörte, fa nyél// MTX",83,"B","Active",{"$f":"VLOOKUP(A3634,[1]Sheet1!$A$1:$C$65512,3,FALSE)","v":2461},null,null,"No info","линк","https://bg.toolsworld.com/search/?query=","https://bg.toolsworld.com/search/?query=825209"]
[825259,"Laposfeju ecset \"Standard\", 1,5\", természetes sörte, fa nyél// MTX",128,"B","Active",{"$f":"VLOOKUP(A3635,[1]Sheet1!$A$1:$C$65512,3,FALSE)","v":2936},null,null,"No info","линк","https://bg.toolsworld.com/search/?query=","https://bg.toolsworld.com/search/?query=825259"]
[825309,"Laposfeju ecset \"Standard\", 2\", természetes sörte, fa nyél// MTX",157,"B","Active",{"$f":"VLOOKUP(A3636,[1]Sheet1!$A$1:$C$65512,3,FALSE)","v":877},null,null,"No info","линк","https://bg.toolsworld.com/search/?query=","https://bg.toolsworld.com/search/?query=825309"]
[825359,"Laposfeju ecset \"Standard\", 2,5\", természetes sörte, fa nyél// MTX",196,"B","Active",{"$f":"VLOOKUP(A3637,[1]Sheet1!$A$1:$C$65512,3,FALSE)","v":1953},null,null,"No info","линк","https://bg.toolsworld.com/search/?query=","https://bg.toolsworld.com/search/?query=825359"]
[825409,"Laposfeju ecset \"Standard\", 3\", természetes sörte, fa nyél// MTX",261,"B","Active",{"$f":"VLOOKUP(A3638,[1]Sheet1!$A$1:$C$65512,3,FALSE)","v":51},null,null,"No info","линк","https://bg.toolsworld.com/search/?query=","https://bg.toolsworld.com/search/?query=825409"]
[825459,"Laposfeju ecset \"Standard\", 4\", természetes sörte, fa nyél// MTX",466,"B","Active",{"$f":"VLOOKUP(A3639,[1]Sheet1!$A$1:$C$65512,3,FALSE)","v":908},null,null,"No info","линк","https://bg.toolsworld.com/search/?query=","https://bg.toolsworld.com/search/?query=825459"]
[827059,"Laposfeju ecset \"Elite\" 4\", természetes sörte, három komponensu nyél// MTX",2191,"B","Active",{"$f":"VLOOKUP(A3640,[1]Sheet1!$A$1:$C$65512,3,FALSE)","v":103},null,null,"No info","линк","https://bg.toolsworld.com/search/?query=","https://bg.toolsworld.com/search/?query=827059"]
[830509,"Lapos kefe \"Euro\" 3/4\", natúr sörtéjű, fa nyél// MTX",104,"B","Active",{"$f":"VLOOKUP(A3641,[1]Sheet1!$A$1:$C$65512,3,FALSE)","v":1729},null,null,"No info","линк","https://bg.toolsworld.com/search/?query=","https://bg.toolsworld.com/search/?query=830509"]
[830519,"Lapos kefe \"Euro\" 1\" ,natúr sörtéjű, fa nyél// MTX",140,"B","Active",{"$f":"VLOOKUP(A3642,[1]Sheet1!$A$1:$C$65512,3,FALSE)","v":1318},null,null,"No info","линк","https://bg.toolsworld.com/search/?query=","https://bg.toolsworld.com/search/?query=830519"]
[830529,"Lapos kefe \"Euro\" 1,5\", natúr sörtéjű, fa nyél// MTX",196,"B","Active",{"$f":"VLOOKUP(A3643,[1]Sheet1!$A$1:$C$65512,3,FALSE)","v":1691},null,null,"No info","линк","https://bg.toolsworld.com/search/?query=","https://bg.toolsworld.com/search/?query=830529"]
[830539,"Lapos kefe \"Euro\" 2\", natúr sörtéjű, fa nyél// MTX",287,"B","Active",{"$f":"VLOOKUP(A3644,[1]Sheet1!$A$1:$C$65512,3,FALSE)","v":3228},null,null,"No info","линк","https://bg.toolsworld.com/search/?query=","https://bg.toolsworld.com/search/?query=830539"]
[830549,"Lapos kefe \"Euro\" 2,5\", natúr sörtéjű, fa nyél// MTX",387,"B","Active",{"$f":"VLOOKUP(A3645,[1]Sheet1!$A$1:$C$65512,3,FALSE)","v":692},null,null,"No info","линк","https://bg.toolsworld.com/search/?query=","https://bg.toolsworld.com/search/?query=830549"]
[830569,"Laposfeju ecset \"Euro\" 3\", természetes sörte, fa nyél// MTX",476,"B","Active",{"$f":"VLOOKUP(A3646,[1]Sheet1!$A$1:$C$65512,3,FALSE)","v":655},null,null,"No info","линк","https://bg.toolsworld.com/search/?query=","https://bg.toolsworld.com/search/?query=830569"]
[830579,"Laposfeju ecset \"Euro\" 4\", természetes sörte, fa nyél// MTX",924,"B","Active",{"$f":"VLOOKUP(A3647,[1]Sheet1!$A$1:$C$65512,3,FALSE)","v":467},null,null,"No info","линк","https://bg.toolsworld.com/search/?query=","https://bg.toolsworld.com/search/?query=830579"]
[830609,"Laposfeju ecset \"Euro\" 3/4\", természetes sörte, muanyag nyél// MTX",114,"B","Active",{"$f":"VLOOKUP(A3648,[1]Sheet1!$A$1:$C$65512,3,FALSE)","v":1542},null,null,"No info","линк","https://bg.toolsworld.com/search/?query=","https://bg.toolsworld.com/search/?query=830609"]
[830619,"Laposfeju ecset \"Euro\" 1\", természetes sörte, muanyag nyél// MTX",132,"B","Active",{"$f":"VLOOKUP(A3649,[1]Sheet1!$A$1:$C$65512,3,FALSE)","v":782},null,null,"No info","линк","https://bg.toolsworld.com/search/?query=","https://bg.toolsworld.com/search/?query=830619"]
[830629,"Laposfeju ecset \"Euro\" 1,5\", természetes sörte, muanyag nyél// MTX",179,"B","Active",{"$f":"VLOOKUP(A3650,[1]Sheet1!$A$1:$C$65512,3,FALSE)","v":2170},null,null,"No info","линк","https://bg.toolsworld.com/search/?query=","https://bg.toolsworld.com/search/?query=830629"]
[830639,"Laposfeju ecset \"Euro\" 2\", természetes sörte, muanyag nyél// MTX",257,"B","Active",{"$f":"VLOOKUP(A3651,[1]Sheet1!$A$1:$C$65512,3,FALSE)","v":1623},null,null,"No info","линк","https://bg.toolsworld.com/search/?query=","https://bg.toolsworld.com/search/?query=830639"]
[830649,"Laposfeju ecset \"Euro\" 2,5\", természetes sörte, muanyag nyél// MTX",371,"B","Active",{"$f":"VLOOKUP(A3652,[1]Sheet1!$A$1:$C$65512,3,FALSE)","v":1167},null,null,"No info","линк","https://bg.toolsworld.com/search/?query=","https://bg.toolsworld.com/search/?query=830649"]
[830669,"Laposfeju ecset \"Euro\" 3\", természetes sörte, muanyag nyél// MTX",609,"B","Active",{"$f":"VLOOKUP(A3653,[1]Sheet1!$A$1:$C$65512,3,FALSE)","v":894},null,null,"No info","линк","https://bg.toolsworld.com/search/?query=","https://bg.toolsworld.com/search/?query=830669"]
[830679,"Laposfeju ecset \"Euro\" 4\", természetes sörte, muanyag nyél// MTX",670,"B","Active",{"$f":"VLOOKUP(A3654,[1]Sheet1!$A$1:$C$65512,3,FALSE)","v":626},null,null,"No info","линк","https://bg.toolsworld.com/search/?query=","https://bg.toolsworld.com/search/?query=830679"]
[831509,"Laposfeju ecset \"Profi\" 1 \", természetes sörte, fa nyél// MTX",157,"B","Active",{"$f":"VLOOKUP(A3655,[1]Sheet1!$A$1:$C$65512,3,FALSE)","v":942},null,null,"No info","линк","https://bg.toolsworld.com/search/?query=","https://bg.toolsworld.com/search/?query=831509"]
[831519,"Lapos ecset \"Profi\" 1.5 \", természetes sörte, fa nyél// MTX",250,"B","Active",{"$f":"VLOOKUP(A3656,[1]Sheet1!$A$1:$C$65512,3,FALSE)","v":296},null,null,"No info","линк","https://bg.toolsworld.com/search/?query=","https://bg.toolsworld.com/search/?query=831519"]
[831529,"Lapos ecset \"Profi\" 2\", természetes sörte, fa nyél// MTX",330,"B","Active",{"$f":"VLOOKUP(A3657,[1]Sheet1!$A$1:$C$65512,3,FALSE)","v":559},null,null,"No info","линк","https://bg.toolsworld.com/search/?query=","https://bg.toolsworld.com/search/?query=831529"]
[831539,"Lapos ecset \"Profi\" 2.5\", természetes sörte, fa nyél// MTX",481,"B","Active",{"$f":"VLOOKUP(A3658,[1]Sheet1!$A$1:$C$65512,3,FALSE)","v":342},null,null,"No info","линк","https://bg.toolsworld.com/search/?query=","https://bg.toolsworld.com/search/?query=831539"]
[831549,"Lapos ecset \"Profi\" 3\", természetes sörte, fa nyél// MTX",692,"B","Active",{"$f":"VLOOKUP(A3659,[1]Sheet1!$A$1:$C$65512,3,FALSE)","v":155},null,null,"No info","линк","https://bg.toolsworld.com/search/?query=","https://bg.toolsworld.com/search/?query=831549"]
[831559,"Laposfeju ecset \"Profi\" 4\", természetes sörte, fa nyél// MTX",945,"B","Active",{"$f":"VLOOKUP(A3660,[1]Sheet1!$A$1:$C$65512,3,FALSE)","v":257},null,null,"No info","линк","https://bg.toolsworld.com/search/?query=","https://bg.toolsworld.com/search/?query=831559"]
[831609,"Lapos kefe \"Profi\" 1\", természetes sörtéjű, műanyag nyél// MTX",147,"B","Active",{"$f":"VLOOKUP(A3661,[1]Sheet1!$A$1:$C$65512,3,FALSE)","v":38},null,null,"No info","линк","https://bg.toolsworld.com/search/?query=","https://bg.toolsworld.com/search/?query=831609"]
[831619,"Lapos kefe \"Profi\" 1,5\", natúr sörtéjű, műanyag nyél// MTX",244,"B","Active",{"$f":"VLOOKUP(A3662,[1]Sheet1!$A$1:$C$65512,3,FALSE)","v":86},null,null,"No info","линк","https://bg.toolsworld.com/search/?query=","https://bg.toolsworld.com/search/?query=831619"]
[831629,"Lapos kefe \"Profi\" 2\", natúr sörtéjű, műanyag nyél// MTX",283,"B","Active",{"$f":"VLOOKUP(A3663,[1]Sheet1!$A$1:$C$65512,3,FALSE)","v":325},null,null,"No info","линк","https://bg.toolsworld.com/search/?query=","https://bg.toolsworld.com/search/?query=831629"]
[831639,"Lapos kefe \"Profi\" 2,5\", natúr sörtéjű, műanyag nyél// MTX",391,"B","Active",{"$f":"VLOOKUP(A3664,[1]Sheet1!$A$1:$C$65512,3,FALSE)","v":{"$error":"#N/A"}},null,null,"No info","линк","https://bg.toolsworld.com/search/?query=","https://bg.toolsworld.com/search/?query=831639"]
[831649,"Lapos kefe \"Profi\" 3\", natúr sörtéjű, műanyag nyél// MTX",544,"B","Active",{"$f":"VLOOKUP(A3665,[1]Sheet1!$A$1:$C$65512,3,FALSE)","v":{"$error":"#N/A"}},null,null,"No info","линк","https://bg.toolsworld.com/search/?query=","https://bg.toolsworld.com/search/?query=831649"]
[831659,"Lapos kefe \"Profi\" 4\", natúr sörtéjű, műanyag nyél// MTX",621,"B","Active",{"$f":"VLOOKUP(A3666,[1]Sheet1!$A$1:$C$65512,3,FALSE)","v":4},null,null,"No info","линк","https://bg.toolsworld.com/search/?query=","https://bg.toolsworld.com/search/?query=831659"]
[833509,"Mázoló laposfeju ecset, 25*10 mm// MTX SZÍNu Line",216,"B","Active",{"$f":"VLOOKUP(A3667,[1]Sheet1!$A$1:$C$65512,3,FALSE)","v":211},null,null,"No info","линк","https://bg.toolsworld.com/search/?query=","https://bg.toolsworld.com/search/?query=833509"]
[833519,"Mázoló laposfeju ecset, 35*10 mm// MTX SZÍNu Line",281,"B","Active",{"$f":"VLOOKUP(A3668,[1]Sheet1!$A$1:$C$65512,3,FALSE)","v":514},null,null,"No info","линк","https://bg.toolsworld.com/search/?query=","https://bg.toolsworld.com/search/?query=833519"]
[833529,"Mázoló laposfeju ecset, 50*12 mm// MTX SZÍNu Line",442,"B","Active",{"$f":"VLOOKUP(A3669,[1]Sheet1!$A$1:$C$65512,3,FALSE)","v":721},null,null,"No info","линк","https://bg.toolsworld.com/search/?query=","https://bg.toolsworld.com/search/?query=833529"]
[833539,"Mázoló laposfeju ecset, 70*12 mm// MTX SZÍNu Line",623,"B","Active",{"$f":"VLOOKUP(A3670,[1]Sheet1!$A$1:$C$65512,3,FALSE)","v":650},null,null,"No info","линк","https://bg.toolsworld.com/search/?query=","https://bg.toolsworld.com/search/?query=833539"]
[833549,"Mázoló laposfeju ecset, 100*12 mm// MTX SZÍNu Line",1124,"B","Active",{"$f":"VLOOKUP(A3671,[1]Sheet1!$A$1:$C$65512,3,FALSE)","v":225},null,null,"No info","линк","https://bg.toolsworld.com/search/?query=","https://bg.toolsworld.com/search/?query=833549"]
[833579,"Mázoló kisfeju ecset, 35*10 mm// MTX SZÍNu Line",428,"B","Active",{"$f":"VLOOKUP(A3672,[1]Sheet1!$A$1:$C$65512,3,FALSE)","v":299},null,null,"No info","линк","https://bg.toolsworld.com/search/?query=","https://bg.toolsworld.com/search/?query=833579"]
[833589,"Mázoló kisfeju ecset, 50*12 mm// MTX SZÍNu Line",591,"B","Active",{"$f":"VLOOKUP(A3673,[1]Sheet1!$A$1:$C$65512,3,FALSE)","v":75},null,null,"No info","линк","https://bg.toolsworld.com/search/?query=","https://bg.toolsworld.com/search/?query=833589"]
[833619,"Fényezo laposfeju ecset, 25*10 mm// MTX SZÍNu Line",165,"B","Active",{"$f":"VLOOKUP(A3674,[1]Sheet1!$A$1:$C$65512,3,FALSE)","v":588},null,null,"No info","линк","https://bg.toolsworld.com/search/?query=","https://bg.toolsworld.com/search/?query=833619"]
[833719,"Laposfeju ecset fa kezeléséhez, 25*10 mm// MTX SZÍNu Line",169,"B","Active",{"$f":"VLOOKUP(A3675,[1]Sheet1!$A$1:$C$65512,3,FALSE)","v":882},null,null,"No info","линк","https://bg.toolsworld.com/search/?query=","https://bg.toolsworld.com/search/?query=833719"]
[833729,"Laposfeju ecset fa kezeléséhez, 35*10 mm// MTX SZÍNu Line",224,"B","Active",{"$f":"VLOOKUP(A3676,[1]Sheet1!$A$1:$C$65512,3,FALSE)","v":191},null,null,"No info","линк","https://bg.toolsworld.com/search/?query=","https://bg.toolsworld.com/search/?query=833729"]
[833739,"Laposfeju ecset fa kezeléséhez, 50*12 mm// MTX SZÍNu Line",479,"B","Active",{"$f":"VLOOKUP(A3677,[1]Sheet1!$A$1:$C$65512,3,FALSE)","v":249},null,null,"No info","линк","https://bg.toolsworld.com/search/?query=","https://bg.toolsworld.com/search/?query=833739"]
[833759,"Laposfeju ecset fa kezeléséhez, 70*12 mm// MTX SZÍNu Line",705,"B","Active",{"$f":"VLOOKUP(A3678,[1]Sheet1!$A$1:$C$65512,3,FALSE)","v":662},null,null,"No info","линк","https://bg.toolsworld.com/search/?query=","https://bg.toolsworld.com/search/?query=833759"]
[833769,"Laposfeju ecset fa kezeléséhez, 100*12 mm// MTX SZÍNu Line",1146,"B","Active",{"$f":"VLOOKUP(A3679,[1]Sheet1!$A$1:$C$65512,3,FALSE)","v":432},null,null,"No info","линк","https://bg.toolsworld.com/search/?query=","https://bg.toolsworld.com/search/?query=833769"]
[833779,"Laposfeju ecset fa kezeléséhez, 120*25 mm// MTX SZÍNu Line",1381,"B","Active",{"$f":"VLOOKUP(A3680,[1]Sheet1!$A$1:$C$65512,3,FALSE)","v":{"$error":"#N/A"}},null,null,"No info","линк","https://bg.toolsworld.com/search/?query=","https://bg.toolsworld.com/search/?query=833779"]
[833789,"Laposfeju ecset fa kezeléséhez, 120*35 mm// MTX SZÍNu Line",1763,"B","Active",{"$f":"VLOOKUP(A3681,[1]Sheet1!$A$1:$C$65512,3,FALSE)","v":49},null,null,"No info","линк","https://bg.toolsworld.com/search/?query=","https://bg.toolsworld.com/search/?query=833789"]
[833829,"Laposfeju ecset vízbázisú festékekhez, 35*12 mm// MTX SZÍNu Line",307,"B","Active",{"$f":"VLOOKUP(A3682,[1]Sheet1!$A$1:$C$65512,3,FALSE)","v":162},null,null,"No info","линк","https://bg.toolsworld.com/search/?query=","https://bg.toolsworld.com/search/?query=833829"]
[833869,"Laposfeju ecset vízbázisú festékekhez, 100*17 mm// MTX SZÍNu Line",1261,"B","Active",{"$f":"VLOOKUP(A3683,[1]Sheet1!$A$1:$C$65512,3,FALSE)","v":235},null,null,"No info","линк","https://bg.toolsworld.com/search/?query=","https://bg.toolsworld.com/search/?query=833869"]
[833879,"Laposfeju ecset vízbázisú festékekhez, 120*25 mm// MTX SZÍNu Line",1843,"B","Active",{"$f":"VLOOKUP(A3684,[1]Sheet1!$A$1:$C$65512,3,FALSE)","v":54},null,null,"No info","линк","https://bg.toolsworld.com/search/?query=","https://bg.toolsworld.com/search/?query=833879"]
[833889,"Laposfeju ecset vízbázisú festékekhez, 120*35 mm// MTX SZÍNu Line",1884,"B","Active",{"$f":"VLOOKUP(A3685,[1]Sheet1!$A$1:$C$65512,3,FALSE)","v":200},null,null,"No info","линк","https://bg.toolsworld.com/search/?query=","https://bg.toolsworld.com/search/?query=833889"]
[833929,"Homlokzati laposfeju ecset, 100*12 mm// MTX SZÍNu Line",692,"B","Active",{"$f":"VLOOKUP(A3686,[1]Sheet1!$A$1:$C$65512,3,FALSE)","v":149},null,null,"No info","линк","https://bg.toolsworld.com/search/?query=","https://bg.toolsworld.com/search/?query=833929"]
[833969,"Homlokzati falfesto ecset 65mm// MTX SZÍNu Line",1708,"B","Active",{"$f":"VLOOKUP(A3687,[1]Sheet1!$A$1:$C$65512,3,FALSE)","v":121},null,null,"No info","линк","https://bg.toolsworld.com/search/?query=","https://bg.toolsworld.com/search/?query=833969"]
[833979,"Homlokzati falfesto ecset 80 mm// MTX SZÍNu Line",2081,"B","Active",{"$f":"VLOOKUP(A3688,[1]Sheet1!$A$1:$C$65512,3,FALSE)","v":{"$error":"#N/A"}},null,null,"No info","линк","https://bg.toolsworld.com/search/?query=","https://bg.toolsworld.com/search/?query=833979"]
[838409,"Radiátor ecset 1 \", természetes sörte fa nyéllel// MTX",126,"B","Active",{"$f":"VLOOKUP(A3689,[1]Sheet1!$A$1:$C$65512,3,FALSE)","v":767},null,null,"No info","линк","https://bg.toolsworld.com/search/?query=","https://bg.toolsworld.com/search/?query=838409"]
[838439,"Radiátor ecset 1,5 \", természetes sörte fa nyéllel// MTX",181,"B","Active",{"$f":"VLOOKUP(A3690,[1]Sheet1!$A$1:$C$65512,3,FALSE)","v":415},null,null,"No info","линк","https://bg.toolsworld.com/search/?query=","https://bg.toolsworld.com/search/?query=838439"]
[838499,"Radiátor ecset 2,5 \", természetes sörte fa nyéllel// MTX",310,"B","Active",{"$f":"VLOOKUP(A3691,[1]Sheet1!$A$1:$C$65512,3,FALSE)","v":206},null,null,"No info","линк","https://bg.toolsworld.com/search/?query=","https://bg.toolsworld.com/search/?query=838499"]
[840849,"Véglegesíto ecset, 140 x 52 mm, szintetikus sörte, fa, muanyag nyél// MTX",417,"B","Active",{"$f":"VLOOKUP(A3692,[1]Sheet1!$A$1:$C$65512,3,FALSE)","v":215},null,null,"No info",{"$f":"HYPERLINK(L3692,\"линк\")","v":"линк"},"https://bg.toolsworld.com/search/?query=","https://bg.toolsworld.com/search/?query=840849"]
[840869,"Véglegesíto ecset, 170 x 70 mm, szintetikus sörte, fa, muanyag nyél// MTX",584,"B","Active",{"$f":"VLOOKUP(A3693,[1]Sheet1!$A$1:$C$65512,3,FALSE)","v":1041},null,null,"No info","линк","https://bg.toolsworld.com/search/?query=","https://bg.toolsworld.com/search/?query=840869"]
[840889,"Véglegesíto ecset, 150 x 70 mm, szintetikus sörte, fa, muanyag nyél// MTX",544,"B","Active",{"$f":"VLOOKUP(A3694,[1]Sheet1!$A$1:$C$65512,3,FALSE)","v":997},null,null,"No info","линк","https://bg.toolsworld.com/search/?query=","https://bg.toolsworld.com/search/?query=840889"]
[841015,"Véglegesíto ecset, 30 x 70 mm, természetes sörte, muanyag tok, muanyag nyél//SPARTA",442,"B","Active",{"$f":"VLOOKUP(A3695,[1]Sheet1!$A$1:$C$65512,3,FALSE)","v":{"$error":"#N/A"}},null,null,"No info","линк","https://bg.toolsworld.com/search/?query=","https://bg.toolsworld.com/search/?query=841015"]
[841025,"Véglegesíto ecset, 30 x 100 mm, természetes sörte, muanyag tok, muanyag nyél//SPARTA",476,"B","Active",{"$f":"VLOOKUP(A3696,[1]Sheet1!$A$1:$C$65512,3,FALSE)","v":{"$error":"#N/A"}},null,null,"No info","линк","https://bg.toolsworld.com/search/?query=",{"$f":"CONCATENATE(K3696,A3696)","v":"https://bg.toolsworld.com/search/?query=841025"}]
[841055,"Véglegesíto ecset, 50 x 150 mm, természetes sörte, muanyag tok, muanyag nyél//SPARTA",1039,"B","Active",{"$f":"VLOOKUP(A3697,[1]Sheet1!$A$1:$C$65512,3,FALSE)","v":{"$error":"#N/A"}},null,null,"No info","линк","https://bg.toolsworld.com/search/?query=","https://bg.toolsworld.com/search/?query=841055"]
[841065,"Véglegesíto ecset, 50 x 140 mm, természetes sörte, muanyag tok, muanyag nyél//SPARTA",986,"B","Active",{"$f":"VLOOKUP(A3698,[1]Sheet1!$A$1:$C$65512,3,FALSE)","v":{"$error":"#N/A"}},null,null,"No info","линк","https://bg.toolsworld.com/search/?query=","https://bg.toolsworld.com/search/?query=841065"]
[841109,"Véglegesíto ecset, lekerekített-form, szintetikus sörte, muanyag tok, muanyag nyél// MTX",790,"B","Active",{"$f":"VLOOKUP(A3699,[1]Sheet1!$A$1:$C$65512,3,FALSE)","v":{"$error":"#N/A"}},null,null,"No info","линк","https://bg.toolsworld.com/search/?query=","https://bg.toolsworld.com/search/?query=841109"]
[841135,"4 db-os ecsetkészlet ( Laposfeju ecsetek: 3/4\", 1/5\"; Kerekfeju ecsetek: ¹1, ¹2)//SPARTA",356,"B","Active",{"$f":"VLOOKUP(A3700,[1]Sheet1!$A$1:$C$65512,3,FALSE)","v":" "},null,null,"No info","линк","https://bg.toolsworld.com/search/?query=","https://bg.toolsworld.com/search/?query=841135"]
[841145,"Ecsetkészlet (Laposfeju ecsetek: 3/4'', 1'', 1/5; Kerekfeju ecsetek: ¹1, ¹2, ¹4), 6 db// SPARTA",589,"B","Active",{"$f":"VLOOKUP(A3701,[1]Sheet1!$A$1:$C$65512,3,FALSE)","v":266},null,null,"No info","линк","https://bg.toolsworld.com/search/?query=","https://bg.toolsworld.com/search/?query=841145"]
[841155,"Ecsetkészlet (Laposfeju ecsetek: 3/4\"-2\"; Kerekfeju ecsetek: ¹2,4; Radiátor: 1\", 1,5\"; olajfestékhez ¹2, 6)// SPARTA",1053,"B","Active",{"$f":"VLOOKUP(A3702,[1]Sheet1!$A$1:$C$65512,3,FALSE)","v":{"$error":"#N/A"}},null,null,"No info","линк","https://bg.toolsworld.com/search/?query=","https://bg.toolsworld.com/search/?query=841155"]
[841209,"Véglegesíto ecset, 30 x 70 mm, természetes sörte, muanyag tok, muanyag nyél// MTX",393,"B","Active",{"$f":"VLOOKUP(A3703,[1]Sheet1!$A$1:$C$65512,3,FALSE)","v":229},null,null,"No info","линк","https://bg.toolsworld.com/search/?query=","https://bg.toolsworld.com/search/?query=841209"]
[841219,"Véglegesíto ecset, 30 x 100 mm, természetes sörte, muanyag tok, muanyag nyél// MTX",507,"B","Active",{"$f":"VLOOKUP(A3704,[1]Sheet1!$A$1:$C$65512,3,FALSE)","v":143},null,null,"No info","линк","https://bg.toolsworld.com/search/?query=","https://bg.toolsworld.com/search/?query=841219"]
[841229,"Véglegesíto ecset, 30 x 120 mm, természetes sörte, muanyag tok, muanyag nyél// MTX",611,"B","Active",{"$f":"VLOOKUP(A3705,[1]Sheet1!$A$1:$C$65512,3,FALSE)","v":166},null,null,"No info","линк","https://bg.toolsworld.com/search/?query=","https://bg.toolsworld.com/search/?query=841229"]
[841239,"Véglegesíto ecset, 40 x 140 mm, természetes sörte, muanyag tok, muanyag nyél// MTX",1020,"B","Active",{"$f":"VLOOKUP(A3706,[1]Sheet1!$A$1:$C$65512,3,FALSE)","v":113},null,null,"No info","линк","https://bg.toolsworld.com/search/?query=","https://bg.toolsworld.com/search/?query=841239"]
[841249,"Véglegesíto ecset, 50 x 150 mm, természetes sörte, muanyag tok, muanyag nyél// MTX",1375,"B","Active",{"$f":"VLOOKUP(A3707,[1]Sheet1!$A$1:$C$65512,3,FALSE)","v":19},null,null,"No info","линк","https://bg.toolsworld.com/search/?query=","https://bg.toolsworld.com/search/?query=841249"]
[841259,"Véglegesíto ecset, 30 x 70 mm, szintetikus sörte, muanyag tok, muanyag nyél// MTX",326,"B","Active",{"$f":"VLOOKUP(A3708,[1]Sheet1!$A$1:$C$65512,3,FALSE)","v":184},null,null,"No info","линк","https://bg.toolsworld.com/search/?query=","https://bg.toolsworld.com/search/?query=841259"]
[841269,"Véglegesíto ecset, 30 x 100 mm, szintetikus sörte, muanyag tok, muanyag nyél// MTX",399,"B","Active",{"$f":"VLOOKUP(A3709,[1]Sheet1!$A$1:$C$65512,3,FALSE)","v":115},null,null,"No info","линк","https://bg.toolsworld.com/search/?query=","https://bg.toolsworld.com/search/?query=841269"]
[841279,"Véglegesíto ecset, 30 x 120 mm, szintetikus sörte, muanyag tok, muanyag nyél// MTX",497,"B","Active",{"$f":"VLOOKUP(A3710,[1]Sheet1!$A$1:$C$65512,3,FALSE)","v":231},null,null,"No info","линк","https://bg.toolsworld.com/search/?query=","https://bg.toolsworld.com/search/?query=841279"]
[841289,"Véglegesíto ecset, 40 x 140 mm, szintetikus sörte, muanyag tok, muanyag nyél// MTX",756,"B","Active",{"$f":"VLOOKUP(A3711,[1]Sheet1!$A$1:$C$65512,3,FALSE)","v":455},null,null,"No info","линк","https://bg.toolsworld.com/search/?query=","https://bg.toolsworld.com/search/?query=841289"]
[841299,"Véglegesíto ecset, 50 x 150 mm, szintetikus sörte, muanyag tok, muanyag nyél// MTX",957,"B","Active",{"$f":"VLOOKUP(A3712,[1]Sheet1!$A$1:$C$65512,3,FALSE)","v":86},null,null,"No info","линк","https://bg.toolsworld.com/search/?query=","https://bg.toolsworld.com/search/?query=841299"]
[844049,"Festohenger készlet \"Greytex\" set 180mm, fenyo 12mm,D 40mm,poliakril, és kuvetta 260*320mm // MTX/Ð",1548,"B","Active",{"$f":"VLOOKUP(A3713,[1]Sheet1!$A$1:$C$65512,3,FALSE)","v":219},null,null,"No info","линк","https://bg.toolsworld.com/search/?query=","https://bg.toolsworld.com/search/?query=844049"]
[844069,"Festohenger készlet \"szintex\" 180mm, fenyo 18mm, D 40mm, poliakril, és kuvetta 260*320mm // MTX",1645,"B","Active",{"$f":"VLOOKUP(A3714,[1]Sheet1!$A$1:$C$65512,3,FALSE)","v":117},null,null,"No info","линк","https://bg.toolsworld.com/search/?query=","https://bg.toolsworld.com/search/?query=844069"]
[844079,"Festohenger készlet \"szintex\" 250mm, fenyo 18mm, D 40mm, poliakril, és kuvetta 330*350mm // MTX",2264,"B","Active",{"$f":"VLOOKUP(A3715,[1]Sheet1!$A$1:$C$65512,3,FALSE)","v":34},null,null,"No info","линк","https://bg.toolsworld.com/search/?query=","https://bg.toolsworld.com/search/?query=844079"]
[846659,"Tapéta ecset 300 mm//MTX",1073,"B","Active",{"$f":"VLOOKUP(A3716,[1]Sheet1!$A$1:$C$65512,3,FALSE)","v":128},null,null,"No info","линк","https://bg.toolsworld.com/search/?query=","https://bg.toolsworld.com/search/?query=846659"]
[848289,"Horganyzott acél keverőlapát, D 120mm, L 600mm, homok és kavics keverékekhez, szár SDS+// MTX",1623,"B","Active",{"$f":"VLOOKUP(A3717,[1]Sheet1!$A$1:$C$65512,3,FALSE)","v":{"$error":"#N/A"}},null,null,"No info","линк","https://bg.toolsworld.com/search/?query=","https://bg.toolsworld.com/search/?query=848289"]
[848329,"Fuggoón, kúp alakú 200g 5 m-es vezetékkel// MTX",621,"B","Active",{"$f":"VLOOKUP(A3718,[1]Sheet1!$A$1:$C$65512,3,FALSE)","v":467},null,null,"No info","линк","https://bg.toolsworld.com/search/?query=","https://bg.toolsworld.com/search/?query=848329"]
[848339,"Fuggoón, kúp alakú 300g 5 m-es vezetékkel// MTX",819,"B","Active",{"$f":"VLOOKUP(A3719,[1]Sheet1!$A$1:$C$65512,3,FALSE)","v":358},null,null,"No info","линк","https://bg.toolsworld.com/search/?query=","https://bg.toolsworld.com/search/?query=848339"]
[848349,"Fuggoón, kúp alakú 400g 5 m-es vezetékkel// MTX",1087,"B","Active",{"$f":"VLOOKUP(A3720,[1]Sheet1!$A$1:$C$65512,3,FALSE)","v":{"$error":"#N/A"}},null,null,"No info","линк","https://bg.toolsworld.com/search/?query=","https://bg.toolsworld.com/search/?query=848349"]
[848429,"Keverőlapát gipszkeveréshez, 100x590 mm, horganyzott, hatszögletű szár 8 mm// MTX",1098,"B","Active",{"$f":"VLOOKUP(A3721,[1]Sheet1!$A$1:$C$65512,3,FALSE)","v":{"$error":"#N/A"}},null,null,"No info","линк","https://bg.toolsworld.com/search/?query=","https://bg.toolsworld.com/search/?query=848429"]
[848515,"Kicsapó zsinór, 15 m., muanyag tartódoboz// SPARTA",562,"B","Active",{"$f":"VLOOKUP(A3722,[1]Sheet1!$A$1:$C$65512,3,FALSE)","v":168},null,null,"No info","линк","https://bg.toolsworld.com/search/?query=","https://bg.toolsworld.com/search/?query=848515"]
[848559,"Kicsapó zsinór  muanyag gumírozott tartódobozban + piros festék// MTX",1409,"B","Active",{"$f":"VLOOKUP(A3723,[1]Sheet1!$A$1:$C$65512,3,FALSE)","v":291},null,null,"No info","линк","https://bg.toolsworld.com/search/?query=","https://bg.toolsworld.com/search/?query=848559"]
[848579,"Festék piros 50g kicsapó zsinórhoz// MTX",261,"B","Active",{"$f":"VLOOKUP(A3724,[1]Sheet1!$A$1:$C$65512,3,FALSE)","v":75},null,null,"No info","линк","https://bg.toolsworld.com/search/?query=","https://bg.toolsworld.com/search/?query=848579"]
[848589,"Festék piros 115g kicsapó zsinórhoz// MTX",393,"B","Active",{"$f":"VLOOKUP(A3725,[1]Sheet1!$A$1:$C$65512,3,FALSE)","v":657},null,null,"No info","линк","https://bg.toolsworld.com/search/?query=","https://bg.toolsworld.com/search/?query=848589"]
[848609,"Festék kék 115g kicsapó zsinórhoz// MTX",393,"B","Active",{"$f":"VLOOKUP(A3726,[1]Sheet1!$A$1:$C$65512,3,FALSE)","v":288},null,null,"No info","линк","https://bg.toolsworld.com/search/?query=","https://bg.toolsworld.com/search/?query=848609"]
[848619,"Festék kék 50g kicsapó zsinórhoz// MTX",261,"B","Active",{"$f":"VLOOKUP(A3727,[1]Sheet1!$A$1:$C$65512,3,FALSE)","v":167},null,null,"No info","линк","https://bg.toolsworld.com/search/?query=","https://bg.toolsworld.com/search/?query=848619"]
[848709,"Festék kevero 60x8x400mm// MTX",723,"B","Active",{"$f":"VLOOKUP(A3728,[1]Sheet1!$A$1:$C$65512,3,FALSE)","v":1664},null,null,"No info","линк","https://bg.toolsworld.com/search/?query=","https://bg.toolsworld.com/search/?query=848709"]
[848749,"Festék kevero 85x8x400mm// MTX",863,"B","Active",{"$f":"VLOOKUP(A3729,[1]Sheet1!$A$1:$C$65512,3,FALSE)","v":119},null,null,"No info","линк","https://bg.toolsworld.com/search/?query=","https://bg.toolsworld.com/search/?query=848749"]
[848759,"Festék kevero 100x8x600mm// MTX",1619,"B","Active",{"$f":"VLOOKUP(A3730,[1]Sheet1!$A$1:$C$65512,3,FALSE)","v":263},null,null,"No info","линк","https://bg.toolsworld.com/search/?query=","https://bg.toolsworld.com/search/?query=848759"]
[848805,"Forgatható kevero, automatikus//  SPARTA",3150,"B","Active",{"$f":"VLOOKUP(A3731,[1]Sheet1!$A$1:$C$65512,3,FALSE)","v":163},null,null,"No info","линк","https://bg.toolsworld.com/search/?query=","https://bg.toolsworld.com/search/?query=848805"]
[848806,"Automata horog betonacél rögzítéséhez, 200 mm// Sparta",2144,"B","Active",{"$f":"VLOOKUP(A3732,[1]Sheet1!$A$1:$C$65512,3,FALSE)","v":20},null,null,"No info","линк","https://bg.toolsworld.com/search/?query=","https://bg.toolsworld.com/search/?query=848806"]
[848829,"Univerzális galvanizált keveroszár festékhez és plaszter keverékekhez, 80x400mm, szár SDS+ // MTX",1344,"B","Active",{"$f":"VLOOKUP(A3733,[1]Sheet1!$A$1:$C$65512,3,FALSE)","v":" "},null,null,"No info","линк","https://bg.toolsworld.com/search/?query=","https://bg.toolsworld.com/search/?query=848829"]
[848839,"Univerzális galvanizált keveroszár festékhez és plaszter keverékekhez, 100x600mm, szár SDS+ // MTX",1941,"B","Active",{"$f":"VLOOKUP(A3734,[1]Sheet1!$A$1:$C$65512,3,FALSE)","v":" "},null,null,"No info","линк","https://bg.toolsworld.com/search/?query=","https://bg.toolsworld.com/search/?query=848839"]
[848849,"Univerzális galvanizált keveroszár festékhez és plaszter keverékekhez, 120x600mm, szár SDS+ // MTX",2602,"B","Active",{"$f":"VLOOKUP(A3735,[1]Sheet1!$A$1:$C$65512,3,FALSE)","v":" "},null,null,"No info","линк","https://bg.toolsworld.com/search/?query=","https://bg.toolsworld.com/search/?query=848849"]
[848949,"Keverőlapát nehéz megoldásokhoz, 120x590mm, horganyzott, M14-es szár külső menettel// MTX",2920,"B","Active",{"$f":"VLOOKUP(A3736,[1]Sheet1!$A$1:$C$65512,3,FALSE)","v":637},null,null,"No info","линк","https://bg.toolsworld.com/search/?query=","https://bg.toolsworld.com/search/?query=848949"]
[848959,"Kevero suru keverékekhez, 140x590mm, cink bevonatos, M14 kulso mentes szár// MTX",4464,"B","Active",{"$f":"VLOOKUP(A3737,[1]Sheet1!$A$1:$C$65512,3,FALSE)","v":332},null,null,"No info","линк","https://bg.toolsworld.com/search/?query=","https://bg.toolsworld.com/search/?query=848959"]
[848969,"Keverőlapát nehéz megoldásokhoz, 160x590mm, horganyzott, M14-es szár külső menettel// MTX",4551,"B","Active",{"$f":"VLOOKUP(A3738,[1]Sheet1!$A$1:$C$65512,3,FALSE)","v":199},null,null,"No info","линк","https://bg.toolsworld.com/search/?query=","https://bg.toolsworld.com/search/?query=848969"]
[848979,"Keverőlapát könnyű megoldásokhoz, 120x590mm, horganyzott, M14-es szár külső menettel// MTX",3158,"B","Active",{"$f":"VLOOKUP(A3739,[1]Sheet1!$A$1:$C$65512,3,FALSE)","v":301},null,null,"No info","линк","https://bg.toolsworld.com/search/?query=","https://bg.toolsworld.com/search/?query=848979"]
[848989,"Keverőlapát könnyű megoldásokhoz, 140x590mm, horganyzott, M14 szár külső menettel// MTX",3439,"B","Active",{"$f":"VLOOKUP(A3740,[1]Sheet1!$A$1:$C$65512,3,FALSE)","v":35},null,null,"No info","линк","https://bg.toolsworld.com/search/?query=","https://bg.toolsworld.com/search/?query=848989"]
[848999,"Keverőlapát könnyű megoldásokhoz, 160x590mm, horganyzott, M14 szár külső menettel// MTX",3617,"B","Active",{"$f":"VLOOKUP(A3741,[1]Sheet1!$A$1:$C$65512,3,FALSE)","v":28},null,null,"No info","линк","https://bg.toolsworld.com/search/?query=","https://bg.toolsworld.com/search/?query=848999"]
[852035,"Spakli 30 mm, rozsdamentes acél, fa nyéllel//SPARTA",141,"B","Active",{"$f":"VLOOKUP(A3742,[1]Sheet1!$A$1:$C$65512,3,FALSE)","v":1758},null,null,"No info","линк","https://bg.toolsworld.com/search/?query=","https://bg.toolsworld.com/search/?query=852035"]
[852065,"Spakli 40 mm, rozsdamentes acél, fa nyéllel//SPARTA",151,"B","Active",{"$f":"VLOOKUP(A3743,[1]Sheet1!$A$1:$C$65512,3,FALSE)","v":" "},null,null,"No info","линк","https://bg.toolsworld.com/search/?query=","https://bg.toolsworld.com/search/?query=852065"]
[852095,"Spakli 50 mm, rozsdamentes acél, fa nyéllel//SPARTA",153,"B","Active",{"$f":"VLOOKUP(A3744,[1]Sheet1!$A$1:$C$65512,3,FALSE)","v":4770},null,null,"No info","линк","https://bg.toolsworld.com/search/?query=","https://bg.toolsworld.com/search/?query=852095"]
[852125,"Spakli 60 mm, rozsdamentes acél, fa nyéllel//SPARTA",165,"B","Active",{"$f":"VLOOKUP(A3745,[1]Sheet1!$A$1:$C$65512,3,FALSE)","v":927},null,null,"No info","линк","https://bg.toolsworld.com/search/?query=","https://bg.toolsworld.com/search/?query=852125"]
[852155,"Spakli 80 mm, rozsdamentes acél, fa nyéllel//SPARTA",183,"B","Active",{"$f":"VLOOKUP(A3746,[1]Sheet1!$A$1:$C$65512,3,FALSE)","v":617},null,null,"No info","линк","https://bg.toolsworld.com/search/?query=","https://bg.toolsworld.com/search/?query=852155"]
[852185,"Spakli 100 mm, rozsdamentes acél, fa nyéllel//SPARTA",189,"B","Active",{"$f":"VLOOKUP(A3747,[1]Sheet1!$A$1:$C$65512,3,FALSE)","v":599},null,null,"No info","линк","https://bg.toolsworld.com/search/?query=","https://bg.toolsworld.com/search/?query=852185"]
[852305,"Spakli acél muanyag nyéllel 25mm,csiszolt// SPARTA",179,"B","Active",{"$f":"VLOOKUP(A3748,[1]Sheet1!$A$1:$C$65512,3,FALSE)","v":333},null,null,"No info","линк","https://bg.toolsworld.com/search/?query=","https://bg.toolsworld.com/search/?query=852305"]
[852425,"Spakli acél muanyag nyéllel 100mm,csiszolt// SPARTA",283,"B","Active",{"$f":"VLOOKUP(A3749,[1]Sheet1!$A$1:$C$65512,3,FALSE)","v":267},null,null,"No info","линк","https://bg.toolsworld.com/search/?query=","https://bg.toolsworld.com/search/?query=852425"]
[852485,"Spakli acél muanyag nyéllel 150mm,csiszolt// SPARTA",377,"B","Active",{"$f":"VLOOKUP(A3750,[1]Sheet1!$A$1:$C$65512,3,FALSE)","v":159},null,null,"No info","линк","https://bg.toolsworld.com/search/?query=","https://bg.toolsworld.com/search/?query=852485"]
[852605,"4 db-os spakli szett 50-80-100-120mm//SPARTA",393,"B","Active",{"$f":"VLOOKUP(A3751,[1]Sheet1!$A$1:$C$65512,3,FALSE)","v":5170},null,null,"No info","линк","https://bg.toolsworld.com/search/?query=","https://bg.toolsworld.com/search/?query=852605"]
[852999,"Többfunkciós spakli, acél muanyag nyéllel// MTX",395,"B","Active",{"$f":"VLOOKUP(A3752,[1]Sheet1!$A$1:$C$65512,3,FALSE)","v":2387},null,null,"No info","линк","https://bg.toolsworld.com/search/?query=","https://bg.toolsworld.com/search/?query=852999"]
[855029,"Fali spatulya, rozsdamentes acél penge, 200 mm, két komponensu nyél, széles borítás// MTX",1183,"B","Active",{"$f":"VLOOKUP(A3753,[1]Sheet1!$A$1:$C$65512,3,FALSE)","v":60},null,null,"No info","линк","https://bg.toolsworld.com/search/?query=","https://bg.toolsworld.com/search/?query=855029"]
[855039,"Fali spatulya, rozsdamentes acél penge, 300 mm, két komponensu nyél, széles borítás// MTX",1684,"B","Active",{"$f":"VLOOKUP(A3754,[1]Sheet1!$A$1:$C$65512,3,FALSE)","v":{"$error":"#N/A"}},null,null,"No info","линк","https://bg.toolsworld.com/search/?query=","https://bg.toolsworld.com/search/?query=855039"]
[855049,"Spatulya, rozsdamentes acél penge, 40 mm, két komponensu nyél// MTX",383,"B","Active",{"$f":"VLOOKUP(A3755,[1]Sheet1!$A$1:$C$65512,3,FALSE)","v":151},null,null,"No info","линк","https://bg.toolsworld.com/search/?query=","https://bg.toolsworld.com/search/?query=855049"]
[855059,"Spatulya, rozsdamentes acél penge, 50 mm, két komponensu nyél// MTX",393,"B","Active",{"$f":"VLOOKUP(A3756,[1]Sheet1!$A$1:$C$65512,3,FALSE)","v":160},null,null,"No info",{"$f":"HYPERLINK(L3756,\"линк\")","v":"линк"},"https://bg.toolsworld.com/search/?query=","https://bg.toolsworld.com/search/?query=855059"]
[855069,"Spatulya, rozsdamentes acél penge, 60 mm, két komponensu nyél// MTX",411,"B","Active",{"$f":"VLOOKUP(A3757,[1]Sheet1!$A$1:$C$65512,3,FALSE)","v":742},null,null,"No info","линк","https://bg.toolsworld.com/search/?query=","https://bg.toolsworld.com/search/?query=855069"]
[855089,"Spatulya, rozsdamentes acél penge, 80 mm, két komponensu nyél// MTX",444,"B","Active",{"$f":"VLOOKUP(A3758,[1]Sheet1!$A$1:$C$65512,3,FALSE)","v":438},null,null,"No info","линк","https://bg.toolsworld.com/search/?query=","https://bg.toolsworld.com/search/?query=855089"]
[855109,"Spatulya, rozsdamentes acél penge, 100 mm, két komponensu nyél// MTX",489,"B","Active",{"$f":"VLOOKUP(A3759,[1]Sheet1!$A$1:$C$65512,3,FALSE)","v":{"$error":"#N/A"}},null,null,"No info","линк","https://bg.toolsworld.com/search/?query=","https://bg.toolsworld.com/search/?query=855109"]
[855119,"Homlokzatkaparó kétkomponensű nyéllel, 150mm, rozsdamentes acél, keskeny pengével// MTX",1487,"B","Active",{"$f":"VLOOKUP(A3760,[1]Sheet1!$A$1:$C$65512,3,FALSE)","v":71},null,null,"No info","линк","https://bg.toolsworld.com/search/?query=",{"$f":"CONCATENATE(K3760,A3760)","v":"https://bg.toolsworld.com/search/?query=855119"}]
[855129,"Spatulya, rozsdamentes acél penge, 120 mm, két komponensu nyél// MTX",550,"B","Active",{"$f":"VLOOKUP(A3761,[1]Sheet1!$A$1:$C$65512,3,FALSE)","v":" "},null,null,"No info","линк","https://bg.toolsworld.com/search/?query=","https://bg.toolsworld.com/search/?query=855129"]
[855149,"Kultéri spatulya rozsdamentes acél penge, 250 mm, vékony pengéju, két komponensu nyél// MTX",1774,"B","Active",{"$f":"VLOOKUP(A3762,[1]Sheet1!$A$1:$C$65512,3,FALSE)","v":219},null,null,"No info","линк","https://bg.toolsworld.com/search/?query=","https://bg.toolsworld.com/search/?query=855149"]
[855159,"Spatulya, rozsdamentes acél penge, 150 mm, két komponensu nyél// MTX",633,"B","Active",{"$f":"VLOOKUP(A3763,[1]Sheet1!$A$1:$C$65512,3,FALSE)","v":45},null,null,"No info","линк","https://bg.toolsworld.com/search/?query=","https://bg.toolsworld.com/search/?query=855159"]
[855169,"Kultéri spatulya rozsdamentes acél penge, 300 mm, vékony pengéju, két komponensu nyél// MTX",1977,"B","Active",{"$f":"VLOOKUP(A3764,[1]Sheet1!$A$1:$C$65512,3,FALSE)","v":166},null,null,"No info","линк","https://bg.toolsworld.com/search/?query=","https://bg.toolsworld.com/search/?query=855169"]
[855179,"Kultéri spatulya rozsdamentes acél penge, 350 mm, vékony pengéju, két komponensu nyél// MTX",2305,"B","Active",{"$f":"VLOOKUP(A3765,[1]Sheet1!$A$1:$C$65512,3,FALSE)","v":221},null,null,"No info","линк","https://bg.toolsworld.com/search/?query=","https://bg.toolsworld.com/search/?query=855179"]
[855189,"Kultéri spatulya rozsdamentes acél penge, 475 mm, vékony pengéju, két komponensu nyél// MTX",2936,"B","Active",{"$f":"VLOOKUP(A3766,[1]Sheet1!$A$1:$C$65512,3,FALSE)","v":576},null,null,"No info","линк","https://bg.toolsworld.com/search/?query=","https://bg.toolsworld.com/search/?query=855189"]
[855199,"Kultéri spatulya rozsdamentes acél penge, 600 mm, vékony pengéju, két komponensu nyél// MTX",3562,"B","Active",{"$f":"VLOOKUP(A3767,[1]Sheet1!$A$1:$C$65512,3,FALSE)","v":448},null,null,"No info","линк","https://bg.toolsworld.com/search/?query=","https://bg.toolsworld.com/search/?query=855199"]
[856909,"Rozsdamentes acél kaparó, 40 mm, fa reszelék nyél // MTX",456,"B","Active",{"$f":"VLOOKUP(A3768,[1]Sheet1!$A$1:$C$65512,3,FALSE)","v":189},null,null,"No info","линк","https://bg.toolsworld.com/search/?query=","https://bg.toolsworld.com/search/?query=856909"]
[856919,"Rozsdamentes acél kaparó, 60 mm, fa reszelék nyél // MTX",507,"B","Active",{"$f":"VLOOKUP(A3769,[1]Sheet1!$A$1:$C$65512,3,FALSE)","v":343},null,null,"No info","линк","https://bg.toolsworld.com/search/?query=","https://bg.toolsworld.com/search/?query=856919"]
[856929,"Rozsdamentes acél kaparó, 80 mm, fa reszelék nyél // MTX",499,"B","Active",{"$f":"VLOOKUP(A3770,[1]Sheet1!$A$1:$C$65512,3,FALSE)","v":436},null,null,"No info","линк","https://bg.toolsworld.com/search/?query=","https://bg.toolsworld.com/search/?query=856929"]
[856939,"Rozsdamentes acél kaparó, 100 mm, fa reszelék nyél // MTX",544,"B","Active",{"$f":"VLOOKUP(A3771,[1]Sheet1!$A$1:$C$65512,3,FALSE)","v":528},null,null,"No info","линк","https://bg.toolsworld.com/search/?query=","https://bg.toolsworld.com/search/?query=856939"]
[856949,"Rozsdamentes acél kaparó, 140 mm, fa reszelék nyél // MTX",756,"B","Active",{"$f":"VLOOKUP(A3772,[1]Sheet1!$A$1:$C$65512,3,FALSE)","v":149},null,null,"No info","линк","https://bg.toolsworld.com/search/?query=","https://bg.toolsworld.com/search/?query=856949"]
[856959,"Rozsdamentes acél kaparó, 200 mm, fa reszelék nyél // MTX",943,"B","Active",{"$f":"VLOOKUP(A3773,[1]Sheet1!$A$1:$C$65512,3,FALSE)","v":159},null,null,"No info","линк","https://bg.toolsworld.com/search/?query=","https://bg.toolsworld.com/search/?query=856959"]
[856969,"Rozsdamentes acél kaparó, 250 mm, fa reszelék nyél // MTX",939,"B","Active",{"$f":"VLOOKUP(A3774,[1]Sheet1!$A$1:$C$65512,3,FALSE)","v":160},null,null,"No info","линк","https://bg.toolsworld.com/search/?query=","https://bg.toolsworld.com/search/?query=856969"]
[856979,"Rozsdamentes acél kaparó, 300 mm, fa reszelék nyél // MTX",1136,"B","Active",{"$f":"VLOOKUP(A3775,[1]Sheet1!$A$1:$C$65512,3,FALSE)","v":282},null,null,"No info","линк","https://bg.toolsworld.com/search/?query=","https://bg.toolsworld.com/search/?query=856979"]
[856989,"Rozsdamentes acél kaparó, 350 mm, fa reszelék nyél // MTX",1222,"B","Active",{"$f":"VLOOKUP(A3776,[1]Sheet1!$A$1:$C$65512,3,FALSE)","v":351},null,null,"No info","линк","https://bg.toolsworld.com/search/?query=","https://bg.toolsworld.com/search/?query=856989"]
[856999,"Rozsdamentes acél kaparó, 450 mm, fa reszelék nyél // MTX",1446,"B","Active",{"$f":"VLOOKUP(A3777,[1]Sheet1!$A$1:$C$65512,3,FALSE)","v":209},null,null,"No info","линк","https://bg.toolsworld.com/search/?query=","https://bg.toolsworld.com/search/?query=856999"]
[857009,"Rozsdamentes acél kaparó, 600 mm, fa reszelék nyél // MTX",1928,"B","Active",{"$f":"VLOOKUP(A3778,[1]Sheet1!$A$1:$C$65512,3,FALSE)","v":81},null,null,"No info","линк","https://bg.toolsworld.com/search/?query=","https://bg.toolsworld.com/search/?query=857009"]
[860045,"Japán spatulya szett,  50-75-100-120mm, muanyag4 db // SPARTA",244,"B","Active",{"$f":"VLOOKUP(A3779,[1]Sheet1!$A$1:$C$65512,3,FALSE)","v":{"$error":"#N/A"}},null,null,"No info","линк","https://bg.toolsworld.com/search/?query=","https://bg.toolsworld.com/search/?query=860045"]
[862705,"Acél komuves kanál, 160 mm, fa nyél // SPARTA",474,"B","Active",{"$f":"VLOOKUP(A3780,[1]Sheet1!$A$1:$C$65512,3,FALSE)","v":274},null,null,"No info","линк","https://bg.toolsworld.com/search/?query=","https://bg.toolsworld.com/search/?query=862705"]
[862725,"Komuves serpenyo, 200 mm, fa nyél // SPARTA",564,"B","Active",{"$f":"VLOOKUP(A3781,[1]Sheet1!$A$1:$C$65512,3,FALSE)","v":781},null,null,"No info","линк","https://bg.toolsworld.com/search/?query=","https://bg.toolsworld.com/search/?query=862725"]
[862745,"Komuves kanál simító , 160 mm, fa nyél // SPARTA",454,"B","Active",{"$f":"VLOOKUP(A3782,[1]Sheet1!$A$1:$C$65512,3,FALSE)","v":537},null,null,"No info","линк","https://bg.toolsworld.com/search/?query=","https://bg.toolsworld.com/search/?query=862745"]
[862765,"Komuves kanál simító , 200 mm, fa nyél // SPARTA",536,"B","Active",{"$f":"VLOOKUP(A3783,[1]Sheet1!$A$1:$C$65512,3,FALSE)","v":503},null,null,"No info","линк","https://bg.toolsworld.com/search/?query=","https://bg.toolsworld.com/search/?query=862765"]
[862785,"Acél simító komuves kanál, 150 mm, fa nyél//SPARTA",424,"B","Active",{"$f":"VLOOKUP(A3784,[1]Sheet1!$A$1:$C$65512,3,FALSE)","v":327},null,null,"No info","линк","https://bg.toolsworld.com/search/?query=","https://bg.toolsworld.com/search/?query=862785"]
[862805,"Acél simító komuves kanál, 200 mm, fa nyél//SPARTA",487,"B","Active",{"$f":"VLOOKUP(A3785,[1]Sheet1!$A$1:$C$65512,3,FALSE)","v":418},null,null,"No info","линк","https://bg.toolsworld.com/search/?query=","https://bg.toolsworld.com/search/?query=862805"]
[863089,"Rozsdamentes acél simítókanál belso sarkokhoz, 80 x 60 x 60 mm, fa nyél// MTX",931,"B","Active",{"$f":"VLOOKUP(A3786,[1]Sheet1!$A$1:$C$65512,3,FALSE)","v":179},null,null,"No info","линк","https://bg.toolsworld.com/search/?query=","https://bg.toolsworld.com/search/?query=863089"]
[863109,"Rozsdamentes acél simítókanál belso sarkokhoz, 110 x 75 x 75 mm, fa nyél// MTX",1083,"B","Active",{"$f":"VLOOKUP(A3787,[1]Sheet1!$A$1:$C$65512,3,FALSE)","v":227},null,null,"No info","линк","https://bg.toolsworld.com/search/?query=","https://bg.toolsworld.com/search/?query=863109"]
[863129,"Rozsdamentes acél simítókanál kulso sarkokhoz, 80 x 60 x 60 mm, fa nyél// MTX",973,"B","Active",{"$f":"VLOOKUP(A3788,[1]Sheet1!$A$1:$C$65512,3,FALSE)","v":88},null,null,"No info","линк","https://bg.toolsworld.com/search/?query=","https://bg.toolsworld.com/search/?query=863129"]
[863149,"Rozsdamentes acél simítókanál kulso sarkokhoz, 110 x 75 x 75 mm, fa nyél// MTX",1151,"B","Active",{"$f":"VLOOKUP(A3789,[1]Sheet1!$A$1:$C$65512,3,FALSE)","v":154},null,null,"No info","линк","https://bg.toolsworld.com/search/?query=","https://bg.toolsworld.com/search/?query=863149"]
[863169,"Rozsdamentes acél komuves kanál, 120 x 79 mm, fa nyél// MTX",920,"B","Active",{"$f":"VLOOKUP(A3790,[1]Sheet1!$A$1:$C$65512,3,FALSE)","v":124},null,null,"No info","линк","https://bg.toolsworld.com/search/?query=","https://bg.toolsworld.com/search/?query=863169"]
[863189,"Rozsdamentes acél komuves kanál, 140 x 82 mm, fa nyél// MTX",1045,"B","Active",{"$f":"VLOOKUP(A3791,[1]Sheet1!$A$1:$C$65512,3,FALSE)","v":194},null,null,"No info","линк","https://bg.toolsworld.com/search/?query=","https://bg.toolsworld.com/search/?query=863189"]
[863209,"Rozsdamentes acél komuves kanál, 160 x 84 mm, fa nyél// MTX",1083,"B","Active",{"$f":"VLOOKUP(A3792,[1]Sheet1!$A$1:$C$65512,3,FALSE)","v":553},null,null,"No info","линк","https://bg.toolsworld.com/search/?query=","https://bg.toolsworld.com/search/?query=863209"]
[867219,"Muanyag simító,  280 x 130 mm// MTX",1193,"B","Active",{"$f":"VLOOKUP(A3793,[1]Sheet1!$A$1:$C$65512,3,FALSE)","v":562},null,null,"No info","линк","https://bg.toolsworld.com/search/?query=","https://bg.toolsworld.com/search/?query=867219"]
[867329,"Acél simító, 280 x 130 mm, tukör-csiszolt, fa nyél// MTX",1273,"B","Active",{"$f":"VLOOKUP(A3794,[1]Sheet1!$A$1:$C$65512,3,FALSE)","v":150},null,null,"No info","линк","https://bg.toolsworld.com/search/?query=","https://bg.toolsworld.com/search/?query=867329"]
[867339,"Rozsdamentes acél simító, 280 x 130 mm, fa nyél// MTX",1482,"B","Active",{"$f":"VLOOKUP(A3795,[1]Sheet1!$A$1:$C$65512,3,FALSE)","v":79},null,null,"No info","линк","https://bg.toolsworld.com/search/?query=","https://bg.toolsworld.com/search/?query=867339"]
[867349,"Rozsdamentes acél simító, 480 x 130 mm, fa nyél// MTX",3325,"B","Active",{"$f":"VLOOKUP(A3796,[1]Sheet1!$A$1:$C$65512,3,FALSE)","v":69},null,null,"No info","линк","https://bg.toolsworld.com/search/?query=","https://bg.toolsworld.com/search/?query=867349"]
[867359,"Rozsdamentes acél simító, 600 x 130 mm, fa nyél// MTX",3486,"B","Active",{"$f":"VLOOKUP(A3797,[1]Sheet1!$A$1:$C$65512,3,FALSE)","v":56},null,null,"No info","линк","https://bg.toolsworld.com/search/?query=","https://bg.toolsworld.com/search/?query=867359"]
[867379,"Rozsdamentes acél simító, 280 x 130 mm, fogazat 6 x 6 mm, fa nyél// MTX",1464,"B","Active",{"$f":"VLOOKUP(A3798,[1]Sheet1!$A$1:$C$65512,3,FALSE)","v":244},null,null,"No info","линк","https://bg.toolsworld.com/search/?query=","https://bg.toolsworld.com/search/?query=867379"]
[867749,"Simító, 280 x 130 mm, acél, tukör-csiszolt, muanyag nyél// MTX",892,"B","Active",{"$f":"VLOOKUP(A3799,[1]Sheet1!$A$1:$C$65512,3,FALSE)","v":538},null,null,"No info","линк","https://bg.toolsworld.com/search/?query=","https://bg.toolsworld.com/search/?query=867749"]
[867759,"Simító, 280 x 130 mm, fogazat 6 x 6 mm, tukör-csiszolt, muanyag nyél// MTX",729,"B","Active",{"$f":"VLOOKUP(A3800,[1]Sheet1!$A$1:$C$65512,3,FALSE)","v":87},null,null,"No info","линк","https://bg.toolsworld.com/search/?query=","https://bg.toolsworld.com/search/?query=867759"]
[867769,"Simító, 280 x 130 mm, rozsdamentes acél, tukör-csiszolt, muanyag nyél// MTX",1240,"B","Active",{"$f":"VLOOKUP(A3801,[1]Sheet1!$A$1:$C$65512,3,FALSE)","v":{"$error":"#N/A"}},null,null,"No info","линк","https://bg.toolsworld.com/search/?query=","https://bg.toolsworld.com/search/?query=867769"]
[868019,"Muanyag bevonatos simító,  280 x 140 mm, gumi borítás// MTX",1104,"B","Active",{"$f":"VLOOKUP(A3802,[1]Sheet1!$A$1:$C$65512,3,FALSE)","v":303},null,null,"No info","линк","https://bg.toolsworld.com/search/?query=","https://bg.toolsworld.com/search/?query=868019"]
[868029,"Muanyag bevonatos simító, 280 x 140 mm, szivacs bevonatos// MTX",1694,"B","Active",{"$f":"VLOOKUP(A3803,[1]Sheet1!$A$1:$C$65512,3,FALSE)","v":463},null,null,"No info","линк","https://bg.toolsworld.com/search/?query=","https://bg.toolsworld.com/search/?query=868029"]
[872235,"uvegvágó 6-Henger fa nyéllel//SPARTA",525,"B","Active",{"$f":"VLOOKUP(A3804,[1]Sheet1!$A$1:$C$65512,3,FALSE)","v":802},null,null,"No info","линк","https://bg.toolsworld.com/search/?query=","https://bg.toolsworld.com/search/?query=872235"]
[872405,"Gyémánt uvegvágó//SPARTA",707,"B","Active",{"$f":"VLOOKUP(A3805,[1]Sheet1!$A$1:$C$65512,3,FALSE)","v":468},null,null,"No info","линк","https://bg.toolsworld.com/search/?query=","https://bg.toolsworld.com/search/?query=872405"]
[872649,"Hengeres uvegvágó fém nyéllel//MTX",935,"B","Active",{"$f":"VLOOKUP(A3806,[1]Sheet1!$A$1:$C$65512,3,FALSE)","v":60},null,null,"No info","линк","https://bg.toolsworld.com/search/?query=","https://bg.toolsworld.com/search/?query=872649"]
[875055,"uvegemelo egytalpú// SPARTA",1482,"B","Active",{"$f":"VLOOKUP(A3807,[1]Sheet1!$A$1:$C$65512,3,FALSE)","v":" "},null,null,"No info","линк","https://bg.toolsworld.com/search/?query=","https://bg.toolsworld.com/search/?query=875055"]
[875155,"uvegemelo kéttalpú// SPARTA",2662,"B","Active",{"$f":"VLOOKUP(A3808,[1]Sheet1!$A$1:$C$65512,3,FALSE)","v":266},null,null,"No info","линк","https://bg.toolsworld.com/search/?query=","https://bg.toolsworld.com/search/?query=875155"]
[876059,"Csempe vágó 400 x 16 mm, kemény lemezes, eros markolat, csapágyas vezeto// MTX",18183,"B","Active",{"$f":"VLOOKUP(A3809,[1]Sheet1!$A$1:$C$65512,3,FALSE)","v":20},null,null,"No info","линк","https://bg.toolsworld.com/search/?query=","https://bg.toolsworld.com/search/?query=876059"]
[876099,"Csempe vágó 600 x 16 mm, kemény lemezes, eros markolat, csapágyas vezeto// MTX",21557,"B","Active",{"$f":"VLOOKUP(A3810,[1]Sheet1!$A$1:$C$65512,3,FALSE)","v":{"$error":"#N/A"}},null,null,"No info","линк","https://bg.toolsworld.com/search/?query=","https://bg.toolsworld.com/search/?query=876099"]
[876139,"Csempe vágó 300 x12mm//MTX",0,"B","Active",{"$f":"VLOOKUP(A3811,[1]Sheet1!$A$1:$C$65512,3,FALSE)","v":{"$error":"#N/A"}},null,null,"No info","линк","https://bg.toolsworld.com/search/?query=","https://bg.toolsworld.com/search/?query=876139"]
[876199,"Csempe vágó 400 x 12 mm// MTX",4798,"B","Active",{"$f":"VLOOKUP(A3812,[1]Sheet1!$A$1:$C$65512,3,FALSE)","v":{"$error":"#N/A"}},null,null,"No info","линк","https://bg.toolsworld.com/search/?query=","https://bg.toolsworld.com/search/?query=876199"]
[876229,"Csempe vágó 500 x 14 mm// MTX",8899,"B","Active",{"$f":"VLOOKUP(A3813,[1]Sheet1!$A$1:$C$65512,3,FALSE)","v":{"$error":"#N/A"}},null,null,"No info","линк","https://bg.toolsworld.com/search/?query=","https://bg.toolsworld.com/search/?query=876229"]
[876259,"Csempe vágó 600 x 14 mm//MTX",9732,"B","Active",{"$f":"VLOOKUP(A3814,[1]Sheet1!$A$1:$C$65512,3,FALSE)","v":{"$error":"#N/A"}},null,null,"No info","линк","https://bg.toolsworld.com/search/?query=","https://bg.toolsworld.com/search/?query=876259"]
[876589,"Csempe vágó 600 x 16 mm forgó szögvas// MTX",12779,"B","Active",{"$f":"VLOOKUP(A3815,[1]Sheet1!$A$1:$C$65512,3,FALSE)","v":{"$error":"#N/A"}},null,null,"No info","линк","https://bg.toolsworld.com/search/?query=","https://bg.toolsworld.com/search/?query=876589"]
[876609,"Vágókerék csempe vágóhoz, 13,5 x 6,0 x 1,0 mm// MTX",352,"B","Active",{"$f":"VLOOKUP(A3816,[1]Sheet1!$A$1:$C$65512,3,FALSE)","v":{"$error":"#N/A"}},null,null,"No info","линк","https://bg.toolsworld.com/search/?query=","https://bg.toolsworld.com/search/?query=876609"]
[876629,"Vágógörgő csempevágókhoz, 15,0 x 6,0 x 1,5 mm// MTX",373,"B","Active",{"$f":"VLOOKUP(A3817,[1]Sheet1!$A$1:$C$65512,3,FALSE)","v":{"$error":"#N/A"}},null,null,"No info","линк","https://bg.toolsworld.com/search/?query=","https://bg.toolsworld.com/search/?query=876629"]
[876669,"Vágókerék csempe vágóhoz, 16,0 x 6,0 x 3,0 mm//MTX",460,"B","Active",{"$f":"VLOOKUP(A3818,[1]Sheet1!$A$1:$C$65512,3,FALSE)","v":{"$error":"#N/A"}},null,null,"No info","линк","https://bg.toolsworld.com/search/?query=","https://bg.toolsworld.com/search/?query=876669"]
[876699,"Vágókerék csempe vágóhoz, 22,0 x 6,0 x 2,0 mm// MTX",540,"B","Active",{"$f":"VLOOKUP(A3819,[1]Sheet1!$A$1:$C$65512,3,FALSE)","v":110},null,null,"No info","линк","https://bg.toolsworld.com/search/?query=","https://bg.toolsworld.com/search/?query=876699"]
[876879,"Sínes csempevágó 500mm// MTX",29979,"B","Active",{"$f":"VLOOKUP(A3820,[1]Sheet1!$A$1:$C$65512,3,FALSE)","v":15},null,null,"No info",{"$f":"HYPERLINK(L3820,\"линк\")","v":"линк"},"https://bg.toolsworld.com/search/?query=","https://bg.toolsworld.com/search/?query=876879"]
[876889,"Sínes csempevágó 600mm// MTX",30370,"B","Active",{"$f":"VLOOKUP(A3821,[1]Sheet1!$A$1:$C$65512,3,FALSE)","v":916},null,null,"No info","линк","https://bg.toolsworld.com/search/?query=","https://bg.toolsworld.com/search/?query=876889"]
[876899,"Csempe vágó 700mm// MTX PROFESSIONAL",31615,"B","Active",{"$f":"VLOOKUP(A3822,[1]Sheet1!$A$1:$C$65512,3,FALSE)","v":{"$error":"#N/A"}},null,null,"No info","линк","https://bg.toolsworld.com/search/?query=","https://bg.toolsworld.com/search/?query=876899"]
[876939,"Sínes csempevágó 1200mm// MTX",41061,"B","Active",{"$f":"VLOOKUP(A3823,[1]Sheet1!$A$1:$C$65512,3,FALSE)","v":{"$error":"#N/A"}},null,null,"No info","линк","https://bg.toolsworld.com/search/?query=","https://bg.toolsworld.com/search/?query=876939"]
[878309,"Csempe vágó 200 mm with alumínium rest// MTX",1354,"B","Active",{"$f":"VLOOKUP(A3824,[1]Sheet1!$A$1:$C$65512,3,FALSE)","v":{"$error":"#N/A"}},null,null,"No info","линк","https://bg.toolsworld.com/search/?query=",{"$f":"CONCATENATE(K3824,A3824)","v":"https://bg.toolsworld.com/search/?query=878309"}]
[879019,"Tarajos henger, 150 mm, gipsztáblához , fa nyél 500 mm// MTX",2104,"B","Active",{"$f":"VLOOKUP(A3825,[1]Sheet1!$A$1:$C$65512,3,FALSE)","v":524},null,null,"No info","линк","https://bg.toolsworld.com/search/?query=","https://bg.toolsworld.com/search/?query=879019"]
[879519,"Gipszkarton fém profil lyukasztó, egy kezes munkához// MTX",5354,"B","Active",{"$f":"VLOOKUP(A3826,[1]Sheet1!$A$1:$C$65512,3,FALSE)","v":66},null,null,"No info","линк","https://bg.toolsworld.com/search/?query=","https://bg.toolsworld.com/search/?query=879519"]
[880225,"Ék csempe fektetéshez30x6x5mm 200 db-os készlet// SPARTA",369,"B","Active",{"$f":"VLOOKUP(A3827,[1]Sheet1!$A$1:$C$65512,3,FALSE)","v":554},null,null,"No info","линк","https://bg.toolsworld.com/search/?query=","https://bg.toolsworld.com/search/?query=880225"]
[880645,"Ék, 1,0 mm, 250 db-os készlet//SPARTA",173,"B","Active",{"$f":"VLOOKUP(A3828,[1]Sheet1!$A$1:$C$65512,3,FALSE)","v":1525},null,null,"No info","линк","https://bg.toolsworld.com/search/?query=","https://bg.toolsworld.com/search/?query=880645"]
[880665,"Csempekereszt 1,5mm, 250 db-os készlet// Sparta",191,"B","Active",{"$f":"VLOOKUP(A3829,[1]Sheet1!$A$1:$C$65512,3,FALSE)","v":{"$error":"#N/A"}},null,null,"No info","линк","https://bg.toolsworld.com/search/?query=","https://bg.toolsworld.com/search/?query=880665"]
[880685,"Fugakereszt 2,0mm, 250 db-os készlet// SPARTA",240,"B","Active",{"$f":"VLOOKUP(A3830,[1]Sheet1!$A$1:$C$65512,3,FALSE)","v":1219},null,null,"No info","линк","https://bg.toolsworld.com/search/?query=","https://bg.toolsworld.com/search/?query=880685"]
[880725,"Fugakereszt 3,0mm, 250 db-os készlet// SPARTA",269,"B","Active",{"$f":"VLOOKUP(A3831,[1]Sheet1!$A$1:$C$65512,3,FALSE)","v":{"$error":"#N/A"}},null,null,"No info","линк","https://bg.toolsworld.com/search/?query=","https://bg.toolsworld.com/search/?query=880725"]
[880765,"Fugakereszt 4,0mm, 250 db-os készlet// SPARTA",316,"B","Active",{"$f":"VLOOKUP(A3832,[1]Sheet1!$A$1:$C$65512,3,FALSE)","v":429},null,null,"No info","линк","https://bg.toolsworld.com/search/?query=","https://bg.toolsworld.com/search/?query=880765"]
[880805,"Fugakereszt 5,0mm, 250 db-os készlet// SPARTA",346,"B","Active",{"$f":"VLOOKUP(A3833,[1]Sheet1!$A$1:$C$65512,3,FALSE)","v":191},null,null,"No info","линк","https://bg.toolsworld.com/search/?query=","https://bg.toolsworld.com/search/?query=880805"]
[881009,"Fapadló szerelőkészlet// MTX",2625,"B","Active",{"$f":"VLOOKUP(A3834,[1]Sheet1!$A$1:$C$65512,3,FALSE)","v":{"$error":"#N/A"}},null,null,"No info","линк","https://bg.toolsworld.com/search/?query=","https://bg.toolsworld.com/search/?query=881009"]
[882409,"Csempefúró védohálóval// MTX",3232,"B","Active",{"$f":"VLOOKUP(A3835,[1]Sheet1!$A$1:$C$65512,3,FALSE)","v":172},null,null,"No info","линк","https://bg.toolsworld.com/search/?query=","https://bg.toolsworld.com/search/?query=882409"]
[886409,"Kinyomó pisztoly, félig nyitott, 310 ml, krómozott, recézett rúd 7 mm// MTX",1531,"B","Active",{"$f":"VLOOKUP(A3836,[1]Sheet1!$A$1:$C$65512,3,FALSE)","v":371},null,null,"No info","линк","https://bg.toolsworld.com/search/?query=","https://bg.toolsworld.com/search/?query=886409"]
[886669,"Kinyomó pisztoly, félig nyitott, 310 ml, ellen-súlyozott, lekerekített átm: 8 mm// MTX",2957,"B","Active",{"$f":"VLOOKUP(A3837,[1]Sheet1!$A$1:$C$65512,3,FALSE)","v":124},null,null,"No info","линк","https://bg.toolsworld.com/search/?query=","https://bg.toolsworld.com/search/?query=886669"]
[886689,"Tömítohab adagoló pisztoly// MTX",3973,"B","Active",{"$f":"VLOOKUP(A3838,[1]Sheet1!$A$1:$C$65512,3,FALSE)","v":528},null,null,"No info","линк","https://bg.toolsworld.com/search/?query=","https://bg.toolsworld.com/search/?query=886689"]
[886699,"Tömítohab adagoló pisztoly, teflon bevonattal, két komponensu nyél// MTX",6119,"B","Active",{"$f":"VLOOKUP(A3839,[1]Sheet1!$A$1:$C$65512,3,FALSE)","v":321},null,null,"No info","линк","https://bg.toolsworld.com/search/?query=","https://bg.toolsworld.com/search/?query=886699"]
[886737,"Habpisztoly, könnyű test// Sparta",2297,"B","Active",{"$f":"VLOOKUP(A3840,[1]Sheet1!$A$1:$C$65512,3,FALSE)","v":2314},null,null,"No info","линк","https://bg.toolsworld.com/search/?query=","https://bg.toolsworld.com/search/?query=886737"]
[888029,"Takaró fólia, 4 x 5 m, 7 mkm// MTX",308,"B","Active",{"$f":"VLOOKUP(A3841,[1]Sheet1!$A$1:$C$65512,3,FALSE)","v":1210},null,null,"No info","линк","https://bg.toolsworld.com/search/?query=","https://bg.toolsworld.com/search/?query=888029"]
[888039,"Takaró fólia, 4 x 12,5 m, 7 mkm// MTX",713,"B","Active",{"$f":"VLOOKUP(A3842,[1]Sheet1!$A$1:$C$65512,3,FALSE)","v":438},null,null,"No info","линк","https://bg.toolsworld.com/search/?query=","https://bg.toolsworld.com/search/?query=888039"]
[888545,"Tömítoszalag 12 mm x 10 m//SPARTA",86,"B","Active",{"$f":"VLOOKUP(A3843,[1]Sheet1!$A$1:$C$65512,3,FALSE)","v":3130},null,null,"No info","линк","https://bg.toolsworld.com/search/?query=","https://bg.toolsworld.com/search/?query=888545"]
[888589,"Szigeteloszalag, fekete,   50mmx10m // MTX",358,"B","Active",{"$f":"VLOOKUP(A3844,[1]Sheet1!$A$1:$C$65512,3,FALSE)","v":976},null,null,"No info","линк","https://bg.toolsworld.com/search/?query=","https://bg.toolsworld.com/search/?query=888589"]
[890009,"Öntapadó hálós szalag, 50 mm x 20 m// MTX",265,"B","Active",{"$f":"VLOOKUP(A3845,[1]Sheet1!$A$1:$C$65512,3,FALSE)","v":{"$error":"#N/A"}},null,null,"No info","линк","https://bg.toolsworld.com/search/?query=","https://bg.toolsworld.com/search/?query=890009"]
[890029,"Öntapadó hálós szalag, 50 mm x 45 m// MTX",825,"B","Active",{"$f":"VLOOKUP(A3846,[1]Sheet1!$A$1:$C$65512,3,FALSE)","v":{"$error":"#N/A"}},null,null,"No info","линк","https://bg.toolsworld.com/search/?query=","https://bg.toolsworld.com/search/?query=890029"]
[890049,"Öntapadó hálós szalag, 50 mm x 90 m// MTX",1651,"B","Active",{"$f":"VLOOKUP(A3847,[1]Sheet1!$A$1:$C$65512,3,FALSE)","v":{"$error":"#N/A"}},null,null,"No info","линк","https://bg.toolsworld.com/search/?query=","https://bg.toolsworld.com/search/?query=890049"]
[890109,"Öntapadó hálós szalag, 150 mm x 20 m// MTX",753,"B","Active",{"$f":"VLOOKUP(A3848,[1]Sheet1!$A$1:$C$65512,3,FALSE)","v":2},null,null,"No info","линк","https://bg.toolsworld.com/search/?query=","https://bg.toolsworld.com/search/?query=890109"]
[893555,"Védő fültok, összecsukható, műanyag szárnyas// Sparta",1285,"B","Active",{"$f":"VLOOKUP(A3849,[1]Sheet1!$A$1:$C$65512,3,FALSE)","v":{"$error":"#N/A"}},null,null,"No info","линк","https://bg.toolsworld.com/search/?query=","https://bg.toolsworld.com/search/?query=893555"]
[893605,"Védő fültok, műanyag szárnyas szárnyak// Sparta",591,"B","Active",{"$f":"VLOOKUP(A3850,[1]Sheet1!$A$1:$C$65512,3,FALSE)","v":{"$error":"#N/A"}},null,null,"No info","линк","https://bg.toolsworld.com/search/?query=","https://bg.toolsworld.com/search/?query=893605"]
[896379,"Alumínium vízmérték, 2 markolat, L-2,0 m// MTX",9320,"B","Active",{"$f":"VLOOKUP(A3851,[1]Sheet1!$A$1:$C$65512,3,FALSE)","v":65},null,null,"No info","линк","https://bg.toolsworld.com/search/?query=","https://bg.toolsworld.com/search/?query=896379"]
[896399,"Alumínium vízmérték, 2 markolat, L-2,5 m// MTX",11467,"B","Active",{"$f":"VLOOKUP(A3852,[1]Sheet1!$A$1:$C$65512,3,FALSE)","v":153},null,null,"No info","линк","https://bg.toolsworld.com/search/?query=","https://bg.toolsworld.com/search/?query=896399"]
[896419,"Alumínium vízmérték, 2 markolat, L-3,0 m// MTX",13699,"B","Active",{"$f":"VLOOKUP(A3853,[1]Sheet1!$A$1:$C$65512,3,FALSE)","v":58},null,null,"No info","линк","https://bg.toolsworld.com/search/?query=","https://bg.toolsworld.com/search/?query=896419"]
[902409,"Dupla szerszámöv , 20 zsebbel, kalapács tartó// MTX",5445,"B","Active",{"$f":"VLOOKUP(A3854,[1]Sheet1!$A$1:$C$65512,3,FALSE)","v":410},null,null,"No info","линк","https://bg.toolsworld.com/search/?query=","https://bg.toolsworld.com/search/?query=902409"]
[902419,"Szerszámöv, 7 zsebbel// MTX",2472,"B","Active",{"$f":"VLOOKUP(A3855,[1]Sheet1!$A$1:$C$65512,3,FALSE)","v":" "},null,null,"No info","линк","https://bg.toolsworld.com/search/?query=","https://bg.toolsworld.com/search/?query=902419"]
[902429,"Szerszámtartó derékra, 8 zsebbel, szerszám és kalapács tartó// MTX",2857,"B","Active",{"$f":"VLOOKUP(A3856,[1]Sheet1!$A$1:$C$65512,3,FALSE)","v":504},null,null,"No info","линк","https://bg.toolsworld.com/search/?query=","https://bg.toolsworld.com/search/?query=902429"]
[902439,"Csavarhúzó tartó zsebbel a csavaroknak és a fúrófejeknek// MTX",2653,"B","Active",{"$f":"VLOOKUP(A3857,[1]Sheet1!$A$1:$C$65512,3,FALSE)","v":289},null,null,"No info","линк","https://bg.toolsworld.com/search/?query=","https://bg.toolsworld.com/search/?query=902439"]
[902449,"Derékra kötheto kalapács tartó// MTX",959,"B","Active",{"$f":"VLOOKUP(A3858,[1]Sheet1!$A$1:$C$65512,3,FALSE)","v":" "},null,null,"No info","линк","https://bg.toolsworld.com/search/?query=","https://bg.toolsworld.com/search/?query=902449"]
[902469,"Szerszámtartó mellény 510mm*600mm// MTX",4519,"B","Active",{"$f":"VLOOKUP(A3859,[1]Sheet1!$A$1:$C$65512,3,FALSE)","v":" "},null,null,"No info","линк","https://bg.toolsworld.com/search/?query=","https://bg.toolsworld.com/search/?query=902469"]
[902479,"Szerszámöv és kalapács tartó 810–1120 mm// MTX",825,"B","Active",{"$f":"VLOOKUP(A3860,[1]Sheet1!$A$1:$C$65512,3,FALSE)","v":81},null,null,"No info","линк","https://bg.toolsworld.com/search/?query=","https://bg.toolsworld.com/search/?query=902479"]
[902499,"Összehajtható szék, 420 x 280 x 390 mm// MTX",7105,"B","Active",{"$f":"VLOOKUP(A3861,[1]Sheet1!$A$1:$C$65512,3,FALSE)","v":{"$error":"#N/A"}},null,null,"No info","линк","https://bg.toolsworld.com/search/?query=","https://bg.toolsworld.com/search/?query=902499"]
[902519,"Szerszámos táska, 14 zsebbel, 315 x 215 x 225 mm// MTX",2812,"B","Active",{"$f":"VLOOKUP(A3862,[1]Sheet1!$A$1:$C$65512,3,FALSE)","v":682},null,null,"No info","линк","https://bg.toolsworld.com/search/?query=","https://bg.toolsworld.com/search/?query=902519"]
[902529,"Szerszámos táska, 18 zsebbel, 510 x 210 x 360 mm// MTX",5934,"B","Active",{"$f":"VLOOKUP(A3863,[1]Sheet1!$A$1:$C$65512,3,FALSE)","v":19},null,null,"No info","линк","https://bg.toolsworld.com/search/?query=","https://bg.toolsworld.com/search/?query=902529"]
[902569,"Szerszámos táska, 32 zsebbel,  460 x 280 x 305 mm// MTX",5598,"B","Active",{"$f":"VLOOKUP(A3864,[1]Sheet1!$A$1:$C$65512,3,FALSE)","v":{"$error":"#N/A"}},null,null,"No info","линк","https://bg.toolsworld.com/search/?query=","https://bg.toolsworld.com/search/?query=902569"]
[902579,"Szerszámos láda , 415 x 230 x 260 mm// MTX",10377,"B","Active",{"$f":"VLOOKUP(A3865,[1]Sheet1!$A$1:$C$65512,3,FALSE)","v":" "},null,null,"No info","линк","https://bg.toolsworld.com/search/?query=","https://bg.toolsworld.com/search/?query=902579"]
[902599,"Szerszámos táska, 18 zsebbel, 320 x 215 x 250 mm// MTX",4384,"B","Active",{"$f":"VLOOKUP(A3866,[1]Sheet1!$A$1:$C$65512,3,FALSE)","v":62},null,null,"No info","линк","https://bg.toolsworld.com/search/?query=","https://bg.toolsworld.com/search/?query=902599"]
[902749,"Szerszámkeret táska, 400x225x300mm, műanyag alsó, vállpánt// GROSS",16822,"B","Active",{"$f":"VLOOKUP(A3867,[1]Sheet1!$A$1:$C$65512,3,FALSE)","v":161},null,null,"No info","линк","https://bg.toolsworld.com/search/?query=","https://bg.toolsworld.com/search/?query=902749"]
[902759,"Szerszámos hátizsák, 440x350x250mm, teleszkópos fogantyú, kerekek// GROSS",20632,"B","Active",{"$f":"VLOOKUP(A3868,[1]Sheet1!$A$1:$C$65512,3,FALSE)","v":211},null,null,"No info","линк","https://bg.toolsworld.com/search/?query=","https://bg.toolsworld.com/search/?query=902759"]
[902769,"Szerszámtáska, 500x280x290mm, teleszkópos fogantyú, kerekek, vállpánt// GROSS",14228,"B","Active",{"$f":"VLOOKUP(A3869,[1]Sheet1!$A$1:$C$65512,3,FALSE)","v":171},null,null,"No info","линк","https://bg.toolsworld.com/search/?query=","https://bg.toolsworld.com/search/?query=902769"]
[902779,"Szerszámtáska, 460x240x340mm, teleszkópos fogantyú, kerekek// GROSS",28405,"B","Active",{"$f":"VLOOKUP(A3870,[1]Sheet1!$A$1:$C$65512,3,FALSE)","v":219},null,null,"No info","линк","https://bg.toolsworld.com/search/?query=","https://bg.toolsworld.com/search/?query=902779"]
[902789,"Szerszámos hátizsák,450x340x170mm// GROSS",10807,"B","Active",{"$f":"VLOOKUP(A3871,[1]Sheet1!$A$1:$C$65512,3,FALSE)","v":114},null,null,"No info","линк","https://bg.toolsworld.com/search/?query=","https://bg.toolsworld.com/search/?query=902789"]
[912305,"Fúró élesebb, D 3,5 - 10 mm// Sparta",4081,"B","Active",{"$f":"VLOOKUP(A3872,[1]Sheet1!$A$1:$C$65512,3,FALSE)","v":186},null,null,"No info","линк","https://bg.toolsworld.com/search/?query=","https://bg.toolsworld.com/search/?query=912305"]
[913065,"Forrasztópisztoly teljesítményszabályozással 25-80 W// Sparta",1674,"B","Active",{"$f":"VLOOKUP(A3873,[1]Sheet1!$A$1:$C$65512,3,FALSE)","v":{"$error":"#N/A"}},null,null,"No info","линк","https://bg.toolsworld.com/search/?query=","https://bg.toolsworld.com/search/?query=913065"]
[913075,"Forrasztópisztoly teljesítményszabályozással 30-60 W// Sparta",1988,"B","Active",{"$f":"VLOOKUP(A3874,[1]Sheet1!$A$1:$C$65512,3,FALSE)","v":4},null,null,"No info","линк","https://bg.toolsworld.com/search/?query=","https://bg.toolsworld.com/search/?query=913075"]
[913102,"Forrasztópáka fa nyéllel, 40 W// Sparta",833,"B","Active",{"$f":"VLOOKUP(A3875,[1]Sheet1!$A$1:$C$65512,3,FALSE)","v":66},null,null,"No info","линк","https://bg.toolsworld.com/search/?query=","https://bg.toolsworld.com/search/?query=913102"]
[913103,"Forrasztópáka fa nyéllel, 60 W// Sparta",1067,"B","Active",{"$f":"VLOOKUP(A3876,[1]Sheet1!$A$1:$C$65512,3,FALSE)","v":{"$error":"#N/A"}},null,null,"No info","линк","https://bg.toolsworld.com/search/?query=","https://bg.toolsworld.com/search/?query=913103"]
[913305,"Forrasztófém Sn60Pb40, D 1 mm, 10 g, muanyag csoben//SPARTA",224,"B","Active",{"$f":"VLOOKUP(A3877,[1]Sheet1!$A$1:$C$65512,3,FALSE)","v":1101},null,null,"No info","линк","https://bg.toolsworld.com/search/?query=","https://bg.toolsworld.com/search/?query=913305"]
[913315,"Forrasztófém Sn60Pb40, D 1 mm, 17 g muanyag csoben//SPARTA",340,"B","Active",{"$f":"VLOOKUP(A3878,[1]Sheet1!$A$1:$C$65512,3,FALSE)","v":907},null,null,"No info","линк","https://bg.toolsworld.com/search/?query=","https://bg.toolsworld.com/search/?query=913315"]
[913325,"Forrasztófém Sn60Pb40, D 1 mm, 25 g, muanyag tekercsen//SPARTA",452,"B","Active",{"$f":"VLOOKUP(A3879,[1]Sheet1!$A$1:$C$65512,3,FALSE)","v":2832},null,null,"No info","линк","https://bg.toolsworld.com/search/?query=","https://bg.toolsworld.com/search/?query=913325"]
[913335,"Forrasztófém Sn60Pb40, D 1 mm, 50 g, muanyag tekercsen//SPARTA",872,"B","Active",{"$f":"VLOOKUP(A3880,[1]Sheet1!$A$1:$C$65512,3,FALSE)","v":733},null,null,"No info","линк","https://bg.toolsworld.com/search/?query=","https://bg.toolsworld.com/search/?query=913335"]
[913345,"Forrasztópaszta, 10 g//SPARTA",165,"B","Active",{"$f":"VLOOKUP(A3881,[1]Sheet1!$A$1:$C$65512,3,FALSE)","v":524},null,null,"No info","линк","https://bg.toolsworld.com/search/?query=","https://bg.toolsworld.com/search/?query=913345"]
[913355,"Forrasztópaszta, 15 g// Sparta",246,"B","Active",{"$f":"VLOOKUP(A3882,[1]Sheet1!$A$1:$C$65512,3,FALSE)","v":{"$error":"#N/A"}},null,null,"No info","линк","https://bg.toolsworld.com/search/?query=","https://bg.toolsworld.com/search/?query=913355"]
[913361,"Gyantamagos forrasztóanyag, D 1 mm, 10 g, POS61, műanyag csőben// Сибртех",281,"B","Active",{"$f":"VLOOKUP(A3883,[1]Sheet1!$A$1:$C$65512,3,FALSE)","v":86},null,null,"No info",{"$f":"HYPERLINK(L3883,\"линк\")","v":"линк"},"https://bg.toolsworld.com/search/?query=","https://bg.toolsworld.com/search/?query=913361"]
[913362,"Gyantával töltött forrasztó ón, D 1 mm, 25 g, POS61, műanyag orsón// Сибртех",562,"B","Active",{"$f":"VLOOKUP(A3884,[1]Sheet1!$A$1:$C$65512,3,FALSE)","v":{"$error":"#N/A"}},null,null,"No info","линк","https://bg.toolsworld.com/search/?query=","https://bg.toolsworld.com/search/?query=913362"]
[913365,"Gyantával töltött forrasztó ón, D 1 mm, 50 g, POS61, műanyag orsón// Сибртех",1179,"B","Active",{"$f":"VLOOKUP(A3885,[1]Sheet1!$A$1:$C$65512,3,FALSE)","v":41},null,null,"No info","линк","https://bg.toolsworld.com/search/?query=","https://bg.toolsworld.com/search/?query=913365"]
[913367,"Gyantával töltött forrasztó ón, D 1 mm, 100 g, POS61, műanyag orsón// Сибртех",2305,"B","Active",{"$f":"VLOOKUP(A3886,[1]Sheet1!$A$1:$C$65512,3,FALSE)","v":221},null,null,"No info","линк","https://bg.toolsworld.com/search/?query=","https://bg.toolsworld.com/search/?query=913367"]
[913371,"Gyantamagos forrasztóanyag, D 1,5 mm, 10 g, POS61, műanyag csőben// Сибртех",283,"B","Active",{"$f":"VLOOKUP(A3887,[1]Sheet1!$A$1:$C$65512,3,FALSE)","v":464},null,null,"No info","линк","https://bg.toolsworld.com/search/?query=",{"$f":"CONCATENATE(K3887,A3887)","v":"https://bg.toolsworld.com/search/?query=913371"}]
[913372,"Gyantamagos forrasztás, D 1,5 mm, 25 g, POS61, műanyag orsón// Сибртех",599,"B","Active",{"$f":"VLOOKUP(A3888,[1]Sheet1!$A$1:$C$65512,3,FALSE)","v":90},null,null,"No info","линк","https://bg.toolsworld.com/search/?query=","https://bg.toolsworld.com/search/?query=913372"]
[913377,"Gyantamag forrasztás, D 1,5 mm, 100 g, POS61, műanyag orsón// Сибртех",2523,"B","Active",{"$f":"VLOOKUP(A3889,[1]Sheet1!$A$1:$C$65512,3,FALSE)","v":14},null,null,"No info","линк","https://bg.toolsworld.com/search/?query=","https://bg.toolsworld.com/search/?query=913377"]
[913381,"Gyantamagos forrasztóanyag, D 2 mm, 15 g, POS61, műanyag csőben// Сибртех",362,"B","Active",{"$f":"VLOOKUP(A3890,[1]Sheet1!$A$1:$C$65512,3,FALSE)","v":87},null,null,"No info","линк","https://bg.toolsworld.com/search/?query=","https://bg.toolsworld.com/search/?query=913381"]
[913385,"Gyantamag forrasztás, D 2 mm, 50 g, POS61, műanyag orsón// Сибртех",1275,"B","Active",{"$f":"VLOOKUP(A3891,[1]Sheet1!$A$1:$C$65512,3,FALSE)","v":35},null,null,"No info","линк","https://bg.toolsworld.com/search/?query=","https://bg.toolsworld.com/search/?query=913385"]
[913387,"Gyantamag forrasztás, D 2 mm, 100 g, POS61, műanyag orsón// Сибртех",3276,"B","Active",{"$f":"VLOOKUP(A3892,[1]Sheet1!$A$1:$C$65512,3,FALSE)","v":171},null,null,"No info","линк","https://bg.toolsworld.com/search/?query=","https://bg.toolsworld.com/search/?query=913387"]
[913675,"Összecsukható nagyító összecsukható, zsebes, 6-os, D 60 mm// Sparta",419,"B","Active",{"$f":"VLOOKUP(A3893,[1]Sheet1!$A$1:$C$65512,3,FALSE)","v":{"$error":"#N/A"}},null,null,"No info","линк","https://bg.toolsworld.com/search/?query=","https://bg.toolsworld.com/search/?query=913675"]
[914125,"Gázégő, \"ceruza\" típusú, 2 fúvóka forrasztáshoz, 130 mm// Sparta",2747,"B","Active",{"$f":"VLOOKUP(A3894,[1]Sheet1!$A$1:$C$65512,3,FALSE)","v":351},null,null,"No info","линк","https://bg.toolsworld.com/search/?query=","https://bg.toolsworld.com/search/?query=914125"]
[914185,"Gázégő, \"ceruza\" típusú, 2 fúvóka forrasztáshoz, 200 mm// Sparta",3160,"B","Active",{"$f":"VLOOKUP(A3895,[1]Sheet1!$A$1:$C$65512,3,FALSE)","v":{"$error":"#N/A"}},null,null,"No info","линк","https://bg.toolsworld.com/search/?query=","https://bg.toolsworld.com/search/?query=914185"]
[914255,"Gázégő MT-4// Sparta",3949,"B","Active",{"$f":"VLOOKUP(A3896,[1]Sheet1!$A$1:$C$65512,3,FALSE)","v":164},null,null,"No info","линк","https://bg.toolsworld.com/search/?query=","https://bg.toolsworld.com/search/?query=914255"]
[914605,"Segítő kéz nagyítóval// Sparta",1537,"B","Active",{"$f":"VLOOKUP(A3897,[1]Sheet1!$A$1:$C$65512,3,FALSE)","v":{"$error":"#N/A"}},null,null,"No info","линк","https://bg.toolsworld.com/search/?query=","https://bg.toolsworld.com/search/?query=914605"]
[914785,"Bádog forrasztószál. Sn40Pb60, D1mm., muanyag csoben // SPARTA",159,"B","Active",{"$f":"VLOOKUP(A3898,[1]Sheet1!$A$1:$C$65512,3,FALSE)","v":21},null,null,"No info","линк","https://bg.toolsworld.com/search/?query=","https://bg.toolsworld.com/search/?query=914785"]
[914805,"2 db Csipeszkészlet, rozsdamentes// Sparta",307,"B","Active",{"$f":"VLOOKUP(A3899,[1]Sheet1!$A$1:$C$65512,3,FALSE)","v":133},null,null,"No info","линк","https://bg.toolsworld.com/search/?query=","https://bg.toolsworld.com/search/?query=914805"]
[914845,"4 db-os csipesz készlet, rozsdamentes//SPARTA",395,"B","Active",{"$f":"VLOOKUP(A3900,[1]Sheet1!$A$1:$C$65512,3,FALSE)","v":3295},null,null,"No info","линк","https://bg.toolsworld.com/search/?query=","https://bg.toolsworld.com/search/?query=914845"]
[918149,"Több célú kábel lakat, 10 * 650mm// MTX",1000,"B","Active",{"$f":"VLOOKUP(A3901,[1]Sheet1!$A$1:$C$65512,3,FALSE)","v":267},null,null,"No info","линк","https://bg.toolsworld.com/search/?query=","https://bg.toolsworld.com/search/?query=918149"]
[918169,"Több célú kábel lakat, 8 * 1200mm// MTX",1181,"B","Active",{"$f":"VLOOKUP(A3902,[1]Sheet1!$A$1:$C$65512,3,FALSE)","v":55},null,null,"No info","линк","https://bg.toolsworld.com/search/?query=","https://bg.toolsworld.com/search/?query=918169"]
[918179,"All-purpose cable lock with holder, 12 * 1200mm// MTX",2132,"B","Active",{"$f":"VLOOKUP(A3903,[1]Sheet1!$A$1:$C$65512,3,FALSE)","v":{"$error":"#N/A"}},null,null,"No info","линк","https://bg.toolsworld.com/search/?query=","https://bg.toolsworld.com/search/?query=918179"]
[918189,"Több célú kábel lakat with code mechanism, 10 * 950mm// MTX",2156,"B","Active",{"$f":"VLOOKUP(A3904,[1]Sheet1!$A$1:$C$65512,3,FALSE)","v":108},null,null,"No info","линк","https://bg.toolsworld.com/search/?query=","https://bg.toolsworld.com/search/?query=918189"]
[918209,"Vízálló biztonsági lakat, 40 mm// MTX",1151,"B","Active",{"$f":"VLOOKUP(A3905,[1]Sheet1!$A$1:$C$65512,3,FALSE)","v":418},null,null,"No info","линк","https://bg.toolsworld.com/search/?query=","https://bg.toolsworld.com/search/?query=918209"]
[918229,"Vízálló biztonsági lakat, 40 mm, meghosszabbított kar// MTX",1218,"B","Active",{"$f":"VLOOKUP(A3906,[1]Sheet1!$A$1:$C$65512,3,FALSE)","v":281},null,null,"No info","линк","https://bg.toolsworld.com/search/?query=","https://bg.toolsworld.com/search/?query=918229"]
[918249,"Vízálló biztonsági lakat, 50 mm// MTX",1470,"B","Active",{"$f":"VLOOKUP(A3907,[1]Sheet1!$A$1:$C$65512,3,FALSE)","v":" "},null,null,"No info","линк","https://bg.toolsworld.com/search/?query=","https://bg.toolsworld.com/search/?query=918249"]
[918269,"Vízálló biztonsági lakat, 50 mm, meghosszabbított kar// MTX",1594,"B","Active",{"$f":"VLOOKUP(A3908,[1]Sheet1!$A$1:$C$65512,3,FALSE)","v":43},null,null,"No info","линк","https://bg.toolsworld.com/search/?query=","https://bg.toolsworld.com/search/?query=918269"]
[923025,"Többcélú mikroszálas kendő 300x300 mm, kék, Home// Palisad",169,"B","Active",{"$f":"VLOOKUP(A3909,[1]Sheet1!$A$1:$C$65512,3,FALSE)","v":46},null,null,"No info","линк","https://bg.toolsworld.com/search/?query=","https://bg.toolsworld.com/search/?query=923025"]
[923035,"Többcélú mikroszálas kendő 300x300 mm, sárga, Home// Palisad",169,"B","Active",{"$f":"VLOOKUP(A3910,[1]Sheet1!$A$1:$C$65512,3,FALSE)","v":{"$error":"#N/A"}},null,null,"No info","линк","https://bg.toolsworld.com/search/?query=","https://bg.toolsworld.com/search/?query=923035"]
[923165,"Gyöngyház mikroszálas kendő háztartási gépekhez és bútorokhoz 400x400 мм, sárga, Home// Palisad",334,"B","Active",{"$f":"VLOOKUP(A3911,[1]Sheet1!$A$1:$C$65512,3,FALSE)","v":{"$error":"#N/A"}},null,null,"No info","линк","https://bg.toolsworld.com/search/?query=","https://bg.toolsworld.com/search/?query=923165"]
[923175,"Gyöngyház mikroszálas kendő háztartási gépekhez és bútorokhoz 400x400 мм, kék, Home// Palisad",334,"B","Active",{"$f":"VLOOKUP(A3912,[1]Sheet1!$A$1:$C$65512,3,FALSE)","v":{"$error":"#N/A"}},null,null,"No info","линк","https://bg.toolsworld.com/search/?query=","https://bg.toolsworld.com/search/?query=923175"]
[927075,"Szemetes zsákok 30 l x 50 db, szürke, Home// Palisad",397,"B","Active",{"$f":"VLOOKUP(A3913,[1]Sheet1!$A$1:$C$65512,3,FALSE)","v":{"$error":"#N/A"}},null,null,"No info","линк","https://bg.toolsworld.com/search/?query=","https://bg.toolsworld.com/search/?query=927075"]
[929265,"Fém ruhaakasztó gumírozott csúszásgátló bevonattal 45 cm, Home// Palisad",511,"B","Active",{"$f":"VLOOKUP(A3914,[1]Sheet1!$A$1:$C$65512,3,FALSE)","v":{"$error":"#N/A"}},null,null,"No info","линк","https://bg.toolsworld.com/search/?query=","https://bg.toolsworld.com/search/?query=929265"]
[929275,"Könnyű ruhafogas gumírozott csúszásgátló bevonattal 40 cm, 5 db-os csomag, Kezdőlap// Palisad",943,"B","Active",{"$f":"VLOOKUP(A3915,[1]Sheet1!$A$1:$C$65512,3,FALSE)","v":{"$error":"#N/A"}},null,null,"No info","линк","https://bg.toolsworld.com/search/?query=","https://bg.toolsworld.com/search/?query=929275"]
[930705,"Ragasztó rúd , 11x300mm, 33 øT// SPARTA",3930,"B","Active",{"$f":"VLOOKUP(A3916,[1]Sheet1!$A$1:$C$65512,3,FALSE)","v":{"$error":"#N/A"}},null,null,"No info","линк","https://bg.toolsworld.com/search/?query=","https://bg.toolsworld.com/search/?query=930705"]
[932305,"Kerozinlámpa// Sparta",1812,"B","Active",{"$f":"VLOOKUP(A3917,[1]Sheet1!$A$1:$C$65512,3,FALSE)","v":{"$error":"#N/A"}},null,null,"No info","линк","https://bg.toolsworld.com/search/?query=","https://bg.toolsworld.com/search/?query=932305"]
[938225,"Készülék rejtett vezetékek és fém észlelésére// Sparta",3500,"B","Active",{"$f":"VLOOKUP(A3918,[1]Sheet1!$A$1:$C$65512,3,FALSE)","v":1},null,null,"No info","линк","https://bg.toolsworld.com/search/?query=","https://bg.toolsworld.com/search/?query=938225"]
[938295,"Egérfogó, 2 db-os készlet// SPARTA",242,"B","Active",{"$f":"VLOOKUP(A3919,[1]Sheet1!$A$1:$C$65512,3,FALSE)","v":152},null,null,"No info","линк","https://bg.toolsworld.com/search/?query=","https://bg.toolsworld.com/search/?query=938295"]
[939135,"Kerti takaró anyag, 60g/m2, 1,6 x 10, fehér// Россия",2633,"B","Active",{"$f":"VLOOKUP(A3920,[1]Sheet1!$A$1:$C$65512,3,FALSE)","v":17},null,null,"No info","линк","https://bg.toolsworld.com/search/?query=","https://bg.toolsworld.com/search/?query=939135"]
[939185,"Cover for roses and shrubs 1.0 x 1.6 // Russia",1615,"B","Active",{"$f":"VLOOKUP(A3921,[1]Sheet1!$A$1:$C$65512,3,FALSE)","v":{"$error":"#N/A"}},null,null,"No info","линк","https://bg.toolsworld.com/search/?query=","https://bg.toolsworld.com/search/?query=939185"]
[942827,"Fúvóka teflon 20, 25 mm műanyag csőhegesztő géphez// MTX",709,"B","Active",{"$f":"VLOOKUP(A3922,[1]Sheet1!$A$1:$C$65512,3,FALSE)","v":" "},null,null,"No info","линк","https://bg.toolsworld.com/search/?query=","https://bg.toolsworld.com/search/?query=942827"]
[942847,"Fúvóka teflon 32, 40 mm műanyag csőhegesztő géphez// MTX",1106,"B","Active",{"$f":"VLOOKUP(A3923,[1]Sheet1!$A$1:$C$65512,3,FALSE)","v":97},null,null,"No info","линк","https://bg.toolsworld.com/search/?query=","https://bg.toolsworld.com/search/?query=942847"]
[942867,"Teflon fúvóka 20, 25, 32, 40 mm műanyag csőhegesztő géphez// MTX",1708,"B","Active",{"$f":"VLOOKUP(A3924,[1]Sheet1!$A$1:$C$65512,3,FALSE)","v":854},null,null,"No info","линк","https://bg.toolsworld.com/search/?query=","https://bg.toolsworld.com/search/?query=942867"]
[952367,"DS-4516 benzines láncfűrész, 45 cc, 1,7 kW, vezetőrúd 16\", menetemelkedés 0,325\", nyomtáv 0,058\", 64 lengőkar// Denzel",35889,"B","Active",{"$f":"VLOOKUP(A3925,[1]Sheet1!$A$1:$C$65512,3,FALSE)","v":2513},null,null,"No info","линк","https://bg.toolsworld.com/search/?query=","https://bg.toolsworld.com/search/?query=952367"]
[952377,"DS-5218 benzines láncfűrész, 52 cc, 1,9 kW, vezetőrúd 18\", 0,325\", 0,058\", 72 lengőkar// Denzel",36504,"B","Active",{"$f":"VLOOKUP(A3926,[1]Sheet1!$A$1:$C$65512,3,FALSE)","v":74},null,null,"No info","линк","https://bg.toolsworld.com/search/?query=","https://bg.toolsworld.com/search/?query=952377"]
[952387,"DS-5820 benzines láncfűrész, 58 cc, 2,4 kW, vezetőrúd 20\", 0,325\", 0,058\", 76 lengőkar// Denzel",36858,"B","Active",{"$f":"VLOOKUP(A3927,[1]Sheet1!$A$1:$C$65512,3,FALSE)","v":" "},null,null,"No info","линк","https://bg.toolsworld.com/search/?query=","https://bg.toolsworld.com/search/?query=952387"]
[952397,"DSX-4516 benzines láncfűrész, 45,1 cc, 1,8 kW, rúd 16\", 0,325\", nyomtáv 0,058\", 64 lengőkar// Denzel",42692,"B","Active",{"$f":"VLOOKUP(A3928,[1]Sheet1!$A$1:$C$65512,3,FALSE)","v":629},null,null,"No info","линк","https://bg.toolsworld.com/search/?query=","https://bg.toolsworld.com/search/?query=952397"]
[952407,"DSX-5218 benzines láncfűrész, 51,5 cc, 2,1 kW, rúd 18\", pitch 0,325\", nyomtáv 0,058\", 72 lengőkar// Denzel",42894,"B","Active",{"$f":"VLOOKUP(A3929,[1]Sheet1!$A$1:$C$65512,3,FALSE)","v":523},null,null,"No info","линк","https://bg.toolsworld.com/search/?query=","https://bg.toolsworld.com/search/?query=952407"]
[952417,"DSX-5820 benzines láncfűrész, 56,5 cc, 2,5 kW, rúd 20\", pitch 0,325\", nyomtáv 0,058\", 76 lengőkar// Denzel",43674,"B","Active",{"$f":"VLOOKUP(A3930,[1]Sheet1!$A$1:$C$65512,3,FALSE)","v":423},null,null,"No info","линк","https://bg.toolsworld.com/search/?query=","https://bg.toolsworld.com/search/?query=952417"]
[954110,"Betonkeverő ACM-120, 120 L, teljesítmény 550 W// MTX",96668,"B","Active",{"$f":"VLOOKUP(A3931,[1]Sheet1!$A$1:$C$65512,3,FALSE)","v":{"$error":"#N/A"}},null,null,"No info","линк","https://bg.toolsworld.com/search/?query=","https://bg.toolsworld.com/search/?query=954110"]
[954111,"Betonkeverő ACM-140, 140 L, teljesítmény 550 W// MTX",102246,"B","Active",{"$f":"VLOOKUP(A3932,[1]Sheet1!$A$1:$C$65512,3,FALSE)","v":{"$error":"#N/A"}},null,null,"No info","линк","https://bg.toolsworld.com/search/?query=","https://bg.toolsworld.com/search/?query=954111"]
[954112,"Betonkeverő ACM-160, 160 L, teljesítmény 650 W// MTX",105036,"B","Active",{"$f":"VLOOKUP(A3933,[1]Sheet1!$A$1:$C$65512,3,FALSE)","v":{"$error":"#N/A"}},null,null,"No info","линк","https://bg.toolsworld.com/search/?query=","https://bg.toolsworld.com/search/?query=954112"]
[954113,"Betonkeverő ACM-180, 180 L, teljesítmény 650 W// MTX",108752,"B","Active",{"$f":"VLOOKUP(A3934,[1]Sheet1!$A$1:$C$65512,3,FALSE)","v":{"$error":"#N/A"}},null,null,"No info","линк","https://bg.toolsworld.com/search/?query=","https://bg.toolsworld.com/search/?query=954113"]
[954217,"Betonkeverő DCM-125, 550 W, 125L// Denzel",144462,"B","Active",{"$f":"VLOOKUP(A3935,[1]Sheet1!$A$1:$C$65512,3,FALSE)","v":24},null,null,"No info","линк","https://bg.toolsworld.com/search/?query=","https://bg.toolsworld.com/search/?query=954217"]
[954227,"Betonkeverő DCM-160, 800 W, 160L// Denzel",147871,"B","Active",{"$f":"VLOOKUP(A3936,[1]Sheet1!$A$1:$C$65512,3,FALSE)","v":{"$error":"#N/A"}},null,null,"No info","линк","https://bg.toolsworld.com/search/?query=","https://bg.toolsworld.com/search/?query=954227"]
[954237,"Betonkeverő DCM-180, 800 W, 180L// Denzel",122377,"B","Active",{"$f":"VLOOKUP(A3937,[1]Sheet1!$A$1:$C$65512,3,FALSE)","v":" "},null,null,"No info","линк","https://bg.toolsworld.com/search/?query=","https://bg.toolsworld.com/search/?query=954237"]
[954247,"Betonkeverő DCM-200, 1000 W, 200L// Denzel",132090,"B","Active",{"$f":"VLOOKUP(A3938,[1]Sheet1!$A$1:$C$65512,3,FALSE)","v":151},null,null,"No info","линк","https://bg.toolsworld.com/search/?query=","https://bg.toolsworld.com/search/?query=954247"]
[954817,"Betonkeverő CM-120M, 120 L, teljesítmény 500 W// MTX",80527,"B","Active",{"$f":"VLOOKUP(A3939,[1]Sheet1!$A$1:$C$65512,3,FALSE)","v":114},null,null,"No info","линк","https://bg.toolsworld.com/search/?query=","https://bg.toolsworld.com/search/?query=954817"]
[954819,"Betonkeverő CM-120S, 120 L, teljesítmény 500 W// Sparta",88353,"B","Active",{"$f":"VLOOKUP(A3940,[1]Sheet1!$A$1:$C$65512,3,FALSE)","v":89},null,null,"No info","линк","https://bg.toolsworld.com/search/?query=","https://bg.toolsworld.com/search/?query=954819"]
[954827,"Betonkeverő CM-140M, 140 L, teljesítmény 550 W// MTX",93910,"B","Active",{"$f":"VLOOKUP(A3941,[1]Sheet1!$A$1:$C$65512,3,FALSE)","v":" "},null,null,"No info","линк","https://bg.toolsworld.com/search/?query=","https://bg.toolsworld.com/search/?query=954827"]
[954829,"Betonkeverő CM-140S, 140 L, teljesítmény 550 W// Sparta",120561,"B","Active",{"$f":"VLOOKUP(A3942,[1]Sheet1!$A$1:$C$65512,3,FALSE)","v":63},null,null,"No info","линк","https://bg.toolsworld.com/search/?query=","https://bg.toolsworld.com/search/?query=954829"]
[954837,"Betonkeverő CM-160M, 160 L, teljesítmény 650 W// MTX",138341,"B","Active",{"$f":"VLOOKUP(A3943,[1]Sheet1!$A$1:$C$65512,3,FALSE)","v":99},null,null,"No info","линк","https://bg.toolsworld.com/search/?query=","https://bg.toolsworld.com/search/?query=954837"]
[954839,"Betonkeverő CM-160S, 160 L, teljesítmény 650 W// Sparta",130755,"B","Active",{"$f":"VLOOKUP(A3944,[1]Sheet1!$A$1:$C$65512,3,FALSE)","v":3},null,null,"No info",{"$f":"HYPERLINK(L3944,\"линк\")","v":"линк"},"https://bg.toolsworld.com/search/?query=","https://bg.toolsworld.com/search/?query=954839"]
[954847,"Betonkeverő CM-180M, 180 L, teljesítmény 800 W// MTX",146763,"B","Active",{"$f":"VLOOKUP(A3945,[1]Sheet1!$A$1:$C$65512,3,FALSE)","v":117},null,null,"No info","линк","https://bg.toolsworld.com/search/?query=","https://bg.toolsworld.com/search/?query=954847"]
[954857,"Betonkeverő CM-200M, 200 L, teljesítmény 800 W// MTX",95507,"B","Active",{"$f":"VLOOKUP(A3946,[1]Sheet1!$A$1:$C$65512,3,FALSE)","v":{"$error":"#N/A"}},null,null,"No info","линк","https://bg.toolsworld.com/search/?query=","https://bg.toolsworld.com/search/?query=954857"]
[954895,"Beton kevero CM120, 120L, 450W// MTX",90987,"B","Active",{"$f":"VLOOKUP(A3947,[1]Sheet1!$A$1:$C$65512,3,FALSE)","v":{"$error":"#N/A"}},null,null,"No info","линк","https://bg.toolsworld.com/search/?query=","https://bg.toolsworld.com/search/?query=954895"]
[954905,"Beton kevero CM140, 140L, 550W// MTX",94066,"B","Active",{"$f":"VLOOKUP(A3948,[1]Sheet1!$A$1:$C$65512,3,FALSE)","v":{"$error":"#N/A"}},null,null,"No info","линк","https://bg.toolsworld.com/search/?query=","https://bg.toolsworld.com/search/?query=954905"]
[956147,"Elektromos láncfűrész ECS-2200P, 2 kW, oldalsó motor, rúd 16\", menetemelkedés 0,375\", nyomtáv 0,050\", 57 link// Denzel",36215,"B","Active",{"$f":"VLOOKUP(A3949,[1]Sheet1!$A$1:$C$65512,3,FALSE)","v":869},null,null,"No info","линк","https://bg.toolsworld.com/search/?query=","https://bg.toolsworld.com/search/?query=956147"]
[961067,"Zsinór környíróhoz, 1,6mm x 15m, FLEX CORD// Denzel",354,"B","Active",{"$f":"VLOOKUP(A3950,[1]Sheet1!$A$1:$C$65512,3,FALSE)","v":" "},null,null,"No info","линк","https://bg.toolsworld.com/search/?query=","https://bg.toolsworld.com/search/?query=961067"]
[961077,"Zsinór környíróhoz, 2,0mm x 15m, FLEX CORD// Denzel",407,"B","Active",{"$f":"VLOOKUP(A3951,[1]Sheet1!$A$1:$C$65512,3,FALSE)","v":489},null,null,"No info","линк","https://bg.toolsworld.com/search/?query=",{"$f":"CONCATENATE(K3951,A3951)","v":"https://bg.toolsworld.com/search/?query=961077"}]
[961087,"Zsinór környíróhoz, 2,4mm x 15m, FLEX CORD// Denzel",479,"B","Active",{"$f":"VLOOKUP(A3952,[1]Sheet1!$A$1:$C$65512,3,FALSE)","v":51},null,null,"No info","линк","https://bg.toolsworld.com/search/?query=","https://bg.toolsworld.com/search/?query=961087"]
[961097,"Zsinór környíróhoz, 3,0mm x 15m, FLEX CORD// Denzel",672,"B","Active",{"$f":"VLOOKUP(A3953,[1]Sheet1!$A$1:$C$65512,3,FALSE)","v":{"$error":"#N/A"}},null,null,"No info","линк","https://bg.toolsworld.com/search/?query=","https://bg.toolsworld.com/search/?query=961097"]
[961107,"Csillag alakú zsinór trimmerhez, 1,6mm x 15m, FLEX CORD// Denzel",322,"B","Active",{"$f":"VLOOKUP(A3954,[1]Sheet1!$A$1:$C$65512,3,FALSE)","v":{"$error":"#N/A"}},null,null,"No info","линк","https://bg.toolsworld.com/search/?query=","https://bg.toolsworld.com/search/?query=961107"]
[961117,"Zsinór trimmerhez csillag alakú, 2,0mm x 15m, FLEX CORD// Denzel",364,"B","Active",{"$f":"VLOOKUP(A3955,[1]Sheet1!$A$1:$C$65512,3,FALSE)","v":4},null,null,"No info","линк","https://bg.toolsworld.com/search/?query=","https://bg.toolsworld.com/search/?query=961117"]
[961127,"Zsinór trimmerhez csillag alakú, 2,4mm x 15m, FLEX CORD// Denzel",417,"B","Active",{"$f":"VLOOKUP(A3956,[1]Sheet1!$A$1:$C$65512,3,FALSE)","v":165},null,null,"No info","линк","https://bg.toolsworld.com/search/?query=","https://bg.toolsworld.com/search/?query=961127"]
[961137,"Fűkasza damil csillag alakú, 3,0mm x 15m, FLEX CORD// Denzel",578,"B","Active",{"$f":"VLOOKUP(A3957,[1]Sheet1!$A$1:$C$65512,3,FALSE)","v":{"$error":"#N/A"}},null,null,"No info","линк","https://bg.toolsworld.com/search/?query=","https://bg.toolsworld.com/search/?query=961137"]
[961147,"Fukasza zsinór, négyzet 1,6 mm x 15 m, FLEX CORD // Denzel",371,"B","Active",{"$f":"VLOOKUP(A3958,[1]Sheet1!$A$1:$C$65512,3,FALSE)","v":{"$error":"#N/A"}},null,null,"No info","линк","https://bg.toolsworld.com/search/?query=","https://bg.toolsworld.com/search/?query=961147"]
[961157,"Fukasza zsinór, nágyzet 2 mm x 15 m, FLEX CORD // Denzel",448,"B","Active",{"$f":"VLOOKUP(A3959,[1]Sheet1!$A$1:$C$65512,3,FALSE)","v":{"$error":"#N/A"}},null,null,"No info","линк","https://bg.toolsworld.com/search/?query=","https://bg.toolsworld.com/search/?query=961157"]
[961167,"Fukasza zsinór, négyzet 2,4 mm x 15 m, FLEX CORD // Denzel",556,"B","Active",{"$f":"VLOOKUP(A3960,[1]Sheet1!$A$1:$C$65512,3,FALSE)","v":{"$error":"#N/A"}},null,null,"No info","линк","https://bg.toolsworld.com/search/?query=","https://bg.toolsworld.com/search/?query=961167"]
[961177,"Fukasza zsinór, négyzet 3 mm x 15 m, FLEX CORD // Denzel",756,"B","Active",{"$f":"VLOOKUP(A3961,[1]Sheet1!$A$1:$C$65512,3,FALSE)","v":{"$error":"#N/A"}},null,null,"No info","линк","https://bg.toolsworld.com/search/?query=","https://bg.toolsworld.com/search/?query=961177"]
[962277,"Benzines Fűkasza DT-52S, 52 сс, 1.45 KW,kétrészes szár// Denzel",42246,"B","Active",{"$f":"VLOOKUP(A3962,[1]Sheet1!$A$1:$C$65512,3,FALSE)","v":{"$error":"#N/A"}},null,null,"No info","линк","https://bg.toolsworld.com/search/?query=","https://bg.toolsworld.com/search/?query=962277"]
[962467,"Benzines bozótvágó MT-52-2, 51,7 cm3, 1,35 kW, kétrészes tengely// MTX",34816,"B","Active",{"$f":"VLOOKUP(A3963,[1]Sheet1!$A$1:$C$65512,3,FALSE)","v":{"$error":"#N/A"}},null,null,"No info","линк","https://bg.toolsworld.com/search/?query=","https://bg.toolsworld.com/search/?query=962467"]
[963147,"Univerzális orsó trimmerhez, anya anya M10 anya anya M8, M12 csavar M8-M10bal, menet 1,25mm// Denzel",3107,"B","Active",{"$f":"VLOOKUP(A3964,[1]Sheet1!$A$1:$C$65512,3,FALSE)","v":{"$error":"#N/A"}},null,null,"No info","линк","https://bg.toolsworld.com/search/?query=","https://bg.toolsworld.com/search/?query=963147"]
[963307,"Penge elektromos fűnyíróhoz Denzel 966077 L1200, 32 cm// Denzel",2552,"B","Active",{"$f":"VLOOKUP(A3965,[1]Sheet1!$A$1:$C$65512,3,FALSE)","v":191},null,null,"No info","линк","https://bg.toolsworld.com/search/?query=","https://bg.toolsworld.com/search/?query=963307"]
[963807,"Trimmer biztonsági készlet Basic: trimmer zsinór 2,4mm x 15m 2db, szemüveg, fülvédő// Denzel",2604,"B","Active",{"$f":"VLOOKUP(A3966,[1]Sheet1!$A$1:$C$65512,3,FALSE)","v":276},null,null,"No info","линк","https://bg.toolsworld.com/search/?query=","https://bg.toolsworld.com/search/?query=963807"]
[963817,"Trimmer biztonsági készlet Pro: trimmer zsinór 2,4mmx15m 2db,szemüveg,fülvédő,hálós napellenző,heveder öv// Denzel",5696,"B","Active",{"$f":"VLOOKUP(A3967,[1]Sheet1!$A$1:$C$65512,3,FALSE)","v":111},null,null,"No info","линк","https://bg.toolsworld.com/search/?query=","https://bg.toolsworld.com/search/?query=963817"]
[964297,"Kerámia fűtőventilátor DHC 2-100, 230V, 0,025/1/2 kW// Denzel",10445,"B","Active",{"$f":"VLOOKUP(A3968,[1]Sheet1!$A$1:$C$65512,3,FALSE)","v":2737},null,null,"No info","линк","https://bg.toolsworld.com/search/?query=","https://bg.toolsworld.com/search/?query=964297"]
[964317,"Kerámia fűtőventilátor DHC 3-150, 230V, 0,025/1,5/3 kW// Denzel",17767,"B","Active",{"$f":"VLOOKUP(A3969,[1]Sheet1!$A$1:$C$65512,3,FALSE)","v":775},null,null,"No info","линк","https://bg.toolsworld.com/search/?query=","https://bg.toolsworld.com/search/?query=964317"]
[964619,"Állvány kvarcfűtőhöz IQH, 1100-1800 mm// MTX",11426,"B","Active",{"$f":"VLOOKUP(A3970,[1]Sheet1!$A$1:$C$65512,3,FALSE)","v":372},null,null,"No info","линк","https://bg.toolsworld.com/search/?query=","https://bg.toolsworld.com/search/?query=964619"]
[964639,"Infravörös kvarcfűtő IQH-2000, 230V, 2000W// MTX",24656,"B","Active",{"$f":"VLOOKUP(A3971,[1]Sheet1!$A$1:$C$65512,3,FALSE)","v":823},null,null,"No info","линк","https://bg.toolsworld.com/search/?query=","https://bg.toolsworld.com/search/?query=964639"]
[966077,"DENZEL Elektromos Funyíró 1.2KW",36966,"B","Active",{"$f":"VLOOKUP(A3972,[1]Sheet1!$A$1:$C$65512,3,FALSE)","v":413},null,null,"No info","линк","https://bg.toolsworld.com/search/?query=","https://bg.toolsworld.com/search/?query=966077"]
[966117,"Elektromos trimmer TE-1200, 1200 W, 380 mm, orsó + tárcsa, hordozható rúd// Denzel",35368,"B","Active",{"$f":"VLOOKUP(A3973,[1]Sheet1!$A$1:$C$65512,3,FALSE)","v":{"$error":"#N/A"}},null,null,"No info","линк","https://bg.toolsworld.com/search/?query=","https://bg.toolsworld.com/search/?query=966117"]
[968157,"Akkus kerti olló teleszkópos csővel G801E akkumulátorral 7,2В Li-Ion 1,5 Аh// Denzel",19612,"B","Active",{"$f":"VLOOKUP(A3974,[1]Sheet1!$A$1:$C$65512,3,FALSE)","v":386},null,null,"No info","линк","https://bg.toolsworld.com/search/?query=","https://bg.toolsworld.com/search/?query=968157"]
[968177,"Akkus kerti olló G411 akkumulátorral 3,6В Li-Ion 1,5 Аh// Denzel",12006,"B","Active",{"$f":"VLOOKUP(A3975,[1]Sheet1!$A$1:$C$65512,3,FALSE)","v":934},null,null,"No info","линк","https://bg.toolsworld.com/search/?query=","https://bg.toolsworld.com/search/?query=968177"]
[972017,"Kerti felületi szivattyú GP600, 600 W, 3000 l/h, magasság 35 m, műanyag// Denzel",30554,"B","Active",{"$f":"VLOOKUP(A3976,[1]Sheet1!$A$1:$C$65512,3,FALSE)","v":322},null,null,"No info","линк","https://bg.toolsworld.com/search/?query=","https://bg.toolsworld.com/search/?query=972017"]
[972027,"Kerti felületi szivattyú GP1000Х, 1000 W, 3500 l/h, magasság 44 m, rozsdamentes acél// Denzel",37581,"B","Active",{"$f":"VLOOKUP(A3977,[1]Sheet1!$A$1:$C$65512,3,FALSE)","v":258},null,null,"No info","линк","https://bg.toolsworld.com/search/?query=","https://bg.toolsworld.com/search/?query=972027"]
[972247,"Vízelvezető szivattyú DP1100X, 1100 W, magasság 10,5 m, 16500 l/h// Denzel",32154,"B","Active",{"$f":"VLOOKUP(A3978,[1]Sheet1!$A$1:$C$65512,3,FALSE)","v":" "},null,null,"No info","линк","https://bg.toolsworld.com/search/?query=","https://bg.toolsworld.com/search/?query=972247"]
[972257,"Vízelvezető szivattyú DPХ550, 550 W, magasság 7 m, 11500 l/h// Denzel",21846,"B","Active",{"$f":"VLOOKUP(A3979,[1]Sheet1!$A$1:$C$65512,3,FALSE)","v":{"$error":"#N/A"}},null,null,"No info","линк","https://bg.toolsworld.com/search/?query=","https://bg.toolsworld.com/search/?query=972257"]
[972267,"Vízelvezető szivattyú DPХ750, 750 W, magasság 8 m, 13500 l/h// Denzel",26344,"B","Active",{"$f":"VLOOKUP(A3980,[1]Sheet1!$A$1:$C$65512,3,FALSE)","v":201},null,null,"No info","линк","https://bg.toolsworld.com/search/?query=","https://bg.toolsworld.com/search/?query=972267"]
[972277,"Vízelvezető szivattyú DPХ900, 900 W, magasság 8,5 m, 15500 l/h// Denzel",29083,"B","Active",{"$f":"VLOOKUP(A3981,[1]Sheet1!$A$1:$C$65512,3,FALSE)","v":105},null,null,"No info","линк","https://bg.toolsworld.com/search/?query=","https://bg.toolsworld.com/search/?query=972277"]
[972837,"Szívókészlet PK 7, 7m szivattyúhoz, átmérő 1\", visszatérő szelep// Denzel",9628,"B","Active",{"$f":"VLOOKUP(A3982,[1]Sheet1!$A$1:$C$65512,3,FALSE)","v":613},null,null,"No info","линк","https://bg.toolsworld.com/search/?query=","https://bg.toolsworld.com/search/?query=972837"]
[981187,"Hibrid elektromos konvektoros fűtés HybridX-1000, IR fűtőelem, digitális termosztát // Denzel",31822,"B","Active",{"$f":"VLOOKUP(A3983,[1]Sheet1!$A$1:$C$65512,3,FALSE)","v":825},null,null,"No info","линк","https://bg.toolsworld.com/search/?query=","https://bg.toolsworld.com/search/?query=981187"]
[981197,"Hibrid elektromos konvektoros fűtés HybridX-1500, IR fűtőelem, digitális termosztát // Denzel",39324,"B","Active",{"$f":"VLOOKUP(A3984,[1]Sheet1!$A$1:$C$65512,3,FALSE)","v":779},null,null,"No info","линк","https://bg.toolsworld.com/search/?query=","https://bg.toolsworld.com/search/?query=981197"]
[981207,"Hibrid elektromos konvektoros fűtés HybridX-2000, IR fűtőelem, digitális termosztát // Denzel",44397,"B","Active",{"$f":"VLOOKUP(A3985,[1]Sheet1!$A$1:$C$65512,3,FALSE)","v":716},null,null,"No info","линк","https://bg.toolsworld.com/search/?query=","https://bg.toolsworld.com/search/?query=981207"]
[981217,"Elektromos konvektoros fűtés OptiPrime-1000, WiFi, érintőképernyő, digitális termosztát, 1000W// Denzel",42749,"B","Active",{"$f":"VLOOKUP(A3986,[1]Sheet1!$A$1:$C$65512,3,FALSE)","v":881},null,null,"No info","линк","https://bg.toolsworld.com/search/?query=","https://bg.toolsworld.com/search/?query=981217"]
[981227,"Elektromos konvektoros fűtés OptiPrime-1500, WiFi, érintőképernyő, digitális termosztát, 1500W// Denzel",45782,"B","Active",{"$f":"VLOOKUP(A3987,[1]Sheet1!$A$1:$C$65512,3,FALSE)","v":788},null,null,"No info","линк","https://bg.toolsworld.com/search/?query=","https://bg.toolsworld.com/search/?query=981227"]
[981237,"Elektromos konvektoros fűtés OptiPrime-2000, WiFi, érintőképernyő, digitális termosztát, 2000W// Denzel",48706,"B","Active",{"$f":"VLOOKUP(A3988,[1]Sheet1!$A$1:$C$65512,3,FALSE)","v":681},null,null,"No info","линк","https://bg.toolsworld.com/search/?query=","https://bg.toolsworld.com/search/?query=981237"]
[982048,"Gyephenger 40 l, kézi, szivattyús, dugós csavaros// Palisad",23579,"B","Active",{"$f":"VLOOKUP(A3989,[1]Sheet1!$A$1:$C$65512,3,FALSE)","v":99},null,null,"No info","линк","https://bg.toolsworld.com/search/?query=","https://bg.toolsworld.com/search/?query=982048"]
[993017,"Vibrációs szivattyú VP300-10, felső szívó, 300 W, fej 75 m, 1200 l/h, kábel 10 m// MTX",14130,"B","Active",{"$f":"VLOOKUP(A3990,[1]Sheet1!$A$1:$C$65512,3,FALSE)","v":5077},null,null,"No info","линк","https://bg.toolsworld.com/search/?query=","https://bg.toolsworld.com/search/?query=993017"]
[1020277,"Gépész kalapács fa nyéllel, 100 g, szögletes toll// Sparta",603,"B","Active",{"$f":"VLOOKUP(A3991,[1]Sheet1!$A$1:$C$65512,3,FALSE)","v":844},null,null,"No info","линк","https://bg.toolsworld.com/search/?query=","https://bg.toolsworld.com/search/?query=1020277"]
[1020677,"Gépészkalapács fa nyéllel, 300 g, szögletes toll// Sparta",992,"B","Active",{"$f":"VLOOKUP(A3992,[1]Sheet1!$A$1:$C$65512,3,FALSE)","v":{"$error":"#N/A"}},null,null,"No info","линк","https://bg.toolsworld.com/search/?query=","https://bg.toolsworld.com/search/?query=1020677"]
[1021077,"Gépészkalapács fa nyéllel, 500 g, szögletes toll// Sparta",1377,"B","Active",{"$f":"VLOOKUP(A3993,[1]Sheet1!$A$1:$C$65512,3,FALSE)","v":185},null,null,"No info","линк","https://bg.toolsworld.com/search/?query=","https://bg.toolsworld.com/search/?query=1021077"]
[1021277,"Gépészkalapács fa nyéllel, 600 g, szögletes toll// Sparta",1568,"B","Active",{"$f":"VLOOKUP(A3994,[1]Sheet1!$A$1:$C$65512,3,FALSE)","v":{"$error":"#N/A"}},null,null,"No info","линк","https://bg.toolsworld.com/search/?query=","https://bg.toolsworld.com/search/?query=1021277"]
[1021377,"Gépészkalapács fa nyéllel, 700 g, szögletes toll// Sparta",1772,"B","Active",{"$f":"VLOOKUP(A3995,[1]Sheet1!$A$1:$C$65512,3,FALSE)","v":{"$error":"#N/A"}},null,null,"No info","линк","https://bg.toolsworld.com/search/?query=","https://bg.toolsworld.com/search/?query=1021377"]
[1021577,"Gépészkalapács fa nyéllel, 800 g, szögletes toll// Sparta",2026,"B","Active",{"$f":"VLOOKUP(A3996,[1]Sheet1!$A$1:$C$65512,3,FALSE)","v":{"$error":"#N/A"}},null,null,"No info","линк","https://bg.toolsworld.com/search/?query=","https://bg.toolsworld.com/search/?query=1021577"]
[1021877,"Gépészkalapács fa nyéllel, 1000 g, szögletes toll// Sparta",2332,"B","Active",{"$f":"VLOOKUP(A3997,[1]Sheet1!$A$1:$C$65512,3,FALSE)","v":{"$error":"#N/A"}},null,null,"No info","линк","https://bg.toolsworld.com/search/?query=","https://bg.toolsworld.com/search/?query=1021877"]
[1044057,"Karmos kalapács, 450g, 27 mm fém gumicső fogantyúval// Sparta",1731,"B","Active",{"$f":"VLOOKUP(A3998,[1]Sheet1!$A$1:$C$65512,3,FALSE)","v":109},null,null,"No info","линк","https://bg.toolsworld.com/search/?query=","https://bg.toolsworld.com/search/?query=1044057"]
[1126657,"HEX kulcskészlet, 1,5-10mm, 10 db, oxidált, gyűrűvel// Sparta",393,"B","Active",{"$f":"VLOOKUP(A3999,[1]Sheet1!$A$1:$C$65512,3,FALSE)","v":" "},null,null,"No info","линк","https://bg.toolsworld.com/search/?query=","https://bg.toolsworld.com/search/?query=1126657"]
[1136755,"bitkészlet PH2 1/4 4 x 50, acél CrV, 5db// MTX",489,"B","Active",{"$f":"VLOOKUP(A4000,[1]Sheet1!$A$1:$C$65512,3,FALSE)","v":50},null,null,"No info","линк","https://bg.toolsworld.com/search/?query=","https://bg.toolsworld.com/search/?query=1136755"]
[1137155,"bitkészlet PH2 1/4 5 x 75, acél CrV, 5db// MTX",589,"B","Active",{"$f":"VLOOKUP(A4001,[1]Sheet1!$A$1:$C$65512,3,FALSE)","v":820},null,null,"No info","линк","https://bg.toolsworld.com/search/?query=","https://bg.toolsworld.com/search/?query=1137155"]
[1374057,"Csővillás készlet, 8-17mm, 6 db, T-rúd, horganyzott// Sparta",1444,"B","Active",{"$f":"VLOOKUP(A4002,[1]Sheet1!$A$1:$C$65512,3,FALSE)","v":1724},null,null,"No info","линк","https://bg.toolsworld.com/search/?query=","https://bg.toolsworld.com/search/?query=1374057"]
[1375257,"Csővillás készlet, 6-22mm, 9 db, T-rúd, horganyzott// Sparta",2472,"B","Active",{"$f":"VLOOKUP(A4003,[1]Sheet1!$A$1:$C$65512,3,FALSE)","v":1334},null,null,"No info","линк","https://bg.toolsworld.com/search/?query=","https://bg.toolsworld.com/search/?query=1375257"]
[1553057,"Állítható csavarkulcs, krómozott, 250mm// Sparta",1572,"B","Active",{"$f":"VLOOKUP(A4004,[1]Sheet1!$A$1:$C$65512,3,FALSE)","v":243},null,null,"No info","линк","https://bg.toolsworld.com/search/?query=","https://bg.toolsworld.com/search/?query=1553057"]
[1553557,"Állítható csavarkulcs, krómozott, 300mm// Sparta",1894,"B","Active",{"$f":"VLOOKUP(A4005,[1]Sheet1!$A$1:$C$65512,3,FALSE)","v":321},null,null,"No info","линк","https://bg.toolsworld.com/search/?query=","https://bg.toolsworld.com/search/?query=1553557"]
[1584155,"Lapos reszelő 200 mm, kétkomponensű nyél",802,"B","Active",{"$f":"VLOOKUP(A4006,[1]Sheet1!$A$1:$C$65512,3,FALSE)","v":15},null,null,"No info","линк","https://bg.toolsworld.com/search/?query=","https://bg.toolsworld.com/search/?query=1584155"]
[1584255,"Háromszög reszelő 200mm, kétkomponensű fogantyú// MTX",794,"B","Active",{"$f":"VLOOKUP(A4007,[1]Sheet1!$A$1:$C$65512,3,FALSE)","v":10},null,null,"No info","линк","https://bg.toolsworld.com/search/?query=","https://bg.toolsworld.com/search/?query=1584255"]
[1584455,"Négyzet alakú reszelő 200 mm, kétkomponensű fogantyú// MTX",739,"B","Active",{"$f":"VLOOKUP(A4008,[1]Sheet1!$A$1:$C$65512,3,FALSE)","v":16},null,null,"No info",{"$f":"HYPERLINK(L4008,\"линк\")","v":"линк"},"https://bg.toolsworld.com/search/?query=","https://bg.toolsworld.com/search/?query=1584455"]
[1584655,"Körreszelő 200 mm, kétkomponensű fogantyú// MTX",674,"B","Active",{"$f":"VLOOKUP(A4009,[1]Sheet1!$A$1:$C$65512,3,FALSE)","v":24},null,null,"No info","линк","https://bg.toolsworld.com/search/?query=","https://bg.toolsworld.com/search/?query=1584655"]
[1584855,"Félkör reszelő 200 mm, kétkomponensű nyél",859,"B","Active",{"$f":"VLOOKUP(A4010,[1]Sheet1!$A$1:$C$65512,3,FALSE)","v":18},null,null,"No info","линк","https://bg.toolsworld.com/search/?query=","https://bg.toolsworld.com/search/?query=1584855"]
[1585255,"3 db-os Reszelőkészlet, 200 mm, kétkomponensű fogantyú",2649,"B","Active",{"$f":"VLOOKUP(A4011,[1]Sheet1!$A$1:$C$65512,3,FALSE)","v":17},null,null,"No info","линк","https://bg.toolsworld.com/search/?query=","https://bg.toolsworld.com/search/?query=1585255"]
[1585455,"5 db-os Reszelőkészlet, 200 mm, kétkomponensű fogantyú",4183,"B","Active",{"$f":"VLOOKUP(A4012,[1]Sheet1!$A$1:$C$65512,3,FALSE)","v":27},null,null,"No info","линк","https://bg.toolsworld.com/search/?query=","https://bg.toolsworld.com/search/?query=1585455"]
[1689559,"Kulcs a tokmányhoz, 13 mm, T alakú// MTX",275,"B","Active",{"$f":"VLOOKUP(A4013,[1]Sheet1!$A$1:$C$65512,3,FALSE)","v":95},null,null,"No info","линк","https://bg.toolsworld.com/search/?query=","https://bg.toolsworld.com/search/?query=1689559"]
[1843055,"Reteszelő fogó, félkör alakú markolat, 250 mm// MTX",1364,"B","Active",{"$f":"VLOOKUP(A4014,[1]Sheet1!$A$1:$C$65512,3,FALSE)","v":692},null,null,"No info","линк","https://bg.toolsworld.com/search/?query=","https://bg.toolsworld.com/search/?query=1843055"]
[1843057,"Reteszelő fogó, 250 mm, félkörfogó// Sparta",1334,"B","Active",{"$f":"VLOOKUP(A4015,[1]Sheet1!$A$1:$C$65512,3,FALSE)","v":986},null,null,"No info","линк","https://bg.toolsworld.com/search/?query=",{"$f":"CONCATENATE(K4015,A4015)","v":"https://bg.toolsworld.com/search/?query=1843057"}]
[1843155,"Reteszelő fogó, lapos markolat, 250 mm// MTX",1381,"B","Active",{"$f":"VLOOKUP(A4016,[1]Sheet1!$A$1:$C$65512,3,FALSE)","v":151},null,null,"No info","линк","https://bg.toolsworld.com/search/?query=","https://bg.toolsworld.com/search/?query=1843155"]
[1843255,"Reteszelő fogó, lapos félkör markolat, 250 mm// MTX",1364,"B","Active",{"$f":"VLOOKUP(A4017,[1]Sheet1!$A$1:$C$65512,3,FALSE)","v":75},null,null,"No info","линк","https://bg.toolsworld.com/search/?query=","https://bg.toolsworld.com/search/?query=1843255"]
[1843355,"Reteszelő fogó, hosszú markolat, 225 mm// MTX",1364,"B","Active",{"$f":"VLOOKUP(A4018,[1]Sheet1!$A$1:$C$65512,3,FALSE)","v":92},null,null,"No info","линк","https://bg.toolsworld.com/search/?query=","https://bg.toolsworld.com/search/?query=1843355"]
[2032057,"Alumínium sarokszorító 75mm// Sparta",931,"B","Active",{"$f":"VLOOKUP(A4019,[1]Sheet1!$A$1:$C$65512,3,FALSE)","v":328},null,null,"No info","линк","https://bg.toolsworld.com/search/?query=","https://bg.toolsworld.com/search/?query=2032057"]
[2042357,"F-szorító 150x50x200mm// Sparta",876,"B","Active",{"$f":"VLOOKUP(A4020,[1]Sheet1!$A$1:$C$65512,3,FALSE)","v":711},null,null,"No info","линк","https://bg.toolsworld.com/search/?query=","https://bg.toolsworld.com/search/?query=2042357"]
[2042457,"F-szorító 150x80x210mm// Sparta",1401,"B","Active",{"$f":"VLOOKUP(A4021,[1]Sheet1!$A$1:$C$65512,3,FALSE)","v":1727},null,null,"No info","линк","https://bg.toolsworld.com/search/?query=","https://bg.toolsworld.com/search/?query=2042457"]
[2042657,"F-szorító 200x50x250mm// Sparta",922,"B","Active",{"$f":"VLOOKUP(A4022,[1]Sheet1!$A$1:$C$65512,3,FALSE)","v":1511},null,null,"No info","линк","https://bg.toolsworld.com/search/?query=","https://bg.toolsworld.com/search/?query=2042657"]
[2042757,"F-szorító 200х80х260mm// Sparta",1460,"B","Active",{"$f":"VLOOKUP(A4023,[1]Sheet1!$A$1:$C$65512,3,FALSE)","v":1708},null,null,"No info","линк","https://bg.toolsworld.com/search/?query=","https://bg.toolsworld.com/search/?query=2042757"]
[2042957,"F-szorító 250x50x300mm// Sparta",973,"B","Active",{"$f":"VLOOKUP(A4024,[1]Sheet1!$A$1:$C$65512,3,FALSE)","v":3869},null,null,"No info","линк","https://bg.toolsworld.com/search/?query=","https://bg.toolsworld.com/search/?query=2042957"]
[2043257,"F-szorító 300x50x350mm// Sparta",1010,"B","Active",{"$f":"VLOOKUP(A4025,[1]Sheet1!$A$1:$C$65512,3,FALSE)","v":2343},null,null,"No info","линк","https://bg.toolsworld.com/search/?query=","https://bg.toolsworld.com/search/?query=2043257"]
[2043357,"F-szorító 400х80х460mm// Sparta",1713,"B","Active",{"$f":"VLOOKUP(A4026,[1]Sheet1!$A$1:$C$65512,3,FALSE)","v":338},null,null,"No info","линк","https://bg.toolsworld.com/search/?query=","https://bg.toolsworld.com/search/?query=2043357"]
[2043557,"F-szorító 300x80x360mm// Sparta",1609,"B","Active",{"$f":"VLOOKUP(A4027,[1]Sheet1!$A$1:$C$65512,3,FALSE)","v":989},null,null,"No info","линк","https://bg.toolsworld.com/search/?query=","https://bg.toolsworld.com/search/?query=2043557"]
[2043857,"F-szorító 300x120x365mm// Sparta",2464,"B","Active",{"$f":"VLOOKUP(A4028,[1]Sheet1!$A$1:$C$65512,3,FALSE)","v":573},null,null,"No info","линк","https://bg.toolsworld.com/search/?query=","https://bg.toolsworld.com/search/?query=2043857"]
[2044057,"F-szorító 400х120х470mm// Sparta",2706,"B","Active",{"$f":"VLOOKUP(A4029,[1]Sheet1!$A$1:$C$65512,3,FALSE)","v":449},null,null,"No info","линк","https://bg.toolsworld.com/search/?query=","https://bg.toolsworld.com/search/?query=2044057"]
[2044157,"F-szorító 500x120x570mm// Sparta",2977,"B","Active",{"$f":"VLOOKUP(A4030,[1]Sheet1!$A$1:$C$65512,3,FALSE)","v":1561},null,null,"No info","линк","https://bg.toolsworld.com/search/?query=","https://bg.toolsworld.com/search/?query=2044157"]
[2044257,"F-szorító 600х120х670mm// Sparta",3169,"B","Active",{"$f":"VLOOKUP(A4031,[1]Sheet1!$A$1:$C$65512,3,FALSE)","v":545},null,null,"No info","линк","https://bg.toolsworld.com/search/?query=","https://bg.toolsworld.com/search/?query=2044257"]
[2044457,"F-szorító 800x120x865mm// Sparta",3623,"B","Active",{"$f":"VLOOKUP(A4032,[1]Sheet1!$A$1:$C$65512,3,FALSE)","v":694},null,null,"No info","линк","https://bg.toolsworld.com/search/?query=","https://bg.toolsworld.com/search/?query=2044457"]
[2044757,"F-szorító 1000x120x1050mm// Sparta",4166,"B","Active",{"$f":"VLOOKUP(A4033,[1]Sheet1!$A$1:$C$65512,3,FALSE)","v":1134},null,null,"No info","линк","https://bg.toolsworld.com/search/?query=","https://bg.toolsworld.com/search/?query=2044757"]
[2044857,"F-szorító 1200x120x1250mm// Sparta",4559,"B","Active",{"$f":"VLOOKUP(A4034,[1]Sheet1!$A$1:$C$65512,3,FALSE)","v":813},null,null,"No info","линк","https://bg.toolsworld.com/search/?query=","https://bg.toolsworld.com/search/?query=2044857"]
[2044957,"F-szorító 1500x120x1550mm// Sparta",5221,"B","Active",{"$f":"VLOOKUP(A4035,[1]Sheet1!$A$1:$C$65512,3,FALSE)","v":327},null,null,"No info","линк","https://bg.toolsworld.com/search/?query=","https://bg.toolsworld.com/search/?query=2044957"]
[2065057,"G-szorító 50mm// Sparta",701,"B","Active",{"$f":"VLOOKUP(A4036,[1]Sheet1!$A$1:$C$65512,3,FALSE)","v":375},null,null,"No info","линк","https://bg.toolsworld.com/search/?query=","https://bg.toolsworld.com/search/?query=2065057"]
[2066257,"G-szorító 150mm// Sparta",2183,"B","Active",{"$f":"VLOOKUP(A4037,[1]Sheet1!$A$1:$C$65512,3,FALSE)","v":37},null,null,"No info","линк","https://bg.toolsworld.com/search/?query=","https://bg.toolsworld.com/search/?query=2066257"]
[2066557,"G-szorító 200mm // Sparta",3132,"B","Active",{"$f":"VLOOKUP(A4038,[1]Sheet1!$A$1:$C$65512,3,FALSE)","v":430},null,null,"No info","линк","https://bg.toolsworld.com/search/?query=","https://bg.toolsworld.com/search/?query=2066557"]
[2066857,"G-szorító 250mm // Sparta",4828,"B","Active",{"$f":"VLOOKUP(A4039,[1]Sheet1!$A$1:$C$65512,3,FALSE)","v":302},null,null,"No info","линк","https://bg.toolsworld.com/search/?query=","https://bg.toolsworld.com/search/?query=2066857"]
[2067157,"G-szorító 300mm // Sparta",5865,"B","Active",{"$f":"VLOOKUP(A4040,[1]Sheet1!$A$1:$C$65512,3,FALSE)","v":307},null,null,"No info","линк","https://bg.toolsworld.com/search/?query=","https://bg.toolsworld.com/search/?query=2067157"]
[2067557,"3 db G-szorító készlet 25-50-75mm// Sparta",1560,"B","Active",{"$f":"VLOOKUP(A4041,[1]Sheet1!$A$1:$C$65512,3,FALSE)","v":5558},null,null,"No info","линк","https://bg.toolsworld.com/search/?query=","https://bg.toolsworld.com/search/?query=2067557"]
[2285559,"Gérvágó furész pót penge, lágyított fogazat, 550mm// MTX",586,"B","Active",{"$f":"VLOOKUP(A4042,[1]Sheet1!$A$1:$C$65512,3,FALSE)","v":{"$error":"#N/A"}},null,null,"No info","линк","https://bg.toolsworld.com/search/?query=","https://bg.toolsworld.com/search/?query=2285559"]
[2286059,"Gérvágó furész pót penge, lágyított fogazat, 600mm// MTX",603,"B","Active",{"$f":"VLOOKUP(A4043,[1]Sheet1!$A$1:$C$65512,3,FALSE)","v":21},null,null,"No info","линк","https://bg.toolsworld.com/search/?query=","https://bg.toolsworld.com/search/?query=2286059"]
[2303357,"Metszőfűrész, munkadarab 310 mm, fa nyél// Sparta",743,"B","Active",{"$f":"VLOOKUP(A4044,[1]Sheet1!$A$1:$C$65512,3,FALSE)","v":131},null,null,"No info","линк","https://bg.toolsworld.com/search/?query=","https://bg.toolsworld.com/search/?query=2303357"]
[2402057,"Fűrészfűrész 200 mm// Sparta",812,"B","Active",{"$f":"VLOOKUP(A4045,[1]Sheet1!$A$1:$C$65512,3,FALSE)","v":66},null,null,"No info","линк","https://bg.toolsworld.com/search/?query=","https://bg.toolsworld.com/search/?query=2402057"]
[3163159,"Tolómérő, 150 mm, osztásérték 0,02 mm, mélységmérővel, dupla skála, fém// MTX",4215,"B","Active",{"$f":"VLOOKUP(A4046,[1]Sheet1!$A$1:$C$65512,3,FALSE)","v":51},null,null,"No info","линк","https://bg.toolsworld.com/search/?query=","https://bg.toolsworld.com/search/?query=3163159"]
[3163259,"Tolómérő, 200 mm, osztásérték 0,02 mm, mélységmérővel, dupla skála, fém// MTX",6720,"B","Active",{"$f":"VLOOKUP(A4047,[1]Sheet1!$A$1:$C$65512,3,FALSE)","v":{"$error":"#N/A"}},null,null,"No info","линк","https://bg.toolsworld.com/search/?query=","https://bg.toolsworld.com/search/?query=3163259"]
[3163359,"Tolómérő, 250 mm, osztásérték 0,02 mm, mélységmérővel, dupla skála, fém// MTX",8394,"B","Active",{"$f":"VLOOKUP(A4048,[1]Sheet1!$A$1:$C$65512,3,FALSE)","v":186},null,null,"No info","линк","https://bg.toolsworld.com/search/?query=","https://bg.toolsworld.com/search/?query=3163359"]
[3163459,"Tolómérő, 300 mm, osztásérték 0,02 mm, mélységmérővel, dupla skála, fém// MTX",9532,"B","Active",{"$f":"VLOOKUP(A4049,[1]Sheet1!$A$1:$C$65512,3,FALSE)","v":105},null,null,"No info","линк","https://bg.toolsworld.com/search/?query=","https://bg.toolsworld.com/search/?query=3163459"]
[3172559,"Mechanikus mikrométer, 0-25 mm// MTX",8036,"B","Active",{"$f":"VLOOKUP(A4050,[1]Sheet1!$A$1:$C$65512,3,FALSE)","v":3},null,null,"No info","линк","https://bg.toolsworld.com/search/?query=","https://bg.toolsworld.com/search/?query=3172559"]
[4055059,"Megerosített szegecselo, 800 mm, szegecsek 3,2-4,0-4,8-6,0-6,4 mm.// MTX",7923,"B","Active",{"$f":"VLOOKUP(A4051,[1]Sheet1!$A$1:$C$65512,3,FALSE)","v":19},null,null,"No info","линк","https://bg.toolsworld.com/search/?query=","https://bg.toolsworld.com/search/?query=4055059"]
[5672059,"Állványok motorjavításhoz, 400 kg (1000 Lbs)// MTX",32368,"B","Active",{"$f":"VLOOKUP(A4052,[1]Sheet1!$A$1:$C$65512,3,FALSE)","v":20},null,null,"No info","линк","https://bg.toolsworld.com/search/?query=","https://bg.toolsworld.com/search/?query=5672059"]
[5673459,"Szerszámkocsi 737 x 383 x 668 mm, 3 részes dobozos// MTX",43582,"B","Active",{"$f":"VLOOKUP(A4053,[1]Sheet1!$A$1:$C$65512,3,FALSE)","v":4},null,null,"No info","линк","https://bg.toolsworld.com/search/?query=","https://bg.toolsworld.com/search/?query=5673459"]
[5674859,"Nyugágy 6 kerék 1000 х 475 х 128 mm műanyag// MTX",15985,"B","Active",{"$f":"VLOOKUP(A4054,[1]Sheet1!$A$1:$C$65512,3,FALSE)","v":87},null,null,"No info","линк","https://bg.toolsworld.com/search/?query=","https://bg.toolsworld.com/search/?query=5674859"]
[5678959,"Motortartó, 500 kg// MTX",28723,"B","Active",{"$f":"VLOOKUP(A4055,[1]Sheet1!$A$1:$C$65512,3,FALSE)","v":13},null,null,"No info","линк","https://bg.toolsworld.com/search/?query=","https://bg.toolsworld.com/search/?query=5678959"]
[5742099,"Pneumatikus tűzőgép téglalap alakú kapcsokhoz 10-22 mm// MTX",10133,"B","Active",{"$f":"VLOOKUP(A4056,[1]Sheet1!$A$1:$C$65512,3,FALSE)","v":108},null,null,"No info","линк","https://bg.toolsworld.com/search/?query=","https://bg.toolsworld.com/search/?query=5742099"]
[6001788,"Női klumpa, pánt nélkül, 41-es méret (ánizs) Россия// Palisad",1336,"B","Active",{"$f":"VLOOKUP(A4057,[1]Sheet1!$A$1:$C$65512,3,FALSE)","v":{"$error":"#N/A"}},null,null,"No info","линк","https://bg.toolsworld.com/search/?query=","https://bg.toolsworld.com/search/?query=6001788"]
[6002478,"Női szandál, 36-os méret (fuschia) // RUSSIA",1949,"B","Active",{"$f":"VLOOKUP(A4058,[1]Sheet1!$A$1:$C$65512,3,FALSE)","v":20},null,null,"No info","линк","https://bg.toolsworld.com/search/?query=","https://bg.toolsworld.com/search/?query=6002478"]
[6002578,"Női szandál, 37-es méret (fuschia) // RUSSIA",1949,"B","Active",{"$f":"VLOOKUP(A4059,[1]Sheet1!$A$1:$C$65512,3,FALSE)","v":{"$error":"#N/A"}},null,null,"No info","линк","https://bg.toolsworld.com/search/?query=","https://bg.toolsworld.com/search/?query=6002578"]
[6002678,"Női szandál, 38-as méret (fuschia) // RUSSIA",1949,"B","Active",{"$f":"VLOOKUP(A4060,[1]Sheet1!$A$1:$C$65512,3,FALSE)","v":{"$error":"#N/A"}},null,null,"No info","линк","https://bg.toolsworld.com/search/?query=","https://bg.toolsworld.com/search/?query=6002678"]
[6002777,"Női szandál, 39-es méret (ánizs) // RUSSIA",1949,"B","Active",{"$f":"VLOOKUP(A4061,[1]Sheet1!$A$1:$C$65512,3,FALSE)","v":{"$error":"#N/A"}},null,null,"No info","линк","https://bg.toolsworld.com/search/?query=","https://bg.toolsworld.com/search/?query=6002777"]
[6002778,"Női szandál, 39-es méret (fuschia) // RUSSIA",1949,"B","Active",{"$f":"VLOOKUP(A4062,[1]Sheet1!$A$1:$C$65512,3,FALSE)","v":{"$error":"#N/A"}},null,null,"No info","линк","https://bg.toolsworld.com/search/?query=","https://bg.toolsworld.com/search/?query=6002778"]
[6002878,"Női szandál, 40-es méret (fuschia) // RUSSIA",1949,"B","Active",{"$f":"VLOOKUP(A4063,[1]Sheet1!$A$1:$C$65512,3,FALSE)","v":{"$error":"#N/A"}},null,null,"No info","линк","https://bg.toolsworld.com/search/?query=","https://bg.toolsworld.com/search/?query=6002878"]
[6002977,"Női szandál, 41-es méret (ánizs) // RUSSIA",1949,"B","Active",{"$f":"VLOOKUP(A4064,[1]Sheet1!$A$1:$C$65512,3,FALSE)","v":{"$error":"#N/A"}},null,null,"No info","линк","https://bg.toolsworld.com/search/?query=","https://bg.toolsworld.com/search/?query=6002977"]
[6002978,"Női szandál, 41-es méret (fuschia) // RUSSIA",1949,"B","Active",{"$f":"VLOOKUP(A4065,[1]Sheet1!$A$1:$C$65512,3,FALSE)","v":118},null,null,"No info","линк","https://bg.toolsworld.com/search/?query=","https://bg.toolsworld.com/search/?query=6002978"]
[6003077,"Férfi szandál, 40-es méret (kék) // RUSSIA",2108,"B","Active",{"$f":"VLOOKUP(A4066,[1]Sheet1!$A$1:$C$65512,3,FALSE)","v":{"$error":"#N/A"}},null,null,"No info",{"$f":"HYPERLINK(L4066,\"линк\")","v":"линк"},"https://bg.toolsworld.com/search/?query=","https://bg.toolsworld.com/search/?query=6003077"]
[6003177,"Férfi szandál, 41-es méret (kék) // RUSSIA",2108,"B","Active",{"$f":"VLOOKUP(A4067,[1]Sheet1!$A$1:$C$65512,3,FALSE)","v":20},null,null,"No info","линк","https://bg.toolsworld.com/search/?query=","https://bg.toolsworld.com/search/?query=6003177"]
[6003277,"Férfi szandál, 42-es méret (kék) // RUSSIA",2108,"B","Active",{"$f":"VLOOKUP(A4068,[1]Sheet1!$A$1:$C$65512,3,FALSE)","v":19},null,null,"No info","линк","https://bg.toolsworld.com/search/?query=","https://bg.toolsworld.com/search/?query=6003277"]
[6003377,"Férfi szandál, 43-as méret (kék) // RUSSIA",2108,"B","Active",{"$f":"VLOOKUP(A4069,[1]Sheet1!$A$1:$C$65512,3,FALSE)","v":19},null,null,"No info","линк","https://bg.toolsworld.com/search/?query=","https://bg.toolsworld.com/search/?query=6003377"]
[6005777,"Férfi szandál, 45-ös méret (kék) // RUSSIA",2108,"B","Active",{"$f":"VLOOKUP(A4070,[1]Sheet1!$A$1:$C$65512,3,FALSE)","v":{"$error":"#N/A"}},null,null,"No info","линк","https://bg.toolsworld.com/search/?query=","https://bg.toolsworld.com/search/?query=6005777"]
[6047757,"Rugós metszővágó, 215 mm, kétkomponensű fogantyúk, LUXE// Palisad",2794,"B","Active",{"$f":"VLOOKUP(A4071,[1]Sheet1!$A$1:$C$65512,3,FALSE)","v":67},null,null,"No info","линк","https://bg.toolsworld.com/search/?query=","https://bg.toolsworld.com/search/?query=6047757"]
[6047957,"Rugós metszővágó, 225 mm, megfogó állítás, fém háromkomponensű fogantyúk, LUXE// Palisad",3173,"B","Active",{"$f":"VLOOKUP(A4072,[1]Sheet1!$A$1:$C$65512,3,FALSE)","v":363},null,null,"No info","линк","https://bg.toolsworld.com/search/?query=","https://bg.toolsworld.com/search/?query=6047957"]
[6048057,"Üllő metsző, 220 mm, fogó állítás, fém háromkomponensű fogantyúk, LUXE// Palisad",3183,"B","Active",{"$f":"VLOOKUP(A4073,[1]Sheet1!$A$1:$C$65512,3,FALSE)","v":48},null,null,"No info","линк","https://bg.toolsworld.com/search/?query=","https://bg.toolsworld.com/search/?query=6048057"]
[6050388,"Rugós metszővágó, 180 mm, gumírozott fém fogantyúk// Palisad",1187,"B","Active",{"$f":"VLOOKUP(A4074,[1]Sheet1!$A$1:$C$65512,3,FALSE)","v":{"$error":"#N/A"}},null,null,"No info","линк","https://bg.toolsworld.com/search/?query=",{"$f":"CONCATENATE(K4074,A4074)","v":"https://bg.toolsworld.com/search/?query=6050388"}]
[6050677,"Rugós lopper, 700 mm, kétkomponensű fogantyúk// Palisad",2733,"B","Active",{"$f":"VLOOKUP(A4075,[1]Sheet1!$A$1:$C$65512,3,FALSE)","v":392},null,null,"No info","линк","https://bg.toolsworld.com/search/?query=","https://bg.toolsworld.com/search/?query=6050677"]
[6054957,"Rugós metszővágó, 200 mm, gumírozott fém fogantyúk// Palisad",979,"B","Active",{"$f":"VLOOKUP(A4076,[1]Sheet1!$A$1:$C$65512,3,FALSE)","v":3614},null,null,"No info","линк","https://bg.toolsworld.com/search/?query=","https://bg.toolsworld.com/search/?query=6054957"]
[6055488,"Kerti metsző, 180 mm, gumírozott fém fogantyúk// Palisad",1193,"B","Active",{"$f":"VLOOKUP(A4077,[1]Sheet1!$A$1:$C$65512,3,FALSE)","v":1244},null,null,"No info","линк","https://bg.toolsworld.com/search/?query=","https://bg.toolsworld.com/search/?query=6055488"]
[6056658,"Hosszú nyelu metszoolló 640 mm, fa markolat// PALISAD",2444,"B","Active",{"$f":"VLOOKUP(A4078,[1]Sheet1!$A$1:$C$65512,3,FALSE)","v":{"$error":"#N/A"}},null,null,"No info","линк","https://bg.toolsworld.com/search/?query=","https://bg.toolsworld.com/search/?query=6056658"]
[6058177,"Rúdvágó fűrésszel, műanyag szárral 25 mm// Palisad",3757,"B","Active",{"$f":"VLOOKUP(A4079,[1]Sheet1!$A$1:$C$65512,3,FALSE)","v":77},null,null,"No info","линк","https://bg.toolsworld.com/search/?query=","https://bg.toolsworld.com/search/?query=6058177"]
[6083758,"Bozótvágó, 580 mm, hullámos pengék, fa markolat",2733,"B","Active",{"$f":"VLOOKUP(A4080,[1]Sheet1!$A$1:$C$65512,3,FALSE)","v":162},null,null,"No info","линк","https://bg.toolsworld.com/search/?query=","https://bg.toolsworld.com/search/?query=6083758"]
[6143757,"Kerek hegyű lapát, rozsdamentes acél, 200x265 mm, merevítő bordák, nyél nélkül// Palisad",4914,"B","Active",{"$f":"VLOOKUP(A4081,[1]Sheet1!$A$1:$C$65512,3,FALSE)","v":{"$error":"#N/A"}},null,null,"No info","линк","https://bg.toolsworld.com/search/?query=","https://bg.toolsworld.com/search/?query=6143757"]
[6178858,"Acél fűnyíró, 430x1550 mm, 22 lapos fog, lakkozott nyél, LUXE// Palisad",4063,"B","Active",{"$f":"VLOOKUP(A4082,[1]Sheet1!$A$1:$C$65512,3,FALSE)","v":151},null,null,"No info","линк","https://bg.toolsworld.com/search/?query=","https://bg.toolsworld.com/search/?query=6178858"]
[6178988,"Acél gereblye, 360x1250 mm, 14 egyenes fog, lakkozott fa nyél, Russia// Сибртех",3834,"B","Active",{"$f":"VLOOKUP(A4083,[1]Sheet1!$A$1:$C$65512,3,FALSE)","v":85},null,null,"No info","линк","https://bg.toolsworld.com/search/?query=","https://bg.toolsworld.com/search/?query=6178988"]
[6179058,"Acél fűnyíró, 540x1450 mm, 24 lapos fog, lakkozott nyél, LUXE// Palisad",5378,"B","Active",{"$f":"VLOOKUP(A4084,[1]Sheet1!$A$1:$C$65512,3,FALSE)","v":129},null,null,"No info","линк","https://bg.toolsworld.com/search/?query=","https://bg.toolsworld.com/search/?query=6179058"]
[6518758,"Tömlőfej, 8 minta// Palisad",1295,"B","Active",{"$f":"VLOOKUP(A4085,[1]Sheet1!$A$1:$C$65512,3,FALSE)","v":37},null,null,"No info","линк","https://bg.toolsworld.com/search/?query=","https://bg.toolsworld.com/search/?query=6518758"]
[6521258,"Vízpermetező rúd 8 mód, teljes hossz 750 mm, fém ház// Palisad",2831,"B","Active",{"$f":"VLOOKUP(A4086,[1]Sheet1!$A$1:$C$65512,3,FALSE)","v":{"$error":"#N/A"}},null,null,"No info","линк","https://bg.toolsworld.com/search/?query=","https://bg.toolsworld.com/search/?query=6521258"]
[6525258,"Tömlőfej, állítható, fém tok// Palisad",3034,"B","Active",{"$f":"VLOOKUP(A4087,[1]Sheet1!$A$1:$C$65512,3,FALSE)","v":88},null,null,"No info","линк","https://bg.toolsworld.com/search/?query=","https://bg.toolsworld.com/search/?query=6525258"]
[6526358,"Tömlőfej, 10 minta, fém tok// Palisad",3342,"B","Active",{"$f":"VLOOKUP(A4088,[1]Sheet1!$A$1:$C$65512,3,FALSE)","v":422},null,null,"No info","линк","https://bg.toolsworld.com/search/?query=","https://bg.toolsworld.com/search/?query=6526358"]
[6760088,"Erősített kerti tömlő 1/2\", 15m, LUXE// Palisad",4396,"B","Active",{"$f":"VLOOKUP(A4089,[1]Sheet1!$A$1:$C$65512,3,FALSE)","v":{"$error":"#N/A"}},null,null,"No info","линк","https://bg.toolsworld.com/search/?query=","https://bg.toolsworld.com/search/?query=6760088"]
[6760188,"Erősített kerti tömlő 1/2\", 25m, LUXE// Palisad",7182,"B","Active",{"$f":"VLOOKUP(A4090,[1]Sheet1!$A$1:$C$65512,3,FALSE)","v":{"$error":"#N/A"}},null,null,"No info","линк","https://bg.toolsworld.com/search/?query=","https://bg.toolsworld.com/search/?query=6760188"]
[6760388,"Erősített kerti tömlő 3/4\", 15m, LUXE// Palisad",8422,"B","Active",{"$f":"VLOOKUP(A4091,[1]Sheet1!$A$1:$C$65512,3,FALSE)","v":" "},null,null,"No info","линк","https://bg.toolsworld.com/search/?query=","https://bg.toolsworld.com/search/?query=6760388"]
[6760488,"Erősített kerti tömlő 3/4\", 25m, LUXE// Palisad",13035,"B","Active",{"$f":"VLOOKUP(A4092,[1]Sheet1!$A$1:$C$65512,3,FALSE)","v":{"$error":"#N/A"}},null,null,"No info","линк","https://bg.toolsworld.com/search/?query=","https://bg.toolsworld.com/search/?query=6760488"]
[6760588,"Erősített kerti tömlő 3/4\", 50m, LUXE// Palisad",25255,"B","Active",{"$f":"VLOOKUP(A4093,[1]Sheet1!$A$1:$C$65512,3,FALSE)","v":{"$error":"#N/A"}},null,null,"No info","линк","https://bg.toolsworld.com/search/?query=","https://bg.toolsworld.com/search/?query=6760588"]
[6842377,"Faszár, FSC, 20x1300 mm// Palisad",472,"B","Active",{"$f":"VLOOKUP(A4094,[1]Sheet1!$A$1:$C$65512,3,FALSE)","v":170},null,null,"No info","линк","https://bg.toolsworld.com/search/?query=","https://bg.toolsworld.com/search/?query=6842377"]
[6870557,"Görgo  konténer alá D 160 mm // MTX",1761,"B","Active",{"$f":"VLOOKUP(A4095,[1]Sheet1!$A$1:$C$65512,3,FALSE)","v":477},null,null,"No info","линк","https://bg.toolsworld.com/search/?query=","https://bg.toolsworld.com/search/?query=6870557"]
[6871057,"Nem forgó kerék D 125 mm, platformrögzítés// MTX",1845,"B","Active",{"$f":"VLOOKUP(A4096,[1]Sheet1!$A$1:$C$65512,3,FALSE)","v":30},null,null,"No info","линк","https://bg.toolsworld.com/search/?query=","https://bg.toolsworld.com/search/?query=6871057"]
[6896157,"Egykerekű kerti talicska, könnyített, tálca térfogata 65 l// Palisad",12554,"B","Active",{"$f":"VLOOKUP(A4097,[1]Sheet1!$A$1:$C$65512,3,FALSE)","v":" "},null,null,"No info","линк","https://bg.toolsworld.com/search/?query=","https://bg.toolsworld.com/search/?query=6896157"]
[6898457,"Kerti talicska, teherbírása 90 kg, tálca térfogata 65 l// Palisad",12961,"B","Active",{"$f":"VLOOKUP(A4098,[1]Sheet1!$A$1:$C$65512,3,FALSE)","v":1718},null,null,"No info","линк","https://bg.toolsworld.com/search/?query=","https://bg.toolsworld.com/search/?query=6898457"]
[7047159,"Fa körkivágó szett, 64-127mm, 8 db// MTX",2091,"B","Active",{"$f":"VLOOKUP(A4099,[1]Sheet1!$A$1:$C$65512,3,FALSE)","v":{"$error":"#N/A"}},null,null,"No info","линк","https://bg.toolsworld.com/search/?query=","https://bg.toolsworld.com/search/?query=7047159"]
[7049209,"Állítható kör lyukvágó 30-200mm// MTX",1857,"B","Active",{"$f":"VLOOKUP(A4100,[1]Sheet1!$A$1:$C$65512,3,FALSE)","v":19},null,null,"No info","линк","https://bg.toolsworld.com/search/?query=","https://bg.toolsworld.com/search/?query=7049209"]
[7049309,"Állítható kör lyukvágó 30-300mm// MTX",2460,"B","Active",{"$f":"VLOOKUP(A4101,[1]Sheet1!$A$1:$C$65512,3,FALSE)","v":328},null,null,"No info","линк","https://bg.toolsworld.com/search/?query=","https://bg.toolsworld.com/search/?query=7049309"]
[7049559,"Lapos fúrófej bovíto, 300mm, Átm: 44-40mm, hatoldalú szár// MTX",688,"B","Active",{"$f":"VLOOKUP(A4102,[1]Sheet1!$A$1:$C$65512,3,FALSE)","v":379},null,null,"No info","линк","https://bg.toolsworld.com/search/?query=","https://bg.toolsworld.com/search/?query=7049559"]
[7124569,"Áttörő fúrószár 45 x 600 mm, SDS MAX// MTX",30098,"B","Active",{"$f":"VLOOKUP(A4103,[1]Sheet1!$A$1:$C$65512,3,FALSE)","v":67},null,null,"No info","линк","https://bg.toolsworld.com/search/?query=","https://bg.toolsworld.com/search/?query=7124569"]
[7125569,"Áttörő fúrószár 55 x 600 mm, SDS MAX// MTX",30957,"B","Active",{"$f":"VLOOKUP(A4104,[1]Sheet1!$A$1:$C$65512,3,FALSE)","v":72},null,null,"No info","линк","https://bg.toolsworld.com/search/?query=","https://bg.toolsworld.com/search/?query=7125569"]
[7126869,"Áttörő fúrószár 68 x 600 mm, SDS MAX// MTX",38976,"B","Active",{"$f":"VLOOKUP(A4105,[1]Sheet1!$A$1:$C$65512,3,FALSE)","v":148},null,null,"No info","линк","https://bg.toolsworld.com/search/?query=","https://bg.toolsworld.com/search/?query=7126869"]
[7128069,"Áttörő fúrószár 80 x 600 mm, SDS MAX// MTX",49651,"B","Active",{"$f":"VLOOKUP(A4106,[1]Sheet1!$A$1:$C$65512,3,FALSE)","v":153},null,null,"No info","линк","https://bg.toolsworld.com/search/?query=","https://bg.toolsworld.com/search/?query=7128069"]
[7172009,"Fém fúrófej HSS-TiN 2mm// MTX",106,"B","Active",{"$f":"VLOOKUP(A4107,[1]Sheet1!$A$1:$C$65512,3,FALSE)","v":628},null,null,"No info","линк","https://bg.toolsworld.com/search/?query=","https://bg.toolsworld.com/search/?query=7172009"]
[7172029,"Fém fúrófej HSS-TiN 2mm, hatoldalú szár// MTX",140,"B","Active",{"$f":"VLOOKUP(A4108,[1]Sheet1!$A$1:$C$65512,3,FALSE)","v":403},null,null,"No info","линк","https://bg.toolsworld.com/search/?query=","https://bg.toolsworld.com/search/?query=7172029"]
[7172509,"Fém fúrófej HSS-TiN 2,5mm// MTX",116,"B","Active",{"$f":"VLOOKUP(A4109,[1]Sheet1!$A$1:$C$65512,3,FALSE)","v":948},null,null,"No info","линк","https://bg.toolsworld.com/search/?query=","https://bg.toolsworld.com/search/?query=7172509"]
[7172529,"Fém fúrófej HSS-TiN 2,5mm, hatoldalú szár// MTX",149,"B","Active",{"$f":"VLOOKUP(A4110,[1]Sheet1!$A$1:$C$65512,3,FALSE)","v":82},null,null,"No info","линк","https://bg.toolsworld.com/search/?query=","https://bg.toolsworld.com/search/?query=7172529"]
[7173009,"Fém fúrófej HSS-TiN 3mm// MTX",116,"B","Active",{"$f":"VLOOKUP(A4111,[1]Sheet1!$A$1:$C$65512,3,FALSE)","v":1252},null,null,"No info","линк","https://bg.toolsworld.com/search/?query=","https://bg.toolsworld.com/search/?query=7173009"]
[7173029,"Fém fúrófej HSS-TiN 3mm, hatoldalú szár// MTX",159,"B","Active",{"$f":"VLOOKUP(A4112,[1]Sheet1!$A$1:$C$65512,3,FALSE)","v":867},null,null,"No info","линк","https://bg.toolsworld.com/search/?query=","https://bg.toolsworld.com/search/?query=7173029"]
[7173209,"Fém fúrófej HSS-TiN 3,2mm// MTX",120,"B","Active",{"$f":"VLOOKUP(A4113,[1]Sheet1!$A$1:$C$65512,3,FALSE)","v":478},null,null,"No info","линк","https://bg.toolsworld.com/search/?query=","https://bg.toolsworld.com/search/?query=7173209"]
[7173229,"Fém fúrófej HSS-TiN 3,2mm, hatoldalú szár // MTX",163,"B","Active",{"$f":"VLOOKUP(A4114,[1]Sheet1!$A$1:$C$65512,3,FALSE)","v":521},null,null,"No info","линк","https://bg.toolsworld.com/search/?query=","https://bg.toolsworld.com/search/?query=7173229"]
[7173509,"Fém fúrófej HSS-TiN 3,5mm// MTX",126,"B","Active",{"$f":"VLOOKUP(A4115,[1]Sheet1!$A$1:$C$65512,3,FALSE)","v":957},null,null,"No info","линк","https://bg.toolsworld.com/search/?query=","https://bg.toolsworld.com/search/?query=7173509"]
[7173529,"Fém fúrófej HSS-TiN 3,5mm, hatoldalú szár// MTX",173,"B","Active",{"$f":"VLOOKUP(A4116,[1]Sheet1!$A$1:$C$65512,3,FALSE)","v":124},null,null,"No info","линк","https://bg.toolsworld.com/search/?query=","https://bg.toolsworld.com/search/?query=7173529"]
[7174009,"Fém fúrófej HSS-TiN 4mm// MTX",136,"B","Active",{"$f":"VLOOKUP(A4117,[1]Sheet1!$A$1:$C$65512,3,FALSE)","v":2053},null,null,"No info","линк","https://bg.toolsworld.com/search/?query=","https://bg.toolsworld.com/search/?query=7174009"]
[7174029,"Fém fúrófej HSS-TiN 4mm, hatoldalú szár// MTX",193,"B","Active",{"$f":"VLOOKUP(A4118,[1]Sheet1!$A$1:$C$65512,3,FALSE)","v":510},null,null,"No info","линк","https://bg.toolsworld.com/search/?query=","https://bg.toolsworld.com/search/?query=7174029"]
[7174509,"Fém fúrófej HSS-TiN 4,5mm// MTX",149,"B","Active",{"$f":"VLOOKUP(A4119,[1]Sheet1!$A$1:$C$65512,3,FALSE)","v":422},null,null,"No info","линк","https://bg.toolsworld.com/search/?query=","https://bg.toolsworld.com/search/?query=7174509"]
[7174529,"Fém fúrófej HSS-TiN 4,5mm, hatoldalú szár// MTX",193,"B","Active",{"$f":"VLOOKUP(A4120,[1]Sheet1!$A$1:$C$65512,3,FALSE)","v":301},null,null,"No info","линк","https://bg.toolsworld.com/search/?query=","https://bg.toolsworld.com/search/?query=7174529"]
[7174809,"Fém fúrófej HSS-TiN 4,8mm// MTX",159,"B","Active",{"$f":"VLOOKUP(A4121,[1]Sheet1!$A$1:$C$65512,3,FALSE)","v":266},null,null,"No info","линк","https://bg.toolsworld.com/search/?query=","https://bg.toolsworld.com/search/?query=7174809"]
[7174829,"Fém fúrófej HSS-TiN 4,8mm, hatoldalú szár// MTX",206,"B","Active",{"$f":"VLOOKUP(A4122,[1]Sheet1!$A$1:$C$65512,3,FALSE)","v":361},null,null,"No info","линк","https://bg.toolsworld.com/search/?query=","https://bg.toolsworld.com/search/?query=7174829"]
[7175009,"Fém fúrófej HSS-TiN 5mm// MTX",159,"B","Active",{"$f":"VLOOKUP(A4123,[1]Sheet1!$A$1:$C$65512,3,FALSE)","v":1235},null,null,"No info","линк","https://bg.toolsworld.com/search/?query=","https://bg.toolsworld.com/search/?query=7175009"]
[7175029,"Fém fúrófej HSS-TiN 5mm, hatoldalú szár// MTX",216,"B","Active",{"$f":"VLOOKUP(A4124,[1]Sheet1!$A$1:$C$65512,3,FALSE)","v":686},null,null,"No info","линк","https://bg.toolsworld.com/search/?query=","https://bg.toolsworld.com/search/?query=7175029"]
[7175509,"Fém fúrófej HSS-TiN 5,5mm// MTX",173,"B","Active",{"$f":"VLOOKUP(A4125,[1]Sheet1!$A$1:$C$65512,3,FALSE)","v":674},null,null,"No info","линк","https://bg.toolsworld.com/search/?query=","https://bg.toolsworld.com/search/?query=7175509"]
[7175529,"Fém fúrófej HSS-TiN 5,5mm, hatoldalú szár// MTX",242,"B","Active",{"$f":"VLOOKUP(A4126,[1]Sheet1!$A$1:$C$65512,3,FALSE)","v":362},null,null,"No info","линк","https://bg.toolsworld.com/search/?query=","https://bg.toolsworld.com/search/?query=7175529"]
[7176009,"Fém fúrófej HSS-TiN 6mm// MTX",193,"B","Active",{"$f":"VLOOKUP(A4127,[1]Sheet1!$A$1:$C$65512,3,FALSE)","v":1735},null,null,"No info","линк","https://bg.toolsworld.com/search/?query=","https://bg.toolsworld.com/search/?query=7176009"]
[7176029,"Fém fúrófej HSS-TiN 6mm, hatoldalú szár// MTX",242,"B","Active",{"$f":"VLOOKUP(A4128,[1]Sheet1!$A$1:$C$65512,3,FALSE)","v":168},null,null,"No info","линк","https://bg.toolsworld.com/search/?query=","https://bg.toolsworld.com/search/?query=7176029"]
[7176509,"Fém fúrófej HSS-TiN 6,5mm// MTX",216,"B","Active",{"$f":"VLOOKUP(A4129,[1]Sheet1!$A$1:$C$65512,3,FALSE)","v":709},null,null,"No info","линк","https://bg.toolsworld.com/search/?query=","https://bg.toolsworld.com/search/?query=7176509"]
[7176529,"Fém fúrófej HSS-TiN 6,5mm, hatoldalú szár// MTX",285,"B","Active",{"$f":"VLOOKUP(A4130,[1]Sheet1!$A$1:$C$65512,3,FALSE)","v":118},null,null,"No info",{"$f":"HYPERLINK(L4130,\"линк\")","v":"линк"},"https://bg.toolsworld.com/search/?query=","https://bg.toolsworld.com/search/?query=7176529"]
[7177029,"Fém fúrófej HSS-TiN 7mm, hatoldalú szár// MTX",308,"B","Active",{"$f":"VLOOKUP(A4131,[1]Sheet1!$A$1:$C$65512,3,FALSE)","v":362},null,null,"No info","линк","https://bg.toolsworld.com/search/?query=","https://bg.toolsworld.com/search/?query=7177029"]
[7177509,"Fém fúrófej HSS-TiN 7,5mm// MTX",242,"B","Active",{"$f":"VLOOKUP(A4132,[1]Sheet1!$A$1:$C$65512,3,FALSE)","v":142},null,null,"No info","линк","https://bg.toolsworld.com/search/?query=","https://bg.toolsworld.com/search/?query=7177509"]
[7177529,"Fém fúrófej HSS-TiN 7,5mm, hatoldalú szár// MTX",342,"B","Active",{"$f":"VLOOKUP(A4133,[1]Sheet1!$A$1:$C$65512,3,FALSE)","v":476},null,null,"No info","линк","https://bg.toolsworld.com/search/?query=","https://bg.toolsworld.com/search/?query=7177529"]
[7178009,"Fém fúrófej HSS-TiN 8mm// MTX",308,"B","Active",{"$f":"VLOOKUP(A4134,[1]Sheet1!$A$1:$C$65512,3,FALSE)","v":1315},null,null,"No info","линк","https://bg.toolsworld.com/search/?query=","https://bg.toolsworld.com/search/?query=7178009"]
[7178029,"Fém fúrófej HSS-TiN 8mm, hatoldalú szár// MTX",346,"B","Active",{"$f":"VLOOKUP(A4135,[1]Sheet1!$A$1:$C$65512,3,FALSE)","v":381},null,null,"No info","линк","https://bg.toolsworld.com/search/?query=","https://bg.toolsworld.com/search/?query=7178029"]
[7178529,"Fém fúrófej HSS-TiN 8,5mm, hatoldalú szár// MTX",391,"B","Active",{"$f":"VLOOKUP(A4136,[1]Sheet1!$A$1:$C$65512,3,FALSE)","v":38},null,null,"No info","линк","https://bg.toolsworld.com/search/?query=","https://bg.toolsworld.com/search/?query=7178529"]
[7179009,"Fém fúrófej HSS-TiN 9mm// MTX",356,"B","Active",{"$f":"VLOOKUP(A4137,[1]Sheet1!$A$1:$C$65512,3,FALSE)","v":86},null,null,"No info","линк","https://bg.toolsworld.com/search/?query=","https://bg.toolsworld.com/search/?query=7179009"]
[7179029,"Fém fúrófej HSS-TiN 9mm, hatoldalú szár// MTX",428,"B","Active",{"$f":"VLOOKUP(A4138,[1]Sheet1!$A$1:$C$65512,3,FALSE)","v":123},null,null,"No info","линк","https://bg.toolsworld.com/search/?query=",{"$f":"CONCATENATE(K4138,A4138)","v":"https://bg.toolsworld.com/search/?query=7179029"}]
[7179509,"Fém fúrófej HSS-TiN 10mm// MTX",424,"B","Active",{"$f":"VLOOKUP(A4139,[1]Sheet1!$A$1:$C$65512,3,FALSE)","v":648},null,null,"No info","линк","https://bg.toolsworld.com/search/?query=","https://bg.toolsworld.com/search/?query=7179509"]
[7179529,"Fém fúrófej HSS-TiN 10mm, hatoldalú szár// MTX",491,"B","Active",{"$f":"VLOOKUP(A4140,[1]Sheet1!$A$1:$C$65512,3,FALSE)","v":83},null,null,"No info","линк","https://bg.toolsworld.com/search/?query=","https://bg.toolsworld.com/search/?query=7179529"]
[7179809,"Fém fúrófej HSS-TiN 12mm// MTX",578,"B","Active",{"$f":"VLOOKUP(A4141,[1]Sheet1!$A$1:$C$65512,3,FALSE)","v":577},null,null,"No info","линк","https://bg.toolsworld.com/search/?query=","https://bg.toolsworld.com/search/?query=7179809"]
[7375277,"Fém vágó korong, 115 х 1,0 х 22,2 mm// Gross",244,"B","Active",{"$f":"VLOOKUP(A4142,[1]Sheet1!$A$1:$C$65512,3,FALSE)","v":3888},null,null,"No info","линк","https://bg.toolsworld.com/search/?query=","https://bg.toolsworld.com/search/?query=7375277"]
[7375377,"Fém vágó korong, 115 х 1,2 х 22,2 mm// Gross",244,"B","Active",{"$f":"VLOOKUP(A4143,[1]Sheet1!$A$1:$C$65512,3,FALSE)","v":5215},null,null,"No info","линк","https://bg.toolsworld.com/search/?query=","https://bg.toolsworld.com/search/?query=7375377"]
[7376177,"Fém vágó korong, 125 х 1,0 х 22,2 mm// Gross",261,"B","Active",{"$f":"VLOOKUP(A4144,[1]Sheet1!$A$1:$C$65512,3,FALSE)","v":7437},null,null,"No info","линк","https://bg.toolsworld.com/search/?query=","https://bg.toolsworld.com/search/?query=7376177"]
[7376277,"Fém vágó korong, 125 х 1,2 х 22,2 mm// Gross",261,"B","Active",{"$f":"VLOOKUP(A4145,[1]Sheet1!$A$1:$C$65512,3,FALSE)","v":3026},null,null,"No info","линк","https://bg.toolsworld.com/search/?query=","https://bg.toolsworld.com/search/?query=7376277"]
[7379177,"Fém vágó korong, 230 х 1,8 х 22,2 mm// Gross",794,"B","Active",{"$f":"VLOOKUP(A4146,[1]Sheet1!$A$1:$C$65512,3,FALSE)","v":3784},null,null,"No info","линк","https://bg.toolsworld.com/search/?query=","https://bg.toolsworld.com/search/?query=7379177"]
[7379377,"Fém vágó korong, 230 х 2,5 х 22,2 mm// Gross",916,"B","Active",{"$f":"VLOOKUP(A4147,[1]Sheet1!$A$1:$C$65512,3,FALSE)","v":1786},null,null,"No info","линк","https://bg.toolsworld.com/search/?query=","https://bg.toolsworld.com/search/?query=7379377"]
[7482257,"Acél drótkefe, 4 soros, fa nyéllel// Sparta",297,"B","Active",{"$f":"VLOOKUP(A4148,[1]Sheet1!$A$1:$C$65512,3,FALSE)","v":{"$error":"#N/A"}},null,null,"No info","линк","https://bg.toolsworld.com/search/?query=","https://bg.toolsworld.com/search/?query=7482257"]
[7482457,"Acél drótkefe, 5 soros, fa nyéllel// Sparta",328,"B","Active",{"$f":"VLOOKUP(A4149,[1]Sheet1!$A$1:$C$65512,3,FALSE)","v":605},null,null,"No info","линк","https://bg.toolsworld.com/search/?query=","https://bg.toolsworld.com/search/?query=7482457"]
[7482657,"Acél drótkefe, 6 soros, fa nyéllel// Sparta",362,"B","Active",{"$f":"VLOOKUP(A4150,[1]Sheet1!$A$1:$C$65512,3,FALSE)","v":2007},null,null,"No info","линк","https://bg.toolsworld.com/search/?query=","https://bg.toolsworld.com/search/?query=7482657"]
[7485057,"Fémkefe műanyag nyéllel// Sparta",342,"B","Active",{"$f":"VLOOKUP(A4151,[1]Sheet1!$A$1:$C$65512,3,FALSE)","v":1093},null,null,"No info","линк","https://bg.toolsworld.com/search/?query=","https://bg.toolsworld.com/search/?query=7485057"]
[7725255,"Flat Wonder Bar, 15\"x 1 3/8\"x 1/3\"// Denzel",0,"B","Active",{"$f":"VLOOKUP(A4152,[1]Sheet1!$A$1:$C$65512,3,FALSE)","v":{"$error":"#N/A"}},null,null,"No info","линк","https://bg.toolsworld.com/search/?query=","https://bg.toolsworld.com/search/?query=7725255"]
[7756059,"Fémfurész 250mm gumírozott nyéllel",1203,"B","Active",{"$f":"VLOOKUP(A4153,[1]Sheet1!$A$1:$C$65512,3,FALSE)","v":258},null,null,"No info","линк","https://bg.toolsworld.com/search/?query=","https://bg.toolsworld.com/search/?query=7756059"]
[7841059,"PVC/muanyag cso vágó, max átméro: 42mm// MTX",1875,"B","Active",{"$f":"VLOOKUP(A4154,[1]Sheet1!$A$1:$C$65512,3,FALSE)","v":195},null,null,"No info","линк","https://bg.toolsworld.com/search/?query=","https://bg.toolsworld.com/search/?query=7841059"]
[7931159,"Pengék szikéhez 9mm, 10db-os készlet",118,"B","Active",{"$f":"VLOOKUP(A4155,[1]Sheet1!$A$1:$C$65512,3,FALSE)","v":264},null,null,"No info","линк","https://bg.toolsworld.com/search/?query=","https://bg.toolsworld.com/search/?query=7931159"]
[7933159,"Pengék szikéhez 18mm, 10db-os készlet// MTX",193,"B","Active",{"$f":"VLOOKUP(A4156,[1]Sheet1!$A$1:$C$65512,3,FALSE)","v":4597},null,null,"No info","линк","https://bg.toolsworld.com/search/?query=","https://bg.toolsworld.com/search/?query=7933159"]
[7933259,"Pengék szikéhez 25mm, 10db-os készlet",947,"B","Active",{"$f":"VLOOKUP(A4157,[1]Sheet1!$A$1:$C$65512,3,FALSE)","v":1},null,null,"No info","линк","https://bg.toolsworld.com/search/?query=","https://bg.toolsworld.com/search/?query=7933259"]
[7933359,"Pengék szikéhez 100mm, 10db-os készlet // MTX",432,"B","Active",{"$f":"VLOOKUP(A4158,[1]Sheet1!$A$1:$C$65512,3,FALSE)","v":318},null,null,"No info","линк","https://bg.toolsworld.com/search/?query=","https://bg.toolsworld.com/search/?query=7933359"]
[7935559,"Pengék szikéhez trapéz, egyenes, 5 db-os készlet",149,"B","Active",{"$f":"VLOOKUP(A4159,[1]Sheet1!$A$1:$C$65512,3,FALSE)","v":587},null,null,"No info","линк","https://bg.toolsworld.com/search/?query=","https://bg.toolsworld.com/search/?query=7935559"]
[8480457,"Dekorátorceruza 180 mm, 12 db-os készlet// Sparta",521,"B","Active",{"$f":"VLOOKUP(A4160,[1]Sheet1!$A$1:$C$65512,3,FALSE)","v":" "},null,null,"No info","линк","https://bg.toolsworld.com/search/?query=","https://bg.toolsworld.com/search/?query=8480457"]
[8480557,"Dekorátorceruza 250 mm, 12 db-os készlet// Sparta",1026,"B","Active",{"$f":"VLOOKUP(A4161,[1]Sheet1!$A$1:$C$65512,3,FALSE)","v":1163},null,null,"No info","линк","https://bg.toolsworld.com/search/?query=","https://bg.toolsworld.com/search/?query=8480557"]
[8543077,"Kaparó műanyag nyéllel, rozsdamentes acél, 40mm//MTX",183,"B","Active",{"$f":"VLOOKUP(A4162,[1]Sheet1!$A$1:$C$65512,3,FALSE)","v":1787},null,null,"No info","линк","https://bg.toolsworld.com/search/?query=","https://bg.toolsworld.com/search/?query=8543077"]
[8543277,"Kaparó 60mm műanyag nyéllel, rozsdamentes acél// MTX",220,"B","Active",{"$f":"VLOOKUP(A4163,[1]Sheet1!$A$1:$C$65512,3,FALSE)","v":2055},null,null,"No info","линк","https://bg.toolsworld.com/search/?query=","https://bg.toolsworld.com/search/?query=8543277"]
[8543377,"Kaparó 80mm műanyag nyéllel, rozsdamentes acél// MTX",261,"B","Active",{"$f":"VLOOKUP(A4164,[1]Sheet1!$A$1:$C$65512,3,FALSE)","v":1931},null,null,"No info","линк","https://bg.toolsworld.com/search/?query=","https://bg.toolsworld.com/search/?query=8543377"]
[8543577,"Kaparó 100mm műanyag nyéllel, rozsdamentes// MTX",316,"B","Active",{"$f":"VLOOKUP(A4165,[1]Sheet1!$A$1:$C$65512,3,FALSE)","v":4319},null,null,"No info","линк","https://bg.toolsworld.com/search/?query=","https://bg.toolsworld.com/search/?query=8543577"]
[8543677,"Kaparó műanyag nyéllel, rozsdamentes acél, 150mm//MTX",322,"B","Active",{"$f":"VLOOKUP(A4166,[1]Sheet1!$A$1:$C$65512,3,FALSE)","v":122},null,null,"No info","линк","https://bg.toolsworld.com/search/?query=","https://bg.toolsworld.com/search/?query=8543677"]
[8543877,"Kaparó 200mm műanyag nyéllel, rozsdamentes acél// MTX",417,"B","Active",{"$f":"VLOOKUP(A4167,[1]Sheet1!$A$1:$C$65512,3,FALSE)","v":403},null,null,"No info","линк","https://bg.toolsworld.com/search/?query=","https://bg.toolsworld.com/search/?query=8543877"]
[8543977,"Kaparó 250mm műanyag nyéllel, rozsdamentes acél// MTX",548,"B","Active",{"$f":"VLOOKUP(A4168,[1]Sheet1!$A$1:$C$65512,3,FALSE)","v":37},null,null,"No info","линк","https://bg.toolsworld.com/search/?query=","https://bg.toolsworld.com/search/?query=8543977"]
[8544277,"Kaparó 300mm műanyag nyéllel, rozsdamentes acél// MTX",582,"B","Active",{"$f":"VLOOKUP(A4169,[1]Sheet1!$A$1:$C$65512,3,FALSE)","v":717},null,null,"No info","линк","https://bg.toolsworld.com/search/?query=","https://bg.toolsworld.com/search/?query=8544277"]
[8544677,"Kaparó 350mm műanyag nyéllel, rozsdamentes acél// MTX",780,"B","Active",{"$f":"VLOOKUP(A4170,[1]Sheet1!$A$1:$C$65512,3,FALSE)","v":914},null,null,"No info","линк","https://bg.toolsworld.com/search/?query=","https://bg.toolsworld.com/search/?query=8544677"]
[8545077,"Kaparó 450mm műanyag nyéllel, rozsdamentes acél// MTX",1008,"B","Active",{"$f":"VLOOKUP(A4171,[1]Sheet1!$A$1:$C$65512,3,FALSE)","v":253},null,null,"No info","линк","https://bg.toolsworld.com/search/?query=","https://bg.toolsworld.com/search/?query=8545077"]
[8545277,"Kaparó műanyag nyéllel, rozsdamentes acél, 600mm// MTX",1230,"B","Active",{"$f":"VLOOKUP(A4172,[1]Sheet1!$A$1:$C$65512,3,FALSE)","v":247},null,null,"No info","линк","https://bg.toolsworld.com/search/?query=","https://bg.toolsworld.com/search/?query=8545277"]
[8545577,"Kaparó műanyag nyéllel, rozsdamentes acél, fog 4x4 mm, 150 mm // MTX",358,"B","Active",{"$f":"VLOOKUP(A4173,[1]Sheet1!$A$1:$C$65512,3,FALSE)","v":666},null,null,"No info","линк","https://bg.toolsworld.com/search/?query=","https://bg.toolsworld.com/search/?query=8545577"]
[8545677,"Kaparó 200mm (négyzetfogú 4x4mm) műanyag nyéllel, rozsdamentes acél// MTX",448,"B","Active",{"$f":"VLOOKUP(A4174,[1]Sheet1!$A$1:$C$65512,3,FALSE)","v":322},null,null,"No info","линк","https://bg.toolsworld.com/search/?query=","https://bg.toolsworld.com/search/?query=8545677"]
[8545777,"Kaparó 250mm (négyzetfogú 4x4mm) műanyag nyéllel, rozsdamentes acél// MTX",617,"B","Active",{"$f":"VLOOKUP(A4175,[1]Sheet1!$A$1:$C$65512,3,FALSE)","v":365},null,null,"No info","линк","https://bg.toolsworld.com/search/?query=","https://bg.toolsworld.com/search/?query=8545777"]
[8545977,"Kaparó 150mm (négyzetfogú 6x6mm) műanyag nyéllel, rozsdamentes acél// MTX",360,"B","Active",{"$f":"VLOOKUP(A4176,[1]Sheet1!$A$1:$C$65512,3,FALSE)","v":347},null,null,"No info","линк","https://bg.toolsworld.com/search/?query=","https://bg.toolsworld.com/search/?query=8545977"]
[8546477,"Kaparó 200mm (négyzetfogú 6x6mm) műanyag nyéllel, rozsdamentes acél// MTX",456,"B","Active",{"$f":"VLOOKUP(A4177,[1]Sheet1!$A$1:$C$65512,3,FALSE)","v":368},null,null,"No info","линк","https://bg.toolsworld.com/search/?query=","https://bg.toolsworld.com/search/?query=8546477"]
[8546577,"Kaparó 250mm (négyzetfogú 6x6mm) műanyag nyéllel, rozsdamentes acél// MTX",617,"B","Active",{"$f":"VLOOKUP(A4178,[1]Sheet1!$A$1:$C$65512,3,FALSE)","v":350},null,null,"No info","линк","https://bg.toolsworld.com/search/?query=","https://bg.toolsworld.com/search/?query=8546577"]
[8546777,"Kaparó 300mm (négyzetfogú 6x6mm) műanyag nyéllel, rozsdamentes acél// MTX",705,"B","Active",{"$f":"VLOOKUP(A4179,[1]Sheet1!$A$1:$C$65512,3,FALSE)","v":363},null,null,"No info","линк","https://bg.toolsworld.com/search/?query=","https://bg.toolsworld.com/search/?query=8546777"]
[8547177,"Kaparó 150mm (négyzetfogú 8x8mm) műanyag nyéllel, rozsdamentes acél// MTX",415,"B","Active",{"$f":"VLOOKUP(A4180,[1]Sheet1!$A$1:$C$65512,3,FALSE)","v":371},null,null,"No info","линк","https://bg.toolsworld.com/search/?query=","https://bg.toolsworld.com/search/?query=8547177"]
[8547377,"Kaparó műanyag nyéllel, rozsdamentes acél, fog 8x8 mm, 200 mm // MTX",462,"B","Active",{"$f":"VLOOKUP(A4181,[1]Sheet1!$A$1:$C$65512,3,FALSE)","v":487},null,null,"No info","линк","https://bg.toolsworld.com/search/?query=","https://bg.toolsworld.com/search/?query=8547377"]
[8547477,"Kaparó 250mm (négyzetfog 8x8mm) műanyag nyéllel, rozsdamentes acél// MTX",611,"B","Active",{"$f":"VLOOKUP(A4182,[1]Sheet1!$A$1:$C$65512,3,FALSE)","v":335},null,null,"No info","линк","https://bg.toolsworld.com/search/?query=","https://bg.toolsworld.com/search/?query=8547477"]
[8547677,"Kaparó 300mm (négyzetfog 8x8mm) műanyag nyéllel, rozsdamentes acél// MTX",654,"B","Active",{"$f":"VLOOKUP(A4183,[1]Sheet1!$A$1:$C$65512,3,FALSE)","v":295},null,null,"No info","линк","https://bg.toolsworld.com/search/?query=","https://bg.toolsworld.com/search/?query=8547677"]
[8548077,"Kaparó műanyag nyéllel, rozsdamentes acél, fog 10x10 mm, 150 mm // MTX",358,"B","Active",{"$f":"VLOOKUP(A4184,[1]Sheet1!$A$1:$C$65512,3,FALSE)","v":497},null,null,"No info","линк","https://bg.toolsworld.com/search/?query=","https://bg.toolsworld.com/search/?query=8548077"]
[8548277,"Kaparó műanyag nyéllel, rozsdamentes acél, fog 10x10 mm 200 mm // MTX",462,"B","Active",{"$f":"VLOOKUP(A4185,[1]Sheet1!$A$1:$C$65512,3,FALSE)","v":424},null,null,"No info","линк","https://bg.toolsworld.com/search/?query=","https://bg.toolsworld.com/search/?query=8548277"]
[8550077,"Kaparó 250mm (négyzetfog 10x10mm) műanyag nyéllel, rozsdamentes acél// MTX",617,"B","Active",{"$f":"VLOOKUP(A4186,[1]Sheet1!$A$1:$C$65512,3,FALSE)","v":192},null,null,"No info","линк","https://bg.toolsworld.com/search/?query=","https://bg.toolsworld.com/search/?query=8550077"]
[8550177,"Kaparó 300mm (négyzetfogú 10x10mm) műanyag nyéllel, rozsdamentes acél// MTX",652,"B","Active",{"$f":"VLOOKUP(A4187,[1]Sheet1!$A$1:$C$65512,3,FALSE)","v":" "},null,null,"No info","линк","https://bg.toolsworld.com/search/?query=","https://bg.toolsworld.com/search/?query=8550177"]
[8752059,"uvegemelo, alumínium, két korongos// MTX",5020,"B","Active",{"$f":"VLOOKUP(A4188,[1]Sheet1!$A$1:$C$65512,3,FALSE)","v":160},null,null,"No info","линк","https://bg.toolsworld.com/search/?query=","https://bg.toolsworld.com/search/?query=8752059"]
[8752559,"uvegemelo, alumínium, három korongos// MTX",7011,"B","Active",{"$f":"VLOOKUP(A4189,[1]Sheet1!$A$1:$C$65512,3,FALSE)","v":92},null,null,"No info","линк","https://bg.toolsworld.com/search/?query=","https://bg.toolsworld.com/search/?query=8752559"]
[8760597,"Cserépvágó 400 x 16 mm, tömör lemez, erős fogantyú, vezető csapággyal// MTX",18183,"B","Active",{"$f":"VLOOKUP(A4190,[1]Sheet1!$A$1:$C$65512,3,FALSE)","v":723},null,null,"No info","линк","https://bg.toolsworld.com/search/?query=","https://bg.toolsworld.com/search/?query=8760597"]
[8760997,"Cserépvágó 600 x 16 mm, tömör lemez, erős fogantyú, vezető csapággyal// MTX",21557,"B","Active",{"$f":"VLOOKUP(A4191,[1]Sheet1!$A$1:$C$65512,3,FALSE)","v":395},null,null,"No info","линк","https://bg.toolsworld.com/search/?query=","https://bg.toolsworld.com/search/?query=8760997"]
[8761397,"Cserépvágó 300 x12mm// MTX",4494,"B","Active",{"$f":"VLOOKUP(A4192,[1]Sheet1!$A$1:$C$65512,3,FALSE)","v":118},null,null,"No info","линк","https://bg.toolsworld.com/search/?query=","https://bg.toolsworld.com/search/?query=8761397"]
[8761997,"Cserépvágó 400 x 12 mm// MTX",4798,"B","Active",{"$f":"VLOOKUP(A4193,[1]Sheet1!$A$1:$C$65512,3,FALSE)","v":1194},null,null,"No info","линк","https://bg.toolsworld.com/search/?query=","https://bg.toolsworld.com/search/?query=8761997"]
[8762297,"Cserépvágó 500 x 14 mm// MTX",8899,"B","Active",{"$f":"VLOOKUP(A4194,[1]Sheet1!$A$1:$C$65512,3,FALSE)","v":509},null,null,"No info",{"$f":"HYPERLINK(L4194,\"линк\")","v":"линк"},"https://bg.toolsworld.com/search/?query=","https://bg.toolsworld.com/search/?query=8762297"]
[8762597,"Cserépvágó 600 x 14 mm// MTX",9732,"B","Active",{"$f":"VLOOKUP(A4195,[1]Sheet1!$A$1:$C$65512,3,FALSE)","v":730},null,null,"No info","линк","https://bg.toolsworld.com/search/?query=","https://bg.toolsworld.com/search/?query=8762597"]
[8765897,"Cserépvágó 600 x 16 mm-es forgatható fémszög// MTX",16216,"B","Active",{"$f":"VLOOKUP(A4196,[1]Sheet1!$A$1:$C$65512,3,FALSE)","v":481},null,null,"No info","линк","https://bg.toolsworld.com/search/?query=","https://bg.toolsworld.com/search/?query=8765897"]
[8766097,"Vágógörgő csempevágókhoz, 13,5 x 6,0 x 1,0 mm// MTX",352,"B","Active",{"$f":"VLOOKUP(A4197,[1]Sheet1!$A$1:$C$65512,3,FALSE)","v":140},null,null,"No info","линк","https://bg.toolsworld.com/search/?query=","https://bg.toolsworld.com/search/?query=8766097"]
[8766297,"Vágógörgő csempevágókhoz, 15,0 x 6,0 x 1,5 mm// MTX",373,"B","Active",{"$f":"VLOOKUP(A4198,[1]Sheet1!$A$1:$C$65512,3,FALSE)","v":76},null,null,"No info","линк","https://bg.toolsworld.com/search/?query=","https://bg.toolsworld.com/search/?query=8766297"]
[8766697,"Vágógörgő csempevágókhoz, 16,0 x 6,0 x 3,0 mm// MTX",460,"B","Active",{"$f":"VLOOKUP(A4199,[1]Sheet1!$A$1:$C$65512,3,FALSE)","v":2412},null,null,"No info","линк","https://bg.toolsworld.com/search/?query=","https://bg.toolsworld.com/search/?query=8766697"]
[8766997,"Vágógörgő csempevágókhoz, 22,0 x 6,0 x 2,0 mm// MTX",540,"B","Active",{"$f":"VLOOKUP(A4200,[1]Sheet1!$A$1:$C$65512,3,FALSE)","v":4360},null,null,"No info","линк","https://bg.toolsworld.com/search/?query=","https://bg.toolsworld.com/search/?query=8766997"]
[8767097,"Vágógörgő csempevágókhoz, 22,0 x 10,5 x 2,0 mm// MTX",521,"B","Active",{"$f":"VLOOKUP(A4201,[1]Sheet1!$A$1:$C$65512,3,FALSE)","v":10065},null,null,"No info","линк","https://bg.toolsworld.com/search/?query=","https://bg.toolsworld.com/search/?query=8767097"]
[8768997,"Sínes csempevágó 700mm// MTX",31615,"B","Active",{"$f":"VLOOKUP(A4202,[1]Sheet1!$A$1:$C$65512,3,FALSE)","v":1236},null,null,"No info","линк","https://bg.toolsworld.com/search/?query=",{"$f":"CONCATENATE(K4202,A4202)","v":"https://bg.toolsworld.com/search/?query=8768997"}]
[8769197,"Sínes csempevágó 900mm// MTX",32537,"B","Active",{"$f":"VLOOKUP(A4203,[1]Sheet1!$A$1:$C$65512,3,FALSE)","v":60},null,null,"No info","линк","https://bg.toolsworld.com/search/?query=","https://bg.toolsworld.com/search/?query=8769197"]
[8769397,"Sínes csempevágó 1200mm// MTX",41061,"B","Active",{"$f":"VLOOKUP(A4204,[1]Sheet1!$A$1:$C$65512,3,FALSE)","v":{"$error":"#N/A"}},null,null,"No info","линк","https://bg.toolsworld.com/search/?query=","https://bg.toolsworld.com/search/?query=8769397"]
[8783097,"Csempevágó 200 mm alumínium támasztékkal// MTX",1354,"B","Active",{"$f":"VLOOKUP(A4205,[1]Sheet1!$A$1:$C$65512,3,FALSE)","v":22},null,null,"No info","линк","https://bg.toolsworld.com/search/?query=","https://bg.toolsworld.com/search/?query=8783097"]
[8790659,"Élgyalu, 140 x 42 mm, muanyag, gipszkartonhoz // MTX",1181,"B","Active",{"$f":"VLOOKUP(A4206,[1]Sheet1!$A$1:$C$65512,3,FALSE)","v":452},null,null,"No info","линк","https://bg.toolsworld.com/search/?query=","https://bg.toolsworld.com/search/?query=8790659"]
[8790859,"Élgyalu, 250 x 42 mm, muanyag , gipszkartonhoz // MTX",1990,"B","Active",{"$f":"VLOOKUP(A4207,[1]Sheet1!$A$1:$C$65512,3,FALSE)","v":167},null,null,"No info","линк","https://bg.toolsworld.com/search/?query=","https://bg.toolsworld.com/search/?query=8790859"]
[8791459,"Stripping plane, 250 x 42 mm, metal for plasterboard// MTX",2358,"B","Active",{"$f":"VLOOKUP(A4208,[1]Sheet1!$A$1:$C$65512,3,FALSE)","v":257},null,null,"No info","линк","https://bg.toolsworld.com/search/?query=","https://bg.toolsworld.com/search/?query=8791459"]
[8791659,"Élgyalu, 250 x 42 mm, fém , gipszkartonhoz, állítható nyél// MTX",2995,"B","Active",{"$f":"VLOOKUP(A4209,[1]Sheet1!$A$1:$C$65512,3,FALSE)","v":100},null,null,"No info","линк","https://bg.toolsworld.com/search/?query=","https://bg.toolsworld.com/search/?query=8791659"]
[8793259,"Pótrács élgyaluhoz, 140 x 40 mm, elemek: 87906, 87910// MTX",623,"B","Active",{"$f":"VLOOKUP(A4210,[1]Sheet1!$A$1:$C$65512,3,FALSE)","v":112},null,null,"No info","линк","https://bg.toolsworld.com/search/?query=","https://bg.toolsworld.com/search/?query=8793259"]
[8793659,"Pótrács élgyaluhoz, 250 x 40 mm, elemek: 87908, 87914, 87912, 87916, 87918// MTX",959,"B","Active",{"$f":"VLOOKUP(A4211,[1]Sheet1!$A$1:$C$65512,3,FALSE)","v":72},null,null,"No info","линк","https://bg.toolsworld.com/search/?query=","https://bg.toolsworld.com/search/?query=8793659"]
[8832390,"Acél szögletes négyzet, beosztás, 250 mm// MTX",1252,"B","Active",{"$f":"VLOOKUP(A4212,[1]Sheet1!$A$1:$C$65512,3,FALSE)","v":971},null,null,"No info","линк","https://bg.toolsworld.com/search/?query=","https://bg.toolsworld.com/search/?query=8832390"]
[8832391,"Acél szögletes négyzet, beosztás, 250 mm// MTX",1421,"B","Active",{"$f":"VLOOKUP(A4213,[1]Sheet1!$A$1:$C$65512,3,FALSE)","v":1369},null,null,"No info","линк","https://bg.toolsworld.com/search/?query=","https://bg.toolsworld.com/search/?query=8832391"]
[8861257,"Tömítő pisztoly váz típus 310ml, nagy teherbírás rögzítővel, hatlapú rúd 7mm// Sparta",863,"B","Active",{"$f":"VLOOKUP(A4214,[1]Sheet1!$A$1:$C$65512,3,FALSE)","v":" "},null,null,"No info","линк","https://bg.toolsworld.com/search/?query=","https://bg.toolsworld.com/search/?query=8861257"]
[8863257,"Tömítő pisztoly 310 ml félig nyitott, 8 mm-es kerek rúd, nagy teherbírás// Sparta",1739,"B","Active",{"$f":"VLOOKUP(A4215,[1]Sheet1!$A$1:$C$65512,3,FALSE)","v":" "},null,null,"No info","линк","https://bg.toolsworld.com/search/?query=","https://bg.toolsworld.com/search/?query=8863257"]
[8863657,"Tömítő pisztoly 310ml félig nyitott, kerek rúd 7 mm, vastag fal// Sparta",837,"B","Active",{"$f":"VLOOKUP(A4216,[1]Sheet1!$A$1:$C$65512,3,FALSE)","v":257},null,null,"No info","линк","https://bg.toolsworld.com/search/?query=","https://bg.toolsworld.com/search/?query=8863657"]
[8864757,"Tömítőpisztoly 400ml, zárt, alumínium test, körrúd 8 mm// Sparta",2415,"B","Active",{"$f":"VLOOKUP(A4217,[1]Sheet1!$A$1:$C$65512,3,FALSE)","v":507},null,null,"No info","линк","https://bg.toolsworld.com/search/?query=","https://bg.toolsworld.com/search/?query=8864757"]
[8864857,"Tömítő pisztoly 750ml, zárt, alumínium test, körrúd 8 mm// Sparta",3338,"B","Active",{"$f":"VLOOKUP(A4218,[1]Sheet1!$A$1:$C$65512,3,FALSE)","v":138},null,null,"No info","линк","https://bg.toolsworld.com/search/?query=","https://bg.toolsworld.com/search/?query=8864857"]
[9060259,"Műszerdoboz 484x154x165 mm, fém// MTX",8593,"B","Active",{"$f":"VLOOKUP(A4219,[1]Sheet1!$A$1:$C$65512,3,FALSE)","v":35},null,null,"No info","линк","https://bg.toolsworld.com/search/?query=","https://bg.toolsworld.com/search/?query=9060259"]
[9060359,"Fémláda, 410 x 154 x 95 mm//MTX",4861,"B","Active",{"$f":"VLOOKUP(A4220,[1]Sheet1!$A$1:$C$65512,3,FALSE)","v":{"$error":"#N/A"}},null,null,"No info","линк","https://bg.toolsworld.com/search/?query=","https://bg.toolsworld.com/search/?query=9060359"]
[9060559,"Fémláda 284 x 160 x 78 mm// MTX",4199,"B","Active",{"$f":"VLOOKUP(A4221,[1]Sheet1!$A$1:$C$65512,3,FALSE)","v":4},null,null,"No info","линк","https://bg.toolsworld.com/search/?query=","https://bg.toolsworld.com/search/?query=9060559"]
[9066059,"Szerszámos láda 2 részes, 600x260x340 mm, 616x330x658 mm, kerekeken, 10 fiókos// MTX",60087,"B","Active",{"$f":"VLOOKUP(A4222,[1]Sheet1!$A$1:$C$65512,3,FALSE)","v":{"$error":"#N/A"}},null,null,"No info","линк","https://bg.toolsworld.com/search/?query=","https://bg.toolsworld.com/search/?query=9066059"]
[9130039,"Forrasztópáka, műanyag fogantyú, réz hegy tartós védőbevonattal, 220 V, 30 W// MTX",912,"B","Active",{"$f":"VLOOKUP(A4223,[1]Sheet1!$A$1:$C$65512,3,FALSE)","v":1},null,null,"No info","линк","https://bg.toolsworld.com/search/?query=","https://bg.toolsworld.com/search/?query=9130039"]
[9130049,"Forrasztópáka, műanyag nyél, réz hegy tartós védőbevonattal, 220 V, 40 W// MTX",992,"B","Active",{"$f":"VLOOKUP(A4224,[1]Sheet1!$A$1:$C$65512,3,FALSE)","v":32},null,null,"No info","линк","https://bg.toolsworld.com/search/?query=","https://bg.toolsworld.com/search/?query=9130049"]
[9130069,"Forrasztópáka, műanyag nyél, réz hegy tartós védőbevonattal, 220 V, 60 W// MTX",1106,"B","Active",{"$f":"VLOOKUP(A4225,[1]Sheet1!$A$1:$C$65512,3,FALSE)","v":176},null,null,"No info","линк","https://bg.toolsworld.com/search/?query=","https://bg.toolsworld.com/search/?query=9130069"]
[9130339,"Forrasztópáka, ABS műanyag nyél, réz hegy tartós védőbevonattal, 220V, 30W// MTX",1120,"B","Active",{"$f":"VLOOKUP(A4226,[1]Sheet1!$A$1:$C$65512,3,FALSE)","v":369},null,null,"No info","линк","https://bg.toolsworld.com/search/?query=","https://bg.toolsworld.com/search/?query=9130339"]
[9130349,"Forrasztópáka, ABS műanyag fogantyú, réz hegy tartós védőbevonattal, 220V, 40W// MTX",1212,"B","Active",{"$f":"VLOOKUP(A4227,[1]Sheet1!$A$1:$C$65512,3,FALSE)","v":1387},null,null,"No info","линк","https://bg.toolsworld.com/search/?query=","https://bg.toolsworld.com/search/?query=9130349"]
[9130369,"Forrasztópáka, ABS műanyag fogantyú, réz hegy tartós védőbevonattal, 220V, 60W// MTX",1263,"B","Active",{"$f":"VLOOKUP(A4228,[1]Sheet1!$A$1:$C$65512,3,FALSE)","v":332},null,null,"No info","линк","https://bg.toolsworld.com/search/?query=","https://bg.toolsworld.com/search/?query=9130369"]
[9130439,"Forrasztópáka, ABS műanyag, 1. osztály, indikátor, rézcsúcs védőbevonattal, 220V, 30W// MTX",2431,"B","Active",{"$f":"VLOOKUP(A4229,[1]Sheet1!$A$1:$C$65512,3,FALSE)","v":78},null,null,"No info","линк","https://bg.toolsworld.com/search/?query=","https://bg.toolsworld.com/search/?query=9130439"]
[9130449,"Forrasztópáka, ABS műanyag, 1. osztály, indikátor, rézcsúcs védőbevonattal, 220V, 40W// MTX",2456,"B","Active",{"$f":"VLOOKUP(A4230,[1]Sheet1!$A$1:$C$65512,3,FALSE)","v":289},null,null,"No info","линк","https://bg.toolsworld.com/search/?query=","https://bg.toolsworld.com/search/?query=9130449"]
[9130469,"Forrasztópáka, ABS műanyag, 1. osztály, indikátor, réz hegy védőbevonattal, 220V, 60W// MTX",2602,"B","Active",{"$f":"VLOOKUP(A4231,[1]Sheet1!$A$1:$C$65512,3,FALSE)","v":477},null,null,"No info","линк","https://bg.toolsworld.com/search/?query=","https://bg.toolsworld.com/search/?query=9130469"]
[9307109,"Átlátszó melegen olvadó ragasztórudak, 7 x 150 mm, 6 db// MTX",193,"B","Active",{"$f":"VLOOKUP(A4232,[1]Sheet1!$A$1:$C$65512,3,FALSE)","v":{"$error":"#N/A"}},null,null,"No info","линк","https://bg.toolsworld.com/search/?query=","https://bg.toolsworld.com/search/?query=9307109"]
[9307209,"Átlátszó melegen olvadó ragasztórudak, 11 x 200 mm, 6 db// MTX",680,"B","Active",{"$f":"VLOOKUP(A4233,[1]Sheet1!$A$1:$C$65512,3,FALSE)","v":{"$error":"#N/A"}},null,null,"No info","линк","https://bg.toolsworld.com/search/?query=","https://bg.toolsworld.com/search/?query=9307209"]
[9307309,"Átlátszó melegen olvadó ragasztórudak, 11 x 200 mm, 12 db.// MTX",953,"B","Active",{"$f":"VLOOKUP(A4234,[1]Sheet1!$A$1:$C$65512,3,FALSE)","v":{"$error":"#N/A"}},null,null,"No info","линк","https://bg.toolsworld.com/search/?query=","https://bg.toolsworld.com/search/?query=9307309"]
[9307319,"Fekete melegen olvadó ragasztórudak, 11 x 200 mm, 12 db.// MTX",896,"B","Active",{"$f":"VLOOKUP(A4235,[1]Sheet1!$A$1:$C$65512,3,FALSE)","v":61},null,null,"No info","линк","https://bg.toolsworld.com/search/?query=","https://bg.toolsworld.com/search/?query=9307319"]
[9307329,"Sárga melegen olvadó ragasztórudak, 11 x 200 mm, 12 db.// MTX",833,"B","Active",{"$f":"VLOOKUP(A4236,[1]Sheet1!$A$1:$C$65512,3,FALSE)","v":46},null,null,"No info","линк","https://bg.toolsworld.com/search/?query=","https://bg.toolsworld.com/search/?query=9307329"]
[9307339,"Fehér olvadó ragasztórudak, 11 x 200 mm, 12 db/ MTX",867,"B","Active",{"$f":"VLOOKUP(A4237,[1]Sheet1!$A$1:$C$65512,3,FALSE)","v":48},null,null,"No info","линк","https://bg.toolsworld.com/search/?query=","https://bg.toolsworld.com/search/?query=9307339"]
[9614277,"Line for trimmer, round, 2,7mm x 200m, spool// Denzel",6360,"B","Active",{"$f":"VLOOKUP(A4238,[1]Sheet1!$A$1:$C$65512,3,FALSE)","v":{"$error":"#N/A"}},null,null,"No info","линк","https://bg.toolsworld.com/search/?query=","https://bg.toolsworld.com/search/?query=9614277"]
[9622277,"Benzines bozótvágó DT-33, 32,5 сс, 1,05 kW, egyrészes tengely, 2 részből áll// Denzel",41263,"B","Active",{"$f":"VLOOKUP(A4239,[1]Sheet1!$A$1:$C$65512,3,FALSE)","v":193},null,null,"No info","линк","https://bg.toolsworld.com/search/?query=","https://bg.toolsworld.com/search/?query=9622277"]
[9622477,"Benzines bozótvágó DT-43, 43 сс, 1,25 kW, egyrészes tengely, 2 részből áll// Denzel",42049,"B","Active",{"$f":"VLOOKUP(A4240,[1]Sheet1!$A$1:$C$65512,3,FALSE)","v":298},null,null,"No info","линк","https://bg.toolsworld.com/search/?query=","https://bg.toolsworld.com/search/?query=9622477"]
[9622577,"Benzines bozótvágó DT-43S, 43 сс, 1,25 kW, kétrészes tengely, 2 részből áll// Denzel",42049,"B","Active",{"$f":"VLOOKUP(A4241,[1]Sheet1!$A$1:$C$65512,3,FALSE)","v":214},null,null,"No info","линк","https://bg.toolsworld.com/search/?query=","https://bg.toolsworld.com/search/?query=9622577"]
[9622677,"Benzines bozótvágó DT-52, 52 cc, 1,45 kW, egyrészes tengely, 2 részből áll// Denzel",42246,"B","Active",{"$f":"VLOOKUP(A4242,[1]Sheet1!$A$1:$C$65512,3,FALSE)","v":2011},null,null,"No info","линк","https://bg.toolsworld.com/search/?query=","https://bg.toolsworld.com/search/?query=9622677"]
[9622777,"Benzines bozótvágó DT-52S, 52 cc, 1,45 kW, kétrészes tengely, 2 részből áll// Denzel",42246,"B","Active",{"$f":"VLOOKUP(A4243,[1]Sheet1!$A$1:$C$65512,3,FALSE)","v":270},null,null,"No info","линк","https://bg.toolsworld.com/search/?query=","https://bg.toolsworld.com/search/?query=9622777"]
[9648937,"Gáz infravörös fűtés GIH 5-15, 4,2 kW, propán-bután // Denzel",64779,"B","Active",{"$f":"VLOOKUP(A4244,[1]Sheet1!$A$1:$C$65512,3,FALSE)","v":189},null,null,"No info","линк","https://bg.toolsworld.com/search/?query=","https://bg.toolsworld.com/search/?query=9648937"]
[9649037,"Kombi kvarc gáz infrafűtő GIH 5-30, 5,7 kW, propán-bután // Denzel",69576,"B","Active",{"$f":"VLOOKUP(A4245,[1]Sheet1!$A$1:$C$65512,3,FALSE)","v":222},null,null,"No info","линк","https://bg.toolsworld.com/search/?query=","https://bg.toolsworld.com/search/?query=9649037"]
[9771577,"Fellépo, 6 lépcsos, alumínium, RUSSIA // MTX",37231,"B","Active",{"$f":"VLOOKUP(A4246,[1]Sheet1!$A$1:$C$65512,3,FALSE)","v":39},null,null,"No info","линк","https://bg.toolsworld.com/search/?query=","https://bg.toolsworld.com/search/?query=9771577"]
[60023788,"Clogs for men, size 45 (black) // Россия",1395,"B","Active",{"$f":"VLOOKUP(A4247,[1]Sheet1!$A$1:$C$65512,3,FALSE)","v":35},null,null,"No info","линк","https://bg.toolsworld.com/search/?query=","https://bg.toolsworld.com/search/?query=60023788"]
[60024788,"Női szandál, 36-os méret (fuschia) // RUSSIA",1949,"B","Active",{"$f":"VLOOKUP(A4248,[1]Sheet1!$A$1:$C$65512,3,FALSE)","v":44},null,null,"No info","линк","https://bg.toolsworld.com/search/?query=","https://bg.toolsworld.com/search/?query=60024788"]
[60025788,"Női szandál, 37-es méret (fuschia) // RUSSIA",1949,"B","Active",{"$f":"VLOOKUP(A4249,[1]Sheet1!$A$1:$C$65512,3,FALSE)","v":{"$error":"#N/A"}},null,null,"No info","линк","https://bg.toolsworld.com/search/?query=","https://bg.toolsworld.com/search/?query=60025788"]
[60026777,"Női szandál, 38-as méret (ánizs) // Russia",1949,"B","Active",{"$f":"VLOOKUP(A4250,[1]Sheet1!$A$1:$C$65512,3,FALSE)","v":{"$error":"#N/A"}},null,null,"No info","линк","https://bg.toolsworld.com/search/?query=","https://bg.toolsworld.com/search/?query=60026777"]
[60026788,"Női szandál, 38-as méret (fuschia) // RUSSIA",1949,"B","Active",{"$f":"VLOOKUP(A4251,[1]Sheet1!$A$1:$C$65512,3,FALSE)","v":{"$error":"#N/A"}},null,null,"No info","линк","https://bg.toolsworld.com/search/?query=","https://bg.toolsworld.com/search/?query=60026788"]
[60027788,"Női szandál, 39-es méret (fuschia) // RUSSIA",1949,"B","Active",{"$f":"VLOOKUP(A4252,[1]Sheet1!$A$1:$C$65512,3,FALSE)","v":{"$error":"#N/A"}},null,null,"No info","линк","https://bg.toolsworld.com/search/?query=","https://bg.toolsworld.com/search/?query=60027788"]
[60028788,"Női szandál, 40-es méret (fuschia) // RUSSIA",1949,"B","Active",{"$f":"VLOOKUP(A4253,[1]Sheet1!$A$1:$C$65512,3,FALSE)","v":39},null,null,"No info","линк","https://bg.toolsworld.com/search/?query=","https://bg.toolsworld.com/search/?query=60028788"]
[60029788,"Női szandál, 41-es méret (fuschia) // RUSSIA",1949,"B","Active",{"$f":"VLOOKUP(A4254,[1]Sheet1!$A$1:$C$65512,3,FALSE)","v":{"$error":"#N/A"}},null,null,"No info","линк","https://bg.toolsworld.com/search/?query=","https://bg.toolsworld.com/search/?query=60029788"]
[60030788,"Férfi szandál, 40-es méret (fekete) // RUSSIA",2108,"B","Active",{"$f":"VLOOKUP(A4255,[1]Sheet1!$A$1:$C$65512,3,FALSE)","v":10},null,null,"No info","линк","https://bg.toolsworld.com/search/?query=","https://bg.toolsworld.com/search/?query=60030788"]
[60032788,"Férfi szandál, 42-es méret (fekete ) // RUSSIA",2108,"B","Active",{"$f":"VLOOKUP(A4256,[1]Sheet1!$A$1:$C$65512,3,FALSE)","v":{"$error":"#N/A"}},null,null,"No info","линк","https://bg.toolsworld.com/search/?query=","https://bg.toolsworld.com/search/?query=60032788"]
[63821558,"Kerti villa 4 szarv, 185х280x1450 mm, kovácsolt, fa lakkozott nyél, LUXE// Palisad",5160,"B","Active",{"$f":"VLOOKUP(A4257,[1]Sheet1!$A$1:$C$65512,3,FALSE)","v":227},null,null,"No info","линк","https://bg.toolsworld.com/search/?query=","https://bg.toolsworld.com/search/?query=63821558"]
[63836558,"Karos villa 4 szarv, 210х300x1480 mm, kovácsolt, fa lakkozott nyél, LUXE// Palisad",5405,"B","Active",{"$f":"VLOOKUP(A4258,[1]Sheet1!$A$1:$C$65512,3,FALSE)","v":264},null,null,"No info","линк","https://bg.toolsworld.com/search/?query=","https://bg.toolsworld.com/search/?query=63836558"]
[11335,"Fúrókészlet РН2х50, S2 acél, 10 db.//Gross",1130,"B","Active",{"$f":"VLOOKUP(A4259,[1]Sheet1!$A$1:$C$65512,3,FALSE)","v":1008},null,null,"No info",{"$f":"HYPERLINK(L4259,\"линк\")","v":"линк"},"https://bg.toolsworld.com/search/?query=","https://bg.toolsworld.com/search/?query=11335"]
[11771,"Csavarhúzó \"Point\", PH1 х 38 mm, 2 komponensű fogantyú// Sparta",220,"B","Active",{"$f":"VLOOKUP(A4260,[1]Sheet1!$A$1:$C$65512,3,FALSE)","v":2081},null,null,"No info","линк","https://bg.toolsworld.com/search/?query=","https://bg.toolsworld.com/search/?query=11771"]
[13904,"Hosszabbító rúd 75mm 3/8\"DR// Stels",617,"B","Active",{"$f":"VLOOKUP(A4261,[1]Sheet1!$A$1:$C$65512,3,FALSE)","v":363},null,null,"No info","линк","https://bg.toolsworld.com/search/?query=","https://bg.toolsworld.com/search/?query=13904"]
[13922,"Hatszögletű Uthető dugófej, 17 mm, 1/2\", CrMo// Stels",859,"B","Active",{"$f":"VLOOKUP(A4262,[1]Sheet1!$A$1:$C$65512,3,FALSE)","v":174},null,null,"No info","линк","https://bg.toolsworld.com/search/?query=","https://bg.toolsworld.com/search/?query=13922"]
[31115,"10m x 25mm mérőszalag 2 oldalas mérleg, gumivég horog//Gross",4840,"B","Active",{"$f":"VLOOKUP(A4263,[1]Sheet1!$A$1:$C$65512,3,FALSE)","v":88},null,null,"No info","линк","https://bg.toolsworld.com/search/?query=","https://bg.toolsworld.com/search/?query=31115"]
[34332,"Alumínium vízmérték, megerősített, ütésálló burkolat, 1200 mm, mart, fogantyúk, 3 fiola//Gross",10591,"B","Active",{"$f":"VLOOKUP(A4264,[1]Sheet1!$A$1:$C$65512,3,FALSE)","v":83},null,null,"No info","линк","https://bg.toolsworld.com/search/?query=","https://bg.toolsworld.com/search/?query=34332"]
[57051,"Univerzális gyorscsatlakozó anya, 1/4\" külső menet, 2 db.// Stels",1937,"B","Active",{"$f":"VLOOKUP(A4265,[1]Sheet1!$A$1:$C$65512,3,FALSE)","v":{"$error":"#N/A"}},null,null,"No info","линк","https://bg.toolsworld.com/search/?query=","https://bg.toolsworld.com/search/?query=57051"]
[57053,"Univerzális csatlakozó gyorsapa, 1/4\" külső menet, 2 db.// Stels",332,"B","Active",{"$f":"VLOOKUP(A4266,[1]Sheet1!$A$1:$C$65512,3,FALSE)","v":{"$error":"#N/A"}},null,null,"No info","линк","https://bg.toolsworld.com/search/?query=",{"$f":"CONCATENATE(K4266,A4266)","v":"https://bg.toolsworld.com/search/?query=57053"}]
[57054,"Univerzális csatlakozó gyorsapa, 1/4\", belső menet, 2 db.// Stels",332,"B","Active",{"$f":"VLOOKUP(A4267,[1]Sheet1!$A$1:$C$65512,3,FALSE)","v":{"$error":"#N/A"}},null,null,"No info","линк","https://bg.toolsworld.com/search/?query=","https://bg.toolsworld.com/search/?query=57054"]
[71606,"Fém csigafúró 3,5 mm, HSS, 338 W, 2db.//Gross",790,"B","Active",{"$f":"VLOOKUP(A4268,[1]Sheet1!$A$1:$C$65512,3,FALSE)","v":515},null,null,"No info","линк","https://bg.toolsworld.com/search/?query=","https://bg.toolsworld.com/search/?query=71606"]
[71611,"Fém csavarfúró 5,0 mm, HSS, 338 W//Gross",529,"B","Active",{"$f":"VLOOKUP(A4269,[1]Sheet1!$A$1:$C$65512,3,FALSE)","v":504},null,null,"No info","линк","https://bg.toolsworld.com/search/?query=","https://bg.toolsworld.com/search/?query=71611"]
[73002,"Szegmentált gyémánt fűrészlap ф115x22,2mm, lézerhegesztett, száraz vágás//Gross",4673,"B","Active",{"$f":"VLOOKUP(A4270,[1]Sheet1!$A$1:$C$65512,3,FALSE)","v":97},null,null,"No info","линк","https://bg.toolsworld.com/search/?query=","https://bg.toolsworld.com/search/?query=73002"]
[73036,"Folyamatos gyémánt fűrészlap ф115x22,2mm, lézeres vágórésszel, nedves vágás//Gross",4309,"B","Active",{"$f":"VLOOKUP(A4271,[1]Sheet1!$A$1:$C$65512,3,FALSE)","v":8},null,null,"No info","линк","https://bg.toolsworld.com/search/?query=","https://bg.toolsworld.com/search/?query=73036"]
[73167,"Szegmentált gyémánt fűrészlap 180 x 22,2 mm, száraz vágás// Sparta",1311,"B","Active",{"$f":"VLOOKUP(A4272,[1]Sheet1!$A$1:$C$65512,3,FALSE)","v":1},null,null,"No info","линк","https://bg.toolsworld.com/search/?query=","https://bg.toolsworld.com/search/?query=73167"]
[80126,"Festőhenger utántöltő natúr csúccsal, fogantyúval, 100 mm, 12 mm halom, D48 mm, fogantyú D6 mm RUSSIA// Сибрт",240,"B","Active",{"$f":"VLOOKUP(A4273,[1]Sheet1!$A$1:$C$65512,3,FALSE)","v":76},null,null,"No info","линк","https://bg.toolsworld.com/search/?query=","https://bg.toolsworld.com/search/?query=80126"]
[93875,"Juta zsineg, 1 m, hosszúság 140 m, 2 fonal, RUSSIA// Сибртех",422,"B","Active",{"$f":"VLOOKUP(A4274,[1]Sheet1!$A$1:$C$65512,3,FALSE)","v":{"$error":"#N/A"}},null,null,"No info","линк","https://bg.toolsworld.com/search/?query=","https://bg.toolsworld.com/search/?query=93875"]
[96185,"Kettős vonalú trimmerhez szögletes csavar 2,4mm x 15m, EXTRA CORD// Denzel",664,"B","Active",{"$f":"VLOOKUP(A4275,[1]Sheet1!$A$1:$C$65512,3,FALSE)","v":{"$error":"#N/A"}},null,null,"No info","линк","https://bg.toolsworld.com/search/?query=","https://bg.toolsworld.com/search/?query=96185"]
[148119,"18mm-es kombinált racsnis kulcs, tükör króm, CrV// MTX",2106,"B","Active",{"$f":"VLOOKUP(A4276,[1]Sheet1!$A$1:$C$65512,3,FALSE)","v":74},null,null,"No info","линк","https://bg.toolsworld.com/search/?query=","https://bg.toolsworld.com/search/?query=148119"]
[148699,"17mm-es kombinált racsnis kulcs, tükör króm, CrV// MTX",1849,"B","Active",{"$f":"VLOOKUP(A4277,[1]Sheet1!$A$1:$C$65512,3,FALSE)","v":505},null,null,"No info","линк","https://bg.toolsworld.com/search/?query=","https://bg.toolsworld.com/search/?query=148699"]
[148719,"19 mm-es kombinált racsnis kulcs, tükör króm, CrV// MTX",2266,"B","Active",{"$f":"VLOOKUP(A4278,[1]Sheet1!$A$1:$C$65512,3,FALSE)","v":1115},null,null,"No info","линк","https://bg.toolsworld.com/search/?query=","https://bg.toolsworld.com/search/?query=148719"]
[171657,"160 mm hosszú fogó kétkomponensű fogantyúval, polírozott, Comfort line// Sparta",939,"B","Active",{"$f":"VLOOKUP(A4279,[1]Sheet1!$A$1:$C$65512,3,FALSE)","v":57},null,null,"No info","линк","https://bg.toolsworld.com/search/?query=","https://bg.toolsworld.com/search/?query=171657"]
[218229,"Hasító fejsze, 3600 g, 900 mm, üvegszálas gumi bevonatú nyél// MTX",8634,"B","Active",{"$f":"VLOOKUP(A4280,[1]Sheet1!$A$1:$C$65512,3,FALSE)","v":682},null,null,"No info","линк","https://bg.toolsworld.com/search/?query=","https://bg.toolsworld.com/search/?query=218229"]
[252225,"Bontórúd, 300 mm, hatlapú, színes// Sparta",786,"B","Active",{"$f":"VLOOKUP(A4281,[1]Sheet1!$A$1:$C$65512,3,FALSE)","v":336},null,null,"No info","линк","https://bg.toolsworld.com/search/?query=","https://bg.toolsworld.com/search/?query=252225"]
[305105,"Vonalzó 1000mm fém// Sparta",1146,"B","Active",{"$f":"VLOOKUP(A4282,[1]Sheet1!$A$1:$C$65512,3,FALSE)","v":158},null,null,"No info","линк","https://bg.toolsworld.com/search/?query=","https://bg.toolsworld.com/search/?query=305105"]
[613748,"Pitchfork 4 fogas, kerti, 180х280х1200 mm, teljesen acél, kovácsolt, LUXE// Palisad",6266,"B","Active",{"$f":"VLOOKUP(A4283,[1]Sheet1!$A$1:$C$65512,3,FALSE)","v":331},null,null,"No info","линк","https://bg.toolsworld.com/search/?query=","https://bg.toolsworld.com/search/?query=613748"]
[623248,"Univerzális kés fa nyéllel// Palisad",511,"B","Active",{"$f":"VLOOKUP(A4284,[1]Sheet1!$A$1:$C$65512,3,FALSE)","v":{"$error":"#N/A"}},null,null,"No info","линк","https://bg.toolsworld.com/search/?query=","https://bg.toolsworld.com/search/?query=623248"]
[630428,"Szobanövény ápoló készlet, fa fogantyúk, 3 db// Palisad",548,"B","Active",{"$f":"VLOOKUP(A4285,[1]Sheet1!$A$1:$C$65512,3,FALSE)","v":4584},null,null,"No info","линк","https://bg.toolsworld.com/search/?query=","https://bg.toolsworld.com/search/?query=630428"]
[687207,"Fékes görgő D 75 mm, platformrögzítés// MTX",1721,"B","Active",{"$f":"VLOOKUP(A4286,[1]Sheet1!$A$1:$C$65512,3,FALSE)","v":250},null,null,"No info","линк","https://bg.toolsworld.com/search/?query=","https://bg.toolsworld.com/search/?query=687207"]
[838469,"Ecset radiátorfestéshez 2\", natúr sörtéjű, fa nyéllel// MTX",226,"B","Active",{"$f":"VLOOKUP(A4287,[1]Sheet1!$A$1:$C$65512,3,FALSE)","v":43},null,null,"No info","линк","https://bg.toolsworld.com/search/?query=","https://bg.toolsworld.com/search/?query=838469"]
[848319,"Plumb bob, kúpos 100gr 5m-es zsinórral// MTX",448,"B","Active",{"$f":"VLOOKUP(A4288,[1]Sheet1!$A$1:$C$65512,3,FALSE)","v":{"$error":"#N/A"}},null,null,"No info","линк","https://bg.toolsworld.com/search/?query=","https://bg.toolsworld.com/search/?query=848319"]
[933438,"Természetes seprű, fa nyél, Home// Palisad",3073,"B","Active",{"$f":"VLOOKUP(A4289,[1]Sheet1!$A$1:$C$65512,3,FALSE)","v":419},null,null,"No info","линк","https://bg.toolsworld.com/search/?query=","https://bg.toolsworld.com/search/?query=933438"]
[6382127,"4-fogú vasvilla, kerti, 180x280 mm, kovácsolt, nyél nélkül// Palisad",2574,"B","Active",{"$f":"VLOOKUP(A4290,[1]Sheet1!$A$1:$C$65512,3,FALSE)","v":519},null,null,"No info","линк","https://bg.toolsworld.com/search/?query=","https://bg.toolsworld.com/search/?query=6382127"]
[6383627,"4 fogas vasvilla, széna, 205x305 mm, kovácsolt, nyél nélkül// Palisad",1533,"B","Active",{"$f":"VLOOKUP(A4291,[1]Sheet1!$A$1:$C$65512,3,FALSE)","v":" "},null,null,"No info","линк","https://bg.toolsworld.com/search/?query=","https://bg.toolsworld.com/search/?query=6383627"]
[7177009,"Fém csavarfúró HSS-TiN 7mm// MTX",232,"B","Active",{"$f":"VLOOKUP(A4292,[1]Sheet1!$A$1:$C$65512,3,FALSE)","v":412},null,null,"No info","линк","https://bg.toolsworld.com/search/?query=","https://bg.toolsworld.com/search/?query=7177009"]
[7375477,"Fém vágótárcsa, 115 х 1,6 х 22,2 mm// Gross",261,"B","Active",{"$f":"VLOOKUP(A4293,[1]Sheet1!$A$1:$C$65512,3,FALSE)","v":4064},null,null,"No info","линк","https://bg.toolsworld.com/search/?query=","https://bg.toolsworld.com/search/?query=7375477"]
[7379277,"Fémvágó tárcsa, 230 х 2,0 х 22,2 mm// Gross",810,"B","Active",{"$f":"VLOOKUP(A4294,[1]Sheet1!$A$1:$C$65512,3,FALSE)","v":4730},null,null,"No info","линк","https://bg.toolsworld.com/search/?query=","https://bg.toolsworld.com/search/?query=7379277"]
[11334,"Bit set РН1х50, S2 steel, 10 pcs.// Gross",1122,"B","Active",{"$f":"VLOOKUP(A4295,[1]Sheet1!$A$1:$C$65512,3,FALSE)","v":{"$error":"#N/A"}},null,null,"No info",{"$f":"HYPERLINK(L4295,\"линк\")","v":"линк"},"https://bg.toolsworld.com/search/?query=","https://bg.toolsworld.com/search/?query=11334"]
[11363,"Bit set, magnet adapter, S2 steel, plastic case, 32 pcs.// Gross",7989,"B","Active",{"$f":"VLOOKUP(A4296,[1]Sheet1!$A$1:$C$65512,3,FALSE)","v":70},null,null,"No info","линк","https://bg.toolsworld.com/search/?query=","https://bg.toolsworld.com/search/?query=11363"]
[13346,"Screwdriver set for precision mechanics, 6 pcs., PH + SL, CrMo, rubberized handle// Gross",2038,"B","Active",{"$f":"VLOOKUP(A4297,[1]Sheet1!$A$1:$C$65512,3,FALSE)","v":{"$error":"#N/A"}},null,null,"No info","линк","https://bg.toolsworld.com/search/?query=","https://bg.toolsworld.com/search/?query=13346"]
[13721,"Spark plug tubular spanner 16x160 mm// Stels",648,"B","Active",{"$f":"VLOOKUP(A4298,[1]Sheet1!$A$1:$C$65512,3,FALSE)","v":50},null,null,"No info","линк","https://bg.toolsworld.com/search/?query=","https://bg.toolsworld.com/search/?query=13721"]
[14235,"Corner wrench, entrance 14 мм// Stels",735,"B","Active",{"$f":"VLOOKUP(A4299,[1]Sheet1!$A$1:$C$65512,3,FALSE)","v":{"$error":"#N/A"}},null,null,"No info","линк","https://bg.toolsworld.com/search/?query=","https://bg.toolsworld.com/search/?query=14235"]
[16975,"Combination pliers 205 mm, three-component handles// Gross",8642,"B","Active",{"$f":"VLOOKUP(A4300,[1]Sheet1!$A$1:$C$65512,3,FALSE)","v":107},null,null,"No info","линк","https://bg.toolsworld.com/search/?query=","https://bg.toolsworld.com/search/?query=16975"]
[17568,"Side-cutting pliers 180mm with two-component handles, polished, Comfort line// Sparta",1149,"B","Active",{"$f":"VLOOKUP(A4301,[1]Sheet1!$A$1:$C$65512,3,FALSE)","v":{"$error":"#N/A"}},null,null,"No info","линк","https://bg.toolsworld.com/search/?query=","https://bg.toolsworld.com/search/?query=17568"]
[22538,"Blue plastic miter box, 4 corners for sawing + saw 450mm// Сибртех",4362,"B","Active",{"$f":"VLOOKUP(A4302,[1]Sheet1!$A$1:$C$65512,3,FALSE)","v":149},null,null,"No info","линк","https://bg.toolsworld.com/search/?query=","https://bg.toolsworld.com/search/?query=22538"]
[34324,"Aluminium spirit level, reinforced, shockproof cover, 400 mm, milled, 3 vials// Gross",5853,"B","Active",{"$f":"VLOOKUP(A4303,[1]Sheet1!$A$1:$C$65512,3,FALSE)","v":69},null,null,"No info","линк","https://bg.toolsworld.com/search/?query=","https://bg.toolsworld.com/search/?query=34324"]
[34328,"Aluminium spirit level, reinforced, shockproof cover, 800 mm, milled, handles, 3 vials// Gross",8349,"B","Active",{"$f":"VLOOKUP(A4304,[1]Sheet1!$A$1:$C$65512,3,FALSE)","v":80},null,null,"No info","линк","https://bg.toolsworld.com/search/?query=","https://bg.toolsworld.com/search/?query=34328"]
[34370,"Aluminium spirit level, 600 mm, renfroced, handles, milled, 3 vials, magnet// Gross",8864,"B","Active",{"$f":"VLOOKUP(A4305,[1]Sheet1!$A$1:$C$65512,3,FALSE)","v":44},null,null,"No info","линк","https://bg.toolsworld.com/search/?query=","https://bg.toolsworld.com/search/?query=34370"]
[61399,"Round-point shovel, 205х275 mm, stiffening ribs, without handle, Russia// Сибртех",1924,"B","Active",{"$f":"VLOOKUP(A4306,[1]Sheet1!$A$1:$C$65512,3,FALSE)","v":331},null,null,"No info","линк","https://bg.toolsworld.com/search/?query=","https://bg.toolsworld.com/search/?query=61399"]
[61413,"Round-point shovel, 205х275х1400 mm, stiffening ribs, wooden handle// Россия",3338,"B","Active",{"$f":"VLOOKUP(A4307,[1]Sheet1!$A$1:$C$65512,3,FALSE)","v":85},null,null,"No info","линк","https://bg.toolsworld.com/search/?query=","https://bg.toolsworld.com/search/?query=61413"]
[61414,"Square shovel, 230х280х1400 mm, stiffening ribs, wooden handle// Russia",2706,"B","Active",{"$f":"VLOOKUP(A4308,[1]Sheet1!$A$1:$C$65512,3,FALSE)","v":{"$error":"#N/A"}},null,null,"No info","линк","https://bg.toolsworld.com/search/?query=","https://bg.toolsworld.com/search/?query=61414"]
[61420,"Square shovel, 230х280 mm, stiffening ribs, without handle// Россия",1884,"B","Active",{"$f":"VLOOKUP(A4309,[1]Sheet1!$A$1:$C$65512,3,FALSE)","v":{"$error":"#N/A"}},null,null,"No info","линк","https://bg.toolsworld.com/search/?query=","https://bg.toolsworld.com/search/?query=61420"]
[62293,"Subsurface cultivator \"Пышка\" large, 170x1400 mm, wooden handle, SUDOGDA// Russia",4058,"B","Active",{"$f":"VLOOKUP(A4310,[1]Sheet1!$A$1:$C$65512,3,FALSE)","v":248},null,null,"No info","линк","https://bg.toolsworld.com/search/?query=","https://bg.toolsworld.com/search/?query=62293"]
[62295,"Subsurface cultivator \"Стриж\" medium, 150x1420 mm, wooden handle, СУДОГДА// Россия",4101,"B","Active",{"$f":"VLOOKUP(A4311,[1]Sheet1!$A$1:$C$65512,3,FALSE)","v":340},null,null,"No info","линк","https://bg.toolsworld.com/search/?query=","https://bg.toolsworld.com/search/?query=62295"]
[70674,"SDS Plus PRO Hammer drill bit, 14 х 210 mm// Gross",2389,"B","Active",{"$f":"VLOOKUP(A4312,[1]Sheet1!$A$1:$C$65512,3,FALSE)","v":{"$error":"#N/A"}},null,null,"No info","линк","https://bg.toolsworld.com/search/?query=","https://bg.toolsworld.com/search/?query=70674"]
[71613,"Metal twist drill 5,5 mm, HSS, 338 W// Gross",688,"B","Active",{"$f":"VLOOKUP(A4313,[1]Sheet1!$A$1:$C$65512,3,FALSE)","v":307},null,null,"No info","линк","https://bg.toolsworld.com/search/?query=","https://bg.toolsworld.com/search/?query=71613"]
[71616,"Metal twist drill 7,0 mm, HSS, 338 W// Gross",947,"B","Active",{"$f":"VLOOKUP(A4314,[1]Sheet1!$A$1:$C$65512,3,FALSE)","v":202},null,null,"No info","линк","https://bg.toolsworld.com/search/?query=","https://bg.toolsworld.com/search/?query=71616"]
[71618,"Metal twist drill 8,0 mm, HSS, 338 W// Gross",1136,"B","Active",{"$f":"VLOOKUP(A4315,[1]Sheet1!$A$1:$C$65512,3,FALSE)","v":420},null,null,"No info","линк","https://bg.toolsworld.com/search/?query=","https://bg.toolsworld.com/search/?query=71618"]
[71622,"Metal twist drill 10,0 mm, HSS, 338 W// Gross",1723,"B","Active",{"$f":"VLOOKUP(A4316,[1]Sheet1!$A$1:$C$65512,3,FALSE)","v":266},null,null,"No info","линк","https://bg.toolsworld.com/search/?query=","https://bg.toolsworld.com/search/?query=71622"]
[71627,"Metal twist drill 12,0 mm, HSS, 338 W// Gross",2531,"B","Active",{"$f":"VLOOKUP(A4317,[1]Sheet1!$A$1:$C$65512,3,FALSE)","v":113},null,null,"No info","линк","https://bg.toolsworld.com/search/?query=","https://bg.toolsworld.com/search/?query=71627"]
[72312,"Metal twist drill 4,0 mm, HSS-Co// Gross",591,"B","Active",{"$f":"VLOOKUP(A4318,[1]Sheet1!$A$1:$C$65512,3,FALSE)","v":259},null,null,"No info","линк","https://bg.toolsworld.com/search/?query=","https://bg.toolsworld.com/search/?query=72312"]
[80101,"Foam paint roller with handle, 100 mm, D 48 mm, handle D 6 mm Russia// Сибртех",479,"B","Active",{"$f":"VLOOKUP(A4319,[1]Sheet1!$A$1:$C$65512,3,FALSE)","v":255},null,null,"No info","линк","https://bg.toolsworld.com/search/?query=","https://bg.toolsworld.com/search/?query=80101"]
[80121,"Paint roller with natural nap, with handle, 100 mm, 12 mm pile, D 48 mm, handle D 6 mm Russia// Сибртех",464,"B","Active",{"$f":"VLOOKUP(A4320,[1]Sheet1!$A$1:$C$65512,3,FALSE)","v":98},null,null,"No info","линк","https://bg.toolsworld.com/search/?query=","https://bg.toolsworld.com/search/?query=80121"]
[80122,"Paint roller with natural nap, with handle, 150 mm, 12 mm pile, D 48 mm, handle D 6 mm Russia// Сибртех",479,"B","Active",{"$f":"VLOOKUP(A4321,[1]Sheet1!$A$1:$C$65512,3,FALSE)","v":153},null,null,"No info","линк","https://bg.toolsworld.com/search/?query=","https://bg.toolsworld.com/search/?query=80122"]
[80127,"Paint roller refill with natural nap, with handle,150 mm,12 mm pile,D48mm,handle D6mm Russia// Сибртех",269,"B","Active",{"$f":"VLOOKUP(A4322,[1]Sheet1!$A$1:$C$65512,3,FALSE)","v":190},null,null,"No info","линк","https://bg.toolsworld.com/search/?query=","https://bg.toolsworld.com/search/?query=80127"]
[80128,"Paint roller refill with natural nap, with handle,200mm,12mm pile,D48mm,handle D6mm Russia// Сибртех",312,"B","Active",{"$f":"VLOOKUP(A4323,[1]Sheet1!$A$1:$C$65512,3,FALSE)","v":183},null,null,"No info","линк","https://bg.toolsworld.com/search/?query=","https://bg.toolsworld.com/search/?query=80128"]
[80129,"Paint roller refill with natural nap, with handle,250mm,12mm pile,D48mm,handle D6mm Russia// Сибртех",367,"B","Active",{"$f":"VLOOKUP(A4324,[1]Sheet1!$A$1:$C$65512,3,FALSE)","v":137},null,null,"No info","линк","https://bg.toolsworld.com/search/?query=","https://bg.toolsworld.com/search/?query=80129"]
[80132,"Velour paint roller, 100 mm, pile 5 mm, D 36 mm, handle D 6 mm Russia// Сибртех",438,"B","Active",{"$f":"VLOOKUP(A4325,[1]Sheet1!$A$1:$C$65512,3,FALSE)","v":85},null,null,"No info","линк","https://bg.toolsworld.com/search/?query=","https://bg.toolsworld.com/search/?query=80132"]
[80133,"Velour paint roller, 150 mm, pile 5 mm, D 36 mm, handle D 6 mm Russia// Сибртех",505,"B","Active",{"$f":"VLOOKUP(A4326,[1]Sheet1!$A$1:$C$65512,3,FALSE)","v":16},null,null,"No info","линк","https://bg.toolsworld.com/search/?query=","https://bg.toolsworld.com/search/?query=80133"]
[80134,"Velour paint roller, 200 mm, pile 5 mm, D 36 mm, handle D 6 mm Russia// Сибртех",589,"B","Active",{"$f":"VLOOKUP(A4327,[1]Sheet1!$A$1:$C$65512,3,FALSE)","v":65},null,null,"No info","линк","https://bg.toolsworld.com/search/?query=","https://bg.toolsworld.com/search/?query=80134"]
[90316,"Lightweight combination gloves, fingerless AKTIV, L// Gross",2751,"B","Active",{"$f":"VLOOKUP(A4328,[1]Sheet1!$A$1:$C$65512,3,FALSE)","v":543},null,null,"No info","линк","https://bg.toolsworld.com/search/?query=","https://bg.toolsworld.com/search/?query=90316"]
[574757,"1/2\" Sq. Dr. Air Ratchet Reinforced Wrench, 100Nm, 160 RPM// Denzel",9098,"B","Active",{"$f":"VLOOKUP(A4329,[1]Sheet1!$A$1:$C$65512,3,FALSE)","v":141},null,null,"No info","линк","https://bg.toolsworld.com/search/?query=","https://bg.toolsworld.com/search/?query=574757"]
[604957,"Bypass pruner, 200 mm, metal handles, upper in PVC jacket//Palisad",1916,"B","Active",{"$f":"VLOOKUP(A4330,[1]Sheet1!$A$1:$C$65512,3,FALSE)","v":261},null,null,"No info","линк","https://bg.toolsworld.com/search/?query=",{"$f":"CONCATENATE(K4330,A4330)","v":"https://bg.toolsworld.com/search/?query=604957"}]
[620448,"Narrow trowel, lengthened, rubber-coated handle// PALISAD",1389,"B","Active",{"$f":"VLOOKUP(A4331,[1]Sheet1!$A$1:$C$65512,3,FALSE)","v":{"$error":"#N/A"}},null,null,"No info","линк","https://bg.toolsworld.com/search/?query=","https://bg.toolsworld.com/search/?query=620448"]
[677137,"Cotton working gloves, checker PVC coating, 10 gauge// Palisad",257,"B","Active",{"$f":"VLOOKUP(A4332,[1]Sheet1!$A$1:$C$65512,3,FALSE)","v":4453},null,null,"No info","линк","https://bg.toolsworld.com/search/?query=","https://bg.toolsworld.com/search/?query=677137"]
[783079,"Multipurpose snips, 183 mm// MTX",4985,"B","Active",{"$f":"VLOOKUP(A4333,[1]Sheet1!$A$1:$C$65512,3,FALSE)","v":{"$error":"#N/A"}},null,null,"No info","линк","https://bg.toolsworld.com/search/?query=","https://bg.toolsworld.com/search/?query=783079"]
[806539,"Paint roller NYLON, 2-comp.handle, 250 mm, pile 18 mm, D 48 mm, handle D 6 mm// MTX",1631,"B","Active",{"$f":"VLOOKUP(A4334,[1]Sheet1!$A$1:$C$65512,3,FALSE)","v":117},null,null,"No info","линк","https://bg.toolsworld.com/search/?query=","https://bg.toolsworld.com/search/?query=806539"]
[806599,"Paint roller refill POLYACRIL yellow strip, 2-comp.handle,180mm,pile 12mm, D48mm,handle D6mm// MTX",935,"B","Active",{"$f":"VLOOKUP(A4335,[1]Sheet1!$A$1:$C$65512,3,FALSE)","v":225},null,null,"No info","линк","https://bg.toolsworld.com/search/?query=","https://bg.toolsworld.com/search/?query=806599"]
[820039,"Round brush Elite №21, natural bristle, three-component handle// MTX",597,"B","Active",{"$f":"VLOOKUP(A4336,[1]Sheet1!$A$1:$C$65512,3,FALSE)","v":{"$error":"#N/A"}},null,null,"No info","линк","https://bg.toolsworld.com/search/?query=","https://bg.toolsworld.com/search/?query=820039"]
[833569,"Radiator paint brush for enamels, 25x10 mm, natural bristle, plastic handle// MTX",267,"B","Active",{"$f":"VLOOKUP(A4337,[1]Sheet1!$A$1:$C$65512,3,FALSE)","v":255},null,null,"No info","линк","https://bg.toolsworld.com/search/?query=","https://bg.toolsworld.com/search/?query=833569"]
[833599,"Radiator paint brush for enamels, 70x12 mm, natural bristle, plastic handle// MTX",586,"B","Active",{"$f":"VLOOKUP(A4338,[1]Sheet1!$A$1:$C$65512,3,FALSE)","v":416},null,null,"No info","линк","https://bg.toolsworld.com/search/?query=","https://bg.toolsworld.com/search/?query=833599"]
[833629,"Flat paint brush for varnishes, 35x10 mm, synthetic bristle, plastic handle// MTX",226,"B","Active",{"$f":"VLOOKUP(A4339,[1]Sheet1!$A$1:$C$65512,3,FALSE)","v":414},null,null,"No info","линк","https://bg.toolsworld.com/search/?query=","https://bg.toolsworld.com/search/?query=833629"]
[833639,"Flat paint brush for varnishes, 50x12 mm, synthetic bristle, plastic handle// MTX",316,"B","Active",{"$f":"VLOOKUP(A4340,[1]Sheet1!$A$1:$C$65512,3,FALSE)","v":448},null,null,"No info","линк","https://bg.toolsworld.com/search/?query=","https://bg.toolsworld.com/search/?query=833639"]
[833659,"Flat paint brush for varnishes, 70x12 mm, synthetic bristle, plastic handle// MTX",481,"B","Active",{"$f":"VLOOKUP(A4341,[1]Sheet1!$A$1:$C$65512,3,FALSE)","v":387},null,null,"No info","линк","https://bg.toolsworld.com/search/?query=","https://bg.toolsworld.com/search/?query=833659"]
[833669,"Flat paint brush for varnishes, 100x12 mm, synthetic bristle, plastic handle// MTX",790,"B","Active",{"$f":"VLOOKUP(A4342,[1]Sheet1!$A$1:$C$65512,3,FALSE)","v":197},null,null,"No info","линк","https://bg.toolsworld.com/search/?query=","https://bg.toolsworld.com/search/?query=833669"]
[833839,"Flat paint brush for water paints, 50x15 mm, mixed bristle, plastic handle// MTX",540,"B","Active",{"$f":"VLOOKUP(A4343,[1]Sheet1!$A$1:$C$65512,3,FALSE)","v":284},null,null,"No info","линк","https://bg.toolsworld.com/search/?query=","https://bg.toolsworld.com/search/?query=833839"]
[833859,"Flat paint brush for water paints, 75x17 mm, mixed bristle, plastic handle// MTX",878,"B","Active",{"$f":"VLOOKUP(A4344,[1]Sheet1!$A$1:$C$65512,3,FALSE)","v":124},null,null,"No info","линк","https://bg.toolsworld.com/search/?query=","https://bg.toolsworld.com/search/?query=833859"]
[844059,"Set of paint roller GREYTEX, 250 mm, 12 mm pile, D 36 mm, paint tray 330*350 mm // MTX",2150,"B","Active",{"$f":"VLOOKUP(A4345,[1]Sheet1!$A$1:$C$65512,3,FALSE)","v":73},null,null,"No info","линк","https://bg.toolsworld.com/search/?query=","https://bg.toolsworld.com/search/?query=844059"]
[923145,"Microfiber cloth for kitchen 350x400 mm, green, Home// Palisad",283,"B","Active",{"$f":"VLOOKUP(A4346,[1]Sheet1!$A$1:$C$65512,3,FALSE)","v":{"$error":"#N/A"}},null,null,"No info","линк","https://bg.toolsworld.com/search/?query=","https://bg.toolsworld.com/search/?query=923145"]
[929285,"Hanger for light clothes with rubberized anti-slip coating 40 cm, Home// Palisad",196,"B","Active",{"$f":"VLOOKUP(A4347,[1]Sheet1!$A$1:$C$65512,3,FALSE)","v":1},null,null,"No info","линк","https://bg.toolsworld.com/search/?query=","https://bg.toolsworld.com/search/?query=929285"]
[935095,"Wring mop 120 cm, microfiber refill, 120 g, Home// Palisad",1867,"B","Active",{"$f":"VLOOKUP(A4348,[1]Sheet1!$A$1:$C$65512,3,FALSE)","v":12},null,null,"No info","линк","https://bg.toolsworld.com/search/?query=","https://bg.toolsworld.com/search/?query=935095"]
[939497,"Polypropylene twine, 1,4 mm, L 500 m, Russia// Palisad",1069,"B","Active",{"$f":"VLOOKUP(A4349,[1]Sheet1!$A$1:$C$65512,3,FALSE)","v":{"$error":"#N/A"}},null,null,"No info","линк","https://bg.toolsworld.com/search/?query=","https://bg.toolsworld.com/search/?query=939497"]
[1843555,"Locking pliers, chain grip, 460 mm// MTX",2615,"B","Active",{"$f":"VLOOKUP(A4350,[1]Sheet1!$A$1:$C$65512,3,FALSE)","v":114},null,null,"No info","линк","https://bg.toolsworld.com/search/?query=","https://bg.toolsworld.com/search/?query=1843555"]
[2065657,"G-clamp 100mm// Sparta",1252,"B","Active",{"$f":"VLOOKUP(A4351,[1]Sheet1!$A$1:$C$65512,3,FALSE)","v":222},null,null,"No info","линк","https://bg.toolsworld.com/search/?query=","https://bg.toolsworld.com/search/?query=2065657"]
[11202,"Bitkészlet PH2 х127, S2 acél, 5 db// GROSS",1539,"B","Active",{"$f":"VLOOKUP(A4352,[1]Sheet1!$A$1:$C$65512,3,FALSE)","v":397},null,null,"No info",{"$f":"HYPERLINK(L4352,\"линк\")","v":"линк"},"https://bg.toolsworld.com/search/?query=","https://bg.toolsworld.com/search/?query=11202"]
[11203,"bitkészlet PH2 х150, S2 acél, 5 db// GROSS",1990,"B","Active",{"$f":"VLOOKUP(A4353,[1]Sheet1!$A$1:$C$65512,3,FALSE)","v":336},null,null,"No info","линк","https://bg.toolsworld.com/search/?query=","https://bg.toolsworld.com/search/?query=11203"]
[11263,"bitkészlet PH2 х90, S2 acél, 10 db// GROSS",2374,"B","Active",{"$f":"VLOOKUP(A4354,[1]Sheet1!$A$1:$C$65512,3,FALSE)","v":90},null,null,"No info","линк","https://bg.toolsworld.com/search/?query=","https://bg.toolsworld.com/search/?query=11263"]
[11470,"Bitkészlet TORX 20х50, S2, 10 db// GROSS",1120,"B","Active",{"$f":"VLOOKUP(A4355,[1]Sheet1!$A$1:$C$65512,3,FALSE)","v":{"$error":"#N/A"}},null,null,"No info","линк","https://bg.toolsworld.com/search/?query=","https://bg.toolsworld.com/search/?query=11470"]
[14226,"L típusú csavarkulcs 22 mm// Stels",1419,"B","Active",{"$f":"VLOOKUP(A4356,[1]Sheet1!$A$1:$C$65512,3,FALSE)","v":53},null,null,"No info","линк","https://bg.toolsworld.com/search/?query=","https://bg.toolsworld.com/search/?query=14226"]
[15260,"Kombinált villáskulcs, 23 mm, CrV, csúszásgátló// Stels",1041,"B","Active",{"$f":"VLOOKUP(A4357,[1]Sheet1!$A$1:$C$65512,3,FALSE)","v":{"$error":"#N/A"}},null,null,"No info","линк","https://bg.toolsworld.com/search/?query=","https://bg.toolsworld.com/search/?query=15260"]
[15429,"12 db-os kombinált villáskulcs készlet, 6-22 mm, CrV, szatén kivitel// Stels",4773,"B","Active",{"$f":"VLOOKUP(A4358,[1]Sheet1!$A$1:$C$65512,3,FALSE)","v":160},null,null,"No info","линк","https://bg.toolsworld.com/search/?query=","https://bg.toolsworld.com/search/?query=15429"]
[17167,"180mm hosszú orrú fogó kétkomponensű fogantyúval, polírozott Comfort vonal// Sparta",1030,"B","Active",{"$f":"VLOOKUP(A4359,[1]Sheet1!$A$1:$C$65512,3,FALSE)","v":{"$error":"#N/A"}},null,null,"No info","линк","https://bg.toolsworld.com/search/?query=","https://bg.toolsworld.com/search/?query=17167"]
[51102,"Hidraulikus palackemelő, 4T, tartomány 194-372 mm// Stels",6512,"B","Active",{"$f":"VLOOKUP(A4360,[1]Sheet1!$A$1:$C$65512,3,FALSE)","v":217},null,null,"No info","линк","https://bg.toolsworld.com/search/?query=","https://bg.toolsworld.com/search/?query=51102"]
[57062,"Dual csatlakozó tömlőhöz 8 mm, 2 db.// Stels",511,"B","Active",{"$f":"VLOOKUP(A4361,[1]Sheet1!$A$1:$C$65512,3,FALSE)","v":{"$error":"#N/A"}},null,null,"No info","линк","https://bg.toolsworld.com/search/?query=","https://bg.toolsworld.com/search/?query=57062"]
[61746,"Acél gereblye, 300 mm, 12 egyenes fog, nyél nélkül, RUSSIA// Сибртех",495,"B","Active",{"$f":"VLOOKUP(A4362,[1]Sheet1!$A$1:$C$65512,3,FALSE)","v":{"$error":"#N/A"}},null,null,"No info","линк","https://bg.toolsworld.com/search/?query=","https://bg.toolsworld.com/search/?query=61746"]
[61747,"Acél gereblye, 360 mm, 14 egyenes fog, nyél nélkül, RUSSIA// Сибртех",900,"B","Active",{"$f":"VLOOKUP(A4363,[1]Sheet1!$A$1:$C$65512,3,FALSE)","v":{"$error":"#N/A"}},null,null,"No info","линк","https://bg.toolsworld.com/search/?query=","https://bg.toolsworld.com/search/?query=61747"]
[61759,"Gereblye, rozsdamentes acél, 340 mm, 14 csavart fog, fogantyú nélkül, RUSSIA// Сибртех",1248,"B","Active",{"$f":"VLOOKUP(A4364,[1]Sheet1!$A$1:$C$65512,3,FALSE)","v":7},null,null,"No info","линк","https://bg.toolsworld.com/search/?query=","https://bg.toolsworld.com/search/?query=61759"]
[62290,"Talajlazító, 120х885 mm, fa nyéllel, SUDOGDA// RUSSIA",1354,"B","Active",{"$f":"VLOOKUP(A4365,[1]Sheet1!$A$1:$C$65512,3,FALSE)","v":127},null,null,"No info","линк","https://bg.toolsworld.com/search/?query=","https://bg.toolsworld.com/search/?query=62290"]
[62318,"Acél kapa, 60x80 mm, nyél nélkül, RUSSIA// Сибртех",591,"B","Active",{"$f":"VLOOKUP(A4366,[1]Sheet1!$A$1:$C$65512,3,FALSE)","v":108},null,null,"No info","линк","https://bg.toolsworld.com/search/?query=","https://bg.toolsworld.com/search/?query=62318"]
[62364,"Acél kapa, 150x120 mm, kerek orrú, nyél nélkül, RUSSIA// Сибртех",711,"B","Active",{"$f":"VLOOKUP(A4367,[1]Sheet1!$A$1:$C$65512,3,FALSE)","v":42},null,null,"No info","линк","https://bg.toolsworld.com/search/?query=","https://bg.toolsworld.com/search/?query=62364"]
[63901,"Műanyag üvegházváz, 300x110x120 cm, ív d 20mm, fehér// Palisad",7746,"B","Active",{"$f":"VLOOKUP(A4368,[1]Sheet1!$A$1:$C$65512,3,FALSE)","v":{"$error":"#N/A"}},null,null,"No info","линк","https://bg.toolsworld.com/search/?query=","https://bg.toolsworld.com/search/?query=63901"]
[64101,"Horog, 190 mm, \"Жнец - 25\" fogazott penge, АРТИ// Россия",1069,"B","Active",{"$f":"VLOOKUP(A4369,[1]Sheet1!$A$1:$C$65512,3,FALSE)","v":{"$error":"#N/A"}},null,null,"No info","линк","https://bg.toolsworld.com/search/?query=","https://bg.toolsworld.com/search/?query=64101"]
[67748,"Ásó kesztyű karmokkal// Palisad",743,"B","Active",{"$f":"VLOOKUP(A4370,[1]Sheet1!$A$1:$C$65512,3,FALSE)","v":{"$error":"#N/A"}},null,null,"No info","линк","https://bg.toolsworld.com/search/?query=","https://bg.toolsworld.com/search/?query=67748"]
[68441,"Fa nyél, 40х1200 mm, 2. osztály// RUSSIA",784,"B","Active",{"$f":"VLOOKUP(A4371,[1]Sheet1!$A$1:$C$65512,3,FALSE)","v":{"$error":"#N/A"}},null,null,"No info","линк","https://bg.toolsworld.com/search/?query=","https://bg.toolsworld.com/search/?query=68441"]
[70687,"SDS Plus PRO Hammer fúrószár, 18 x 300 mm// GROSS",4700,"B","Active",{"$f":"VLOOKUP(A4372,[1]Sheet1!$A$1:$C$65512,3,FALSE)","v":{"$error":"#N/A"}},null,null,"No info","линк","https://bg.toolsworld.com/search/?query=","https://bg.toolsworld.com/search/?query=70687"]
[71607,"Fém csavarfúró 4,0 mm, HSS, 338 W// GROSS",448,"B","Active",{"$f":"VLOOKUP(A4373,[1]Sheet1!$A$1:$C$65512,3,FALSE)","v":868},null,null,"No info","линк","https://bg.toolsworld.com/search/?query=","https://bg.toolsworld.com/search/?query=71607"]
[78357,"PIRANHA vágóvágók, 190mm, egyenes és jobb vágás, СrMo acél, kétkomponensű fogantyúk// GROSS",6138,"B","Active",{"$f":"VLOOKUP(A4374,[1]Sheet1!$A$1:$C$65512,3,FALSE)","v":52},null,null,"No info","линк","https://bg.toolsworld.com/search/?query=","https://bg.toolsworld.com/search/?query=78357"]
[78359,"PIRANHA vágóvágók, 185mm, egyenes és bal vágás, СrMo acél, kétkomponensű fogantyúk// GROSS",6144,"B","Active",{"$f":"VLOOKUP(A4375,[1]Sheet1!$A$1:$C$65512,3,FALSE)","v":154},null,null,"No info","линк","https://bg.toolsworld.com/search/?query=","https://bg.toolsworld.com/search/?query=78359"]
[78972,"Könnyű papírvágó, teleszkópos kaparókés, 9 mm// Sparta",59,"B","Active",{"$f":"VLOOKUP(A4376,[1]Sheet1!$A$1:$C$65512,3,FALSE)","v":{"$error":"#N/A"}},null,null,"No info","линк","https://bg.toolsworld.com/search/?query=","https://bg.toolsworld.com/search/?query=78972"]
[89607,"Trapéz toll él, alumínium, 1 erősítő borda, L - 1,0 m RUSSIA// Сибртех",1953,"B","Active",{"$f":"VLOOKUP(A4377,[1]Sheet1!$A$1:$C$65512,3,FALSE)","v":{"$error":"#N/A"}},null,null,"No info","линк","https://bg.toolsworld.com/search/?query=","https://bg.toolsworld.com/search/?query=89607"]
[152369,"6 db Dupla villáskulcs készlet, Elliptikus, tükörfényes, 6-17 mm, CrV// MTX",2645,"B","Active",{"$f":"VLOOKUP(A4378,[1]Sheet1!$A$1:$C$65512,3,FALSE)","v":297},null,null,"No info","линк","https://bg.toolsworld.com/search/?query=","https://bg.toolsworld.com/search/?query=152369"]
[155305,"Állítható csavarkulcs, krómozott, 250mm// Sparta",1572,"B","Active",{"$f":"VLOOKUP(A4379,[1]Sheet1!$A$1:$C$65512,3,FALSE)","v":{"$error":"#N/A"}},null,null,"No info","линк","https://bg.toolsworld.com/search/?query=","https://bg.toolsworld.com/search/?query=155305"]
[169717,"200mm-es kombinált fogó kétkomponensű nyéllel, polírozott, Comfort vonal// Sparta",1413,"B","Active",{"$f":"VLOOKUP(A4380,[1]Sheet1!$A$1:$C$65512,3,FALSE)","v":142},null,null,"No info","линк","https://bg.toolsworld.com/search/?query=","https://bg.toolsworld.com/search/?query=169717"]
[175667,"Oldalra vágó fogó 160mm kétkomponensű nyéllel, polírozott, Comfort line// Sparta",1018,"B","Active",{"$f":"VLOOKUP(A4381,[1]Sheet1!$A$1:$C$65512,3,FALSE)","v":150},null,null,"No info","линк","https://bg.toolsworld.com/search/?query=","https://bg.toolsworld.com/search/?query=175667"]
[175687,"Oldalt vágó fogó 180mm kétkomponensű nyéllel, polírozott, Comfort line// Sparta",1149,"B","Active",{"$f":"VLOOKUP(A4382,[1]Sheet1!$A$1:$C$65512,3,FALSE)","v":146},null,null,"No info","линк","https://bg.toolsworld.com/search/?query=","https://bg.toolsworld.com/search/?query=175687"]
[240205,"Fűrészfűrész 200 mm// Sparta",812,"B","Active",{"$f":"VLOOKUP(A4383,[1]Sheet1!$A$1:$C$65512,3,FALSE)","v":{"$error":"#N/A"}},null,null,"No info","линк","https://bg.toolsworld.com/search/?query=","https://bg.toolsworld.com/search/?query=240205"]
[340419,"Alumínium vízmérték \"sín\", 2000 mm, 2 fiola + 1 forgó// MTX",3722,"B","Active",{"$f":"VLOOKUP(A4384,[1]Sheet1!$A$1:$C$65512,3,FALSE)","v":28},null,null,"No info","линк","https://bg.toolsworld.com/search/?query=","https://bg.toolsworld.com/search/?query=340419"]
[380169,"Lézeres távolságmérő LD-60, 60 m, elektromos szögmérővel// MTX",13878,"B","Active",{"$f":"VLOOKUP(A4385,[1]Sheet1!$A$1:$C$65512,3,FALSE)","v":{"$error":"#N/A"}},null,null,"No info","линк","https://bg.toolsworld.com/search/?query=","https://bg.toolsworld.com/search/?query=380169"]
[405609,"Szegecspisztoly molly csavarhoz// MTX",2704,"B","Active",{"$f":"VLOOKUP(A4386,[1]Sheet1!$A$1:$C$65512,3,FALSE)","v":{"$error":"#N/A"}},null,null,"No info","линк","https://bg.toolsworld.com/search/?query=","https://bg.toolsworld.com/search/?query=405609"]
[549125,"Areométer az elektrolit sűrűségének mérésére// Sparta",654,"B","Active",{"$f":"VLOOKUP(A4387,[1]Sheet1!$A$1:$C$65512,3,FALSE)","v":72},null,null,"No info","линк","https://bg.toolsworld.com/search/?query=","https://bg.toolsworld.com/search/?query=549125"]
[586107,"Akkus fűrész RCS400-36, kefe nélküli motor, Li-ion, 36 V, 4 Ah, vezetőlemez 400 mm busz// Denzel",106003,"B","Active",{"$f":"VLOOKUP(A4388,[1]Sheet1!$A$1:$C$65512,3,FALSE)","v":{"$error":"#N/A"}},null,null,"No info","линк","https://bg.toolsworld.com/search/?query=","https://bg.toolsworld.com/search/?query=586107"]
[620488,"Kombinált kapa \"trapéz + 3 fog\", meghosszabbított, gumival bevont nyél// Palisad",2071,"B","Active",{"$f":"VLOOKUP(A4389,[1]Sheet1!$A$1:$C$65512,3,FALSE)","v":365},null,null,"No info","линк","https://bg.toolsworld.com/search/?query=","https://bg.toolsworld.com/search/?query=620488"]
[620498,"Gyomláló, meghosszabbított, gumival bevont nyél// Palisad",1301,"B","Active",{"$f":"VLOOKUP(A4390,[1]Sheet1!$A$1:$C$65512,3,FALSE)","v":{"$error":"#N/A"}},null,null,"No info","линк","https://bg.toolsworld.com/search/?query=","https://bg.toolsworld.com/search/?query=620498"]
[701129,"Facsigás fúrószár, 32 x 230 mm, hatlapú szár// MTX",2421,"B","Active",{"$f":"VLOOKUP(A4391,[1]Sheet1!$A$1:$C$65512,3,FALSE)","v":335},null,null,"No info","линк","https://bg.toolsworld.com/search/?query=","https://bg.toolsworld.com/search/?query=701129"]
[701149,"Facsigás fúrószár, 40 x 230 mm, hatlapú szár// MTX",4181,"B","Active",{"$f":"VLOOKUP(A4392,[1]Sheet1!$A$1:$C$65512,3,FALSE)","v":343},null,null,"No info","линк","https://bg.toolsworld.com/search/?query=","https://bg.toolsworld.com/search/?query=701149"]
[738709,"Tépőzáras csiszolókorongok, P 220, 125 mm, 10 db// MTX",432,"B","Active",{"$f":"VLOOKUP(A4393,[1]Sheet1!$A$1:$C$65512,3,FALSE)","v":17},null,null,"No info","линк","https://bg.toolsworld.com/search/?query=","https://bg.toolsworld.com/search/?query=738709"]
[756069,"Vízálló csiszolópapír, P 80, 230 х 280 mm, 10 db// MTX",354,"B","Active",{"$f":"VLOOKUP(A4394,[1]Sheet1!$A$1:$C$65512,3,FALSE)","v":580},null,null,"No info","линк","https://bg.toolsworld.com/search/?query=",{"$f":"CONCATENATE(K4394,A4394)","v":"https://bg.toolsworld.com/search/?query=756069"}]
[806049,"Mini görgő Nylon profi, cserélhető, 100 mm, cölöp 12 mm, D 16 mm, poliamid, nyél D 6 mm// MTX",214,"B","Active",{"$f":"VLOOKUP(A4395,[1]Sheet1!$A$1:$C$65512,3,FALSE)","v":60},null,null,"No info","линк","https://bg.toolsworld.com/search/?query=","https://bg.toolsworld.com/search/?query=806049"]
[806629,"VELOUR festőhenger, 2-komp. fogantyú, 180 mm, cölöp 4 mm, D 48 mm, fogantyú D 6 mm// MTX",1165,"B","Active",{"$f":"VLOOKUP(A4396,[1]Sheet1!$A$1:$C$65512,3,FALSE)","v":{"$error":"#N/A"}},null,null,"No info","линк","https://bg.toolsworld.com/search/?query=","https://bg.toolsworld.com/search/?query=806629"]
[833939,"Lapos ecset homlokzati munkákhoz, 120x12 mm, natúr sörtéjű, műanyag nyél// MTX",961,"B","Active",{"$f":"VLOOKUP(A4397,[1]Sheet1!$A$1:$C$65512,3,FALSE)","v":31},null,null,"No info","линк","https://bg.toolsworld.com/search/?query=","https://bg.toolsworld.com/search/?query=833939"]
[841115,"3 db kefekészlet (lapos kefék 1/2\",3/4\",1\")// Sparta",263,"B","Active",{"$f":"VLOOKUP(A4398,[1]Sheet1!$A$1:$C$65512,3,FALSE)","v":4},null,null,"No info","линк","https://bg.toolsworld.com/search/?query=","https://bg.toolsworld.com/search/?query=841115"]
[886485,"Tömítő pisztoly 750ml, zárt, alumínium test, körrúd 8 mm// Sparta",3338,"B","Active",{"$f":"VLOOKUP(A4399,[1]Sheet1!$A$1:$C$65512,3,FALSE)","v":{"$error":"#N/A"}},null,null,"No info","линк","https://bg.toolsworld.com/search/?query=","https://bg.toolsworld.com/search/?query=886485"]
[6260978,"Kombinált kapa, trapéz, 60x295 mm, teljesen fém// Palisad",794,"B","Active",{"$f":"VLOOKUP(A4400,[1]Sheet1!$A$1:$C$65512,3,FALSE)","v":{"$error":"#N/A"}},null,null,"No info","линк","https://bg.toolsworld.com/search/?query=","https://bg.toolsworld.com/search/?query=6260978"]
[6260988,"Kombinált kapa, 3D szirom, 55x295 mm, teljesen fém// Palisad",684,"B","Active",{"$f":"VLOOKUP(A4401,[1]Sheet1!$A$1:$C$65512,3,FALSE)","v":{"$error":"#N/A"}},null,null,"No info","линк","https://bg.toolsworld.com/search/?query=","https://bg.toolsworld.com/search/?query=6260988"]
[6260998,"Kombinált kapa, szirom, 60x295 mm, teljesen fém// Palisad",562,"B","Active",{"$f":"VLOOKUP(A4402,[1]Sheet1!$A$1:$C$65512,3,FALSE)","v":{"$error":"#N/A"}},null,null,"No info","линк","https://bg.toolsworld.com/search/?query=","https://bg.toolsworld.com/search/?query=6260998"]
[6760288,"Erősített kerti tömlő 1/2\", 50m, LUXE// Palisad",14308,"B","Active",{"$f":"VLOOKUP(A4403,[1]Sheet1!$A$1:$C$65512,3,FALSE)","v":{"$error":"#N/A"}},null,null,"No info","линк","https://bg.toolsworld.com/search/?query=","https://bg.toolsworld.com/search/?query=6760288"]
[907409,"Organizer 300х220х55 mm// MTX",1523,"B","Active",{"$f":"VLOOKUP(A4404,[1]Sheet1!$A$1:$C$65512,3,FALSE)","v":159},null,null,"No info",{"$f":"HYPERLINK(L4404,\"линк\")","v":"линк"},"https://bg.toolsworld.com/search/?query=","https://bg.toolsworld.com/search/?query=907409"]
[907419,"Organizer 345х245х60 mm// MTX",1979,"B","Active",{"$f":"VLOOKUP(A4405,[1]Sheet1!$A$1:$C$65512,3,FALSE)","v":617},null,null,"No info","линк","https://bg.toolsworld.com/search/?query=","https://bg.toolsworld.com/search/?query=907419"]
[907429,"Organizer 460х325х80 mm// MTX",4555,"B","Active",{"$f":"VLOOKUP(A4406,[1]Sheet1!$A$1:$C$65512,3,FALSE)","v":260},null,null,"No info","линк","https://bg.toolsworld.com/search/?query=","https://bg.toolsworld.com/search/?query=907429"]
[908037,"Tool box 13\", 310х170х130 mm// Sparta",1637,"B","Active",{"$f":"VLOOKUP(A4407,[1]Sheet1!$A$1:$C$65512,3,FALSE)","v":315},null,null,"No info","линк","https://bg.toolsworld.com/search/?query=","https://bg.toolsworld.com/search/?query=908037"]
[908047,"Tool box 17\", 415х225х200 mm// Sparta",3613,"B","Active",{"$f":"VLOOKUP(A4408,[1]Sheet1!$A$1:$C$65512,3,FALSE)","v":157},null,null,"No info","линк","https://bg.toolsworld.com/search/?query=","https://bg.toolsworld.com/search/?query=908047"]
[908057,"Tool box 21\", 525х255х245 mm// Sparta",6408,"B","Active",{"$f":"VLOOKUP(A4409,[1]Sheet1!$A$1:$C$65512,3,FALSE)","v":88},null,null,"No info","линк","https://bg.toolsworld.com/search/?query=","https://bg.toolsworld.com/search/?query=908057"]
[908067,"Tool box 24\", 595х340х315 mm// Sparta",11542,"B","Active",{"$f":"VLOOKUP(A4410,[1]Sheet1!$A$1:$C$65512,3,FALSE)","v":20},null,null,"No info","линк","https://bg.toolsworld.com/search/?query=","https://bg.toolsworld.com/search/?query=908067"]
[908109,"Tool box 15\", 375x200x190 mm, with organizer// MTX",3281,"B","Active",{"$f":"VLOOKUP(A4411,[1]Sheet1!$A$1:$C$65512,3,FALSE)","v":199},null,null,"No info","линк","https://bg.toolsworld.com/search/?query=","https://bg.toolsworld.com/search/?query=908109"]
[908119,"Tool box 19\", 460x255x240 mm, with organizer// MTX",6174,"B","Active",{"$f":"VLOOKUP(A4412,[1]Sheet1!$A$1:$C$65512,3,FALSE)","v":128},null,null,"No info","линк","https://bg.toolsworld.com/search/?query=","https://bg.toolsworld.com/search/?query=908119"]
[908129,"Tool box 22\", 550x270x280 mm, with organizer// MTX",7679,"B","Active",{"$f":"VLOOKUP(A4413,[1]Sheet1!$A$1:$C$65512,3,FALSE)","v":79},null,null,"No info","линк","https://bg.toolsworld.com/search/?query=","https://bg.toolsworld.com/search/?query=908129"]
[908139,"Tool box 24\", 595x290x 330 mm, with organizer// MTX",9699,"B","Active",{"$f":"VLOOKUP(A4414,[1]Sheet1!$A$1:$C$65512,3,FALSE)","v":66},null,null,"No info","линк","https://bg.toolsworld.com/search/?query=","https://bg.toolsworld.com/search/?query=908139"]
[11783,"Csavarhúzó készlet precíziós munkához, 16 db, PH + SL+ Hex, CS, \"Point\" nyél// Sparta",1313,"B","Active",{"$f":"VLOOKUP(A4415,[1]Sheet1!$A$1:$C$65512,3,FALSE)","v":{"$error":"#N/A"}},null,null,"No info",{"$f":"HYPERLINK(L4415,\"линк\")","v":"линк"},"https://bg.toolsworld.com/search/?query=","https://bg.toolsworld.com/search/?query=11783"]
[13188,"1/2 Gyújtógyertya foglalat mágneses tartóval 12 pt 16mm//GROSS",1932,"B","Active",{"$f":"VLOOKUP(A4416,[1]Sheet1!$A$1:$C$65512,3,FALSE)","v":817},null,null,"No info","линк","https://bg.toolsworld.com/search/?query=","https://bg.toolsworld.com/search/?query=13188"]
[31262,"Mérőszalag 30 m x 13 mm, zárt test, üvegszálas szalag// Сибртех",1894,"B","Active",{"$f":"VLOOKUP(A4417,[1]Sheet1!$A$1:$C$65512,3,FALSE)","v":{"$error":"#N/A"}},null,null,"No info","линк","https://bg.toolsworld.com/search/?query=","https://bg.toolsworld.com/search/?query=31262"]
[55299,"Kefés hó törlő kaparóval és kiöntőnyílással, teleszkópos, forgatható fejjel// Stels",3879,"B","Active",{"$f":"VLOOKUP(A4418,[1]Sheet1!$A$1:$C$65512,3,FALSE)","v":{"$error":"#N/A"}},null,null,"No info","линк","https://bg.toolsworld.com/search/?query=","https://bg.toolsworld.com/search/?query=55299"]
[57070,"Dual csatlakozó tömlőhöz10 mm, 2 db.// Stels",688,"B","Active",{"$f":"VLOOKUP(A4419,[1]Sheet1!$A$1:$C$65512,3,FALSE)","v":{"$error":"#N/A"}},null,null,"No info","линк","https://bg.toolsworld.com/search/?query=","https://bg.toolsworld.com/search/?query=57070"]
[73308,"T.C.T. Fűrészlap fa vágásához 160 x 20 mm, 36Т + gyűrű 20/16//GROSS",3435,"B","Active",{"$f":"VLOOKUP(A4420,[1]Sheet1!$A$1:$C$65512,3,FALSE)","v":{"$error":"#N/A"}},null,null,"No info","линк","https://bg.toolsworld.com/search/?query=","https://bg.toolsworld.com/search/?query=73308"]
[73309,"T.C.T. Fűrészlap fa vágásához 160 x 20 mm, 48Т + gyűrű 20/16//GROSS",4093,"B","Active",{"$f":"VLOOKUP(A4421,[1]Sheet1!$A$1:$C$65512,3,FALSE)","v":{"$error":"#N/A"}},null,null,"No info","линк","https://bg.toolsworld.com/search/?query=","https://bg.toolsworld.com/search/?query=73309"]
[73311,"T.C.T. Fűrészlap fa vágásához 165 x 20 mm, 24Т + gyűrű 20/16//GROSS",3024,"B","Active",{"$f":"VLOOKUP(A4422,[1]Sheet1!$A$1:$C$65512,3,FALSE)","v":{"$error":"#N/A"}},null,null,"No info","линк","https://bg.toolsworld.com/search/?query=","https://bg.toolsworld.com/search/?query=73311"]
[73315,"T.C.T. Fűrészlap fa vágásához 190 x 20 mm, 24Т + gyűrű 20/16//GROSS",5144,"B","Active",{"$f":"VLOOKUP(A4423,[1]Sheet1!$A$1:$C$65512,3,FALSE)","v":{"$error":"#N/A"}},null,null,"No info","линк","https://bg.toolsworld.com/search/?query=","https://bg.toolsworld.com/search/?query=73315"]
[73317,"T.C.T. Fűrészlap fa vágásához 190 x 20 mm, 48Т + gyűrű 20/16//GROSS",6362,"B","Active",{"$f":"VLOOKUP(A4424,[1]Sheet1!$A$1:$C$65512,3,FALSE)","v":{"$error":"#N/A"}},null,null,"No info","линк","https://bg.toolsworld.com/search/?query=","https://bg.toolsworld.com/search/?query=73317"]
[73346,"T.C.T. Fűrészlap fa vágásához 305 x 30 x 96Т//GROSS",19745,"B","Active",{"$f":"VLOOKUP(A4425,[1]Sheet1!$A$1:$C$65512,3,FALSE)","v":32},null,null,"No info","линк","https://bg.toolsworld.com/search/?query=","https://bg.toolsworld.com/search/?query=73346"]
[111617,"Gumikalapács 1130G fekete gumi, fa nyél// Sparta",1454,"B","Active",{"$f":"VLOOKUP(A4426,[1]Sheet1!$A$1:$C$65512,3,FALSE)","v":287},null,null,"No info","линк","https://bg.toolsworld.com/search/?query=","https://bg.toolsworld.com/search/?query=111617"]
[154049,"6 db-os kombinált villáskulcs készlet, 8-17 mm, CrV, szatén kivitel// MTX",2545,"B","Active",{"$f":"VLOOKUP(A4427,[1]Sheet1!$A$1:$C$65512,3,FALSE)","v":{"$error":"#N/A"}},null,null,"No info","линк","https://bg.toolsworld.com/search/?query=","https://bg.toolsworld.com/search/?query=154049"]
[230335,"Metszőfűrész, munkadarab 310 mm, fa fogantyúk// Sparta",835,"B","Active",{"$f":"VLOOKUP(A4428,[1]Sheet1!$A$1:$C$65512,3,FALSE)","v":{"$error":"#N/A"}},null,null,"No info","линк","https://bg.toolsworld.com/search/?query=","https://bg.toolsworld.com/search/?query=230335"]
[313137,"Mérőszalag Elastica, 7,5 m x 25 mm, gumi test, СЕ// Sparta",1114,"B","Active",{"$f":"VLOOKUP(A4429,[1]Sheet1!$A$1:$C$65512,3,FALSE)","v":1033},null,null,"No info","линк","https://bg.toolsworld.com/search/?query=","https://bg.toolsworld.com/search/?query=313137"]
[314405,"Geodéziai mérőszalag 50mx12,5mm (PVC) nyitott test// Sparta",1747,"B","Active",{"$f":"VLOOKUP(A4430,[1]Sheet1!$A$1:$C$65512,3,FALSE)","v":{"$error":"#N/A"}},null,null,"No info","линк","https://bg.toolsworld.com/search/?query=","https://bg.toolsworld.com/search/?query=314405"]
[475797,"W2 acél szorítók standard csavarozás 16*27 mm, 100db/zsák, szélesség 9mm// MTX",4859,"B","Active",{"$f":"VLOOKUP(A4431,[1]Sheet1!$A$1:$C$65512,3,FALSE)","v":158},null,null,"No info","линк","https://bg.toolsworld.com/search/?query=","https://bg.toolsworld.com/search/?query=475797"]
[520127,"Elektromos csörlő telpher TF-500, 0,5 t, 1020 W, magasság 12 m, 10 m/perc// Denzel",65712,"B","Active",{"$f":"VLOOKUP(A4432,[1]Sheet1!$A$1:$C$65512,3,FALSE)","v":11},null,null,"No info","линк","https://bg.toolsworld.com/search/?query=","https://bg.toolsworld.com/search/?query=520127"]
[570517,"Gyorscsatlakozó, 1/4\" külső menet, 2 db// Stels",1937,"B","Active",{"$f":"VLOOKUP(A4433,[1]Sheet1!$A$1:$C$65512,3,FALSE)","v":227},null,null,"No info","линк","https://bg.toolsworld.com/search/?query=","https://bg.toolsworld.com/search/?query=570517"]
[570527,"Gyorscsatlakozó, 1/4\", tömlőhöz 6 mm, 2 db// Stels",1998,"B","Active",{"$f":"VLOOKUP(A4434,[1]Sheet1!$A$1:$C$65512,3,FALSE)","v":13},null,null,"No info","линк","https://bg.toolsworld.com/search/?query=","https://bg.toolsworld.com/search/?query=570527"]
[570557,"Dugaszolható csatlakozó, 1/4\", tömlőhöz 6 mm, 2 db// Stels",393,"B","Active",{"$f":"VLOOKUP(A4435,[1]Sheet1!$A$1:$C$65512,3,FALSE)","v":194},null,null,"No info","линк","https://bg.toolsworld.com/search/?query=","https://bg.toolsworld.com/search/?query=570557"]
[570587,"Gyorscsatlakozó, 3/8\", tömlőhöz 8 mm, 2 db// Stels",1564,"B","Active",{"$f":"VLOOKUP(A4436,[1]Sheet1!$A$1:$C$65512,3,FALSE)","v":323},null,null,"No info","линк","https://bg.toolsworld.com/search/?query=","https://bg.toolsworld.com/search/?query=570587"]
[570687,"Gyors csatlakozó, 1/2\", belső menet, 2 db// Stels",664,"B","Active",{"$f":"VLOOKUP(A4437,[1]Sheet1!$A$1:$C$65512,3,FALSE)","v":125},null,null,"No info","линк","https://bg.toolsworld.com/search/?query=","https://bg.toolsworld.com/search/?query=570687"]
[570697,"Dugaszolható csatlakozó tömlőhöz 10 mm, 2 db// Stels",570,"B","Active",{"$f":"VLOOKUP(A4438,[1]Sheet1!$A$1:$C$65512,3,FALSE)","v":248},null,null,"No info","линк","https://bg.toolsworld.com/search/?query=","https://bg.toolsworld.com/search/?query=570697"]
[576519,"18GA tűzőkapcsok pneumatikus tűzőgéphez 1,25x1,0 mm, hossz 13 mm, szélesség - 5,7 mm, 5000db// MTX",1656,"B","Active",{"$f":"VLOOKUP(A4439,[1]Sheet1!$A$1:$C$65512,3,FALSE)","v":298},null,null,"No info","линк","https://bg.toolsworld.com/search/?query=","https://bg.toolsworld.com/search/?query=576519"]
[576539,"18GA tűzőkapcsok pneumatikus tűzőgéphez 1,25x1,0 mm, hossz 16 mm, szélesség - 5,7 mm, 5000db// MTX",1955,"B","Active",{"$f":"VLOOKUP(A4440,[1]Sheet1!$A$1:$C$65512,3,FALSE)","v":393},null,null,"No info","линк","https://bg.toolsworld.com/search/?query=","https://bg.toolsworld.com/search/?query=576539"]
[576559,"18GA tűzőkapcsok pneumatikus tűzőhöz 1,25x1,0 mm, hossz 19 mm, szélesség - 5,7 mm, 5000db// MTX",2240,"B","Active",{"$f":"VLOOKUP(A4441,[1]Sheet1!$A$1:$C$65512,3,FALSE)","v":397},null,null,"No info","линк","https://bg.toolsworld.com/search/?query=","https://bg.toolsworld.com/search/?query=576559"]
[576579,"18GA tűzőkapcsok pneumatikus tűzőgéphez 1,25x1,0 mm, hossz 22 mm, szélesség - 5,7 mm, 5000db// MTX",2572,"B","Active",{"$f":"VLOOKUP(A4442,[1]Sheet1!$A$1:$C$65512,3,FALSE)","v":312},null,null,"No info","линк","https://bg.toolsworld.com/search/?query=","https://bg.toolsworld.com/search/?query=576579"]
[576599,"18GA tűzőkapcsok pneumatikus tűzőgéphez 1,25x1,0 mm, hossz 25 mm, szélesség - 5,7 mm, 5000db// MTX",2871,"B","Active",{"$f":"VLOOKUP(A4443,[1]Sheet1!$A$1:$C$65512,3,FALSE)","v":355},null,null,"No info","линк","https://bg.toolsworld.com/search/?query=","https://bg.toolsworld.com/search/?query=576599"]
[576619,"18GA tűzőkapcsok pneumatikus tűzőgéphez 1,25x1,0 mm, hossz 28 mm, szélesség - 5,7 mm, 5000db// MTX",3352,"B","Active",{"$f":"VLOOKUP(A4444,[1]Sheet1!$A$1:$C$65512,3,FALSE)","v":367},null,null,"No info","линк","https://bg.toolsworld.com/search/?query=","https://bg.toolsworld.com/search/?query=576619"]
[576639,"18GA tűzőkapcsok pneumatikus tűzőgéphez 1,25x1,0 mm, hossz 32 mm, szélesség - 5,7 mm, 5000db// MTX",3665,"B","Active",{"$f":"VLOOKUP(A4445,[1]Sheet1!$A$1:$C$65512,3,FALSE)","v":365},null,null,"No info","линк","https://bg.toolsworld.com/search/?query=","https://bg.toolsworld.com/search/?query=576639"]
[576659,"18GA tűzőkapcsok pneumatikus tűzőgéphez 1,25x1,0 mm, hossz 35 mm, szélesség - 5,7 mm, 5000db// MTX",3896,"B","Active",{"$f":"VLOOKUP(A4446,[1]Sheet1!$A$1:$C$65512,3,FALSE)","v":359},null,null,"No info","линк","https://bg.toolsworld.com/search/?query=","https://bg.toolsworld.com/search/?query=576659"]
[576679,"18GA tűzőkapcsok pneumatikus tűzőgéphez 1,25x1,0 mm, hossz 38 mm, szélesség - 5,7 mm, 5000db// MTX",4156,"B","Active",{"$f":"VLOOKUP(A4447,[1]Sheet1!$A$1:$C$65512,3,FALSE)","v":348},null,null,"No info","линк","https://bg.toolsworld.com/search/?query=","https://bg.toolsworld.com/search/?query=576679"]
[576699,"Csapszegek 23GA pneumatikus tűszegezőhöz, átm. 0,64 mm, hossz 12mm, 5000db// MTX",419,"B","Active",{"$f":"VLOOKUP(A4448,[1]Sheet1!$A$1:$C$65512,3,FALSE)","v":1089},null,null,"No info","линк","https://bg.toolsworld.com/search/?query=","https://bg.toolsworld.com/search/?query=576699"]
[576719,"Csapszegek 23GA pneumatikus tűszegezőhöz, átm. 0,64 mm, hossz 15mm, 5000db// MTX",540,"B","Active",{"$f":"VLOOKUP(A4449,[1]Sheet1!$A$1:$C$65512,3,FALSE)","v":1200},null,null,"No info","линк","https://bg.toolsworld.com/search/?query=","https://bg.toolsworld.com/search/?query=576719"]
[576739,"Csapszegek 23GA pneumatikus tűszegezőhöz, átm. 0,64 mm, hossz 18mm, 5000db// MTX",660,"B","Active",{"$f":"VLOOKUP(A4450,[1]Sheet1!$A$1:$C$65512,3,FALSE)","v":1143},null,null,"No info","линк","https://bg.toolsworld.com/search/?query=","https://bg.toolsworld.com/search/?query=576739"]
[576759,"Csapszegek 23GA pneumatikus tűszegezőhöz, átm. 0,64 mm, hossz 20mm, 5000db// MTX",703,"B","Active",{"$f":"VLOOKUP(A4451,[1]Sheet1!$A$1:$C$65512,3,FALSE)","v":1186},null,null,"No info","линк","https://bg.toolsworld.com/search/?query=","https://bg.toolsworld.com/search/?query=576759"]
[576779,"Csapszegek 23GA pneumatikus tűszegezőhöz, átm. 0,64 mm, hossz 22mm, 5000db// MTX",780,"B","Active",{"$f":"VLOOKUP(A4452,[1]Sheet1!$A$1:$C$65512,3,FALSE)","v":1189},null,null,"No info","линк","https://bg.toolsworld.com/search/?query=","https://bg.toolsworld.com/search/?query=576779"]
[576799,"Csapszegek 23GA pneumatikus tűszegezőhöz, átm. 0,64 mm, hossz 25mm, 5000db// MTX",890,"B","Active",{"$f":"VLOOKUP(A4453,[1]Sheet1!$A$1:$C$65512,3,FALSE)","v":1181},null,null,"No info","линк","https://bg.toolsworld.com/search/?query=","https://bg.toolsworld.com/search/?query=576799"]
[582327,"Magasnyomású mosó R-105, 1400 W, 10,5 MPa, 5 l/perc, hordozható// Denzel",29684,"B","Active",{"$f":"VLOOKUP(A4454,[1]Sheet1!$A$1:$C$65512,3,FALSE)","v":" "},null,null,"No info","линк","https://bg.toolsworld.com/search/?query=","https://bg.toolsworld.com/search/?query=582327"]
[604107,"Csúszó metszőfűrész, munkadarab 150 mm, műanyag nyél// Palisad",1354,"B","Active",{"$f":"VLOOKUP(A4455,[1]Sheet1!$A$1:$C$65512,3,FALSE)","v":781},null,null,"No info","линк","https://bg.toolsworld.com/search/?query=","https://bg.toolsworld.com/search/?query=604107"]
[604158,"Összecsukható kerti fűrész, műanyag nyél// Palisad",1261,"B","Active",{"$f":"VLOOKUP(A4456,[1]Sheet1!$A$1:$C$65512,3,FALSE)","v":617},null,null,"No info","линк","https://bg.toolsworld.com/search/?query=","https://bg.toolsworld.com/search/?query=604158"]
[614627,"Mezei lapát, 150х205х253-590 mm, műanyag nyél, tokban összecsukható, LUXE// Palisad",3655,"B","Active",{"$f":"VLOOKUP(A4457,[1]Sheet1!$A$1:$C$65512,3,FALSE)","v":423},null,null,"No info","линк","https://bg.toolsworld.com/search/?query=","https://bg.toolsworld.com/search/?query=614627"]
[623898,"Kerti kapa,kombinált, 3 fogas, védőbevonat, műanyag nyél// PALISAD",399,"B","Active",{"$f":"VLOOKUP(A4458,[1]Sheet1!$A$1:$C$65512,3,FALSE)","v":727},null,null,"No info","линк","https://bg.toolsworld.com/search/?query=",{"$f":"CONCATENATE(K4458,A4458)","v":"https://bg.toolsworld.com/search/?query=623898"}]
[675058,"Öntözőkanna, 2 l, műanyag// Palisad",1401,"B","Active",{"$f":"VLOOKUP(A4459,[1]Sheet1!$A$1:$C$65512,3,FALSE)","v":394},null,null,"No info","линк","https://bg.toolsworld.com/search/?query=","https://bg.toolsworld.com/search/?query=675058"]
[675108,"Öntözőkanna 5 l, műanyag// Palisad",1812,"B","Active",{"$f":"VLOOKUP(A4460,[1]Sheet1!$A$1:$C$65512,3,FALSE)","v":{"$error":"#N/A"}},null,null,"No info","линк","https://bg.toolsworld.com/search/?query=","https://bg.toolsworld.com/search/?query=675108"]
[675258,"Öntözőkanna, 10 l, műanyag// Palisad",2214,"B","Active",{"$f":"VLOOKUP(A4461,[1]Sheet1!$A$1:$C$65512,3,FALSE)","v":480},null,null,"No info","линк","https://bg.toolsworld.com/search/?query=","https://bg.toolsworld.com/search/?query=675258"]
[675388,"Öntözőkanna, 3 l, műanyag// Palisad",1641,"B","Active",{"$f":"VLOOKUP(A4462,[1]Sheet1!$A$1:$C$65512,3,FALSE)","v":{"$error":"#N/A"}},null,null,"No info","линк","https://bg.toolsworld.com/search/?query=","https://bg.toolsworld.com/search/?query=675388"]
[675638,"Öntöző kanna, 12 l, műanyag// Palisad",2574,"B","Active",{"$f":"VLOOKUP(A4463,[1]Sheet1!$A$1:$C$65512,3,FALSE)","v":94},null,null,"No info","линк","https://bg.toolsworld.com/search/?query=","https://bg.toolsworld.com/search/?query=675638"]
[702327,"Famegmunkáló csigafúró, 3 mm, egyenes szár// SPARTA",37,"B","Active",{"$f":"VLOOKUP(A4464,[1]Sheet1!$A$1:$C$65512,3,FALSE)","v":1523},null,null,"No info","линк","https://bg.toolsworld.com/search/?query=","https://bg.toolsworld.com/search/?query=702327"]
[702337,"Famegmunkáló csigafúró, 4 mm, egyenes szár// SPARTA",37,"B","Active",{"$f":"VLOOKUP(A4465,[1]Sheet1!$A$1:$C$65512,3,FALSE)","v":{"$error":"#N/A"}},null,null,"No info","линк","https://bg.toolsworld.com/search/?query=","https://bg.toolsworld.com/search/?query=702337"]
[702357,"Famegmunkáló csigafúró, 6 mm, egyenes szár// SPARTA",57,"B","Active",{"$f":"VLOOKUP(A4466,[1]Sheet1!$A$1:$C$65512,3,FALSE)","v":{"$error":"#N/A"}},null,null,"No info","линк","https://bg.toolsworld.com/search/?query=","https://bg.toolsworld.com/search/?query=702357"]
[702407,"Famegmunkáló csigafúró, 6 x 300 mm, egyenes szár// SPARTA",295,"B","Active",{"$f":"VLOOKUP(A4467,[1]Sheet1!$A$1:$C$65512,3,FALSE)","v":474},null,null,"No info","линк","https://bg.toolsworld.com/search/?query=","https://bg.toolsworld.com/search/?query=702407"]
[702427,"Famegmunkáló csigafúró, 8 x 300 mm, egyenes szár// SPARTA",371,"B","Active",{"$f":"VLOOKUP(A4468,[1]Sheet1!$A$1:$C$65512,3,FALSE)","v":151},null,null,"No info","линк","https://bg.toolsworld.com/search/?query=","https://bg.toolsworld.com/search/?query=702427"]
[702467,"Famegmunkáló csigafúró, 12 x 300 mm, egyenes szár// SPARTA",633,"B","Active",{"$f":"VLOOKUP(A4469,[1]Sheet1!$A$1:$C$65512,3,FALSE)","v":279},null,null,"No info","линк","https://bg.toolsworld.com/search/?query=","https://bg.toolsworld.com/search/?query=702467"]
[855139,"Homlokzatkaparó kétkomponensű nyéllel, 200mm, rozsdamentes acél, keskeny pengével// MTX",1692,"B","Active",{"$f":"VLOOKUP(A4470,[1]Sheet1!$A$1:$C$65512,3,FALSE)","v":71},null,null,"No info","линк","https://bg.toolsworld.com/search/?query=","https://bg.toolsworld.com/search/?query=855139"]
[887709,"Szigetelőszalag PVC elektromos 15mm x 10m kék, 0,15mm// MTX",120,"B","Active",{"$f":"VLOOKUP(A4471,[1]Sheet1!$A$1:$C$65512,3,FALSE)","v":501},null,null,"No info","линк","https://bg.toolsworld.com/search/?query=","https://bg.toolsworld.com/search/?query=887709"]
[887719,"Szigetelőszalag PVC elektromos 15mm x 10m fekete, 0,15mm// MTX",120,"B","Active",{"$f":"VLOOKUP(A4472,[1]Sheet1!$A$1:$C$65512,3,FALSE)","v":410},null,null,"No info","линк","https://bg.toolsworld.com/search/?query=","https://bg.toolsworld.com/search/?query=887719"]
[887779,"Szigetelőszalag PVC elektromos 19mm x 20m kék, 0,15mm// MTX",252,"B","Active",{"$f":"VLOOKUP(A4473,[1]Sheet1!$A$1:$C$65512,3,FALSE)","v":644},null,null,"No info","линк","https://bg.toolsworld.com/search/?query=","https://bg.toolsworld.com/search/?query=887779"]
[887789,"Szigetelőszalag PVC elektromos 19mm x 20m fekete, 0,15mm// MTX",252,"B","Active",{"$f":"VLOOKUP(A4474,[1]Sheet1!$A$1:$C$65512,3,FALSE)","v":626},null,null,"No info","линк","https://bg.toolsworld.com/search/?query=","https://bg.toolsworld.com/search/?query=887789"]
[887869,"PVC szigetelőszalag készlet, 15mm x 10m, 5 szín, 5db/készlet, 0,15mm// MTX",519,"B","Active",{"$f":"VLOOKUP(A4475,[1]Sheet1!$A$1:$C$65512,3,FALSE)","v":452},null,null,"No info","линк","https://bg.toolsworld.com/search/?query=","https://bg.toolsworld.com/search/?query=887869"]
[902709,"Experte szerszámos hátizsák, 77 zseb, műanyag alsó, hordozható rendszerező, 360*205*470 mm// GROSS",15719,"B","Active",{"$f":"VLOOKUP(A4476,[1]Sheet1!$A$1:$C$65512,3,FALSE)","v":114},null,null,"No info","линк","https://bg.toolsworld.com/search/?query=","https://bg.toolsworld.com/search/?query=902709"]
[902719,"Meister szerszámtáska, 31 zseb, notebook szegmens, vállpánt, 400*170*300 mm// GROSS",10383,"B","Active",{"$f":"VLOOKUP(A4477,[1]Sheet1!$A$1:$C$65512,3,FALSE)","v":110},null,null,"No info",{"$f":"HYPERLINK(L4477,\"линк\")","v":"линк"},"https://bg.toolsworld.com/search/?query=","https://bg.toolsworld.com/search/?query=902719"]
[902729,"Handwerker szerszámtáska, 26 zseb, műanyag alsó, vállpánt, 400*225*310 mm// GROSS",7276,"B","Active",{"$f":"VLOOKUP(A4478,[1]Sheet1!$A$1:$C$65512,3,FALSE)","v":10},null,null,"No info","линк","https://bg.toolsworld.com/search/?query=","https://bg.toolsworld.com/search/?query=902729"]
[902739,"Handwerker szerszámtáska, 42 zseb, műanyag alsó, vállpánt, 475*260*360 mm// GROSS",9337,"B","Active",{"$f":"VLOOKUP(A4479,[1]Sheet1!$A$1:$C$65512,3,FALSE)","v":86},null,null,"No info","линк","https://bg.toolsworld.com/search/?query=","https://bg.toolsworld.com/search/?query=902739"]
[1022177,"Gépészkalapács fa nyéllel, 1500 g, szögletes toll// Sparta",3156,"B","Active",{"$f":"VLOOKUP(A4480,[1]Sheet1!$A$1:$C$65512,3,FALSE)","v":138},null,null,"No info","линк","https://bg.toolsworld.com/search/?query=","https://bg.toolsworld.com/search/?query=1022177"]
[1113057,"Gumikalapács fekete 225G fa nyéllel// Sparta",481,"B","Active",{"$f":"VLOOKUP(A4481,[1]Sheet1!$A$1:$C$65512,3,FALSE)","v":717},null,null,"No info","линк","https://bg.toolsworld.com/search/?query=","https://bg.toolsworld.com/search/?query=1113057"]
[1114057,"Gumikalapács fekete 340G fa nyéllel// Sparta",568,"B","Active",{"$f":"VLOOKUP(A4482,[1]Sheet1!$A$1:$C$65512,3,FALSE)","v":2993},null,null,"No info","линк","https://bg.toolsworld.com/search/?query=","https://bg.toolsworld.com/search/?query=1114057"]
[1115057,"Gumikalapács fekete 450G fa nyéllel// Sparta",737,"B","Active",{"$f":"VLOOKUP(A4483,[1]Sheet1!$A$1:$C$65512,3,FALSE)","v":580},null,null,"No info","линк","https://bg.toolsworld.com/search/?query=","https://bg.toolsworld.com/search/?query=1115057"]
[1115557,"Gumikalapács fekete 680G fa nyéllel// Sparta",982,"B","Active",{"$f":"VLOOKUP(A4484,[1]Sheet1!$A$1:$C$65512,3,FALSE)","v":225},null,null,"No info","линк","https://bg.toolsworld.com/search/?query=","https://bg.toolsworld.com/search/?query=1115557"]
[1116057,"Gumikalapács fekete 910G fa nyéllel// Sparta",1185,"B","Active",{"$f":"VLOOKUP(A4485,[1]Sheet1!$A$1:$C$65512,3,FALSE)","v":1567},null,null,"No info","линк","https://bg.toolsworld.com/search/?query=","https://bg.toolsworld.com/search/?query=1116057"]
[2360357,"Metszőfűrész, munkarész 300 mm, kétkomponensű műanyag nyél, hüvely, felfüggesztés// Palisad",1633,"B","Active",{"$f":"VLOOKUP(A4486,[1]Sheet1!$A$1:$C$65512,3,FALSE)","v":210},null,null,"No info","линк","https://bg.toolsworld.com/search/?query=","https://bg.toolsworld.com/search/?query=2360357"]
[9622377,"Benzines bozótvágó DT-33S, 32,5 сс, 1,05 kW, kétrészes tengely, 2 részből áll// Denze",41263,"B","Active",{"$f":"VLOOKUP(A4487,[1]Sheet1!$A$1:$C$65512,3,FALSE)","v":519},null,null,"No info","линк","https://bg.toolsworld.com/search/?query=","https://bg.toolsworld.com/search/?query=9622377"]
[11361,"Fúrófej készlet, 1/4\" mágnes adapter, S2 acél, műanyag ház, 26 db.//GROSS",10542,"B","Active",{"$f":"VLOOKUP(A4488,[1]Sheet1!$A$1:$C$65512,3,FALSE)","v":75},null,null,"No info",{"$f":"HYPERLINK(L4488,\"линк\")","v":"линк"},"https://bg.toolsworld.com/search/?query=","https://bg.toolsworld.com/search/?query=11361"]
[18126,"Vízelvezető horgok hajlító, 500 mm, szélesség 30 mm// Сибртех",13408,"B","Active",{"$f":"VLOOKUP(A4489,[1]Sheet1!$A$1:$C$65512,3,FALSE)","v":{"$error":"#N/A"}},null,null,"No info","линк","https://bg.toolsworld.com/search/?query=","https://bg.toolsworld.com/search/?query=18126"]
[18127,"Vízelvezető horgok hajlító, 750 mm, szélesség 50 mm// Сибртех",15682,"B","Active",{"$f":"VLOOKUP(A4490,[1]Sheet1!$A$1:$C$65512,3,FALSE)","v":{"$error":"#N/A"}},null,null,"No info","линк","https://bg.toolsworld.com/search/?query=","https://bg.toolsworld.com/search/?query=18127"]
[63545,"Kasza \"Соболь\" №5, 500 mm, éles pengével, АРТИ// RUSSIA",5718,"B","Active",{"$f":"VLOOKUP(A4491,[1]Sheet1!$A$1:$C$65512,3,FALSE)","v":{"$error":"#N/A"}},null,null,"No info","линк","https://bg.toolsworld.com/search/?query=","https://bg.toolsworld.com/search/?query=63545"]
[73410,"Tárcsás csiszolóanyag fémhez, 125 х 6,0 х 22,2 mm// RUSSIA",552,"B","Active",{"$f":"VLOOKUP(A4492,[1]Sheet1!$A$1:$C$65512,3,FALSE)","v":35},null,null,"No info","линк","https://bg.toolsworld.com/search/?query=","https://bg.toolsworld.com/search/?query=73410"]
[73648,"Fémvágó tárcsa, 115 х 1,0 х 22,2 mm//RUSSIA",196,"B","Active",{"$f":"VLOOKUP(A4493,[1]Sheet1!$A$1:$C$65512,3,FALSE)","v":4550},null,null,"No info","линк","https://bg.toolsworld.com/search/?query=","https://bg.toolsworld.com/search/?query=73648"]
[73654,"Fémvágó tárcsa, 125 х 1,0 х 22,2 mm//RUSSIA",216,"B","Active",{"$f":"VLOOKUP(A4494,[1]Sheet1!$A$1:$C$65512,3,FALSE)","v":12531},null,null,"No info","линк","https://bg.toolsworld.com/search/?query=","https://bg.toolsworld.com/search/?query=73654"]
[73655,"Vágótárcsa fémhez 125 х 1,2 х 22,2 mm// RUSSIA",226,"B","Active",{"$f":"VLOOKUP(A4495,[1]Sheet1!$A$1:$C$65512,3,FALSE)","v":1469},null,null,"No info","линк","https://bg.toolsworld.com/search/?query=","https://bg.toolsworld.com/search/?query=73655"]
[73658,"Vágótárcsa fémhez 150 х 1,6 х 22,2 mm// RUSSIA",305,"B","Active",{"$f":"VLOOKUP(A4496,[1]Sheet1!$A$1:$C$65512,3,FALSE)","v":1649},null,null,"No info","линк","https://bg.toolsworld.com/search/?query=","https://bg.toolsworld.com/search/?query=73658"]
[73703,"Fémvágó tárcsa, 115 х 1,0 х 22,2 mm, PREMIUM// RUSSIA",198,"B","Active",{"$f":"VLOOKUP(A4497,[1]Sheet1!$A$1:$C$65512,3,FALSE)","v":3883},null,null,"No info","линк","https://bg.toolsworld.com/search/?query=","https://bg.toolsworld.com/search/?query=73703"]
[73712,"Fémvágó tárcsa, 125 х 1,0 х 22,2 mm, PREMIUM// RUSSIA",218,"B","Active",{"$f":"VLOOKUP(A4498,[1]Sheet1!$A$1:$C$65512,3,FALSE)","v":6549},null,null,"No info","линк","https://bg.toolsworld.com/search/?query=","https://bg.toolsworld.com/search/?query=73712"]
[73713,"Fémvágó tárcsa, 125 х 1,2 х 22,2 mm, PREMIUM// RUSSIA",230,"B","Active",{"$f":"VLOOKUP(A4499,[1]Sheet1!$A$1:$C$65512,3,FALSE)","v":1135},null,null,"No info","линк","https://bg.toolsworld.com/search/?query=","https://bg.toolsworld.com/search/?query=73713"]
[73714,"Fémvágó tárcsa, 125 х 1,6 х 22,2 mm, PREMIUM// RUSSIA",230,"B","Active",{"$f":"VLOOKUP(A4500,[1]Sheet1!$A$1:$C$65512,3,FALSE)","v":682},null,null,"No info","линк","https://bg.toolsworld.com/search/?query=","https://bg.toolsworld.com/search/?query=73714"]
[73741,"Fémvágó tárcsa, 230 х 1,6 х 22,2 mm, PREMIUM// RUSSIA",648,"B","Active",{"$f":"VLOOKUP(A4501,[1]Sheet1!$A$1:$C$65512,3,FALSE)","v":343},null,null,"No info","линк","https://bg.toolsworld.com/search/?query=","https://bg.toolsworld.com/search/?query=73741"]
[73743,"Fémvágó tárcsa, 230 х 2,0 х 22,2 mm, PREMIUM// RUSSIA",668,"B","Active",{"$f":"VLOOKUP(A4502,[1]Sheet1!$A$1:$C$65512,3,FALSE)","v":1358},null,null,"No info","линк","https://bg.toolsworld.com/search/?query=","https://bg.toolsworld.com/search/?query=73743"]
[88892,"Menettömítő szalag, 25 mm x 10 m// Сибртех",206,"B","Active",{"$f":"VLOOKUP(A4503,[1]Sheet1!$A$1:$C$65512,3,FALSE)","v":397},null,null,"No info","линк","https://bg.toolsworld.com/search/?query=","https://bg.toolsworld.com/search/?query=88892"]
[160237,"Háromszög reszelő 150 mm, fa nyél// Sparta",381,"B","Active",{"$f":"VLOOKUP(A4504,[1]Sheet1!$A$1:$C$65512,3,FALSE)","v":523},null,null,"No info","линк","https://bg.toolsworld.com/search/?query=","https://bg.toolsworld.com/search/?query=160237"]
[161237,"Körreszelő 150 mm, fa nyél// Sparta",348,"B","Active",{"$f":"VLOOKUP(A4505,[1]Sheet1!$A$1:$C$65512,3,FALSE)","v":283},null,null,"No info","линк","https://bg.toolsworld.com/search/?query=","https://bg.toolsworld.com/search/?query=161237"]
[162237,"Lapos reszelő 150 mm, fa nyél// Sparta",403,"B","Active",{"$f":"VLOOKUP(A4506,[1]Sheet1!$A$1:$C$65512,3,FALSE)","v":263},null,null,"No info","линк","https://bg.toolsworld.com/search/?query=","https://bg.toolsworld.com/search/?query=162237"]
[163237,"Félkör reszelő 150 mm, fa nyél// Sparta",426,"B","Active",{"$f":"VLOOKUP(A4507,[1]Sheet1!$A$1:$C$65512,3,FALSE)","v":409},null,null,"No info","линк","https://bg.toolsworld.com/search/?query=","https://bg.toolsworld.com/search/?query=163237"]
[163297,"Félkör reszelő 250 mm, fa nyél// Sparta",886,"B","Active",{"$f":"VLOOKUP(A4508,[1]Sheet1!$A$1:$C$65512,3,FALSE)","v":{"$error":"#N/A"}},null,null,"No info","линк","https://bg.toolsworld.com/search/?query=","https://bg.toolsworld.com/search/?query=163297"]
[455159,"Kábelkötegelők, 100 x 2,5 mm, műanyag, fehér, 100 db.// MTX",179,"B","Active",{"$f":"VLOOKUP(A4509,[1]Sheet1!$A$1:$C$65512,3,FALSE)","v":156},null,null,"No info","линк","https://bg.toolsworld.com/search/?query=","https://bg.toolsworld.com/search/?query=455159"]
[455199,"Kábelkötegelők, 150 x 2,5 mm, műanyag, fehér, 100 db.// MTX",250,"B","Active",{"$f":"VLOOKUP(A4510,[1]Sheet1!$A$1:$C$65512,3,FALSE)","v":450},null,null,"No info","линк","https://bg.toolsworld.com/search/?query=","https://bg.toolsworld.com/search/?query=455199"]
[455259,"Kábelkötegelők, 180 x 3,6 mm, műanyag, fehér, 100 db.// MTX",477,"B","Active",{"$f":"VLOOKUP(A4511,[1]Sheet1!$A$1:$C$65512,3,FALSE)","v":{"$error":"#N/A"}},null,null,"No info","линк","https://bg.toolsworld.com/search/?query=","https://bg.toolsworld.com/search/?query=455259"]
[455279,"Kábelkötegelők, 200 x 3,6 mm, műanyag, fehér, 100 db.// MTX",515,"B","Active",{"$f":"VLOOKUP(A4512,[1]Sheet1!$A$1:$C$65512,3,FALSE)","v":426},null,null,"No info","линк","https://bg.toolsworld.com/search/?query=","https://bg.toolsworld.com/search/?query=455279"]
[455319,"Kábelkötegelők, 300 x 3,6 mm, műanyag, fehér, 100 db.// MTX",770,"B","Active",{"$f":"VLOOKUP(A4513,[1]Sheet1!$A$1:$C$65512,3,FALSE)","v":{"$error":"#N/A"}},null,null,"No info","линк","https://bg.toolsworld.com/search/?query=","https://bg.toolsworld.com/search/?query=455319"]
[455389,"Kábelkötegelők, 400 x 4,8 mm, műanyag, fehér, 50 db.// MTX",698,"B","Active",{"$f":"VLOOKUP(A4514,[1]Sheet1!$A$1:$C$65512,3,FALSE)","v":{"$error":"#N/A"}},null,null,"No info","линк","https://bg.toolsworld.com/search/?query=","https://bg.toolsworld.com/search/?query=455389"]
[455409,"Kábelkötegelők, 100 x 2,5 mm, műanyag, fekete, 100 db.// MTX",179,"B","Active",{"$f":"VLOOKUP(A4515,[1]Sheet1!$A$1:$C$65512,3,FALSE)","v":{"$error":"#N/A"}},null,null,"No info","линк","https://bg.toolsworld.com/search/?query=","https://bg.toolsworld.com/search/?query=455409"]
[455459,"Kábelkötegelők, 150 x 2,5 mm, műanyag, fekete, 100 db.// MTX",250,"B","Active",{"$f":"VLOOKUP(A4516,[1]Sheet1!$A$1:$C$65512,3,FALSE)","v":329},null,null,"No info","линк","https://bg.toolsworld.com/search/?query=","https://bg.toolsworld.com/search/?query=455459"]
[455509,"Kábelkötegelők, 180 x 3,6 mm, műanyag, fekete, 100 db.// MTX",477,"B","Active",{"$f":"VLOOKUP(A4517,[1]Sheet1!$A$1:$C$65512,3,FALSE)","v":{"$error":"#N/A"}},null,null,"No info","линк","https://bg.toolsworld.com/search/?query=","https://bg.toolsworld.com/search/?query=455509"]
[455559,"Kábelkötegelők, 200 x 3,6 mm, műanyag, fekete, 100 db.// MTX",515,"B","Active",{"$f":"VLOOKUP(A4518,[1]Sheet1!$A$1:$C$65512,3,FALSE)","v":317},null,null,"No info","линк","https://bg.toolsworld.com/search/?query=","https://bg.toolsworld.com/search/?query=455559"]
[455609,"Kábelkötegelők, 300 x 3,6 mm, műanyag, fekete, 100 db.// MTX",770,"B","Active",{"$f":"VLOOKUP(A4519,[1]Sheet1!$A$1:$C$65512,3,FALSE)","v":{"$error":"#N/A"}},null,null,"No info","линк","https://bg.toolsworld.com/search/?query=","https://bg.toolsworld.com/search/?query=455609"]
[455679,"Kábelkötegelők, 400 x 4,8 mm, műanyag, fekete, 50 db.// MTX",698,"B","Active",{"$f":"VLOOKUP(A4520,[1]Sheet1!$A$1:$C$65512,3,FALSE)","v":{"$error":"#N/A"}},null,null,"No info","линк","https://bg.toolsworld.com/search/?query=","https://bg.toolsworld.com/search/?query=455679"]
[614575,"Bajonett lapát, 205x284x1340 mm, fa nyél impregnálással, RUSSIAország// Сибртех",3812,"B","Active",{"$f":"VLOOKUP(A4521,[1]Sheet1!$A$1:$C$65512,3,FALSE)","v":132},null,null,"No info","линк","https://bg.toolsworld.com/search/?query=","https://bg.toolsworld.com/search/?query=614575"]
[614585,"Négyszögletes lapát, 200x285x1400 mm, fa nyél impregnálással, RUSSIAország// Сибртех",3812,"B","Active",{"$f":"VLOOKUP(A4522,[1]Sheet1!$A$1:$C$65512,3,FALSE)","v":29},null,null,"No info","линк","https://bg.toolsworld.com/search/?query=",{"$f":"CONCATENATE(K4522,A4522)","v":"https://bg.toolsworld.com/search/?query=614585"}]
[623027,"Kapa, 110х465 mm, acél, fa nyél// Palisad",678,"B","Active",{"$f":"VLOOKUP(A4523,[1]Sheet1!$A$1:$C$65512,3,FALSE)","v":39},null,null,"No info","линк","https://bg.toolsworld.com/search/?query=","https://bg.toolsworld.com/search/?query=623027"]
[623258,"Acél kapa, 161х91х1185 mm, hamisított acél, fa lakkozott nyél, LUXE// Palisad",1568,"B","Active",{"$f":"VLOOKUP(A4524,[1]Sheet1!$A$1:$C$65512,3,FALSE)","v":{"$error":"#N/A"}},null,null,"No info","линк","https://bg.toolsworld.com/search/?query=","https://bg.toolsworld.com/search/?query=623258"]
[623308,"Acél kapa, 114х65х1185 mm, manipulált acél, fa lakkozott nyél, LUXE// Palisad",1588,"B","Active",{"$f":"VLOOKUP(A4525,[1]Sheet1!$A$1:$C$65512,3,FALSE)","v":{"$error":"#N/A"}},null,null,"No info","линк","https://bg.toolsworld.com/search/?query=","https://bg.toolsworld.com/search/?query=623308"]
[629418,"Kerti szerszámkészlet, 4 db, polipropilén// Palisad",802,"B","Active",{"$f":"VLOOKUP(A4526,[1]Sheet1!$A$1:$C$65512,3,FALSE)","v":590},null,null,"No info","линк","https://bg.toolsworld.com/search/?query=","https://bg.toolsworld.com/search/?query=629418"]
[632187,"Polipropilén seprű, 270x260x1490 mm, lapos bolyhos, fa nyél// Palisad",2025,"B","Active",{"$f":"VLOOKUP(A4527,[1]Sheet1!$A$1:$C$65512,3,FALSE)","v":23},null,null,"No info","линк","https://bg.toolsworld.com/search/?query=","https://bg.toolsworld.com/search/?query=632187"]
[638077,"4 fogas vasvilla, széna, 210x310x1400 mm, fa nyél// Palisad",2406,"B","Active",{"$f":"VLOOKUP(A4528,[1]Sheet1!$A$1:$C$65512,3,FALSE)","v":152},null,null,"No info","линк","https://bg.toolsworld.com/search/?query=","https://bg.toolsworld.com/search/?query=638077"]
[731969,"Turbo Extra gyémánt fűrészlap 180 x 22,2 mm, száraz vágás// MTX",2914,"B","Active",{"$f":"VLOOKUP(A4529,[1]Sheet1!$A$1:$C$65512,3,FALSE)","v":133},null,null,"No info","линк","https://bg.toolsworld.com/search/?query=","https://bg.toolsworld.com/search/?query=731969"]
[773739,"Kar racsnis tartóval a szerszámokhoz//MTX",4545,"B","Active",{"$f":"VLOOKUP(A4530,[1]Sheet1!$A$1:$C$65512,3,FALSE)","v":31},null,null,"No info","линк","https://bg.toolsworld.com/search/?query=","https://bg.toolsworld.com/search/?query=773739"]
[913343,"Fenyőgyanta, 20 g-os üveg, GOST 19113-84 RUSSIAország// Сибртех",257,"B","Active",{"$f":"VLOOKUP(A4531,[1]Sheet1!$A$1:$C$65512,3,FALSE)","v":135},null,null,"No info","линк","https://bg.toolsworld.com/search/?query=","https://bg.toolsworld.com/search/?query=913343"]
[913344,"Forrasztófaggyú, semleges, 20 g RUSSIAország// Сибртех",246,"B","Active",{"$f":"VLOOKUP(A4532,[1]Sheet1!$A$1:$C$65512,3,FALSE)","v":{"$error":"#N/A"}},null,null,"No info","линк","https://bg.toolsworld.com/search/?query=","https://bg.toolsworld.com/search/?query=913344"]
[913346,"GOI polírozó paszta, #3, 20 g-os üveg RUSSIAország// Сибртех",267,"B","Active",{"$f":"VLOOKUP(A4533,[1]Sheet1!$A$1:$C$65512,3,FALSE)","v":{"$error":"#N/A"}},null,null,"No info","линк","https://bg.toolsworld.com/search/?query=","https://bg.toolsworld.com/search/?query=913346"]
[938817,"Polipropilén zsineg, 1,8 mm, L 130 m, RUSSIAország// Palisad",393,"B","Active",{"$f":"VLOOKUP(A4534,[1]Sheet1!$A$1:$C$65512,3,FALSE)","v":67},null,null,"No info","линк","https://bg.toolsworld.com/search/?query=","https://bg.toolsworld.com/search/?query=938817"]
[947047,"Inverteres generátorkészlet GT-2500iF, 2,5 kW, 230 V, nyitott keretes, kézi indító// Denzel",134000,"B","Active",{"$f":"VLOOKUP(A4535,[1]Sheet1!$A$1:$C$65512,3,FALSE)","v":1412},null,null,"No info","линк","https://bg.toolsworld.com/search/?query=","https://bg.toolsworld.com/search/?query=947047"]
[977239,"Alumínium létra, 3 lépcső// Denzel",14043,"B","Active",{"$f":"VLOOKUP(A4536,[1]Sheet1!$A$1:$C$65512,3,FALSE)","v":156},null,null,"No info","линк","https://bg.toolsworld.com/search/?query=","https://bg.toolsworld.com/search/?query=977239"]
[977249,"Alumínium létra, 4 lépcső// Denzel",17592,"B","Active",{"$f":"VLOOKUP(A4537,[1]Sheet1!$A$1:$C$65512,3,FALSE)","v":183},null,null,"No info","линк","https://bg.toolsworld.com/search/?query=","https://bg.toolsworld.com/search/?query=977249"]
[977259,"Alumínium létra, 5 lépcső// Denzel",21186,"B","Active",{"$f":"VLOOKUP(A4538,[1]Sheet1!$A$1:$C$65512,3,FALSE)","v":139},null,null,"No info","линк","https://bg.toolsworld.com/search/?query=","https://bg.toolsworld.com/search/?query=977259"]
[977269,"Alumínium létra, 6 lépcső// Denzel",25563,"B","Active",{"$f":"VLOOKUP(A4539,[1]Sheet1!$A$1:$C$65512,3,FALSE)","v":49},null,null,"No info","линк","https://bg.toolsworld.com/search/?query=","https://bg.toolsworld.com/search/?query=977269"]
[6145655,"Lapát laza anyagokhoz, 215x285x1325 mm, fa nyél impregnálással, Russia// Сибртех",4367,"B","Active",{"$f":"VLOOKUP(A4540,[1]Sheet1!$A$1:$C$65512,3,FALSE)","v":423},null,null,"No info","линк","https://bg.toolsworld.com/search/?query=","https://bg.toolsworld.com/search/?query=6145655"]
[6321777,"Polipropilén seprű, 140х310х1550 mm, kerek, peremmel, fa nyéllel// Palisad",2601,"B","Active",{"$f":"VLOOKUP(A4541,[1]Sheet1!$A$1:$C$65512,3,FALSE)","v":143},null,null,"No info","линк","https://bg.toolsworld.com/search/?query=","https://bg.toolsworld.com/search/?query=6321777"]
[14126,"3/8-as racsnis kulcskészlet 7-22 mm CrV// Stels",7048,"B","Active",{"$f":"VLOOKUP(A4542,[1]Sheet1!$A$1:$C$65512,3,FALSE)","v":454},null,null,"No info",{"$f":"HYPERLINK(L4542,\"линк\")","v":"линк"},"https://bg.toolsworld.com/search/?query=","https://bg.toolsworld.com/search/?query=14126"]
[16973,"Kombinált fogó 180 mm, három komponensű fogantyú// GROSS",7871,"B","Active",{"$f":"VLOOKUP(A4543,[1]Sheet1!$A$1:$C$65512,3,FALSE)","v":70},null,null,"No info","линк","https://bg.toolsworld.com/search/?query=","https://bg.toolsworld.com/search/?query=16973"]
[123039,"HEX kulcskészlet, 1,5-10 mm, CrV, 9 db, rövid, szatén// MTX",576,"B","Active",{"$f":"VLOOKUP(A4544,[1]Sheet1!$A$1:$C$65512,3,FALSE)","v":{"$error":"#N/A"}},null,null,"No info","линк","https://bg.toolsworld.com/search/?query=","https://bg.toolsworld.com/search/?query=123039"]
[179459,"Végvágó harapófogó 160 mm, CRV// MTX",1395,"B","Active",{"$f":"VLOOKUP(A4545,[1]Sheet1!$A$1:$C$65512,3,FALSE)","v":49},null,null,"No info","линк","https://bg.toolsworld.com/search/?query=","https://bg.toolsworld.com/search/?query=179459"]
[179469,"Végvágó harapófogó 180 mm, CRV// MTX",1568,"B","Active",{"$f":"VLOOKUP(A4546,[1]Sheet1!$A$1:$C$65512,3,FALSE)","v":219},null,null,"No info","линк","https://bg.toolsworld.com/search/?query=","https://bg.toolsworld.com/search/?query=179469"]
[179479,"Végvágó harapófogó 200 mm, CRV// MTX",1739,"B","Active",{"$f":"VLOOKUP(A4547,[1]Sheet1!$A$1:$C$65512,3,FALSE)","v":334},null,null,"No info","линк","https://bg.toolsworld.com/search/?query=","https://bg.toolsworld.com/search/?query=179479"]
[310197,"Mérőszalag Status mágneses rögzítés, 3m x 16mm, gumi test, mágneses horog, СЕ// MTX",876,"B","Active",{"$f":"VLOOKUP(A4548,[1]Sheet1!$A$1:$C$65512,3,FALSE)","v":3043},null,null,"No info","линк","https://bg.toolsworld.com/search/?query=","https://bg.toolsworld.com/search/?query=310197"]
[310237,"Mérőszalag Status mágneses rögzítés, 5m x 19mm, gumi test, mágneses horog, СЕ// MTX",1344,"B","Active",{"$f":"VLOOKUP(A4549,[1]Sheet1!$A$1:$C$65512,3,FALSE)","v":3095},null,null,"No info","линк","https://bg.toolsworld.com/search/?query=","https://bg.toolsworld.com/search/?query=310237"]
[310297,"Mérőszalag Status mágneses rögzítés, 5m x 25mm, gumi test, mágneses horog, СЕ// MTX",1592,"B","Active",{"$f":"VLOOKUP(A4550,[1]Sheet1!$A$1:$C$65512,3,FALSE)","v":{"$error":"#N/A"}},null,null,"No info","линк","https://bg.toolsworld.com/search/?query=","https://bg.toolsworld.com/search/?query=310297"]
[310317,"Mérőszalag Állapot mágneses rögzítés, 7,5m x 25mm, gumi test, mágneses vég horog,СЕ// MTX",2183,"B","Active",{"$f":"VLOOKUP(A4551,[1]Sheet1!$A$1:$C$65512,3,FALSE)","v":1836},null,null,"No info","линк","https://bg.toolsworld.com/search/?query=","https://bg.toolsworld.com/search/?query=310317"]
[340389,"Alumínium vízmérték \"sín\", 1800 mm, 2 fiola + 1 forgó// MTX",3423,"B","Active",{"$f":"VLOOKUP(A4552,[1]Sheet1!$A$1:$C$65512,3,FALSE)","v":{"$error":"#N/A"}},null,null,"No info","линк","https://bg.toolsworld.com/search/?query=","https://bg.toolsworld.com/search/?query=340389"]
[553257,"Hókefe jégkaparóval, 600 mm// Denzel",1603,"B","Active",{"$f":"VLOOKUP(A4553,[1]Sheet1!$A$1:$C$65512,3,FALSE)","v":{"$error":"#N/A"}},null,null,"No info","линк","https://bg.toolsworld.com/search/?query=","https://bg.toolsworld.com/search/?query=553257"]
[570567,"Gyorscsatlakozó, 3/8\", belső menetes, 2 db// Stels",1764,"B","Active",{"$f":"VLOOKUP(A4554,[1]Sheet1!$A$1:$C$65512,3,FALSE)","v":71},null,null,"No info","линк","https://bg.toolsworld.com/search/?query=","https://bg.toolsworld.com/search/?query=570567"]
[570577,"Gyorscsatlakozó, 3/8\", külső menet, 2 db// Stels",1764,"B","Active",{"$f":"VLOOKUP(A4555,[1]Sheet1!$A$1:$C$65512,3,FALSE)","v":103},null,null,"No info","линк","https://bg.toolsworld.com/search/?query=","https://bg.toolsworld.com/search/?query=570577"]
[574259,"Pin Szegező, szögek 23GA hossz 12-30mm// MTX",10331,"B","Active",{"$f":"VLOOKUP(A4556,[1]Sheet1!$A$1:$C$65512,3,FALSE)","v":362},null,null,"No info","линк","https://bg.toolsworld.com/search/?query=","https://bg.toolsworld.com/search/?query=574259"]
[574269,"Air brad szögező és tűző 2 az 1-ben, 18GA hossz 10-50mm, kapcsok 18GA hossz 25-40// MTX",12318,"B","Active",{"$f":"VLOOKUP(A4557,[1]Sheet1!$A$1:$C$65512,3,FALSE)","v":322},null,null,"No info","линк","https://bg.toolsworld.com/search/?query=","https://bg.toolsworld.com/search/?query=574269"]
[604677,"Bypass metszővágó, 255 mm, varrat nélküli kovácsolt, gumírozott fém fogantyúk// Palisad",1774,"B","Active",{"$f":"VLOOKUP(A4558,[1]Sheet1!$A$1:$C$65512,3,FALSE)","v":436},null,null,"No info","линк","https://bg.toolsworld.com/search/?query=","https://bg.toolsworld.com/search/?query=604677"]
[604927,"Teljesen fém rugós metszőolló// Palisad",1409,"B","Active",{"$f":"VLOOKUP(A4559,[1]Sheet1!$A$1:$C$65512,3,FALSE)","v":268},null,null,"No info","линк","https://bg.toolsworld.com/search/?query=","https://bg.toolsworld.com/search/?query=604927"]
[617327,"Műanyag gereblye, 400 mm, 12 egyenes fog, megerősített, LUXE// Palisad",2069,"B","Active",{"$f":"VLOOKUP(A4560,[1]Sheet1!$A$1:$C$65512,3,FALSE)","v":152},null,null,"No info","линк","https://bg.toolsworld.com/search/?query=","https://bg.toolsworld.com/search/?query=617327"]
[617337,"Műanyag gereblye, 565 mm, 18 egyenes fog, megerősített, LUXE// Palisad",2884,"B","Active",{"$f":"VLOOKUP(A4561,[1]Sheet1!$A$1:$C$65512,3,FALSE)","v":205},null,null,"No info","линк","https://bg.toolsworld.com/search/?query=","https://bg.toolsworld.com/search/?query=617337"]
[617927,"Alumínium nyél, 1580 mm, zárral, gereblyékhez 617937, 617327, 617337, LUXE// Palisad",3885,"B","Active",{"$f":"VLOOKUP(A4562,[1]Sheet1!$A$1:$C$65512,3,FALSE)","v":120},null,null,"No info","линк","https://bg.toolsworld.com/search/?query=","https://bg.toolsworld.com/search/?query=617927"]
[617937,"Műanyag fűnyíró, 485 mm, 23 lapos fog, megerősített, LUXE// Palisad",2059,"B","Active",{"$f":"VLOOKUP(A4563,[1]Sheet1!$A$1:$C$65512,3,FALSE)","v":226},null,null,"No info","линк","https://bg.toolsworld.com/search/?query=","https://bg.toolsworld.com/search/?query=617937"]
[623158,"Kombinált kapa, 60 х 149 х 332 mm, fa nyél// Palisad",578,"B","Active",{"$f":"VLOOKUP(A4564,[1]Sheet1!$A$1:$C$65512,3,FALSE)","v":{"$error":"#N/A"}},null,null,"No info","линк","https://bg.toolsworld.com/search/?query=","https://bg.toolsworld.com/search/?query=623158"]
[626058,"Ültetőkanál keskeny fa nyéllel 350mm// PALISAD",650,"B","Active",{"$f":"VLOOKUP(A4565,[1]Sheet1!$A$1:$C$65512,3,FALSE)","v":35},null,null,"No info","линк","https://bg.toolsworld.com/search/?query=","https://bg.toolsworld.com/search/?query=626058"]
[639407,"Lombseprő, 100L// Denzel",38379,"B","Active",{"$f":"VLOOKUP(A4566,[1]Sheet1!$A$1:$C$65512,3,FALSE)","v":279},null,null,"No info","линк","https://bg.toolsworld.com/search/?query=","https://bg.toolsworld.com/search/?query=639407"]
[702347,"Famegmunkáló csigafúró, 5 mm, egyenes szár// SPARTA",47,"B","Active",{"$f":"VLOOKUP(A4567,[1]Sheet1!$A$1:$C$65512,3,FALSE)","v":370},null,null,"No info","линк","https://bg.toolsworld.com/search/?query=","https://bg.toolsworld.com/search/?query=702347"]
[702447,"Famegmunkáló csigafúró, 10 x 300 mm, egyenes szár// SPARTA",479,"B","Active",{"$f":"VLOOKUP(A4568,[1]Sheet1!$A$1:$C$65512,3,FALSE)","v":{"$error":"#N/A"}},null,null,"No info","линк","https://bg.toolsworld.com/search/?query=","https://bg.toolsworld.com/search/?query=702447"]
[738609,"Tépőzáras csiszolókorongok, P 150, 125 mm, 10 db// MTX",432,"B","Active",{"$f":"VLOOKUP(A4569,[1]Sheet1!$A$1:$C$65512,3,FALSE)","v":{"$error":"#N/A"}},null,null,"No info","линк","https://bg.toolsworld.com/search/?query=","https://bg.toolsworld.com/search/?query=738609"]
[756089,"Vízálló csiszolópapír, P 100, 230 х 280 mm, 10 db// MTX",354,"B","Active",{"$f":"VLOOKUP(A4570,[1]Sheet1!$A$1:$C$65512,3,FALSE)","v":327},null,null,"No info","линк","https://bg.toolsworld.com/search/?query=","https://bg.toolsworld.com/search/?query=756089"]
[756109,"Vízálló csiszolópapír, P 120, 230 х 280 mm, 10 db// MTX",354,"B","Active",{"$f":"VLOOKUP(A4571,[1]Sheet1!$A$1:$C$65512,3,FALSE)","v":302},null,null,"No info","линк","https://bg.toolsworld.com/search/?query=","https://bg.toolsworld.com/search/?query=756109"]
[756129,"Vízálló csiszolópapír, P 180, 230 х 280 mm, 10 db// MTX",354,"B","Active",{"$f":"VLOOKUP(A4572,[1]Sheet1!$A$1:$C$65512,3,FALSE)","v":551},null,null,"No info","линк","https://bg.toolsworld.com/search/?query=","https://bg.toolsworld.com/search/?query=756129"]
[756209,"Vízálló csiszolópapír, P 600, 230 х 280 mm, 10 db// MTX",354,"B","Active",{"$f":"VLOOKUP(A4573,[1]Sheet1!$A$1:$C$65512,3,FALSE)","v":485},null,null,"No info","линк","https://bg.toolsworld.com/search/?query=","https://bg.toolsworld.com/search/?query=756209"]
[756229,"Vízálló csiszolópapír, P 800, 230 х 280 mm, 10 db// MTX",354,"B","Active",{"$f":"VLOOKUP(A4574,[1]Sheet1!$A$1:$C$65512,3,FALSE)","v":397},null,null,"No info","линк","https://bg.toolsworld.com/search/?query=","https://bg.toolsworld.com/search/?query=756229"]
[756249,"Vízálló csiszolópapír, P 1000, 230 х 280 mm, 10 db// MTX",354,"B","Active",{"$f":"VLOOKUP(A4575,[1]Sheet1!$A$1:$C$65512,3,FALSE)","v":290},null,null,"No info","линк","https://bg.toolsworld.com/search/?query=","https://bg.toolsworld.com/search/?query=756249"]
[756299,"Vízálló csiszolópapír, P 2000, 230 х 280 mm, 10 db// MTX",354,"B","Active",{"$f":"VLOOKUP(A4576,[1]Sheet1!$A$1:$C$65512,3,FALSE)","v":547},null,null,"No info","линк","https://bg.toolsworld.com/search/?query=","https://bg.toolsworld.com/search/?query=756299"]
[789119,"Könnyű papírvágó, teleszkópos kaparókés, kényelmes nyéllel, 9 mm// MTX",77,"B","Active",{"$f":"VLOOKUP(A4577,[1]Sheet1!$A$1:$C$65512,3,FALSE)","v":11399},null,null,"No info","линк","https://bg.toolsworld.com/search/?query=","https://bg.toolsworld.com/search/?query=789119"]
[812159,"Keret 180 mm-es görgőkhöz , D 6 mm, nikkelezett// MTX",314,"B","Active",{"$f":"VLOOKUP(A4578,[1]Sheet1!$A$1:$C$65512,3,FALSE)","v":44},null,null,"No info","линк","https://bg.toolsworld.com/search/?query=","https://bg.toolsworld.com/search/?query=812159"]
[902459,"Fali szerszám panel, 675 x 450 mm// MTX",2794,"B","Active",{"$f":"VLOOKUP(A4579,[1]Sheet1!$A$1:$C$65512,3,FALSE)","v":5},null,null,"No info","линк","https://bg.toolsworld.com/search/?query=","https://bg.toolsworld.com/search/?query=902459"]
[933008,"Ablaktörlő 230х250 mm Kezdőlap// Palisad",462,"B","Active",{"$f":"VLOOKUP(A4580,[1]Sheet1!$A$1:$C$65512,3,FALSE)","v":510},null,null,"No info","линк","https://bg.toolsworld.com/search/?query=","https://bg.toolsworld.com/search/?query=933008"]
[956157,"Elektromos láncfűrész EDS-1800P, 1,8 kW, oldalsó motor, rúd 40 cm, osztás 3/8, nyomtáv 1,3 mm, 57 lengőkar// Denzel",24941,"B","Active",{"$f":"VLOOKUP(A4581,[1]Sheet1!$A$1:$C$65512,3,FALSE)","v":20},null,null,"No info","линк","https://bg.toolsworld.com/search/?query=","https://bg.toolsworld.com/search/?query=956157"]
[956167,"Elektromos láncfűrész EDS-2000P, 2 kW, oldalsó motor, rúd 40 cm, osztás 3/8, nyomtáv 1,3 mm, 57 lengőkar// Denzel",25408,"B","Active",{"$f":"VLOOKUP(A4582,[1]Sheet1!$A$1:$C$65512,3,FALSE)","v":218},null,null,"No info","линк","https://bg.toolsworld.com/search/?query=","https://bg.toolsworld.com/search/?query=956167"]
[956177,"Elektromos láncfűrész EDS-2200P, 2,2 kW, oldalmotor, rúd 45 cm, osztás 3/8, nyomtáv 1,3 mm, 63 lengőkar// Denzel",32657,"B","Active",{"$f":"VLOOKUP(A4583,[1]Sheet1!$A$1:$C$65512,3,FALSE)","v":181},null,null,"No info","линк","https://bg.toolsworld.com/search/?query=","https://bg.toolsworld.com/search/?query=956177"]
[1843455,"Reteszelő fogó, szorító markolat, 280 mm// MTX",1963,"B","Active",{"$f":"VLOOKUP(A4584,[1]Sheet1!$A$1:$C$65512,3,FALSE)","v":164},null,null,"No info","линк","https://bg.toolsworld.com/search/?query=","https://bg.toolsworld.com/search/?query=1843455"]
[1843655,"Reteszelő fogó, kacsa markolat, 250 mm// MTX",1747,"B","Active",{"$f":"VLOOKUP(A4585,[1]Sheet1!$A$1:$C$65512,3,FALSE)","v":112},null,null,"No info","линк","https://bg.toolsworld.com/search/?query=","https://bg.toolsworld.com/search/?query=1843655"]
[2065357,"G-szorító 75mm// Sparta",977,"B","Active",{"$f":"VLOOKUP(A4586,[1]Sheet1!$A$1:$C$65512,3,FALSE)","v":274},null,null,"No info","линк","https://bg.toolsworld.com/search/?query=",{"$f":"CONCATENATE(K4586,A4586)","v":"https://bg.toolsworld.com/search/?query=2065357"}]
[42003,"Bútorlépcső, 53 típusú kapocs 4-14 mm, tok 500 db kapocs és mérőszalag 2m// Sparta",2996,"B","Active",{"$f":"VLOOKUP(A4587,[1]Sheet1!$A$1:$C$65512,3,FALSE)","v":{"$error":"#N/A"}},null,null,"No info",{"$f":"HYPERLINK(L4587,\"линк\")","v":"линк"},"https://bg.toolsworld.com/search/?query=","https://bg.toolsworld.com/search/?query=42003"]
[55302,"Seprőkefe hóhoz, cserélhető kaparóval, 530 mm// Stels",990,"B","Active",{"$f":"VLOOKUP(A4588,[1]Sheet1!$A$1:$C$65512,3,FALSE)","v":{"$error":"#N/A"}},null,null,"No info","линк","https://bg.toolsworld.com/search/?query=","https://bg.toolsworld.com/search/?query=55302"]
[73038,"Folyamatos gyémánt fűrészlap ф125х22,2mm, lézeres vágórésszel, nedves vágás// GROSS",5032,"B","Active",{"$f":"VLOOKUP(A4589,[1]Sheet1!$A$1:$C$65512,3,FALSE)","v":36},null,null,"No info","линк","https://bg.toolsworld.com/search/?query=","https://bg.toolsworld.com/search/?query=73038"]
[73307,"T.C.T. Fűrészlap fa vágásához 160 x 20 mm, 24Т + gyűrű 20/16// GROSS",3057,"B","Active",{"$f":"VLOOKUP(A4590,[1]Sheet1!$A$1:$C$65512,3,FALSE)","v":{"$error":"#N/A"}},null,null,"No info","линк","https://bg.toolsworld.com/search/?query=","https://bg.toolsworld.com/search/?query=73307"]
[73313,"T.C.T. Fűrészlap fa vágásához 185 x 20 mm, 24Т + gyűrű 20/16// GROSS",4282,"B","Active",{"$f":"VLOOKUP(A4591,[1]Sheet1!$A$1:$C$65512,3,FALSE)","v":{"$error":"#N/A"}},null,null,"No info","линк","https://bg.toolsworld.com/search/?query=","https://bg.toolsworld.com/search/?query=73313"]
[73318,"T.C.T. Fűrészlap fa vágásához 190 x 30 x 24Т// GROSS",4549,"B","Active",{"$f":"VLOOKUP(A4592,[1]Sheet1!$A$1:$C$65512,3,FALSE)","v":{"$error":"#N/A"}},null,null,"No info","линк","https://bg.toolsworld.com/search/?query=","https://bg.toolsworld.com/search/?query=73318"]
[73319,"T.C.T. Fűrészlap fa vágásához 190 x 30 x 36Т// GROSS",5480,"B","Active",{"$f":"VLOOKUP(A4593,[1]Sheet1!$A$1:$C$65512,3,FALSE)","v":{"$error":"#N/A"}},null,null,"No info","линк","https://bg.toolsworld.com/search/?query=","https://bg.toolsworld.com/search/?query=73319"]
[73320,"T.C.T. Fűrészlap fa vágásához 190 x 30 x 48Т// GROSS",6791,"B","Active",{"$f":"VLOOKUP(A4594,[1]Sheet1!$A$1:$C$65512,3,FALSE)","v":{"$error":"#N/A"}},null,null,"No info","линк","https://bg.toolsworld.com/search/?query=","https://bg.toolsworld.com/search/?query=73320"]
[155339,"Állítható csavarkulcs, vékony pofák, foszfátozott, 150 mm// MTX",2210,"B","Active",{"$f":"VLOOKUP(A4595,[1]Sheet1!$A$1:$C$65512,3,FALSE)","v":" "},null,null,"No info","линк","https://bg.toolsworld.com/search/?query=","https://bg.toolsworld.com/search/?query=155339"]
[155349,"Állítható csavarkulcs, vékony pofák, foszfátozott, 200 mm// MTX",3098,"B","Active",{"$f":"VLOOKUP(A4596,[1]Sheet1!$A$1:$C$65512,3,FALSE)","v":" "},null,null,"No info","линк","https://bg.toolsworld.com/search/?query=","https://bg.toolsworld.com/search/?query=155349"]
[155369,"Állítható csavarkulcs, vékony pofák, foszfátozott, 250 mm// MTX",4378,"B","Active",{"$f":"VLOOKUP(A4597,[1]Sheet1!$A$1:$C$65512,3,FALSE)","v":30},null,null,"No info","линк","https://bg.toolsworld.com/search/?query=","https://bg.toolsworld.com/search/?query=155369"]
[160267,"Háromszög reszelő 200 mm, fa nyél// Sparta",491,"B","Active",{"$f":"VLOOKUP(A4598,[1]Sheet1!$A$1:$C$65512,3,FALSE)","v":681},null,null,"No info","линк","https://bg.toolsworld.com/search/?query=","https://bg.toolsworld.com/search/?query=160267"]
[161297,"Körreszelő 250 mm, fa nyél// Sparta",594,"B","Active",{"$f":"VLOOKUP(A4599,[1]Sheet1!$A$1:$C$65512,3,FALSE)","v":143},null,null,"No info","линк","https://bg.toolsworld.com/search/?query=","https://bg.toolsworld.com/search/?query=161297"]
[764259,"Fenő kő 230 mm// MTX",267,"B","Active",{"$f":"VLOOKUP(A4600,[1]Sheet1!$A$1:$C$65512,3,FALSE)","v":{"$error":"#N/A"}},null,null,"No info","линк","https://bg.toolsworld.com/search/?query=","https://bg.toolsworld.com/search/?query=764259"]
[10373,"Gépész kalapács, üvegszálas nyél gumi szárral, 300G// Sparta",1106,"B","Active",{"$f":"VLOOKUP(A4601,[1]Sheet1!$A$1:$C$65512,3,FALSE)","v":{"$error":"#N/A"}},null,null,"No info",{"$f":"HYPERLINK(L4601,\"линк\")","v":"линк"},"https://bg.toolsworld.com/search/?query=","https://bg.toolsworld.com/search/?query=10373"]
[11300,"Bitkészlet PH2х60, S2 acél, 10 db// Gross",1770,"B","Active",{"$f":"VLOOKUP(A4602,[1]Sheet1!$A$1:$C$65512,3,FALSE)","v":{"$error":"#N/A"}},null,null,"No info","линк","https://bg.toolsworld.com/search/?query=","https://bg.toolsworld.com/search/?query=11300"]
[11482,"Torziós bitkészlet, PH2x25mm, ütvefúróhoz, 10 db.// Gross",1242,"B","Active",{"$f":"VLOOKUP(A4603,[1]Sheet1!$A$1:$C$65512,3,FALSE)","v":48},null,null,"No info","линк","https://bg.toolsworld.com/search/?query=","https://bg.toolsworld.com/search/?query=11482"]
[11485,"Torziós bitkészlet, PH1x50mm, ütvefúróhoz, 2 db// Gross",468,"B","Active",{"$f":"VLOOKUP(A4604,[1]Sheet1!$A$1:$C$65512,3,FALSE)","v":120},null,null,"No info","линк","https://bg.toolsworld.com/search/?query=","https://bg.toolsworld.com/search/?query=11485"]
[11486,"Torziós bitkészlet, PH2x50mm, ütvefúróhoz, 2 db// Gross",474,"B","Active",{"$f":"VLOOKUP(A4605,[1]Sheet1!$A$1:$C$65512,3,FALSE)","v":107},null,null,"No info","линк","https://bg.toolsworld.com/search/?query=","https://bg.toolsworld.com/search/?query=11486"]
[11487,"Torziós bitkészlet, PH3x50mm, ütvefúróhoz, 2 db// Gross",474,"B","Active",{"$f":"VLOOKUP(A4606,[1]Sheet1!$A$1:$C$65512,3,FALSE)","v":60},null,null,"No info","линк","https://bg.toolsworld.com/search/?query=","https://bg.toolsworld.com/search/?query=11487"]
[11489,"Torziós bitkészlet, PZ3x50mm, ütvefúróhoz, 2 db// Gross",468,"B","Active",{"$f":"VLOOKUP(A4607,[1]Sheet1!$A$1:$C$65512,3,FALSE)","v":54},null,null,"No info","линк","https://bg.toolsworld.com/search/?query=","https://bg.toolsworld.com/search/?query=11489"]
[11490,"Torziós bitkészlet, PH2x50mm, ütvefúróhoz, 5 db.// Gross",931,"B","Active",{"$f":"VLOOKUP(A4608,[1]Sheet1!$A$1:$C$65512,3,FALSE)","v":{"$error":"#N/A"}},null,null,"No info","линк","https://bg.toolsworld.com/search/?query=","https://bg.toolsworld.com/search/?query=11490"]
[11491,"Torziós bitkészlet, PH3x50mm, ütvefúróhoz, 5 db.// Gross",931,"B","Active",{"$f":"VLOOKUP(A4609,[1]Sheet1!$A$1:$C$65512,3,FALSE)","v":{"$error":"#N/A"}},null,null,"No info","линк","https://bg.toolsworld.com/search/?query=","https://bg.toolsworld.com/search/?query=11491"]
[11492,"Torziós bitkészlet, PH1x50mm, ütvefúróhoz, 10 db.// Gross",1346,"B","Active",{"$f":"VLOOKUP(A4610,[1]Sheet1!$A$1:$C$65512,3,FALSE)","v":59},null,null,"No info","линк","https://bg.toolsworld.com/search/?query=","https://bg.toolsworld.com/search/?query=11492"]
[11493,"Torziós bitkészlet, PH2x50mm, ütvefúróhoz, 10 db.// Gross",1354,"B","Active",{"$f":"VLOOKUP(A4611,[1]Sheet1!$A$1:$C$65512,3,FALSE)","v":{"$error":"#N/A"}},null,null,"No info","линк","https://bg.toolsworld.com/search/?query=","https://bg.toolsworld.com/search/?query=11493"]
[11495,"Torziós bitkészlet, PZ2x50mm, ütvefúróhoz, 10 db.// Gross",1346,"B","Active",{"$f":"VLOOKUP(A4612,[1]Sheet1!$A$1:$C$65512,3,FALSE)","v":{"$error":"#N/A"}},null,null,"No info","линк","https://bg.toolsworld.com/search/?query=","https://bg.toolsworld.com/search/?query=11495"]
[11496,"Torziós bitkészlet, PZ3x50mm, ütvefúróhoz, 10 db.// Gross",1354,"B","Active",{"$f":"VLOOKUP(A4613,[1]Sheet1!$A$1:$C$65512,3,FALSE)","v":{"$error":"#N/A"}},null,null,"No info","линк","https://bg.toolsworld.com/search/?query=","https://bg.toolsworld.com/search/?query=11496"]
[13386,"Csavarhúzó cserélhető pengével, 8 db., PH2/SL5, PH1/SL4, PH0/SL3, PH00/SL2, CrV// Сибртех",1389,"B","Active",{"$f":"VLOOKUP(A4614,[1]Sheet1!$A$1:$C$65512,3,FALSE)","v":22},null,null,"No info","линк","https://bg.toolsworld.com/search/?query=","https://bg.toolsworld.com/search/?query=13386"]
[13944,"Hosszú hatszögletű ütközőhüvely, 17 mm, 1/2\", CrMo// Stels",1937,"B","Active",{"$f":"VLOOKUP(A4615,[1]Sheet1!$A$1:$C$65512,3,FALSE)","v":330},null,null,"No info","линк","https://bg.toolsworld.com/search/?query=","https://bg.toolsworld.com/search/?query=13944"]
[14122,"109 db-os szerszámkészlet, dodekaéder aljzatok// Stels",40619,"B","Active",{"$f":"VLOOKUP(A4616,[1]Sheet1!$A$1:$C$65512,3,FALSE)","v":13},null,null,"No info","линк","https://bg.toolsworld.com/search/?query=","https://bg.toolsworld.com/search/?query=14122"]
[14159,"Nyomatékkulcs, 28 - 210 Nm, 1/2\", CrV, krómozott, gyorskioldó// Stels",15169,"B","Active",{"$f":"VLOOKUP(A4617,[1]Sheet1!$A$1:$C$65512,3,FALSE)","v":83},null,null,"No info","линк","https://bg.toolsworld.com/search/?query=","https://bg.toolsworld.com/search/?query=14159"]
[15428,"8 db-os kombinált villáskulcs készlet, 8-19 mm, CrV, szatén kivitel// Stels",3311,"B","Active",{"$f":"VLOOKUP(A4618,[1]Sheet1!$A$1:$C$65512,3,FALSE)","v":{"$error":"#N/A"}},null,null,"No info","линк","https://bg.toolsworld.com/search/?query=","https://bg.toolsworld.com/search/?query=15428"]
[16964,"160mm-es kombinált fogó kétkomponensű nyéllel, polírozott, Comfort line// Sparta",1083,"B","Active",{"$f":"VLOOKUP(A4619,[1]Sheet1!$A$1:$C$65512,3,FALSE)","v":{"$error":"#N/A"}},null,null,"No info","линк","https://bg.toolsworld.com/search/?query=","https://bg.toolsworld.com/search/?query=16964"]
[16971,"200mm-es kombinált fogó kétkomponensű nyéllel, polírozott, Comfort vonal// Sparta",1342,"B","Active",{"$f":"VLOOKUP(A4620,[1]Sheet1!$A$1:$C$65512,3,FALSE)","v":{"$error":"#N/A"}},null,null,"No info","линк","https://bg.toolsworld.com/search/?query=","https://bg.toolsworld.com/search/?query=16971"]
[17722,"Huzalcsupaszító, 0,2-6 mm2 (10-24 AWG), rozsdamentes acél penge// Gross",6577,"B","Active",{"$f":"VLOOKUP(A4621,[1]Sheet1!$A$1:$C$65512,3,FALSE)","v":20},null,null,"No info","линк","https://bg.toolsworld.com/search/?query=","https://bg.toolsworld.com/search/?query=17722"]
[17995,"Végvágó harapófogó, megerősített, fröccsöntött fogantyúk, 300 mm// Gross",9092,"B","Active",{"$f":"VLOOKUP(A4622,[1]Sheet1!$A$1:$C$65512,3,FALSE)","v":154},null,null,"No info","линк","https://bg.toolsworld.com/search/?query=","https://bg.toolsworld.com/search/?query=17995"]
[31301,"Mérőszalag Classic, 2 m * 13 mm, műanyag test// Sparta",242,"B","Active",{"$f":"VLOOKUP(A4623,[1]Sheet1!$A$1:$C$65512,3,FALSE)","v":{"$error":"#N/A"}},null,null,"No info","линк","https://bg.toolsworld.com/search/?query=","https://bg.toolsworld.com/search/?query=31301"]
[31302,"Mérőszalag Classic, 3 m * 16 mm, műanyag test// Sparta",312,"B","Active",{"$f":"VLOOKUP(A4624,[1]Sheet1!$A$1:$C$65512,3,FALSE)","v":{"$error":"#N/A"}},null,null,"No info","линк","https://bg.toolsworld.com/search/?query=","https://bg.toolsworld.com/search/?query=31302"]
[32531,"Mérőszalag grafit, gumírozott test, puffer, 5 m x 19 mm// Сибртех",904,"B","Active",{"$f":"VLOOKUP(A4625,[1]Sheet1!$A$1:$C$65512,3,FALSE)","v":{"$error":"#N/A"}},null,null,"No info","линк","https://bg.toolsworld.com/search/?query=","https://bg.toolsworld.com/search/?query=32531"]
[37042,"Vízszintmérő, L 5 m, D 8 mm, SIBRTEH Russia skálával",1101,"B","Active",{"$f":"VLOOKUP(A4626,[1]Sheet1!$A$1:$C$65512,3,FALSE)","v":{"$error":"#N/A"}},null,null,"No info","линк","https://bg.toolsworld.com/search/?query=","https://bg.toolsworld.com/search/?query=37042"]
[47554,"Fém tömlőszorítóek szárnyas anyával 50-70 mm, 50 db.// Сибртех",6769,"B","Active",{"$f":"VLOOKUP(A4627,[1]Sheet1!$A$1:$C$65512,3,FALSE)","v":{"$error":"#N/A"}},null,null,"No info","линк","https://bg.toolsworld.com/search/?query=","https://bg.toolsworld.com/search/?query=47554"]
[47566,"Fém tömlőszorítóek szabványos csavarral 140-160 mm, szélesség 9 mm, 25 db.// Сибртех",3702,"B","Active",{"$f":"VLOOKUP(A4628,[1]Sheet1!$A$1:$C$65512,3,FALSE)","v":{"$error":"#N/A"}},null,null,"No info","линк","https://bg.toolsworld.com/search/?query=","https://bg.toolsworld.com/search/?query=47566"]
[47573,"Fém tömlőszorítóek szabványos csavarral 100-120 mm, szélesség 9 mm, 25 db.// Сибртех",3398,"B","Active",{"$f":"VLOOKUP(A4629,[1]Sheet1!$A$1:$C$65512,3,FALSE)","v":4},null,null,"No info","линк","https://bg.toolsworld.com/search/?query=","https://bg.toolsworld.com/search/?query=47573"]
[47574,"Fém tömlőszorítóek szabványos csavarral 110-130 mm, szélesség 9 mm, 25 db.// Сибртех",3572,"B","Active",{"$f":"VLOOKUP(A4630,[1]Sheet1!$A$1:$C$65512,3,FALSE)","v":2},null,null,"No info","линк","https://bg.toolsworld.com/search/?query=","https://bg.toolsworld.com/search/?query=47574"]
[47578,"Rozsdamentes tömlőszorítóek szabványos csavarral 12-20 mm, szélesség 9 mm, 100 db.// Сибртех",5787,"B","Active",{"$f":"VLOOKUP(A4631,[1]Sheet1!$A$1:$C$65512,3,FALSE)","v":3},null,null,"No info","линк","https://bg.toolsworld.com/search/?query=","https://bg.toolsworld.com/search/?query=47578"]
[64393,"Palántacserép, 5 l, polipropilén, Russia// Сибртех",511,"B","Active",{"$f":"VLOOKUP(A4632,[1]Sheet1!$A$1:$C$65512,3,FALSE)","v":701},null,null,"No info","линк","https://bg.toolsworld.com/search/?query=","https://bg.toolsworld.com/search/?query=64393"]
[67551,"Horganyzott mosdó, 20 l, csappal és fedéllel Russia",7215,"B","Active",{"$f":"VLOOKUP(A4633,[1]Sheet1!$A$1:$C$65512,3,FALSE)","v":{"$error":"#N/A"}},null,null,"No info","линк","https://bg.toolsworld.com/search/?query=","https://bg.toolsworld.com/search/?query=67551"]
[68665,"Kötött kesztyű, akril, „védő” PVC pöttyök, sötétkék színű, szegélyezett varrás, Russia// СИБРТЕХ",320,"B","Active",{"$f":"VLOOKUP(A4634,[1]Sheet1!$A$1:$C$65512,3,FALSE)","v":{"$error":"#N/A"}},null,null,"No info","линк","https://bg.toolsworld.com/search/?query=","https://bg.toolsworld.com/search/?query=68665"]
[69136,"Rács, kombinált, 0,95х2 m// Россия",4425,"B","Active",{"$f":"VLOOKUP(A4635,[1]Sheet1!$A$1:$C$65512,3,FALSE)","v":3},null,null,"No info","линк","https://bg.toolsworld.com/search/?query=","https://bg.toolsworld.com/search/?query=69136"]
[75697,"Papír csiszolólap, CT10CW, szemcsés. M14 (P1500), 230 x 280 mm, 10 db, vízálló // Россия",2174,"B","Active",{"$f":"VLOOKUP(A4636,[1]Sheet1!$A$1:$C$65512,3,FALSE)","v":60},null,null,"No info","линк","https://bg.toolsworld.com/search/?query=","https://bg.toolsworld.com/search/?query=75697"]
[85433,"Kaparó műanyag nyéllel, rozsdamentes acél, 80mm// Сибртех",216,"B","Active",{"$f":"VLOOKUP(A4637,[1]Sheet1!$A$1:$C$65512,3,FALSE)","v":{"$error":"#N/A"}},null,null,"No info","линк","https://bg.toolsworld.com/search/?query=","https://bg.toolsworld.com/search/?query=85433"]
[85471,"Kaparó 150mm (négyzetfog 8x8mm) műanyag nyéllel// Сибртех",409,"B","Active",{"$f":"VLOOKUP(A4638,[1]Sheet1!$A$1:$C$65512,3,FALSE)","v":{"$error":"#N/A"}},null,null,"No info","линк","https://bg.toolsworld.com/search/?query=","https://bg.toolsworld.com/search/?query=85471"]
[88807,"Kétoldalas szalag, 38 mm x 25 mm, polipropilén alap// Сибртех",968,"B","Active",{"$f":"VLOOKUP(A4639,[1]Sheet1!$A$1:$C$65512,3,FALSE)","v":{"$error":"#N/A"}},null,null,"No info","линк","https://bg.toolsworld.com/search/?query=","https://bg.toolsworld.com/search/?query=88807"]
[92460,"Kötél csőtisztításhoz, hossza 3 m, D 6 mm// Сибртех",959,"B","Active",{"$f":"VLOOKUP(A4640,[1]Sheet1!$A$1:$C$65512,3,FALSE)","v":{"$error":"#N/A"}},null,null,"No info","линк","https://bg.toolsworld.com/search/?query=","https://bg.toolsworld.com/search/?query=92460"]
[130415,"Feszültségvizsgáló 145 mm, 100-500 V// MTX",206,"B","Active",{"$f":"VLOOKUP(A4641,[1]Sheet1!$A$1:$C$65512,3,FALSE)","v":{"$error":"#N/A"}},null,null,"No info","линк","https://bg.toolsworld.com/search/?query=","https://bg.toolsworld.com/search/?query=130415"]
[142757,"Gyűrűs villáskulcs, ütés 36 mm// Stels",3353,"B","Active",{"$f":"VLOOKUP(A4642,[1]Sheet1!$A$1:$C$65512,3,FALSE)","v":19},null,null,"No info","линк","https://bg.toolsworld.com/search/?query=","https://bg.toolsworld.com/search/?query=142757"]
[142787,"Gyűrűs villáskulcs, ütés 50 mm// Stels",5658,"B","Active",{"$f":"VLOOKUP(A4643,[1]Sheet1!$A$1:$C$65512,3,FALSE)","v":14},null,null,"No info","линк","https://bg.toolsworld.com/search/?query=","https://bg.toolsworld.com/search/?query=142787"]
[153389,"8 db Gyűrűs kulcs készlet, Elliptikus, tükör krómozott, 6-22 mm, CrV// MTX",6299,"B","Active",{"$f":"VLOOKUP(A4644,[1]Sheet1!$A$1:$C$65512,3,FALSE)","v":{"$error":"#N/A"}},null,null,"No info","линк","https://bg.toolsworld.com/search/?query=","https://bg.toolsworld.com/search/?query=153389"]
[157369,"Csőkulcs №1, 1\", ívelt pofákkal// MTX",2706,"B","Active",{"$f":"VLOOKUP(A4645,[1]Sheet1!$A$1:$C$65512,3,FALSE)","v":382},null,null,"No info","линк","https://bg.toolsworld.com/search/?query=","https://bg.toolsworld.com/search/?query=157369"]
[157589,"Csőkulcs №1, öntött// MTX",2651,"B","Active",{"$f":"VLOOKUP(A4646,[1]Sheet1!$A$1:$C$65512,3,FALSE)","v":59},null,null,"No info","линк","https://bg.toolsworld.com/search/?query=","https://bg.toolsworld.com/search/?query=157589"]
[171879,"Hosszú orrú fogó \"Premium\", 200 mm, egyenes, három komponensű fogantyú// MTX",1552,"B","Active",{"$f":"VLOOKUP(A4647,[1]Sheet1!$A$1:$C$65512,3,FALSE)","v":86},null,null,"No info","линк","https://bg.toolsworld.com/search/?query=","https://bg.toolsworld.com/search/?query=171879"]
[204235,"F-szorító 150x50x200mm// Sparta",727,"B","Active",{"$f":"VLOOKUP(A4648,[1]Sheet1!$A$1:$C$65512,3,FALSE)","v":{"$error":"#N/A"}},null,null,"No info","линк","https://bg.toolsworld.com/search/?query=","https://bg.toolsworld.com/search/?query=204235"]
[204265,"F-szorító 200x50x250mm// Sparta",764,"B","Active",{"$f":"VLOOKUP(A4649,[1]Sheet1!$A$1:$C$65512,3,FALSE)","v":305},null,null,"No info","линк","https://bg.toolsworld.com/search/?query=",{"$f":"CONCATENATE(K4649,A4649)","v":"https://bg.toolsworld.com/search/?query=204265"}]
[204295,"F-szorító 250x50x300mm// Sparta",808,"B","Active",{"$f":"VLOOKUP(A4650,[1]Sheet1!$A$1:$C$65512,3,FALSE)","v":15},null,null,"No info","линк","https://bg.toolsworld.com/search/?query=","https://bg.toolsworld.com/search/?query=204295"]
[204355,"F-szorító 300x80x360mm// Sparta",1303,"B","Active",{"$f":"VLOOKUP(A4651,[1]Sheet1!$A$1:$C$65512,3,FALSE)","v":1563},null,null,"No info","линк","https://bg.toolsworld.com/search/?query=","https://bg.toolsworld.com/search/?query=204355"]
[204385,"F-szorító 300x120x365mm// Sparta",2045,"B","Active",{"$f":"VLOOKUP(A4652,[1]Sheet1!$A$1:$C$65512,3,FALSE)","v":1022},null,null,"No info","линк","https://bg.toolsworld.com/search/?query=","https://bg.toolsworld.com/search/?query=204385"]
[204415,"F-szorító 500x120x570mm// Sparta",2470,"B","Active",{"$f":"VLOOKUP(A4653,[1]Sheet1!$A$1:$C$65512,3,FALSE)","v":144},null,null,"No info","линк","https://bg.toolsworld.com/search/?query=","https://bg.toolsworld.com/search/?query=204415"]
[204445,"F-szorító 800x120x865mm// Sparta",3008,"B","Active",{"$f":"VLOOKUP(A4654,[1]Sheet1!$A$1:$C$65512,3,FALSE)","v":588},null,null,"No info","линк","https://bg.toolsworld.com/search/?query=","https://bg.toolsworld.com/search/?query=204445"]
[204475,"F-szorító 1000x120x1050mm// Sparta",3458,"B","Active",{"$f":"VLOOKUP(A4655,[1]Sheet1!$A$1:$C$65512,3,FALSE)","v":1881},null,null,"No info","линк","https://bg.toolsworld.com/search/?query=","https://bg.toolsworld.com/search/?query=204475"]
[310169,"Mérőszalag \"Fine\" 3m x 16 mm, műanyag ház// MTX",458,"B","Active",{"$f":"VLOOKUP(A4656,[1]Sheet1!$A$1:$C$65512,3,FALSE)","v":{"$error":"#N/A"}},null,null,"No info","линк","https://bg.toolsworld.com/search/?query=","https://bg.toolsworld.com/search/?query=310169"]
[310329,"Mérőszalag, 2m x 13mm, zseb, króm test// MTX",515,"B","Active",{"$f":"VLOOKUP(A4657,[1]Sheet1!$A$1:$C$65512,3,FALSE)","v":{"$error":"#N/A"}},null,null,"No info","линк","https://bg.toolsworld.com/search/?query=","https://bg.toolsworld.com/search/?query=310329"]
[310529,"Mérőszalag, 3mx16mm, zseb, gumi test, dupla folyékony rögzítés// MTX",631,"B","Active",{"$f":"VLOOKUP(A4658,[1]Sheet1!$A$1:$C$65512,3,FALSE)","v":{"$error":"#N/A"}},null,null,"No info","линк","https://bg.toolsworld.com/search/?query=","https://bg.toolsworld.com/search/?query=310529"]
[332289,"Alumínium vízmérték, mart, 3 fiola, 2 ergonomikus fogantyú, 1000 mm// MTX",4445,"B","Active",{"$f":"VLOOKUP(A4659,[1]Sheet1!$A$1:$C$65512,3,FALSE)","v":6},null,null,"No info","линк","https://bg.toolsworld.com/search/?query=","https://bg.toolsworld.com/search/?query=332289"]
[516209,"Összecsukható jack-állvány 2t, h emelés 275-420 mm 2 db készlet// MTX",12498,"B","Active",{"$f":"VLOOKUP(A4660,[1]Sheet1!$A$1:$C$65512,3,FALSE)","v":{"$error":"#N/A"}},null,null,"No info","линк","https://bg.toolsworld.com/search/?query=","https://bg.toolsworld.com/search/?query=516209"]
[520097,"Elektromos kocsi T-1000, 0,99 t, 540 W// Denzel",61510,"B","Active",{"$f":"VLOOKUP(A4661,[1]Sheet1!$A$1:$C$65512,3,FALSE)","v":5},null,null,"No info","линк","https://bg.toolsworld.com/search/?query=","https://bg.toolsworld.com/search/?query=520097"]
[553237,"Hókefe jégkaparóval, 590 mm// Denzel",807,"B","Active",{"$f":"VLOOKUP(A4662,[1]Sheet1!$A$1:$C$65512,3,FALSE)","v":18},null,null,"No info","линк","https://bg.toolsworld.com/search/?query=","https://bg.toolsworld.com/search/?query=553237"]
[553267,"Hókefe jégkaparóval, kihúzható, elforgatható kefefej, 750-1120 mm// Denzel",2841,"B","Active",{"$f":"VLOOKUP(A4663,[1]Sheet1!$A$1:$C$65512,3,FALSE)","v":11},null,null,"No info","линк","https://bg.toolsworld.com/search/?query=","https://bg.toolsworld.com/search/?query=553267"]
[553287,"Jégkaparó puha markolattal//Denzel",589,"B","Active",{"$f":"VLOOKUP(A4664,[1]Sheet1!$A$1:$C$65512,3,FALSE)","v":438},null,null,"No info",{"$f":"HYPERLINK(L4664,\"линк\")","v":"линк"},"https://bg.toolsworld.com/search/?query=","https://bg.toolsworld.com/search/?query=553287"]
[675478,"Öntözőkészlet, megerősített hosszabbító tömlő 20m, 7 üzemmódú szórópisztoly, kon. adapter// Palisad",3999,"B","Active",{"$f":"VLOOKUP(A4665,[1]Sheet1!$A$1:$C$65512,3,FALSE)","v":{"$error":"#N/A"}},null,null,"No info","линк","https://bg.toolsworld.com/search/?query=","https://bg.toolsworld.com/search/?query=675478"]
[701169,"Fa csigás fúrószár, 52 x 230 mm, hatlapú szár// MTX",7217,"B","Active",{"$f":"VLOOKUP(A4666,[1]Sheet1!$A$1:$C$65512,3,FALSE)","v":232},null,null,"No info","линк","https://bg.toolsworld.com/search/?query=","https://bg.toolsworld.com/search/?query=701169"]
[704939,"3 db-os Zárszerelő készlet, 22 mm/48 mm, lapos fúró/lyukfűrész// MTX",833,"B","Active",{"$f":"VLOOKUP(A4667,[1]Sheet1!$A$1:$C$65512,3,FALSE)","v":32},null,null,"No info","линк","https://bg.toolsworld.com/search/?query=","https://bg.toolsworld.com/search/?query=704939"]
[720609,"Polírozott csavarfúró, 16 mm, HSS, 5 db// MTX",7484,"B","Active",{"$f":"VLOOKUP(A4668,[1]Sheet1!$A$1:$C$65512,3,FALSE)","v":4},null,null,"No info","линк","https://bg.toolsworld.com/search/?query=","https://bg.toolsworld.com/search/?query=720609"]
[732445,"T.C.T. Fűrészlap fa vágásához, 200 х 22 mm, 40T// Sparta",2080,"B","Active",{"$f":"VLOOKUP(A4669,[1]Sheet1!$A$1:$C$65512,3,FALSE)","v":27},null,null,"No info","линк","https://bg.toolsworld.com/search/?query=","https://bg.toolsworld.com/search/?query=732445"]
[748245,"Acél drótkefe, 5 soros, fa nyéllel// Sparta",346,"B","Active",{"$f":"VLOOKUP(A4670,[1]Sheet1!$A$1:$C$65512,3,FALSE)","v":{"$error":"#N/A"}},null,null,"No info","линк","https://bg.toolsworld.com/search/?query=","https://bg.toolsworld.com/search/?query=748245"]
[775225,"Mini fémfűrész 150mm-es keret műanyag nyéllel, krómozott// Sparta",574,"B","Active",{"$f":"VLOOKUP(A4671,[1]Sheet1!$A$1:$C$65512,3,FALSE)","v":{"$error":"#N/A"}},null,null,"No info","линк","https://bg.toolsworld.com/search/?query=","https://bg.toolsworld.com/search/?query=775225"]
[806459,"NYLON festőhenger, 180 mm, cölöp 9 mm, D 48 mm, fogantyú D 6 mm// MTX",736,"B","Active",{"$f":"VLOOKUP(A4672,[1]Sheet1!$A$1:$C$65512,3,FALSE)","v":170},null,null,"No info","линк","https://bg.toolsworld.com/search/?query=","https://bg.toolsworld.com/search/?query=806459"]
[820909,"Körkefe №20 (65 mm), természetes sörtéjű, fa nyéllel// MTX",918,"B","Active",{"$f":"VLOOKUP(A4673,[1]Sheet1!$A$1:$C$65512,3,FALSE)","v":176},null,null,"No info","линк","https://bg.toolsworld.com/search/?query=","https://bg.toolsworld.com/search/?query=820909"]
[833949,"Lapos ecset homlokzati munkákhoz, 120x25 mm, natúr sörtéjű, műanyag nyél// MTX",1101,"B","Active",{"$f":"VLOOKUP(A4674,[1]Sheet1!$A$1:$C$65512,3,FALSE)","v":3},null,null,"No info","линк","https://bg.toolsworld.com/search/?query=","https://bg.toolsworld.com/search/?query=833949"]
[833959,"Lapos ecset homlokzati munkákhoz, 120x35 mm, natúr sörtéjű, műanyag nyél// MTX",1623,"B","Active",{"$f":"VLOOKUP(A4675,[1]Sheet1!$A$1:$C$65512,3,FALSE)","v":1},null,null,"No info","линк","https://bg.toolsworld.com/search/?query=","https://bg.toolsworld.com/search/?query=833959"]
[833989,"Lapos ecset homlokzati munkákhoz, 140x50 mm, natúr sörtéjű, műanyag nyél// MTX",2059,"B","Active",{"$f":"VLOOKUP(A4676,[1]Sheet1!$A$1:$C$65512,3,FALSE)","v":35},null,null,"No info","линк","https://bg.toolsworld.com/search/?query=","https://bg.toolsworld.com/search/?query=833989"]
[848055,"Dekorátorceruza 250 mm, 12 db-os készlet// Sparta",1026,"B","Active",{"$f":"VLOOKUP(A4677,[1]Sheet1!$A$1:$C$65512,3,FALSE)","v":99},null,null,"No info","линк","https://bg.toolsworld.com/search/?query=","https://bg.toolsworld.com/search/?query=848055"]
[916117,"Lakat ЗН2-M1, 60 mm// MTX",1192,"B","Active",{"$f":"VLOOKUP(A4678,[1]Sheet1!$A$1:$C$65512,3,FALSE)","v":650},null,null,"No info","линк","https://bg.toolsworld.com/search/?query=","https://bg.toolsworld.com/search/?query=916117"]
[923095,"Mikroszálas kendő optikához, szemüveghez és tükörhöz 350x300 mm, korall, Home// Palisad",293,"B","Active",{"$f":"VLOOKUP(A4679,[1]Sheet1!$A$1:$C$65512,3,FALSE)","v":{"$error":"#N/A"}},null,null,"No info","линк","https://bg.toolsworld.com/search/?query=","https://bg.toolsworld.com/search/?query=923095"]
[931065,"Szöszhenger, mosható, mindenféle szövethez, Home// Palisad",498,"B","Active",{"$f":"VLOOKUP(A4680,[1]Sheet1!$A$1:$C$65512,3,FALSE)","v":176},null,null,"No info","линк","https://bg.toolsworld.com/search/?query=","https://bg.toolsworld.com/search/?query=931065"]
[954849,"Betonkeverő CM-180S, 180 L, teljesítmény 800 W// Sparta",91524,"B","Active",{"$f":"VLOOKUP(A4681,[1]Sheet1!$A$1:$C$65512,3,FALSE)","v":" "},null,null,"No info","линк","https://bg.toolsworld.com/search/?query=","https://bg.toolsworld.com/search/?query=954849"]
[954859,"Betonkeverő CM-200S, 200 L, teljesítmény 800 W// Sparta",94298,"B","Active",{"$f":"VLOOKUP(A4682,[1]Sheet1!$A$1:$C$65512,3,FALSE)","v":{"$error":"#N/A"}},null,null,"No info","линк","https://bg.toolsworld.com/search/?query=","https://bg.toolsworld.com/search/?query=954859"]
[2203777,"Feszeszár, FSC , 360 mm// Palisad",929,"B","Active",{"$f":"VLOOKUP(A4683,[1]Sheet1!$A$1:$C$65512,3,FALSE)","v":72},null,null,"No info","линк","https://bg.toolsworld.com/search/?query=","https://bg.toolsworld.com/search/?query=2203777"]
[2204977,"Feszeszár, FSC, 600 mm// Palisad",1241,"B","Active",{"$f":"VLOOKUP(A4684,[1]Sheet1!$A$1:$C$65512,3,FALSE)","v":153},null,null,"No info","линк","https://bg.toolsworld.com/search/?query=","https://bg.toolsworld.com/search/?query=2204977"]
[6449088,"Kerti szerszámkészlet, teljes fém, 3 db, FRESH LINE// Palisad",2014,"B","Active",{"$f":"VLOOKUP(A4685,[1]Sheet1!$A$1:$C$65512,3,FALSE)","v":511},null,null,"No info","линк","https://bg.toolsworld.com/search/?query=","https://bg.toolsworld.com/search/?query=6449088"]
[6841077,"Fa tengely, FSC, 30x1300 mm// Palisad",931,"B","Active",{"$f":"VLOOKUP(A4686,[1]Sheet1!$A$1:$C$65512,3,FALSE)","v":275},null,null,"No info","линк","https://bg.toolsworld.com/search/?query=","https://bg.toolsworld.com/search/?query=6841077"]
[6842277,"Faszár, FSC, 38x1300 mm// Palisad",1267,"B","Active",{"$f":"VLOOKUP(A4687,[1]Sheet1!$A$1:$C$65512,3,FALSE)","v":{"$error":"#N/A"}},null,null,"No info","линк","https://bg.toolsworld.com/search/?query=","https://bg.toolsworld.com/search/?query=6842277"]
[6843277,"Faszár, FSC, 25x1300 mm// Palisad",802,"B","Active",{"$f":"VLOOKUP(A4688,[1]Sheet1!$A$1:$C$65512,3,FALSE)","v":{"$error":"#N/A"}},null,null,"No info","линк","https://bg.toolsworld.com/search/?query=","https://bg.toolsworld.com/search/?query=6843277"]
[6845777,"Kalapács nyél, FSC, 300 mm// Palisad",371,"B","Active",{"$f":"VLOOKUP(A4689,[1]Sheet1!$A$1:$C$65512,3,FALSE)","v":1231},null,null,"No info","линк","https://bg.toolsworld.com/search/?query=","https://bg.toolsworld.com/search/?query=6845777"]
[7725251,"Precíziós formázórúd, 10\"x 7/8\"x 1/3\"// Denzel",4161,"B","Active",{"$f":"VLOOKUP(A4690,[1]Sheet1!$A$1:$C$65512,3,FALSE)","v":{"$error":"#N/A"}},null,null,"No info","линк","https://bg.toolsworld.com/search/?query=","https://bg.toolsworld.com/search/?query=7725251"]
[9772277,"Alumínium létra, 3 lépcső// Denzel",15963,"B","Active",{"$f":"VLOOKUP(A4691,[1]Sheet1!$A$1:$C$65512,3,FALSE)","v":15},null,null,"No info","линк","https://bg.toolsworld.com/search/?query=","https://bg.toolsworld.com/search/?query=9772277"]
[9772377,"Alumínium létra, 4 lépcső// Denzel",19299,"B","Active",{"$f":"VLOOKUP(A4692,[1]Sheet1!$A$1:$C$65512,3,FALSE)","v":5},null,null,"No info","линк","https://bg.toolsworld.com/search/?query=","https://bg.toolsworld.com/search/?query=9772377"]
[10206577,"Gépészkalapács fa nyéllel, 300 g, szögletes toll, FSC// Sparta",1189,"B","Active",{"$f":"VLOOKUP(A4693,[1]Sheet1!$A$1:$C$65512,3,FALSE)","v":142},null,null,"No info","линк","https://bg.toolsworld.com/search/?query=","https://bg.toolsworld.com/search/?query=10206577"]
[54393,"Autószervező a háttámlán// Stels",1904,"B","Active",{"$f":"VLOOKUP(A4694,[1]Sheet1!$A$1:$C$65512,3,FALSE)","v":33},null,null,"No info",{"$f":"HYPERLINK(L4694,\"линк\")","v":"линк"},"https://bg.toolsworld.com/search/?query=","https://bg.toolsworld.com/search/?query=54393"]
[96367,"Öv egy hátizsák csípővédővel benzinüzemű trimmerekhez //Denzel",4906,"B","Active",{"$f":"VLOOKUP(A4695,[1]Sheet1!$A$1:$C$65512,3,FALSE)","v":{"$error":"#N/A"}},null,null,"No info","линк","https://bg.toolsworld.com/search/?query=","https://bg.toolsworld.com/search/?query=96367"]
[142697,"Gyűrűs kulcs, ütés 24 mm// Stels",1988,"B","Active",{"$f":"VLOOKUP(A4696,[1]Sheet1!$A$1:$C$65512,3,FALSE)","v":50},null,null,"No info","линк","https://bg.toolsworld.com/search/?query=","https://bg.toolsworld.com/search/?query=142697"]
[142717,"Gyűrűs villáskulcs, ütés 27 mm// Stels",2186,"B","Active",{"$f":"VLOOKUP(A4697,[1]Sheet1!$A$1:$C$65512,3,FALSE)","v":52},null,null,"No info","линк","https://bg.toolsworld.com/search/?query=","https://bg.toolsworld.com/search/?query=142717"]
[150335,"Kombinált villáskulcs 6 mm, krómozott// Sparta",161,"B","Active",{"$f":"VLOOKUP(A4698,[1]Sheet1!$A$1:$C$65512,3,FALSE)","v":4830},null,null,"No info","линк","https://bg.toolsworld.com/search/?query=","https://bg.toolsworld.com/search/?query=150335"]
[150355,"Kombinált villáskulcs 8 mm, krómozott// Sparta",177,"B","Active",{"$f":"VLOOKUP(A4699,[1]Sheet1!$A$1:$C$65512,3,FALSE)","v":4459},null,null,"No info","линк","https://bg.toolsworld.com/search/?query=","https://bg.toolsworld.com/search/?query=150355"]
[150425,"Kombinált villáskulcs 15 mm, krómozott// Sparta",356,"B","Active",{"$f":"VLOOKUP(A4700,[1]Sheet1!$A$1:$C$65512,3,FALSE)","v":5228},null,null,"No info","линк","https://bg.toolsworld.com/search/?query=","https://bg.toolsworld.com/search/?query=150425"]
[152305,"6 db, Dupla villáskulcs készlet, 6x17 mm, krómozott// Sparta",1348,"B","Active",{"$f":"VLOOKUP(A4701,[1]Sheet1!$A$1:$C$65512,3,FALSE)","v":2952},null,null,"No info","линк","https://bg.toolsworld.com/search/?query=","https://bg.toolsworld.com/search/?query=152305"]
[159267,"Szögletes reszelő 200 mm, fa nyél// Sparta",494,"B","Active",{"$f":"VLOOKUP(A4702,[1]Sheet1!$A$1:$C$65512,3,FALSE)","v":91},null,null,"No info","линк","https://bg.toolsworld.com/search/?query=","https://bg.toolsworld.com/search/?query=159267"]
[159297,"Szögletes reszelő 250 mm, fa nyél// Sparta",688,"B","Active",{"$f":"VLOOKUP(A4703,[1]Sheet1!$A$1:$C$65512,3,FALSE)","v":148},null,null,"No info","линк","https://bg.toolsworld.com/search/?query=","https://bg.toolsworld.com/search/?query=159297"]
[159327,"Szögletes reszelő 300 mm, fa nyél// Sparta",867,"B","Active",{"$f":"VLOOKUP(A4704,[1]Sheet1!$A$1:$C$65512,3,FALSE)","v":350},null,null,"No info","линк","https://bg.toolsworld.com/search/?query=","https://bg.toolsworld.com/search/?query=159327"]
[475477,"Fém csavarós tömlőbilincsek 12-20mm,100db/zsák// MTX",5978,"B","Active",{"$f":"VLOOKUP(A4705,[1]Sheet1!$A$1:$C$65512,3,FALSE)","v":10},null,null,"No info","линк","https://bg.toolsworld.com/search/?query=","https://bg.toolsworld.com/search/?query=475477"]
[477509,"Horganyzott acélhuzal 0,5 mm, hossza 200 m// MTX",726,"B","Active",{"$f":"VLOOKUP(A4706,[1]Sheet1!$A$1:$C$65512,3,FALSE)","v":204},null,null,"No info","линк","https://bg.toolsworld.com/search/?query=","https://bg.toolsworld.com/search/?query=477509"]
[477519,"Horganyzott acélhuzal 0,7 mm, hossza 75 m// MTX",518,"B","Active",{"$f":"VLOOKUP(A4707,[1]Sheet1!$A$1:$C$65512,3,FALSE)","v":383},null,null,"No info","линк","https://bg.toolsworld.com/search/?query=","https://bg.toolsworld.com/search/?query=477519"]
[477529,"Horganyzott acélhuzal 0,9 mm, hossza 50 m// MTX",534,"B","Active",{"$f":"VLOOKUP(A4708,[1]Sheet1!$A$1:$C$65512,3,FALSE)","v":492},null,null,"No info","линк","https://bg.toolsworld.com/search/?query=","https://bg.toolsworld.com/search/?query=477529"]
[477539,"Horganyzott acélhuzal 1,2 mm, hossza 50 m// MTX",780,"B","Active",{"$f":"VLOOKUP(A4709,[1]Sheet1!$A$1:$C$65512,3,FALSE)","v":363},null,null,"No info","линк","https://bg.toolsworld.com/search/?query=","https://bg.toolsworld.com/search/?query=477539"]
[477549,"Horganyzott acélhuzal 1,5 mm, hossza 50 m// MTX",1111,"B","Active",{"$f":"VLOOKUP(A4710,[1]Sheet1!$A$1:$C$65512,3,FALSE)","v":{"$error":"#N/A"}},null,null,"No info","линк","https://bg.toolsworld.com/search/?query=","https://bg.toolsworld.com/search/?query=477549"]
[477569,"Horganyzott acélhuzal 2,0 mm, hossza 50 m// MTX",1778,"B","Active",{"$f":"VLOOKUP(A4711,[1]Sheet1!$A$1:$C$65512,3,FALSE)","v":4},null,null,"No info","линк","https://bg.toolsworld.com/search/?query=","https://bg.toolsworld.com/search/?query=477569"]
[477709,"Horganyzott acélhuzal, PVC bevonat, zöld 0,9 mm, hossz 50 m// MTX",454,"B","Active",{"$f":"VLOOKUP(A4712,[1]Sheet1!$A$1:$C$65512,3,FALSE)","v":{"$error":"#N/A"}},null,null,"No info","линк","https://bg.toolsworld.com/search/?query=","https://bg.toolsworld.com/search/?query=477709"]
[477719,"Horganyzott acélhuzal, PVC bevonat, zöld 1,2 mm, hossza 50 m// MTX",569,"B","Active",{"$f":"VLOOKUP(A4713,[1]Sheet1!$A$1:$C$65512,3,FALSE)","v":{"$error":"#N/A"}},null,null,"No info","линк","https://bg.toolsworld.com/search/?query=",{"$f":"CONCATENATE(K4713,A4713)","v":"https://bg.toolsworld.com/search/?query=477719"}]
[477729,"Horganyzott acélhuzal, PVC bevonat, zöld 1,5 mm, hossz 50 m// MTX",770,"B","Active",{"$f":"VLOOKUP(A4714,[1]Sheet1!$A$1:$C$65512,3,FALSE)","v":{"$error":"#N/A"}},null,null,"No info","линк","https://bg.toolsworld.com/search/?query=","https://bg.toolsworld.com/search/?query=477729"]
[573669,"AS 802 HVLP szórópisztoly, professzionális, fogyasztási típus, fúvóka 1,4mm// Stels",14324,"B","Active",{"$f":"VLOOKUP(A4715,[1]Sheet1!$A$1:$C$65512,3,FALSE)","v":297},null,null,"No info","линк","https://bg.toolsworld.com/search/?query=","https://bg.toolsworld.com/search/?query=573669"]
[573677,"AG 950 LVLP szórópisztoly, professzionális, gravitációs típusú, fúvóka 1,5mm// Stels",15711,"B","Active",{"$f":"VLOOKUP(A4716,[1]Sheet1!$A$1:$C$65512,3,FALSE)","v":326},null,null,"No info","линк","https://bg.toolsworld.com/search/?query=","https://bg.toolsworld.com/search/?query=573677"]
[573687,"AS 951 LVLP szórópisztoly, professzionális, fogyasztási típus, fúvóka 1,5 mm// Stels",15862,"B","Active",{"$f":"VLOOKUP(A4717,[1]Sheet1!$A$1:$C$65512,3,FALSE)","v":358},null,null,"No info","линк","https://bg.toolsworld.com/search/?query=","https://bg.toolsworld.com/search/?query=573687"]
[616717,"Műanyag hókotró, 410x320x1230 mm, fa nyél// Palisad",2991,"B","Active",{"$f":"VLOOKUP(A4718,[1]Sheet1!$A$1:$C$65512,3,FALSE)","v":472},null,null,"No info","линк","https://bg.toolsworld.com/search/?query=","https://bg.toolsworld.com/search/?query=616717"]
[616737,"Műanyag hókotró, 370x300x1150 mm, fa nyél// Palisad",2773,"B","Active",{"$f":"VLOOKUP(A4719,[1]Sheet1!$A$1:$C$65512,3,FALSE)","v":576},null,null,"No info","линк","https://bg.toolsworld.com/search/?query=","https://bg.toolsworld.com/search/?query=616737"]
[677418,"Kerti poliészter kesztyű, tenyér nitril bevonatú, zöld, S// PALISAD",452,"B","Active",{"$f":"VLOOKUP(A4720,[1]Sheet1!$A$1:$C$65512,3,FALSE)","v":66},null,null,"No info","линк","https://bg.toolsworld.com/search/?query=","https://bg.toolsworld.com/search/?query=677418"]
[814649,"Műanyag építési vödör, ütésálló, 20 L// MTX",1100,"B","Active",{"$f":"VLOOKUP(A4721,[1]Sheet1!$A$1:$C$65512,3,FALSE)","v":2707},null,null,"No info","линк","https://bg.toolsworld.com/search/?query=","https://bg.toolsworld.com/search/?query=814649"]
[848369,"Függő ón, hengeres 100gr 5m-es zsinórral// MTX",515,"B","Active",{"$f":"VLOOKUP(A4722,[1]Sheet1!$A$1:$C$65512,3,FALSE)","v":{"$error":"#N/A"}},null,null,"No info","линк","https://bg.toolsworld.com/search/?query=","https://bg.toolsworld.com/search/?query=848369"]
[1020477,"Gépészkalapács fa nyéllel, 200 g, szögletes toll// Sparta",798,"B","Active",{"$f":"VLOOKUP(A4723,[1]Sheet1!$A$1:$C$65512,3,FALSE)","v":841},null,null,"No info","линк","https://bg.toolsworld.com/search/?query=","https://bg.toolsworld.com/search/?query=1020477"]
[218827,"Balta, 680 g, fa nyél, 360 mm, EFP//Denzel",3046,"B","Active",{"$f":"VLOOKUP(A4724,[1]Sheet1!$A$1:$C$65512,3,FALSE)","v":{"$error":"#N/A"}},null,null,"No info",{"$f":"HYPERLINK(L4724,\"линк\")","v":"линк"},"https://bg.toolsworld.com/search/?query=","https://bg.toolsworld.com/search/?query=218827"]
[218837,"Balta, 900 g, fa nyél, 430mm, EFP//Denzel",3599,"B","Active",{"$f":"VLOOKUP(A4725,[1]Sheet1!$A$1:$C$65512,3,FALSE)","v":149},null,null,"No info","линк","https://bg.toolsworld.com/search/?query=","https://bg.toolsworld.com/search/?query=218837"]
[218847,"Balta, 1130 g, fa nyél, 430 mm, EFP//Denzel",4124,"B","Active",{"$f":"VLOOKUP(A4726,[1]Sheet1!$A$1:$C$65512,3,FALSE)","v":423},null,null,"No info","линк","https://bg.toolsworld.com/search/?query=","https://bg.toolsworld.com/search/?query=218847"]
[218857,"Balta, 1360 g, fa nyél, 700mm, EFP//Denzel",5591,"B","Active",{"$f":"VLOOKUP(A4727,[1]Sheet1!$A$1:$C$65512,3,FALSE)","v":160},null,null,"No info","линк","https://bg.toolsworld.com/search/?query=","https://bg.toolsworld.com/search/?query=218857"]
[218907,"Balta, 680 g, 2 komponensű nyél, 360mm//Denzel",3046,"B","Active",{"$f":"VLOOKUP(A4728,[1]Sheet1!$A$1:$C$65512,3,FALSE)","v":203},null,null,"No info","линк","https://bg.toolsworld.com/search/?query=","https://bg.toolsworld.com/search/?query=218907"]
[218917,"Balta, 900 g, 2 komponensű nyél, 430mm//Denzel",3652,"B","Active",{"$f":"VLOOKUP(A4729,[1]Sheet1!$A$1:$C$65512,3,FALSE)","v":217},null,null,"No info","линк","https://bg.toolsworld.com/search/?query=","https://bg.toolsworld.com/search/?query=218917"]
[218927,"Balta, 1130 g, 2 komponensű nyél, 430mm//Denzel",4162,"B","Active",{"$f":"VLOOKUP(A4730,[1]Sheet1!$A$1:$C$65512,3,FALSE)","v":269},null,null,"No info","линк","https://bg.toolsworld.com/search/?query=","https://bg.toolsworld.com/search/?query=218927"]
[218937,"Balta, 1360 g, 2 komponensű nyél, 700mm//Denzel",5601,"B","Active",{"$f":"VLOOKUP(A4731,[1]Sheet1!$A$1:$C$65512,3,FALSE)","v":193},null,null,"No info","линк","https://bg.toolsworld.com/search/?query=","https://bg.toolsworld.com/search/?query=218937"]
[675668,"Vödör 10 l, horganyzott// Palisad",1558,"B","Active",{"$f":"VLOOKUP(A4732,[1]Sheet1!$A$1:$C$65512,3,FALSE)","v":2365},null,null,"No info","линк","https://bg.toolsworld.com/search/?query=","https://bg.toolsworld.com/search/?query=675668"]
[675918,"Vödör 12 l, horganyzott// Palisad",1776,"B","Active",{"$f":"VLOOKUP(A4733,[1]Sheet1!$A$1:$C$65512,3,FALSE)","v":5597},null,null,"No info","линк","https://bg.toolsworld.com/search/?query=","https://bg.toolsworld.com/search/?query=675918"]
[675928,"Vödör 15 l, horganyzott// Palisad",1990,"B","Active",{"$f":"VLOOKUP(A4734,[1]Sheet1!$A$1:$C$65512,3,FALSE)","v":3361},null,null,"No info","линк","https://bg.toolsworld.com/search/?query=","https://bg.toolsworld.com/search/?query=675928"]
[11460,"Bit PH2x25 mm gipszkarton dugóval, 2 db, CrMo// Сибртех",255,"B","Active",{"$f":"VLOOKUP(A4735,[1]Sheet1!$A$1:$C$65512,3,FALSE)","v":{"$error":"#N/A"}},null,null,"No info","линк","https://bg.toolsworld.com/search/?query=","https://bg.toolsworld.com/search/?query=11460"]
[11494,"Torziós bitkészlet, PH3x50mm, ütvefúróhoz, 10 db.// Gross",1354,"B","Active",{"$f":"VLOOKUP(A4736,[1]Sheet1!$A$1:$C$65512,3,FALSE)","v":59},null,null,"No info","линк","https://bg.toolsworld.com/search/?query=","https://bg.toolsworld.com/search/?query=11494"]
[13905,"Hosszabbító rúd 150mm 3/8\" DR// Stels",719,"B","Active",{"$f":"VLOOKUP(A4737,[1]Sheet1!$A$1:$C$65512,3,FALSE)","v":22},null,null,"No info","линк","https://bg.toolsworld.com/search/?query=","https://bg.toolsworld.com/search/?query=13905"]
[14007,"Racsnis kulcs, kétkomponensű fogantyú 1/4\"// Сибртех",2311,"B","Active",{"$f":"VLOOKUP(A4738,[1]Sheet1!$A$1:$C$65512,3,FALSE)","v":{"$error":"#N/A"}},null,null,"No info","линк","https://bg.toolsworld.com/search/?query=","https://bg.toolsworld.com/search/?query=14007"]
[14232,"Sarokkulcs, bejárat 11 мм// Stels",588,"B","Active",{"$f":"VLOOKUP(A4739,[1]Sheet1!$A$1:$C$65512,3,FALSE)","v":{"$error":"#N/A"}},null,null,"No info","линк","https://bg.toolsworld.com/search/?query=","https://bg.toolsworld.com/search/?query=14232"]
[15790,"Vízvezeték-szerelő kar villáskulcs KTR-2 (NIZ) Russia",5521,"B","Active",{"$f":"VLOOKUP(A4740,[1]Sheet1!$A$1:$C$65512,3,FALSE)","v":{"$error":"#N/A"}},null,null,"No info","линк","https://bg.toolsworld.com/search/?query=","https://bg.toolsworld.com/search/?query=15790"]
[17052,"200 mm-es kombinált fogó kétkomponensű nyéllel// Сибртех",1656,"B","Active",{"$f":"VLOOKUP(A4741,[1]Sheet1!$A$1:$C$65512,3,FALSE)","v":168},null,null,"No info","линк","https://bg.toolsworld.com/search/?query=","https://bg.toolsworld.com/search/?query=17052"]
[20786,"Power Clamp (két tónusú), műanyag test, kétkomponensű fogantyú, erõsített rugó, 2-3/4\"/70mm// Сибртех",698,"B","Active",{"$f":"VLOOKUP(A4742,[1]Sheet1!$A$1:$C$65512,3,FALSE)","v":168},null,null,"No info","линк","https://bg.toolsworld.com/search/?query=","https://bg.toolsworld.com/search/?query=20786"]
[31314,"Mérőszalag Elastica, 10 m * 25 mm, gumi test// Sparta",1220,"B","Active",{"$f":"VLOOKUP(A4743,[1]Sheet1!$A$1:$C$65512,3,FALSE)","v":{"$error":"#N/A"}},null,null,"No info","линк","https://bg.toolsworld.com/search/?query=","https://bg.toolsworld.com/search/?query=31314"]
[54361,"Bungee zsinórok, megerősített, 2db, 1000 mm// Stels",680,"B","Active",{"$f":"VLOOKUP(A4744,[1]Sheet1!$A$1:$C$65512,3,FALSE)","v":{"$error":"#N/A"}},null,null,"No info","линк","https://bg.toolsworld.com/search/?query=","https://bg.toolsworld.com/search/?query=54361"]
[57027,"Légtömlő PVC, 10x16mm, 18 bar, megerősített, átlátszó, gyorscsatlakozó, 30 m// Stels",13241,"B","Active",{"$f":"VLOOKUP(A4745,[1]Sheet1!$A$1:$C$65512,3,FALSE)","v":{"$error":"#N/A"}},null,null,"No info","линк","https://bg.toolsworld.com/search/?query=","https://bg.toolsworld.com/search/?query=57027"]
[64364,"Faiskola edény, 80x80 mm, tőzeg, 5 db// Russia",200,"B","Active",{"$f":"VLOOKUP(A4746,[1]Sheet1!$A$1:$C$65512,3,FALSE)","v":68},null,null,"No info","линк","https://bg.toolsworld.com/search/?query=","https://bg.toolsworld.com/search/?query=64364"]
[70679,"SDS Plus PRO Hammer fúrószár, 8 х 310 mm// Gross",3167,"B","Active",{"$f":"VLOOKUP(A4747,[1]Sheet1!$A$1:$C$65512,3,FALSE)","v":{"$error":"#N/A"}},null,null,"No info","линк","https://bg.toolsworld.com/search/?query=","https://bg.toolsworld.com/search/?query=70679"]
[73006,"Szegmentált gyémánt fűrészlap ф180х22,2mm, lézerhegesztett, száraz vágás// Gross",7958,"B","Active",{"$f":"VLOOKUP(A4748,[1]Sheet1!$A$1:$C$65512,3,FALSE)","v":{"$error":"#N/A"}},null,null,"No info","линк","https://bg.toolsworld.com/search/?query=","https://bg.toolsworld.com/search/?query=73006"]
[78253,"Szúrófűrészlap készlet fához, 5 db// Gross",1572,"B","Active",{"$f":"VLOOKUP(A4749,[1]Sheet1!$A$1:$C$65512,3,FALSE)","v":38},null,null,"No info","линк","https://bg.toolsworld.com/search/?query=","https://bg.toolsworld.com/search/?query=78253"]
[78277,"Szúrófűrészlap fémhez, 2 db ( 3111 - T118A )// Gross",782,"B","Active",{"$f":"VLOOKUP(A4750,[1]Sheet1!$A$1:$C$65512,3,FALSE)","v":{"$error":"#N/A"}},null,null,"No info","линк","https://bg.toolsworld.com/search/?query=","https://bg.toolsworld.com/search/?query=78277"]
[91627,"Lakat ЗН2-26, 50mm// Сибртех",550,"B","Active",{"$f":"VLOOKUP(A4751,[1]Sheet1!$A$1:$C$65512,3,FALSE)","v":{"$error":"#N/A"}},null,null,"No info","линк","https://bg.toolsworld.com/search/?query=","https://bg.toolsworld.com/search/?query=91627"]
[94284,"Fúvóka teflon 32, 40 mm műanyagcső hegesztőgéphez// Kronwerk",1098,"B","Active",{"$f":"VLOOKUP(A4752,[1]Sheet1!$A$1:$C$65512,3,FALSE)","v":{"$error":"#N/A"}},null,null,"No info","линк","https://bg.toolsworld.com/search/?query=","https://bg.toolsworld.com/search/?query=94284"]
[94286,"Teflon fúvóka 20, 25, 32, 40 mm műanyag csőhegesztő géphez// Kronwerk",2586,"B","Active",{"$f":"VLOOKUP(A4753,[1]Sheet1!$A$1:$C$65512,3,FALSE)","v":41},null,null,"No info","линк","https://bg.toolsworld.com/search/?query=","https://bg.toolsworld.com/search/?query=94286"]
[96113,"Zsinór trimmerhez csillag alakú, 3,0mm x 15m, buborékfólia FLEX CORD// Denzel",503,"B","Active",{"$f":"VLOOKUP(A4754,[1]Sheet1!$A$1:$C$65512,3,FALSE)","v":{"$error":"#N/A"}},null,null,"No info","линк","https://bg.toolsworld.com/search/?query=","https://bg.toolsworld.com/search/?query=96113"]
[96117,"Zsinór szögletes trimmerhez, 3,0mm x 15m, buborékfólia FLEX CORD// Denzel",687,"B","Active",{"$f":"VLOOKUP(A4755,[1]Sheet1!$A$1:$C$65512,3,FALSE)","v":{"$error":"#N/A"}},null,null,"No info","линк","https://bg.toolsworld.com/search/?query=","https://bg.toolsworld.com/search/?query=96117"]
[96118,"Környíró zsinór, 2,0mm x 63m, buborékfólia FLEX CORD// Denzel",1088,"B","Active",{"$f":"VLOOKUP(A4756,[1]Sheet1!$A$1:$C$65512,3,FALSE)","v":{"$error":"#N/A"}},null,null,"No info","линк","https://bg.toolsworld.com/search/?query=","https://bg.toolsworld.com/search/?query=96118"]
[96123,"Zsinór szögletes trimmerhez, 2,4mm × 40m, buborékfólia FLEX CORD// Denzel",1088,"B","Active",{"$f":"VLOOKUP(A4757,[1]Sheet1!$A$1:$C$65512,3,FALSE)","v":{"$error":"#N/A"}},null,null,"No info","линк","https://bg.toolsworld.com/search/?query=","https://bg.toolsworld.com/search/?query=96123"]
[96145,"Zsinór trimmerhez, kerek, 2,0mm x 15m// Denzel",432,"B","Active",{"$f":"VLOOKUP(A4758,[1]Sheet1!$A$1:$C$65512,3,FALSE)","v":{"$error":"#N/A"}},null,null,"No info","линк","https://bg.toolsworld.com/search/?query=","https://bg.toolsworld.com/search/?query=96145"]
[96155,"Zsinór négyzetes trimmerhez 2,0mm x 15m// Denzel",446,"B","Active",{"$f":"VLOOKUP(A4759,[1]Sheet1!$A$1:$C$65512,3,FALSE)","v":5},null,null,"No info","линк","https://bg.toolsworld.com/search/?query=","https://bg.toolsworld.com/search/?query=96155"]
[310369,"Mérőszalag, 3m x13mm, zseb, króm test// MTX",597,"B","Active",{"$f":"VLOOKUP(A4760,[1]Sheet1!$A$1:$C$65512,3,FALSE)","v":{"$error":"#N/A"}},null,null,"No info","линк","https://bg.toolsworld.com/search/?query=","https://bg.toolsworld.com/search/?query=310369"]
[650447,"Díszkerítés, 1,0x0,85 m// Palisad",1508,"B","Active",{"$f":"VLOOKUP(A4761,[1]Sheet1!$A$1:$C$65512,3,FALSE)","v":{"$error":"#N/A"}},null,null,"No info","линк","https://bg.toolsworld.com/search/?query=","https://bg.toolsworld.com/search/?query=650447"]
[677638,"Pamut kerti kesztyű, PVC pöttyök a tenyéren és az ujjakon, kötött csukló, L// Palisad",466,"B","Active",{"$f":"VLOOKUP(A4762,[1]Sheet1!$A$1:$C$65512,3,FALSE)","v":{"$error":"#N/A"}},null,null,"No info","линк","https://bg.toolsworld.com/search/?query=","https://bg.toolsworld.com/search/?query=677638"]
[691347,"Rács, mintás, 0,35х1,3 m// Palisad",1913,"B","Active",{"$f":"VLOOKUP(A4763,[1]Sheet1!$A$1:$C$65512,3,FALSE)","v":{"$error":"#N/A"}},null,null,"No info","линк","https://bg.toolsworld.com/search/?query=","https://bg.toolsworld.com/search/?query=691347"]
[702397,"Famegmunkáló csigafúró, 12 mm, egyenes szár// SPARTA",239,"B","Active",{"$f":"VLOOKUP(A4764,[1]Sheet1!$A$1:$C$65512,3,FALSE)","v":202},null,null,"No info","линк","https://bg.toolsworld.com/search/?query=","https://bg.toolsworld.com/search/?query=702397"]
[726389,"Galvanizált gyémánt lyukfűrész, 38 x 67 mm háromszög szár// MTX",2798,"B","Active",{"$f":"VLOOKUP(A4765,[1]Sheet1!$A$1:$C$65512,3,FALSE)","v":{"$error":"#N/A"}},null,null,"No info","линк","https://bg.toolsworld.com/search/?query=","https://bg.toolsworld.com/search/?query=726389"]
[775635,"Mini fémfűrész keret, 300mm műanyag tartó fogantyúval// Sparta",206,"B","Active",{"$f":"VLOOKUP(A4766,[1]Sheet1!$A$1:$C$65512,3,FALSE)","v":{"$error":"#N/A"}},null,null,"No info","линк","https://bg.toolsworld.com/search/?query=","https://bg.toolsworld.com/search/?query=775635"]
[807609,"NYLON festőhenger, 180 mm, cölöp 18 mm, D 48 mm, fogantyú D 8 mm// MTX",879,"B","Active",{"$f":"VLOOKUP(A4767,[1]Sheet1!$A$1:$C$65512,3,FALSE)","v":{"$error":"#N/A"}},null,null,"No info","линк","https://bg.toolsworld.com/search/?query=","https://bg.toolsworld.com/search/?query=807609"]
[7734917,"5 1/2\" torpedószint, 4 fiola, eloxált// Denzel",8590,"B","Active",{"$f":"VLOOKUP(A4768,[1]Sheet1!$A$1:$C$65512,3,FALSE)","v":2},null,null,"No info","линк","https://bg.toolsworld.com/search/?query=","https://bg.toolsworld.com/search/?query=7734917"]
[7734919,"9\" torpedószint, 4 fiola, eloxált// Denzel",9170,"B","Active",{"$f":"VLOOKUP(A4769,[1]Sheet1!$A$1:$C$65512,3,FALSE)","v":2},null,null,"No info","линк","https://bg.toolsworld.com/search/?query=","https://bg.toolsworld.com/search/?query=7734919"]
[9771277,"Alumínium létra, 3 lépcsős, Russia// MTX",10612,"B","Active",{"$f":"VLOOKUP(A4770,[1]Sheet1!$A$1:$C$65512,3,FALSE)","v":{"$error":"#N/A"}},null,null,"No info","линк","https://bg.toolsworld.com/search/?query=","https://bg.toolsworld.com/search/?query=9771277"]
[10913,"pörölykalapács, 1000 g, üvegszálas gumi nyél// Sparta",2266,"B","Active",{"$f":"VLOOKUP(A4771,[1]Sheet1!$A$1:$C$65512,3,FALSE)","v":{"$error":"#N/A"}},null,null,"No info",{"$f":"HYPERLINK(L4771,\"линк\")","v":"линк"},"https://bg.toolsworld.com/search/?query=","https://bg.toolsworld.com/search/?query=10913"]
[10915,"pörölykalapács, 1500 g, üvegszálas gumi nyél// Sparta",2881,"B","Active",{"$f":"VLOOKUP(A4772,[1]Sheet1!$A$1:$C$65512,3,FALSE)","v":{"$error":"#N/A"}},null,null,"No info","линк","https://bg.toolsworld.com/search/?query=","https://bg.toolsworld.com/search/?query=10915"]
[13636,"1/2\" DR gyújtógyertya foglalat, 16mm// Stels",411,"B","Active",{"$f":"VLOOKUP(A4773,[1]Sheet1!$A$1:$C$65512,3,FALSE)","v":240},null,null,"No info","линк","https://bg.toolsworld.com/search/?query=","https://bg.toolsworld.com/search/?query=13636"]
[17165,"160 mm hosszú fogó kétkomponensű fogantyúval, polírozott, Comfort line// Sparta",1175,"B","Active",{"$f":"VLOOKUP(A4774,[1]Sheet1!$A$1:$C$65512,3,FALSE)","v":{"$error":"#N/A"}},null,null,"No info","линк","https://bg.toolsworld.com/search/?query=","https://bg.toolsworld.com/search/?query=17165"]
[20564,"Gyorszáras F-bilincs, 200*70*420 mm, műanyag ház, rögzítővel, kétkomponensű markolat// Sibrtech",2346,"B","Active",{"$f":"VLOOKUP(A4775,[1]Sheet1!$A$1:$C$65512,3,FALSE)","v":21},null,null,"No info","линк","https://bg.toolsworld.com/search/?query=","https://bg.toolsworld.com/search/?query=20564"]
[31304,"Mérőszalag Classic, 7,5 m * 24 mm, műanyag test// Sparta",813,"B","Active",{"$f":"VLOOKUP(A4776,[1]Sheet1!$A$1:$C$65512,3,FALSE)","v":{"$error":"#N/A"}},null,null,"No info","линк","https://bg.toolsworld.com/search/?query=",{"$f":"CONCATENATE(K4776,A4776)","v":"https://bg.toolsworld.com/search/?query=31304"}]
[31305,"Mérőszalag Classic, 10 m * 25 mm, műanyag test// Sparta",1157,"B","Active",{"$f":"VLOOKUP(A4777,[1]Sheet1!$A$1:$C$65512,3,FALSE)","v":{"$error":"#N/A"}},null,null,"No info","линк","https://bg.toolsworld.com/search/?query=","https://bg.toolsworld.com/search/?query=31305"]
[47585,"Rozsdamentes tömlőbilincsek szabványos csavarral 60-80 mm, szélesség 9 mm, 50 db.// Sibrtech",5713,"B","Active",{"$f":"VLOOKUP(A4778,[1]Sheet1!$A$1:$C$65512,3,FALSE)","v":1},null,null,"No info","линк","https://bg.toolsworld.com/search/?query=","https://bg.toolsworld.com/search/?query=47585"]
[47592,"Rozsdamentes tömlőbilincsek szabványos csavarral 130-150 mm, szélesség 9 mm, 25 db.// Sibrtech",3954,"B","Active",{"$f":"VLOOKUP(A4779,[1]Sheet1!$A$1:$C$65512,3,FALSE)","v":11},null,null,"No info","линк","https://bg.toolsworld.com/search/?query=","https://bg.toolsworld.com/search/?query=47592"]
[57025,"PVC légtömlő, 10x16mm, 18 bar, megerősített, átlátszó, gyorscsatlakozó, 15 m// Stels",7885,"B","Active",{"$f":"VLOOKUP(A4780,[1]Sheet1!$A$1:$C$65512,3,FALSE)","v":{"$error":"#N/A"}},null,null,"No info","линк","https://bg.toolsworld.com/search/?query=","https://bg.toolsworld.com/search/?query=57025"]
[60035,"Női komfort papucs, 36-os méret// Russia",2662,"B","Active",{"$f":"VLOOKUP(A4781,[1]Sheet1!$A$1:$C$65512,3,FALSE)","v":{"$error":"#N/A"}},null,null,"No info","линк","https://bg.toolsworld.com/search/?query=","https://bg.toolsworld.com/search/?query=60035"]
[60036,"Női komfort papucs, 37-es méret// Russia",2662,"B","Active",{"$f":"VLOOKUP(A4782,[1]Sheet1!$A$1:$C$65512,3,FALSE)","v":2108},null,null,"No info","линк","https://bg.toolsworld.com/search/?query=","https://bg.toolsworld.com/search/?query=60036"]
[60037,"Női komfort papucs, 38-as méret// Russia",2662,"B","Active",{"$f":"VLOOKUP(A4783,[1]Sheet1!$A$1:$C$65512,3,FALSE)","v":1112},null,null,"No info","линк","https://bg.toolsworld.com/search/?query=","https://bg.toolsworld.com/search/?query=60037"]
[60038,"Női komfort papucs, 39-es méret// Russia",2662,"B","Active",{"$f":"VLOOKUP(A4784,[1]Sheet1!$A$1:$C$65512,3,FALSE)","v":1336},null,null,"No info","линк","https://bg.toolsworld.com/search/?query=","https://bg.toolsworld.com/search/?query=60038"]
[60040,"Férfi komfort papucs, 41-es méret// Russia",2662,"B","Active",{"$f":"VLOOKUP(A4785,[1]Sheet1!$A$1:$C$65512,3,FALSE)","v":1654},null,null,"No info","линк","https://bg.toolsworld.com/search/?query=","https://bg.toolsworld.com/search/?query=60040"]
[60041,"Férfi komfort papucs, 42-es méret// Russia",2662,"B","Active",{"$f":"VLOOKUP(A4786,[1]Sheet1!$A$1:$C$65512,3,FALSE)","v":888},null,null,"No info","линк","https://bg.toolsworld.com/search/?query=","https://bg.toolsworld.com/search/?query=60041"]
[60042,"Férfi komfort papucs, 43-as méret// Russia",2662,"B","Active",{"$f":"VLOOKUP(A4787,[1]Sheet1!$A$1:$C$65512,3,FALSE)","v":399},null,null,"No info","линк","https://bg.toolsworld.com/search/?query=","https://bg.toolsworld.com/search/?query=60042"]
[60043,"Férfi komfort papucs, 44-es méret// Russia",2662,"B","Active",{"$f":"VLOOKUP(A4788,[1]Sheet1!$A$1:$C$65512,3,FALSE)","v":365},null,null,"No info","линк","https://bg.toolsworld.com/search/?query=","https://bg.toolsworld.com/search/?query=60043"]
[62614,"Széles simító, 70 × 310 mm, acél, fa nyél, Russia// Sibrtech",292,"B","Active",{"$f":"VLOOKUP(A4789,[1]Sheet1!$A$1:$C$65512,3,FALSE)","v":{"$error":"#N/A"}},null,null,"No info","линк","https://bg.toolsworld.com/search/?query=","https://bg.toolsworld.com/search/?query=62614"]
[63207,"Polipropilén seprű, 270õ260 mm, lapos bolyhos, nyél nélkül, Russia// Sibrtech",1065,"B","Active",{"$f":"VLOOKUP(A4790,[1]Sheet1!$A$1:$C$65512,3,FALSE)","v":154},null,null,"No info","линк","https://bg.toolsworld.com/search/?query=","https://bg.toolsworld.com/search/?query=63207"]
[68443,"Fa nyél, 25õ1200 mm, második osztály// Russia",340,"B","Active",{"$f":"VLOOKUP(A4791,[1]Sheet1!$A$1:$C$65512,3,FALSE)","v":{"$error":"#N/A"}},null,null,"No info","линк","https://bg.toolsworld.com/search/?query=","https://bg.toolsworld.com/search/?query=68443"]
[69134,"Rács, mintás, 0,35õ1,3 m// Russia",1913,"B","Active",{"$f":"VLOOKUP(A4792,[1]Sheet1!$A$1:$C$65512,3,FALSE)","v":{"$error":"#N/A"}},null,null,"No info","линк","https://bg.toolsworld.com/search/?query=","https://bg.toolsworld.com/search/?query=69134"]
[78268,"Szúrófűrészlap fához, 2 db ( 3104 - T144D )//GROSS",637,"B","Active",{"$f":"VLOOKUP(A4793,[1]Sheet1!$A$1:$C$65512,3,FALSE)","v":{"$error":"#N/A"}},null,null,"No info","линк","https://bg.toolsworld.com/search/?query=","https://bg.toolsworld.com/search/?query=78268"]
[85432,"Kaparó műanyag nyéllel, rozsdamentes acél, 60mm// Sibrtech",203,"B","Active",{"$f":"VLOOKUP(A4794,[1]Sheet1!$A$1:$C$65512,3,FALSE)","v":7},null,null,"No info","линк","https://bg.toolsworld.com/search/?query=","https://bg.toolsworld.com/search/?query=85432"]
[88673,"Habpisztoly, könnyű test// Sparta",2297,"B","Active",{"$f":"VLOOKUP(A4795,[1]Sheet1!$A$1:$C$65512,3,FALSE)","v":{"$error":"#N/A"}},null,null,"No info","линк","https://bg.toolsworld.com/search/?query=","https://bg.toolsworld.com/search/?query=88673"]
[90704,"Szerszámosláda 17\", 420x220x180 mm, műanyag, Russia// Stels",2503,"B","Active",{"$f":"VLOOKUP(A4796,[1]Sheet1!$A$1:$C$65512,3,FALSE)","v":{"$error":"#N/A"}},null,null,"No info","линк","https://bg.toolsworld.com/search/?query=","https://bg.toolsworld.com/search/?query=90704"]
[95422,"Betonkeverő gép B-160, 700 W, 160 l Denzel",154015,"B","Active",{"$f":"VLOOKUP(A4797,[1]Sheet1!$A$1:$C$65512,3,FALSE)","v":4},null,null,"No info","линк","https://bg.toolsworld.com/search/?query=","https://bg.toolsworld.com/search/?query=95422"]
[96107,"Környíró zsinór, 2,0mm õ 15m, buborékfólia FLEX CORD// Denzel",419,"B","Active",{"$f":"VLOOKUP(A4798,[1]Sheet1!$A$1:$C$65512,3,FALSE)","v":{"$error":"#N/A"}},null,null,"No info","линк","https://bg.toolsworld.com/search/?query=","https://bg.toolsworld.com/search/?query=96107"]
[96121,"Zsinór trimmerhez csillag alakú, 2,4mm õ 58m, buborékfólia FLEX CORD// Denzel",1060,"B","Active",{"$f":"VLOOKUP(A4799,[1]Sheet1!$A$1:$C$65512,3,FALSE)","v":{"$error":"#N/A"}},null,null,"No info","линк","https://bg.toolsworld.com/search/?query=","https://bg.toolsworld.com/search/?query=96121"]
[96141,"Zsinór trimmerhez, kerek, 1,3mm x 15m// Denzel",346,"B","Active",{"$f":"VLOOKUP(A4800,[1]Sheet1!$A$1:$C$65512,3,FALSE)","v":2},null,null,"No info","линк","https://bg.toolsworld.com/search/?query=","https://bg.toolsworld.com/search/?query=96141"]
[96147,"Vágózsinór, kerek, 2,4 mm x 15 m Denzel Russia",552,"B","Active",{"$f":"VLOOKUP(A4801,[1]Sheet1!$A$1:$C$65512,3,FALSE)","v":{"$error":"#N/A"}},null,null,"No info","линк","https://bg.toolsworld.com/search/?query=","https://bg.toolsworld.com/search/?query=96147"]
[206625,"G-bilincs 150mm// Sparta",2183,"B","Active",{"$f":"VLOOKUP(A4802,[1]Sheet1!$A$1:$C$65512,3,FALSE)","v":{"$error":"#N/A"}},null,null,"No info","линк","https://bg.toolsworld.com/search/?query=","https://bg.toolsworld.com/search/?query=206625"]
[206685,"G-bilincs 250mm// Sparta",4828,"B","Active",{"$f":"VLOOKUP(A4803,[1]Sheet1!$A$1:$C$65512,3,FALSE)","v":{"$error":"#N/A"}},null,null,"No info","линк","https://bg.toolsworld.com/search/?query=","https://bg.toolsworld.com/search/?query=206685"]
[206755,"3 db G-bilincs készlet 25-50-75mm// Sparta",1560,"B","Active",{"$f":"VLOOKUP(A4804,[1]Sheet1!$A$1:$C$65512,3,FALSE)","v":{"$error":"#N/A"}},null,null,"No info","линк","https://bg.toolsworld.com/search/?query=","https://bg.toolsworld.com/search/?query=206755"]
[310019,"Gumi mérőszalag 7,5m x 25mm, gumi test// MTX",1179,"B","Active",{"$f":"VLOOKUP(A4805,[1]Sheet1!$A$1:$C$65512,3,FALSE)","v":{"$error":"#N/A"}},null,null,"No info","линк","https://bg.toolsworld.com/search/?query=","https://bg.toolsworld.com/search/?query=310019"]
[574687,"Air Hammer + fejkészlet, ÍÐ4500, 113 L/perc, 4500 BPM//Denzel",6907,"B","Active",{"$f":"VLOOKUP(A4806,[1]Sheet1!$A$1:$C$65512,3,FALSE)","v":252},null,null,"No info","линк","https://bg.toolsworld.com/search/?query=","https://bg.toolsworld.com/search/?query=574687"]
[605228,"Bypass lopper, 750 mm, kétkaros mechanizmus, két komponensű fogantyú// Palisad",4792,"B","Active",{"$f":"VLOOKUP(A4807,[1]Sheet1!$A$1:$C$65512,3,FALSE)","v":{"$error":"#N/A"}},null,null,"No info","линк","https://bg.toolsworld.com/search/?query=","https://bg.toolsworld.com/search/?query=605228"]
[614498,"Kerek hegyű lapát, 2 komponensű nyél, 1250mm// PALISAD",2750,"B","Active",{"$f":"VLOOKUP(A4808,[1]Sheet1!$A$1:$C$65512,3,FALSE)","v":{"$error":"#N/A"}},null,null,"No info","линк","https://bg.toolsworld.com/search/?query=","https://bg.toolsworld.com/search/?query=614498"]
[645217,"Rácsos szita tekercsben 1x20 m, cella 83x83 mm, műanyag, zöld// Palisad",7390,"B","Active",{"$f":"VLOOKUP(A4809,[1]Sheet1!$A$1:$C$65512,3,FALSE)","v":{"$error":"#N/A"}},null,null,"No info","линк","https://bg.toolsworld.com/search/?query=","https://bg.toolsworld.com/search/?query=645217"]
[646007,"Faágtámasz, állítható// Palisad",1622,"B","Active",{"$f":"VLOOKUP(A4810,[1]Sheet1!$A$1:$C$65512,3,FALSE)","v":{"$error":"#N/A"}},null,null,"No info","линк","https://bg.toolsworld.com/search/?query=","https://bg.toolsworld.com/search/?query=646007"]
[723455,"13 db Csigafúró készlet 1,5-6,5mm műanyag doboz HSS// Sparta",442,"B","Active",{"$f":"VLOOKUP(A4811,[1]Sheet1!$A$1:$C$65512,3,FALSE)","v":{"$error":"#N/A"}},null,null,"No info","линк","https://bg.toolsworld.com/search/?query=","https://bg.toolsworld.com/search/?query=723455"]
[886325,"Tömítő pisztoly 310 ml félig nyitott, 8 mm-es kerek rúd, nagy teherbírás// Sparta",1739,"B","Active",{"$f":"VLOOKUP(A4812,[1]Sheet1!$A$1:$C$65512,3,FALSE)","v":{"$error":"#N/A"}},null,null,"No info","линк","https://bg.toolsworld.com/search/?query=","https://bg.toolsworld.com/search/?query=886325"]
[886475,"Tömítőpisztoly 400ml, zárt, alumínium test, körrúd 8 mm// Sparta",2415,"B","Active",{"$f":"VLOOKUP(A4813,[1]Sheet1!$A$1:$C$65512,3,FALSE)","v":{"$error":"#N/A"}},null,null,"No info","линк","https://bg.toolsworld.com/search/?query=","https://bg.toolsworld.com/search/?query=886475"]
[930125,"Ragasztópisztoly, 11mm, 40W-220V// Sparta",417,"B","Active",{"$f":"VLOOKUP(A4814,[1]Sheet1!$A$1:$C$65512,3,FALSE)","v":{"$error":"#N/A"}},null,null,"No info","линк","https://bg.toolsworld.com/search/?query=","https://bg.toolsworld.com/search/?query=930125"]
[943657,"Inverteres ívhegesztőgép TPARC-120, 120 À// Denzel",36326,"B","Active",{"$f":"VLOOKUP(A4815,[1]Sheet1!$A$1:$C$65512,3,FALSE)","v":845},null,null,"No info","линк","https://bg.toolsworld.com/search/?query=","https://bg.toolsworld.com/search/?query=943657"]
[943667,"Inverteres ívhegesztőgép TPARC-140, 140 À// Denzel",47094,"B","Active",{"$f":"VLOOKUP(A4816,[1]Sheet1!$A$1:$C$65512,3,FALSE)","v":602},null,null,"No info","линк","https://bg.toolsworld.com/search/?query=","https://bg.toolsworld.com/search/?query=943667"]
[943677,"Inverteres ívhegesztőgép TPARC-160, 160 À// Denzel",51780,"B","Active",{"$f":"VLOOKUP(A4817,[1]Sheet1!$A$1:$C$65512,3,FALSE)","v":484},null,null,"No info","линк","https://bg.toolsworld.com/search/?query=","https://bg.toolsworld.com/search/?query=943677"]
[943687,"Inverteres ívhegesztőgép TPARC-180, 180 À// Denzel",55524,"B","Active",{"$f":"VLOOKUP(A4818,[1]Sheet1!$A$1:$C$65512,3,FALSE)","v":677},null,null,"No info","линк","https://bg.toolsworld.com/search/?query=","https://bg.toolsworld.com/search/?query=943687"]
[943697,"Inverteres ívhegesztőgép TPARC-200, 200 À// Denzel",58798,"B","Active",{"$f":"VLOOKUP(A4819,[1]Sheet1!$A$1:$C$65512,3,FALSE)","v":584},null,null,"No info","линк","https://bg.toolsworld.com/search/?query=","https://bg.toolsworld.com/search/?query=943697"]
[962278,"Benzines fűkasza GT-52S, többfunkciós, 52 cc, 1,45 kW, kétrészes tengely// Denzel",69754,"B","Active",{"$f":"VLOOKUP(A4820,[1]Sheet1!$A$1:$C$65512,3,FALSE)","v":" "},null,null,"No info","линк","https://bg.toolsworld.com/search/?query=","https://bg.toolsworld.com/search/?query=962278"]
[5741099,"Pneumatikus szegező szegekhez 10-50 mm// MTX",11955,"B","Active",{"$f":"VLOOKUP(A4821,[1]Sheet1!$A$1:$C$65512,3,FALSE)","v":86},null,null,"No info","линк","https://bg.toolsworld.com/search/?query=","https://bg.toolsworld.com/search/?query=5741099"]
[6785477,"Kesztyűkészlet, PVC pontbevonat, L méret: zöld, fukszia rózsa, sárga, kék, narancs, Russia// Palisad",849,"B","Active",{"$f":"VLOOKUP(A4822,[1]Sheet1!$A$1:$C$65512,3,FALSE)","v":{"$error":"#N/A"}},null,null,"No info","линк","https://bg.toolsworld.com/search/?query=","https://bg.toolsworld.com/search/?query=6785477"]
[7718715,"Kőműves véső védőburkolattal, 8 1/2\"x 2 3/8\"// Denzel",3635,"B","Active",{"$f":"VLOOKUP(A4823,[1]Sheet1!$A$1:$C$65512,3,FALSE)","v":14},null,null,"No info","линк","https://bg.toolsworld.com/search/?query=","https://bg.toolsworld.com/search/?query=7718715"]
[60033777,"Férfi szandál, 43-as méret (kék) // Russia",2186,"B","Active",{"$f":"VLOOKUP(A4824,[1]Sheet1!$A$1:$C$65512,3,FALSE)","v":{"$error":"#N/A"}},null,null,"No info","линк","https://bg.toolsworld.com/search/?query=","https://bg.toolsworld.com/search/?query=60033777"]
[10932,"Pöröly kalapács, 5000 g, kovácsolt fej, fa nyél// Сибртех",12047,"B","Active",{"$f":"VLOOKUP(A4825,[1]Sheet1!$A$1:$C$65512,3,FALSE)","v":{"$error":"#N/A"}},null,null,"No info",{"$f":"HYPERLINK(L4825,\"линк\")","v":"линк"},"https://bg.toolsworld.com/search/?query=","https://bg.toolsworld.com/search/?query=10932"]
[11484,"Torziós bitkészlet, PZ2x25mm, ütvefúróhoz, 10 db.// GROSS",1242,"B","Active",{"$f":"VLOOKUP(A4826,[1]Sheet1!$A$1:$C$65512,3,FALSE)","v":75},null,null,"No info","линк","https://bg.toolsworld.com/search/?query=","https://bg.toolsworld.com/search/?query=11484"]
[13187,"1/2 Gyújtógyertya foglalat mágneses tartóval 12 pt 14mm// GROSS",1743,"B","Active",{"$f":"VLOOKUP(A4827,[1]Sheet1!$A$1:$C$65512,3,FALSE)","v":125},null,null,"No info","линк","https://bg.toolsworld.com/search/?query=","https://bg.toolsworld.com/search/?query=13187"]
[13637,"1/2\" DR gyújtógyertya foglalat, 21mm// Stels",470,"B","Active",{"$f":"VLOOKUP(A4828,[1]Sheet1!$A$1:$C$65512,3,FALSE)","v":374},null,null,"No info","линк","https://bg.toolsworld.com/search/?query=","https://bg.toolsworld.com/search/?query=13637"]
[13723,"Gyújtógyertya csőkulcs 21x160 mm// Stels",687,"B","Active",{"$f":"VLOOKUP(A4829,[1]Sheet1!$A$1:$C$65512,3,FALSE)","v":103},null,null,"No info","линк","https://bg.toolsworld.com/search/?query=","https://bg.toolsworld.com/search/?query=13723"]
[13724,"Gyújtógyertya csőkulcs 21x280 mm// Stels",1021,"B","Active",{"$f":"VLOOKUP(A4830,[1]Sheet1!$A$1:$C$65512,3,FALSE)","v":{"$error":"#N/A"}},null,null,"No info","линк","https://bg.toolsworld.com/search/?query=","https://bg.toolsworld.com/search/?query=13724"]
[13906,"Hosszabbító rúd 125mm 1/2\"DR// Stels",896,"B","Active",{"$f":"VLOOKUP(A4831,[1]Sheet1!$A$1:$C$65512,3,FALSE)","v":240},null,null,"No info","линк","https://bg.toolsworld.com/search/?query=","https://bg.toolsworld.com/search/?query=13906"]
[14270,"1/2\" szétválasztható keresztkulcs, összecsukható, 17mm, 19mm, 21mm, 23mm, CRV// GROSS",13418,"B","Active",{"$f":"VLOOKUP(A4832,[1]Sheet1!$A$1:$C$65512,3,FALSE)","v":9},null,null,"No info","линк","https://bg.toolsworld.com/search/?query=","https://bg.toolsworld.com/search/?query=14270"]
[18667,"Pad satu, 140 mm, forgó (Glazov) Oroszország",58064,"B","Active",{"$f":"VLOOKUP(A4833,[1]Sheet1!$A$1:$C$65512,3,FALSE)","v":{"$error":"#N/A"}},null,null,"No info","линк","https://bg.toolsworld.com/search/?query=","https://bg.toolsworld.com/search/?query=18667"]
[31303,"Mérőszalag Classic, 5 m * 18 mm, műanyag test// Sparta",611,"B","Active",{"$f":"VLOOKUP(A4834,[1]Sheet1!$A$1:$C$65512,3,FALSE)","v":{"$error":"#N/A"}},null,null,"No info","линк","https://bg.toolsworld.com/search/?query=","https://bg.toolsworld.com/search/?query=31303"]
[55201,"Gumitároló táskák 900x1000 mm, 18 mikron, R 13-16-hoz, 4 db. set// Stels",391,"B","Active",{"$f":"VLOOKUP(A4835,[1]Sheet1!$A$1:$C$65512,3,FALSE)","v":{"$error":"#N/A"}},null,null,"No info","линк","https://bg.toolsworld.com/search/?query=","https://bg.toolsworld.com/search/?query=55201"]
[57015,"Spirális légtömlő 8x12 mm, 18 bar, gyorscsatlakozók, 10 m// Stels",3147,"B","Active",{"$f":"VLOOKUP(A4836,[1]Sheet1!$A$1:$C$65512,3,FALSE)","v":{"$error":"#N/A"}},null,null,"No info","линк","https://bg.toolsworld.com/search/?query=","https://bg.toolsworld.com/search/?query=57015"]
[57019,"Spirális légtömlő 8x12 mm, 18 bar, gyorscsatlakozók, 15 m// Stels",4071,"B","Active",{"$f":"VLOOKUP(A4837,[1]Sheet1!$A$1:$C$65512,3,FALSE)","v":{"$error":"#N/A"}},null,null,"No info","линк","https://bg.toolsworld.com/search/?query=","https://bg.toolsworld.com/search/?query=57019"]
[57065,"Univerzális gyorscsatlakozó anya, 1/2\", külső menet, 1 db.// Stels",1151,"B","Active",{"$f":"VLOOKUP(A4838,[1]Sheet1!$A$1:$C$65512,3,FALSE)","v":{"$error":"#N/A"}},null,null,"No info","линк","https://bg.toolsworld.com/search/?query=","https://bg.toolsworld.com/search/?query=57065"]
[57441,"1/2\" ütvecsavarozó kulcs, ikerkalapács, G1260, 813 Nm, 7000 ford./perc szabad sebesség// GROSS",52164,"B","Active",{"$f":"VLOOKUP(A4839,[1]Sheet1!$A$1:$C$65512,3,FALSE)","v":40},null,null,"No info","линк","https://bg.toolsworld.com/search/?query=",{"$f":"CONCATENATE(K4839,A4839)","v":"https://bg.toolsworld.com/search/?query=57441"}]
[60045,"Slides Comfort for Férfi, 46-os méret// Oroszország",2773,"B","Active",{"$f":"VLOOKUP(A4840,[1]Sheet1!$A$1:$C$65512,3,FALSE)","v":{"$error":"#N/A"}},null,null,"No info","линк","https://bg.toolsworld.com/search/?query=","https://bg.toolsworld.com/search/?query=60045"]
[60554,"Kerti snips, 180 mm, gumírozott fém fogantyúk// Palisad",1206,"B","Active",{"$f":"VLOOKUP(A4841,[1]Sheet1!$A$1:$C$65512,3,FALSE)","v":{"$error":"#N/A"}},null,null,"No info","линк","https://bg.toolsworld.com/search/?query=","https://bg.toolsworld.com/search/?query=60554"]
[61459,"Szögletes lapát, 230х265х1340 mm, lakkozott fa nyél, Oroszország// Сибртех",5906,"B","Active",{"$f":"VLOOKUP(A4842,[1]Sheet1!$A$1:$C$65512,3,FALSE)","v":{"$error":"#N/A"}},null,null,"No info","линк","https://bg.toolsworld.com/search/?query=","https://bg.toolsworld.com/search/?query=61459"]
[61461,"Szögletes lapát, 230х280х1400 mm, fa nyél// Oroszország",2629,"B","Active",{"$f":"VLOOKUP(A4843,[1]Sheet1!$A$1:$C$65512,3,FALSE)","v":{"$error":"#N/A"}},null,null,"No info","линк","https://bg.toolsworld.com/search/?query=","https://bg.toolsworld.com/search/?query=61461"]
[61736,"Műanyag fűnyíró, 380 mm, 11 egyenes fog, megerősített, nyél nélkül, Oroszország// Сибртех",780,"B","Active",{"$f":"VLOOKUP(A4844,[1]Sheet1!$A$1:$C$65512,3,FALSE)","v":214},null,null,"No info","линк","https://bg.toolsworld.com/search/?query=","https://bg.toolsworld.com/search/?query=61736"]
[62297,"Hurok alakú gyomláló, 155 mm, rugóacél, nyél nélkül, Oroszország// Сибртех",770,"B","Active",{"$f":"VLOOKUP(A4845,[1]Sheet1!$A$1:$C$65512,3,FALSE)","v":{"$error":"#N/A"}},null,null,"No info","линк","https://bg.toolsworld.com/search/?query=","https://bg.toolsworld.com/search/?query=62297"]
[62328,"Acél kapa, 200x65 mm, nyél nélkül, Oroszország// Сибртех",790,"B","Active",{"$f":"VLOOKUP(A4846,[1]Sheet1!$A$1:$C$65512,3,FALSE)","v":{"$error":"#N/A"}},null,null,"No info","линк","https://bg.toolsworld.com/search/?query=","https://bg.toolsworld.com/search/?query=62328"]
[62336,"Kapa, rozsdamentes acél, 200x50 mm, fogantyú nélkül, Oroszország// Сибртех",976,"B","Active",{"$f":"VLOOKUP(A4847,[1]Sheet1!$A$1:$C$65512,3,FALSE)","v":{"$error":"#N/A"}},null,null,"No info","линк","https://bg.toolsworld.com/search/?query=","https://bg.toolsworld.com/search/?query=62336"]
[62337,"Kapa, rozsdamentes acél, 150x90 mm, fogantyú nélkül, Oroszország// Сибртех",1007,"B","Active",{"$f":"VLOOKUP(A4848,[1]Sheet1!$A$1:$C$65512,3,FALSE)","v":{"$error":"#N/A"}},null,null,"No info","линк","https://bg.toolsworld.com/search/?query=","https://bg.toolsworld.com/search/?query=62337"]
[62338,"Kapa, rozsdamentes acél, 150x50 mm, fogantyú nélkül, Oroszország// Сибртех",945,"B","Active",{"$f":"VLOOKUP(A4849,[1]Sheet1!$A$1:$C$65512,3,FALSE)","v":47},null,null,"No info","линк","https://bg.toolsworld.com/search/?query=","https://bg.toolsworld.com/search/?query=62338"]
[62645,"Széles simító, 75x325 mm, acél, gumírozott ergonomikus nyél, ERA// Palisad",1049,"B","Active",{"$f":"VLOOKUP(A4850,[1]Sheet1!$A$1:$C$65512,3,FALSE)","v":{"$error":"#N/A"}},null,null,"No info","линк","https://bg.toolsworld.com/search/?query=","https://bg.toolsworld.com/search/?query=62645"]
[62909,"Szobanövények ápolására szolgáló készlet, teljesen fém, 3 elemes, LUXE// Palisad",1047,"B","Active",{"$f":"VLOOKUP(A4851,[1]Sheet1!$A$1:$C$65512,3,FALSE)","v":1},null,null,"No info","линк","https://bg.toolsworld.com/search/?query=","https://bg.toolsworld.com/search/?query=62909"]
[63217,"Polipropilén seprű, 140х310х1550 mm, kerek, peremmel, fa nyéllel, Oroszország// Сибртех",1554,"B","Active",{"$f":"VLOOKUP(A4852,[1]Sheet1!$A$1:$C$65512,3,FALSE)","v":{"$error":"#N/A"}},null,null,"No info","линк","https://bg.toolsworld.com/search/?query=","https://bg.toolsworld.com/search/?query=63217"]
[63575,"Nyíró készlet \"Косарь М\" №6, kasza \"Сайга Люкс\" 600 mm, fém kasza nyél, АРТИ// Oroszország",7560,"B","Active",{"$f":"VLOOKUP(A4853,[1]Sheet1!$A$1:$C$65512,3,FALSE)","v":{"$error":"#N/A"}},null,null,"No info","линк","https://bg.toolsworld.com/search/?query=","https://bg.toolsworld.com/search/?query=63575"]
[63803,"Karos 4 fogas, kerti, 175x220x1320 mm, kovácsolt, fa nyél, АРТИ// Россия",2926,"B","Active",{"$f":"VLOOKUP(A4854,[1]Sheet1!$A$1:$C$65512,3,FALSE)","v":{"$error":"#N/A"}},null,null,"No info","линк","https://bg.toolsworld.com/search/?query=","https://bg.toolsworld.com/search/?query=63803"]
[63839,"Karos 6 fogas, ásó, 195x220 mm, kovácsolt, fogantyú nélkül, АРТИ// Oroszország",3648,"B","Active",{"$f":"VLOOKUP(A4855,[1]Sheet1!$A$1:$C$65512,3,FALSE)","v":{"$error":"#N/A"}},null,null,"No info","линк","https://bg.toolsworld.com/search/?query=","https://bg.toolsworld.com/search/?query=63839"]
[64340,"Palántacserép, 90x90x95 mm, polisztirol, 5 db.// Россия",143,"B","Active",{"$f":"VLOOKUP(A4856,[1]Sheet1!$A$1:$C$65512,3,FALSE)","v":{"$error":"#N/A"}},null,null,"No info","линк","https://bg.toolsworld.com/search/?query=","https://bg.toolsworld.com/search/?query=64340"]
[64346,"Palántakazetta, 180x135x60 mm, 6 cellás, polisztirol, 5 db.// Россия",234,"B","Active",{"$f":"VLOOKUP(A4857,[1]Sheet1!$A$1:$C$65512,3,FALSE)","v":{"$error":"#N/A"}},null,null,"No info","линк","https://bg.toolsworld.com/search/?query=","https://bg.toolsworld.com/search/?query=64346"]
[64347,"Palántakazetta, 180x135x60 mm, 9 cellás, polisztirol, 5 db.// Россия",246,"B","Active",{"$f":"VLOOKUP(A4858,[1]Sheet1!$A$1:$C$65512,3,FALSE)","v":{"$error":"#N/A"}},null,null,"No info","линк","https://bg.toolsworld.com/search/?query=","https://bg.toolsworld.com/search/?query=64347"]
[64362,"Palántaedény, 110x100 mm, polisztirol, 5 db// Oroszország",174,"B","Active",{"$f":"VLOOKUP(A4859,[1]Sheet1!$A$1:$C$65512,3,FALSE)","v":{"$error":"#N/A"}},null,null,"No info","линк","https://bg.toolsworld.com/search/?query=","https://bg.toolsworld.com/search/?query=64362"]
[64390,"Palántacserép, 0,5 l, polipropilén, 10 db, Oroszország// Сибртех",81,"B","Active",{"$f":"VLOOKUP(A4860,[1]Sheet1!$A$1:$C$65512,3,FALSE)","v":{"$error":"#N/A"}},null,null,"No info","линк","https://bg.toolsworld.com/search/?query=","https://bg.toolsworld.com/search/?query=64390"]
[64443,"Párna térd alatt és üléshez, 400 x 175 x 20 mm// Palisad",659,"B","Active",{"$f":"VLOOKUP(A4861,[1]Sheet1!$A$1:$C$65512,3,FALSE)","v":{"$error":"#N/A"}},null,null,"No info","линк","https://bg.toolsworld.com/search/?query=","https://bg.toolsworld.com/search/?query=64443"]
[64473,"Csapágy, magasság 1 m, cső átmérő 10 mm Oroszország",320,"B","Active",{"$f":"VLOOKUP(A4862,[1]Sheet1!$A$1:$C$65512,3,FALSE)","v":{"$error":"#N/A"}},null,null,"No info","линк","https://bg.toolsworld.com/search/?query=","https://bg.toolsworld.com/search/?query=64473"]
[64484,"Gyepszegély szalag, 15x900 cm, polipropilén, barna, Oroszország// Palisad",1633,"B","Active",{"$f":"VLOOKUP(A4863,[1]Sheet1!$A$1:$C$65512,3,FALSE)","v":{"$error":"#N/A"}},null,null,"No info","линк","https://bg.toolsworld.com/search/?query=","https://bg.toolsworld.com/search/?query=64484"]
[65003,"Dekoratív kerítés \"Классика\", 29x224 cm, zöld, Oroszország// Palisad",4418,"B","Active",{"$f":"VLOOKUP(A4864,[1]Sheet1!$A$1:$C$65512,3,FALSE)","v":{"$error":"#N/A"}},null,null,"No info","линк","https://bg.toolsworld.com/search/?query=","https://bg.toolsworld.com/search/?query=65003"]
[65025,"Dekoratív kerítés \"Романтика\", 28x300 cm, terrakotta, Oroszország// Palisad",2979,"B","Active",{"$f":"VLOOKUP(A4865,[1]Sheet1!$A$1:$C$65512,3,FALSE)","v":{"$error":"#N/A"}},null,null,"No info","линк","https://bg.toolsworld.com/search/?query=","https://bg.toolsworld.com/search/?query=65025"]
[65044,"Dekoratív kerti kerítés, 1,0х0,85 m// Россия",3177,"B","Active",{"$f":"VLOOKUP(A4866,[1]Sheet1!$A$1:$C$65512,3,FALSE)","v":{"$error":"#N/A"}},null,null,"No info","линк","https://bg.toolsworld.com/search/?query=","https://bg.toolsworld.com/search/?query=65044"]
[65177,"Tömlőcsatlakozó készlet 3/4\" (szórópisztoly 8 mintával, adapter, 2 csatlakozó)// Palisad",1814,"B","Active",{"$f":"VLOOKUP(A4867,[1]Sheet1!$A$1:$C$65512,3,FALSE)","v":1},null,null,"No info","линк","https://bg.toolsworld.com/search/?query=","https://bg.toolsworld.com/search/?query=65177"]
[65409,"Forgó műanyag permetező, 3 lapátos, szerelvény D 3/4\", tábla S 180 nm, D 15 m// Palisad",1413,"B","Active",{"$f":"VLOOKUP(A4868,[1]Sheet1!$A$1:$C$65512,3,FALSE)","v":1},null,null,"No info","линк","https://bg.toolsworld.com/search/?query=","https://bg.toolsworld.com/search/?query=65409"]
[66243,"Tömlőcsatlakozó 1/2\" kétkomponensű// Palisad",957,"B","Active",{"$f":"VLOOKUP(A4869,[1]Sheet1!$A$1:$C$65512,3,FALSE)","v":{"$error":"#N/A"}},null,null,"No info","линк","https://bg.toolsworld.com/search/?query=","https://bg.toolsworld.com/search/?query=66243"]
[67515,"Öntözőkanna, 8 l, műanyag SIBRTEH Oroszország",1171,"B","Active",{"$f":"VLOOKUP(A4870,[1]Sheet1!$A$1:$C$65512,3,FALSE)","v":{"$error":"#N/A"}},null,null,"No info","линк","https://bg.toolsworld.com/search/?query=","https://bg.toolsworld.com/search/?query=67515"]
[67591,"Vödör, 12 l, horganyzott Oroszország",2275,"B","Active",{"$f":"VLOOKUP(A4871,[1]Sheet1!$A$1:$C$65512,3,FALSE)","v":{"$error":"#N/A"}},null,null,"No info","линк","https://bg.toolsworld.com/search/?query=","https://bg.toolsworld.com/search/?query=67591"]
[68408,"Fa nyél, 32х1200 mm, második osztály// Россия",322,"B","Active",{"$f":"VLOOKUP(A4872,[1]Sheet1!$A$1:$C$65512,3,FALSE)","v":{"$error":"#N/A"}},null,null,"No info","линк","https://bg.toolsworld.com/search/?query=","https://bg.toolsworld.com/search/?query=68408"]
[68414,"Fa nyél, 25x1200 mm, kiváló minőségű// Россия",570,"B","Active",{"$f":"VLOOKUP(A4873,[1]Sheet1!$A$1:$C$65512,3,FALSE)","v":{"$error":"#N/A"}},null,null,"No info","линк","https://bg.toolsworld.com/search/?query=","https://bg.toolsworld.com/search/?query=68414"]
[68416,"Fa nyél, 25x1200 mm, kiváló minőségű, műanyag menet (seprűhez, keféhez alkalmas)// Россия",816,"B","Active",{"$f":"VLOOKUP(A4874,[1]Sheet1!$A$1:$C$65512,3,FALSE)","v":{"$error":"#N/A"}},null,null,"No info","линк","https://bg.toolsworld.com/search/?query=","https://bg.toolsworld.com/search/?query=68416"]
[68651,"Kötött kesztyű, akril, fekete színű, szegélyezett varrás, Oroszország// СИБРТЕХ",348,"B","Active",{"$f":"VLOOKUP(A4875,[1]Sheet1!$A$1:$C$65512,3,FALSE)","v":{"$error":"#N/A"}},null,null,"No info","линк","https://bg.toolsworld.com/search/?query=","https://bg.toolsworld.com/search/?query=68651"]
[69127,"Dekoratív kerti piramis mászónövényekhez, 1,98 x 0,33 m// Palisad",5569,"B","Active",{"$f":"VLOOKUP(A4876,[1]Sheet1!$A$1:$C$65512,3,FALSE)","v":{"$error":"#N/A"}},null,null,"No info","линк","https://bg.toolsworld.com/search/?query=","https://bg.toolsworld.com/search/?query=69127"]
[78879,"SO hátsó aukciós segédkés, háromkomponensű nyél, 175mm + 5 tartalék penge// Bruttó",4407,"B","Active",{"$f":"VLOOKUP(A4877,[1]Sheet1!$A$1:$C$65512,3,FALSE)","v":12},null,null,"No info","линк","https://bg.toolsworld.com/search/?query=","https://bg.toolsworld.com/search/?query=78879"]
[78969,"Kaparókések 18mm, 10db készlet// Sparta",180,"B","Active",{"$f":"VLOOKUP(A4878,[1]Sheet1!$A$1:$C$65512,3,FALSE)","v":{"$error":"#N/A"}},null,null,"No info","линк","https://bg.toolsworld.com/search/?query=","https://bg.toolsworld.com/search/?query=78969"]
[92323,"Csiszolóvászon 133x133 mm, 3 db, Oroszország// Elfe",94,"B","Active",{"$f":"VLOOKUP(A4879,[1]Sheet1!$A$1:$C$65512,3,FALSE)","v":{"$error":"#N/A"}},null,null,"No info","линк","https://bg.toolsworld.com/search/?query=","https://bg.toolsworld.com/search/?query=92323"]
[93818,"Rúdépítés D 25 mm, L 1250 mm, kerek// Oroszország",4455,"B","Active",{"$f":"VLOOKUP(A4880,[1]Sheet1!$A$1:$C$65512,3,FALSE)","v":{"$error":"#N/A"}},null,null,"No info","линк","https://bg.toolsworld.com/search/?query=","https://bg.toolsworld.com/search/?query=93818"]
[93949,"Polipropilén zsineg, 500 m, 800 tex, 35 kgf, Oroszország// Сибртех",1419,"B","Active",{"$f":"VLOOKUP(A4881,[1]Sheet1!$A$1:$C$65512,3,FALSE)","v":{"$error":"#N/A"}},null,null,"No info","линк","https://bg.toolsworld.com/search/?query=","https://bg.toolsworld.com/search/?query=93949"]
[95424,"Betonkeverő gép B-200, 1000 W, 200 l Denzel",164296,"B","Active",{"$f":"VLOOKUP(A4882,[1]Sheet1!$A$1:$C$65512,3,FALSE)","v":{"$error":"#N/A"}},null,null,"No info",{"$f":"HYPERLINK(L4882,\"линк\")","v":"линк"},"https://bg.toolsworld.com/search/?query=","https://bg.toolsworld.com/search/?query=95424"]
[96108,"Fűkasza damil, 2,4mm x 15m, buborékfólia FLEX CORD// Denzel",494,"B","Active",{"$f":"VLOOKUP(A4883,[1]Sheet1!$A$1:$C$65512,3,FALSE)","v":{"$error":"#N/A"}},null,null,"No info","линк","https://bg.toolsworld.com/search/?query=","https://bg.toolsworld.com/search/?query=96108"]
[96109,"Fűkasza damil, 3,0mm x 15m, buborékfóliás FLEX CORD// Denzel",693,"B","Active",{"$f":"VLOOKUP(A4884,[1]Sheet1!$A$1:$C$65512,3,FALSE)","v":{"$error":"#N/A"}},null,null,"No info","линк","https://bg.toolsworld.com/search/?query=","https://bg.toolsworld.com/search/?query=96109"]
[96110,"Fűkasza damil csillag alakú, 1,6mm x 15m, buborékfólia FLEX CORD// Denzel",332,"B","Active",{"$f":"VLOOKUP(A4885,[1]Sheet1!$A$1:$C$65512,3,FALSE)","v":{"$error":"#N/A"}},null,null,"No info","линк","https://bg.toolsworld.com/search/?query=","https://bg.toolsworld.com/search/?query=96110"]
[96111,"Fűkasza damil csillag alakú, 2,0mm x 15m, buborékfólia FLEX CORD// Denzel",375,"B","Active",{"$f":"VLOOKUP(A4886,[1]Sheet1!$A$1:$C$65512,3,FALSE)","v":{"$error":"#N/A"}},null,null,"No info","линк","https://bg.toolsworld.com/search/?query=","https://bg.toolsworld.com/search/?query=96111"]
[96112,"Fűkasza damil csillag alakú, 2,4mm x 15m, buborékfólia FLEX CORD// Denzel",430,"B","Active",{"$f":"VLOOKUP(A4887,[1]Sheet1!$A$1:$C$65512,3,FALSE)","v":{"$error":"#N/A"}},null,null,"No info","линк","https://bg.toolsworld.com/search/?query=","https://bg.toolsworld.com/search/?query=96112"]
[96114,"Fűkasza damil szögletes, 1,6 mm × 15 m, buborékfólia FLEX CORD// Denzel",383,"B","Active",{"$f":"VLOOKUP(A4888,[1]Sheet1!$A$1:$C$65512,3,FALSE)","v":{"$error":"#N/A"}},null,null,"No info","линк","https://bg.toolsworld.com/search/?query=","https://bg.toolsworld.com/search/?query=96114"]
[96115,"Fűkasza damil szögletes, 2,0mm x 15m, buborékfólia FLEX CORD// Denzel",462,"B","Active",{"$f":"VLOOKUP(A4889,[1]Sheet1!$A$1:$C$65512,3,FALSE)","v":{"$error":"#N/A"}},null,null,"No info","линк","https://bg.toolsworld.com/search/?query=","https://bg.toolsworld.com/search/?query=96115"]
[96116,"Fűkasza damil szögletes, 2,4mm x 15m, buborékfólia FLEX CORD// Denzel",573,"B","Active",{"$f":"VLOOKUP(A4890,[1]Sheet1!$A$1:$C$65512,3,FALSE)","v":{"$error":"#N/A"}},null,null,"No info","линк","https://bg.toolsworld.com/search/?query=","https://bg.toolsworld.com/search/?query=96116"]
[96119,"Fűkasza damil, 2,4mm x 44m, buborékfólia FLEX CORD// Denzel",1119,"B","Active",{"$f":"VLOOKUP(A4891,[1]Sheet1!$A$1:$C$65512,3,FALSE)","v":{"$error":"#N/A"}},null,null,"No info","линк","https://bg.toolsworld.com/search/?query=","https://bg.toolsworld.com/search/?query=96119"]
[96120,"Fűkasza damil csillag alakú, 2,0mm x 64m, buborékfólia FLEX CORD// Denzel",930,"B","Active",{"$f":"VLOOKUP(A4892,[1]Sheet1!$A$1:$C$65512,3,FALSE)","v":{"$error":"#N/A"}},null,null,"No info","линк","https://bg.toolsworld.com/search/?query=","https://bg.toolsworld.com/search/?query=96120"]
[96122,"Fűkasza damil szögletes, 2,0mm x 57m, buborékfólia FLEX CORD// Denzel",1082,"B","Active",{"$f":"VLOOKUP(A4893,[1]Sheet1!$A$1:$C$65512,3,FALSE)","v":{"$error":"#N/A"}},null,null,"No info","линк","https://bg.toolsworld.com/search/?query=","https://bg.toolsworld.com/search/?query=96122"]
[96143,"Fűkasza damil, kerek, 1,6mm x 15m// Denzel",393,"B","Active",{"$f":"VLOOKUP(A4894,[1]Sheet1!$A$1:$C$65512,3,FALSE)","v":{"$error":"#N/A"}},null,null,"No info","линк","https://bg.toolsworld.com/search/?query=","https://bg.toolsworld.com/search/?query=96143"]
[96153,"Fűkasza damil szögletes 1,6mm x 15m// Denzel",393,"B","Active",{"$f":"VLOOKUP(A4895,[1]Sheet1!$A$1:$C$65512,3,FALSE)","v":{"$error":"#N/A"}},null,null,"No info","линк","https://bg.toolsworld.com/search/?query=","https://bg.toolsworld.com/search/?query=96153"]
[96157,"Vágózsinór, négyzet, 2,4 mm x 15 m Denzel Russia",544,"B","Active",{"$f":"VLOOKUP(A4896,[1]Sheet1!$A$1:$C$65512,3,FALSE)","v":{"$error":"#N/A"}},null,null,"No info","линк","https://bg.toolsworld.com/search/?query=","https://bg.toolsworld.com/search/?query=96157"]
[96161,"Fűkasza damil háromszög 1,6mm x 15m// Denzel",338,"B","Active",{"$f":"VLOOKUP(A4897,[1]Sheet1!$A$1:$C$65512,3,FALSE)","v":{"$error":"#N/A"}},null,null,"No info","линк","https://bg.toolsworld.com/search/?query=","https://bg.toolsworld.com/search/?query=96161"]
[96163,"Fűkasza damil háromszög 2,0mm x 15m// Denzel",365,"B","Active",{"$f":"VLOOKUP(A4898,[1]Sheet1!$A$1:$C$65512,3,FALSE)","v":{"$error":"#N/A"}},null,null,"No info","линк","https://bg.toolsworld.com/search/?query=","https://bg.toolsworld.com/search/?query=96163"]
[96165,"Vágózsinór, háromszög alakú, 2,4 mm x 15 m Denzel Russia",385,"B","Active",{"$f":"VLOOKUP(A4899,[1]Sheet1!$A$1:$C$65512,3,FALSE)","v":{"$error":"#N/A"}},null,null,"No info","линк","https://bg.toolsworld.com/search/?query=","https://bg.toolsworld.com/search/?query=96165"]
[96171,"Fűkasza damil csillag 2,0mm x 15m// Denzel",417,"B","Active",{"$f":"VLOOKUP(A4900,[1]Sheet1!$A$1:$C$65512,3,FALSE)","v":{"$error":"#N/A"}},null,null,"No info","линк","https://bg.toolsworld.com/search/?query=","https://bg.toolsworld.com/search/?query=96171"]
[96175,"Damil szegélynyíróhoz, csavart 2,4 mm x 10 m// Denzel",503,"B","Active",{"$f":"VLOOKUP(A4901,[1]Sheet1!$A$1:$C$65512,3,FALSE)","v":{"$error":"#N/A"}},null,null,"No info","линк","https://bg.toolsworld.com/search/?query=","https://bg.toolsworld.com/search/?query=96175"]
[96223,"Benzines bozótvágó DT-33S, 33 сс, 1,8 LE, kétrészes tengely, 2 részből áll// Denzel",42555,"B","Active",{"$f":"VLOOKUP(A4902,[1]Sheet1!$A$1:$C$65512,3,FALSE)","v":{"$error":"#N/A"}},null,null,"No info","линк","https://bg.toolsworld.com/search/?query=","https://bg.toolsworld.com/search/?query=96223"]
[96226,"Benzines bozótvágó DT-52, 52 сс, 3 LE, egy darab tengely, 2 részből áll// Denzel",42246,"B","Active",{"$f":"VLOOKUP(A4903,[1]Sheet1!$A$1:$C$65512,3,FALSE)","v":{"$error":"#N/A"}},null,null,"No info","линк","https://bg.toolsworld.com/search/?query=",{"$f":"CONCATENATE(K4903,A4903)","v":"https://bg.toolsworld.com/search/?query=96226"}]
[96304,"Orsó trimmerhez, univerzális (minden késes trimmerhez alkalmas)// Denzel",2302,"B","Active",{"$f":"VLOOKUP(A4904,[1]Sheet1!$A$1:$C$65512,3,FALSE)","v":{"$error":"#N/A"}},null,null,"No info","линк","https://bg.toolsworld.com/search/?query=","https://bg.toolsworld.com/search/?query=96304"]
[135539,"Szerszámkészlet, 94 db, 1/4\", 1/2\", megerősített tok, CrV, S2// MTX",40660,"B","Active",{"$f":"VLOOKUP(A4905,[1]Sheet1!$A$1:$C$65512,3,FALSE)","v":{"$error":"#N/A"}},null,null,"No info","линк","https://bg.toolsworld.com/search/?query=","https://bg.toolsworld.com/search/?query=135539"]
[157449,"Csőkulcs №3, 2\", ívelt pofákkal/ MTX",4466,"B","Active",{"$f":"VLOOKUP(A4906,[1]Sheet1!$A$1:$C$65512,3,FALSE)","v":42},null,null,"No info","линк","https://bg.toolsworld.com/search/?query=","https://bg.toolsworld.com/search/?query=157449"]
[171869,"Hosszú orrú fogó \"Premium\", 180 mm, egyenes, háromkomponensű nyél// MTX",1358,"B","Active",{"$f":"VLOOKUP(A4907,[1]Sheet1!$A$1:$C$65512,3,FALSE)","v":143},null,null,"No info","линк","https://bg.toolsworld.com/search/?query=","https://bg.toolsworld.com/search/?query=171869"]
[204325,"F-szorító 300x50x350mm// Sparta",839,"B","Active",{"$f":"VLOOKUP(A4908,[1]Sheet1!$A$1:$C$65512,3,FALSE)","v":3},null,null,"No info","линк","https://bg.toolsworld.com/search/?query=","https://bg.toolsworld.com/search/?query=204325"]
[206565,"G-szorító 100mm// Sparta",1252,"B","Active",{"$f":"VLOOKUP(A4909,[1]Sheet1!$A$1:$C$65512,3,FALSE)","v":{"$error":"#N/A"}},null,null,"No info","линк","https://bg.toolsworld.com/search/?query=","https://bg.toolsworld.com/search/?query=206565"]
[206655,"G-szorító 200mm// Sparta",3132,"B","Active",{"$f":"VLOOKUP(A4910,[1]Sheet1!$A$1:$C$65512,3,FALSE)","v":3},null,null,"No info","линк","https://bg.toolsworld.com/search/?query=","https://bg.toolsworld.com/search/?query=206655"]
[206715,"G-szorító 300mm// Sparta",5865,"B","Active",{"$f":"VLOOKUP(A4911,[1]Sheet1!$A$1:$C$65512,3,FALSE)","v":{"$error":"#N/A"}},null,null,"No info","линк","https://bg.toolsworld.com/search/?query=","https://bg.toolsworld.com/search/?query=206715"]
[310007,"Mérőszalag Állapot mágnes 3 rögzítés, 10mx32mm, mágneses vég kampó, СЕ// MTX",3040,"B","Active",{"$f":"VLOOKUP(A4912,[1]Sheet1!$A$1:$C$65512,3,FALSE)","v":" "},null,null,"No info","линк","https://bg.toolsworld.com/search/?query=","https://bg.toolsworld.com/search/?query=310007"]
[310047,"Mérőszalag Állapot mágnes 3 rögzítés, 3m x 16mm, mágneses vég kampó, СЕ// MTX",819,"B","Active",{"$f":"VLOOKUP(A4913,[1]Sheet1!$A$1:$C$65512,3,FALSE)","v":{"$error":"#N/A"}},null,null,"No info","линк","https://bg.toolsworld.com/search/?query=","https://bg.toolsworld.com/search/?query=310047"]
[310057,"Mérőszalag Állapot mágnes 3 rögzítés, 5m x 25mm, mágneses vég kampó, 3 rögzítés, СЕ// MTX",1463,"B","Active",{"$f":"VLOOKUP(A4914,[1]Sheet1!$A$1:$C$65512,3,FALSE)","v":{"$error":"#N/A"}},null,null,"No info","линк","https://bg.toolsworld.com/search/?query=","https://bg.toolsworld.com/search/?query=310057"]
[310107,"Mágneses mérőszalag 3m x 16 mm, mágneses horogvég, СЕ// MTX",389,"B","Active",{"$f":"VLOOKUP(A4915,[1]Sheet1!$A$1:$C$65512,3,FALSE)","v":267},null,null,"No info","линк","https://bg.toolsworld.com/search/?query=","https://bg.toolsworld.com/search/?query=310107"]
[310117,"Mágneses mérőszalag 5m x 19 mm, mágneses vég horog, СЕ// MTX",695,"B","Active",{"$f":"VLOOKUP(A4916,[1]Sheet1!$A$1:$C$65512,3,FALSE)","v":314},null,null,"No info","линк","https://bg.toolsworld.com/search/?query=","https://bg.toolsworld.com/search/?query=310117"]
[310127,"Mágneses mérőszalag 7,5m x 25 mm, mágneses vég horog, СЕ// MTX",1065,"B","Active",{"$f":"VLOOKUP(A4917,[1]Sheet1!$A$1:$C$65512,3,FALSE)","v":146},null,null,"No info","линк","https://bg.toolsworld.com/search/?query=","https://bg.toolsworld.com/search/?query=310127"]
[310187,"Mérőszalag 7,5mx25mm, műanyag ház, СЕ// MTX",970,"B","Active",{"$f":"VLOOKUP(A4918,[1]Sheet1!$A$1:$C$65512,3,FALSE)","v":51},null,null,"No info","линк","https://bg.toolsworld.com/search/?query=","https://bg.toolsworld.com/search/?query=310187"]
[310907,"Mérőszalag, 7,5m x 25mm, gumi test, folyékony rögzítés, СЕ// MTX",1127,"B","Active",{"$f":"VLOOKUP(A4919,[1]Sheet1!$A$1:$C$65512,3,FALSE)","v":322},null,null,"No info","линк","https://bg.toolsworld.com/search/?query=","https://bg.toolsworld.com/search/?query=310907"]
[325217,"Kvarc mérőszalag, átlátszó test, puffer, 5m x 19 mm// MTX",878,"B","Active",{"$f":"VLOOKUP(A4920,[1]Sheet1!$A$1:$C$65512,3,FALSE)","v":256},null,null,"No info","линк","https://bg.toolsworld.com/search/?query=","https://bg.toolsworld.com/search/?query=325217"]
[325237,"Kvarc mérőszalag, átlátszó test, puffer, 7,5m x 25 mm// MTX",1308,"B","Active",{"$f":"VLOOKUP(A4921,[1]Sheet1!$A$1:$C$65512,3,FALSE)","v":174},null,null,"No info","линк","https://bg.toolsworld.com/search/?query=","https://bg.toolsworld.com/search/?query=325237"]
[420037,"Bútortűzőgép, 53 típusú kapocs 4-14 mm, tok 500 db kapocs és mérőszalag 2m// Sparta",2847,"B","Active",{"$f":"VLOOKUP(A4922,[1]Sheet1!$A$1:$C$65512,3,FALSE)","v":90},null,null,"No info","линк","https://bg.toolsworld.com/search/?query=","https://bg.toolsworld.com/search/?query=420037"]
[537205,"Műanyag tölcsér, D 160 mm, rugalmas fúvóka üzemanyagokhoz és kenőanyagokhoz// Sparta",443,"B","Active",{"$f":"VLOOKUP(A4923,[1]Sheet1!$A$1:$C$65512,3,FALSE)","v":{"$error":"#N/A"}},null,null,"No info","линк","https://bg.toolsworld.com/search/?query=","https://bg.toolsworld.com/search/?query=537205"]
[552975,"Hókefe kaparóval, 530 mm, lila// Sparta",647,"B","Active",{"$f":"VLOOKUP(A4924,[1]Sheet1!$A$1:$C$65512,3,FALSE)","v":{"$error":"#N/A"}},null,null,"No info","линк","https://bg.toolsworld.com/search/?query=","https://bg.toolsworld.com/search/?query=552975"]
[630077,"Gyepgereblye 9 fogú, 130x420 mm, acél, műanyag nyél// Palisad",729,"B","Active",{"$f":"VLOOKUP(A4925,[1]Sheet1!$A$1:$C$65512,3,FALSE)","v":" "},null,null,"No info","линк","https://bg.toolsworld.com/search/?query=","https://bg.toolsworld.com/search/?query=630077"]
[651938,"Kerti kefe készlet (kefe tömlőcsatlakozóval, csatlakozó 1/2\")// Palisad",2628,"B","Active",{"$f":"VLOOKUP(A4926,[1]Sheet1!$A$1:$C$65512,3,FALSE)","v":826},null,null,"No info","линк","https://bg.toolsworld.com/search/?query=","https://bg.toolsworld.com/search/?query=651938"]
[691278,"Dekoratív kerti piramis mászónövényekhez, 1,98 x 0,33 m// Palisad",5429,"B","Active",{"$f":"VLOOKUP(A4927,[1]Sheet1!$A$1:$C$65512,3,FALSE)","v":{"$error":"#N/A"}},null,null,"No info","линк","https://bg.toolsworld.com/search/?query=","https://bg.toolsworld.com/search/?query=691278"]
[702377,"Famegmunkáló csigafúró, 8 mm, egyenes szár// SPARTA",99,"B","Active",{"$f":"VLOOKUP(A4928,[1]Sheet1!$A$1:$C$65512,3,FALSE)","v":902},null,null,"No info","линк","https://bg.toolsworld.com/search/?query=","https://bg.toolsworld.com/search/?query=702377"]
[723007,"Fém csavarfúró készlet, HSS-Tin, Golden Tip, 2-3-4-5-6-8 mm, 6 db// Denzel",2963,"B","Active",{"$f":"VLOOKUP(A4929,[1]Sheet1!$A$1:$C$65512,3,FALSE)","v":283},null,null,"No info","линк","https://bg.toolsworld.com/search/?query=","https://bg.toolsworld.com/search/?query=723007"]
[723167,"Fém csavarfúró készlet, HSS-Tin, Golden Tip, 1-10 mm, 10 db// Denzel",5891,"B","Active",{"$f":"VLOOKUP(A4930,[1]Sheet1!$A$1:$C$65512,3,FALSE)","v":203},null,null,"No info","линк","https://bg.toolsworld.com/search/?query=","https://bg.toolsworld.com/search/?query=723167"]
[723187,"Fém csavarfúró készlet, HSS-Tin, Golden Tip, 1,5-6,5 mm, 13 db// Denzel",4304,"B","Active",{"$f":"VLOOKUP(A4931,[1]Sheet1!$A$1:$C$65512,3,FALSE)","v":318},null,null,"No info","линк","https://bg.toolsworld.com/search/?query=","https://bg.toolsworld.com/search/?query=723187"]
[723217,"Fém csavarfúró készlet, HSS-Tin, Golden Tip, 1-10 mm, 19 db// Denzel",10187,"B","Active",{"$f":"VLOOKUP(A4932,[1]Sheet1!$A$1:$C$65512,3,FALSE)","v":382},null,null,"No info","линк","https://bg.toolsworld.com/search/?query=","https://bg.toolsworld.com/search/?query=723217"]
[723237,"Fém csavarfúró készlet, HSS-Tin, Golden Tip, 1-13 mm, 25 db// Denzel",19008,"B","Active",{"$f":"VLOOKUP(A4933,[1]Sheet1!$A$1:$C$65512,3,FALSE)","v":399},null,null,"No info","линк","https://bg.toolsworld.com/search/?query=","https://bg.toolsworld.com/search/?query=723237"]
[748505,"Fémkefe műanyag nyéllel// Sparta",357,"B","Active",{"$f":"VLOOKUP(A4934,[1]Sheet1!$A$1:$C$65512,3,FALSE)","v":{"$error":"#N/A"}},null,null,"No info","линк","https://bg.toolsworld.com/search/?query=","https://bg.toolsworld.com/search/?query=748505"]
[756149,"Vízálló csiszolópapír, P 240, 230 х 280 mm, 10 db// MTX",354,"B","Active",{"$f":"VLOOKUP(A4935,[1]Sheet1!$A$1:$C$65512,3,FALSE)","v":663},null,null,"No info","линк","https://bg.toolsworld.com/search/?query=","https://bg.toolsworld.com/search/?query=756149"]
[756189,"Vízálló csiszolópapír, P 400, 230 х 280 mm, 10 db// MTX",354,"B","Active",{"$f":"VLOOKUP(A4936,[1]Sheet1!$A$1:$C$65512,3,FALSE)","v":594},null,null,"No info","линк","https://bg.toolsworld.com/search/?query=","https://bg.toolsworld.com/search/?query=756189"]
[766099,"kézi menetvágó készlet, 2 db M4 x 0,7 mm// MTX",334,"B","Active",{"$f":"VLOOKUP(A4937,[1]Sheet1!$A$1:$C$65512,3,FALSE)","v":1267},null,null,"No info","линк","https://bg.toolsworld.com/search/?query=","https://bg.toolsworld.com/search/?query=766099"]
[766139,"kézi menetvágó készlet, 2 db M5 x 0,8 mm// MTX",379,"B","Active",{"$f":"VLOOKUP(A4938,[1]Sheet1!$A$1:$C$65512,3,FALSE)","v":844},null,null,"No info","линк","https://bg.toolsworld.com/search/?query=","https://bg.toolsworld.com/search/?query=766139"]
[766179,"kézi menetvágó készlet, 2 db M6 x 1,0 mm// MTX",395,"B","Active",{"$f":"VLOOKUP(A4939,[1]Sheet1!$A$1:$C$65512,3,FALSE)","v":654},null,null,"No info","линк","https://bg.toolsworld.com/search/?query=","https://bg.toolsworld.com/search/?query=766179"]
[766229,"kézi menetvágó készlet, 2 db M8 x 1,25 mm// MTX",524,"B","Active",{"$f":"VLOOKUP(A4940,[1]Sheet1!$A$1:$C$65512,3,FALSE)","v":716},null,null,"No info","линк","https://bg.toolsworld.com/search/?query=","https://bg.toolsworld.com/search/?query=766229"]
[766289,"kézi menetvágó készlet, 2 db M10 x 1,5 mm// MTX",668,"B","Active",{"$f":"VLOOKUP(A4941,[1]Sheet1!$A$1:$C$65512,3,FALSE)","v":733},null,null,"No info","линк","https://bg.toolsworld.com/search/?query=","https://bg.toolsworld.com/search/?query=766289"]
[766349,"kézi menetvágó készlet, 2 db M12 x 1,75 mm// MTX",849,"B","Active",{"$f":"VLOOKUP(A4942,[1]Sheet1!$A$1:$C$65512,3,FALSE)","v":295},null,null,"No info","линк","https://bg.toolsworld.com/search/?query=","https://bg.toolsworld.com/search/?query=766349"]
[766379,"kézi menetvágó készlet, 2 db M14 x 2,0 mm// MTX",1122,"B","Active",{"$f":"VLOOKUP(A4943,[1]Sheet1!$A$1:$C$65512,3,FALSE)","v":304},null,null,"No info","линк","https://bg.toolsworld.com/search/?query=","https://bg.toolsworld.com/search/?query=766379"]
[766469,"kézi menetvágó készlet, 2 db M16 x 2,0 mm// MTX",1314,"B","Active",{"$f":"VLOOKUP(A4944,[1]Sheet1!$A$1:$C$65512,3,FALSE)","v":255},null,null,"No info","линк","https://bg.toolsworld.com/search/?query=","https://bg.toolsworld.com/search/?query=766469"]
[766489,"kézi menetvágó készlet, 2 db M18 x 2,5 mm// MTX",1752,"B","Active",{"$f":"VLOOKUP(A4945,[1]Sheet1!$A$1:$C$65512,3,FALSE)","v":334},null,null,"No info",{"$f":"HYPERLINK(L4945,\"линк\")","v":"линк"},"https://bg.toolsworld.com/search/?query=","https://bg.toolsworld.com/search/?query=766489"]
[766569,"kézi menetvágó készlet, 2 db M20 x 2,5 mm// MTX",2123,"B","Active",{"$f":"VLOOKUP(A4946,[1]Sheet1!$A$1:$C$65512,3,FALSE)","v":183},null,null,"No info","линк","https://bg.toolsworld.com/search/?query=","https://bg.toolsworld.com/search/?query=766569"]
[766659,"kézi menetvágó készlet, 2 db M24 x 3,0 mm// MTX",2980,"B","Active",{"$f":"VLOOKUP(A4947,[1]Sheet1!$A$1:$C$65512,3,FALSE)","v":275},null,null,"No info","линк","https://bg.toolsworld.com/search/?query=","https://bg.toolsworld.com/search/?query=766659"]
[774389,"Menet metsző fogó 1 1/2'' (38mm)//MTX",1762,"B","Active",{"$f":"VLOOKUP(A4948,[1]Sheet1!$A$1:$C$65512,3,FALSE)","v":{"$error":"#N/A"}},null,null,"No info","линк","https://bg.toolsworld.com/search/?query=","https://bg.toolsworld.com/search/?query=774389"]
[784047,"Csővágó műanyaghoz, porszórt, átmérő 42mm-ig// Sparta",965,"B","Active",{"$f":"VLOOKUP(A4949,[1]Sheet1!$A$1:$C$65512,3,FALSE)","v":2070},null,null,"No info","линк","https://bg.toolsworld.com/search/?query=","https://bg.toolsworld.com/search/?query=784047"]
[784069,"Csővágó műanyaghoz, automata, átmérő 35mm// MTX",1570,"B","Active",{"$f":"VLOOKUP(A4950,[1]Sheet1!$A$1:$C$65512,3,FALSE)","v":1788},null,null,"No info","линк","https://bg.toolsworld.com/search/?query=","https://bg.toolsworld.com/search/?query=784069"]
[876709,"Vágógörgő csempevágókhoz, 22,0 x 10,5 x 2,0 mm// MTX",521,"B","Active",{"$f":"VLOOKUP(A4951,[1]Sheet1!$A$1:$C$65512,3,FALSE)","v":{"$error":"#N/A"}},null,null,"No info","линк","https://bg.toolsworld.com/search/?query=","https://bg.toolsworld.com/search/?query=876709"]
[886125,"Tömítő pisztoly váz típus 310ml, nagy teherbírás rögzítővel, hatlapú rúd 7mm// Sparta",894,"B","Active",{"$f":"VLOOKUP(A4952,[1]Sheet1!$A$1:$C$65512,3,FALSE)","v":{"$error":"#N/A"}},null,null,"No info","линк","https://bg.toolsworld.com/search/?query=","https://bg.toolsworld.com/search/?query=886125"]
[939115,"Kertészeti gyapjú, 30g/m2, 1,6 x 10, fehér// Россия",1129,"B","Active",{"$f":"VLOOKUP(A4953,[1]Sheet1!$A$1:$C$65512,3,FALSE)","v":1},null,null,"No info","линк","https://bg.toolsworld.com/search/?query=","https://bg.toolsworld.com/search/?query=939115"]
[939165,"Takaró rózsákhoz és cserjékhez 0,4x 0,8 // Россия",965,"B","Active",{"$f":"VLOOKUP(A4954,[1]Sheet1!$A$1:$C$65512,3,FALSE)","v":{"$error":"#N/A"}},null,null,"No info","линк","https://bg.toolsworld.com/search/?query=","https://bg.toolsworld.com/search/?query=939165"]
[939225,"Csomagolt polietilén fólia 10 x 3m, 60 mikron// Oroszország",2810,"B","Active",{"$f":"VLOOKUP(A4955,[1]Sheet1!$A$1:$C$65512,3,FALSE)","v":{"$error":"#N/A"}},null,null,"No info","линк","https://bg.toolsworld.com/search/?query=","https://bg.toolsworld.com/search/?query=939225"]
[997019,"Nyomós víztartály vízszintes PWT-24, 24 liter// MTX",11737,"B","Active",{"$f":"VLOOKUP(A4956,[1]Sheet1!$A$1:$C$65512,3,FALSE)","v":{"$error":"#N/A"}},null,null,"No info","линк","https://bg.toolsworld.com/search/?query=","https://bg.toolsworld.com/search/?query=997019"]
[1554557,"Állítható csavarkulcs, krómozott, 450mm// Sparta",5160,"B","Active",{"$f":"VLOOKUP(A4957,[1]Sheet1!$A$1:$C$65512,3,FALSE)","v":41},null,null,"No info","линк","https://bg.toolsworld.com/search/?query=","https://bg.toolsworld.com/search/?query=1554557"]
[2205077,"Feszeszár, FSC, 900 mm// Palisad",1384,"B","Active",{"$f":"VLOOKUP(A4958,[1]Sheet1!$A$1:$C$65512,3,FALSE)","v":38},null,null,"No info","линк","https://bg.toolsworld.com/search/?query=","https://bg.toolsworld.com/search/?query=2205077"]
[6054958,"Bypass metszővágó, 200 mm, gumírozott fém fogantyúk// Palisad",1104,"B","Active",{"$f":"VLOOKUP(A4959,[1]Sheet1!$A$1:$C$65512,3,FALSE)","v":{"$error":"#N/A"}},null,null,"No info","линк","https://bg.toolsworld.com/search/?query=","https://bg.toolsworld.com/search/?query=6054958"]
[6841277,"Fa tengely, FSC, 32x1300 mm// Palisad",958,"B","Active",{"$f":"VLOOKUP(A4960,[1]Sheet1!$A$1:$C$65512,3,FALSE)","v":909},null,null,"No info","линк","https://bg.toolsworld.com/search/?query=","https://bg.toolsworld.com/search/?query=6841277"]
[6845477,"Kalapács nyél, FSC, 350 mm// Palisad",435,"B","Active",{"$f":"VLOOKUP(A4961,[1]Sheet1!$A$1:$C$65512,3,FALSE)","v":614},null,null,"No info","линк","https://bg.toolsworld.com/search/?query=","https://bg.toolsworld.com/search/?query=6845477"]
[6845577,"Kalapács nyél, FSC, 400 mm// Palisad",504,"B","Active",{"$f":"VLOOKUP(A4962,[1]Sheet1!$A$1:$C$65512,3,FALSE)","v":{"$error":"#N/A"}},null,null,"No info","линк","https://bg.toolsworld.com/search/?query=","https://bg.toolsworld.com/search/?query=6845577"]
[7718711,"Régi véső védőburkolattal, 10\"x 3/4\"// Denzel",3224,"B","Active",{"$f":"VLOOKUP(A4963,[1]Sheet1!$A$1:$C$65512,3,FALSE)","v":{"$error":"#N/A"}},null,null,"No info","линк","https://bg.toolsworld.com/search/?query=","https://bg.toolsworld.com/search/?query=7718711"]
[7718714,"Kőműves véső védőburkolattal, 8\"x 1 3/4\"// Denzel",3072,"B","Active",{"$f":"VLOOKUP(A4964,[1]Sheet1!$A$1:$C$65512,3,FALSE)","v":21},null,null,"No info","линк","https://bg.toolsworld.com/search/?query=","https://bg.toolsworld.com/search/?query=7718714"]
[9614177,"Zsinór trimmerhez, kerek, 2,7mm x 15m, bliszter// Denzel",539,"B","Active",{"$f":"VLOOKUP(A4965,[1]Sheet1!$A$1:$C$65512,3,FALSE)","v":{"$error":"#N/A"}},null,null,"No info","линк","https://bg.toolsworld.com/search/?query=","https://bg.toolsworld.com/search/?query=9614177"]
[135407,"6 DB SZERSZÁM KÉSZLET// Sparta",3174,"B","Active",{"$f":"VLOOKUP(A4966,[1]Sheet1!$A$1:$C$65512,3,FALSE)","v":764},null,null,"No info",{"$f":"HYPERLINK(L4966,\"линк\")","v":"линк"},"https://bg.toolsworld.com/search/?query=",{"$f":"CONCATENATE(K4966,A4966)","v":"https://bg.toolsworld.com/search/?query=135407"}]
[266107,"Elektromos ütvefúró RHV-1100-26, SDS-plus, 1100 W, 4 J, 3 funkció// Denzel",33814,"B","Active",{"$f":"VLOOKUP(A4967,[1]Sheet1!$A$1:$C$65512,3,FALSE)","v":607},null,null,"No info","линк","https://bg.toolsworld.com/search/?query=","https://bg.toolsworld.com/search/?query=266107"]
[266127,"Elektromos ütvefúró RHV-1250-30, SDS-plus, 1250 W, 5 J, 3 plusz 1 funkció// Denzel",44645,"B","Active",{"$f":"VLOOKUP(A4968,[1]Sheet1!$A$1:$C$65512,3,FALSE)","v":273},null,null,"No info","линк","https://bg.toolsworld.com/search/?query=","https://bg.toolsworld.com/search/?query=266127"]
[266207,"Elektromos ütvefúró RHV-1050-38-max, SDS-max, 1050 W, 10 J, 2 plusz 1 funkció// Denzel",53279,"B","Active",{"$f":"VLOOKUP(A4969,[1]Sheet1!$A$1:$C$65512,3,FALSE)","v":347},null,null,"No info","линк","https://bg.toolsworld.com/search/?query=","https://bg.toolsworld.com/search/?query=266207"]
[740779,"Lamellás csiszolótárcsa, kúpos profil, P 40, 115 x 22,2 mm// Sparta",222,"B","Active",{"$f":"VLOOKUP(A4970,[1]Sheet1!$A$1:$C$65512,3,FALSE)","v":1342},null,null,"No info","линк","https://bg.toolsworld.com/search/?query=","https://bg.toolsworld.com/search/?query=740779"]
[740789,"Lamellás csiszolótárcsa, kúpos profil, P 60, 115 x 22,2 mm// Sparta",222,"B","Active",{"$f":"VLOOKUP(A4971,[1]Sheet1!$A$1:$C$65512,3,FALSE)","v":1327},null,null,"No info","линк","https://bg.toolsworld.com/search/?query=","https://bg.toolsworld.com/search/?query=740789"]
[740799,"Lamellás csiszolótárcsa, kúpos profil, P 80, 115 x 22,2 mm// Sparta",222,"B","Active",{"$f":"VLOOKUP(A4972,[1]Sheet1!$A$1:$C$65512,3,FALSE)","v":" "},null,null,"No info","линк","https://bg.toolsworld.com/search/?query=","https://bg.toolsworld.com/search/?query=740799"]
[740839,"Lamellás csiszolótárcsa, kúpos profil, P 40, 125 x 22,2 mm// Sparta",242,"B","Active",{"$f":"VLOOKUP(A4973,[1]Sheet1!$A$1:$C$65512,3,FALSE)","v":1046},null,null,"No info","линк","https://bg.toolsworld.com/search/?query=","https://bg.toolsworld.com/search/?query=740839"]
[740849,"Lamellás csiszolótárcsa, kúpos profil, P 60, 125 x 22,2 mm// Sparta",242,"B","Active",{"$f":"VLOOKUP(A4974,[1]Sheet1!$A$1:$C$65512,3,FALSE)","v":1791},null,null,"No info","линк","https://bg.toolsworld.com/search/?query=","https://bg.toolsworld.com/search/?query=740849"]
[740859,"Lamellás csiszolótárcsa, kúpos profil, P 80, 125 x 22,2 mm// Sparta",242,"B","Active",{"$f":"VLOOKUP(A4975,[1]Sheet1!$A$1:$C$65512,3,FALSE)","v":1726},null,null,"No info","линк","https://bg.toolsworld.com/search/?query=","https://bg.toolsworld.com/search/?query=740859"]
[756289,"Vízálló csiszolópapír, P 1500, 230 õ 280 mm, 10 db// MTX",354,"B","Active",{"$f":"VLOOKUP(A4976,[1]Sheet1!$A$1:$C$65512,3,FALSE)","v":584},null,null,"No info","линк","https://bg.toolsworld.com/search/?query=","https://bg.toolsworld.com/search/?query=756289"]
[789747,"Könnyű papírvágó 18 mm// Sparta",89,"B","Active",{"$f":"VLOOKUP(A4977,[1]Sheet1!$A$1:$C$65512,3,FALSE)","v":4019},null,null,"No info","линк","https://bg.toolsworld.com/search/?query=","https://bg.toolsworld.com/search/?query=789747"]
[894109,"Védő térdvédő// MTX",1917,"B","Active",{"$f":"VLOOKUP(A4978,[1]Sheet1!$A$1:$C$65512,3,FALSE)","v":717},null,null,"No info","линк","https://bg.toolsworld.com/search/?query=","https://bg.toolsworld.com/search/?query=894109"]
[2424057,"4 db Laposvéső készlet, 6-12-18-24mm fa fogantyúval// Sparta",1576,"B","Active",{"$f":"VLOOKUP(A4979,[1]Sheet1!$A$1:$C$65512,3,FALSE)","v":1611},null,null,"No info","линк","https://bg.toolsworld.com/search/?query=","https://bg.toolsworld.com/search/?query=2424057"]
[96611,"Elektromos Fűkasza TE-1200, 1200 W, 380 mm, orsó + tárcsa, hordozható rúd// Denzel",35368,"B","Active",{"$f":"VLOOKUP(A4980,[1]Sheet1!$A$1:$C$65512,3,FALSE)","v":{"$error":"#N/A"}},null,null,"No info",{"$f":"HYPERLINK(L4980,\"линк\")","v":"линк"},"https://bg.toolsworld.com/search/?query=","https://bg.toolsworld.com/search/?query=96611"]
[104405,"Ács kalapács, 450g, 27 mm, fém gumicső fogantyúval// Sparta",1639,"B","Active",{"$f":"VLOOKUP(A4981,[1]Sheet1!$A$1:$C$65512,3,FALSE)","v":{"$error":"#N/A"}},null,null,"No info","линк","https://bg.toolsworld.com/search/?query=","https://bg.toolsworld.com/search/?query=104405"]
[574059,"Pneumatikus szegező 10-32 mm// Mátrix",8416,"B","Active",{"$f":"VLOOKUP(A4982,[1]Sheet1!$A$1:$C$65512,3,FALSE)","v":349},null,null,"No info","линк","https://bg.toolsworld.com/search/?query=","https://bg.toolsworld.com/search/?query=574059"]
[598147,"Vezetőlemez DGS-4516P láncfűrészhez, hossz 40 cm (16\"), emelkedés 0,325\", nyomtáv 1,5 mm, 64 lengőkar// Denzel",2267,"B","Active",{"$f":"VLOOKUP(A4983,[1]Sheet1!$A$1:$C$65512,3,FALSE)","v":573},null,null,"No info","линк","https://bg.toolsworld.com/search/?query=","https://bg.toolsworld.com/search/?query=598147"]
[598157,"Lánc DGS-4516P láncfűrészhez, vezetőlemez 40 cm (16\"), emelkedés 0,325\", nyomtáv 1,5 mm, 64 lengőkar// Denzel",2523,"B","Active",{"$f":"VLOOKUP(A4984,[1]Sheet1!$A$1:$C$65512,3,FALSE)","v":1131},null,null,"No info","линк","https://bg.toolsworld.com/search/?query=","https://bg.toolsworld.com/search/?query=598157"]
[723137,"Süllyesztett fúrókészlet, HSS, M3-M10, fém ház, 6 db // Denzel",4773,"B","Active",{"$f":"VLOOKUP(A4985,[1]Sheet1!$A$1:$C$65512,3,FALSE)","v":156},null,null,"No info","линк","https://bg.toolsworld.com/search/?query=","https://bg.toolsworld.com/search/?query=723137"]
[773097,"8 db-os menet metsző készlet, M3-M12// SPARTA",2852,"B","Active",{"$f":"VLOOKUP(A4986,[1]Sheet1!$A$1:$C$65512,3,FALSE)","v":239},null,null,"No info","линк","https://bg.toolsworld.com/search/?query=","https://bg.toolsworld.com/search/?query=773097"]
[1775155,"Kábelvágó fogó, hüvely nyelek, 165 mm// MTX",917,"B","Active",{"$f":"VLOOKUP(A4987,[1]Sheet1!$A$1:$C$65512,3,FALSE)","v":311},null,null,"No info","линк","https://bg.toolsworld.com/search/?query=","https://bg.toolsworld.com/search/?query=1775155"]
[1775255,"Kábelvágó,ú fogó hüvely nylek, 215 mm// MTX",1242,"B","Active",{"$f":"VLOOKUP(A4988,[1]Sheet1!$A$1:$C$65512,3,FALSE)","v":186},null,null,"No info","линк","https://bg.toolsworld.com/search/?query=","https://bg.toolsworld.com/search/?query=1775255"]
[7042407,"Süllyesztett fúrókészlet, 3-5mm, 4 db. // Denzel",2826,"B","Active",{"$f":"VLOOKUP(A4989,[1]Sheet1!$A$1:$C$65512,3,FALSE)","v":217},null,null,"No info","линк","https://bg.toolsworld.com/search/?query=","https://bg.toolsworld.com/search/?query=7042407"]
[7042727,"Süllyesztett fúrókészlet fához, 3-10mm, 7 db // Denzel",3271,"B","Active",{"$f":"VLOOKUP(A4990,[1]Sheet1!$A$1:$C$65512,3,FALSE)","v":114},null,null,"No info","линк","https://bg.toolsworld.com/search/?query=","https://bg.toolsworld.com/search/?query=7042727"]
[41000,"Bútortűző, állítható (Handwerker), fém, 53 tűzős típus, 4-14 mm// Bruttó",4270,"B","Active",{"$f":"VLOOKUP(A4991,[1]Sheet1!$A$1:$C$65512,3,FALSE)","v":745},null,null,"No info",{"$f":"HYPERLINK(L4991,\"линк\")","v":"линк"},"https://bg.toolsworld.com/search/?query=","https://bg.toolsworld.com/search/?query=41000"]
[88050,"Csempekiegyenlítő rendszer - ékek, 50 db, zacskóban// Ñèáðòåõ",611,"B","Active",{"$f":"VLOOKUP(A4992,[1]Sheet1!$A$1:$C$65512,3,FALSE)","v":{"$error":"#N/A"}},null,null,"No info","линк","https://bg.toolsworld.com/search/?query=","https://bg.toolsworld.com/search/?query=88050"]
[103057,"Gépész kalapács fa nyéllel, 100 g, szögletes toll, EFP// Denzel",962,"B","Active",{"$f":"VLOOKUP(A4993,[1]Sheet1!$A$1:$C$65512,3,FALSE)","v":355},null,null,"No info","линк","https://bg.toolsworld.com/search/?query=","https://bg.toolsworld.com/search/?query=103057"]
[103067,"Gépész kalapács fa nyéllel, 200 g, szögletes toll, EFP// Denzel",1242,"B","Active",{"$f":"VLOOKUP(A4994,[1]Sheet1!$A$1:$C$65512,3,FALSE)","v":139},null,null,"No info","линк","https://bg.toolsworld.com/search/?query=","https://bg.toolsworld.com/search/?query=103067"]
[103077,"Gépész kalapács fa nyéllel, 300 g, szögletes toll, EFP// Denzel",1423,"B","Active",{"$f":"VLOOKUP(A4995,[1]Sheet1!$A$1:$C$65512,3,FALSE)","v":199},null,null,"No info","линк","https://bg.toolsworld.com/search/?query=","https://bg.toolsworld.com/search/?query=103077"]
[103087,"Gépész kalapács fa nyéllel, 400 g, szögletes toll, EFP// Denzel",1651,"B","Active",{"$f":"VLOOKUP(A4996,[1]Sheet1!$A$1:$C$65512,3,FALSE)","v":334},null,null,"No info","линк","https://bg.toolsworld.com/search/?query=","https://bg.toolsworld.com/search/?query=103087"]
[103097,"Gépész kalapács fa nyéllel, 500 g, szögletes toll, EFP// Denzel",1861,"B","Active",{"$f":"VLOOKUP(A4997,[1]Sheet1!$A$1:$C$65512,3,FALSE)","v":276},null,null,"No info","линк","https://bg.toolsworld.com/search/?query=","https://bg.toolsworld.com/search/?query=103097"]
[103107,"Gépész kalapács fa nyéllel, 600 g, szögletes toll, EFP// Denzel",2189,"B","Active",{"$f":"VLOOKUP(A4998,[1]Sheet1!$A$1:$C$65512,3,FALSE)","v":349},null,null,"No info","линк","https://bg.toolsworld.com/search/?query=","https://bg.toolsworld.com/search/?query=103107"]
[103117,"Gépész kalapács fa nyéllel, 800 g, szögletes toll, EFP// Denzel",2543,"B","Active",{"$f":"VLOOKUP(A4999,[1]Sheet1!$A$1:$C$65512,3,FALSE)","v":225},null,null,"No info","линк","https://bg.toolsworld.com/search/?query=","https://bg.toolsworld.com/search/?query=103117"]
[103127,"Gépész kalapács fa nyéllel, 1000 g, szögletes toll, EFP// Denzel",2875,"B","Active",{"$f":"VLOOKUP(A5000,[1]Sheet1!$A$1:$C$65512,3,FALSE)","v":132},null,null,"No info","линк","https://bg.toolsworld.com/search/?query=","https://bg.toolsworld.com/search/?query=103127"]
[103137,"Gépész kalapács fa nyéllel, 1500 g, szögletes toll, EFP// Denzel",3649,"B","Active",{"$f":"VLOOKUP(A5001,[1]Sheet1!$A$1:$C$65512,3,FALSE)","v":164},null,null,"No info","линк","https://bg.toolsworld.com/search/?query=","https://bg.toolsworld.com/search/?query=103137"]
[117727,"Csavarhúzó \"Point\", PH2 õ 38 mm, 2 komponensű fogantyú// Sparta",224,"B","Active",{"$f":"VLOOKUP(A5002,[1]Sheet1!$A$1:$C$65512,3,FALSE)","v":2860},null,null,"No info","линк","https://bg.toolsworld.com/search/?query=","https://bg.toolsworld.com/search/?query=117727"]
[117807,"Point csavarhúzó, PH2 õ 150 mm, 2 komponensű fogantyú// Sparta",336,"B","Active",{"$f":"VLOOKUP(A5003,[1]Sheet1!$A$1:$C$65512,3,FALSE)","v":121},null,null,"No info","линк","https://bg.toolsworld.com/search/?query=","https://bg.toolsworld.com/search/?query=117807"]
[142797,"Gyűrűs villáskulcs, ütés 55 mm// Stels",5798,"B","Active",{"$f":"VLOOKUP(A5004,[1]Sheet1!$A$1:$C$65512,3,FALSE)","v":6},null,null,"No info","линк","https://bg.toolsworld.com/search/?query=","https://bg.toolsworld.com/search/?query=142797"]
[157409,"Csőkulcs ¹2, 1,5\", ívelt pofákkal// MTX",3293,"B","Active",{"$f":"VLOOKUP(A5005,[1]Sheet1!$A$1:$C$65512,3,FALSE)","v":266},null,null,"No info","линк","https://bg.toolsworld.com/search/?query=","https://bg.toolsworld.com/search/?query=157409"]
[157579,"Csőkulcs ¹0, öntött// MTX",2341,"B","Active",{"$f":"VLOOKUP(A5006,[1]Sheet1!$A$1:$C$65512,3,FALSE)","v":148},null,null,"No info","линк","https://bg.toolsworld.com/search/?query=","https://bg.toolsworld.com/search/?query=157579"]
[159237,"Szögletes reszelő 150 mm, fa nyél// Sparta",378,"B","Active",{"$f":"VLOOKUP(A5007,[1]Sheet1!$A$1:$C$65512,3,FALSE)","v":191},null,null,"No info","линк","https://bg.toolsworld.com/search/?query=","https://bg.toolsworld.com/search/?query=159237"]
[160297,"Háromszög reszelő 250 mm, fa nyél// Sparta",682,"B","Active",{"$f":"VLOOKUP(A5008,[1]Sheet1!$A$1:$C$65512,3,FALSE)","v":{"$error":"#N/A"}},null,null,"No info","линк","https://bg.toolsworld.com/search/?query=","https://bg.toolsworld.com/search/?query=160297"]
[161267,"Körreszelő 200 mm, fa nyél// Sparta",416,"B","Active",{"$f":"VLOOKUP(A5009,[1]Sheet1!$A$1:$C$65512,3,FALSE)","v":234},null,null,"No info","линк","https://bg.toolsworld.com/search/?query=","https://bg.toolsworld.com/search/?query=161267"]
[162297,"Lapos reszelő 250 mm, fa nyél// Sparta",630,"B","Active",{"$f":"VLOOKUP(A5010,[1]Sheet1!$A$1:$C$65512,3,FALSE)","v":484},null,null,"No info","линк","https://bg.toolsworld.com/search/?query=","https://bg.toolsworld.com/search/?query=162297"]
[183069,"Bőr lyukasztó készlet 6 db 3, 4, 6, 8, 10, 12,5 mm, táska// MTX",1627,"B","Active",{"$f":"VLOOKUP(A5011,[1]Sheet1!$A$1:$C$65512,3,FALSE)","v":208},null,null,"No info","линк","https://bg.toolsworld.com/search/?query=","https://bg.toolsworld.com/search/?query=183069"]
[216317,"Hidegen kovácsolt fejsze 600g, fa nyél, EFP // Denzel",2945,"B","Active",{"$f":"VLOOKUP(A5012,[1]Sheet1!$A$1:$C$65512,3,FALSE)","v":215},null,null,"No info","линк","https://bg.toolsworld.com/search/?query=","https://bg.toolsworld.com/search/?query=216317"]
[216337,"Hidegen kovácsolt fejsze 800g, fa nyél, EFP// Denzel",3361,"B","Active",{"$f":"VLOOKUP(A5013,[1]Sheet1!$A$1:$C$65512,3,FALSE)","v":145},null,null,"No info","линк","https://bg.toolsworld.com/search/?query=","https://bg.toolsworld.com/search/?query=216337"]
[216347,"Hidegen kovácsolt fejsze 1000 g, fa nyél, EFP// Denzel",3830,"B","Active",{"$f":"VLOOKUP(A5014,[1]Sheet1!$A$1:$C$65512,3,FALSE)","v":121},null,null,"No info","линк","https://bg.toolsworld.com/search/?query=","https://bg.toolsworld.com/search/?query=216347"]
[409169,"Bútortűző, fém, gyorstartó, 53-as tűzős típus, 6-10 mm// MTX",4460,"B","Active",{"$f":"VLOOKUP(A5015,[1]Sheet1!$A$1:$C$65512,3,FALSE)","v":899},null,null,"No info","линк","https://bg.toolsworld.com/search/?query=","https://bg.toolsworld.com/search/?query=409169"]
[409179,"Bútortűző, fém, gyorstartó, 53 tűzős típus, 4-14 mm// MTX",5381,"B","Active",{"$f":"VLOOKUP(A5016,[1]Sheet1!$A$1:$C$65512,3,FALSE)","v":843},null,null,"No info","линк","https://bg.toolsworld.com/search/?query=","https://bg.toolsworld.com/search/?query=409179"]
[475497,"Fém tömlőbilincsek, kulcs alakú rögzítőelem 20-32 mm, 50 db// MTX",3333,"B","Active",{"$f":"VLOOKUP(A5017,[1]Sheet1!$A$1:$C$65512,3,FALSE)","v":14},null,null,"No info","линк","https://bg.toolsworld.com/search/?query=","https://bg.toolsworld.com/search/?query=475497"]
[475777,"W2 acél bilincsek szabványos csavarozás 10*16 mm, 100db/zsák, szélesség 9mm// MTX",4336,"B","Active",{"$f":"VLOOKUP(A5018,[1]Sheet1!$A$1:$C$65512,3,FALSE)","v":40},null,null,"No info","линк","https://bg.toolsworld.com/search/?query=","https://bg.toolsworld.com/search/?query=475777"]
[475787,"W2 acél bilincsek szabványos csavarozás 12*20 mm, 100db/zsák, szélesség 9mm// MTX",4434,"B","Active",{"$f":"VLOOKUP(A5019,[1]Sheet1!$A$1:$C$65512,3,FALSE)","v":80},null,null,"No info","линк","https://bg.toolsworld.com/search/?query=","https://bg.toolsworld.com/search/?query=475787"]
[647418,"Kioldó permetező 0,75L// Palisad",322,"B","Active",{"$f":"VLOOKUP(A5020,[1]Sheet1!$A$1:$C$65512,3,FALSE)","v":204},null,null,"No info","линк","https://bg.toolsworld.com/search/?query=","https://bg.toolsworld.com/search/?query=647418"]
[702387,"Famegmunkáló csigafúró, 10 mm, egyenes szár// SPARTA",152,"B","Active",{"$f":"VLOOKUP(A5021,[1]Sheet1!$A$1:$C$65512,3,FALSE)","v":456},null,null,"No info","линк","https://bg.toolsworld.com/search/?query=","https://bg.toolsworld.com/search/?query=702387"]
[756169,"Vízálló csiszolópapír, P 320, 230 õ 280 mm, 10 db// MTX",354,"B","Active",{"$f":"VLOOKUP(A5022,[1]Sheet1!$A$1:$C$65512,3,FALSE)","v":580},null,null,"No info","линк","https://bg.toolsworld.com/search/?query=","https://bg.toolsworld.com/search/?query=756169"]
[789737,"Könnyű papírvágó, 18 mm, teleszkópos kaparókés, fémvezető// Sparta",204,"B","Active",{"$f":"VLOOKUP(A5023,[1]Sheet1!$A$1:$C$65512,3,FALSE)","v":{"$error":"#N/A"}},null,null,"No info","линк","https://bg.toolsworld.com/search/?query=","https://bg.toolsworld.com/search/?query=789737"]
[892607,"Összecsukható szűrő félálarc FFP2 NR, szelepek nélkül, D-4201 modell, 3db// Denzel",382,"B","Active",{"$f":"VLOOKUP(A5024,[1]Sheet1!$A$1:$C$65512,3,FALSE)","v":3143},null,null,"No info","линк","https://bg.toolsworld.com/search/?query=","https://bg.toolsworld.com/search/?query=892607"]
[892617,"Összecsukható szűrő félálarc FFP2 NR, kilégzőszeleppel, modell D-4201V// Denzel",186,"B","Active",{"$f":"VLOOKUP(A5025,[1]Sheet1!$A$1:$C$65512,3,FALSE)","v":{"$error":"#N/A"}},null,null,"No info","линк","https://bg.toolsworld.com/search/?query=","https://bg.toolsworld.com/search/?query=892617"]
[892627,"Csésze alakú szűrő félálarc FFP2 NR, szelepek nélkül, modell D-4101, 5db// Denzel",850,"B","Active",{"$f":"VLOOKUP(A5026,[1]Sheet1!$A$1:$C$65512,3,FALSE)","v":1999},null,null,"No info","линк","https://bg.toolsworld.com/search/?query=","https://bg.toolsworld.com/search/?query=892627"]
[892637,"Csésze alakú szűrő félálarc FFP2 NR, kilégzőszeleppel, modell D-4101V// Denzel",238,"B","Active",{"$f":"VLOOKUP(A5027,[1]Sheet1!$A$1:$C$65512,3,FALSE)","v":{"$error":"#N/A"}},null,null,"No info","линк","https://bg.toolsworld.com/search/?query=","https://bg.toolsworld.com/search/?query=892637"]
[1083057,"Egyenesítő kalapács, penge 35mm kombinált fej, fa nyél// Sparta",1176,"B","Active",{"$f":"VLOOKUP(A5028,[1]Sheet1!$A$1:$C$65512,3,FALSE)","v":237},null,null,"No info","линк","https://bg.toolsworld.com/search/?query=","https://bg.toolsworld.com/search/?query=1083057"]
[2318557,"Fafűrész 400mm, 7-8 ??I, edzett fog, vonalzóval és fa nyéllel// Sparta",962,"B","Active",{"$f":"VLOOKUP(A5029,[1]Sheet1!$A$1:$C$65512,3,FALSE)","v":412},null,null,"No info","линк","https://bg.toolsworld.com/search/?query=",{"$f":"CONCATENATE(K5029,A5029)","v":"https://bg.toolsworld.com/search/?query=2318557"}]
[2439757,"4 db Vésőkészlet, 6-12-18-24mm, lapos penge, ütős műanyag nyéllel// Sparta",2137,"B","Active",{"$f":"VLOOKUP(A5030,[1]Sheet1!$A$1:$C$65512,3,FALSE)","v":250},null,null,"No info","линк","https://bg.toolsworld.com/search/?query=","https://bg.toolsworld.com/search/?query=2439757"]
[4000199,"Műanyag tűzőgép, 53 tűzős típus, 6-10mm// MTX",2546,"B","Active",{"$f":"VLOOKUP(A5031,[1]Sheet1!$A$1:$C$65512,3,FALSE)","v":980},null,null,"No info","линк","https://bg.toolsworld.com/search/?query=","https://bg.toolsworld.com/search/?query=4000199"]
[6843377,"Faszár, FSC, 40x1300 mm// Palisad",1386,"B","Active",{"$f":"VLOOKUP(A5032,[1]Sheet1!$A$1:$C$65512,3,FALSE)","v":2063},null,null,"No info","линк","https://bg.toolsworld.com/search/?query=","https://bg.toolsworld.com/search/?query=6843377"]
[9307057,"Átlátszó melegen olvadó ragasztórudak, 11 x 300 mm, 33 db.// Sparta",3225,"B","Active",{"$f":"VLOOKUP(A5033,[1]Sheet1!$A$1:$C$65512,3,FALSE)","v":{"$error":"#N/A"}},null,null,"No info","линк","https://bg.toolsworld.com/search/?query=","https://bg.toolsworld.com/search/?query=9307057"]
[22759,"Precíziós gérvágó doboz, kétsík, 600 mm-es fűrész, 2 bilincs, korlátozott pihenő// Bruttó",24616,"B","Active",{"$f":"VLOOKUP(A5034,[1]Sheet1!$A$1:$C$65512,3,FALSE)","v":149},null,null,"No info",{"$f":"HYPERLINK(L5034,\"линк\")","v":"линк"},"https://bg.toolsworld.com/search/?query=","https://bg.toolsworld.com/search/?query=22759"]
[103777,"Gépész kalapács, üvegszálas nyél gumi szárral, 700G// Sparta",1628,"B","Active",{"$f":"VLOOKUP(A5035,[1]Sheet1!$A$1:$C$65512,3,FALSE)","v":165},null,null,"No info","линк","https://bg.toolsworld.com/search/?query=","https://bg.toolsworld.com/search/?query=103777"]
[135347,"25db Gépész szerszámkészlet// Sparta",2877,"B","Active",{"$f":"VLOOKUP(A5036,[1]Sheet1!$A$1:$C$65512,3,FALSE)","v":292},null,null,"No info","линк","https://bg.toolsworld.com/search/?query=","https://bg.toolsworld.com/search/?query=135347"]
[143157,"Dupla villáskulcs 30x32 mm, sárga cink// Sparta",944,"B","Active",{"$f":"VLOOKUP(A5037,[1]Sheet1!$A$1:$C$65512,3,FALSE)","v":94},null,null,"No info","линк","https://bg.toolsworld.com/search/?query=","https://bg.toolsworld.com/search/?query=143157"]
[216417,"Axe, 1000 g, üvegszálas nyél// Sparta",2615,"B","Active",{"$f":"VLOOKUP(A5038,[1]Sheet1!$A$1:$C$65512,3,FALSE)","v":241},null,null,"No info","линк","https://bg.toolsworld.com/search/?query=","https://bg.toolsworld.com/search/?query=216417"]
[218079,"Hasító fejsze ékpengével, 1500 g, 430 mm, üvegszálas gumi bevonatú nyél// MТХ",3601,"B","Active",{"$f":"VLOOKUP(A5039,[1]Sheet1!$A$1:$C$65512,3,FALSE)","v":299},null,null,"No info","линк","https://bg.toolsworld.com/search/?query=","https://bg.toolsworld.com/search/?query=218079"]
[740769,"Lapos csiszolótárcsa, kúpos profil, P 24, 115 x 22,2 mm// Sparta",220,"B","Active",{"$f":"VLOOKUP(A5040,[1]Sheet1!$A$1:$C$65512,3,FALSE)","v":10},null,null,"No info","линк","https://bg.toolsworld.com/search/?query=","https://bg.toolsworld.com/search/?query=740769"]
[740829,"Lapos csiszolótárcsa, kúpos profil, P 24, 125 x 22,2 mm// Sparta",240,"B","Active",{"$f":"VLOOKUP(A5041,[1]Sheet1!$A$1:$C$65512,3,FALSE)","v":849},null,null,"No info","линк","https://bg.toolsworld.com/search/?query=","https://bg.toolsworld.com/search/?query=740829"]
[769209,"Csaptartó M6-M20// MTX",2339,"B","Active",{"$f":"VLOOKUP(A5042,[1]Sheet1!$A$1:$C$65512,3,FALSE)","v":297},null,null,"No info","линк","https://bg.toolsworld.com/search/?query=","https://bg.toolsworld.com/search/?query=769209"]
[1041067,"Karmos kalapács, 225g, 22 mm-es penge fa nyéllel// Sparta",896,"B","Active",{"$f":"VLOOKUP(A5043,[1]Sheet1!$A$1:$C$65512,3,FALSE)","v":227},null,null,"No info","линк","https://bg.toolsworld.com/search/?query=","https://bg.toolsworld.com/search/?query=1041067"]
[1042067,"Karmos kalapács, 450g, 27 mm-es penge fa nyéllel// Sparta",1288,"B","Active",{"$f":"VLOOKUP(A5044,[1]Sheet1!$A$1:$C$65512,3,FALSE)","v":82},null,null,"No info","линк","https://bg.toolsworld.com/search/?query=","https://bg.toolsworld.com/search/?query=1042067"]
[1156557,"Csavarhúzó T-típusú nyéllel, bitkészlet, 11 db.// Sparta",500,"B","Active",{"$f":"VLOOKUP(A5045,[1]Sheet1!$A$1:$C$65512,3,FALSE)","v":1060},null,null,"No info","линк","https://bg.toolsworld.com/search/?query=","https://bg.toolsworld.com/search/?query=1156557"]
[1336057,"Precíziós csavarhúzó készlet, 11 db.// Sparta",592,"B","Active",{"$f":"VLOOKUP(A5046,[1]Sheet1!$A$1:$C$65512,3,FALSE)","v":266},null,null,"No info","линк","https://bg.toolsworld.com/search/?query=","https://bg.toolsworld.com/search/?query=1336057"]
[60031788,"Férfi szandál, 41-es méret (fekete) // Россия",2147,"B","Active",{"$f":"VLOOKUP(A5047,[1]Sheet1!$A$1:$C$65512,3,FALSE)","v":13},null,null,"No info","линк","https://bg.toolsworld.com/search/?query=","https://bg.toolsworld.com/search/?query=60031788"]
[218347,"Pick Mattok, 1500g, keskeny, 900mm TPR Üvegszálas fogantyú//Denzel",4707,"B","Active",{"$f":"VLOOKUP(A5048,[1]Sheet1!$A$1:$C$65512,3,FALSE)","v":154},null,null,"No info","линк","https://bg.toolsworld.com/search/?query=","https://bg.toolsworld.com/search/?query=218347"]
[218357,"Pick Mattok, 2000g, keskeny, 900mm TPR Üvegszálas fogantyú//Denzel",5089,"B","Active",{"$f":"VLOOKUP(A5049,[1]Sheet1!$A$1:$C$65512,3,FALSE)","v":233},null,null,"No info","линк","https://bg.toolsworld.com/search/?query=","https://bg.toolsworld.com/search/?query=218357"]
[218387,"Pick Mattok, 2250g, széles, 900mm TPR Üvegszálas fogantyú//Denzel",5579,"B","Active",{"$f":"VLOOKUP(A5050,[1]Sheet1!$A$1:$C$65512,3,FALSE)","v":222},null,null,"No info","линк","https://bg.toolsworld.com/search/?query=","https://bg.toolsworld.com/search/?query=218387"]
[891789,"Arcvédő pajzs 190x345 mm, polikarbonát, OT-S modell",3833,"B","Active",{"$f":"VLOOKUP(A5051,[1]Sheet1!$A$1:$C$65512,3,FALSE)","v":613},null,null,"No info","линк","https://bg.toolsworld.com/search/?query=","https://bg.toolsworld.com/search/?query=891789"]
[963487,"Orsó félautomata trimmerhez DENZEL TE-250 (cikk 966197) buborékfóliához, anya M5 // DENZEL",1302,"B","Active",{"$f":"VLOOKUP(A5052,[1]Sheet1!$A$1:$C$65512,3,FALSE)","v":289},null,null,"No info","линк","https://bg.toolsworld.com/search/?query=","https://bg.toolsworld.com/search/?query=963487"]
[963497,"Automata trimmer orsó DENZEL TE-550 (cikk 966207) buborékfóliához, anya M6 // DENZEL",2042,"B","Active",{"$f":"VLOOKUP(A5053,[1]Sheet1!$A$1:$C$65512,3,FALSE)","v":354},null,null,"No info","линк","https://bg.toolsworld.com/search/?query=","https://bg.toolsworld.com/search/?query=963497"]
[966197,"Elektromos trimmer TE-250, 250 W, félautomata orsó// Denzel",7678,"B","Active",{"$f":"VLOOKUP(A5054,[1]Sheet1!$A$1:$C$65512,3,FALSE)","v":{"$error":"#N/A"}},null,null,"No info","линк","https://bg.toolsworld.com/search/?query=","https://bg.toolsworld.com/search/?query=966197"]
[966207,"Elektromos trimmer TE-550, 550 W, 330 mm automata orsó teleszkópos rúd dőlésszög állítás// Denzel",15316,"B","Active",{"$f":"VLOOKUP(A5055,[1]Sheet1!$A$1:$C$65512,3,FALSE)","v":57},null,null,"No info","линк","https://bg.toolsworld.com/search/?query=","https://bg.toolsworld.com/search/?query=966207"]
[144365,"Dupla villáskulcs 8x10 mm, krómozott// Sparta",187,"B","Active",{"$f":"VLOOKUP(A5056,[1]Sheet1!$A$1:$C$65512,3,FALSE)","v":759},null,null,"No info","линк","https://bg.toolsworld.com/search/?query=","https://bg.toolsworld.com/search/?query=144365"]
[6743088,"Átlátszó megerősített kerti tömlő, 3 rétegű, 1/2\", 25 m// Palisad",5831,"B","Active",{"$f":"VLOOKUP(A5057,[1]Sheet1!$A$1:$C$65512,3,FALSE)","v":{"$error":"#N/A"}},null,null,"No info","линк","https://bg.toolsworld.com/search/?query=","https://bg.toolsworld.com/search/?query=6743088"]
[6743288,"Átlátszó megerősített kerti tömlő, 3 rétegű, 1/2\", 15 m// Palisad",3484,"B","Active",{"$f":"VLOOKUP(A5058,[1]Sheet1!$A$1:$C$65512,3,FALSE)","v":{"$error":"#N/A"}},null,null,"No info","линк","https://bg.toolsworld.com/search/?query=","https://bg.toolsworld.com/search/?query=6743288"]
[103817,"Gépész kalapács, üvegszálas nyél gumi szárral, 1500G// Sparta",2657,"B","Active",{"$f":"VLOOKUP(A5059,[1]Sheet1!$A$1:$C$65512,3,FALSE)","v":107},null,null,"No info",{"$f":"HYPERLINK(L5059,\"линк\")","v":"линк"},"https://bg.toolsworld.com/search/?query=",{"$f":"CONCATENATE(K5059,A5059)","v":"https://bg.toolsworld.com/search/?query=103817"}]
[142747,"Ütő kulcs 32 mm// Stels",2743,"B","Active",{"$f":"VLOOKUP(A5060,[1]Sheet1!$A$1:$C$65512,3,FALSE)","v":32},null,null,"No info","линк","https://bg.toolsworld.com/search/?query=","https://bg.toolsworld.com/search/?query=142747"]
[142807,"Ütő kulcs 60 mm// Stels",7430,"B","Active",{"$f":"VLOOKUP(A5061,[1]Sheet1!$A$1:$C$65512,3,FALSE)","v":19},null,null,"No info","линк","https://bg.toolsworld.com/search/?query=","https://bg.toolsworld.com/search/?query=142807"]
[216377,"Balta, 600 g, üvegszálas nyél// Sparta",1882,"B","Active",{"$f":"VLOOKUP(A5062,[1]Sheet1!$A$1:$C$65512,3,FALSE)","v":829},null,null,"No info","линк","https://bg.toolsworld.com/search/?query=","https://bg.toolsworld.com/search/?query=216377"]
[770209,"Menet vágó M8 x 1,25 mm// MTX",362,"B","Active",{"$f":"VLOOKUP(A5063,[1]Sheet1!$A$1:$C$65512,3,FALSE)","v":{"$error":"#N/A"}},null,null,"No info","линк","https://bg.toolsworld.com/search/?query=","https://bg.toolsworld.com/search/?query=770209"]
[6005678,"Férfi szandál, 44-es méret (fuschia) // Россия",2199,"B","Active",{"$f":"VLOOKUP(A5064,[1]Sheet1!$A$1:$C$65512,3,FALSE)","v":{"$error":"#N/A"}},null,null,"No info","линк","https://bg.toolsworld.com/search/?query=","https://bg.toolsworld.com/search/?query=6005678"]
[6041188,"Összecsukható metszőfűrész, 175 mm, gumírozott műanyag nyél védő szektorral// Palisad",1728,"B","Active",{"$f":"VLOOKUP(A5065,[1]Sheet1!$A$1:$C$65512,3,FALSE)","v":410},null,null,"No info","линк","https://bg.toolsworld.com/search/?query=","https://bg.toolsworld.com/search/?query=6041188"]
[7718712,"Hideg véső védőburkolattal, 12\"x 1\"// Denzel",3224,"B","Active",{"$f":"VLOOKUP(A5066,[1]Sheet1!$A$1:$C$65512,3,FALSE)","v":{"$error":"#N/A"}},null,null,"No info","линк","https://bg.toolsworld.com/search/?query=","https://bg.toolsworld.com/search/?query=7718712"]
[60027777,"Női szandál, 39-es méret (ánizs) // Россия",2033,"B","Active",{"$f":"VLOOKUP(A5067,[1]Sheet1!$A$1:$C$65512,3,FALSE)","v":6},null,null,"No info","линк","https://bg.toolsworld.com/search/?query=","https://bg.toolsworld.com/search/?query=60027777"]
[59605,"Akkus ventilátor RB190-18, Li-ion, 18 V, 2 Ah, 190 km/h, 60 m3/h// Denzel",23655,"B","Active",{"$f":"VLOOKUP(A5068,[1]Sheet1!$A$1:$C$65512,3,FALSE)","v":{"$error":"#N/A"}},null,null,"No info",{"$f":"HYPERLINK(L5068,\"линк\")","v":"линк"},"https://bg.toolsworld.com/search/?query=",{"$f":"CONCATENATE(K5068,A5068)","v":"https://bg.toolsworld.com/search/?query=59605"}]
[73656,"Vágótárcsa fémhez 125 х 1,6 х 22,2 mm ",234,"B","Active",{"$f":"VLOOKUP(A5069,[1]Sheet1!$A$1:$C$65512,3,FALSE)","v":3331},null,null,"No info","линк","https://bg.toolsworld.com/search/?query=","https://bg.toolsworld.com/search/?query=73656"]
[73661,"Vágótárcsa fémhez 180 х 1,6 х 22,2 mm ",350,"B","Active",{"$f":"VLOOKUP(A5070,[1]Sheet1!$A$1:$C$65512,3,FALSE)","v":212},null,null,"No info","линк","https://bg.toolsworld.com/search/?query=","https://bg.toolsworld.com/search/?query=73661"]
[73680,"Vágótárcsa fémhez 230 х 2,0 х 22,2 mm ",569,"B","Active",{"$f":"VLOOKUP(A5071,[1]Sheet1!$A$1:$C$65512,3,FALSE)","v":722},null,null,"No info","линк","https://bg.toolsworld.com/search/?query=","https://bg.toolsworld.com/search/?query=73680"]
[73682,"Vágótárcsa fémhez 230 х 3,0 х 22,2 mm ",683,"B","Active",{"$f":"VLOOKUP(A5072,[1]Sheet1!$A$1:$C$65512,3,FALSE)","v":663},null,null,"No info","линк","https://bg.toolsworld.com/search/?query=","https://bg.toolsworld.com/search/?query=73682"]
[73744,"Fémvágó tárcsa, 230 х 2,5 х 22,2 mm ",701,"B","Active",{"$f":"VLOOKUP(A5073,[1]Sheet1!$A$1:$C$65512,3,FALSE)","v":468},null,null,"No info","линк","https://bg.toolsworld.com/search/?query=","https://bg.toolsworld.com/search/?query=73744"]
[186689,"Asztali satu, asztallap, forgó, munkapofa szélessége 50 mm, üllő // MTX",4417,"B","Active",{"$f":"VLOOKUP(A5074,[1]Sheet1!$A$1:$C$65512,3,FALSE)","v":43},null,null,"No info","линк","https://bg.toolsworld.com/search/?query=","https://bg.toolsworld.com/search/?query=186689"]
[186729,"Pad satu, asztallap, forgó, munkapofa szélessége 65 mm, üllő // MTX",4735,"B","Active",{"$f":"VLOOKUP(A5075,[1]Sheet1!$A$1:$C$65512,3,FALSE)","v":" "},null,null,"No info","линк","https://bg.toolsworld.com/search/?query=","https://bg.toolsworld.com/search/?query=186729"]
[370489,"Vízszintmérő, 10 m, skálával// MTX",1056,"B","Active",{"$f":"VLOOKUP(A5076,[1]Sheet1!$A$1:$C$65512,3,FALSE)","v":601},null,null,"No info","линк","https://bg.toolsworld.com/search/?query=","https://bg.toolsworld.com/search/?query=370489"]
[370519,"Vízszintmérő, 15 m, skálával// MTX",1507,"B","Active",{"$f":"VLOOKUP(A5077,[1]Sheet1!$A$1:$C$65512,3,FALSE)","v":611},null,null,"No info","линк","https://bg.toolsworld.com/search/?query=","https://bg.toolsworld.com/search/?query=370519"]
[370579,"Vízszintmérő, 25 m, skálával// MTX",2337,"B","Active",{"$f":"VLOOKUP(A5078,[1]Sheet1!$A$1:$C$65512,3,FALSE)","v":605},null,null,"No info","линк","https://bg.toolsworld.com/search/?query=","https://bg.toolsworld.com/search/?query=370579"]
[580547,"Járműkompresszor DC-20, 12V, 10 bar., 35 L/perc// Denzel",11284,"B","Active",{"$f":"VLOOKUP(A5079,[1]Sheet1!$A$1:$C$65512,3,FALSE)","v":" "},null,null,"No info","линк","https://bg.toolsworld.com/search/?query=","https://bg.toolsworld.com/search/?query=580547"]
[613997,"Kerek hegyű lapát, 205x275 mm, merevítő bordák, nyél nélkül, LUXE// Palisad",1885,"B","Active",{"$f":"VLOOKUP(A5080,[1]Sheet1!$A$1:$C$65512,3,FALSE)","v":706},null,null,"No info","линк","https://bg.toolsworld.com/search/?query=","https://bg.toolsworld.com/search/?query=613997"]
[614007,"Négyszögű lapát, 230x280 mm, merevítő bordák, nyél nélkül, LUXE// Palisad",1755,"B","Active",{"$f":"VLOOKUP(A5081,[1]Sheet1!$A$1:$C$65512,3,FALSE)","v":482},null,null,"No info","линк","https://bg.toolsworld.com/search/?query=","https://bg.toolsworld.com/search/?query=614007"]
[614107,"Kerekhegyű lapát, 205х275 mm, nyél nélkül// Palisad",1885,"B","Active",{"$f":"VLOOKUP(A5082,[1]Sheet1!$A$1:$C$65512,3,FALSE)","v":721},null,null,"No info","линк","https://bg.toolsworld.com/search/?query=","https://bg.toolsworld.com/search/?query=614107"]
[614157,"Szögletes lapát, 230х280, nyél nélkül// Palisad",2129,"B","Active",{"$f":"VLOOKUP(A5083,[1]Sheet1!$A$1:$C$65512,3,FALSE)","v":678},null,null,"No info","линк","https://bg.toolsworld.com/search/?query=","https://bg.toolsworld.com/search/?query=614157"]
[614207,"Szögletes lapát, 230x280 mm, merevítő bordák, nyél nélkül// Palisad",1920,"B","Active",{"$f":"VLOOKUP(A5084,[1]Sheet1!$A$1:$C$65512,3,FALSE)","v":1184},null,null,"No info","линк","https://bg.toolsworld.com/search/?query=","https://bg.toolsworld.com/search/?query=614207"]
[614707,"Kerek hegyű lapát merevítő bordákkal, sín acél, nyél nélkül// Palisad",2049,"B","Active",{"$f":"VLOOKUP(A5085,[1]Sheet1!$A$1:$C$65512,3,FALSE)","v":694},null,null,"No info","линк","https://bg.toolsworld.com/search/?query=","https://bg.toolsworld.com/search/?query=614707"]
[615247,"Jégaprító 200 mm, 1,1 kg, fém nyél// Palisad",1833,"B","Active",{"$f":"VLOOKUP(A5086,[1]Sheet1!$A$1:$C$65512,3,FALSE)","v":266},null,null,"No info","линк","https://bg.toolsworld.com/search/?query=","https://bg.toolsworld.com/search/?query=615247"]
[617417,"Acél gereblye, 300x1300 mm, 12 egyenes fog, fa nyél// Palisad",2549,"B","Active",{"$f":"VLOOKUP(A5087,[1]Sheet1!$A$1:$C$65512,3,FALSE)","v":470},null,null,"No info","линк","https://bg.toolsworld.com/search/?query=","https://bg.toolsworld.com/search/?query=617417"]
[617427,"Acél gereblye, 360x1300 mm, 14 egyenes fog, fa nyél// Palisad",2563,"B","Active",{"$f":"VLOOKUP(A5088,[1]Sheet1!$A$1:$C$65512,3,FALSE)","v":441},null,null,"No info","линк","https://bg.toolsworld.com/search/?query=","https://bg.toolsworld.com/search/?query=617427"]
[617447,"Acél gereblye, 300x1300 mm, 12 csavart fog, fa nyél// Palisad",2259,"B","Active",{"$f":"VLOOKUP(A5089,[1]Sheet1!$A$1:$C$65512,3,FALSE)","v":265},null,null,"No info","линк","https://bg.toolsworld.com/search/?query=","https://bg.toolsworld.com/search/?query=617447"]
[617507,"Acél gereblye, 420 mm, 16 csavart fog, nyél nélkül// Palisad",1072,"B","Active",{"$f":"VLOOKUP(A5090,[1]Sheet1!$A$1:$C$65512,3,FALSE)","v":505},null,null,"No info","линк","https://bg.toolsworld.com/search/?query=","https://bg.toolsworld.com/search/?query=617507"]
[617787,"Acél fűnyíró, 385 mm, 20 lapos fog, oxidált, nyél nélkül// Palisad",986,"B","Active",{"$f":"VLOOKUP(A5091,[1]Sheet1!$A$1:$C$65512,3,FALSE)","v":304},null,null,"No info","линк","https://bg.toolsworld.com/search/?query=","https://bg.toolsworld.com/search/?query=617787"]
[617797,"Acél fűnyíró, 385x1450 mm, 20 lapos fog, fa nyél// Palisad",2149,"B","Active",{"$f":"VLOOKUP(A5092,[1]Sheet1!$A$1:$C$65512,3,FALSE)","v":366},null,null,"No info","линк","https://bg.toolsworld.com/search/?query=","https://bg.toolsworld.com/search/?query=617797"]
[617807,"Acél fűnyíró, 350 mm, 18 körfogú, horganyzott, nyél nélkül// Palisad",954,"B","Active",{"$f":"VLOOKUP(A5093,[1]Sheet1!$A$1:$C$65512,3,FALSE)","v":274},null,null,"No info","линк","https://bg.toolsworld.com/search/?query=","https://bg.toolsworld.com/search/?query=617807"]
[617817,"Acél fűnyíró, 350x1450 mm, 18 kerek fog, fa nyél// Palisad",1973,"B","Active",{"$f":"VLOOKUP(A5094,[1]Sheet1!$A$1:$C$65512,3,FALSE)","v":320},null,null,"No info","линк","https://bg.toolsworld.com/search/?query=","https://bg.toolsworld.com/search/?query=617817"]
[622917,"Kengyelkapa 190х1400 mm, fa nyél// Palisad",2746,"B","Active",{"$f":"VLOOKUP(A5095,[1]Sheet1!$A$1:$C$65512,3,FALSE)","v":379},null,null,"No info","линк","https://bg.toolsworld.com/search/?query=","https://bg.toolsworld.com/search/?query=622917"]
[638337,"4 fogas vasvilla, kerti, 185õ270 mm, nyél nélkül// Palisad",1989,"B","Active",{"$f":"VLOOKUP(A5096,[1]Sheet1!$A$1:$C$65512,3,FALSE)","v":184},null,null,"No info","линк","https://bg.toolsworld.com/search/?query=","https://bg.toolsworld.com/search/?query=638337"]
[638357,"4-szarvú vasvilla 200 x 290 mm, fogantyú nélkül// Palisad",1499,"B","Active",{"$f":"VLOOKUP(A5097,[1]Sheet1!$A$1:$C$65512,3,FALSE)","v":104},null,null,"No info","линк","https://bg.toolsworld.com/search/?query=","https://bg.toolsworld.com/search/?query=638357"]
[833819,"Lapos ecset vizes festékekhez, 25x12 mm, vegyes sörtéjű, műanyag nyél// MTX",192,"B","Active",{"$f":"VLOOKUP(A5098,[1]Sheet1!$A$1:$C$65512,3,FALSE)","v":375},null,null,"No info","линк","https://bg.toolsworld.com/search/?query=","https://bg.toolsworld.com/search/?query=833819"]
[938018,"Háztartási kötél, D 9 mm, L 25 m, poliészter// Palisad",922,"B","Active",{"$f":"VLOOKUP(A5099,[1]Sheet1!$A$1:$C$65512,3,FALSE)","v":317},null,null,"No info","линк","https://bg.toolsworld.com/search/?query=","https://bg.toolsworld.com/search/?query=938018"]
[938038,"Len-kender kötél, D 10 mm, L 10 m// Palisad",1867,"B","Active",{"$f":"VLOOKUP(A5100,[1]Sheet1!$A$1:$C$65512,3,FALSE)","v":47},null,null,"No info","линк","https://bg.toolsworld.com/search/?query=","https://bg.toolsworld.com/search/?query=938038"]
[938198,"Háztartási kötél, D 6 mm, L 25 m, poliészter// Palisad",220,"B","Active",{"$f":"VLOOKUP(A5101,[1]Sheet1!$A$1:$C$65512,3,FALSE)","v":672},null,null,"No info","линк","https://bg.toolsworld.com/search/?query=","https://bg.toolsworld.com/search/?query=938198"]
[938208,"Háztartási kötél, D 4 mm, L 25 m, poliészter// Palisad",192,"B","Active",{"$f":"VLOOKUP(A5102,[1]Sheet1!$A$1:$C$65512,3,FALSE)","v":390},null,null,"No info","линк","https://bg.toolsworld.com/search/?query=","https://bg.toolsworld.com/search/?query=938208"]
[938238,"Háztartási kötél, D 5 mm, L 25 m, poliészter// Palisad",200,"B","Active",{"$f":"VLOOKUP(A5103,[1]Sheet1!$A$1:$C$65512,3,FALSE)","v":609},null,null,"No info","линк","https://bg.toolsworld.com/search/?query=","https://bg.toolsworld.com/search/?query=938238"]
[938848,"Polipropilén zsineg készlet, 6 db, 2 mm, L 60m, MIX színek// Palisad",1399,"B","Active",{"$f":"VLOOKUP(A5104,[1]Sheet1!$A$1:$C$65512,3,FALSE)","v":" "},null,null,"No info","линк","https://bg.toolsworld.com/search/?query=","https://bg.toolsworld.com/search/?query=938848"]
[939628,"Sodrott polipropilén kötél, 2 mm, L 50 m, orsón// Palisad",162,"B","Active",{"$f":"VLOOKUP(A5105,[1]Sheet1!$A$1:$C$65512,3,FALSE)","v":1291},null,null,"No info","линк","https://bg.toolsworld.com/search/?query=","https://bg.toolsworld.com/search/?query=939628"]
[939648,"Sodrott nylon kötél, 2 mm, L 50 m, orsón// Palisad",182,"B","Active",{"$f":"VLOOKUP(A5106,[1]Sheet1!$A$1:$C$65512,3,FALSE)","v":2878},null,null,"No info","линк","https://bg.toolsworld.com/search/?query=","https://bg.toolsworld.com/search/?query=939648"]
[939747,"Polipropilén zsineg, sárga, 1,7 mm, L 60 m// Palisad",256,"B","Active",{"$f":"VLOOKUP(A5107,[1]Sheet1!$A$1:$C$65512,3,FALSE)","v":291},null,null,"No info","линк","https://bg.toolsworld.com/search/?query=","https://bg.toolsworld.com/search/?query=939747"]
[939757,"Polipropilén zsineg, piros, 1,7 mm, L 60 m// Palisad",256,"B","Active",{"$f":"VLOOKUP(A5108,[1]Sheet1!$A$1:$C$65512,3,FALSE)","v":189},null,null,"No info","линк","https://bg.toolsworld.com/search/?query=","https://bg.toolsworld.com/search/?query=939757"]
[939767,"Polipropilén zsineg, zöld, 1,7 mm, L 60 m// Palisad",256,"B","Active",{"$f":"VLOOKUP(A5109,[1]Sheet1!$A$1:$C$65512,3,FALSE)","v":137},null,null,"No info","линк","https://bg.toolsworld.com/search/?query=","https://bg.toolsworld.com/search/?query=939767"]
[939827,"Polipropilén zsineg, sárga, 1,7 mm, L 400 m// Palisad",1371,"B","Active",{"$f":"VLOOKUP(A5110,[1]Sheet1!$A$1:$C$65512,3,FALSE)","v":362},null,null,"No info","линк","https://bg.toolsworld.com/search/?query=","https://bg.toolsworld.com/search/?query=939827"]
[6448088,"Gyepszegély szalag, 10x900 cm, polipropilén, zöld// Palisad",1032,"B","Active",{"$f":"VLOOKUP(A5111,[1]Sheet1!$A$1:$C$65512,3,FALSE)","v":321},null,null,"No info","линк","https://bg.toolsworld.com/search/?query=","https://bg.toolsworld.com/search/?query=6448088"]
[6448188,"Gyepszegély szalag, 15x900 cm, polipropilén, zöld// Palisad",1518,"B","Active",{"$f":"VLOOKUP(A5112,[1]Sheet1!$A$1:$C$65512,3,FALSE)","v":677},null,null,"No info","линк","https://bg.toolsworld.com/search/?query=","https://bg.toolsworld.com/search/?query=6448188"]
[6448288,"Gyepszegély szalag, 20x900 cm, polipropilén, zöld// Palisad",1989,"B","Active",{"$f":"VLOOKUP(A5113,[1]Sheet1!$A$1:$C$65512,3,FALSE)","v":524},null,null,"No info","линк","https://bg.toolsworld.com/search/?query=","https://bg.toolsworld.com/search/?query=6448288"]
[6448388,"Gyepszegély szalag, 10x900 cm, polipropilén, barna// Palisad",1032,"B","Active",{"$f":"VLOOKUP(A5114,[1]Sheet1!$A$1:$C$65512,3,FALSE)","v":177},null,null,"No info","линк","https://bg.toolsworld.com/search/?query=","https://bg.toolsworld.com/search/?query=6448388"]
[6448488,"Gyepszegély szalag, 15x900 cm, polipropilén, barna// Palisad",1518,"B","Active",{"$f":"VLOOKUP(A5115,[1]Sheet1!$A$1:$C$65512,3,FALSE)","v":534},null,null,"No info","линк","https://bg.toolsworld.com/search/?query=","https://bg.toolsworld.com/search/?query=6448488"]
[6448588,"Gyepszegély szalag, 20x900 cm, polipropilén, barna// Palisad",1989,"B","Active",{"$f":"VLOOKUP(A5116,[1]Sheet1!$A$1:$C$65512,3,FALSE)","v":569},null,null,"No info","линк","https://bg.toolsworld.com/search/?query=","https://bg.toolsworld.com/search/?query=6448588"]
[133637,"Racsnis csavarhúzó bitekkel, foglalatokkal, 61 db, CrV// MTX",6010,"B","Active",{"$f":"VLOOKUP(A5117,[1]Sheet1!$A$1:$C$65512,3,FALSE)","v":151},null,null,"No info",{"$f":"HYPERLINK(L5117,\"линк\")","v":"линк"},"https://bg.toolsworld.com/search/?query=",{"$f":"CONCATENATE(K5117,A5117)","v":"https://bg.toolsworld.com/search/?query=133637"}]
[475487,"Fém tömlőbilincsek, kulcs alakú rögzítőelem 16-25 mm, 100 db// MTX",6874,"B","Active",{"$f":"VLOOKUP(A5118,[1]Sheet1!$A$1:$C$65512,3,FALSE)","v":17},null,null,"No info","линк","https://bg.toolsworld.com/search/?query=","https://bg.toolsworld.com/search/?query=475487"]
[614257,"Sapper lapát, 145х190х580 mm, fa nyél// Palisad",2377,"B","Active",{"$f":"VLOOKUP(A5119,[1]Sheet1!$A$1:$C$65512,3,FALSE)","v":207},null,null,"No info","линк","https://bg.toolsworld.com/search/?query=","https://bg.toolsworld.com/search/?query=614257"]
[645028,"Leszálló kúp, polipropilén// Palisad",416,"B","Active",{"$f":"VLOOKUP(A5120,[1]Sheet1!$A$1:$C$65512,3,FALSE)","v":{"$error":"#N/A"}},null,null,"No info","линк","https://bg.toolsworld.com/search/?query=","https://bg.toolsworld.com/search/?query=645028"]
[769129,"Csaptartó M3-M12// MTX",818,"B","Active",{"$f":"VLOOKUP(A5121,[1]Sheet1!$A$1:$C$65512,3,FALSE)","v":822},null,null,"No info","линк","https://bg.toolsworld.com/search/?query=","https://bg.toolsworld.com/search/?query=769129"]
[773087,"8db Csap készlet, M3-M12// SPARTA",2649,"B","Active",{"$f":"VLOOKUP(A5122,[1]Sheet1!$A$1:$C$65512,3,FALSE)","v":390},null,null,"No info","линк","https://bg.toolsworld.com/search/?query=","https://bg.toolsworld.com/search/?query=773087"]
[789717,"Könnyű papírvágó, teleszkópos kaparókés, fém vezető, 9 mm// Sparta",116,"B","Active",{"$f":"VLOOKUP(A5123,[1]Sheet1!$A$1:$C$65512,3,FALSE)","v":748},null,null,"No info","линк","https://bg.toolsworld.com/search/?query=","https://bg.toolsworld.com/search/?query=789717"]
[886729,"PU habpisztoly, műanyag ház// MTX",1084,"B","Active",{"$f":"VLOOKUP(A5124,[1]Sheet1!$A$1:$C$65512,3,FALSE)","v":{"$error":"#N/A"}},null,null,"No info","линк","https://bg.toolsworld.com/search/?query=","https://bg.toolsworld.com/search/?query=886729"]
[14949,"Kombinált villáskulcs, 22 mm, horganyzott (KZSMI) Oroszország",1042,"B","Active",{"$f":"VLOOKUP(A5125,[1]Sheet1!$A$1:$C$65512,3,FALSE)","v":28},null,null,"No info",{"$f":"HYPERLINK(L5125,\"линк\")","v":"линк"},"https://bg.toolsworld.com/search/?query=",{"$f":"CONCATENATE(K5125,A5125)","v":"https://bg.toolsworld.com/search/?query=14949"}]
[15250,"Kombinált villáskulcs, 13 mm, CrV, csúszásgátló// Stels",375,"B","Active",{"$f":"VLOOKUP(A5126,[1]Sheet1!$A$1:$C$65512,3,FALSE)","v":{"$error":"#N/A"}},null,null,"No info","линк","https://bg.toolsworld.com/search/?query=","https://bg.toolsworld.com/search/?query=15250"]
[15924,"Négyzet alakú reszelő 150 mm, kétkomponensű nyél,¹ 2",536,"B","Active",{"$f":"VLOOKUP(A5127,[1]Sheet1!$A$1:$C$65512,3,FALSE)","v":15},null,null,"No info","линк","https://bg.toolsworld.com/search/?query=","https://bg.toolsworld.com/search/?query=15924"]
[16133,"Körreszelő 300 mm, kétkomponensű nyél, ¹2",982,"B","Active",{"$f":"VLOOKUP(A5128,[1]Sheet1!$A$1:$C$65512,3,FALSE)","v":27},null,null,"No info","линк","https://bg.toolsworld.com/search/?query=","https://bg.toolsworld.com/search/?query=16133"]
[62018,"Kézi kormányrúd magasságállítás nélkül// Palisad",3436,"B","Active",{"$f":"VLOOKUP(A5129,[1]Sheet1!$A$1:$C$65512,3,FALSE)","v":193},null,null,"No info","линк","https://bg.toolsworld.com/search/?query=","https://bg.toolsworld.com/search/?query=62018"]
[76637,"Kézi csap készlet, 2 db M14 x 2,0 mm",1208,"B","Active",{"$f":"VLOOKUP(A5130,[1]Sheet1!$A$1:$C$65512,3,FALSE)","v":47},null,null,"No info","линк","https://bg.toolsworld.com/search/?query=","https://bg.toolsworld.com/search/?query=76637"]
[87822,"Csempefogó 200 mm, kemény egyenes szivacsok, polimer bevonat// Sparta",3513,"B","Active",{"$f":"VLOOKUP(A5131,[1]Sheet1!$A$1:$C$65512,3,FALSE)","v":13},null,null,"No info","линк","https://bg.toolsworld.com/search/?query=","https://bg.toolsworld.com/search/?query=87822"]
[92344,"Gofrikendő, sűrűsége 230 g/m2, 0,45x60 m",40077,"B","Active",{"$f":"VLOOKUP(A5132,[1]Sheet1!$A$1:$C$65512,3,FALSE)","v":40},null,null,"No info","линк","https://bg.toolsworld.com/search/?query=","https://bg.toolsworld.com/search/?query=92344"]
[92345,"Műszaki kendő, 0,8x50 m// Ðîññèÿ",9153,"B","Active",{"$f":"VLOOKUP(A5133,[1]Sheet1!$A$1:$C$65512,3,FALSE)","v":100},null,null,"No info","линк","https://bg.toolsworld.com/search/?query=","https://bg.toolsworld.com/search/?query=92345"]
[106409,"Téglakalapács, 400 g, fa nyél// MTX",3901,"B","Active",{"$f":"VLOOKUP(A5134,[1]Sheet1!$A$1:$C$65512,3,FALSE)","v":156},null,null,"No info","линк","https://bg.toolsworld.com/search/?query=","https://bg.toolsworld.com/search/?query=106409"]
[142777,"Gyűrűs villáskulcs, ütés 46 mm// Stels",4973,"B","Active",{"$f":"VLOOKUP(A5135,[1]Sheet1!$A$1:$C$65512,3,FALSE)","v":20},null,null,"No info","линк","https://bg.toolsworld.com/search/?query=","https://bg.toolsworld.com/search/?query=142777"]
[163267,"Félkör reszelő 200 mm, fa nyél// Sparta",588,"B","Active",{"$f":"VLOOKUP(A5136,[1]Sheet1!$A$1:$C$65512,3,FALSE)","v":207},null,null,"No info","линк","https://bg.toolsworld.com/search/?query=","https://bg.toolsworld.com/search/?query=163267"]
[163327,"Félkör reszelő 300 mm, fa nyél// Sparta",1140,"B","Active",{"$f":"VLOOKUP(A5137,[1]Sheet1!$A$1:$C$65512,3,FALSE)","v":42},null,null,"No info","линк","https://bg.toolsworld.com/search/?query=","https://bg.toolsworld.com/search/?query=163327"]
[176075,"Transzformátor, 12 db, tokkal// Sparta",2340,"B","Active",{"$f":"VLOOKUP(A5138,[1]Sheet1!$A$1:$C$65512,3,FALSE)","v":82},null,null,"No info","линк","https://bg.toolsworld.com/search/?query=","https://bg.toolsworld.com/search/?query=176075"]
[231515,"Penge gérfűrészhez 350 mm// Sparta",1330,"B","Active",{"$f":"VLOOKUP(A5139,[1]Sheet1!$A$1:$C$65512,3,FALSE)","v":7},null,null,"No info","линк","https://bg.toolsworld.com/search/?query=","https://bg.toolsworld.com/search/?query=231515"]
[332319,"Alumínium vízmérték, mart, 3 fiola, 2 ergonomikus fogantyú, 1500 mm,// MTX",5922,"B","Active",{"$f":"VLOOKUP(A5140,[1]Sheet1!$A$1:$C$65512,3,FALSE)","v":6},null,null,"No info","линк","https://bg.toolsworld.com/search/?query=","https://bg.toolsworld.com/search/?query=332319"]
[475767,"W2 acél bilincsek standard csavarozás 8*12 mm, 100db/zsák, szélesség 9mm// MTX",4143,"B","Active",{"$f":"VLOOKUP(A5141,[1]Sheet1!$A$1:$C$65512,3,FALSE)","v":26},null,null,"No info","линк","https://bg.toolsworld.com/search/?query=","https://bg.toolsworld.com/search/?query=475767"]
[605708,"Loppers 520 mm, egyenes vágású, gumival bevont fogantyúk// PALISAD",2199,"B","Active",{"$f":"VLOOKUP(A5142,[1]Sheet1!$A$1:$C$65512,3,FALSE)","v":142},null,null,"No info","линк","https://bg.toolsworld.com/search/?query=","https://bg.toolsworld.com/search/?query=605708"]
[614117,"Kerek hegyű lapát, 205õ275 mm, merevítő bordák, nyél nélkül// Palisad",1902,"B","Active",{"$f":"VLOOKUP(A5143,[1]Sheet1!$A$1:$C$65512,3,FALSE)","v":666},null,null,"No info","линк","https://bg.toolsworld.com/search/?query=","https://bg.toolsworld.com/search/?query=614117"]
[614607,"Kerek hegyű lapát, 205x275x1450 mm, fa nyél// Palisad",2406,"B","Active",{"$f":"VLOOKUP(A5144,[1]Sheet1!$A$1:$C$65512,3,FALSE)","v":81},null,null,"No info","линк","https://bg.toolsworld.com/search/?query=","https://bg.toolsworld.com/search/?query=614607"]
[614717,"Négyszögletes lapát merevítő bordákkal, sín acél, nyél nélkül// Palisad",2083,"B","Active",{"$f":"VLOOKUP(A5145,[1]Sheet1!$A$1:$C$65512,3,FALSE)","v":1357},null,null,"No info","линк","https://bg.toolsworld.com/search/?query=","https://bg.toolsworld.com/search/?query=614717"]
[617527,"Acél gereblye, 350 mm, 14 csavart fog, nyél nélkül// Palisad",878,"B","Active",{"$f":"VLOOKUP(A5146,[1]Sheet1!$A$1:$C$65512,3,FALSE)","v":937},null,null,"No info","линк","https://bg.toolsworld.com/search/?query=","https://bg.toolsworld.com/search/?query=617527"]
[622927,"Kengyelkapa 120x875 mm, fa nyél// Palisad",2115,"B","Active",{"$f":"VLOOKUP(A5147,[1]Sheet1!$A$1:$C$65512,3,FALSE)","v":410},null,null,"No info","линк","https://bg.toolsworld.com/search/?query=","https://bg.toolsworld.com/search/?query=622927"]
[622937,"Kengyelkapa 170x1400 mm, fa nyél// Palisad",3665,"B","Active",{"$f":"VLOOKUP(A5148,[1]Sheet1!$A$1:$C$65512,3,FALSE)","v":327},null,null,"No info","линк","https://bg.toolsworld.com/search/?query=","https://bg.toolsworld.com/search/?query=622937"]
[622957,"Kengyelkapa 150õ1420 mm, faszár// Palisad",3537,"B","Active",{"$f":"VLOOKUP(A5149,[1]Sheet1!$A$1:$C$65512,3,FALSE)","v":253},null,null,"No info","линк","https://bg.toolsworld.com/search/?query=","https://bg.toolsworld.com/search/?query=622957"]
[643387,"Palántacserép, biológiailag lebomló, 65õ60 mm, 5 db.// Palisad",142,"B","Active",{"$f":"VLOOKUP(A5150,[1]Sheet1!$A$1:$C$65512,3,FALSE)","v":996},null,null,"No info","линк","https://bg.toolsworld.com/search/?query=","https://bg.toolsworld.com/search/?query=643387"]
[643397,"Palántacserép, biológiailag lebomló, 65õ60 mm, 10 db.// Palisad",226,"B","Active",{"$f":"VLOOKUP(A5151,[1]Sheet1!$A$1:$C$65512,3,FALSE)","v":1956},null,null,"No info","линк","https://bg.toolsworld.com/search/?query=","https://bg.toolsworld.com/search/?query=643397"]
[643707,"Palántacserép, biológiailag lebomló, 80õ80 mm, 5 db.// Palisad",216,"B","Active",{"$f":"VLOOKUP(A5152,[1]Sheet1!$A$1:$C$65512,3,FALSE)","v":898},null,null,"No info","линк","https://bg.toolsworld.com/search/?query=","https://bg.toolsworld.com/search/?query=643707"]
[643717,"Palántacserép, biológiailag lebomló, 80õ80 mm, 10 db.// Palisad",332,"B","Active",{"$f":"VLOOKUP(A5153,[1]Sheet1!$A$1:$C$65512,3,FALSE)","v":1914},null,null,"No info","линк","https://bg.toolsworld.com/search/?query=","https://bg.toolsworld.com/search/?query=643717"]
[643747,"Palántacserép, biológiailag lebomló, 100õ100 mm, 5 db.// Palisad",380,"B","Active",{"$f":"VLOOKUP(A5154,[1]Sheet1!$A$1:$C$65512,3,FALSE)","v":995},null,null,"No info","линк","https://bg.toolsworld.com/search/?query=","https://bg.toolsworld.com/search/?query=643747"]
[643757,"Palántacserép, biológiailag lebomló, 100õ100 mm, 10 db.// Palisad",654,"B","Active",{"$f":"VLOOKUP(A5155,[1]Sheet1!$A$1:$C$65512,3,FALSE)","v":1997},null,null,"No info","линк","https://bg.toolsworld.com/search/?query=","https://bg.toolsworld.com/search/?query=643757"]
[643767,"Palántatálca, biológiailag lebomló, 160x120x45 mm, 12 cellás, 3 db.// Palisad",338,"B","Active",{"$f":"VLOOKUP(A5156,[1]Sheet1!$A$1:$C$65512,3,FALSE)","v":943},null,null,"No info","линк","https://bg.toolsworld.com/search/?query=","https://bg.toolsworld.com/search/?query=643767"]
[643777,"Palántatálca, biológiailag lebomló, 160x120x45 mm, 12 cellás, 5 db.// Palisad",480,"B","Active",{"$f":"VLOOKUP(A5157,[1]Sheet1!$A$1:$C$65512,3,FALSE)","v":1466},null,null,"No info","линк","https://bg.toolsworld.com/search/?query=","https://bg.toolsworld.com/search/?query=643777"]
[643787,"Mini üvegház burkolattal, 180õ150õ100 mm, 9 cellás, szellõzõ, polisztirol// Palisad",340,"B","Active",{"$f":"VLOOKUP(A5158,[1]Sheet1!$A$1:$C$65512,3,FALSE)","v":974},null,null,"No info","линк","https://bg.toolsworld.com/search/?query=","https://bg.toolsworld.com/search/?query=643787"]
[643797,"Mini üvegház burkolattal, 380õ180õ110 mm, 24 cellás, szellőző, polisztirol// Palisad",616,"B","Active",{"$f":"VLOOKUP(A5159,[1]Sheet1!$A$1:$C$65512,3,FALSE)","v":665},null,null,"No info","линк","https://bg.toolsworld.com/search/?query=","https://bg.toolsworld.com/search/?query=643797"]
[644677,"Spiráltámasz, magasság 1,2 m, 1 db, huzalátmérő 5 mm// Palisad",305,"B","Active",{"$f":"VLOOKUP(A5160,[1]Sheet1!$A$1:$C$65512,3,FALSE)","v":{"$error":"#N/A"}},null,null,"No info","линк","https://bg.toolsworld.com/search/?query=","https://bg.toolsworld.com/search/?query=644677"]
[766609,"Kézi csap készlet, 2 db M22 x 2,5 mm// MTX",2123,"B","Active",{"$f":"VLOOKUP(A5161,[1]Sheet1!$A$1:$C$65512,3,FALSE)","v":89},null,null,"No info","линк","https://bg.toolsworld.com/search/?query=","https://bg.toolsworld.com/search/?query=766609"]
[774209,"Menetvágó tartó 13/16” (20mm)//MTX",632,"B","Active",{"$f":"VLOOKUP(A5162,[1]Sheet1!$A$1:$C$65512,3,FALSE)","v":172},null,null,"No info","линк","https://bg.toolsworld.com/search/?query=","https://bg.toolsworld.com/search/?query=774209"]
[774259,"Menetvágó tartó (25mm)//MTX",800,"B","Active",{"$f":"VLOOKUP(A5163,[1]Sheet1!$A$1:$C$65512,3,FALSE)","v":148},null,null,"No info","линк","https://bg.toolsworld.com/search/?query=","https://bg.toolsworld.com/search/?query=774259"]
[862257,"Tál építési munkákhoz, 160 mm, fa nyél// Sparta",1084,"B","Active",{"$f":"VLOOKUP(A5164,[1]Sheet1!$A$1:$C$65512,3,FALSE)","v":936},null,null,"No info","линк","https://bg.toolsworld.com/search/?query=","https://bg.toolsworld.com/search/?query=862257"]
[862417,"Acél vakoló simító, megerősített fa nyél// Sparta",868,"B","Active",{"$f":"VLOOKUP(A5165,[1]Sheet1!$A$1:$C$65512,3,FALSE)","v":511},null,null,"No info","линк","https://bg.toolsworld.com/search/?query=","https://bg.toolsworld.com/search/?query=862417"]
[886417,"Tömítőpisztoly fúvókák, 3 db//SPARTA",264,"B","Active",{"$f":"VLOOKUP(A5166,[1]Sheet1!$A$1:$C$65512,3,FALSE)","v":{"$error":"#N/A"}},null,null,"No info","линк","https://bg.toolsworld.com/search/?query=","https://bg.toolsworld.com/search/?query=886417"]
[896079,"Trapéz tollszegély, alumínium, egy merevítő borda, L-1,0 m// MTX",1971,"B","Active",{"$f":"VLOOKUP(A5167,[1]Sheet1!$A$1:$C$65512,3,FALSE)","v":199},null,null,"No info","линк","https://bg.toolsworld.com/search/?query=","https://bg.toolsworld.com/search/?query=896079"]
[896089,"Trapéz tollszegély, alumínium, egy merevítő borda, L-1,5 m// MTX",2933,"B","Active",{"$f":"VLOOKUP(A5168,[1]Sheet1!$A$1:$C$65512,3,FALSE)","v":1004},null,null,"No info","линк","https://bg.toolsworld.com/search/?query=","https://bg.toolsworld.com/search/?query=896089"]
[896099,"Trapéz tollszegély, alumínium, egy merevítő borda, L-2,0 m// MTX",3895,"B","Active",{"$f":"VLOOKUP(A5169,[1]Sheet1!$A$1:$C$65512,3,FALSE)","v":1442},null,null,"No info","линк","https://bg.toolsworld.com/search/?query=","https://bg.toolsworld.com/search/?query=896099"]
[896119,"Trapéz tollszegély, alumínium, egy merevítő borda, L-2,5 m// MTX",4833,"B","Active",{"$f":"VLOOKUP(A5170,[1]Sheet1!$A$1:$C$65512,3,FALSE)","v":817},null,null,"No info","линк","https://bg.toolsworld.com/search/?query=","https://bg.toolsworld.com/search/?query=896119"]
[896129,"Trapéz tollszegély, alumínium, egy merevítő borda, L-3,0 m// MTX",5768,"B","Active",{"$f":"VLOOKUP(A5171,[1]Sheet1!$A$1:$C$65512,3,FALSE)","v":305},null,null,"No info","линк","https://bg.toolsworld.com/search/?query=","https://bg.toolsworld.com/search/?query=896129"]
[914305,"Gázégő \"TURBO\" kazettával 110 mm// Sparta",1568,"B","Active",{"$f":"VLOOKUP(A5172,[1]Sheet1!$A$1:$C$65512,3,FALSE)","v":35},null,null,"No info","линк","https://bg.toolsworld.com/search/?query=","https://bg.toolsworld.com/search/?query=914305"]
[938048,"Len-kender kötél, D 12 mm, L 10 m// Palisad",2381,"B","Active",{"$f":"VLOOKUP(A5173,[1]Sheet1!$A$1:$C$65512,3,FALSE)","v":88},null,null,"No info","линк","https://bg.toolsworld.com/search/?query=","https://bg.toolsworld.com/search/?query=938048"]
[938757,"Juta zsineg, 1 mm, L 140 m, 2 fonal// Palisad",334,"B","Active",{"$f":"VLOOKUP(A5174,[1]Sheet1!$A$1:$C$65512,3,FALSE)","v":2165},null,null,"No info","линк","https://bg.toolsworld.com/search/?query=","https://bg.toolsworld.com/search/?query=938757"]
[938768,"Juta zsineg, 1,5 m, L 100 m, 2 fonal// Palisad",363,"B","Active",{"$f":"VLOOKUP(A5175,[1]Sheet1!$A$1:$C$65512,3,FALSE)","v":1253},null,null,"No info","линк","https://bg.toolsworld.com/search/?query=","https://bg.toolsworld.com/search/?query=938768"]
[938777,"Juta zsineg, 1,5 mm, L 90 m, 4 fonal// Palisad",398,"B","Active",{"$f":"VLOOKUP(A5176,[1]Sheet1!$A$1:$C$65512,3,FALSE)","v":1777},null,null,"No info","линк","https://bg.toolsworld.com/search/?query=","https://bg.toolsworld.com/search/?query=938777"]
[938797,"Polipropilén zsineg, 2,5 mm, L 100 m// Palisad",486,"B","Active",{"$f":"VLOOKUP(A5177,[1]Sheet1!$A$1:$C$65512,3,FALSE)","v":282},null,null,"No info","линк","https://bg.toolsworld.com/search/?query=","https://bg.toolsworld.com/search/?query=938797"]
[938807,"Polipropilén zsineg, 1,5 mm, L 150 m// Palisad",406,"B","Active",{"$f":"VLOOKUP(A5178,[1]Sheet1!$A$1:$C$65512,3,FALSE)","v":379},null,null,"No info","линк","https://bg.toolsworld.com/search/?query=","https://bg.toolsworld.com/search/?query=938807"]
[938827,"Juta zsineg, 2,5 mm, hosszúság 60 m, 5 fonal// Palisad",558,"B","Active",{"$f":"VLOOKUP(A5179,[1]Sheet1!$A$1:$C$65512,3,FALSE)","v":2097},null,null,"No info","линк","https://bg.toolsworld.com/search/?query=","https://bg.toolsworld.com/search/?query=938827"]
[939738,"Polipropilén zsineg, kék, 60 m 1200 tex// Palisad",264,"B","Active",{"$f":"VLOOKUP(A5180,[1]Sheet1!$A$1:$C$65512,3,FALSE)","v":{"$error":"#N/A"}},null,null,"No info","линк","https://bg.toolsworld.com/search/?query=","https://bg.toolsworld.com/search/?query=939738"]
[939777,"Polipropilén zsineg, kék, 1,7 mm, L 110 m// Palisad",426,"B","Active",{"$f":"VLOOKUP(A5181,[1]Sheet1!$A$1:$C$65512,3,FALSE)","v":38},null,null,"No info","линк","https://bg.toolsworld.com/search/?query=","https://bg.toolsworld.com/search/?query=939777"]
[939787,"Polipropilén zsineg, sárga, 1,7 mm, L 110 m// Palisad",426,"B","Active",{"$f":"VLOOKUP(A5182,[1]Sheet1!$A$1:$C$65512,3,FALSE)","v":183},null,null,"No info","линк","https://bg.toolsworld.com/search/?query=","https://bg.toolsworld.com/search/?query=939787"]
[939807,"Polipropilén zsineg, zöld, 1,7 mm, L 110 m// Palisad",426,"B","Active",{"$f":"VLOOKUP(A5183,[1]Sheet1!$A$1:$C$65512,3,FALSE)","v":173},null,null,"No info","линк","https://bg.toolsworld.com/search/?query=","https://bg.toolsworld.com/search/?query=939807"]
[939817,"Polipropilén zsineg, kék, 1,7 mm, L 400 m// Palisad",1426,"B","Active",{"$f":"VLOOKUP(A5184,[1]Sheet1!$A$1:$C$65512,3,FALSE)","v":187},null,null,"No info","линк","https://bg.toolsworld.com/search/?query=","https://bg.toolsworld.com/search/?query=939817"]
[939837,"Polipropilén zsineg, piros, 1,7 mm, L 400 m// Palisad",1426,"B","Active",{"$f":"VLOOKUP(A5185,[1]Sheet1!$A$1:$C$65512,3,FALSE)","v":70},null,null,"No info","линк","https://bg.toolsworld.com/search/?query=","https://bg.toolsworld.com/search/?query=939837"]
[939847,"Polipropilén zsineg, zöld, 1,7 mm, L 400 m// Palisad",1426,"B","Active",{"$f":"VLOOKUP(A5186,[1]Sheet1!$A$1:$C$65512,3,FALSE)","v":54},null,null,"No info","линк","https://bg.toolsworld.com/search/?query=","https://bg.toolsworld.com/search/?query=939847"]
[957017,"10ì ðforgatható hosszabbítótekercs, 4 aljzat, IP20, H05Vv-F, 3G*1,5mm, 14À// Denzel",6232,"B","Active",{"$f":"VLOOKUP(A5187,[1]Sheet1!$A$1:$C$65512,3,FALSE)","v":" "},null,null,"No info","линк","https://bg.toolsworld.com/search/?query=","https://bg.toolsworld.com/search/?query=957017"]
[958487,"25ì hosszabbítótekercs, 4 aljzat, IP20, H05Vv-F, 3G*1,5mm, 14À// Denzel",13391,"B","Active",{"$f":"VLOOKUP(A5188,[1]Sheet1!$A$1:$C$65512,3,FALSE)","v":" "},null,null,"No info",{"$f":"HYPERLINK(L5188,\"линк\")","v":"линк"},"https://bg.toolsworld.com/search/?query=",{"$f":"CONCATENATE(K5188,A5188)","v":"https://bg.toolsworld.com/search/?query=958487"}]
[958557,"30ì hosszabbítótekercs, 4 aljzat, IP20, H05Vv-F, 3G*1,5mm, 14À// Denzel",15894,"B","Active",{"$f":"VLOOKUP(A5189,[1]Sheet1!$A$1:$C$65512,3,FALSE)","v":15},null,null,"No info","линк","https://bg.toolsworld.com/search/?query=","https://bg.toolsworld.com/search/?query=958557"]
[958737,"25ì hosszabbítótekercs, 4 aljzat, IP44, H05RR-F, 3G*1,5mm, 14À// Denzel",17809,"B","Active",{"$f":"VLOOKUP(A5190,[1]Sheet1!$A$1:$C$65512,3,FALSE)","v":218},null,null,"No info","линк","https://bg.toolsworld.com/search/?query=","https://bg.toolsworld.com/search/?query=958737"]
[958747,"30ì hosszabbítótekercs, 4 aljzat, IP44, H05RR-F, 3G*1,5mm, 14À// Denzel",20647,"B","Active",{"$f":"VLOOKUP(A5191,[1]Sheet1!$A$1:$C$65512,3,FALSE)","v":183},null,null,"No info","линк","https://bg.toolsworld.com/search/?query=","https://bg.toolsworld.com/search/?query=958747"]
[958917,"10ì hosszabbító kábel, 1 aljzat, IP44, H05RR-F, 3G*1,5ì, 16À// Denzel",5051,"B","Active",{"$f":"VLOOKUP(A5192,[1]Sheet1!$A$1:$C$65512,3,FALSE)","v":{"$error":"#N/A"}},null,null,"No info","линк","https://bg.toolsworld.com/search/?query=","https://bg.toolsworld.com/search/?query=958917"]
[958927,"20ì hosszabbító kábel, 1 aljzat, IP44, H05RR-F, 3G*1,5ì, 16À// Denzel",9534,"B","Active",{"$f":"VLOOKUP(A5193,[1]Sheet1!$A$1:$C$65512,3,FALSE)","v":5},null,null,"No info","линк","https://bg.toolsworld.com/search/?query=","https://bg.toolsworld.com/search/?query=958927"]
[958937,"30ì hosszabbító kábel, 1 aljzat, IP44, H05RR-F, 3G*1,5ì, 16À// Denzel",14026,"B","Active",{"$f":"VLOOKUP(A5194,[1]Sheet1!$A$1:$C$65512,3,FALSE)","v":71},null,null,"No info","линк","https://bg.toolsworld.com/search/?query=","https://bg.toolsworld.com/search/?query=958937"]
[997027,"Vízszintes nyomású víztartály PWT-50, 50 liter, EPDM// Sparta",18429,"B","Active",{"$f":"VLOOKUP(A5195,[1]Sheet1!$A$1:$C$65512,3,FALSE)","v":228},null,null,"No info","линк","https://bg.toolsworld.com/search/?query=","https://bg.toolsworld.com/search/?query=997027"]
[997037,"Nyomós víztartály vízszintes PWT-100, 100 liter, EPDM// Sparta",35287,"B","Active",{"$f":"VLOOKUP(A5196,[1]Sheet1!$A$1:$C$65512,3,FALSE)","v":234},null,null,"No info","линк","https://bg.toolsworld.com/search/?query=","https://bg.toolsworld.com/search/?query=997037"]
[1093177,"Szánkó kalapács, 4000 g, kovácsolt fej, fa nyél, FSC// MTX",9433,"B","Active",{"$f":"VLOOKUP(A5197,[1]Sheet1!$A$1:$C$65512,3,FALSE)","v":190},null,null,"No info","линк","https://bg.toolsworld.com/search/?query=","https://bg.toolsworld.com/search/?query=1093177"]
[1851157,"Satu fix talp, 75 mm// Sparta",2291,"B","Active",{"$f":"VLOOKUP(A5198,[1]Sheet1!$A$1:$C$65512,3,FALSE)","v":297},null,null,"No info","линк","https://bg.toolsworld.com/search/?query=","https://bg.toolsworld.com/search/?query=1851157"]
[1862757,"Padsatu, 150 mm, forgó, üllővel// Sparta",21447,"B","Active",{"$f":"VLOOKUP(A5199,[1]Sheet1!$A$1:$C$65512,3,FALSE)","v":" "},null,null,"No info","линк","https://bg.toolsworld.com/search/?query=","https://bg.toolsworld.com/search/?query=1862757"]
[6141458,"Négyszögletes lapát, 230õ280õ1420 mm, merevítő bordák, fa nyél// Palisad",2357,"B","Active",{"$f":"VLOOKUP(A5200,[1]Sheet1!$A$1:$C$65512,3,FALSE)","v":{"$error":"#N/A"}},null,null,"No info","линк","https://bg.toolsworld.com/search/?query=","https://bg.toolsworld.com/search/?query=6141458"]
[6843177,"Fa tengely, FSC, 36x1300 mm// Palisad",1025,"B","Active",{"$f":"VLOOKUP(A5201,[1]Sheet1!$A$1:$C$65512,3,FALSE)","v":20},null,null,"No info","линк","https://bg.toolsworld.com/search/?query=","https://bg.toolsworld.com/search/?query=6843177"]
[10202577,"Gépészkalapács fa nyéllel, 100 g, szögletes toll, FSC// Sparta",785,"B","Active",{"$f":"VLOOKUP(A5202,[1]Sheet1!$A$1:$C$65512,3,FALSE)","v":235},null,null,"No info","линк","https://bg.toolsworld.com/search/?query=","https://bg.toolsworld.com/search/?query=10202577"]
[10208577,"Gépészkalapács fa nyéllel, 400 g, szögletes toll, FSC// Sparta",1302,"B","Active",{"$f":"VLOOKUP(A5203,[1]Sheet1!$A$1:$C$65512,3,FALSE)","v":255},null,null,"No info","линк","https://bg.toolsworld.com/search/?query=","https://bg.toolsworld.com/search/?query=10208577"]
[10210577,"Gépészkalapács fa nyéllel, 500 g, szögletes toll, FSC// Sparta",1495,"B","Active",{"$f":"VLOOKUP(A5204,[1]Sheet1!$A$1:$C$65512,3,FALSE)","v":1246},null,null,"No info","линк","https://bg.toolsworld.com/search/?query=","https://bg.toolsworld.com/search/?query=10210577"]
[10215577,"Gépészkalapács fa nyéllel, 800 g, szögletes toll, FSC// Sparta",2061,"B","Active",{"$f":"VLOOKUP(A5205,[1]Sheet1!$A$1:$C$65512,3,FALSE)","v":199},null,null,"No info","линк","https://bg.toolsworld.com/search/?query=","https://bg.toolsworld.com/search/?query=10215577"]
[10221577,"Gépész kalapács fa nyéllel, 1500 g, szögletes toll, FSC// Sparta",3034,"B","Active",{"$f":"VLOOKUP(A5206,[1]Sheet1!$A$1:$C$65512,3,FALSE)","v":267},null,null,"No info","линк","https://bg.toolsworld.com/search/?query=","https://bg.toolsworld.com/search/?query=10221577"]
[10410577,"Karmos kalapács, 225g, 22 mm-es toll fa nyéllel, FSC// Sparta",1329,"B","Active",{"$f":"VLOOKUP(A5207,[1]Sheet1!$A$1:$C$65512,3,FALSE)","v":270},null,null,"No info","линк","https://bg.toolsworld.com/search/?query=","https://bg.toolsworld.com/search/?query=10410577"]
[11475,"Torziós fúrófej készlet, PH2x25mm, ütvefúróhoz, 2 db// Gross",426,"B","Active",{"$f":"VLOOKUP(A5208,[1]Sheet1!$A$1:$C$65512,3,FALSE)","v":60},null,null,"No info",{"$f":"HYPERLINK(L5208,\"линк\")","v":"линк"},"https://bg.toolsworld.com/search/?query=",{"$f":"CONCATENATE(K5208,A5208)","v":"https://bg.toolsworld.com/search/?query=11475"}]
[11476,"Torziós fúrófej készlet, PH3x25mm, ütvefúróhoz, 2 db// Gross",426,"B","Active",{"$f":"VLOOKUP(A5209,[1]Sheet1!$A$1:$C$65512,3,FALSE)","v":{"$error":"#N/A"}},null,null,"No info","линк","https://bg.toolsworld.com/search/?query=","https://bg.toolsworld.com/search/?query=11476"]
[11478,"Torziós fúrófej készlet, PZ2x25mm, ütvefúróhoz, 2 db// Gross",426,"B","Active",{"$f":"VLOOKUP(A5210,[1]Sheet1!$A$1:$C$65512,3,FALSE)","v":{"$error":"#N/A"}},null,null,"No info","линк","https://bg.toolsworld.com/search/?query=","https://bg.toolsworld.com/search/?query=11478"]
[11488,"Torziós fúrófej készlet, PZ2x50mm, ütvefúróhoz, 2 db// Gross",474,"B","Active",{"$f":"VLOOKUP(A5211,[1]Sheet1!$A$1:$C$65512,3,FALSE)","v":" "},null,null,"No info","линк","https://bg.toolsworld.com/search/?query=","https://bg.toolsworld.com/search/?query=11488"]
[211257,"Kézi gyalu, 240 x 60 mm, szimpla, fa// Sparta",2983,"B","Active",{"$f":"VLOOKUP(A5212,[1]Sheet1!$A$1:$C$65512,3,FALSE)","v":264},null,null,"No info","линк","https://bg.toolsworld.com/search/?query=","https://bg.toolsworld.com/search/?query=211257"]
[729559,"Gyémánt csésze kerék Duplasoros 125 mm// Sparta",3119,"B","Active",{"$f":"VLOOKUP(A5213,[1]Sheet1!$A$1:$C$65512,3,FALSE)","v":862},null,null,"No info","линк","https://bg.toolsworld.com/search/?query=","https://bg.toolsworld.com/search/?query=729559"]
[26001,"Akkus csavarhúzó CSL-3,6-01, Li-Ion, 3,6 V, 1,3 Ah, tartozékokkal // Denzel",12657,"B","Active",{"$f":"VLOOKUP(A5214,[1]Sheet1!$A$1:$C$65512,3,FALSE)","v":" "},null,null,"No info",{"$f":"HYPERLINK(L5214,\"линк\")","v":"линк"},"https://bg.toolsworld.com/search/?query=",{"$f":"CONCATENATE(K5214,A5214)","v":"https://bg.toolsworld.com/search/?query=26001"}]
[31250,"Geodéziai mérőszalag 10mx13mm, zárt test, fémszalag, nejlon// Gross",4145,"B","Active",{"$f":"VLOOKUP(A5215,[1]Sheet1!$A$1:$C$65512,3,FALSE)","v":" "},null,null,"No info","линк","https://bg.toolsworld.com/search/?query=","https://bg.toolsworld.com/search/?query=31250"]
[32530,"Mérőszalag grafit, gumírozott test, puffer, 3 m x 16 mm// Сибртех",650,"B","Active",{"$f":"VLOOKUP(A5216,[1]Sheet1!$A$1:$C$65512,3,FALSE)","v":134},null,null,"No info","линк","https://bg.toolsworld.com/search/?query=","https://bg.toolsworld.com/search/?query=32530"]
[32533,"Mérőszalag grafit, gumírozott test, puffer, 7,5 m x 25 mm// Сибртех",1554,"B","Active",{"$f":"VLOOKUP(A5217,[1]Sheet1!$A$1:$C$65512,3,FALSE)","v":30},null,null,"No info","линк","https://bg.toolsworld.com/search/?query=","https://bg.toolsworld.com/search/?query=32533"]
[50527,"Magas állvány- jack 3 t, emelési képesség 115-1030 mm// Stels",33487,"B","Active",{"$f":"VLOOKUP(A5218,[1]Sheet1!$A$1:$C$65512,3,FALSE)","v":4},null,null,"No info","линк","https://bg.toolsworld.com/search/?query=","https://bg.toolsworld.com/search/?query=50527"]
[51112,"Hidraulikus palackemelő, 30T, hatótávolság 244-370 mm// Stels",30566,"B","Active",{"$f":"VLOOKUP(A5219,[1]Sheet1!$A$1:$C$65512,3,FALSE)","v":20},null,null,"No info","линк","https://bg.toolsworld.com/search/?query=","https://bg.toolsworld.com/search/?query=51112"]
[51117,"Kihúzható hidraulikus palackemelő, 6T, 170-420 mm// Stels",21300,"B","Active",{"$f":"VLOOKUP(A5220,[1]Sheet1!$A$1:$C$65512,3,FALSE)","v":3},null,null,"No info","линк","https://bg.toolsworld.com/search/?query=","https://bg.toolsworld.com/search/?query=51117"]
[51118,"Kihúzható hidraulikus palackemelő, 8T, 170-430 mm// Stels",31274,"B","Active",{"$f":"VLOOKUP(A5221,[1]Sheet1!$A$1:$C$65512,3,FALSE)","v":13},null,null,"No info","линк","https://bg.toolsworld.com/search/?query=","https://bg.toolsworld.com/search/?query=51118"]
[51358,"Hidraulikus szivattyú tömlővel 10 t szalaghoz// Stels",34512,"B","Active",{"$f":"VLOOKUP(A5222,[1]Sheet1!$A$1:$C$65512,3,FALSE)","v":10},null,null,"No info","линк","https://bg.toolsworld.com/search/?query=","https://bg.toolsworld.com/search/?query=51358"]
[51361,"Hidraulikus 5t henger horgokkal megerősítve// Stels",27509,"B","Active",{"$f":"VLOOKUP(A5223,[1]Sheet1!$A$1:$C$65512,3,FALSE)","v":6},null,null,"No info","линк","https://bg.toolsworld.com/search/?query=","https://bg.toolsworld.com/search/?query=51361"]
[52021,"LB-2000 elektromos autó csörlő, 2,2 t, 3,2 kW, 12 V// Denzel",117366,"B","Active",{"$f":"VLOOKUP(A5224,[1]Sheet1!$A$1:$C$65512,3,FALSE)","v":37},null,null,"No info","линк","https://bg.toolsworld.com/search/?query=","https://bg.toolsworld.com/search/?query=52021"]
[52023,"LB- 3000 elektromos autó csörlő, 3,6 t, 3,4 kW, 12 V// Denzel",156971,"B","Active",{"$f":"VLOOKUP(A5225,[1]Sheet1!$A$1:$C$65512,3,FALSE)","v":48},null,null,"No info","линк","https://bg.toolsworld.com/search/?query=","https://bg.toolsworld.com/search/?query=52023"]
[52026,"LB- 4000 elektromos autó csörlő, 4,5 t, 3,7 kW, 12 V// Denzel\n",219626,"B","Active",{"$f":"VLOOKUP(A5226,[1]Sheet1!$A$1:$C$65512,3,FALSE)","v":31},null,null,"No info","линк","https://bg.toolsworld.com/search/?query=","https://bg.toolsworld.com/search/?query=52026"]
[54394,"Autószervező a csomagtartóhoz \"Nemezelés\"// Stels",4042,"B","Active",{"$f":"VLOOKUP(A5227,[1]Sheet1!$A$1:$C$65512,3,FALSE)","v":" "},null,null,"No info","линк","https://bg.toolsworld.com/search/?query=","https://bg.toolsworld.com/search/?query=54394"]
[55213,"Micro-Chenille autómosó súrolószivacs ''Jump'// Stels",1826,"B","Active",{"$f":"VLOOKUP(A5228,[1]Sheet1!$A$1:$C$65512,3,FALSE)","v":" "},null,null,"No info","линк","https://bg.toolsworld.com/search/?query=","https://bg.toolsworld.com/search/?query=55213"]
[55313,"Kefe-nous hó kaparóval, teleszkópos, 730-1000 mm// Stels",3429,"B","Active",{"$f":"VLOOKUP(A5229,[1]Sheet1!$A$1:$C$65512,3,FALSE)","v":" "},null,null,"No info","линк","https://bg.toolsworld.com/search/?query=","https://bg.toolsworld.com/search/?query=55313"]
[56775,"Kerékblokk 120x80x70 mm MATRIX Oroszország",872,"B","Active",{"$f":"VLOOKUP(A5230,[1]Sheet1!$A$1:$C$65512,3,FALSE)","v":" "},null,null,"No info","линк","https://bg.toolsworld.com/search/?query=","https://bg.toolsworld.com/search/?query=56775"]
[57445,"1/2\" ütvecsavarozó, ikerkalapács 610 Nm, 9000 RPM szabad sebesség, készlet 17 db.// Gross\n",65536,"B","Active",{"$f":"VLOOKUP(A5231,[1]Sheet1!$A$1:$C$65512,3,FALSE)","v":228},null,null,"No info","линк","https://bg.toolsworld.com/search/?query=","https://bg.toolsworld.com/search/?query=57445"]
[57446,"1/2\" négyzetméter Dr. Air racsnis csavarkulcs G120, 122Nm, 160 RPM szabad sebesség // Gross\n",25886,"B","Active",{"$f":"VLOOKUP(A5232,[1]Sheet1!$A$1:$C$65512,3,FALSE)","v":151},null,null,"No info","линк","https://bg.toolsworld.com/search/?query=","https://bg.toolsworld.com/search/?query=57446"]
[57448,"1/4\" pisztoly ADJ. Légcsavarhúzó, G208, 17 Nm, 700 RPM szabad sebesség // Gross",32034,"B","Active",{"$f":"VLOOKUP(A5233,[1]Sheet1!$A$1:$C$65512,3,FALSE)","v":342},null,null,"No info","линк","https://bg.toolsworld.com/search/?query=","https://bg.toolsworld.com/search/?query=57448"]
[57449,"3/8\" reverzibilis légfúró, G302, 1800 ford / perc szabad sebesség, tokmány 10 mm / /Gross",23487,"B","Active",{"$f":"VLOOKUP(A5234,[1]Sheet1!$A$1:$C$65512,3,FALSE)","v":290},null,null,"No info","линк","https://bg.toolsworld.com/search/?query=","https://bg.toolsworld.com/search/?query=57449"]
[57454,"5\" sarokcsiszoló (biztonsági kar) G506, 11000 ford / perc szabad sebesség / / Gross\n",36363,"B","Active",{"$f":"VLOOKUP(A5235,[1]Sheet1!$A$1:$C$65512,3,FALSE)","v":251},null,null,"No info","линк","https://bg.toolsworld.com/search/?query=","https://bg.toolsworld.com/search/?query=57454"]
[60581,"Racsnis rúdmetsző fűrésszel, műanyag szárral 25 mm// Palisad",4910,"B","Active",{"$f":"VLOOKUP(A5236,[1]Sheet1!$A$1:$C$65512,3,FALSE)","v":" "},null,null,"No info","линк","https://bg.toolsworld.com/search/?query=","https://bg.toolsworld.com/search/?query=60581"]
[62299,"Hurok alakú gyomirtó, 155х1340 mm, rugóacél, fa nyél, Oroszország// Сибртех\n",1792,"B","Active",{"$f":"VLOOKUP(A5237,[1]Sheet1!$A$1:$C$65512,3,FALSE)","v":2},null,null,"No info","линк","https://bg.toolsworld.com/search/?query=","https://bg.toolsworld.com/search/?query=62299"]
[62300,"Hurok alakú gyomirtó, 115х1340 mm, rugóacél, fa nyél, Oroszország// Сибртех\n",1574,"B","Active",{"$f":"VLOOKUP(A5238,[1]Sheet1!$A$1:$C$65512,3,FALSE)","v":2},null,null,"No info","линк","https://bg.toolsworld.com/search/?query=","https://bg.toolsworld.com/search/?query=62300"]
[62317,"Acél kapa, 170х60х710 mm, fa nyél, Oroszország// Сибртех\n",978,"B","Active",{"$f":"VLOOKUP(A5239,[1]Sheet1!$A$1:$C$65512,3,FALSE)","v":2},null,null,"No info","линк","https://bg.toolsworld.com/search/?query=","https://bg.toolsworld.com/search/?query=62317"]
[62331,"Acél kapa, 170х45х1380 mm, fa nyél, Oroszország// Сибртех\n",1246,"B","Active",{"$f":"VLOOKUP(A5240,[1]Sheet1!$A$1:$C$65512,3,FALSE)","v":2},null,null,"No info","линк","https://bg.toolsworld.com/search/?query=","https://bg.toolsworld.com/search/?query=62331"]
[62332,"Acél kapa, 200х65х1380 mm, fa nyél, Oroszország// Сибртех\n",1438,"B","Active",{"$f":"VLOOKUP(A5241,[1]Sheet1!$A$1:$C$65512,3,FALSE)","v":2},null,null,"No info","линк","https://bg.toolsworld.com/search/?query=","https://bg.toolsworld.com/search/?query=62332"]
[67830,"Pamutkesztyű nitril-butadién gumi bevonattal, mandzsetta, M// Сибртех\n",644,"B","Active",{"$f":"VLOOKUP(A5242,[1]Sheet1!$A$1:$C$65512,3,FALSE)","v":480},null,null,"No info","линк","https://bg.toolsworld.com/search/?query=","https://bg.toolsworld.com/search/?query=67830"]
[67831,"Pamutkesztyű nitril-butadién gumi bevonattal, mandzsetta, L // Сибртех\n",644,"B","Active",{"$f":"VLOOKUP(A5243,[1]Sheet1!$A$1:$C$65512,3,FALSE)","v":154},null,null,"No info","линк","https://bg.toolsworld.com/search/?query=","https://bg.toolsworld.com/search/?query=67831"]
[68630,"Dupla, félgyapjú kötött kesztyű, bőr tenyérfelső, 150 g, Oroszország// Сибртех\n",1574,"B","Active",{"$f":"VLOOKUP(A5244,[1]Sheet1!$A$1:$C$65512,3,FALSE)","v":9},null,null,"No info","линк","https://bg.toolsworld.com/search/?query=","https://bg.toolsworld.com/search/?query=68630"]
[68653,"Kötött kesztyű, akril, barna színű, serged varrás, Oroszország// СИБРТЕХ\n",0,"B","Active",{"$f":"VLOOKUP(A5245,[1]Sheet1!$A$1:$C$65512,3,FALSE)","v":" "},null,null,"No info","линк","https://bg.toolsworld.com/search/?query=","https://bg.toolsworld.com/search/?query=68653"]
[83397,"Kerek fali ecset homlokzati munkákhoz, 80mm, természetes sörte, műanyag nyél// Mátrix\n",2137,"B","Active",{"$f":"VLOOKUP(A5246,[1]Sheet1!$A$1:$C$65512,3,FALSE)","v":" "},null,null,"No info","линк","https://bg.toolsworld.com/search/?query=","https://bg.toolsworld.com/search/?query=83397"]
[85574,"Homlokzati kaparó 250 mm, rozsdamentes acél, kétkomponensű fogantyú// СИБРТЕХ\n",1306,"B","Active",{"$f":"VLOOKUP(A5247,[1]Sheet1!$A$1:$C$65512,3,FALSE)","v":" "},null,null,"No info","линк","https://bg.toolsworld.com/search/?query=","https://bg.toolsworld.com/search/?query=85574"]
[88845,"Ragasztószalag, 48 mm x 25 m, átlátszó Oroszország\n",117,"B","Active",{"$f":"VLOOKUP(A5248,[1]Sheet1!$A$1:$C$65512,3,FALSE)","v":" "},null,null,"No info","линк","https://bg.toolsworld.com/search/?query=","https://bg.toolsworld.com/search/?query=88845"]
[88883,"Maszkolószalag, gazdaságos, 25 mm x 15 m, papíralap// Сибртех\n",141,"B","Active",{"$f":"VLOOKUP(A5249,[1]Sheet1!$A$1:$C$65512,3,FALSE)","v":" "},null,null,"No info","линк","https://bg.toolsworld.com/search/?query=","https://bg.toolsworld.com/search/?query=88883"]
[91424,"Professzionális gázégő bután ballonhoz, piezo// Matrix\n",8191,"B","Active",{"$f":"VLOOKUP(A5250,[1]Sheet1!$A$1:$C$65512,3,FALSE)","v":" "},null,null,"No info","линк","https://bg.toolsworld.com/search/?query=","https://bg.toolsworld.com/search/?query=91424"]
[91426,"Professzionális gázégő bután ballonhoz, piezo-hoz, fémtesthez// Mátrix\n",10986,"B","Active",{"$f":"VLOOKUP(A5251,[1]Sheet1!$A$1:$C$65512,3,FALSE)","v":" "},null,null,"No info","линк","https://bg.toolsworld.com/search/?query=","https://bg.toolsworld.com/search/?query=91426"]
[91427,"Professzionális gázégő bután ballonhoz, piezo-hoz, expandált csőszájhoz// Mátrix\n",9067,"B","Active",{"$f":"VLOOKUP(A5252,[1]Sheet1!$A$1:$C$65512,3,FALSE)","v":" "},null,null,"No info","линк","https://bg.toolsworld.com/search/?query=","https://bg.toolsworld.com/search/?query=91427"]
[115819,"Kombinált csavarhúzó, SL6,0 / Ph2 x 38 mm, CrV, kétkomponensű fogantyú// MTX\n",1310,"B","Active",{"$f":"VLOOKUP(A5253,[1]Sheet1!$A$1:$C$65512,3,FALSE)","v":" "},null,null,"No info","линк","https://bg.toolsworld.com/search/?query=","https://bg.toolsworld.com/search/?query=115819"]
[117827,"\"Point\" csavarhúzó készlet, kétkomponensű fogantyú, 6 db.// Sparta\n",1694,"B","Active",{"$f":"VLOOKUP(A5254,[1]Sheet1!$A$1:$C$65512,3,FALSE)","v":2},null,null,"No info","линк","https://bg.toolsworld.com/search/?query=","https://bg.toolsworld.com/search/?query=117827"]
[117837,"Precíziós csavarhúzó készlet, 16 db.// Sparta\n",1185,"B","Active",{"$f":"VLOOKUP(A5255,[1]Sheet1!$A$1:$C$65512,3,FALSE)","v":242},null,null,"No info","линк","https://bg.toolsworld.com/search/?query=","https://bg.toolsworld.com/search/?query=117837"]
[142737,"Gyűrűs kulcs, ütés 30 mm// Stels\n",2447,"B","Active",{"$f":"VLOOKUP(A5256,[1]Sheet1!$A$1:$C$65512,3,FALSE)","v":74},null,null,"No info","линк","https://bg.toolsworld.com/search/?query=","https://bg.toolsworld.com/search/?query=142737"]
[154189,"8 db Kombinált villáskulcs készlet, 8 - 19 mm, CrV, polírozott// MTX\n",3186,"B","Active",{"$f":"VLOOKUP(A5257,[1]Sheet1!$A$1:$C$65512,3,FALSE)","v":" "},null,null,"No info","линк","https://bg.toolsworld.com/search/?query=","https://bg.toolsworld.com/search/?query=154189"]
[225479,"Műanyag gérvágó doboz, 300 x 90 mm, 4 szög fűrészvágáshoz// MTX\n",1390,"B","Active",{"$f":"VLOOKUP(A5258,[1]Sheet1!$A$1:$C$65512,3,FALSE)","v":" "},null,null,"No info","линк","https://bg.toolsworld.com/search/?query=","https://bg.toolsworld.com/search/?query=225479"]
[310067,"Mérőszalag Állapotmágnes 3 rögzítés, 8 m x 25mm, mágneses véghorog, СЕ// MTX\n",2032,"B","Active",{"$f":"VLOOKUP(A5259,[1]Sheet1!$A$1:$C$65512,3,FALSE)","v":{"$error":"#N/A"}},null,null,"No info","линк","https://bg.toolsworld.com/search/?query=","https://bg.toolsworld.com/search/?query=310067"]
[475987,"Tömítőgumi tömítés készlet D 3 - 22 mm, 279 db// MTX\n",1499,"B","Active",{"$f":"VLOOKUP(A5260,[1]Sheet1!$A$1:$C$65512,3,FALSE)","v":797},null,null,"No info","линк","https://bg.toolsworld.com/search/?query=","https://bg.toolsworld.com/search/?query=475987"]
[507219,"Hidraulikus palackemelő, 5 t, felfelé 216-413 mm// MTX\n",9447,"B","Active",{"$f":"VLOOKUP(A5261,[1]Sheet1!$A$1:$C$65512,3,FALSE)","v":2},null,null,"No info","линк","https://bg.toolsworld.com/search/?query=","https://bg.toolsworld.com/search/?query=507219"]
[507259,"Hidraulikus palackemelő 10 t, felfelé 230-460 mm// MTX\n",12247,"B","Active",{"$f":"VLOOKUP(A5262,[1]Sheet1!$A$1:$C$65512,3,FALSE)","v":29},null,null,"No info","линк","https://bg.toolsworld.com/search/?query=","https://bg.toolsworld.com/search/?query=507259"]
[574159,"Pneumatikus tűzőgép négyszögletes tűzőkapcsokhoz 6-13 mm// MTX\n",8355,"B","Active",{"$f":"VLOOKUP(A5263,[1]Sheet1!$A$1:$C$65512,3,FALSE)","v":118},null,null,"No info","линк","https://bg.toolsworld.com/search/?query=","https://bg.toolsworld.com/search/?query=574159"]
[598057,"Lánc DGS-5218 láncfűrészhez, vezetőrúd 45 cm (18\"), osztás 0,325\", nyomtáv 1,5 mm, 72 láncszem// Denzel\n",3279,"B","Active",{"$f":"VLOOKUP(A5264,[1]Sheet1!$A$1:$C$65512,3,FALSE)","v":{"$error":"#N/A"}},null,null,"No info","линк","https://bg.toolsworld.com/search/?query=","https://bg.toolsworld.com/search/?query=598057"]
[677248,"Pamut munkakesztyű, latex bevonat, 13-as méretű (Garden Star)\n",210,"B","Active",{"$f":"VLOOKUP(A5265,[1]Sheet1!$A$1:$C$65512,3,FALSE)","v":385},null,null,"No info","линк","https://bg.toolsworld.com/search/?query=","https://bg.toolsworld.com/search/?query=677248"]
[677428,"Kerti poliészter kesztyű, tenyérnitril bevonatú, zöld, M// PALISAD\n",452,"B","Active",{"$f":"VLOOKUP(A5266,[1]Sheet1!$A$1:$C$65512,3,FALSE)","v":1358},null,null,"No info","линк","https://bg.toolsworld.com/search/?query=","https://bg.toolsworld.com/search/?query=677428"]
[751709,"Csiszolószita-szemcsés, P 100, 106 х 280 mm, 25db// MTX\n",1513,"B","Active",{"$f":"VLOOKUP(A5267,[1]Sheet1!$A$1:$C$65512,3,FALSE)","v":" "},null,null,"No info","линк","https://bg.toolsworld.com/search/?query=","https://bg.toolsworld.com/search/?query=751709"]
[770279,"Szerszámfej M10 x 1,5 mm // MTX\n",488,"B","Active",{"$f":"VLOOKUP(A5268,[1]Sheet1!$A$1:$C$65512,3,FALSE)","v":{"$error":"#N/A"}},null,null,"No info","линк","https://bg.toolsworld.com/search/?query=","https://bg.toolsworld.com/search/?query=770279"]
[773659,"Szerszámfej a taposókhoz 1/2\"// MTX\n",2316,"B","Active",{"$f":"VLOOKUP(A5269,[1]Sheet1!$A$1:$C$65512,3,FALSE)","v":211},null,null,"No info","линк","https://bg.toolsworld.com/search/?query=","https://bg.toolsworld.com/search/?query=773659"]
[789727,"Könnyű papírvágó, teleszkópos kaparópenge, 9 mm// Sparta\n",60,"B","Active",{"$f":"VLOOKUP(A5270,[1]Sheet1!$A$1:$C$65512,3,FALSE)","v":6143},null,null,"No info","линк","https://bg.toolsworld.com/search/?query=","https://bg.toolsworld.com/search/?query=789727"]
[812209,"Görgős keret, 180 mm, D 8 mm, horganyzott// MTX\n",283,"B","Active",{"$f":"VLOOKUP(A5271,[1]Sheet1!$A$1:$C$65512,3,FALSE)","v":{"$error":"#N/A"}},null,null,"No info","линк","https://bg.toolsworld.com/search/?query=","https://bg.toolsworld.com/search/?query=812209"]
[814309,"Építőipari műanyag vödör 12 l// MTX\n",671,"B","Active",{"$f":"VLOOKUP(A5272,[1]Sheet1!$A$1:$C$65512,3,FALSE)","v":4543},null,null,"No info","линк","https://bg.toolsworld.com/search/?query=","https://bg.toolsworld.com/search/?query=814309"]
[893575,"Fültokvédő, fém repülőgépek// Sparta\n",1417,"B","Active",{"$f":"VLOOKUP(A5273,[1]Sheet1!$A$1:$C$65512,3,FALSE)","v":{"$error":"#N/A"}},null,null,"No info","линк","https://bg.toolsworld.com/search/?query=","https://bg.toolsworld.com/search/?query=893575"]
[1356457,"Szerszámkészlet, 132 db.// Sparta\n",7897,"B","Active",{"$f":"VLOOKUP(A5274,[1]Sheet1!$A$1:$C$65512,3,FALSE)","v":504},null,null,"No info","линк","https://bg.toolsworld.com/search/?query=","https://bg.toolsworld.com/search/?query=1356457"]
[3177559,"Mechanikus mikrométer, 50–75 mm// MTX\n",4585,"B","Active",{"$f":"VLOOKUP(A5275,[1]Sheet1!$A$1:$C$65512,3,FALSE)","v":" "},null,null,"No info","линк","https://bg.toolsworld.com/search/?query=","https://bg.toolsworld.com/search/?query=3177559"]
[5193659,"Láncblokk, 2 t, h emelés 2,5 m, horgok közötti távolság 380 mm// MTX\n",38671,"B","Active",{"$f":"VLOOKUP(A5276,[1]Sheet1!$A$1:$C$65512,3,FALSE)","v":36},null,null,"No info","линк","https://bg.toolsworld.com/search/?query=","https://bg.toolsworld.com/search/?query=5193659"]
[5193959,"Láncblokk, 3 t, h emelés 3 m, horgok közötti távolság 470 mm// MTX\n",52153,"B","Active",{"$f":"VLOOKUP(A5277,[1]Sheet1!$A$1:$C$65512,3,FALSE)","v":10},null,null,"No info","линк","https://bg.toolsworld.com/search/?query=","https://bg.toolsworld.com/search/?query=5193959"]
[5227159,"Csörlő, bot - 0,8 t, kötél típusa// MTX\n",14322,"B","Active",{"$f":"VLOOKUP(A5278,[1]Sheet1!$A$1:$C$65512,3,FALSE)","v":90},null,null,"No info",{"$f":"HYPERLINK(L5278,\"линк\")","v":"линк"},"https://bg.toolsworld.com/search/?query=",{"$f":"CONCATENATE(K5278,A5278)","v":"https://bg.toolsworld.com/search/?query=5227159"}]
[5227359,"Csörlő, bot - 0,8 t, kötél típusa// MTX\n",21247,"B","Active",{"$f":"VLOOKUP(A5279,[1]Sheet1!$A$1:$C$65512,3,FALSE)","v":7},null,null,"No info","линк","https://bg.toolsworld.com/search/?query=","https://bg.toolsworld.com/search/?query=5227359"]
[5673759,"Hidraulikus sebességváltó csatlakozó, 0,5t, h emelés 1130-1945 mm//MTX\n",74682,"B","Active",{"$f":"VLOOKUP(A5280,[1]Sheet1!$A$1:$C$65512,3,FALSE)","v":26},null,null,"No info","линк","https://bg.toolsworld.com/search/?query=","https://bg.toolsworld.com/search/?query=5673759"]
[6449484,"Harisnyakötő kerti növényekhez, 13 cm, műanyag, SKU 644948 - 2х50 db.// Palisad\n",992,"B","Active",{"$f":"VLOOKUP(A5281,[1]Sheet1!$A$1:$C$65512,3,FALSE)","v":{"$error":"#N/A"}},null,null,"No info","линк","https://bg.toolsworld.com/search/?query=","https://bg.toolsworld.com/search/?query=6449484"]
[7790344,"Munkakabát XL// Denzel\n",17985,"B","Active",{"$f":"VLOOKUP(A5282,[1]Sheet1!$A$1:$C$65512,3,FALSE)","v":3},null,null,"No info","линк","https://bg.toolsworld.com/search/?query=","https://bg.toolsworld.com/search/?query=7790344"]
[7790345,"Munkakabát XXL// Denzel\n",17985,"B","Active",{"$f":"VLOOKUP(A5283,[1]Sheet1!$A$1:$C$65512,3,FALSE)","v":2},null,null,"No info","линк","https://bg.toolsworld.com/search/?query=","https://bg.toolsworld.com/search/?query=7790345"]
[476607,"Fém tömlőbilincsek, kulcs alakú rögzítőelem 10-16 mm, 2 db// MTX",158,"B","Active",{"$f":"VLOOKUP(A5284,[1]Sheet1!$A$1:$C$65512,3,FALSE)","v":2606},null,null,"No info",{"$f":"HYPERLINK(L5284,\"линк\")","v":"линк"},"https://bg.toolsworld.com/search/?query=",{"$f":"CONCATENATE(K5284,A5284)","v":"https://bg.toolsworld.com/search/?query=476607"}]
[476617,"Fém tömlőbilincsek, kulcs alakú rögzítőelem 12-20 mm, 2 db// MTX",168,"B","Active",{"$f":"VLOOKUP(A5285,[1]Sheet1!$A$1:$C$65512,3,FALSE)","v":1467},null,null,"No info","линк","https://bg.toolsworld.com/search/?query=","https://bg.toolsworld.com/search/?query=476617"]
[476627,"Fém tömlőbilincsek, kulcs alakú rögzítőelem 16-25 mm, 2 db// MTX",172,"B","Active",{"$f":"VLOOKUP(A5286,[1]Sheet1!$A$1:$C$65512,3,FALSE)","v":1967},null,null,"No info","линк","https://bg.toolsworld.com/search/?query=","https://bg.toolsworld.com/search/?query=476627"]
[476637,"Fém tömlőbilincsek, kulcs alakú rögzítőelem 20-32 mm, 2 db// MTX",193,"B","Active",{"$f":"VLOOKUP(A5287,[1]Sheet1!$A$1:$C$65512,3,FALSE)","v":1093},null,null,"No info","линк","https://bg.toolsworld.com/search/?query=","https://bg.toolsworld.com/search/?query=476637"]
[476647,"Fém tömlőbilincsek, kulcs alakú rögzítőelem 20-35 mm, 2 db// MTX",195,"B","Active",{"$f":"VLOOKUP(A5288,[1]Sheet1!$A$1:$C$65512,3,FALSE)","v":868},null,null,"No info","линк","https://bg.toolsworld.com/search/?query=","https://bg.toolsworld.com/search/?query=476647"]
[476657,"Fém tömlőbilincsek, kulcs alakú rögzítőelem 25-45 mm, 2 db// MTX",197,"B","Active",{"$f":"VLOOKUP(A5289,[1]Sheet1!$A$1:$C$65512,3,FALSE)","v":1217},null,null,"No info","линк","https://bg.toolsworld.com/search/?query=","https://bg.toolsworld.com/search/?query=476657"]
[774509,"Behajtófej tartó 2\" (45 mm)//MTX",2211,"B","Active",{"$f":"VLOOKUP(A5290,[1]Sheet1!$A$1:$C$65512,3,FALSE)","v":25},null,null,"No info","линк","https://bg.toolsworld.com/search/?query=","https://bg.toolsworld.com/search/?query=774509"]
[1334457,"Precíziós csavarhúzó készlet, 6 db.// Sparta",348,"B","Active",{"$f":"VLOOKUP(A5291,[1]Sheet1!$A$1:$C$65512,3,FALSE)","v":1500},null,null,"No info","линк","https://bg.toolsworld.com/search/?query=","https://bg.toolsworld.com/search/?query=1334457"]
[15927,"Négyzet alakú reszelő 200 mm, kétkomponensű nyél, №2",637,"B","Active",{"$f":"VLOOKUP(A5292,[1]Sheet1!$A$1:$C$65512,3,FALSE)","v":32},null,null,"No info",{"$f":"HYPERLINK(L5292,\"линк\")","v":"линк"},"https://bg.toolsworld.com/search/?query=",{"$f":"CONCATENATE(K5292,A5292)","v":"https://bg.toolsworld.com/search/?query=15927"}]
[66565,"Sárgaréz tömlőcsatlakozó// Palisad",627,"B","Active",{"$f":"VLOOKUP(A5293,[1]Sheet1!$A$1:$C$65512,3,FALSE)","v":" "},null,null,"No info","линк","https://bg.toolsworld.com/search/?query=","https://bg.toolsworld.com/search/?query=66565"]
[76665,"Kézi csap készlet, 2 db M24 x 3,0 mm",3059,"B","Active",{"$f":"VLOOKUP(A5294,[1]Sheet1!$A$1:$C$65512,3,FALSE)","v":50},null,null,"No info","линк","https://bg.toolsworld.com/search/?query=","https://bg.toolsworld.com/search/?query=76665"]
[142589,"Keresztkulcs 17x19x21 mm x1/2\", vastagság 14 mm// MTX",2366,"B","Active",{"$f":"VLOOKUP(A5295,[1]Sheet1!$A$1:$C$65512,3,FALSE)","v":44},null,null,"No info","линк","https://bg.toolsworld.com/search/?query=","https://bg.toolsworld.com/search/?query=142589"]
[142599,"Keresztkulcs 17x19x21x22mm, vastagság 14mm// MTX",2391,"B","Active",{"$f":"VLOOKUP(A5296,[1]Sheet1!$A$1:$C$65512,3,FALSE)","v":41},null,null,"No info","линк","https://bg.toolsworld.com/search/?query=","https://bg.toolsworld.com/search/?query=142599"]
[143057,"Dupla villáskulcs 12x13 mm, sárga cink// Sparta",232,"B","Active",{"$f":"VLOOKUP(A5297,[1]Sheet1!$A$1:$C$65512,3,FALSE)","v":705},null,null,"No info","линк","https://bg.toolsworld.com/search/?query=","https://bg.toolsworld.com/search/?query=143057"]
[143269,"Dupla villáskulcs, 14 x 15 mm, CrV, fekete foszfáttal// MTX",388,"B","Active",{"$f":"VLOOKUP(A5298,[1]Sheet1!$A$1:$C$65512,3,FALSE)","v":300},null,null,"No info","линк","https://bg.toolsworld.com/search/?query=","https://bg.toolsworld.com/search/?query=143269"]
[143289,"Dupla villáskulcs, 17 x 19 mm, CrV, fekete foszfáttal// MTX",475,"B","Active",{"$f":"VLOOKUP(A5299,[1]Sheet1!$A$1:$C$65512,3,FALSE)","v":233},null,null,"No info","линк","https://bg.toolsworld.com/search/?query=","https://bg.toolsworld.com/search/?query=143289"]
[143329,"Dupla villáskulcs, 30 x 32 mm, CrV, fekete foszfáttal// MTX",1611,"B","Active",{"$f":"VLOOKUP(A5300,[1]Sheet1!$A$1:$C$65512,3,FALSE)","v":102},null,null,"No info","линк","https://bg.toolsworld.com/search/?query=","https://bg.toolsworld.com/search/?query=143329"]
[149089,"Kombinált villáskulcs, 13 mm, CrV, fekete foszfáttal// MTX",367,"B","Active",{"$f":"VLOOKUP(A5301,[1]Sheet1!$A$1:$C$65512,3,FALSE)","v":663},null,null,"No info","линк","https://bg.toolsworld.com/search/?query=","https://bg.toolsworld.com/search/?query=149089"]
[149109,"Kombinált villáskulcs, 15 mm, CrV, fekete foszfáttal// MTX",469,"B","Active",{"$f":"VLOOKUP(A5302,[1]Sheet1!$A$1:$C$65512,3,FALSE)","v":196},null,null,"No info","линк","https://bg.toolsworld.com/search/?query=","https://bg.toolsworld.com/search/?query=149109"]
[149119,"Kombinált villáskulcs, 17 mm, CrV, fekete foszfáttal// MTX",512,"B","Active",{"$f":"VLOOKUP(A5303,[1]Sheet1!$A$1:$C$65512,3,FALSE)","v":229},null,null,"No info","линк","https://bg.toolsworld.com/search/?query=","https://bg.toolsworld.com/search/?query=149119"]
[149129,"Kombinált villáskulcs, 19 mm, CrV, fekete foszfáttal// MTX",643,"B","Active",{"$f":"VLOOKUP(A5304,[1]Sheet1!$A$1:$C$65512,3,FALSE)","v":125},null,null,"No info","линк","https://bg.toolsworld.com/search/?query=","https://bg.toolsworld.com/search/?query=149129"]
[149149,"Kombinált villáskulcs, 24 mm, CrV, fekete foszfáttal// MTX",1172,"B","Active",{"$f":"VLOOKUP(A5305,[1]Sheet1!$A$1:$C$65512,3,FALSE)","v":196},null,null,"No info","линк","https://bg.toolsworld.com/search/?query=","https://bg.toolsworld.com/search/?query=149149"]
[149159,"Kombinált villáskulcs, 27 mm, CrV, fekete foszfáttal// MTX",1647,"B","Active",{"$f":"VLOOKUP(A5306,[1]Sheet1!$A$1:$C$65512,3,FALSE)","v":118},null,null,"No info","линк","https://bg.toolsworld.com/search/?query=","https://bg.toolsworld.com/search/?query=149159"]
[149179,"Kombinált villáskulcs, 32 mm, CrV, fekete foszfáttal// MTX",2314,"B","Active",{"$f":"VLOOKUP(A5307,[1]Sheet1!$A$1:$C$65512,3,FALSE)","v":40},null,null,"No info","линк","https://bg.toolsworld.com/search/?query=","https://bg.toolsworld.com/search/?query=149179"]
[154379,"Kombinált villáskulcs készlet, 8-17mm, 6 db// MTX",1981,"B","Active",{"$f":"VLOOKUP(A5308,[1]Sheet1!$A$1:$C$65512,3,FALSE)","v":149},null,null,"No info","линк","https://bg.toolsworld.com/search/?query=","https://bg.toolsworld.com/search/?query=154379"]
[154389,"Kombinált villáskulcs készlet, 8-19 mm, 8 db.// MTX",2783,"B","Active",{"$f":"VLOOKUP(A5309,[1]Sheet1!$A$1:$C$65512,3,FALSE)","v":320},null,null,"No info","линк","https://bg.toolsworld.com/search/?query=","https://bg.toolsworld.com/search/?query=154389"]
[154399,"Kombinált villáskulcs készlet, 6-22 mm, 12 db.// MTX",4289,"B","Active",{"$f":"VLOOKUP(A5310,[1]Sheet1!$A$1:$C$65512,3,FALSE)","v":247},null,null,"No info","линк","https://bg.toolsworld.com/search/?query=","https://bg.toolsworld.com/search/?query=154399"]
[154759,"Kombinált villáskulcs készlet, 6 - 22 mm, CrV, 10 db, fekete foszfáttal// MTX",4797,"B","Active",{"$f":"VLOOKUP(A5311,[1]Sheet1!$A$1:$C$65512,3,FALSE)","v":91},null,null,"No info","линк","https://bg.toolsworld.com/search/?query=","https://bg.toolsworld.com/search/?query=154759"]
[7403194,"Lapos tárcsa, P 100, 115 x 22,2 mm, SKU 740319 - 10 db.// MTX",2873,"B","Active",{"$f":"VLOOKUP(A5312,[1]Sheet1!$A$1:$C$65512,3,FALSE)","v":5},null,null,"No info","линк","https://bg.toolsworld.com/search/?query=","https://bg.toolsworld.com/search/?query=7403194"]
[7404394,"Lapos tárcsa, P 60, 125 x 22,2 mm, SKU 740439 - 10 db.// MTX",3284,"B","Active",{"$f":"VLOOKUP(A5313,[1]Sheet1!$A$1:$C$65512,3,FALSE)","v":6},null,null,"No info","линк","https://bg.toolsworld.com/search/?query=","https://bg.toolsworld.com/search/?query=7404394"]
[7407644,"Lapos csiszolótárcsa, kúpos profil, P 24, 115 x 22,2 mm, SKU 74076 - 10 db.",2463,"B","Active",{"$f":"VLOOKUP(A5314,[1]Sheet1!$A$1:$C$65512,3,FALSE)","v":20},null,null,"No info","линк","https://bg.toolsworld.com/search/?query=","https://bg.toolsworld.com/search/?query=7407644"]
[7407944,"Lapos csiszolótárcsa, kúpos profil, P 80, 115 x 22,2 mm, SKU 74079 - 10 db.",2463,"B","Active",{"$f":"VLOOKUP(A5315,[1]Sheet1!$A$1:$C$65512,3,FALSE)","v":7},null,null,"No info","линк","https://bg.toolsworld.com/search/?query=","https://bg.toolsworld.com/search/?query=7407944"]
[7408344,"Lapos csiszolótárcsa, kúpos profil, P 40, 125 x 22,2 mm, SKU 74083 - 10 db.",2668,"B","Active",{"$f":"VLOOKUP(A5316,[1]Sheet1!$A$1:$C$65512,3,FALSE)","v":20},null,null,"No info","линк","https://bg.toolsworld.com/search/?query=","https://bg.toolsworld.com/search/?query=7408344"]
[7408444,"Lapos csiszolótárcsa, kúpos profil, P 60, 125 x 22,2 mm, SKU 74084 - 10 db.",2668,"B","Active",{"$f":"VLOOKUP(A5317,[1]Sheet1!$A$1:$C$65512,3,FALSE)","v":10},null,null,"No info","линк","https://bg.toolsworld.com/search/?query=","https://bg.toolsworld.com/search/?query=7408444"]
[7408544,"Lapos csiszolótárcsa, kúpos profil, P 80, 125 x 22,2 mm, SKU 74085 - 10 db.",2668,"B","Active",{"$f":"VLOOKUP(A5318,[1]Sheet1!$A$1:$C$65512,3,FALSE)","v":10},null,null,"No info","линк","https://bg.toolsworld.com/search/?query=","https://bg.toolsworld.com/search/?query=7408544"]
[7432894,"Fémvágó tárcsa, 115 x 1,6 x 22,2 mm, SKU 743289 - 10 db. // MTX",1847,"B","Active",{"$f":"VLOOKUP(A5319,[1]Sheet1!$A$1:$C$65512,3,FALSE)","v":24},null,null,"No info","линк","https://bg.toolsworld.com/search/?query=","https://bg.toolsworld.com/search/?query=7432894"]
[7433394,"Fémvágó tárcsa, 125 x 1,0 x 22,2 mm, SKU 743339 - 10 db.// MTX",2052,"B","Active",{"$f":"VLOOKUP(A5320,[1]Sheet1!$A$1:$C$65512,3,FALSE)","v":12},null,null,"No info","линк","https://bg.toolsworld.com/search/?query=","https://bg.toolsworld.com/search/?query=7433394"]
[7433494,"Fémvágó tárcsa, 125 x 1,2 x 22,2 mm, SKU 743349 - 10 db.// MTX",2052,"B","Active",{"$f":"VLOOKUP(A5321,[1]Sheet1!$A$1:$C$65512,3,FALSE)","v":30},null,null,"No info","линк","https://bg.toolsworld.com/search/?query=","https://bg.toolsworld.com/search/?query=7433494"]
[7777494,"Fém fémfűrészlap, 300 mm, 18TPI, elasztikus, SKU 777749 - 2x2 db// MTX",616,"B","Active",{"$f":"VLOOKUP(A5322,[1]Sheet1!$A$1:$C$65512,3,FALSE)","v":20},null,null,"No info","линк","https://bg.toolsworld.com/search/?query=","https://bg.toolsworld.com/search/?query=7777494"]
[9772577,"Alumínium létra, 6 lépcső// Denzel",27671,"B","Active",{"$f":"VLOOKUP(A5323,[1]Sheet1!$A$1:$C$65512,3,FALSE)","v":50},null,null,"No info","линк","https://bg.toolsworld.com/search/?query=","https://bg.toolsworld.com/search/?query=9772577"]
[9772677,"Alumínium létra, 7 lépcső// Denzel",32942,"B","Active",{"$f":"VLOOKUP(A5324,[1]Sheet1!$A$1:$C$65512,3,FALSE)","v":50},null,null,"No info","линк","https://bg.toolsworld.com/search/?query=","https://bg.toolsworld.com/search/?query=9772677"]
[103727,"Gépész kalapács, üvegszálas nyél gumi szárral, 200G// Sparta",951,"B","Active",{"$f":"VLOOKUP(A5325,[1]Sheet1!$A$1:$C$65512,3,FALSE)","v":614},null,null,"No info",{"$f":"HYPERLINK(L5325,\"линк\")","v":"линк"},"https://bg.toolsworld.com/search/?query=",{"$f":"CONCATENATE(K5325,A5325)","v":"https://bg.toolsworld.com/search/?query=103727"}]
[475977,"Tömítőgumi tömítéskészlet, D 7 - 53 mm, 406 db// MTX",3146,"B","Active",{"$f":"VLOOKUP(A5326,[1]Sheet1!$A$1:$C$65512,3,FALSE)","v":182},null,null,"No info","линк","https://bg.toolsworld.com/search/?query=","https://bg.toolsworld.com/search/?query=475977"]
[729589,"Gyémánt kupakerék Kombinált 125 mm// Sparta",3175,"B","Active",{"$f":"VLOOKUP(A5327,[1]Sheet1!$A$1:$C$65512,3,FALSE)","v":325},null,null,"No info","линк","https://bg.toolsworld.com/search/?query=","https://bg.toolsworld.com/search/?query=729589"]
[893109,"Biztonsági fültok, összecsukható, E-2023 modell, puha fejpánt, megnövelt csésze, SNR 30dB// MTX",3313,"B","Active",{"$f":"VLOOKUP(A5328,[1]Sheet1!$A$1:$C$65512,3,FALSE)","v":578},null,null,"No info","линк","https://bg.toolsworld.com/search/?query=","https://bg.toolsworld.com/search/?query=893109"]
[997017,"Vízszintes nyomású víztartály PWT-24, 24 liter, EPDM// Sparta",10675,"B","Active",{"$f":"VLOOKUP(A5329,[1]Sheet1!$A$1:$C$65512,3,FALSE)","v":{"$error":"#N/A"}},null,null,"No info","линк","https://bg.toolsworld.com/search/?query=","https://bg.toolsworld.com/search/?query=997017"]
[1862557,"Padsatu, 125 mm, forgó, üllővel// Sparta",10040,"B","Active",{"$f":"VLOOKUP(A5330,[1]Sheet1!$A$1:$C$65512,3,FALSE)","v":102},null,null,"No info","линк","https://bg.toolsworld.com/search/?query=","https://bg.toolsworld.com/search/?query=1862557"]
[2339057,"Kézi fűrész gipszkartonhoz, 180 mm, fa nyél// Sparta",365,"B","Active",{"$f":"VLOOKUP(A5331,[1]Sheet1!$A$1:$C$65512,3,FALSE)","v":360},null,null,"No info","линк","https://bg.toolsworld.com/search/?query=","https://bg.toolsworld.com/search/?query=2339057"]
[7021057,"5 db fafúró készlet, 4-5-6-8-10 mm, egyenes szár// Sparta",400,"B","Active",{"$f":"VLOOKUP(A5332,[1]Sheet1!$A$1:$C$65512,3,FALSE)","v":297},null,null,"No info","линк","https://bg.toolsworld.com/search/?query=","https://bg.toolsworld.com/search/?query=7021057"]
[7021257,"8 db Fafúró készlet, 3-4-5-6-7-8-9-10 mm, egyenes szár// Sparta",567,"B","Active",{"$f":"VLOOKUP(A5333,[1]Sheet1!$A$1:$C$65512,3,FALSE)","v":12},null,null,"No info","линк","https://bg.toolsworld.com/search/?query=","https://bg.toolsworld.com/search/?query=7021257"]
[7311957,"Turbó gyémánt fűrészlap 125 õ 22,2 mm, száraz vágás// Sparta",784,"B","Active",{"$f":"VLOOKUP(A5334,[1]Sheet1!$A$1:$C$65512,3,FALSE)","v":94},null,null,"No info","линк","https://bg.toolsworld.com/search/?query=","https://bg.toolsworld.com/search/?query=7311957"]
[7733557,"9 db-os szerszámkészlet 1/4\"-3/8\"-1/2\"-3/4\"-1\"-1 1/4\" + szerszámtartó racsnival// Sparta",17980,"B","Active",{"$f":"VLOOKUP(A5335,[1]Sheet1!$A$1:$C$65512,3,FALSE)","v":26},null,null,"No info","линк","https://bg.toolsworld.com/search/?query=","https://bg.toolsworld.com/search/?query=7733557"]
[117687,"Csavarhúzó \"Point\", SL6,0 õ 100 mm, 2 komponensű fogantyú// Sparta",307,"B","Active",{"$f":"VLOOKUP(A5336,[1]Sheet1!$A$1:$C$65512,3,FALSE)","v":491},null,null,"No info",{"$f":"HYPERLINK(L5336,\"линк\")","v":"линк"},"https://bg.toolsworld.com/search/?query=",{"$f":"CONCATENATE(K5336,A5336)","v":"https://bg.toolsworld.com/search/?query=117687"}]
[117777,"Csavarhúzó \"Point\", PH1 õ 75 mm, 2 komponensű fogantyú// Sparta",221,"B","Active",{"$f":"VLOOKUP(A5337,[1]Sheet1!$A$1:$C$65512,3,FALSE)","v":1620},null,null,"No info","линк","https://bg.toolsworld.com/search/?query=","https://bg.toolsworld.com/search/?query=117777"]
[143037,"Dupla villáskulcs 8x10 mm, sárga cink// Sparta",204,"B","Active",{"$f":"VLOOKUP(A5338,[1]Sheet1!$A$1:$C$65512,3,FALSE)","v":1120},null,null,"No info","линк","https://bg.toolsworld.com/search/?query=","https://bg.toolsworld.com/search/?query=143037"]
[143077,"Dupla villáskulcs 13x17mm, sárga cink// Sparta",307,"B","Active",{"$f":"VLOOKUP(A5339,[1]Sheet1!$A$1:$C$65512,3,FALSE)","v":650},null,null,"No info","линк","https://bg.toolsworld.com/search/?query=","https://bg.toolsworld.com/search/?query=143077"]
[143249,"Dupla villáskulcs, 12 õ 13 mm, CrV, fekete foszfáttal// MTX",314,"B","Active",{"$f":"VLOOKUP(A5340,[1]Sheet1!$A$1:$C$65512,3,FALSE)","v":448},null,null,"No info","линк","https://bg.toolsworld.com/search/?query=","https://bg.toolsworld.com/search/?query=143249"]
[143279,"Dupla villáskulcs, 14 õ 17 mm, CrV, fekete foszfáttal// MTX",390,"B","Active",{"$f":"VLOOKUP(A5341,[1]Sheet1!$A$1:$C$65512,3,FALSE)","v":218},null,null,"No info","линк","https://bg.toolsworld.com/search/?query=","https://bg.toolsworld.com/search/?query=143279"]
[146287,"Gyűrűs kulcs 19 x 22 mm, sárga cink// Sparta",949,"B","Active",{"$f":"VLOOKUP(A5342,[1]Sheet1!$A$1:$C$65512,3,FALSE)","v":180},null,null,"No info","линк","https://bg.toolsworld.com/search/?query=","https://bg.toolsworld.com/search/?query=146287"]
[146307,"Gyűrűs kulcs 20 x 22 mm, sárga cink// Sparta",970,"B","Active",{"$f":"VLOOKUP(A5343,[1]Sheet1!$A$1:$C$65512,3,FALSE)","v":65},null,null,"No info","линк","https://bg.toolsworld.com/search/?query=","https://bg.toolsworld.com/search/?query=146307"]
[146387,"Gyűrűs kulcs 30 x32 mm, sárga cink// Sparta",2180,"B","Active",{"$f":"VLOOKUP(A5344,[1]Sheet1!$A$1:$C$65512,3,FALSE)","v":120},null,null,"No info","линк","https://bg.toolsworld.com/search/?query=","https://bg.toolsworld.com/search/?query=146387"]
[149139,"Kombinált villáskulcs, 22 mm, CrV, fekete foszfáttal// MTX",1135,"B","Active",{"$f":"VLOOKUP(A5345,[1]Sheet1!$A$1:$C$65512,3,FALSE)","v":73},null,null,"No info","линк","https://bg.toolsworld.com/search/?query=","https://bg.toolsworld.com/search/?query=149139"]
[149169,"Kombinált villáskulcs, 30 mm, CrV, fekete foszfáttal// MTX",2013,"B","Active",{"$f":"VLOOKUP(A5346,[1]Sheet1!$A$1:$C$65512,3,FALSE)","v":49},null,null,"No info","линк","https://bg.toolsworld.com/search/?query=","https://bg.toolsworld.com/search/?query=149169"]
[149767,"Kombinált villáskulcs 10 mm, sárga cink// Sparta",212,"B","Active",{"$f":"VLOOKUP(A5347,[1]Sheet1!$A$1:$C$65512,3,FALSE)","v":1141},null,null,"No info","линк","https://bg.toolsworld.com/search/?query=","https://bg.toolsworld.com/search/?query=149767"]
[149797,"Kombinált villáskulcs 13 mm, sárga cink// Sparta",295,"B","Active",{"$f":"VLOOKUP(A5348,[1]Sheet1!$A$1:$C$65512,3,FALSE)","v":340},null,null,"No info","линк","https://bg.toolsworld.com/search/?query=","https://bg.toolsworld.com/search/?query=149797"]
[149887,"Kombinált villáskulcs 30 mm, sárga cink// Sparta",1822,"B","Active",{"$f":"VLOOKUP(A5349,[1]Sheet1!$A$1:$C$65512,3,FALSE)","v":98},null,null,"No info","линк","https://bg.toolsworld.com/search/?query=","https://bg.toolsworld.com/search/?query=149887"]
[152209,"Dupla villáskulcs készlet, 6 - 19 mm, 6 db, CrV, fekete foszfáttal// MTX",1964,"B","Active",{"$f":"VLOOKUP(A5350,[1]Sheet1!$A$1:$C$65512,3,FALSE)","v":121},null,null,"No info","линк","https://bg.toolsworld.com/search/?query=","https://bg.toolsworld.com/search/?query=152209"]
[152229,"Dupla villáskulcs készlet, 6 - 24 mm, 8 db, CrV, fekete foszfáttal// MTX",3107,"B","Active",{"$f":"VLOOKUP(A5351,[1]Sheet1!$A$1:$C$65512,3,FALSE)","v":34},null,null,"No info","линк","https://bg.toolsworld.com/search/?query=","https://bg.toolsworld.com/search/?query=152229"]
[154489,"Kombinált villáskulcs készlet, 8-19 mm, 8 db, CrV// MTX",2876,"B","Active",{"$f":"VLOOKUP(A5352,[1]Sheet1!$A$1:$C$65512,3,FALSE)","v":479},null,null,"No info","линк","https://bg.toolsworld.com/search/?query=","https://bg.toolsworld.com/search/?query=154489"]
[154739,"Kombinált villáskulcs készlet, 6 - 19 mm, CrV, 8 db, fekete foszfáttal// MTX",3136,"B","Active",{"$f":"VLOOKUP(A5353,[1]Sheet1!$A$1:$C$65512,3,FALSE)","v":117},null,null,"No info","линк","https://bg.toolsworld.com/search/?query=","https://bg.toolsworld.com/search/?query=154739"]
[179849,"Fogó, 250 mm (SMI)// Sparta",4044,"B","Active",{"$f":"VLOOKUP(A5354,[1]Sheet1!$A$1:$C$65512,3,FALSE)","v":50},null,null,"No info","линк","https://bg.toolsworld.com/search/?query=","https://bg.toolsworld.com/search/?query=179849"]
[216397,"Axe, 800 g, üvegszálas nyél// Sparta",2628,"B","Active",{"$f":"VLOOKUP(A5355,[1]Sheet1!$A$1:$C$65512,3,FALSE)","v":634},null,null,"No info","линк","https://bg.toolsworld.com/search/?query=","https://bg.toolsworld.com/search/?query=216397"]
[614137,"Kerek hegyű lapát, 205x275x1450 mm, merevítő bordák, fa nyél// Palisad",2245,"B","Active",{"$f":"VLOOKUP(A5356,[1]Sheet1!$A$1:$C$65512,3,FALSE)","v":" "},null,null,"No info","линк","https://bg.toolsworld.com/search/?query=","https://bg.toolsworld.com/search/?query=614137"]
[614617,"Négyszögletes lapát, 230õ275õ1400 mm, fa nyél// Palisad",2234,"B","Active",{"$f":"VLOOKUP(A5357,[1]Sheet1!$A$1:$C$65512,3,FALSE)","v":{"$error":"#N/A"}},null,null,"No info","линк","https://bg.toolsworld.com/search/?query=","https://bg.toolsworld.com/search/?query=614617"]
[766449,"Kézi csap készlet, 2 db M16 x 1,5 mm// MTX",1390,"B","Active",{"$f":"VLOOKUP(A5358,[1]Sheet1!$A$1:$C$65512,3,FALSE)","v":126},null,null,"No info","линк","https://bg.toolsworld.com/search/?query=","https://bg.toolsworld.com/search/?query=766449"]
[939797,"Polipropilén zsineg, piros, 1,7 mm, L 110 m// Palisad",426,"B","Active",{"$f":"VLOOKUP(A5359,[1]Sheet1!$A$1:$C$65512,3,FALSE)","v":128},null,null,"No info","линк","https://bg.toolsworld.com/search/?query=","https://bg.toolsworld.com/search/?query=939797"]
[7250557,"9 db Kombinált falazófúró készlet 5-6-8mm + fém 5-6-8mm + fa 5-6-8mm// Sparta",835,"B","Active",{"$f":"VLOOKUP(A5360,[1]Sheet1!$A$1:$C$65512,3,FALSE)","v":44},null,null,"No info","линк","https://bg.toolsworld.com/search/?query=","https://bg.toolsworld.com/search/?query=7250557"]
[142767,"Gyűrűs kulcs, ütés 41 mm// Stels",4347,"B","Active",{"$f":"VLOOKUP(A5361,[1]Sheet1!$A$1:$C$65512,3,FALSE)","v":17},null,null,"No info",{"$f":"HYPERLINK(L5361,\"линк\")","v":"линк"},"https://bg.toolsworld.com/search/?query=",{"$f":"CONCATENATE(K5361,A5361)","v":"https://bg.toolsworld.com/search/?query=142767"}]
[260017,"Akkus csavarhúzó CSL-3,6-01, Li-Ion, 3,6 V, 1,3 Ah, tartozékokkal// Denzel",12507,"B","Active",{"$f":"VLOOKUP(A5362,[1]Sheet1!$A$1:$C$65512,3,FALSE)","v":289},null,null,"No info","линк","https://bg.toolsworld.com/search/?query=","https://bg.toolsworld.com/search/?query=260017"]
[260027,"Akkus csavarhúzó CSL-3,6-02, Li-Ion, 3,6 V, 1,3 Ah, dupla buborékfóliában// Denzel",7334,"B","Active",{"$f":"VLOOKUP(A5363,[1]Sheet1!$A$1:$C$65512,3,FALSE)","v":234},null,null,"No info","линк","https://bg.toolsworld.com/search/?query=","https://bg.toolsworld.com/search/?query=260027"]
[261167,"Akkus fúró/csavarozó CDL-18-02BM, Li-Ion, 18 V, 2 elem// Denzel",35632,"B","Active",{"$f":"VLOOKUP(A5364,[1]Sheet1!$A$1:$C$65512,3,FALSE)","v":323},null,null,"No info","линк","https://bg.toolsworld.com/search/?query=","https://bg.toolsworld.com/search/?query=261167"]
[261217,"Akkus fúró/csavarozó, kefe nélküli motor BLDL-IB-18-02, Li-Ion, 18 V, 1,5 Ah, 2 akkumulátor// Denzel",63595,"B","Active",{"$f":"VLOOKUP(A5365,[1]Sheet1!$A$1:$C$65512,3,FALSE)","v":452},null,null,"No info","линк","https://bg.toolsworld.com/search/?query=","https://bg.toolsworld.com/search/?query=261217"]
[270027,"Akkus sarokcsiszoló, kefe nélküli motor BLG-IB-18-02, Li-ion, 18 V, 3 Ah, 115 mm// Denzel",60457,"B","Active",{"$f":"VLOOKUP(A5366,[1]Sheet1!$A$1:$C$65512,3,FALSE)","v":435},null,null,"No info","линк","https://bg.toolsworld.com/search/?query=","https://bg.toolsworld.com/search/?query=270027"]
[689048,"Építőipari talicska, tálca térfogata 85 l// MTX",26847,"B","Active",{"$f":"VLOOKUP(A5367,[1]Sheet1!$A$1:$C$65512,3,FALSE)","v":70},null,null,"No info","линк","https://bg.toolsworld.com/search/?query=","https://bg.toolsworld.com/search/?query=689048"]
[764159,"Csiszoló kő 150 mm// MTX",298,"B","Active",{"$f":"VLOOKUP(A5368,[1]Sheet1!$A$1:$C$65512,3,FALSE)","v":627},null,null,"No info","линк","https://bg.toolsworld.com/search/?query=","https://bg.toolsworld.com/search/?query=764159"]
[766209,"Kézi csap készlet, 2 db M8 x 1,0 mm// MTX",507,"B","Active",{"$f":"VLOOKUP(A5369,[1]Sheet1!$A$1:$C$65512,3,FALSE)","v":458},null,null,"No info","линк","https://bg.toolsworld.com/search/?query=","https://bg.toolsworld.com/search/?query=766209"]
[814209,"Műanyag festéktálca hengerekhez, 255x330 mm // MTX",527,"B","Active",{"$f":"VLOOKUP(A5370,[1]Sheet1!$A$1:$C$65512,3,FALSE)","v":1495},null,null,"No info","линк","https://bg.toolsworld.com/search/?query=","https://bg.toolsworld.com/search/?query=814209"]
[814219,"Műanyag festéktálca hengerekhez, 320х350 mm // MTX",696,"B","Active",{"$f":"VLOOKUP(A5371,[1]Sheet1!$A$1:$C$65512,3,FALSE)","v":1340},null,null,"No info","линк","https://bg.toolsworld.com/search/?query=","https://bg.toolsworld.com/search/?query=814219"]
[814229,"Műanyag festéktálca hengerekhez, 120х220 mm // MTX",152,"B","Active",{"$f":"VLOOKUP(A5372,[1]Sheet1!$A$1:$C$65512,3,FALSE)","v":2665},null,null,"No info","линк","https://bg.toolsworld.com/search/?query=","https://bg.toolsworld.com/search/?query=814229"]
[1217177,"Csavarhúzó PH0x75 mm, S2, 3c fogantyú// Denzel",419,"B","Active",{"$f":"VLOOKUP(A5373,[1]Sheet1!$A$1:$C$65512,3,FALSE)","v":318},null,null,"No info","линк","https://bg.toolsworld.com/search/?query=","https://bg.toolsworld.com/search/?query=1217177"]
[1217277,"Csavarhúzó PH0x100 mm, S2, 3c fogantyú// Denzel",419,"B","Active",{"$f":"VLOOKUP(A5374,[1]Sheet1!$A$1:$C$65512,3,FALSE)","v":683},null,null,"No info","линк","https://bg.toolsworld.com/search/?query=","https://bg.toolsworld.com/search/?query=1217277"]
[1217377,"Csavarhúzó PH1x75 mm, S2, 3c fogantyú// Denzel",495,"B","Active",{"$f":"VLOOKUP(A5375,[1]Sheet1!$A$1:$C$65512,3,FALSE)","v":442},null,null,"No info","линк","https://bg.toolsworld.com/search/?query=","https://bg.toolsworld.com/search/?query=1217377"]
[1217477,"Csavarhúzó PH1x100 mm, S2, 3c fogantyú// Denzel",513,"B","Active",{"$f":"VLOOKUP(A5376,[1]Sheet1!$A$1:$C$65512,3,FALSE)","v":911},null,null,"No info","линк","https://bg.toolsworld.com/search/?query=","https://bg.toolsworld.com/search/?query=1217477"]
[1217677,"Csavarhúzó PH1x150 mm, S2, 3c fogantyú// Denzel",548,"B","Active",{"$f":"VLOOKUP(A5377,[1]Sheet1!$A$1:$C$65512,3,FALSE)","v":443},null,null,"No info","линк","https://bg.toolsworld.com/search/?query=","https://bg.toolsworld.com/search/?query=1217677"]
[1217877,"Csavarhúzó PH2x100 mm, S2, 3c fogantyú// Denzel",599,"B","Active",{"$f":"VLOOKUP(A5378,[1]Sheet1!$A$1:$C$65512,3,FALSE)","v":797},null,null,"No info","линк","https://bg.toolsworld.com/search/?query=","https://bg.toolsworld.com/search/?query=1217877"]
[1218077,"Csavarhúzó PH2x150 mm, S2, 3c fogantyú// Denzel",642,"B","Active",{"$f":"VLOOKUP(A5379,[1]Sheet1!$A$1:$C$65512,3,FALSE)","v":539},null,null,"No info","линк","https://bg.toolsworld.com/search/?query=","https://bg.toolsworld.com/search/?query=1218077"]
[1218677,"Csavarhúzó PH2x38 mm, S2, 3c fogantyú// Denzel",452,"B","Active",{"$f":"VLOOKUP(A5380,[1]Sheet1!$A$1:$C$65512,3,FALSE)","v":447},null,null,"No info","линк","https://bg.toolsworld.com/search/?query=","https://bg.toolsworld.com/search/?query=1218677"]
[1218877,"Csavarhúzó SL3x75 mm, S2, 3c fogantyú// Denzel",419,"B","Active",{"$f":"VLOOKUP(A5381,[1]Sheet1!$A$1:$C$65512,3,FALSE)","v":677},null,null,"No info","линк","https://bg.toolsworld.com/search/?query=","https://bg.toolsworld.com/search/?query=1218877"]
[1219077,"Csavarhúzó SL3x100 mm, S2, 3c fogantyú// Denzel",419,"B","Active",{"$f":"VLOOKUP(A5382,[1]Sheet1!$A$1:$C$65512,3,FALSE)","v":1042},null,null,"No info","линк","https://bg.toolsworld.com/search/?query=","https://bg.toolsworld.com/search/?query=1219077"]
[1219277,"Csavarhúzó SL4x100 mm, S2, 3c fogantyú// Denzel",452,"B","Active",{"$f":"VLOOKUP(A5383,[1]Sheet1!$A$1:$C$65512,3,FALSE)","v":655},null,null,"No info","линк","https://bg.toolsworld.com/search/?query=","https://bg.toolsworld.com/search/?query=1219277"]
[1219677,"Csavarhúzó SL5x100 mm, S2, 3c fogantyú// Denzel",513,"B","Active",{"$f":"VLOOKUP(A5384,[1]Sheet1!$A$1:$C$65512,3,FALSE)","v":914},null,null,"No info","линк","https://bg.toolsworld.com/search/?query=","https://bg.toolsworld.com/search/?query=1219677"]
[1219777,"Csavarhúzó SL5x150 mm, S2, 3c fogantyú// Denzel",538,"B","Active",{"$f":"VLOOKUP(A5385,[1]Sheet1!$A$1:$C$65512,3,FALSE)","v":448},null,null,"No info","линк","https://bg.toolsworld.com/search/?query=","https://bg.toolsworld.com/search/?query=1219777"]
[1219877,"Csavarhúzó SL6x100 mm, S2, 3c fogantyú// Denzel",599,"B","Active",{"$f":"VLOOKUP(A5386,[1]Sheet1!$A$1:$C$65512,3,FALSE)","v":394},null,null,"No info","линк","https://bg.toolsworld.com/search/?query=","https://bg.toolsworld.com/search/?query=1219877"]
[1219977,"Csavarhúzó SL6x150 mm, S2, 3c fogantyú// Denzel",642,"B","Active",{"$f":"VLOOKUP(A5387,[1]Sheet1!$A$1:$C$65512,3,FALSE)","v":400},null,null,"No info","линк","https://bg.toolsworld.com/search/?query=","https://bg.toolsworld.com/search/?query=1219977"]
[1220577,"Csavarhúzó PZ1x75 mm, S2, 3c fogantyú// Denzel",495,"B","Active",{"$f":"VLOOKUP(A5388,[1]Sheet1!$A$1:$C$65512,3,FALSE)","v":427},null,null,"No info","линк","https://bg.toolsworld.com/search/?query=","https://bg.toolsworld.com/search/?query=1220577"]
[1220777,"Csavarhúzó PZ2x100 mm, S2, 3c fogantyú// Denzel",599,"B","Active",{"$f":"VLOOKUP(A5389,[1]Sheet1!$A$1:$C$65512,3,FALSE)","v":657},null,null,"No info","линк","https://bg.toolsworld.com/search/?query=","https://bg.toolsworld.com/search/?query=1220777"]
[1221177,"Csavarhúzó készlet, 2 db, PH+SL, S2, 3c fogantyú// Denzel",1439,"B","Active",{"$f":"VLOOKUP(A5390,[1]Sheet1!$A$1:$C$65512,3,FALSE)","v":628},null,null,"No info",{"$f":"HYPERLINK(L5390,\"линк\")","v":"линк"},"https://bg.toolsworld.com/search/?query=",{"$f":"CONCATENATE(K5390,A5390)","v":"https://bg.toolsworld.com/search/?query=1221177"}]
[1221577,"Csavarhúzó készlet, 5 db, PH+SL, S2, 3c fogantyú// Denzel",2919,"B","Active",{"$f":"VLOOKUP(A5391,[1]Sheet1!$A$1:$C$65512,3,FALSE)","v":593},null,null,"No info","линк","https://bg.toolsworld.com/search/?query=","https://bg.toolsworld.com/search/?query=1221577"]
[1862957,"Padsatu, 200 mm, forgó, üllővel// Sparta",27708,"B","Active",{"$f":"VLOOKUP(A5392,[1]Sheet1!$A$1:$C$65512,3,FALSE)","v":18},null,null,"No info","линк","https://bg.toolsworld.com/search/?query=","https://bg.toolsworld.com/search/?query=1862957"]
[4061094,"Szegecsek 3,2x6 mm, SKU 406109 - 5x50 db// MTX",940,"B","Active",{"$f":"VLOOKUP(A5393,[1]Sheet1!$A$1:$C$65512,3,FALSE)","v":18},null,null,"No info",{"$f":"HYPERLINK(L5393,\"линк\")","v":"линк"},"https://bg.toolsworld.com/search/?query=",{"$f":"CONCATENATE(K5393,A5393)","v":"https://bg.toolsworld.com/search/?query=4061094"}]
[6842477,"Fa tengely, FSC, 28x1300 mm// Palisad",800,"B","Active",{"$f":"VLOOKUP(A5394,[1]Sheet1!$A$1:$C$65512,3,FALSE)","v":100},null,null,"No info","линк","https://bg.toolsworld.com/search/?query=","https://bg.toolsworld.com/search/?query=6842477"]
[7380694,"Tepozaras csiszolokorongok, perforalt, P 120, 125 mm, SKU 738069 - 2õ5 db// MTX",501,"B","Active",{"$f":"VLOOKUP(A5395,[1]Sheet1!$A$1:$C$65512,3,FALSE)","v":20},null,null,"No info","линк","https://bg.toolsworld.com/search/?query=","https://bg.toolsworld.com/search/?query=7380694"]
[7380894,"Tepozaras csiszolokorongok, perforalt, P 180, 125 mm, SKU 738089 - 2õ5 db// MTX",501,"B","Active",{"$f":"VLOOKUP(A5396,[1]Sheet1!$A$1:$C$65512,3,FALSE)","v":12},null,null,"No info","линк","https://bg.toolsworld.com/search/?query=","https://bg.toolsworld.com/search/?query=7380894"]
[7380994,"Tepozaras csiszolokorongok, perforalt, P 220, 125 mm, SKU 738099 - 2õ5 db// MTX",501,"B","Active",{"$f":"VLOOKUP(A5397,[1]Sheet1!$A$1:$C$65512,3,FALSE)","v":20},null,null,"No info","линк","https://bg.toolsworld.com/search/?query=","https://bg.toolsworld.com/search/?query=7380994"]
[7404794,"Lapos tarcsa, P 100, 125 x 22,2 mm, SKU 740479 - 10 db.// MTX",3425,"B","Active",{"$f":"VLOOKUP(A5398,[1]Sheet1!$A$1:$C$65512,3,FALSE)","v":16},null,null,"No info","линк","https://bg.toolsworld.com/search/?query=","https://bg.toolsworld.com/search/?query=7404794"]
[7432794,"Fémvágó tárcsa, 115 õ 1,2 õ 22,2 mm, SKU 743279 - 10 db.// MTX",1847,"B","Active",{"$f":"VLOOKUP(A5399,[1]Sheet1!$A$1:$C$65512,3,FALSE)","v":10},null,null,"No info","линк","https://bg.toolsworld.com/search/?query=","https://bg.toolsworld.com/search/?query=7432794"]
[71730294,"Fem csavarfuro HSS-TiN 3mm, hatlapu szar, SKU 7173029 - 10 db.// MTX",1692,"B","Active",{"$f":"VLOOKUP(A5400,[1]Sheet1!$A$1:$C$65512,3,FALSE)","v":10},null,null,"No info","линк","https://bg.toolsworld.com/search/?query=","https://bg.toolsworld.com/search/?query=71730294"]
[71740294,"Fem csavarfuro HSS-TiN 4mm, hatlapu szar, SKU 7174029 - 10 db.// MTX",2047,"B","Active",{"$f":"VLOOKUP(A5401,[1]Sheet1!$A$1:$C$65512,3,FALSE)","v":10},null,null,"No info","линк","https://bg.toolsworld.com/search/?query=","https://bg.toolsworld.com/search/?query=71740294"]
[146227,"Gyűrűs kulcs 13 x17 mm, sárga cink// Sparta",655,"B","Active",{"$f":"VLOOKUP(A5402,[1]Sheet1!$A$1:$C$65512,3,FALSE)","v":300},null,null,"No info",{"$f":"HYPERLINK(L5402,\"линк\")","v":"линк"},"https://bg.toolsworld.com/search/?query=",{"$f":"CONCATENATE(K5402,A5402)","v":"https://bg.toolsworld.com/search/?query=146227"}]
[146327,"Gyűrűs kulcs 22 x 24 mm, sárga cink// Sparta",1199,"B","Active",{"$f":"VLOOKUP(A5403,[1]Sheet1!$A$1:$C$65512,3,FALSE)","v":150},null,null,"No info","линк","https://bg.toolsworld.com/search/?query=","https://bg.toolsworld.com/search/?query=146327"]
[149827,"Kombinált villáskulcs 17 mm, sárga cink// Sparta",394,"B","Active",{"$f":"VLOOKUP(A5404,[1]Sheet1!$A$1:$C$65512,3,FALSE)","v":600},null,null,"No info","линк","https://bg.toolsworld.com/search/?query=","https://bg.toolsworld.com/search/?query=149827"]
[244329,"Favéső készlet, 4 db gumírozott nyéllel, 6-12-18-24mm// MTX",7840,"B","Active",{"$f":"VLOOKUP(A5405,[1]Sheet1!$A$1:$C$65512,3,FALSE)","v":10},null,null,"No info","линк","https://bg.toolsworld.com/search/?query=","https://bg.toolsworld.com/search/?query=244329"]
[476494,"Fém tömlőbilincsek szárnyas anyával 12-20 mm, SKU 47649 - 5x2 db.// Сибртех",940,"B","Active",{"$f":"VLOOKUP(A5406,[1]Sheet1!$A$1:$C$65512,3,FALSE)","v":20},null,null,"No info","линк","https://bg.toolsworld.com/search/?query=","https://bg.toolsworld.com/search/?query=476494"]
[476514,"Fém tömlőbilincsek szárnyas anyával 20-32 mm, SKU 47651 - 5х2 db.// Сибртех",1086,"B","Active",{"$f":"VLOOKUP(A5407,[1]Sheet1!$A$1:$C$65512,3,FALSE)","v":20},null,null,"No info","линк","https://bg.toolsworld.com/search/?query=","https://bg.toolsworld.com/search/?query=476514"]
[476534,"Fém tömlőbilincsek szárnyas anyával 25-40 mm, SKU 47653 - 5x2 db.// Сибртех",1128,"B","Active",{"$f":"VLOOKUP(A5408,[1]Sheet1!$A$1:$C$65512,3,FALSE)","v":10},null,null,"No info","линк","https://bg.toolsworld.com/search/?query=","https://bg.toolsworld.com/search/?query=476534"]
[507279,"Hidraulikus palackemelő 12 t, emelkedő 230-465 mm// MTX",14965,"B","Active",{"$f":"VLOOKUP(A5409,[1]Sheet1!$A$1:$C$65512,3,FALSE)","v":10},null,null,"No info","линк","https://bg.toolsworld.com/search/?query=","https://bg.toolsworld.com/search/?query=507279"]
[614008,"Négyzet alakú lapát, 230x280x1300 mm, merevítő bordákkal, nyéllel// Palisad",2750,"B","Active",{"$f":"VLOOKUP(A5410,[1]Sheet1!$A$1:$C$65512,3,FALSE)","v":{"$error":"#N/A"}},null,null,"No info","линк","https://bg.toolsworld.com/search/?query=","https://bg.toolsworld.com/search/?query=614008"]
[614807,"Négyszögű lapát, 250x295x850 mm, lakkozott fa nyél // Palisad",3118,"B","Active",{"$f":"VLOOKUP(A5411,[1]Sheet1!$A$1:$C$65512,3,FALSE)","v":50},null,null,"No info","линк","https://bg.toolsworld.com/search/?query=","https://bg.toolsworld.com/search/?query=614807"]