{"text_format":"1","workbook":"xlsx","n_sheets":2,"sheets":["Megrendelő lap","Árlista"],"not_rendered":{"charts":0,"images":15,"macros":1,"external_links":0,"defined_names":5,"comments":0,"pivot_tables":0},"unopened":[],"bounds":{"document_bytes":16777216,"sheet_cells":100000,"rows_first":2000,"rows_last":500,"rows_between":2000,"halvings":0,"cell_chars":16384,"cell_head_chars":4096},"cells_cut":0,"cells_raw":0,"read":"whole","date_system":"1900"}

{"sheet":"Megrendelő lap","index":0,"n_rows":309,"n_cols":12,"rows_kept":309,"cut":false,"hidden":false,"merged":[[3,5,3,8],[0,2,0,4],[2,2,2,3],[4,2,4,10],[0,8,0,12]]}
["Partner név:",null,null,null,null,"Kedvezmény:",null,null,"Megrendelő formátum"]
[]
["Dátum:",null,{"$f":"NOW()","v":"2024-10-04T10:52:46.620"},null,null,"Hivatkozási szám:"]
[]
["Megjegyzés:"]
[null,null,null,null,"Márkák kizárólagos forgalmazója Magyarországon:"]
["Kérjük, csak a sárga oszlopot töltse ki!",null,null,null,null,null,null,"Összesen",{"$f":"SUM(I10:I309)","v":0}]
["A táblázat nem tartalmaz valós készlet adatokat!"]
["Sorszám","Cikkszám","Mennyiség",null,"Megnevezés","Állapot","Lista ár","Ügyfél ár","Összesen",null,"Expected Delivery","Pakages"]
[1,null,null,{"$f":"IF(C10>0,IF(C10>VLOOKUP(B10,Árlista!A:I,6,0),VLOOKUP(B10,Árlista!A:I,6,0),C10),\"\")","v":""},{"$f":"IF(B10>0,VLOOKUP(B10,Árlista!A:I,2,FALSE),\"\")","v":""},{"$f":"IF(B10>0,VLOOKUP(B10,Árlista!A:I,5,0),\"\")","v":""},{"$f":"IF(B10,VLOOKUP(B10,Árlista!A:I,3,0),\"\")","v":""},{"$f":"IF(B10>0,G10*(1-$G$1),\"\")","v":""},{"$f":"IF(J10>0,IF(B10>0,D10*H10,\"\"),\"\")","v":""},{"$f":"SUMIF(Árlista!A:A,B10,Árlista!A:A)","v":0},{"$f":"IF(B10>0,(IF(C10>D10,VLOOKUP(B10,Árlista!A:I,9,FALSE),\"\")),\"\")","v":""},{"$f":"IF(B10>0,VLOOKUP(B10,Árlista!A:I,7,FALSE),\"\")","v":""}]
[{"$f":"A10+1","v":2},null,null,{"$f":"IF(C11>0,IF(C11>VLOOKUP(B11,Árlista!A:I,6,0),VLOOKUP(B11,Árlista!A:I,6,0),C11),\"\")","v":""},{"$f":"IF(B11>0,VLOOKUP(B11,Árlista!A:I,2,FALSE),\"\")","v":""},{"$f":"IF(B11>0,VLOOKUP(B11,Árlista!A:I,5,0),\"\")","v":""},{"$f":"IF(B11,VLOOKUP(B11,Árlista!A:I,3,0),\"\")","v":""},{"$f":"IF(B11>0,G11*(1-$G$1),\"\")","v":""},{"$f":"IF(J11>0,IF(B11>0,D11*H11,\"\"),\"\")","v":""},{"$f":"SUMIF(Árlista!A:A,B11,Árlista!A:A)","v":0},{"$f":"IF(B11>0,(IF(C11>D11,VLOOKUP(B11,Árlista!A:I,9,FALSE),\"\")),\"\")","v":""},{"$f":"IF(B11>0,VLOOKUP(B11,Árlista!A:I,7,FALSE),\"\")","v":""}]
[3,null,null,{"$f":"IF(C12>0,IF(C12>VLOOKUP(B12,Árlista!A:I,6,0),VLOOKUP(B12,Árlista!A:I,6,0),C12),\"\")","v":""},{"$f":"IF(B12>0,VLOOKUP(B12,Árlista!A:I,2,FALSE),\"\")","v":""},{"$f":"IF(B12>0,VLOOKUP(B12,Árlista!A:I,5,0),\"\")","v":""},{"$f":"IF(B12,VLOOKUP(B12,Árlista!A:I,3,0),\"\")","v":""},"","",{"$f":"SUMIF(Árlista!A:A,B12,Árlista!A:A)","v":0},{"$f":"IF(B12>0,(IF(C12>D12,VLOOKUP(B12,Árlista!A:I,9,FALSE),\"\")),\"\")","v":""},{"$f":"IF(B12>0,VLOOKUP(B12,Árlista!A:I,7,FALSE),\"\")","v":""}]
[4,null,null,{"$f":"IF(C13>0,IF(C13>VLOOKUP(B13,Árlista!A:I,6,0),VLOOKUP(B13,Árlista!A:I,6,0),C13),\"\")","v":""},{"$f":"IF(B13>0,VLOOKUP(B13,Árlista!A:I,2,FALSE),\"\")","v":""},{"$f":"IF(B13>0,VLOOKUP(B13,Árlista!A:I,5,0),\"\")","v":""},{"$f":"IF(B13,VLOOKUP(B13,Árlista!A:I,3,0),\"\")","v":""},"","",{"$f":"SUMIF(Árlista!A:A,B13,Árlista!A:A)","v":0},{"$f":"IF(B13>0,(IF(C13>D13,VLOOKUP(B13,Árlista!A:I,9,FALSE),\"\")),\"\")","v":""},{"$f":"IF(B13>0,VLOOKUP(B13,Árlista!A:I,7,FALSE),\"\")","v":""}]
[5,null,null,{"$f":"IF(C14>0,IF(C14>VLOOKUP(B14,Árlista!A:I,6,0),VLOOKUP(B14,Árlista!A:I,6,0),C14),\"\")","v":""},{"$f":"IF(B14>0,VLOOKUP(B14,Árlista!A:I,2,FALSE),\"\")","v":""},{"$f":"IF(B14>0,VLOOKUP(B14,Árlista!A:I,5,0),\"\")","v":""},{"$f":"IF(B14,VLOOKUP(B14,Árlista!A:I,3,0),\"\")","v":""},"","",{"$f":"SUMIF(Árlista!A:A,B14,Árlista!A:A)","v":0},{"$f":"IF(B14>0,(IF(C14>D14,VLOOKUP(B14,Árlista!A:I,9,FALSE),\"\")),\"\")","v":""},{"$f":"IF(B14>0,VLOOKUP(B14,Árlista!A:I,7,FALSE),\"\")","v":""}]
[6,null,null,{"$f":"IF(C15>0,IF(C15>VLOOKUP(B15,Árlista!A:I,6,0),VLOOKUP(B15,Árlista!A:I,6,0),C15),\"\")","v":""},{"$f":"IF(B15>0,VLOOKUP(B15,Árlista!A:I,2,FALSE),\"\")","v":""},{"$f":"IF(B15>0,VLOOKUP(B15,Árlista!A:I,5,0),\"\")","v":""},{"$f":"IF(B15,VLOOKUP(B15,Árlista!A:I,3,0),\"\")","v":""},"","",{"$f":"SUMIF(Árlista!A:A,B15,Árlista!A:A)","v":0},{"$f":"IF(B15>0,(IF(C15>D15,VLOOKUP(B15,Árlista!A:I,9,FALSE),\"\")),\"\")","v":""},{"$f":"IF(B15>0,VLOOKUP(B15,Árlista!A:I,7,FALSE),\"\")","v":""}]
[7,null,null,{"$f":"IF(C16>0,IF(C16>VLOOKUP(B16,Árlista!A:I,6,0),VLOOKUP(B16,Árlista!A:I,6,0),C16),\"\")","v":""},{"$f":"IF(B16>0,VLOOKUP(B16,Árlista!A:I,2,FALSE),\"\")","v":""},{"$f":"IF(B16>0,VLOOKUP(B16,Árlista!A:I,5,0),\"\")","v":""},{"$f":"IF(B16,VLOOKUP(B16,Árlista!A:I,3,0),\"\")","v":""},"","",{"$f":"SUMIF(Árlista!A:A,B16,Árlista!A:A)","v":0},{"$f":"IF(B16>0,(IF(C16>D16,VLOOKUP(B16,Árlista!A:I,9,FALSE),\"\")),\"\")","v":""},{"$f":"IF(B16>0,VLOOKUP(B16,Árlista!A:I,7,FALSE),\"\")","v":""}]
[8,null,null,{"$f":"IF(C17>0,IF(C17>VLOOKUP(B17,Árlista!A:I,6,0),VLOOKUP(B17,Árlista!A:I,6,0),C17),\"\")","v":""},{"$f":"IF(B17>0,VLOOKUP(B17,Árlista!A:I,2,FALSE),\"\")","v":""},{"$f":"IF(B17>0,VLOOKUP(B17,Árlista!A:I,5,0),\"\")","v":""},{"$f":"IF(B17,VLOOKUP(B17,Árlista!A:I,3,0),\"\")","v":""},"","",{"$f":"SUMIF(Árlista!A:A,B17,Árlista!A:A)","v":0},{"$f":"IF(B17>0,(IF(C17>D17,VLOOKUP(B17,Árlista!A:I,9,FALSE),\"\")),\"\")","v":""},{"$f":"IF(B17>0,VLOOKUP(B17,Árlista!A:I,7,FALSE),\"\")","v":""}]
[9,null,null,{"$f":"IF(C18>0,IF(C18>VLOOKUP(B18,Árlista!A:I,6,0),VLOOKUP(B18,Árlista!A:I,6,0),C18),\"\")","v":""},{"$f":"IF(B18>0,VLOOKUP(B18,Árlista!A:I,2,FALSE),\"\")","v":""},{"$f":"IF(B18>0,VLOOKUP(B18,Árlista!A:I,5,0),\"\")","v":""},{"$f":"IF(B18,VLOOKUP(B18,Árlista!A:I,3,0),\"\")","v":""},"","",{"$f":"SUMIF(Árlista!A:A,B18,Árlista!A:A)","v":0},{"$f":"IF(B18>0,(IF(C18>D18,VLOOKUP(B18,Árlista!A:I,9,FALSE),\"\")),\"\")","v":""},{"$f":"IF(B18>0,VLOOKUP(B18,Árlista!A:I,7,FALSE),\"\")","v":""}]
[10,null,null,{"$f":"IF(C19>0,IF(C19>VLOOKUP(B19,Árlista!A:I,6,0),VLOOKUP(B19,Árlista!A:I,6,0),C19),\"\")","v":""},{"$f":"IF(B19>0,VLOOKUP(B19,Árlista!A:I,2,FALSE),\"\")","v":""},{"$f":"IF(B19>0,VLOOKUP(B19,Árlista!A:I,5,0),\"\")","v":""},{"$f":"IF(B19,VLOOKUP(B19,Árlista!A:I,3,0),\"\")","v":""},"","",{"$f":"SUMIF(Árlista!A:A,B19,Árlista!A:A)","v":0},{"$f":"IF(B19>0,(IF(C19>D19,VLOOKUP(B19,Árlista!A:I,9,FALSE),\"\")),\"\")","v":""},{"$f":"IF(B19>0,VLOOKUP(B19,Árlista!A:I,7,FALSE),\"\")","v":""}]
[11,null,null,{"$f":"IF(C20>0,IF(C20>VLOOKUP(B20,Árlista!A:I,6,0),VLOOKUP(B20,Árlista!A:I,6,0),C20),\"\")","v":""},{"$f":"IF(B20>0,VLOOKUP(B20,Árlista!A:I,2,FALSE),\"\")","v":""},{"$f":"IF(B20>0,VLOOKUP(B20,Árlista!A:I,5,0),\"\")","v":""},{"$f":"IF(B20,VLOOKUP(B20,Árlista!A:I,3,0),\"\")","v":""},"","",{"$f":"SUMIF(Árlista!A:A,B20,Árlista!A:A)","v":0},{"$f":"IF(B20>0,(IF(C20>D20,VLOOKUP(B20,Árlista!A:I,9,FALSE),\"\")),\"\")","v":""},{"$f":"IF(B20>0,VLOOKUP(B20,Árlista!A:I,7,FALSE),\"\")","v":""}]
[12,null,null,{"$f":"IF(C21>0,IF(C21>VLOOKUP(B21,Árlista!A:I,6,0),VLOOKUP(B21,Árlista!A:I,6,0),C21),\"\")","v":""},{"$f":"IF(B21>0,VLOOKUP(B21,Árlista!A:I,2,FALSE),\"\")","v":""},{"$f":"IF(B21>0,VLOOKUP(B21,Árlista!A:I,5,0),\"\")","v":""},{"$f":"IF(B21,VLOOKUP(B21,Árlista!A:I,3,0),\"\")","v":""},"","",{"$f":"SUMIF(Árlista!A:A,B21,Árlista!A:A)","v":0},{"$f":"IF(B21>0,(IF(C21>D21,VLOOKUP(B21,Árlista!A:I,9,FALSE),\"\")),\"\")","v":""},{"$f":"IF(B21>0,VLOOKUP(B21,Árlista!A:I,7,FALSE),\"\")","v":""}]
[13,null,null,{"$f":"IF(C22>0,IF(C22>VLOOKUP(B22,Árlista!A:I,6,0),VLOOKUP(B22,Árlista!A:I,6,0),C22),\"\")","v":""},{"$f":"IF(B22>0,VLOOKUP(B22,Árlista!A:I,2,FALSE),\"\")","v":""},{"$f":"IF(B22>0,VLOOKUP(B22,Árlista!A:I,5,0),\"\")","v":""},{"$f":"IF(B22,VLOOKUP(B22,Árlista!A:I,3,0),\"\")","v":""},"","",{"$f":"SUMIF(Árlista!A:A,B22,Árlista!A:A)","v":0},{"$f":"IF(B22>0,(IF(C22>D22,VLOOKUP(B22,Árlista!A:I,9,FALSE),\"\")),\"\")","v":""},{"$f":"IF(B22>0,VLOOKUP(B22,Árlista!A:I,7,FALSE),\"\")","v":""}]
[14,null,null,{"$f":"IF(C23>0,IF(C23>VLOOKUP(B23,Árlista!A:I,6,0),VLOOKUP(B23,Árlista!A:I,6,0),C23),\"\")","v":""},{"$f":"IF(B23>0,VLOOKUP(B23,Árlista!A:I,2,FALSE),\"\")","v":""},{"$f":"IF(B23>0,VLOOKUP(B23,Árlista!A:I,5,0),\"\")","v":""},{"$f":"IF(B23,VLOOKUP(B23,Árlista!A:I,3,0),\"\")","v":""},{"$f":"IF(B23>0,G23*(1-$G$1),\"\")","v":""},"",{"$f":"SUMIF(Árlista!A:A,B23,Árlista!A:A)","v":0},{"$f":"IF(B23>0,(IF(C23>D23,VLOOKUP(B23,Árlista!A:I,9,FALSE),\"\")),\"\")","v":""},{"$f":"IF(B23>0,VLOOKUP(B23,Árlista!A:I,7,FALSE),\"\")","v":""}]
[15,null,null,{"$f":"IF(C24>0,IF(C24>VLOOKUP(B24,Árlista!A:I,6,0),VLOOKUP(B24,Árlista!A:I,6,0),C24),\"\")","v":""},{"$f":"IF(B24>0,VLOOKUP(B24,Árlista!A:I,2,FALSE),\"\")","v":""},{"$f":"IF(B24>0,VLOOKUP(B24,Árlista!A:I,5,0),\"\")","v":""},{"$f":"IF(B24,VLOOKUP(B24,Árlista!A:I,3,0),\"\")","v":""},{"$f":"IF(B24>0,G24*(1-$G$1),\"\")","v":""},"",{"$f":"SUMIF(Árlista!A:A,B24,Árlista!A:A)","v":0},{"$f":"IF(B24>0,(IF(C24>D24,VLOOKUP(B24,Árlista!A:I,9,FALSE),\"\")),\"\")","v":""},{"$f":"IF(B24>0,VLOOKUP(B24,Árlista!A:I,7,FALSE),\"\")","v":""}]
[16,null,null,{"$f":"IF(C25>0,IF(C25>VLOOKUP(B25,Árlista!A:I,6,0),VLOOKUP(B25,Árlista!A:I,6,0),C25),\"\")","v":""},{"$f":"IF(B25>0,VLOOKUP(B25,Árlista!A:I,2,FALSE),\"\")","v":""},{"$f":"IF(B25>0,VLOOKUP(B25,Árlista!A:I,5,0),\"\")","v":""},{"$f":"IF(B25,VLOOKUP(B25,Árlista!A:I,3,0),\"\")","v":""},"","",{"$f":"SUMIF(Árlista!A:A,B25,Árlista!A:A)","v":0},{"$f":"IF(B25>0,(IF(C25>D25,VLOOKUP(B25,Árlista!A:I,9,FALSE),\"\")),\"\")","v":""},{"$f":"IF(B25>0,VLOOKUP(B25,Árlista!A:I,7,FALSE),\"\")","v":""}]
[17,null,null,{"$f":"IF(C26>0,IF(C26>VLOOKUP(B26,Árlista!A:I,6,0),VLOOKUP(B26,Árlista!A:I,6,0),C26),\"\")","v":""},{"$f":"IF(B26>0,VLOOKUP(B26,Árlista!A:I,2,FALSE),\"\")","v":""},{"$f":"IF(B26>0,VLOOKUP(B26,Árlista!A:I,5,0),\"\")","v":""},{"$f":"IF(B26,VLOOKUP(B26,Árlista!A:I,3,0),\"\")","v":""},"","",{"$f":"SUMIF(Árlista!A:A,B26,Árlista!A:A)","v":0},{"$f":"IF(B26>0,(IF(C26>D26,VLOOKUP(B26,Árlista!A:I,9,FALSE),\"\")),\"\")","v":""},{"$f":"IF(B26>0,VLOOKUP(B26,Árlista!A:I,7,FALSE),\"\")","v":""}]
[18,null,null,{"$f":"IF(C27>0,IF(C27>VLOOKUP(B27,Árlista!A:I,6,0),VLOOKUP(B27,Árlista!A:I,6,0),C27),\"\")","v":""},{"$f":"IF(B27>0,VLOOKUP(B27,Árlista!A:I,2,FALSE),\"\")","v":""},{"$f":"IF(B27>0,VLOOKUP(B27,Árlista!A:I,5,0),\"\")","v":""},{"$f":"IF(B27,VLOOKUP(B27,Árlista!A:I,3,0),\"\")","v":""},"","",{"$f":"SUMIF(Árlista!A:A,B27,Árlista!A:A)","v":0},{"$f":"IF(B27>0,(IF(C27>D27,VLOOKUP(B27,Árlista!A:I,9,FALSE),\"\")),\"\")","v":""},{"$f":"IF(B27>0,VLOOKUP(B27,Árlista!A:I,7,FALSE),\"\")","v":""}]
[19,null,null,{"$f":"IF(C28>0,IF(C28>VLOOKUP(B28,Árlista!A:I,6,0),VLOOKUP(B28,Árlista!A:I,6,0),C28),\"\")","v":""},{"$f":"IF(B28>0,VLOOKUP(B28,Árlista!A:I,2,FALSE),\"\")","v":""},{"$f":"IF(B28>0,VLOOKUP(B28,Árlista!A:I,5,0),\"\")","v":""},{"$f":"IF(B28,VLOOKUP(B28,Árlista!A:I,3,0),\"\")","v":""},"","",{"$f":"SUMIF(Árlista!A:A,B28,Árlista!A:A)","v":0},{"$f":"IF(B28>0,(IF(C28>D28,VLOOKUP(B28,Árlista!A:I,9,FALSE),\"\")),\"\")","v":""},{"$f":"IF(B28>0,VLOOKUP(B28,Árlista!A:I,7,FALSE),\"\")","v":""}]
[20,null,null,{"$f":"IF(C29>0,IF(C29>VLOOKUP(B29,Árlista!A:I,6,0),VLOOKUP(B29,Árlista!A:I,6,0),C29),\"\")","v":""},{"$f":"IF(B29>0,VLOOKUP(B29,Árlista!A:I,2,FALSE),\"\")","v":""},{"$f":"IF(B29>0,VLOOKUP(B29,Árlista!A:I,5,0),\"\")","v":""},{"$f":"IF(B29,VLOOKUP(B29,Árlista!A:I,3,0),\"\")","v":""},"","",{"$f":"SUMIF(Árlista!A:A,B29,Árlista!A:A)","v":0},{"$f":"IF(B29>0,(IF(C29>D29,VLOOKUP(B29,Árlista!A:I,9,FALSE),\"\")),\"\")","v":""},{"$f":"IF(B29>0,VLOOKUP(B29,Árlista!A:I,7,FALSE),\"\")","v":""}]
[21,null,null,{"$f":"IF(C30>0,IF(C30>VLOOKUP(B30,Árlista!A:I,6,0),VLOOKUP(B30,Árlista!A:I,6,0),C30),\"\")","v":""},{"$f":"IF(B30>0,VLOOKUP(B30,Árlista!A:I,2,FALSE),\"\")","v":""},{"$f":"IF(B30>0,VLOOKUP(B30,Árlista!A:I,5,0),\"\")","v":""},{"$f":"IF(B30,VLOOKUP(B30,Árlista!A:I,3,0),\"\")","v":""},"","",{"$f":"SUMIF(Árlista!A:A,B30,Árlista!A:A)","v":0},{"$f":"IF(B30>0,(IF(C30>D30,VLOOKUP(B30,Árlista!A:I,9,FALSE),\"\")),\"\")","v":""},{"$f":"IF(B30>0,VLOOKUP(B30,Árlista!A:I,7,FALSE),\"\")","v":""}]
[22,null,null,{"$f":"IF(C31>0,IF(C31>VLOOKUP(B31,Árlista!A:I,6,0),VLOOKUP(B31,Árlista!A:I,6,0),C31),\"\")","v":""},{"$f":"IF(B31>0,VLOOKUP(B31,Árlista!A:I,2,FALSE),\"\")","v":""},{"$f":"IF(B31>0,VLOOKUP(B31,Árlista!A:I,5,0),\"\")","v":""},{"$f":"IF(B31,VLOOKUP(B31,Árlista!A:I,3,0),\"\")","v":""},"","",{"$f":"SUMIF(Árlista!A:A,B31,Árlista!A:A)","v":0},{"$f":"IF(B31>0,(IF(C31>D31,VLOOKUP(B31,Árlista!A:I,9,FALSE),\"\")),\"\")","v":""},{"$f":"IF(B31>0,VLOOKUP(B31,Árlista!A:I,7,FALSE),\"\")","v":""}]
[23,null,null,{"$f":"IF(C32>0,IF(C32>VLOOKUP(B32,Árlista!A:I,6,0),VLOOKUP(B32,Árlista!A:I,6,0),C32),\"\")","v":""},{"$f":"IF(B32>0,VLOOKUP(B32,Árlista!A:I,2,FALSE),\"\")","v":""},{"$f":"IF(B32>0,VLOOKUP(B32,Árlista!A:I,5,0),\"\")","v":""},{"$f":"IF(B32,VLOOKUP(B32,Árlista!A:I,3,0),\"\")","v":""},"","",{"$f":"SUMIF(Árlista!A:A,B32,Árlista!A:A)","v":0},{"$f":"IF(B32>0,(IF(C32>D32,VLOOKUP(B32,Árlista!A:I,9,FALSE),\"\")),\"\")","v":""},{"$f":"IF(B32>0,VLOOKUP(B32,Árlista!A:I,7,FALSE),\"\")","v":""}]
[24,null,null,{"$f":"IF(C33>0,IF(C33>VLOOKUP(B33,Árlista!A:I,6,0),VLOOKUP(B33,Árlista!A:I,6,0),C33),\"\")","v":""},{"$f":"IF(B33>0,VLOOKUP(B33,Árlista!A:I,2,FALSE),\"\")","v":""},{"$f":"IF(B33>0,VLOOKUP(B33,Árlista!A:I,5,0),\"\")","v":""},{"$f":"IF(B33,VLOOKUP(B33,Árlista!A:I,3,0),\"\")","v":""},"","",{"$f":"SUMIF(Árlista!A:A,B33,Árlista!A:A)","v":0},{"$f":"IF(B33>0,(IF(C33>D33,VLOOKUP(B33,Árlista!A:I,9,FALSE),\"\")),\"\")","v":""},{"$f":"IF(B33>0,VLOOKUP(B33,Árlista!A:I,7,FALSE),\"\")","v":""}]
[25,null,null,{"$f":"IF(C34>0,IF(C34>VLOOKUP(B34,Árlista!A:I,6,0),VLOOKUP(B34,Árlista!A:I,6,0),C34),\"\")","v":""},{"$f":"IF(B34>0,VLOOKUP(B34,Árlista!A:I,2,FALSE),\"\")","v":""},{"$f":"IF(B34>0,VLOOKUP(B34,Árlista!A:I,5,0),\"\")","v":""},{"$f":"IF(B34,VLOOKUP(B34,Árlista!A:I,3,0),\"\")","v":""},"","",{"$f":"SUMIF(Árlista!A:A,B34,Árlista!A:A)","v":0},{"$f":"IF(B34>0,(IF(C34>D34,VLOOKUP(B34,Árlista!A:I,9,FALSE),\"\")),\"\")","v":""},{"$f":"IF(B34>0,VLOOKUP(B34,Árlista!A:I,7,FALSE),\"\")","v":""}]
[26,null,null,{"$f":"IF(C35>0,IF(C35>VLOOKUP(B35,Árlista!A:I,6,0),VLOOKUP(B35,Árlista!A:I,6,0),C35),\"\")","v":""},{"$f":"IF(B35>0,VLOOKUP(B35,Árlista!A:I,2,FALSE),\"\")","v":""},{"$f":"IF(B35>0,VLOOKUP(B35,Árlista!A:I,5,0),\"\")","v":""},{"$f":"IF(B35,VLOOKUP(B35,Árlista!A:I,3,0),\"\")","v":""},"","",{"$f":"SUMIF(Árlista!A:A,B35,Árlista!A:A)","v":0},{"$f":"IF(B35>0,(IF(C35>D35,VLOOKUP(B35,Árlista!A:I,9,FALSE),\"\")),\"\")","v":""},{"$f":"IF(B35>0,VLOOKUP(B35,Árlista!A:I,7,FALSE),\"\")","v":""}]
[27,null,null,{"$f":"IF(C36>0,IF(C36>VLOOKUP(B36,Árlista!A:I,6,0),VLOOKUP(B36,Árlista!A:I,6,0),C36),\"\")","v":""},{"$f":"IF(B36>0,VLOOKUP(B36,Árlista!A:I,2,FALSE),\"\")","v":""},{"$f":"IF(B36>0,VLOOKUP(B36,Árlista!A:I,5,0),\"\")","v":""},{"$f":"IF(B36,VLOOKUP(B36,Árlista!A:I,3,0),\"\")","v":""},"","",{"$f":"SUMIF(Árlista!A:A,B36,Árlista!A:A)","v":0},{"$f":"IF(B36>0,(IF(C36>D36,VLOOKUP(B36,Árlista!A:I,9,FALSE),\"\")),\"\")","v":""},{"$f":"IF(B36>0,VLOOKUP(B36,Árlista!A:I,7,FALSE),\"\")","v":""}]
[28,null,null,{"$f":"IF(C37>0,IF(C37>VLOOKUP(B37,Árlista!A:I,6,0),VLOOKUP(B37,Árlista!A:I,6,0),C37),\"\")","v":""},{"$f":"IF(B37>0,VLOOKUP(B37,Árlista!A:I,2,FALSE),\"\")","v":""},{"$f":"IF(B37>0,VLOOKUP(B37,Árlista!A:I,5,0),\"\")","v":""},{"$f":"IF(B37,VLOOKUP(B37,Árlista!A:I,3,0),\"\")","v":""},"","",{"$f":"SUMIF(Árlista!A:A,B37,Árlista!A:A)","v":0},{"$f":"IF(B37>0,(IF(C37>D37,VLOOKUP(B37,Árlista!A:I,9,FALSE),\"\")),\"\")","v":""},{"$f":"IF(B37>0,VLOOKUP(B37,Árlista!A:I,7,FALSE),\"\")","v":""}]
[29,null,null,{"$f":"IF(C38>0,IF(C38>VLOOKUP(B38,Árlista!A:I,6,0),VLOOKUP(B38,Árlista!A:I,6,0),C38),\"\")","v":""},{"$f":"IF(B38>0,VLOOKUP(B38,Árlista!A:I,2,FALSE),\"\")","v":""},{"$f":"IF(B38>0,VLOOKUP(B38,Árlista!A:I,5,0),\"\")","v":""},{"$f":"IF(B38,VLOOKUP(B38,Árlista!A:I,3,0),\"\")","v":""},"","",{"$f":"SUMIF(Árlista!A:A,B38,Árlista!A:A)","v":0},{"$f":"IF(B38>0,(IF(C38>D38,VLOOKUP(B38,Árlista!A:I,9,FALSE),\"\")),\"\")","v":""},{"$f":"IF(B38>0,VLOOKUP(B38,Árlista!A:I,7,FALSE),\"\")","v":""}]
[30,null,null,{"$f":"IF(C39>0,IF(C39>VLOOKUP(B39,Árlista!A:I,6,0),VLOOKUP(B39,Árlista!A:I,6,0),C39),\"\")","v":""},{"$f":"IF(B39>0,VLOOKUP(B39,Árlista!A:I,2,FALSE),\"\")","v":""},{"$f":"IF(B39>0,VLOOKUP(B39,Árlista!A:I,5,0),\"\")","v":""},{"$f":"IF(B39,VLOOKUP(B39,Árlista!A:I,3,0),\"\")","v":""},"","",{"$f":"SUMIF(Árlista!A:A,B39,Árlista!A:A)","v":0},{"$f":"IF(B39>0,(IF(C39>D39,VLOOKUP(B39,Árlista!A:I,9,FALSE),\"\")),\"\")","v":""},{"$f":"IF(B39>0,VLOOKUP(B39,Árlista!A:I,7,FALSE),\"\")","v":""}]
[31,null,null,{"$f":"IF(C40>0,IF(C40>VLOOKUP(B40,Árlista!A:I,6,0),VLOOKUP(B40,Árlista!A:I,6,0),C40),\"\")","v":""},{"$f":"IF(B40>0,VLOOKUP(B40,Árlista!A:I,2,FALSE),\"\")","v":""},{"$f":"IF(B40>0,VLOOKUP(B40,Árlista!A:I,5,0),\"\")","v":""},{"$f":"IF(B40,VLOOKUP(B40,Árlista!A:I,3,0),\"\")","v":""},"","",{"$f":"SUMIF(Árlista!A:A,B40,Árlista!A:A)","v":0},{"$f":"IF(B40>0,(IF(C40>D40,VLOOKUP(B40,Árlista!A:I,9,FALSE),\"\")),\"\")","v":""},{"$f":"IF(B40>0,VLOOKUP(B40,Árlista!A:I,7,FALSE),\"\")","v":""}]
[32,null,null,{"$f":"IF(C41>0,IF(C41>VLOOKUP(B41,Árlista!A:I,6,0),VLOOKUP(B41,Árlista!A:I,6,0),C41),\"\")","v":""},{"$f":"IF(B41>0,VLOOKUP(B41,Árlista!A:I,2,FALSE),\"\")","v":""},{"$f":"IF(B41>0,VLOOKUP(B41,Árlista!A:I,5,0),\"\")","v":""},{"$f":"IF(B41,VLOOKUP(B41,Árlista!A:I,3,0),\"\")","v":""},"","",{"$f":"SUMIF(Árlista!A:A,B41,Árlista!A:A)","v":0},{"$f":"IF(B41>0,(IF(C41>D41,VLOOKUP(B41,Árlista!A:I,9,FALSE),\"\")),\"\")","v":""},{"$f":"IF(B41>0,VLOOKUP(B41,Árlista!A:I,7,FALSE),\"\")","v":""}]
[33,null,null,{"$f":"IF(C42>0,IF(C42>VLOOKUP(B42,Árlista!A:I,6,0),VLOOKUP(B42,Árlista!A:I,6,0),C42),\"\")","v":""},{"$f":"IF(B42>0,VLOOKUP(B42,Árlista!A:I,2,FALSE),\"\")","v":""},{"$f":"IF(B42>0,VLOOKUP(B42,Árlista!A:I,5,0),\"\")","v":""},{"$f":"IF(B42,VLOOKUP(B42,Árlista!A:I,3,0),\"\")","v":""},"","",{"$f":"SUMIF(Árlista!A:A,B42,Árlista!A:A)","v":0},{"$f":"IF(B42>0,(IF(C42>D42,VLOOKUP(B42,Árlista!A:I,9,FALSE),\"\")),\"\")","v":""},{"$f":"IF(B42>0,VLOOKUP(B42,Árlista!A:I,7,FALSE),\"\")","v":""}]
[34,null,null,{"$f":"IF(C43>0,IF(C43>VLOOKUP(B43,Árlista!A:I,6,0),VLOOKUP(B43,Árlista!A:I,6,0),C43),\"\")","v":""},{"$f":"IF(B43>0,VLOOKUP(B43,Árlista!A:I,2,FALSE),\"\")","v":""},{"$f":"IF(B43>0,VLOOKUP(B43,Árlista!A:I,5,0),\"\")","v":""},{"$f":"IF(B43,VLOOKUP(B43,Árlista!A:I,3,0),\"\")","v":""},"","",{"$f":"SUMIF(Árlista!A:A,B43,Árlista!A:A)","v":0},{"$f":"IF(B43>0,(IF(C43>D43,VLOOKUP(B43,Árlista!A:I,9,FALSE),\"\")),\"\")","v":""},{"$f":"IF(B43>0,VLOOKUP(B43,Árlista!A:I,7,FALSE),\"\")","v":""}]
[35,null,null,{"$f":"IF(C44>0,IF(C44>VLOOKUP(B44,Árlista!A:I,6,0),VLOOKUP(B44,Árlista!A:I,6,0),C44),\"\")","v":""},{"$f":"IF(B44>0,VLOOKUP(B44,Árlista!A:I,2,FALSE),\"\")","v":""},{"$f":"IF(B44>0,VLOOKUP(B44,Árlista!A:I,5,0),\"\")","v":""},{"$f":"IF(B44,VLOOKUP(B44,Árlista!A:I,3,0),\"\")","v":""},"","",{"$f":"SUMIF(Árlista!A:A,B44,Árlista!A:A)","v":0},{"$f":"IF(B44>0,(IF(C44>D44,VLOOKUP(B44,Árlista!A:I,9,FALSE),\"\")),\"\")","v":""},{"$f":"IF(B44>0,VLOOKUP(B44,Árlista!A:I,7,FALSE),\"\")","v":""}]
[36,null,null,{"$f":"IF(C45>0,IF(C45>VLOOKUP(B45,Árlista!A:I,6,0),VLOOKUP(B45,Árlista!A:I,6,0),C45),\"\")","v":""},{"$f":"IF(B45>0,VLOOKUP(B45,Árlista!A:I,2,FALSE),\"\")","v":""},{"$f":"IF(B45>0,VLOOKUP(B45,Árlista!A:I,5,0),\"\")","v":""},{"$f":"IF(B45,VLOOKUP(B45,Árlista!A:I,3,0),\"\")","v":""},"","",{"$f":"SUMIF(Árlista!A:A,B45,Árlista!A:A)","v":0},{"$f":"IF(B45>0,(IF(C45>D45,VLOOKUP(B45,Árlista!A:I,9,FALSE),\"\")),\"\")","v":""},{"$f":"IF(B45>0,VLOOKUP(B45,Árlista!A:I,7,FALSE),\"\")","v":""}]
[37,null,null,{"$f":"IF(C46>0,IF(C46>VLOOKUP(B46,Árlista!A:I,6,0),VLOOKUP(B46,Árlista!A:I,6,0),C46),\"\")","v":""},{"$f":"IF(B46>0,VLOOKUP(B46,Árlista!A:I,2,FALSE),\"\")","v":""},{"$f":"IF(B46>0,VLOOKUP(B46,Árlista!A:I,5,0),\"\")","v":""},{"$f":"IF(B46,VLOOKUP(B46,Árlista!A:I,3,0),\"\")","v":""},"","",{"$f":"SUMIF(Árlista!A:A,B46,Árlista!A:A)","v":0},{"$f":"IF(B46>0,(IF(C46>D46,VLOOKUP(B46,Árlista!A:I,9,FALSE),\"\")),\"\")","v":""},{"$f":"IF(B46>0,VLOOKUP(B46,Árlista!A:I,7,FALSE),\"\")","v":""}]
[38,null,null,{"$f":"IF(C47>0,IF(C47>VLOOKUP(B47,Árlista!A:I,6,0),VLOOKUP(B47,Árlista!A:I,6,0),C47),\"\")","v":""},{"$f":"IF(B47>0,VLOOKUP(B47,Árlista!A:I,2,FALSE),\"\")","v":""},{"$f":"IF(B47>0,VLOOKUP(B47,Árlista!A:I,5,0),\"\")","v":""},{"$f":"IF(B47,VLOOKUP(B47,Árlista!A:I,3,0),\"\")","v":""},"","",{"$f":"SUMIF(Árlista!A:A,B47,Árlista!A:A)","v":0},{"$f":"IF(B47>0,(IF(C47>D47,VLOOKUP(B47,Árlista!A:I,9,FALSE),\"\")),\"\")","v":""},{"$f":"IF(B47>0,VLOOKUP(B47,Árlista!A:I,7,FALSE),\"\")","v":""}]
[39,null,null,{"$f":"IF(C48>0,IF(C48>VLOOKUP(B48,Árlista!A:I,6,0),VLOOKUP(B48,Árlista!A:I,6,0),C48),\"\")","v":""},{"$f":"IF(B48>0,VLOOKUP(B48,Árlista!A:I,2,FALSE),\"\")","v":""},{"$f":"IF(B48>0,VLOOKUP(B48,Árlista!A:I,5,0),\"\")","v":""},{"$f":"IF(B48,VLOOKUP(B48,Árlista!A:I,3,0),\"\")","v":""},"","",{"$f":"SUMIF(Árlista!A:A,B48,Árlista!A:A)","v":0},{"$f":"IF(B48>0,(IF(C48>D48,VLOOKUP(B48,Árlista!A:I,9,FALSE),\"\")),\"\")","v":""},{"$f":"IF(B48>0,VLOOKUP(B48,Árlista!A:I,7,FALSE),\"\")","v":""}]
[40,null,null,{"$f":"IF(C49>0,IF(C49>VLOOKUP(B49,Árlista!A:I,6,0),VLOOKUP(B49,Árlista!A:I,6,0),C49),\"\")","v":""},{"$f":"IF(B49>0,VLOOKUP(B49,Árlista!A:I,2,FALSE),\"\")","v":""},{"$f":"IF(B49>0,VLOOKUP(B49,Árlista!A:I,5,0),\"\")","v":""},{"$f":"IF(B49,VLOOKUP(B49,Árlista!A:I,3,0),\"\")","v":""},"","",{"$f":"SUMIF(Árlista!A:A,B49,Árlista!A:A)","v":0},{"$f":"IF(B49>0,(IF(C49>D49,VLOOKUP(B49,Árlista!A:I,9,FALSE),\"\")),\"\")","v":""},{"$f":"IF(B49>0,VLOOKUP(B49,Árlista!A:I,7,FALSE),\"\")","v":""}]
[41,null,null,{"$f":"IF(C50>0,IF(C50>VLOOKUP(B50,Árlista!A:I,6,0),VLOOKUP(B50,Árlista!A:I,6,0),C50),\"\")","v":""},{"$f":"IF(B50>0,VLOOKUP(B50,Árlista!A:I,2,FALSE),\"\")","v":""},{"$f":"IF(B50>0,VLOOKUP(B50,Árlista!A:I,5,0),\"\")","v":""},{"$f":"IF(B50,VLOOKUP(B50,Árlista!A:I,3,0),\"\")","v":""},"","",{"$f":"SUMIF(Árlista!A:A,B50,Árlista!A:A)","v":0},{"$f":"IF(B50>0,(IF(C50>D50,VLOOKUP(B50,Árlista!A:I,9,FALSE),\"\")),\"\")","v":""},{"$f":"IF(B50>0,VLOOKUP(B50,Árlista!A:I,7,FALSE),\"\")","v":""}]
[42,null,null,{"$f":"IF(C51>0,IF(C51>VLOOKUP(B51,Árlista!A:I,6,0),VLOOKUP(B51,Árlista!A:I,6,0),C51),\"\")","v":""},{"$f":"IF(B51>0,VLOOKUP(B51,Árlista!A:I,2,FALSE),\"\")","v":""},{"$f":"IF(B51>0,VLOOKUP(B51,Árlista!A:I,5,0),\"\")","v":""},{"$f":"IF(B51,VLOOKUP(B51,Árlista!A:I,3,0),\"\")","v":""},"","",{"$f":"SUMIF(Árlista!A:A,B51,Árlista!A:A)","v":0},{"$f":"IF(B51>0,(IF(C51>D51,VLOOKUP(B51,Árlista!A:I,9,FALSE),\"\")),\"\")","v":""},{"$f":"IF(B51>0,VLOOKUP(B51,Árlista!A:I,7,FALSE),\"\")","v":""}]
[43,null,null,{"$f":"IF(C52>0,IF(C52>VLOOKUP(B52,Árlista!A:I,6,0),VLOOKUP(B52,Árlista!A:I,6,0),C52),\"\")","v":""},{"$f":"IF(B52>0,VLOOKUP(B52,Árlista!A:I,2,FALSE),\"\")","v":""},{"$f":"IF(B52>0,VLOOKUP(B52,Árlista!A:I,5,0),\"\")","v":""},{"$f":"IF(B52,VLOOKUP(B52,Árlista!A:I,3,0),\"\")","v":""},{"$f":"IF(B52>0,G52*(1-$G$1),\"\")","v":""},"",{"$f":"SUMIF(Árlista!A:A,B52,Árlista!A:A)","v":0},{"$f":"IF(B52>0,(IF(C52>D52,VLOOKUP(B52,Árlista!A:I,9,FALSE),\"\")),\"\")","v":""},{"$f":"IF(B52>0,VLOOKUP(B52,Árlista!A:I,7,FALSE),\"\")","v":""}]
[44,null,null,{"$f":"IF(C53>0,IF(C53>VLOOKUP(B53,Árlista!A:I,6,0),VLOOKUP(B53,Árlista!A:I,6,0),C53),\"\")","v":""},{"$f":"IF(B53>0,VLOOKUP(B53,Árlista!A:I,2,FALSE),\"\")","v":""},{"$f":"IF(B53>0,VLOOKUP(B53,Árlista!A:I,5,0),\"\")","v":""},{"$f":"IF(B53,VLOOKUP(B53,Árlista!A:I,3,0),\"\")","v":""},{"$f":"IF(B53>0,G53*(1-$G$1),\"\")","v":""},"",{"$f":"SUMIF(Árlista!A:A,B53,Árlista!A:A)","v":0},{"$f":"IF(B53>0,(IF(C53>D53,VLOOKUP(B53,Árlista!A:I,9,FALSE),\"\")),\"\")","v":""},{"$f":"IF(B53>0,VLOOKUP(B53,Árlista!A:I,7,FALSE),\"\")","v":""}]
[45,null,null,{"$f":"IF(C54>0,IF(C54>VLOOKUP(B54,Árlista!A:I,6,0),VLOOKUP(B54,Árlista!A:I,6,0),C54),\"\")","v":""},{"$f":"IF(B54>0,VLOOKUP(B54,Árlista!A:I,2,FALSE),\"\")","v":""},{"$f":"IF(B54>0,VLOOKUP(B54,Árlista!A:I,5,0),\"\")","v":""},{"$f":"IF(B54,VLOOKUP(B54,Árlista!A:I,3,0),\"\")","v":""},"","",{"$f":"SUMIF(Árlista!A:A,B54,Árlista!A:A)","v":0},{"$f":"IF(B54>0,(IF(C54>D54,VLOOKUP(B54,Árlista!A:I,9,FALSE),\"\")),\"\")","v":""},{"$f":"IF(B54>0,VLOOKUP(B54,Árlista!A:I,7,FALSE),\"\")","v":""}]
[46,null,null,{"$f":"IF(C55>0,IF(C55>VLOOKUP(B55,Árlista!A:I,6,0),VLOOKUP(B55,Árlista!A:I,6,0),C55),\"\")","v":""},{"$f":"IF(B55>0,VLOOKUP(B55,Árlista!A:I,2,FALSE),\"\")","v":""},{"$f":"IF(B55>0,VLOOKUP(B55,Árlista!A:I,5,0),\"\")","v":""},{"$f":"IF(B55,VLOOKUP(B55,Árlista!A:I,3,0),\"\")","v":""},"","",{"$f":"SUMIF(Árlista!A:A,B55,Árlista!A:A)","v":0},{"$f":"IF(B55>0,(IF(C55>D55,VLOOKUP(B55,Árlista!A:I,9,FALSE),\"\")),\"\")","v":""},{"$f":"IF(B55>0,VLOOKUP(B55,Árlista!A:I,7,FALSE),\"\")","v":""}]
[47,null,null,{"$f":"IF(C56>0,IF(C56>VLOOKUP(B56,Árlista!A:I,6,0),VLOOKUP(B56,Árlista!A:I,6,0),C56),\"\")","v":""},{"$f":"IF(B56>0,VLOOKUP(B56,Árlista!A:I,2,FALSE),\"\")","v":""},{"$f":"IF(B56>0,VLOOKUP(B56,Árlista!A:I,5,0),\"\")","v":""},{"$f":"IF(B56,VLOOKUP(B56,Árlista!A:I,3,0),\"\")","v":""},"","",{"$f":"SUMIF(Árlista!A:A,B56,Árlista!A:A)","v":0},{"$f":"IF(B56>0,(IF(C56>D56,VLOOKUP(B56,Árlista!A:I,9,FALSE),\"\")),\"\")","v":""},{"$f":"IF(B56>0,VLOOKUP(B56,Árlista!A:I,7,FALSE),\"\")","v":""}]
[48,null,null,{"$f":"IF(C57>0,IF(C57>VLOOKUP(B57,Árlista!A:I,6,0),VLOOKUP(B57,Árlista!A:I,6,0),C57),\"\")","v":""},{"$f":"IF(B57>0,VLOOKUP(B57,Árlista!A:I,2,FALSE),\"\")","v":""},{"$f":"IF(B57>0,VLOOKUP(B57,Árlista!A:I,5,0),\"\")","v":""},{"$f":"IF(B57,VLOOKUP(B57,Árlista!A:I,3,0),\"\")","v":""},"","",{"$f":"SUMIF(Árlista!A:A,B57,Árlista!A:A)","v":0},{"$f":"IF(B57>0,(IF(C57>D57,VLOOKUP(B57,Árlista!A:I,9,FALSE),\"\")),\"\")","v":""},{"$f":"IF(B57>0,VLOOKUP(B57,Árlista!A:I,7,FALSE),\"\")","v":""}]
[49,null,null,{"$f":"IF(C58>0,IF(C58>VLOOKUP(B58,Árlista!A:I,6,0),VLOOKUP(B58,Árlista!A:I,6,0),C58),\"\")","v":""},{"$f":"IF(B58>0,VLOOKUP(B58,Árlista!A:I,2,FALSE),\"\")","v":""},{"$f":"IF(B58>0,VLOOKUP(B58,Árlista!A:I,5,0),\"\")","v":""},{"$f":"IF(B58,VLOOKUP(B58,Árlista!A:I,3,0),\"\")","v":""},"","",{"$f":"SUMIF(Árlista!A:A,B58,Árlista!A:A)","v":0},{"$f":"IF(B58>0,(IF(C58>D58,VLOOKUP(B58,Árlista!A:I,9,FALSE),\"\")),\"\")","v":""},{"$f":"IF(B58>0,VLOOKUP(B58,Árlista!A:I,7,FALSE),\"\")","v":""}]
[50,null,null,{"$f":"IF(C59>0,IF(C59>VLOOKUP(B59,Árlista!A:I,6,0),VLOOKUP(B59,Árlista!A:I,6,0),C59),\"\")","v":""},{"$f":"IF(B59>0,VLOOKUP(B59,Árlista!A:I,2,FALSE),\"\")","v":""},{"$f":"IF(B59>0,VLOOKUP(B59,Árlista!A:I,5,0),\"\")","v":""},{"$f":"IF(B59,VLOOKUP(B59,Árlista!A:I,3,0),\"\")","v":""},"","",{"$f":"SUMIF(Árlista!A:A,B59,Árlista!A:A)","v":0},{"$f":"IF(B59>0,(IF(C59>D59,VLOOKUP(B59,Árlista!A:I,9,FALSE),\"\")),\"\")","v":""},{"$f":"IF(B59>0,VLOOKUP(B59,Árlista!A:I,7,FALSE),\"\")","v":""}]
[51,null,null,{"$f":"IF(C60>0,IF(C60>VLOOKUP(B60,Árlista!A:I,6,0),VLOOKUP(B60,Árlista!A:I,6,0),C60),\"\")","v":""},{"$f":"IF(B60>0,VLOOKUP(B60,Árlista!A:I,2,FALSE),\"\")","v":""},{"$f":"IF(B60>0,VLOOKUP(B60,Árlista!A:I,5,0),\"\")","v":""},{"$f":"IF(B60,VLOOKUP(B60,Árlista!A:I,3,0),\"\")","v":""},"","",{"$f":"SUMIF(Árlista!A:A,B60,Árlista!A:A)","v":0},{"$f":"IF(B60>0,(IF(C60>D60,VLOOKUP(B60,Árlista!A:I,9,FALSE),\"\")),\"\")","v":""},{"$f":"IF(B60>0,VLOOKUP(B60,Árlista!A:I,7,FALSE),\"\")","v":""}]
[52,null,null,{"$f":"IF(C61>0,IF(C61>VLOOKUP(B61,Árlista!A:I,6,0),VLOOKUP(B61,Árlista!A:I,6,0),C61),\"\")","v":""},{"$f":"IF(B61>0,VLOOKUP(B61,Árlista!A:I,2,FALSE),\"\")","v":""},{"$f":"IF(B61>0,VLOOKUP(B61,Árlista!A:I,5,0),\"\")","v":""},{"$f":"IF(B61,VLOOKUP(B61,Árlista!A:I,3,0),\"\")","v":""},"","",{"$f":"SUMIF(Árlista!A:A,B61,Árlista!A:A)","v":0},{"$f":"IF(B61>0,(IF(C61>D61,VLOOKUP(B61,Árlista!A:I,9,FALSE),\"\")),\"\")","v":""},{"$f":"IF(B61>0,VLOOKUP(B61,Árlista!A:I,7,FALSE),\"\")","v":""}]
[53,null,null,{"$f":"IF(C62>0,IF(C62>VLOOKUP(B62,Árlista!A:I,6,0),VLOOKUP(B62,Árlista!A:I,6,0),C62),\"\")","v":""},{"$f":"IF(B62>0,VLOOKUP(B62,Árlista!A:I,2,FALSE),\"\")","v":""},{"$f":"IF(B62>0,VLOOKUP(B62,Árlista!A:I,5,0),\"\")","v":""},{"$f":"IF(B62,VLOOKUP(B62,Árlista!A:I,3,0),\"\")","v":""},"","",{"$f":"SUMIF(Árlista!A:A,B62,Árlista!A:A)","v":0},{"$f":"IF(B62>0,(IF(C62>D62,VLOOKUP(B62,Árlista!A:I,9,FALSE),\"\")),\"\")","v":""},{"$f":"IF(B62>0,VLOOKUP(B62,Árlista!A:I,7,FALSE),\"\")","v":""}]
[54,null,null,{"$f":"IF(C63>0,IF(C63>VLOOKUP(B63,Árlista!A:I,6,0),VLOOKUP(B63,Árlista!A:I,6,0),C63),\"\")","v":""},{"$f":"IF(B63>0,VLOOKUP(B63,Árlista!A:I,2,FALSE),\"\")","v":""},{"$f":"IF(B63>0,VLOOKUP(B63,Árlista!A:I,5,0),\"\")","v":""},{"$f":"IF(B63,VLOOKUP(B63,Árlista!A:I,3,0),\"\")","v":""},"","",{"$f":"SUMIF(Árlista!A:A,B63,Árlista!A:A)","v":0},{"$f":"IF(B63>0,(IF(C63>D63,VLOOKUP(B63,Árlista!A:I,9,FALSE),\"\")),\"\")","v":""},{"$f":"IF(B63>0,VLOOKUP(B63,Árlista!A:I,7,FALSE),\"\")","v":""}]
[55,null,null,{"$f":"IF(C64>0,IF(C64>VLOOKUP(B64,Árlista!A:I,6,0),VLOOKUP(B64,Árlista!A:I,6,0),C64),\"\")","v":""},{"$f":"IF(B64>0,VLOOKUP(B64,Árlista!A:I,2,FALSE),\"\")","v":""},{"$f":"IF(B64>0,VLOOKUP(B64,Árlista!A:I,5,0),\"\")","v":""},{"$f":"IF(B64,VLOOKUP(B64,Árlista!A:I,3,0),\"\")","v":""},"","",{"$f":"SUMIF(Árlista!A:A,B64,Árlista!A:A)","v":0},{"$f":"IF(B64>0,(IF(C64>D64,VLOOKUP(B64,Árlista!A:I,9,FALSE),\"\")),\"\")","v":""},{"$f":"IF(B64>0,VLOOKUP(B64,Árlista!A:I,7,FALSE),\"\")","v":""}]
[56,null,null,{"$f":"IF(C65>0,IF(C65>VLOOKUP(B65,Árlista!A:I,6,0),VLOOKUP(B65,Árlista!A:I,6,0),C65),\"\")","v":""},{"$f":"IF(B65>0,VLOOKUP(B65,Árlista!A:I,2,FALSE),\"\")","v":""},{"$f":"IF(B65>0,VLOOKUP(B65,Árlista!A:I,5,0),\"\")","v":""},{"$f":"IF(B65,VLOOKUP(B65,Árlista!A:I,3,0),\"\")","v":""},"","",{"$f":"SUMIF(Árlista!A:A,B65,Árlista!A:A)","v":0},{"$f":"IF(B65>0,(IF(C65>D65,VLOOKUP(B65,Árlista!A:I,9,FALSE),\"\")),\"\")","v":""},{"$f":"IF(B65>0,VLOOKUP(B65,Árlista!A:I,7,FALSE),\"\")","v":""}]
[57,null,null,{"$f":"IF(C66>0,IF(C66>VLOOKUP(B66,Árlista!A:I,6,0),VLOOKUP(B66,Árlista!A:I,6,0),C66),\"\")","v":""},{"$f":"IF(B66>0,VLOOKUP(B66,Árlista!A:I,2,FALSE),\"\")","v":""},{"$f":"IF(B66>0,VLOOKUP(B66,Árlista!A:I,5,0),\"\")","v":""},{"$f":"IF(B66,VLOOKUP(B66,Árlista!A:I,3,0),\"\")","v":""},"","",{"$f":"SUMIF(Árlista!A:A,B66,Árlista!A:A)","v":0},{"$f":"IF(B66>0,(IF(C66>D66,VLOOKUP(B66,Árlista!A:I,9,FALSE),\"\")),\"\")","v":""},{"$f":"IF(B66>0,VLOOKUP(B66,Árlista!A:I,7,FALSE),\"\")","v":""}]
[58,null,null,{"$f":"IF(C67>0,IF(C67>VLOOKUP(B67,Árlista!A:I,6,0),VLOOKUP(B67,Árlista!A:I,6,0),C67),\"\")","v":""},{"$f":"IF(B67>0,VLOOKUP(B67,Árlista!A:I,2,FALSE),\"\")","v":""},{"$f":"IF(B67>0,VLOOKUP(B67,Árlista!A:I,5,0),\"\")","v":""},{"$f":"IF(B67,VLOOKUP(B67,Árlista!A:I,3,0),\"\")","v":""},"","",{"$f":"SUMIF(Árlista!A:A,B67,Árlista!A:A)","v":0},{"$f":"IF(B67>0,(IF(C67>D67,VLOOKUP(B67,Árlista!A:I,9,FALSE),\"\")),\"\")","v":""},{"$f":"IF(B67>0,VLOOKUP(B67,Árlista!A:I,7,FALSE),\"\")","v":""}]
[59,null,null,{"$f":"IF(C68>0,IF(C68>VLOOKUP(B68,Árlista!A:I,6,0),VLOOKUP(B68,Árlista!A:I,6,0),C68),\"\")","v":""},{"$f":"IF(B68>0,VLOOKUP(B68,Árlista!A:I,2,FALSE),\"\")","v":""},{"$f":"IF(B68>0,VLOOKUP(B68,Árlista!A:I,5,0),\"\")","v":""},{"$f":"IF(B68,VLOOKUP(B68,Árlista!A:I,3,0),\"\")","v":""},"","",{"$f":"SUMIF(Árlista!A:A,B68,Árlista!A:A)","v":0},{"$f":"IF(B68>0,(IF(C68>D68,VLOOKUP(B68,Árlista!A:I,9,FALSE),\"\")),\"\")","v":""},{"$f":"IF(B68>0,VLOOKUP(B68,Árlista!A:I,7,FALSE),\"\")","v":""}]
[60,null,null,{"$f":"IF(C69>0,IF(C69>VLOOKUP(B69,Árlista!A:I,6,0),VLOOKUP(B69,Árlista!A:I,6,0),C69),\"\")","v":""},{"$f":"IF(B69>0,VLOOKUP(B69,Árlista!A:I,2,FALSE),\"\")","v":""},{"$f":"IF(B69>0,VLOOKUP(B69,Árlista!A:I,5,0),\"\")","v":""},{"$f":"IF(B69,VLOOKUP(B69,Árlista!A:I,3,0),\"\")","v":""},"","",{"$f":"SUMIF(Árlista!A:A,B69,Árlista!A:A)","v":0},{"$f":"IF(B69>0,(IF(C69>D69,VLOOKUP(B69,Árlista!A:I,9,FALSE),\"\")),\"\")","v":""},{"$f":"IF(B69>0,VLOOKUP(B69,Árlista!A:I,7,FALSE),\"\")","v":""}]
[61,null,null,{"$f":"IF(C70>0,IF(C70>VLOOKUP(B70,Árlista!A:I,6,0),VLOOKUP(B70,Árlista!A:I,6,0),C70),\"\")","v":""},{"$f":"IF(B70>0,VLOOKUP(B70,Árlista!A:I,2,FALSE),\"\")","v":""},{"$f":"IF(B70>0,VLOOKUP(B70,Árlista!A:I,5,0),\"\")","v":""},{"$f":"IF(B70,VLOOKUP(B70,Árlista!A:I,3,0),\"\")","v":""},"","",{"$f":"SUMIF(Árlista!A:A,B70,Árlista!A:A)","v":0},{"$f":"IF(B70>0,(IF(C70>D70,VLOOKUP(B70,Árlista!A:I,9,FALSE),\"\")),\"\")","v":""},{"$f":"IF(B70>0,VLOOKUP(B70,Árlista!A:I,7,FALSE),\"\")","v":""}]
[62,null,null,{"$f":"IF(C71>0,IF(C71>VLOOKUP(B71,Árlista!A:I,6,0),VLOOKUP(B71,Árlista!A:I,6,0),C71),\"\")","v":""},{"$f":"IF(B71>0,VLOOKUP(B71,Árlista!A:I,2,FALSE),\"\")","v":""},{"$f":"IF(B71>0,VLOOKUP(B71,Árlista!A:I,5,0),\"\")","v":""},{"$f":"IF(B71,VLOOKUP(B71,Árlista!A:I,3,0),\"\")","v":""},"","",{"$f":"SUMIF(Árlista!A:A,B71,Árlista!A:A)","v":0},{"$f":"IF(B71>0,(IF(C71>D71,VLOOKUP(B71,Árlista!A:I,9,FALSE),\"\")),\"\")","v":""},{"$f":"IF(B71>0,VLOOKUP(B71,Árlista!A:I,7,FALSE),\"\")","v":""}]
[63,null,null,{"$f":"IF(C72>0,IF(C72>VLOOKUP(B72,Árlista!A:I,6,0),VLOOKUP(B72,Árlista!A:I,6,0),C72),\"\")","v":""},{"$f":"IF(B72>0,VLOOKUP(B72,Árlista!A:I,2,FALSE),\"\")","v":""},{"$f":"IF(B72>0,VLOOKUP(B72,Árlista!A:I,5,0),\"\")","v":""},{"$f":"IF(B72,VLOOKUP(B72,Árlista!A:I,3,0),\"\")","v":""},"","",{"$f":"SUMIF(Árlista!A:A,B72,Árlista!A:A)","v":0},{"$f":"IF(B72>0,(IF(C72>D72,VLOOKUP(B72,Árlista!A:I,9,FALSE),\"\")),\"\")","v":""},{"$f":"IF(B72>0,VLOOKUP(B72,Árlista!A:I,7,FALSE),\"\")","v":""}]
[64,null,null,{"$f":"IF(C73>0,IF(C73>VLOOKUP(B73,Árlista!A:I,6,0),VLOOKUP(B73,Árlista!A:I,6,0),C73),\"\")","v":""},{"$f":"IF(B73>0,VLOOKUP(B73,Árlista!A:I,2,FALSE),\"\")","v":""},{"$f":"IF(B73>0,VLOOKUP(B73,Árlista!A:I,5,0),\"\")","v":""},{"$f":"IF(B73,VLOOKUP(B73,Árlista!A:I,3,0),\"\")","v":""},"","",{"$f":"SUMIF(Árlista!A:A,B73,Árlista!A:A)","v":0},{"$f":"IF(B73>0,(IF(C73>D73,VLOOKUP(B73,Árlista!A:I,9,FALSE),\"\")),\"\")","v":""},{"$f":"IF(B73>0,VLOOKUP(B73,Árlista!A:I,7,FALSE),\"\")","v":""}]
[65,null,null,{"$f":"IF(C74>0,IF(C74>VLOOKUP(B74,Árlista!A:I,6,0),VLOOKUP(B74,Árlista!A:I,6,0),C74),\"\")","v":""},{"$f":"IF(B74>0,VLOOKUP(B74,Árlista!A:I,2,FALSE),\"\")","v":""},{"$f":"IF(B74>0,VLOOKUP(B74,Árlista!A:I,5,0),\"\")","v":""},{"$f":"IF(B74,VLOOKUP(B74,Árlista!A:I,3,0),\"\")","v":""},"",{"$f":"IF(J74>0,IF(B74>0,D74*H74,\"\"),\"\")","v":""},{"$f":"SUMIF(Árlista!A:A,B74,Árlista!A:A)","v":0},{"$f":"IF(B74>0,(IF(C74>D74,VLOOKUP(B74,Árlista!A:I,9,FALSE),\"\")),\"\")","v":""},{"$f":"IF(B74>0,VLOOKUP(B74,Árlista!A:I,7,FALSE),\"\")","v":""}]
[66,null,null,{"$f":"IF(C75>0,IF(C75>VLOOKUP(B75,Árlista!A:I,6,0),VLOOKUP(B75,Árlista!A:I,6,0),C75),\"\")","v":""},{"$f":"IF(B75>0,VLOOKUP(B75,Árlista!A:I,2,FALSE),\"\")","v":""},{"$f":"IF(B75>0,VLOOKUP(B75,Árlista!A:I,5,0),\"\")","v":""},{"$f":"IF(B75,VLOOKUP(B75,Árlista!A:I,3,0),\"\")","v":""},{"$f":"IF(B75>0,G75*(1-$G$1),\"\")","v":""},"",{"$f":"SUMIF(Árlista!A:A,B75,Árlista!A:A)","v":0},{"$f":"IF(B75>0,(IF(C75>D75,VLOOKUP(B75,Árlista!A:I,9,FALSE),\"\")),\"\")","v":""},{"$f":"IF(B75>0,VLOOKUP(B75,Árlista!A:I,7,FALSE),\"\")","v":""}]
[67,null,null,{"$f":"IF(C76>0,IF(C76>VLOOKUP(B76,Árlista!A:I,6,0),VLOOKUP(B76,Árlista!A:I,6,0),C76),\"\")","v":""},{"$f":"IF(B76>0,VLOOKUP(B76,Árlista!A:I,2,FALSE),\"\")","v":""},{"$f":"IF(B76>0,VLOOKUP(B76,Árlista!A:I,5,0),\"\")","v":""},{"$f":"IF(B76,VLOOKUP(B76,Árlista!A:I,3,0),\"\")","v":""},"","",{"$f":"SUMIF(Árlista!A:A,B76,Árlista!A:A)","v":0},{"$f":"IF(B76>0,(IF(C76>D76,VLOOKUP(B76,Árlista!A:I,9,FALSE),\"\")),\"\")","v":""},{"$f":"IF(B76>0,VLOOKUP(B76,Árlista!A:I,7,FALSE),\"\")","v":""}]
[68,null,null,{"$f":"IF(C77>0,IF(C77>VLOOKUP(B77,Árlista!A:I,6,0),VLOOKUP(B77,Árlista!A:I,6,0),C77),\"\")","v":""},{"$f":"IF(B77>0,VLOOKUP(B77,Árlista!A:I,2,FALSE),\"\")","v":""},{"$f":"IF(B77>0,VLOOKUP(B77,Árlista!A:I,5,0),\"\")","v":""},{"$f":"IF(B77,VLOOKUP(B77,Árlista!A:I,3,0),\"\")","v":""},"","",{"$f":"SUMIF(Árlista!A:A,B77,Árlista!A:A)","v":0},{"$f":"IF(B77>0,(IF(C77>D77,VLOOKUP(B77,Árlista!A:I,9,FALSE),\"\")),\"\")","v":""},{"$f":"IF(B77>0,VLOOKUP(B77,Árlista!A:I,7,FALSE),\"\")","v":""}]
[69,null,null,{"$f":"IF(C78>0,IF(C78>VLOOKUP(B78,Árlista!A:I,6,0),VLOOKUP(B78,Árlista!A:I,6,0),C78),\"\")","v":""},{"$f":"IF(B78>0,VLOOKUP(B78,Árlista!A:I,2,FALSE),\"\")","v":""},{"$f":"IF(B78>0,VLOOKUP(B78,Árlista!A:I,5,0),\"\")","v":""},{"$f":"IF(B78,VLOOKUP(B78,Árlista!A:I,3,0),\"\")","v":""},"","",{"$f":"SUMIF(Árlista!A:A,B78,Árlista!A:A)","v":0},{"$f":"IF(B78>0,(IF(C78>D78,VLOOKUP(B78,Árlista!A:I,9,FALSE),\"\")),\"\")","v":""},{"$f":"IF(B78>0,VLOOKUP(B78,Árlista!A:I,7,FALSE),\"\")","v":""}]
[70,null,null,{"$f":"IF(C79>0,IF(C79>VLOOKUP(B79,Árlista!A:I,6,0),VLOOKUP(B79,Árlista!A:I,6,0),C79),\"\")","v":""},{"$f":"IF(B79>0,VLOOKUP(B79,Árlista!A:I,2,FALSE),\"\")","v":""},{"$f":"IF(B79>0,VLOOKUP(B79,Árlista!A:I,5,0),\"\")","v":""},{"$f":"IF(B79,VLOOKUP(B79,Árlista!A:I,3,0),\"\")","v":""},"","",{"$f":"SUMIF(Árlista!A:A,B79,Árlista!A:A)","v":0},{"$f":"IF(B79>0,(IF(C79>D79,VLOOKUP(B79,Árlista!A:I,9,FALSE),\"\")),\"\")","v":""},{"$f":"IF(B79>0,VLOOKUP(B79,Árlista!A:I,7,FALSE),\"\")","v":""}]
[71,null,null,{"$f":"IF(C80>0,IF(C80>VLOOKUP(B80,Árlista!A:I,6,0),VLOOKUP(B80,Árlista!A:I,6,0),C80),\"\")","v":""},{"$f":"IF(B80>0,VLOOKUP(B80,Árlista!A:I,2,FALSE),\"\")","v":""},{"$f":"IF(B80>0,VLOOKUP(B80,Árlista!A:I,5,0),\"\")","v":""},{"$f":"IF(B80,VLOOKUP(B80,Árlista!A:I,3,0),\"\")","v":""},"","",{"$f":"SUMIF(Árlista!A:A,B80,Árlista!A:A)","v":0},{"$f":"IF(B80>0,(IF(C80>D80,VLOOKUP(B80,Árlista!A:I,9,FALSE),\"\")),\"\")","v":""},{"$f":"IF(B80>0,VLOOKUP(B80,Árlista!A:I,7,FALSE),\"\")","v":""}]
[72,null,null,{"$f":"IF(C81>0,IF(C81>VLOOKUP(B81,Árlista!A:I,6,0),VLOOKUP(B81,Árlista!A:I,6,0),C81),\"\")","v":""},{"$f":"IF(B81>0,VLOOKUP(B81,Árlista!A:I,2,FALSE),\"\")","v":""},{"$f":"IF(B81>0,VLOOKUP(B81,Árlista!A:I,5,0),\"\")","v":""},{"$f":"IF(B81,VLOOKUP(B81,Árlista!A:I,3,0),\"\")","v":""},"","",{"$f":"SUMIF(Árlista!A:A,B81,Árlista!A:A)","v":0},{"$f":"IF(B81>0,(IF(C81>D81,VLOOKUP(B81,Árlista!A:I,9,FALSE),\"\")),\"\")","v":""},{"$f":"IF(B81>0,VLOOKUP(B81,Árlista!A:I,7,FALSE),\"\")","v":""}]
[73,null,null,{"$f":"IF(C82>0,IF(C82>VLOOKUP(B82,Árlista!A:I,6,0),VLOOKUP(B82,Árlista!A:I,6,0),C82),\"\")","v":""},{"$f":"IF(B82>0,VLOOKUP(B82,Árlista!A:I,2,FALSE),\"\")","v":""},{"$f":"IF(B82>0,VLOOKUP(B82,Árlista!A:I,5,0),\"\")","v":""},{"$f":"IF(B82,VLOOKUP(B82,Árlista!A:I,3,0),\"\")","v":""},"","",{"$f":"SUMIF(Árlista!A:A,B82,Árlista!A:A)","v":0},{"$f":"IF(B82>0,(IF(C82>D82,VLOOKUP(B82,Árlista!A:I,9,FALSE),\"\")),\"\")","v":""},{"$f":"IF(B82>0,VLOOKUP(B82,Árlista!A:I,7,FALSE),\"\")","v":""}]
[74,null,null,{"$f":"IF(C83>0,IF(C83>VLOOKUP(B83,Árlista!A:I,6,0),VLOOKUP(B83,Árlista!A:I,6,0),C83),\"\")","v":""},{"$f":"IF(B83>0,VLOOKUP(B83,Árlista!A:I,2,FALSE),\"\")","v":""},{"$f":"IF(B83>0,VLOOKUP(B83,Árlista!A:I,5,0),\"\")","v":""},{"$f":"IF(B83,VLOOKUP(B83,Árlista!A:I,3,0),\"\")","v":""},"","",{"$f":"SUMIF(Árlista!A:A,B83,Árlista!A:A)","v":0},{"$f":"IF(B83>0,(IF(C83>D83,VLOOKUP(B83,Árlista!A:I,9,FALSE),\"\")),\"\")","v":""},{"$f":"IF(B83>0,VLOOKUP(B83,Árlista!A:I,7,FALSE),\"\")","v":""}]
[75,null,null,{"$f":"IF(C84>0,IF(C84>VLOOKUP(B84,Árlista!A:I,6,0),VLOOKUP(B84,Árlista!A:I,6,0),C84),\"\")","v":""},{"$f":"IF(B84>0,VLOOKUP(B84,Árlista!A:I,2,FALSE),\"\")","v":""},{"$f":"IF(B84>0,VLOOKUP(B84,Árlista!A:I,5,0),\"\")","v":""},{"$f":"IF(B84,VLOOKUP(B84,Árlista!A:I,3,0),\"\")","v":""},"","",{"$f":"SUMIF(Árlista!A:A,B84,Árlista!A:A)","v":0},{"$f":"IF(B84>0,(IF(C84>D84,VLOOKUP(B84,Árlista!A:I,9,FALSE),\"\")),\"\")","v":""},{"$f":"IF(B84>0,VLOOKUP(B84,Árlista!A:I,7,FALSE),\"\")","v":""}]
[76,null,null,{"$f":"IF(C85>0,IF(C85>VLOOKUP(B85,Árlista!A:I,6,0),VLOOKUP(B85,Árlista!A:I,6,0),C85),\"\")","v":""},{"$f":"IF(B85>0,VLOOKUP(B85,Árlista!A:I,2,FALSE),\"\")","v":""},{"$f":"IF(B85>0,VLOOKUP(B85,Árlista!A:I,5,0),\"\")","v":""},{"$f":"IF(B85,VLOOKUP(B85,Árlista!A:I,3,0),\"\")","v":""},"","",{"$f":"SUMIF(Árlista!A:A,B85,Árlista!A:A)","v":0},{"$f":"IF(B85>0,(IF(C85>D85,VLOOKUP(B85,Árlista!A:I,9,FALSE),\"\")),\"\")","v":""},{"$f":"IF(B85>0,VLOOKUP(B85,Árlista!A:I,7,FALSE),\"\")","v":""}]
[77,null,null,{"$f":"IF(C86>0,IF(C86>VLOOKUP(B86,Árlista!A:I,6,0),VLOOKUP(B86,Árlista!A:I,6,0),C86),\"\")","v":""},{"$f":"IF(B86>0,VLOOKUP(B86,Árlista!A:I,2,FALSE),\"\")","v":""},{"$f":"IF(B86>0,VLOOKUP(B86,Árlista!A:I,5,0),\"\")","v":""},{"$f":"IF(B86,VLOOKUP(B86,Árlista!A:I,3,0),\"\")","v":""},"","",{"$f":"SUMIF(Árlista!A:A,B86,Árlista!A:A)","v":0},{"$f":"IF(B86>0,(IF(C86>D86,VLOOKUP(B86,Árlista!A:I,9,FALSE),\"\")),\"\")","v":""},{"$f":"IF(B86>0,VLOOKUP(B86,Árlista!A:I,7,FALSE),\"\")","v":""}]
[78,null,null,{"$f":"IF(C87>0,IF(C87>VLOOKUP(B87,Árlista!A:I,6,0),VLOOKUP(B87,Árlista!A:I,6,0),C87),\"\")","v":""},{"$f":"IF(B87>0,VLOOKUP(B87,Árlista!A:I,2,FALSE),\"\")","v":""},{"$f":"IF(B87>0,VLOOKUP(B87,Árlista!A:I,5,0),\"\")","v":""},{"$f":"IF(B87,VLOOKUP(B87,Árlista!A:I,3,0),\"\")","v":""},"","",{"$f":"SUMIF(Árlista!A:A,B87,Árlista!A:A)","v":0},{"$f":"IF(B87>0,(IF(C87>D87,VLOOKUP(B87,Árlista!A:I,9,FALSE),\"\")),\"\")","v":""},{"$f":"IF(B87>0,VLOOKUP(B87,Árlista!A:I,7,FALSE),\"\")","v":""}]
[79,null,null,{"$f":"IF(C88>0,IF(C88>VLOOKUP(B88,Árlista!A:I,6,0),VLOOKUP(B88,Árlista!A:I,6,0),C88),\"\")","v":""},{"$f":"IF(B88>0,VLOOKUP(B88,Árlista!A:I,2,FALSE),\"\")","v":""},{"$f":"IF(B88>0,VLOOKUP(B88,Árlista!A:I,5,0),\"\")","v":""},{"$f":"IF(B88,VLOOKUP(B88,Árlista!A:I,3,0),\"\")","v":""},"","",{"$f":"SUMIF(Árlista!A:A,B88,Árlista!A:A)","v":0},{"$f":"IF(B88>0,(IF(C88>D88,VLOOKUP(B88,Árlista!A:I,9,FALSE),\"\")),\"\")","v":""},{"$f":"IF(B88>0,VLOOKUP(B88,Árlista!A:I,7,FALSE),\"\")","v":""}]
[80,null,null,{"$f":"IF(C89>0,IF(C89>VLOOKUP(B89,Árlista!A:I,6,0),VLOOKUP(B89,Árlista!A:I,6,0),C89),\"\")","v":""},{"$f":"IF(B89>0,VLOOKUP(B89,Árlista!A:I,2,FALSE),\"\")","v":""},{"$f":"IF(B89>0,VLOOKUP(B89,Árlista!A:I,5,0),\"\")","v":""},{"$f":"IF(B89,VLOOKUP(B89,Árlista!A:I,3,0),\"\")","v":""},"","",{"$f":"SUMIF(Árlista!A:A,B89,Árlista!A:A)","v":0},{"$f":"IF(B89>0,(IF(C89>D89,VLOOKUP(B89,Árlista!A:I,9,FALSE),\"\")),\"\")","v":""},{"$f":"IF(B89>0,VLOOKUP(B89,Árlista!A:I,7,FALSE),\"\")","v":""}]
[81,null,null,{"$f":"IF(C90>0,IF(C90>VLOOKUP(B90,Árlista!A:I,6,0),VLOOKUP(B90,Árlista!A:I,6,0),C90),\"\")","v":""},{"$f":"IF(B90>0,VLOOKUP(B90,Árlista!A:I,2,FALSE),\"\")","v":""},{"$f":"IF(B90>0,VLOOKUP(B90,Árlista!A:I,5,0),\"\")","v":""},{"$f":"IF(B90,VLOOKUP(B90,Árlista!A:I,3,0),\"\")","v":""},"","",{"$f":"SUMIF(Árlista!A:A,B90,Árlista!A:A)","v":0},{"$f":"IF(B90>0,(IF(C90>D90,VLOOKUP(B90,Árlista!A:I,9,FALSE),\"\")),\"\")","v":""},{"$f":"IF(B90>0,VLOOKUP(B90,Árlista!A:I,7,FALSE),\"\")","v":""}]
[82,null,null,{"$f":"IF(C91>0,IF(C91>VLOOKUP(B91,Árlista!A:I,6,0),VLOOKUP(B91,Árlista!A:I,6,0),C91),\"\")","v":""},{"$f":"IF(B91>0,VLOOKUP(B91,Árlista!A:I,2,FALSE),\"\")","v":""},{"$f":"IF(B91>0,VLOOKUP(B91,Árlista!A:I,5,0),\"\")","v":""},{"$f":"IF(B91,VLOOKUP(B91,Árlista!A:I,3,0),\"\")","v":""},"","",{"$f":"SUMIF(Árlista!A:A,B91,Árlista!A:A)","v":0},{"$f":"IF(B91>0,(IF(C91>D91,VLOOKUP(B91,Árlista!A:I,9,FALSE),\"\")),\"\")","v":""},{"$f":"IF(B91>0,VLOOKUP(B91,Árlista!A:I,7,FALSE),\"\")","v":""}]
[83,null,null,{"$f":"IF(C92>0,IF(C92>VLOOKUP(B92,Árlista!A:I,6,0),VLOOKUP(B92,Árlista!A:I,6,0),C92),\"\")","v":""},{"$f":"IF(B92>0,VLOOKUP(B92,Árlista!A:I,2,FALSE),\"\")","v":""},{"$f":"IF(B92>0,VLOOKUP(B92,Árlista!A:I,5,0),\"\")","v":""},{"$f":"IF(B92,VLOOKUP(B92,Árlista!A:I,3,0),\"\")","v":""},"","",{"$f":"SUMIF(Árlista!A:A,B92,Árlista!A:A)","v":0},{"$f":"IF(B92>0,(IF(C92>D92,VLOOKUP(B92,Árlista!A:I,9,FALSE),\"\")),\"\")","v":""},{"$f":"IF(B92>0,VLOOKUP(B92,Árlista!A:I,7,FALSE),\"\")","v":""}]
[84,null,null,{"$f":"IF(C93>0,IF(C93>VLOOKUP(B93,Árlista!A:I,6,0),VLOOKUP(B93,Árlista!A:I,6,0),C93),\"\")","v":""},{"$f":"IF(B93>0,VLOOKUP(B93,Árlista!A:I,2,FALSE),\"\")","v":""},{"$f":"IF(B93>0,VLOOKUP(B93,Árlista!A:I,5,0),\"\")","v":""},{"$f":"IF(B93,VLOOKUP(B93,Árlista!A:I,3,0),\"\")","v":""},"","",{"$f":"SUMIF(Árlista!A:A,B93,Árlista!A:A)","v":0},{"$f":"IF(B93>0,(IF(C93>D93,VLOOKUP(B93,Árlista!A:I,9,FALSE),\"\")),\"\")","v":""},{"$f":"IF(B93>0,VLOOKUP(B93,Árlista!A:I,7,FALSE),\"\")","v":""}]
[85,null,null,{"$f":"IF(C94>0,IF(C94>VLOOKUP(B94,Árlista!A:I,6,0),VLOOKUP(B94,Árlista!A:I,6,0),C94),\"\")","v":""},{"$f":"IF(B94>0,VLOOKUP(B94,Árlista!A:I,2,FALSE),\"\")","v":""},{"$f":"IF(B94>0,VLOOKUP(B94,Árlista!A:I,5,0),\"\")","v":""},{"$f":"IF(B94,VLOOKUP(B94,Árlista!A:I,3,0),\"\")","v":""},"","",{"$f":"SUMIF(Árlista!A:A,B94,Árlista!A:A)","v":0},{"$f":"IF(B94>0,(IF(C94>D94,VLOOKUP(B94,Árlista!A:I,9,FALSE),\"\")),\"\")","v":""},{"$f":"IF(B94>0,VLOOKUP(B94,Árlista!A:I,7,FALSE),\"\")","v":""}]
[86,null,null,{"$f":"IF(C95>0,IF(C95>VLOOKUP(B95,Árlista!A:I,6,0),VLOOKUP(B95,Árlista!A:I,6,0),C95),\"\")","v":""},{"$f":"IF(B95>0,VLOOKUP(B95,Árlista!A:I,2,FALSE),\"\")","v":""},{"$f":"IF(B95>0,VLOOKUP(B95,Árlista!A:I,5,0),\"\")","v":""},{"$f":"IF(B95,VLOOKUP(B95,Árlista!A:I,3,0),\"\")","v":""},"","",{"$f":"SUMIF(Árlista!A:A,B95,Árlista!A:A)","v":0},{"$f":"IF(B95>0,(IF(C95>D95,VLOOKUP(B95,Árlista!A:I,9,FALSE),\"\")),\"\")","v":""},{"$f":"IF(B95>0,VLOOKUP(B95,Árlista!A:I,7,FALSE),\"\")","v":""}]
[87,null,null,{"$f":"IF(C96>0,IF(C96>VLOOKUP(B96,Árlista!A:I,6,0),VLOOKUP(B96,Árlista!A:I,6,0),C96),\"\")","v":""},{"$f":"IF(B96>0,VLOOKUP(B96,Árlista!A:I,2,FALSE),\"\")","v":""},{"$f":"IF(B96>0,VLOOKUP(B96,Árlista!A:I,5,0),\"\")","v":""},{"$f":"IF(B96,VLOOKUP(B96,Árlista!A:I,3,0),\"\")","v":""},"","",{"$f":"SUMIF(Árlista!A:A,B96,Árlista!A:A)","v":0},{"$f":"IF(B96>0,(IF(C96>D96,VLOOKUP(B96,Árlista!A:I,9,FALSE),\"\")),\"\")","v":""},{"$f":"IF(B96>0,VLOOKUP(B96,Árlista!A:I,7,FALSE),\"\")","v":""}]
[88,null,null,{"$f":"IF(C97>0,IF(C97>VLOOKUP(B97,Árlista!A:I,6,0),VLOOKUP(B97,Árlista!A:I,6,0),C97),\"\")","v":""},{"$f":"IF(B97>0,VLOOKUP(B97,Árlista!A:I,2,FALSE),\"\")","v":""},{"$f":"IF(B97>0,VLOOKUP(B97,Árlista!A:I,5,0),\"\")","v":""},{"$f":"IF(B97,VLOOKUP(B97,Árlista!A:I,3,0),\"\")","v":""},"","",{"$f":"SUMIF(Árlista!A:A,B97,Árlista!A:A)","v":0},{"$f":"IF(B97>0,(IF(C97>D97,VLOOKUP(B97,Árlista!A:I,9,FALSE),\"\")),\"\")","v":""},{"$f":"IF(B97>0,VLOOKUP(B97,Árlista!A:I,7,FALSE),\"\")","v":""}]
[89,null,null,{"$f":"IF(C98>0,IF(C98>VLOOKUP(B98,Árlista!A:I,6,0),VLOOKUP(B98,Árlista!A:I,6,0),C98),\"\")","v":""},{"$f":"IF(B98>0,VLOOKUP(B98,Árlista!A:I,2,FALSE),\"\")","v":""},{"$f":"IF(B98>0,VLOOKUP(B98,Árlista!A:I,5,0),\"\")","v":""},{"$f":"IF(B98,VLOOKUP(B98,Árlista!A:I,3,0),\"\")","v":""},"","",{"$f":"SUMIF(Árlista!A:A,B98,Árlista!A:A)","v":0},{"$f":"IF(B98>0,(IF(C98>D98,VLOOKUP(B98,Árlista!A:I,9,FALSE),\"\")),\"\")","v":""},{"$f":"IF(B98>0,VLOOKUP(B98,Árlista!A:I,7,FALSE),\"\")","v":""}]
[90,null,null,{"$f":"IF(C99>0,IF(C99>VLOOKUP(B99,Árlista!A:I,6,0),VLOOKUP(B99,Árlista!A:I,6,0),C99),\"\")","v":""},{"$f":"IF(B99>0,VLOOKUP(B99,Árlista!A:I,2,FALSE),\"\")","v":""},{"$f":"IF(B99>0,VLOOKUP(B99,Árlista!A:I,5,0),\"\")","v":""},{"$f":"IF(B99,VLOOKUP(B99,Árlista!A:I,3,0),\"\")","v":""},"","",{"$f":"SUMIF(Árlista!A:A,B99,Árlista!A:A)","v":0},{"$f":"IF(B99>0,(IF(C99>D99,VLOOKUP(B99,Árlista!A:I,9,FALSE),\"\")),\"\")","v":""},{"$f":"IF(B99>0,VLOOKUP(B99,Árlista!A:I,7,FALSE),\"\")","v":""}]
[91,null,null,{"$f":"IF(C100>0,IF(C100>VLOOKUP(B100,Árlista!A:I,6,0),VLOOKUP(B100,Árlista!A:I,6,0),C100),\"\")","v":""},{"$f":"IF(B100>0,VLOOKUP(B100,Árlista!A:I,2,FALSE),\"\")","v":""},{"$f":"IF(B100>0,VLOOKUP(B100,Árlista!A:I,5,0),\"\")","v":""},{"$f":"IF(B100,VLOOKUP(B100,Árlista!A:I,3,0),\"\")","v":""},"","",{"$f":"SUMIF(Árlista!A:A,B100,Árlista!A:A)","v":0},{"$f":"IF(B100>0,(IF(C100>D100,VLOOKUP(B100,Árlista!A:I,9,FALSE),\"\")),\"\")","v":""},{"$f":"IF(B100>0,VLOOKUP(B100,Árlista!A:I,7,FALSE),\"\")","v":""}]
[92,null,null,{"$f":"IF(C101>0,IF(C101>VLOOKUP(B101,Árlista!A:I,6,0),VLOOKUP(B101,Árlista!A:I,6,0),C101),\"\")","v":""},{"$f":"IF(B101>0,VLOOKUP(B101,Árlista!A:I,2,FALSE),\"\")","v":""},{"$f":"IF(B101>0,VLOOKUP(B101,Árlista!A:I,5,0),\"\")","v":""},{"$f":"IF(B101,VLOOKUP(B101,Árlista!A:I,3,0),\"\")","v":""},"","",{"$f":"SUMIF(Árlista!A:A,B101,Árlista!A:A)","v":0},{"$f":"IF(B101>0,(IF(C101>D101,VLOOKUP(B101,Árlista!A:I,9,FALSE),\"\")),\"\")","v":""},{"$f":"IF(B101>0,VLOOKUP(B101,Árlista!A:I,7,FALSE),\"\")","v":""}]
[93,null,null,{"$f":"IF(C102>0,IF(C102>VLOOKUP(B102,Árlista!A:I,6,0),VLOOKUP(B102,Árlista!A:I,6,0),C102),\"\")","v":""},{"$f":"IF(B102>0,VLOOKUP(B102,Árlista!A:I,2,FALSE),\"\")","v":""},{"$f":"IF(B102>0,VLOOKUP(B102,Árlista!A:I,5,0),\"\")","v":""},{"$f":"IF(B102,VLOOKUP(B102,Árlista!A:I,3,0),\"\")","v":""},"","",{"$f":"SUMIF(Árlista!A:A,B102,Árlista!A:A)","v":0},{"$f":"IF(B102>0,(IF(C102>D102,VLOOKUP(B102,Árlista!A:I,9,FALSE),\"\")),\"\")","v":""},{"$f":"IF(B102>0,VLOOKUP(B102,Árlista!A:I,7,FALSE),\"\")","v":""}]
[94,null,null,{"$f":"IF(C103>0,IF(C103>VLOOKUP(B103,Árlista!A:I,6,0),VLOOKUP(B103,Árlista!A:I,6,0),C103),\"\")","v":""},{"$f":"IF(B103>0,VLOOKUP(B103,Árlista!A:I,2,FALSE),\"\")","v":""},{"$f":"IF(B103>0,VLOOKUP(B103,Árlista!A:I,5,0),\"\")","v":""},{"$f":"IF(B103,VLOOKUP(B103,Árlista!A:I,3,0),\"\")","v":""},"","",{"$f":"SUMIF(Árlista!A:A,B103,Árlista!A:A)","v":0},{"$f":"IF(B103>0,(IF(C103>D103,VLOOKUP(B103,Árlista!A:I,9,FALSE),\"\")),\"\")","v":""},{"$f":"IF(B103>0,VLOOKUP(B103,Árlista!A:I,7,FALSE),\"\")","v":""}]
[95,null,null,{"$f":"IF(C104>0,IF(C104>VLOOKUP(B104,Árlista!A:I,6,0),VLOOKUP(B104,Árlista!A:I,6,0),C104),\"\")","v":""},{"$f":"IF(B104>0,VLOOKUP(B104,Árlista!A:I,2,FALSE),\"\")","v":""},{"$f":"IF(B104>0,VLOOKUP(B104,Árlista!A:I,5,0),\"\")","v":""},{"$f":"IF(B104,VLOOKUP(B104,Árlista!A:I,3,0),\"\")","v":""},"","",{"$f":"SUMIF(Árlista!A:A,B104,Árlista!A:A)","v":0},{"$f":"IF(B104>0,(IF(C104>D104,VLOOKUP(B104,Árlista!A:I,9,FALSE),\"\")),\"\")","v":""},{"$f":"IF(B104>0,VLOOKUP(B104,Árlista!A:I,7,FALSE),\"\")","v":""}]
[96,null,null,{"$f":"IF(C105>0,IF(C105>VLOOKUP(B105,Árlista!A:I,6,0),VLOOKUP(B105,Árlista!A:I,6,0),C105),\"\")","v":""},{"$f":"IF(B105>0,VLOOKUP(B105,Árlista!A:I,2,FALSE),\"\")","v":""},{"$f":"IF(B105>0,VLOOKUP(B105,Árlista!A:I,5,0),\"\")","v":""},{"$f":"IF(B105,VLOOKUP(B105,Árlista!A:I,3,0),\"\")","v":""},"","",{"$f":"SUMIF(Árlista!A:A,B105,Árlista!A:A)","v":0},{"$f":"IF(B105>0,(IF(C105>D105,VLOOKUP(B105,Árlista!A:I,9,FALSE),\"\")),\"\")","v":""},{"$f":"IF(B105>0,VLOOKUP(B105,Árlista!A:I,7,FALSE),\"\")","v":""}]
[97,null,null,{"$f":"IF(C106>0,IF(C106>VLOOKUP(B106,Árlista!A:I,6,0),VLOOKUP(B106,Árlista!A:I,6,0),C106),\"\")","v":""},{"$f":"IF(B106>0,VLOOKUP(B106,Árlista!A:I,2,FALSE),\"\")","v":""},{"$f":"IF(B106>0,VLOOKUP(B106,Árlista!A:I,5,0),\"\")","v":""},{"$f":"IF(B106,VLOOKUP(B106,Árlista!A:I,3,0),\"\")","v":""},"","",{"$f":"SUMIF(Árlista!A:A,B106,Árlista!A:A)","v":0},{"$f":"IF(B106>0,(IF(C106>D106,VLOOKUP(B106,Árlista!A:I,9,FALSE),\"\")),\"\")","v":""},{"$f":"IF(B106>0,VLOOKUP(B106,Árlista!A:I,7,FALSE),\"\")","v":""}]
[98,null,null,{"$f":"IF(C107>0,IF(C107>VLOOKUP(B107,Árlista!A:I,6,0),VLOOKUP(B107,Árlista!A:I,6,0),C107),\"\")","v":""},{"$f":"IF(B107>0,VLOOKUP(B107,Árlista!A:I,2,FALSE),\"\")","v":""},{"$f":"IF(B107>0,VLOOKUP(B107,Árlista!A:I,5,0),\"\")","v":""},{"$f":"IF(B107,VLOOKUP(B107,Árlista!A:I,3,0),\"\")","v":""},"","",{"$f":"SUMIF(Árlista!A:A,B107,Árlista!A:A)","v":0},{"$f":"IF(B107>0,(IF(C107>D107,VLOOKUP(B107,Árlista!A:I,9,FALSE),\"\")),\"\")","v":""},{"$f":"IF(B107>0,VLOOKUP(B107,Árlista!A:I,7,FALSE),\"\")","v":""}]
[99,null,null,{"$f":"IF(C108>0,IF(C108>VLOOKUP(B108,Árlista!A:I,6,0),VLOOKUP(B108,Árlista!A:I,6,0),C108),\"\")","v":""},{"$f":"IF(B108>0,VLOOKUP(B108,Árlista!A:I,2,FALSE),\"\")","v":""},{"$f":"IF(B108>0,VLOOKUP(B108,Árlista!A:I,5,0),\"\")","v":""},{"$f":"IF(B108,VLOOKUP(B108,Árlista!A:I,3,0),\"\")","v":""},"","",{"$f":"SUMIF(Árlista!A:A,B108,Árlista!A:A)","v":0},{"$f":"IF(B108>0,(IF(C108>D108,VLOOKUP(B108,Árlista!A:I,9,FALSE),\"\")),\"\")","v":""},{"$f":"IF(B108>0,VLOOKUP(B108,Árlista!A:I,7,FALSE),\"\")","v":""}]
[100,null,null,{"$f":"IF(C109>0,IF(C109>VLOOKUP(B109,Árlista!A:I,6,0),VLOOKUP(B109,Árlista!A:I,6,0),C109),\"\")","v":""},{"$f":"IF(B109>0,VLOOKUP(B109,Árlista!A:I,2,FALSE),\"\")","v":""},{"$f":"IF(B109>0,VLOOKUP(B109,Árlista!A:I,5,0),\"\")","v":""},{"$f":"IF(B109,VLOOKUP(B109,Árlista!A:I,3,0),\"\")","v":""},"","",{"$f":"SUMIF(Árlista!A:A,B109,Árlista!A:A)","v":0},{"$f":"IF(B109>0,(IF(C109>D109,VLOOKUP(B109,Árlista!A:I,9,FALSE),\"\")),\"\")","v":""},{"$f":"IF(B109>0,VLOOKUP(B109,Árlista!A:I,7,FALSE),\"\")","v":""}]
[101,null,null,{"$f":"IF(C110>0,IF(C110>VLOOKUP(B110,Árlista!A:I,6,0),VLOOKUP(B110,Árlista!A:I,6,0),C110),\"\")","v":""},{"$f":"IF(B110>0,VLOOKUP(B110,Árlista!A:I,2,FALSE),\"\")","v":""},{"$f":"IF(B110>0,VLOOKUP(B110,Árlista!A:I,5,0),\"\")","v":""},{"$f":"IF(B110,VLOOKUP(B110,Árlista!A:I,3,0),\"\")","v":""},"","",{"$f":"SUMIF(Árlista!A:A,B110,Árlista!A:A)","v":0},{"$f":"IF(B110>0,(IF(C110>D110,VLOOKUP(B110,Árlista!A:I,9,FALSE),\"\")),\"\")","v":""},{"$f":"IF(B110>0,VLOOKUP(B110,Árlista!A:I,7,FALSE),\"\")","v":""}]
[102,null,null,{"$f":"IF(C111>0,IF(C111>VLOOKUP(B111,Árlista!A:I,6,0),VLOOKUP(B111,Árlista!A:I,6,0),C111),\"\")","v":""},{"$f":"IF(B111>0,VLOOKUP(B111,Árlista!A:I,2,FALSE),\"\")","v":""},{"$f":"IF(B111>0,VLOOKUP(B111,Árlista!A:I,5,0),\"\")","v":""},{"$f":"IF(B111,VLOOKUP(B111,Árlista!A:I,3,0),\"\")","v":""},"","",{"$f":"SUMIF(Árlista!A:A,B111,Árlista!A:A)","v":0},{"$f":"IF(B111>0,(IF(C111>D111,VLOOKUP(B111,Árlista!A:I,9,FALSE),\"\")),\"\")","v":""},{"$f":"IF(B111>0,VLOOKUP(B111,Árlista!A:I,7,FALSE),\"\")","v":""}]
[103,null,null,{"$f":"IF(C112>0,IF(C112>VLOOKUP(B112,Árlista!A:I,6,0),VLOOKUP(B112,Árlista!A:I,6,0),C112),\"\")","v":""},{"$f":"IF(B112>0,VLOOKUP(B112,Árlista!A:I,2,FALSE),\"\")","v":""},{"$f":"IF(B112>0,VLOOKUP(B112,Árlista!A:I,5,0),\"\")","v":""},{"$f":"IF(B112,VLOOKUP(B112,Árlista!A:I,3,0),\"\")","v":""},"","",{"$f":"SUMIF(Árlista!A:A,B112,Árlista!A:A)","v":0},{"$f":"IF(B112>0,(IF(C112>D112,VLOOKUP(B112,Árlista!A:I,9,FALSE),\"\")),\"\")","v":""},{"$f":"IF(B112>0,VLOOKUP(B112,Árlista!A:I,7,FALSE),\"\")","v":""}]
[104,null,null,{"$f":"IF(C113>0,IF(C113>VLOOKUP(B113,Árlista!A:I,6,0),VLOOKUP(B113,Árlista!A:I,6,0),C113),\"\")","v":""},{"$f":"IF(B113>0,VLOOKUP(B113,Árlista!A:I,2,FALSE),\"\")","v":""},{"$f":"IF(B113>0,VLOOKUP(B113,Árlista!A:I,5,0),\"\")","v":""},{"$f":"IF(B113,VLOOKUP(B113,Árlista!A:I,3,0),\"\")","v":""},"","",{"$f":"SUMIF(Árlista!A:A,B113,Árlista!A:A)","v":0},{"$f":"IF(B113>0,(IF(C113>D113,VLOOKUP(B113,Árlista!A:I,9,FALSE),\"\")),\"\")","v":""},{"$f":"IF(B113>0,VLOOKUP(B113,Árlista!A:I,7,FALSE),\"\")","v":""}]
[105,null,null,{"$f":"IF(C114>0,IF(C114>VLOOKUP(B114,Árlista!A:I,6,0),VLOOKUP(B114,Árlista!A:I,6,0),C114),\"\")","v":""},{"$f":"IF(B114>0,VLOOKUP(B114,Árlista!A:I,2,FALSE),\"\")","v":""},{"$f":"IF(B114>0,VLOOKUP(B114,Árlista!A:I,5,0),\"\")","v":""},{"$f":"IF(B114,VLOOKUP(B114,Árlista!A:I,3,0),\"\")","v":""},"","",{"$f":"SUMIF(Árlista!A:A,B114,Árlista!A:A)","v":0},{"$f":"IF(B114>0,(IF(C114>D114,VLOOKUP(B114,Árlista!A:I,9,FALSE),\"\")),\"\")","v":""},{"$f":"IF(B114>0,VLOOKUP(B114,Árlista!A:I,7,FALSE),\"\")","v":""}]
[106,null,null,{"$f":"IF(C115>0,IF(C115>VLOOKUP(B115,Árlista!A:I,6,0),VLOOKUP(B115,Árlista!A:I,6,0),C115),\"\")","v":""},{"$f":"IF(B115>0,VLOOKUP(B115,Árlista!A:I,2,FALSE),\"\")","v":""},{"$f":"IF(B115>0,VLOOKUP(B115,Árlista!A:I,5,0),\"\")","v":""},{"$f":"IF(B115,VLOOKUP(B115,Árlista!A:I,3,0),\"\")","v":""},"","",{"$f":"SUMIF(Árlista!A:A,B115,Árlista!A:A)","v":0},{"$f":"IF(B115>0,(IF(C115>D115,VLOOKUP(B115,Árlista!A:I,9,FALSE),\"\")),\"\")","v":""},{"$f":"IF(B115>0,VLOOKUP(B115,Árlista!A:I,7,FALSE),\"\")","v":""}]
[107,null,null,{"$f":"IF(C116>0,IF(C116>VLOOKUP(B116,Árlista!A:I,6,0),VLOOKUP(B116,Árlista!A:I,6,0),C116),\"\")","v":""},{"$f":"IF(B116>0,VLOOKUP(B116,Árlista!A:I,2,FALSE),\"\")","v":""},{"$f":"IF(B116>0,VLOOKUP(B116,Árlista!A:I,5,0),\"\")","v":""},{"$f":"IF(B116,VLOOKUP(B116,Árlista!A:I,3,0),\"\")","v":""},"","",{"$f":"SUMIF(Árlista!A:A,B116,Árlista!A:A)","v":0},{"$f":"IF(B116>0,(IF(C116>D116,VLOOKUP(B116,Árlista!A:I,9,FALSE),\"\")),\"\")","v":""},{"$f":"IF(B116>0,VLOOKUP(B116,Árlista!A:I,7,FALSE),\"\")","v":""}]
[108,null,null,{"$f":"IF(C117>0,IF(C117>VLOOKUP(B117,Árlista!A:I,6,0),VLOOKUP(B117,Árlista!A:I,6,0),C117),\"\")","v":""},{"$f":"IF(B117>0,VLOOKUP(B117,Árlista!A:I,2,FALSE),\"\")","v":""},{"$f":"IF(B117>0,VLOOKUP(B117,Árlista!A:I,5,0),\"\")","v":""},{"$f":"IF(B117,VLOOKUP(B117,Árlista!A:I,3,0),\"\")","v":""},"","",{"$f":"SUMIF(Árlista!A:A,B117,Árlista!A:A)","v":0},{"$f":"IF(B117>0,(IF(C117>D117,VLOOKUP(B117,Árlista!A:I,9,FALSE),\"\")),\"\")","v":""},{"$f":"IF(B117>0,VLOOKUP(B117,Árlista!A:I,7,FALSE),\"\")","v":""}]
[109,null,null,{"$f":"IF(C118>0,IF(C118>VLOOKUP(B118,Árlista!A:I,6,0),VLOOKUP(B118,Árlista!A:I,6,0),C118),\"\")","v":""},{"$f":"IF(B118>0,VLOOKUP(B118,Árlista!A:I,2,FALSE),\"\")","v":""},{"$f":"IF(B118>0,VLOOKUP(B118,Árlista!A:I,5,0),\"\")","v":""},{"$f":"IF(B118,VLOOKUP(B118,Árlista!A:I,3,0),\"\")","v":""},"","",{"$f":"SUMIF(Árlista!A:A,B118,Árlista!A:A)","v":0},{"$f":"IF(B118>0,(IF(C118>D118,VLOOKUP(B118,Árlista!A:I,9,FALSE),\"\")),\"\")","v":""},{"$f":"IF(B118>0,VLOOKUP(B118,Árlista!A:I,7,FALSE),\"\")","v":""}]
[110,null,null,{"$f":"IF(C119>0,IF(C119>VLOOKUP(B119,Árlista!A:I,6,0),VLOOKUP(B119,Árlista!A:I,6,0),C119),\"\")","v":""},{"$f":"IF(B119>0,VLOOKUP(B119,Árlista!A:I,2,FALSE),\"\")","v":""},{"$f":"IF(B119>0,VLOOKUP(B119,Árlista!A:I,5,0),\"\")","v":""},{"$f":"IF(B119,VLOOKUP(B119,Árlista!A:I,3,0),\"\")","v":""},"","",{"$f":"SUMIF(Árlista!A:A,B119,Árlista!A:A)","v":0},{"$f":"IF(B119>0,(IF(C119>D119,VLOOKUP(B119,Árlista!A:I,9,FALSE),\"\")),\"\")","v":""},{"$f":"IF(B119>0,VLOOKUP(B119,Árlista!A:I,7,FALSE),\"\")","v":""}]
[111,null,null,{"$f":"IF(C120>0,IF(C120>VLOOKUP(B120,Árlista!A:I,6,0),VLOOKUP(B120,Árlista!A:I,6,0),C120),\"\")","v":""},{"$f":"IF(B120>0,VLOOKUP(B120,Árlista!A:I,2,FALSE),\"\")","v":""},{"$f":"IF(B120>0,VLOOKUP(B120,Árlista!A:I,5,0),\"\")","v":""},{"$f":"IF(B120,VLOOKUP(B120,Árlista!A:I,3,0),\"\")","v":""},"","",{"$f":"SUMIF(Árlista!A:A,B120,Árlista!A:A)","v":0},{"$f":"IF(B120>0,(IF(C120>D120,VLOOKUP(B120,Árlista!A:I,9,FALSE),\"\")),\"\")","v":""},{"$f":"IF(B120>0,VLOOKUP(B120,Árlista!A:I,7,FALSE),\"\")","v":""}]
[112,null,null,{"$f":"IF(C121>0,IF(C121>VLOOKUP(B121,Árlista!A:I,6,0),VLOOKUP(B121,Árlista!A:I,6,0),C121),\"\")","v":""},{"$f":"IF(B121>0,VLOOKUP(B121,Árlista!A:I,2,FALSE),\"\")","v":""},{"$f":"IF(B121>0,VLOOKUP(B121,Árlista!A:I,5,0),\"\")","v":""},{"$f":"IF(B121,VLOOKUP(B121,Árlista!A:I,3,0),\"\")","v":""},"","",{"$f":"SUMIF(Árlista!A:A,B121,Árlista!A:A)","v":0},{"$f":"IF(B121>0,(IF(C121>D121,VLOOKUP(B121,Árlista!A:I,9,FALSE),\"\")),\"\")","v":""},{"$f":"IF(B121>0,VLOOKUP(B121,Árlista!A:I,7,FALSE),\"\")","v":""}]
[113,null,null,{"$f":"IF(C122>0,IF(C122>VLOOKUP(B122,Árlista!A:I,6,0),VLOOKUP(B122,Árlista!A:I,6,0),C122),\"\")","v":""},{"$f":"IF(B122>0,VLOOKUP(B122,Árlista!A:I,2,FALSE),\"\")","v":""},{"$f":"IF(B122>0,VLOOKUP(B122,Árlista!A:I,5,0),\"\")","v":""},{"$f":"IF(B122,VLOOKUP(B122,Árlista!A:I,3,0),\"\")","v":""},"","",{"$f":"SUMIF(Árlista!A:A,B122,Árlista!A:A)","v":0},{"$f":"IF(B122>0,(IF(C122>D122,VLOOKUP(B122,Árlista!A:I,9,FALSE),\"\")),\"\")","v":""},{"$f":"IF(B122>0,VLOOKUP(B122,Árlista!A:I,7,FALSE),\"\")","v":""}]
[114,null,null,{"$f":"IF(C123>0,IF(C123>VLOOKUP(B123,Árlista!A:I,6,0),VLOOKUP(B123,Árlista!A:I,6,0),C123),\"\")","v":""},{"$f":"IF(B123>0,VLOOKUP(B123,Árlista!A:I,2,FALSE),\"\")","v":""},{"$f":"IF(B123>0,VLOOKUP(B123,Árlista!A:I,5,0),\"\")","v":""},{"$f":"IF(B123,VLOOKUP(B123,Árlista!A:I,3,0),\"\")","v":""},"","",{"$f":"SUMIF(Árlista!A:A,B123,Árlista!A:A)","v":0},{"$f":"IF(B123>0,(IF(C123>D123,VLOOKUP(B123,Árlista!A:I,9,FALSE),\"\")),\"\")","v":""},{"$f":"IF(B123>0,VLOOKUP(B123,Árlista!A:I,7,FALSE),\"\")","v":""}]
[115,null,null,{"$f":"IF(C124>0,IF(C124>VLOOKUP(B124,Árlista!A:I,6,0),VLOOKUP(B124,Árlista!A:I,6,0),C124),\"\")","v":""},{"$f":"IF(B124>0,VLOOKUP(B124,Árlista!A:I,2,FALSE),\"\")","v":""},{"$f":"IF(B124>0,VLOOKUP(B124,Árlista!A:I,5,0),\"\")","v":""},{"$f":"IF(B124,VLOOKUP(B124,Árlista!A:I,3,0),\"\")","v":""},"","",{"$f":"SUMIF(Árlista!A:A,B124,Árlista!A:A)","v":0},{"$f":"IF(B124>0,(IF(C124>D124,VLOOKUP(B124,Árlista!A:I,9,FALSE),\"\")),\"\")","v":""},{"$f":"IF(B124>0,VLOOKUP(B124,Árlista!A:I,7,FALSE),\"\")","v":""}]
[116,null,null,{"$f":"IF(C125>0,IF(C125>VLOOKUP(B125,Árlista!A:I,6,0),VLOOKUP(B125,Árlista!A:I,6,0),C125),\"\")","v":""},{"$f":"IF(B125>0,VLOOKUP(B125,Árlista!A:I,2,FALSE),\"\")","v":""},{"$f":"IF(B125>0,VLOOKUP(B125,Árlista!A:I,5,0),\"\")","v":""},{"$f":"IF(B125,VLOOKUP(B125,Árlista!A:I,3,0),\"\")","v":""},"","",{"$f":"SUMIF(Árlista!A:A,B125,Árlista!A:A)","v":0},{"$f":"IF(B125>0,(IF(C125>D125,VLOOKUP(B125,Árlista!A:I,9,FALSE),\"\")),\"\")","v":""},{"$f":"IF(B125>0,VLOOKUP(B125,Árlista!A:I,7,FALSE),\"\")","v":""}]
[117,null,null,{"$f":"IF(C126>0,IF(C126>VLOOKUP(B126,Árlista!A:I,6,0),VLOOKUP(B126,Árlista!A:I,6,0),C126),\"\")","v":""},{"$f":"IF(B126>0,VLOOKUP(B126,Árlista!A:I,2,FALSE),\"\")","v":""},{"$f":"IF(B126>0,VLOOKUP(B126,Árlista!A:I,5,0),\"\")","v":""},{"$f":"IF(B126,VLOOKUP(B126,Árlista!A:I,3,0),\"\")","v":""},"","",{"$f":"SUMIF(Árlista!A:A,B126,Árlista!A:A)","v":0},{"$f":"IF(B126>0,(IF(C126>D126,VLOOKUP(B126,Árlista!A:I,9,FALSE),\"\")),\"\")","v":""},{"$f":"IF(B126>0,VLOOKUP(B126,Árlista!A:I,7,FALSE),\"\")","v":""}]
[118,null,null,{"$f":"IF(C127>0,IF(C127>VLOOKUP(B127,Árlista!A:I,6,0),VLOOKUP(B127,Árlista!A:I,6,0),C127),\"\")","v":""},{"$f":"IF(B127>0,VLOOKUP(B127,Árlista!A:I,2,FALSE),\"\")","v":""},{"$f":"IF(B127>0,VLOOKUP(B127,Árlista!A:I,5,0),\"\")","v":""},{"$f":"IF(B127,VLOOKUP(B127,Árlista!A:I,3,0),\"\")","v":""},"","",{"$f":"SUMIF(Árlista!A:A,B127,Árlista!A:A)","v":0},{"$f":"IF(B127>0,(IF(C127>D127,VLOOKUP(B127,Árlista!A:I,9,FALSE),\"\")),\"\")","v":""},{"$f":"IF(B127>0,VLOOKUP(B127,Árlista!A:I,7,FALSE),\"\")","v":""}]
[119,null,null,{"$f":"IF(C128>0,IF(C128>VLOOKUP(B128,Árlista!A:I,6,0),VLOOKUP(B128,Árlista!A:I,6,0),C128),\"\")","v":""},{"$f":"IF(B128>0,VLOOKUP(B128,Árlista!A:I,2,FALSE),\"\")","v":""},{"$f":"IF(B128>0,VLOOKUP(B128,Árlista!A:I,5,0),\"\")","v":""},{"$f":"IF(B128,VLOOKUP(B128,Árlista!A:I,3,0),\"\")","v":""},"","",{"$f":"SUMIF(Árlista!A:A,B128,Árlista!A:A)","v":0},{"$f":"IF(B128>0,(IF(C128>D128,VLOOKUP(B128,Árlista!A:I,9,FALSE),\"\")),\"\")","v":""},{"$f":"IF(B128>0,VLOOKUP(B128,Árlista!A:I,7,FALSE),\"\")","v":""}]
[120,null,null,{"$f":"IF(C129>0,IF(C129>VLOOKUP(B129,Árlista!A:I,6,0),VLOOKUP(B129,Árlista!A:I,6,0),C129),\"\")","v":""},{"$f":"IF(B129>0,VLOOKUP(B129,Árlista!A:I,2,FALSE),\"\")","v":""},{"$f":"IF(B129>0,VLOOKUP(B129,Árlista!A:I,5,0),\"\")","v":""},{"$f":"IF(B129,VLOOKUP(B129,Árlista!A:I,3,0),\"\")","v":""},"","",{"$f":"SUMIF(Árlista!A:A,B129,Árlista!A:A)","v":0},{"$f":"IF(B129>0,(IF(C129>D129,VLOOKUP(B129,Árlista!A:I,9,FALSE),\"\")),\"\")","v":""},{"$f":"IF(B129>0,VLOOKUP(B129,Árlista!A:I,7,FALSE),\"\")","v":""}]
[121,null,null,{"$f":"IF(C130>0,IF(C130>VLOOKUP(B130,Árlista!A:I,6,0),VLOOKUP(B130,Árlista!A:I,6,0),C130),\"\")","v":""},{"$f":"IF(B130>0,VLOOKUP(B130,Árlista!A:I,2,FALSE),\"\")","v":""},{"$f":"IF(B130>0,VLOOKUP(B130,Árlista!A:I,5,0),\"\")","v":""},{"$f":"IF(B130,VLOOKUP(B130,Árlista!A:I,3,0),\"\")","v":""},"","",{"$f":"SUMIF(Árlista!A:A,B130,Árlista!A:A)","v":0},{"$f":"IF(B130>0,(IF(C130>D130,VLOOKUP(B130,Árlista!A:I,9,FALSE),\"\")),\"\")","v":""},{"$f":"IF(B130>0,VLOOKUP(B130,Árlista!A:I,7,FALSE),\"\")","v":""}]
[122,null,null,{"$f":"IF(C131>0,IF(C131>VLOOKUP(B131,Árlista!A:I,6,0),VLOOKUP(B131,Árlista!A:I,6,0),C131),\"\")","v":""},{"$f":"IF(B131>0,VLOOKUP(B131,Árlista!A:I,2,FALSE),\"\")","v":""},{"$f":"IF(B131>0,VLOOKUP(B131,Árlista!A:I,5,0),\"\")","v":""},{"$f":"IF(B131,VLOOKUP(B131,Árlista!A:I,3,0),\"\")","v":""},"","",{"$f":"SUMIF(Árlista!A:A,B131,Árlista!A:A)","v":0},{"$f":"IF(B131>0,(IF(C131>D131,VLOOKUP(B131,Árlista!A:I,9,FALSE),\"\")),\"\")","v":""},{"$f":"IF(B131>0,VLOOKUP(B131,Árlista!A:I,7,FALSE),\"\")","v":""}]
[123,null,null,{"$f":"IF(C132>0,IF(C132>VLOOKUP(B132,Árlista!A:I,6,0),VLOOKUP(B132,Árlista!A:I,6,0),C132),\"\")","v":""},{"$f":"IF(B132>0,VLOOKUP(B132,Árlista!A:I,2,FALSE),\"\")","v":""},{"$f":"IF(B132>0,VLOOKUP(B132,Árlista!A:I,5,0),\"\")","v":""},{"$f":"IF(B132,VLOOKUP(B132,Árlista!A:I,3,0),\"\")","v":""},"","",{"$f":"SUMIF(Árlista!A:A,B132,Árlista!A:A)","v":0},{"$f":"IF(B132>0,(IF(C132>D132,VLOOKUP(B132,Árlista!A:I,9,FALSE),\"\")),\"\")","v":""},{"$f":"IF(B132>0,VLOOKUP(B132,Árlista!A:I,7,FALSE),\"\")","v":""}]
[124,null,null,{"$f":"IF(C133>0,IF(C133>VLOOKUP(B133,Árlista!A:I,6,0),VLOOKUP(B133,Árlista!A:I,6,0),C133),\"\")","v":""},{"$f":"IF(B133>0,VLOOKUP(B133,Árlista!A:I,2,FALSE),\"\")","v":""},{"$f":"IF(B133>0,VLOOKUP(B133,Árlista!A:I,5,0),\"\")","v":""},{"$f":"IF(B133,VLOOKUP(B133,Árlista!A:I,3,0),\"\")","v":""},"","",{"$f":"SUMIF(Árlista!A:A,B133,Árlista!A:A)","v":0},{"$f":"IF(B133>0,(IF(C133>D133,VLOOKUP(B133,Árlista!A:I,9,FALSE),\"\")),\"\")","v":""},{"$f":"IF(B133>0,VLOOKUP(B133,Árlista!A:I,7,FALSE),\"\")","v":""}]
[125,null,null,{"$f":"IF(C134>0,IF(C134>VLOOKUP(B134,Árlista!A:I,6,0),VLOOKUP(B134,Árlista!A:I,6,0),C134),\"\")","v":""},{"$f":"IF(B134>0,VLOOKUP(B134,Árlista!A:I,2,FALSE),\"\")","v":""},{"$f":"IF(B134>0,VLOOKUP(B134,Árlista!A:I,5,0),\"\")","v":""},{"$f":"IF(B134,VLOOKUP(B134,Árlista!A:I,3,0),\"\")","v":""},"","",{"$f":"SUMIF(Árlista!A:A,B134,Árlista!A:A)","v":0},{"$f":"IF(B134>0,(IF(C134>D134,VLOOKUP(B134,Árlista!A:I,9,FALSE),\"\")),\"\")","v":""},{"$f":"IF(B134>0,VLOOKUP(B134,Árlista!A:I,7,FALSE),\"\")","v":""}]
[126,null,null,{"$f":"IF(C135>0,IF(C135>VLOOKUP(B135,Árlista!A:I,6,0),VLOOKUP(B135,Árlista!A:I,6,0),C135),\"\")","v":""},{"$f":"IF(B135>0,VLOOKUP(B135,Árlista!A:I,2,FALSE),\"\")","v":""},{"$f":"IF(B135>0,VLOOKUP(B135,Árlista!A:I,5,0),\"\")","v":""},{"$f":"IF(B135,VLOOKUP(B135,Árlista!A:I,3,0),\"\")","v":""},"","",{"$f":"SUMIF(Árlista!A:A,B135,Árlista!A:A)","v":0},{"$f":"IF(B135>0,(IF(C135>D135,VLOOKUP(B135,Árlista!A:I,9,FALSE),\"\")),\"\")","v":""},{"$f":"IF(B135>0,VLOOKUP(B135,Árlista!A:I,7,FALSE),\"\")","v":""}]
[127,null,null,{"$f":"IF(C136>0,IF(C136>VLOOKUP(B136,Árlista!A:I,6,0),VLOOKUP(B136,Árlista!A:I,6,0),C136),\"\")","v":""},{"$f":"IF(B136>0,VLOOKUP(B136,Árlista!A:I,2,FALSE),\"\")","v":""},{"$f":"IF(B136>0,VLOOKUP(B136,Árlista!A:I,5,0),\"\")","v":""},{"$f":"IF(B136,VLOOKUP(B136,Árlista!A:I,3,0),\"\")","v":""},"","",{"$f":"SUMIF(Árlista!A:A,B136,Árlista!A:A)","v":0},{"$f":"IF(B136>0,(IF(C136>D136,VLOOKUP(B136,Árlista!A:I,9,FALSE),\"\")),\"\")","v":""},{"$f":"IF(B136>0,VLOOKUP(B136,Árlista!A:I,7,FALSE),\"\")","v":""}]
[128,null,null,{"$f":"IF(C137>0,IF(C137>VLOOKUP(B137,Árlista!A:I,6,0),VLOOKUP(B137,Árlista!A:I,6,0),C137),\"\")","v":""},{"$f":"IF(B137>0,VLOOKUP(B137,Árlista!A:I,2,FALSE),\"\")","v":""},{"$f":"IF(B137>0,VLOOKUP(B137,Árlista!A:I,5,0),\"\")","v":""},{"$f":"IF(B137,VLOOKUP(B137,Árlista!A:I,3,0),\"\")","v":""},"","",{"$f":"SUMIF(Árlista!A:A,B137,Árlista!A:A)","v":0},{"$f":"IF(B137>0,(IF(C137>D137,VLOOKUP(B137,Árlista!A:I,9,FALSE),\"\")),\"\")","v":""},{"$f":"IF(B137>0,VLOOKUP(B137,Árlista!A:I,7,FALSE),\"\")","v":""}]
[129,null,null,{"$f":"IF(C138>0,IF(C138>VLOOKUP(B138,Árlista!A:I,6,0),VLOOKUP(B138,Árlista!A:I,6,0),C138),\"\")","v":""},{"$f":"IF(B138>0,VLOOKUP(B138,Árlista!A:I,2,FALSE),\"\")","v":""},{"$f":"IF(B138>0,VLOOKUP(B138,Árlista!A:I,5,0),\"\")","v":""},{"$f":"IF(B138,VLOOKUP(B138,Árlista!A:I,3,0),\"\")","v":""},"",{"$f":"IF(J138>0,IF(B138>0,D138*H138,\"\"),\"\")","v":""},{"$f":"SUMIF(Árlista!A:A,B138,Árlista!A:A)","v":0},{"$f":"IF(B138>0,(IF(C138>D138,VLOOKUP(B138,Árlista!A:I,9,FALSE),\"\")),\"\")","v":""},{"$f":"IF(B138>0,VLOOKUP(B138,Árlista!A:I,7,FALSE),\"\")","v":""}]
[130,null,null,{"$f":"IF(C139>0,IF(C139>VLOOKUP(B139,Árlista!A:I,6,0),VLOOKUP(B139,Árlista!A:I,6,0),C139),\"\")","v":""},{"$f":"IF(B139>0,VLOOKUP(B139,Árlista!A:I,2,FALSE),\"\")","v":""},{"$f":"IF(B139>0,VLOOKUP(B139,Árlista!A:I,5,0),\"\")","v":""},{"$f":"IF(B139,VLOOKUP(B139,Árlista!A:I,3,0),\"\")","v":""},{"$f":"IF(B139>0,G139*(1-$G$1),\"\")","v":""},"",{"$f":"SUMIF(Árlista!A:A,B139,Árlista!A:A)","v":0},{"$f":"IF(B139>0,(IF(C139>D139,VLOOKUP(B139,Árlista!A:I,9,FALSE),\"\")),\"\")","v":""},{"$f":"IF(B139>0,VLOOKUP(B139,Árlista!A:I,7,FALSE),\"\")","v":""}]
[131,null,null,{"$f":"IF(C140>0,IF(C140>VLOOKUP(B140,Árlista!A:I,6,0),VLOOKUP(B140,Árlista!A:I,6,0),C140),\"\")","v":""},{"$f":"IF(B140>0,VLOOKUP(B140,Árlista!A:I,2,FALSE),\"\")","v":""},{"$f":"IF(B140>0,VLOOKUP(B140,Árlista!A:I,5,0),\"\")","v":""},{"$f":"IF(B140,VLOOKUP(B140,Árlista!A:I,3,0),\"\")","v":""},"","",{"$f":"SUMIF(Árlista!A:A,B140,Árlista!A:A)","v":0},{"$f":"IF(B140>0,(IF(C140>D140,VLOOKUP(B140,Árlista!A:I,9,FALSE),\"\")),\"\")","v":""},{"$f":"IF(B140>0,VLOOKUP(B140,Árlista!A:I,7,FALSE),\"\")","v":""}]
[132,null,null,{"$f":"IF(C141>0,IF(C141>VLOOKUP(B141,Árlista!A:I,6,0),VLOOKUP(B141,Árlista!A:I,6,0),C141),\"\")","v":""},{"$f":"IF(B141>0,VLOOKUP(B141,Árlista!A:I,2,FALSE),\"\")","v":""},{"$f":"IF(B141>0,VLOOKUP(B141,Árlista!A:I,5,0),\"\")","v":""},{"$f":"IF(B141,VLOOKUP(B141,Árlista!A:I,3,0),\"\")","v":""},"","",{"$f":"SUMIF(Árlista!A:A,B141,Árlista!A:A)","v":0},{"$f":"IF(B141>0,(IF(C141>D141,VLOOKUP(B141,Árlista!A:I,9,FALSE),\"\")),\"\")","v":""},{"$f":"IF(B141>0,VLOOKUP(B141,Árlista!A:I,7,FALSE),\"\")","v":""}]
[133,null,null,{"$f":"IF(C142>0,IF(C142>VLOOKUP(B142,Árlista!A:I,6,0),VLOOKUP(B142,Árlista!A:I,6,0),C142),\"\")","v":""},{"$f":"IF(B142>0,VLOOKUP(B142,Árlista!A:I,2,FALSE),\"\")","v":""},{"$f":"IF(B142>0,VLOOKUP(B142,Árlista!A:I,5,0),\"\")","v":""},{"$f":"IF(B142,VLOOKUP(B142,Árlista!A:I,3,0),\"\")","v":""},"","",{"$f":"SUMIF(Árlista!A:A,B142,Árlista!A:A)","v":0},{"$f":"IF(B142>0,(IF(C142>D142,VLOOKUP(B142,Árlista!A:I,9,FALSE),\"\")),\"\")","v":""},{"$f":"IF(B142>0,VLOOKUP(B142,Árlista!A:I,7,FALSE),\"\")","v":""}]
[134,null,null,{"$f":"IF(C143>0,IF(C143>VLOOKUP(B143,Árlista!A:I,6,0),VLOOKUP(B143,Árlista!A:I,6,0),C143),\"\")","v":""},{"$f":"IF(B143>0,VLOOKUP(B143,Árlista!A:I,2,FALSE),\"\")","v":""},{"$f":"IF(B143>0,VLOOKUP(B143,Árlista!A:I,5,0),\"\")","v":""},{"$f":"IF(B143,VLOOKUP(B143,Árlista!A:I,3,0),\"\")","v":""},"","",{"$f":"SUMIF(Árlista!A:A,B143,Árlista!A:A)","v":0},{"$f":"IF(B143>0,(IF(C143>D143,VLOOKUP(B143,Árlista!A:I,9,FALSE),\"\")),\"\")","v":""},{"$f":"IF(B143>0,VLOOKUP(B143,Árlista!A:I,7,FALSE),\"\")","v":""}]
[135,null,null,{"$f":"IF(C144>0,IF(C144>VLOOKUP(B144,Árlista!A:I,6,0),VLOOKUP(B144,Árlista!A:I,6,0),C144),\"\")","v":""},{"$f":"IF(B144>0,VLOOKUP(B144,Árlista!A:I,2,FALSE),\"\")","v":""},{"$f":"IF(B144>0,VLOOKUP(B144,Árlista!A:I,5,0),\"\")","v":""},{"$f":"IF(B144,VLOOKUP(B144,Árlista!A:I,3,0),\"\")","v":""},"","",{"$f":"SUMIF(Árlista!A:A,B144,Árlista!A:A)","v":0},{"$f":"IF(B144>0,(IF(C144>D144,VLOOKUP(B144,Árlista!A:I,9,FALSE),\"\")),\"\")","v":""},{"$f":"IF(B144>0,VLOOKUP(B144,Árlista!A:I,7,FALSE),\"\")","v":""}]
[136,null,null,{"$f":"IF(C145>0,IF(C145>VLOOKUP(B145,Árlista!A:I,6,0),VLOOKUP(B145,Árlista!A:I,6,0),C145),\"\")","v":""},{"$f":"IF(B145>0,VLOOKUP(B145,Árlista!A:I,2,FALSE),\"\")","v":""},{"$f":"IF(B145>0,VLOOKUP(B145,Árlista!A:I,5,0),\"\")","v":""},{"$f":"IF(B145,VLOOKUP(B145,Árlista!A:I,3,0),\"\")","v":""},"","",{"$f":"SUMIF(Árlista!A:A,B145,Árlista!A:A)","v":0},{"$f":"IF(B145>0,(IF(C145>D145,VLOOKUP(B145,Árlista!A:I,9,FALSE),\"\")),\"\")","v":""},{"$f":"IF(B145>0,VLOOKUP(B145,Árlista!A:I,7,FALSE),\"\")","v":""}]
[137,null,null,{"$f":"IF(C146>0,IF(C146>VLOOKUP(B146,Árlista!A:I,6,0),VLOOKUP(B146,Árlista!A:I,6,0),C146),\"\")","v":""},{"$f":"IF(B146>0,VLOOKUP(B146,Árlista!A:I,2,FALSE),\"\")","v":""},{"$f":"IF(B146>0,VLOOKUP(B146,Árlista!A:I,5,0),\"\")","v":""},{"$f":"IF(B146,VLOOKUP(B146,Árlista!A:I,3,0),\"\")","v":""},"","",{"$f":"SUMIF(Árlista!A:A,B146,Árlista!A:A)","v":0},{"$f":"IF(B146>0,(IF(C146>D146,VLOOKUP(B146,Árlista!A:I,9,FALSE),\"\")),\"\")","v":""},{"$f":"IF(B146>0,VLOOKUP(B146,Árlista!A:I,7,FALSE),\"\")","v":""}]
[138,null,null,{"$f":"IF(C147>0,IF(C147>VLOOKUP(B147,Árlista!A:I,6,0),VLOOKUP(B147,Árlista!A:I,6,0),C147),\"\")","v":""},{"$f":"IF(B147>0,VLOOKUP(B147,Árlista!A:I,2,FALSE),\"\")","v":""},{"$f":"IF(B147>0,VLOOKUP(B147,Árlista!A:I,5,0),\"\")","v":""},{"$f":"IF(B147,VLOOKUP(B147,Árlista!A:I,3,0),\"\")","v":""},"","",{"$f":"SUMIF(Árlista!A:A,B147,Árlista!A:A)","v":0},{"$f":"IF(B147>0,(IF(C147>D147,VLOOKUP(B147,Árlista!A:I,9,FALSE),\"\")),\"\")","v":""},{"$f":"IF(B147>0,VLOOKUP(B147,Árlista!A:I,7,FALSE),\"\")","v":""}]
[139,null,null,{"$f":"IF(C148>0,IF(C148>VLOOKUP(B148,Árlista!A:I,6,0),VLOOKUP(B148,Árlista!A:I,6,0),C148),\"\")","v":""},{"$f":"IF(B148>0,VLOOKUP(B148,Árlista!A:I,2,FALSE),\"\")","v":""},{"$f":"IF(B148>0,VLOOKUP(B148,Árlista!A:I,5,0),\"\")","v":""},{"$f":"IF(B148,VLOOKUP(B148,Árlista!A:I,3,0),\"\")","v":""},"","",{"$f":"SUMIF(Árlista!A:A,B148,Árlista!A:A)","v":0},{"$f":"IF(B148>0,(IF(C148>D148,VLOOKUP(B148,Árlista!A:I,9,FALSE),\"\")),\"\")","v":""},{"$f":"IF(B148>0,VLOOKUP(B148,Árlista!A:I,7,FALSE),\"\")","v":""}]
[140,null,null,{"$f":"IF(C149>0,IF(C149>VLOOKUP(B149,Árlista!A:I,6,0),VLOOKUP(B149,Árlista!A:I,6,0),C149),\"\")","v":""},{"$f":"IF(B149>0,VLOOKUP(B149,Árlista!A:I,2,FALSE),\"\")","v":""},{"$f":"IF(B149>0,VLOOKUP(B149,Árlista!A:I,5,0),\"\")","v":""},{"$f":"IF(B149,VLOOKUP(B149,Árlista!A:I,3,0),\"\")","v":""},"","",{"$f":"SUMIF(Árlista!A:A,B149,Árlista!A:A)","v":0},{"$f":"IF(B149>0,(IF(C149>D149,VLOOKUP(B149,Árlista!A:I,9,FALSE),\"\")),\"\")","v":""},{"$f":"IF(B149>0,VLOOKUP(B149,Árlista!A:I,7,FALSE),\"\")","v":""}]
[141,null,null,{"$f":"IF(C150>0,IF(C150>VLOOKUP(B150,Árlista!A:I,6,0),VLOOKUP(B150,Árlista!A:I,6,0),C150),\"\")","v":""},{"$f":"IF(B150>0,VLOOKUP(B150,Árlista!A:I,2,FALSE),\"\")","v":""},{"$f":"IF(B150>0,VLOOKUP(B150,Árlista!A:I,5,0),\"\")","v":""},{"$f":"IF(B150,VLOOKUP(B150,Árlista!A:I,3,0),\"\")","v":""},"","",{"$f":"SUMIF(Árlista!A:A,B150,Árlista!A:A)","v":0},{"$f":"IF(B150>0,(IF(C150>D150,VLOOKUP(B150,Árlista!A:I,9,FALSE),\"\")),\"\")","v":""},{"$f":"IF(B150>0,VLOOKUP(B150,Árlista!A:I,7,FALSE),\"\")","v":""}]
[142,null,null,{"$f":"IF(C151>0,IF(C151>VLOOKUP(B151,Árlista!A:I,6,0),VLOOKUP(B151,Árlista!A:I,6,0),C151),\"\")","v":""},{"$f":"IF(B151>0,VLOOKUP(B151,Árlista!A:I,2,FALSE),\"\")","v":""},{"$f":"IF(B151>0,VLOOKUP(B151,Árlista!A:I,5,0),\"\")","v":""},{"$f":"IF(B151,VLOOKUP(B151,Árlista!A:I,3,0),\"\")","v":""},"","",{"$f":"SUMIF(Árlista!A:A,B151,Árlista!A:A)","v":0},{"$f":"IF(B151>0,(IF(C151>D151,VLOOKUP(B151,Árlista!A:I,9,FALSE),\"\")),\"\")","v":""},{"$f":"IF(B151>0,VLOOKUP(B151,Árlista!A:I,7,FALSE),\"\")","v":""}]
[143,null,null,{"$f":"IF(C152>0,IF(C152>VLOOKUP(B152,Árlista!A:I,6,0),VLOOKUP(B152,Árlista!A:I,6,0),C152),\"\")","v":""},{"$f":"IF(B152>0,VLOOKUP(B152,Árlista!A:I,2,FALSE),\"\")","v":""},{"$f":"IF(B152>0,VLOOKUP(B152,Árlista!A:I,5,0),\"\")","v":""},{"$f":"IF(B152,VLOOKUP(B152,Árlista!A:I,3,0),\"\")","v":""},"","",{"$f":"SUMIF(Árlista!A:A,B152,Árlista!A:A)","v":0},{"$f":"IF(B152>0,(IF(C152>D152,VLOOKUP(B152,Árlista!A:I,9,FALSE),\"\")),\"\")","v":""},{"$f":"IF(B152>0,VLOOKUP(B152,Árlista!A:I,7,FALSE),\"\")","v":""}]
[144,null,null,{"$f":"IF(C153>0,IF(C153>VLOOKUP(B153,Árlista!A:I,6,0),VLOOKUP(B153,Árlista!A:I,6,0),C153),\"\")","v":""},{"$f":"IF(B153>0,VLOOKUP(B153,Árlista!A:I,2,FALSE),\"\")","v":""},{"$f":"IF(B153>0,VLOOKUP(B153,Árlista!A:I,5,0),\"\")","v":""},{"$f":"IF(B153,VLOOKUP(B153,Árlista!A:I,3,0),\"\")","v":""},"","",{"$f":"SUMIF(Árlista!A:A,B153,Árlista!A:A)","v":0},{"$f":"IF(B153>0,(IF(C153>D153,VLOOKUP(B153,Árlista!A:I,9,FALSE),\"\")),\"\")","v":""},{"$f":"IF(B153>0,VLOOKUP(B153,Árlista!A:I,7,FALSE),\"\")","v":""}]
[145,null,null,{"$f":"IF(C154>0,IF(C154>VLOOKUP(B154,Árlista!A:I,6,0),VLOOKUP(B154,Árlista!A:I,6,0),C154),\"\")","v":""},{"$f":"IF(B154>0,VLOOKUP(B154,Árlista!A:I,2,FALSE),\"\")","v":""},{"$f":"IF(B154>0,VLOOKUP(B154,Árlista!A:I,5,0),\"\")","v":""},{"$f":"IF(B154,VLOOKUP(B154,Árlista!A:I,3,0),\"\")","v":""},"","",{"$f":"SUMIF(Árlista!A:A,B154,Árlista!A:A)","v":0},{"$f":"IF(B154>0,(IF(C154>D154,VLOOKUP(B154,Árlista!A:I,9,FALSE),\"\")),\"\")","v":""},{"$f":"IF(B154>0,VLOOKUP(B154,Árlista!A:I,7,FALSE),\"\")","v":""}]
[146,null,null,{"$f":"IF(C155>0,IF(C155>VLOOKUP(B155,Árlista!A:I,6,0),VLOOKUP(B155,Árlista!A:I,6,0),C155),\"\")","v":""},{"$f":"IF(B155>0,VLOOKUP(B155,Árlista!A:I,2,FALSE),\"\")","v":""},{"$f":"IF(B155>0,VLOOKUP(B155,Árlista!A:I,5,0),\"\")","v":""},{"$f":"IF(B155,VLOOKUP(B155,Árlista!A:I,3,0),\"\")","v":""},"","",{"$f":"SUMIF(Árlista!A:A,B155,Árlista!A:A)","v":0},{"$f":"IF(B155>0,(IF(C155>D155,VLOOKUP(B155,Árlista!A:I,9,FALSE),\"\")),\"\")","v":""},{"$f":"IF(B155>0,VLOOKUP(B155,Árlista!A:I,7,FALSE),\"\")","v":""}]
[147,null,null,{"$f":"IF(C156>0,IF(C156>VLOOKUP(B156,Árlista!A:I,6,0),VLOOKUP(B156,Árlista!A:I,6,0),C156),\"\")","v":""},{"$f":"IF(B156>0,VLOOKUP(B156,Árlista!A:I,2,FALSE),\"\")","v":""},{"$f":"IF(B156>0,VLOOKUP(B156,Árlista!A:I,5,0),\"\")","v":""},{"$f":"IF(B156,VLOOKUP(B156,Árlista!A:I,3,0),\"\")","v":""},"","",{"$f":"SUMIF(Árlista!A:A,B156,Árlista!A:A)","v":0},{"$f":"IF(B156>0,(IF(C156>D156,VLOOKUP(B156,Árlista!A:I,9,FALSE),\"\")),\"\")","v":""},{"$f":"IF(B156>0,VLOOKUP(B156,Árlista!A:I,7,FALSE),\"\")","v":""}]
[148,null,null,{"$f":"IF(C157>0,IF(C157>VLOOKUP(B157,Árlista!A:I,6,0),VLOOKUP(B157,Árlista!A:I,6,0),C157),\"\")","v":""},{"$f":"IF(B157>0,VLOOKUP(B157,Árlista!A:I,2,FALSE),\"\")","v":""},{"$f":"IF(B157>0,VLOOKUP(B157,Árlista!A:I,5,0),\"\")","v":""},{"$f":"IF(B157,VLOOKUP(B157,Árlista!A:I,3,0),\"\")","v":""},"","",{"$f":"SUMIF(Árlista!A:A,B157,Árlista!A:A)","v":0},{"$f":"IF(B157>0,(IF(C157>D157,VLOOKUP(B157,Árlista!A:I,9,FALSE),\"\")),\"\")","v":""},{"$f":"IF(B157>0,VLOOKUP(B157,Árlista!A:I,7,FALSE),\"\")","v":""}]
[149,null,null,{"$f":"IF(C158>0,IF(C158>VLOOKUP(B158,Árlista!A:I,6,0),VLOOKUP(B158,Árlista!A:I,6,0),C158),\"\")","v":""},{"$f":"IF(B158>0,VLOOKUP(B158,Árlista!A:I,2,FALSE),\"\")","v":""},{"$f":"IF(B158>0,VLOOKUP(B158,Árlista!A:I,5,0),\"\")","v":""},{"$f":"IF(B158,VLOOKUP(B158,Árlista!A:I,3,0),\"\")","v":""},"","",{"$f":"SUMIF(Árlista!A:A,B158,Árlista!A:A)","v":0},{"$f":"IF(B158>0,(IF(C158>D158,VLOOKUP(B158,Árlista!A:I,9,FALSE),\"\")),\"\")","v":""},{"$f":"IF(B158>0,VLOOKUP(B158,Árlista!A:I,7,FALSE),\"\")","v":""}]
[150,null,null,{"$f":"IF(C159>0,IF(C159>VLOOKUP(B159,Árlista!A:I,6,0),VLOOKUP(B159,Árlista!A:I,6,0),C159),\"\")","v":""},{"$f":"IF(B159>0,VLOOKUP(B159,Árlista!A:I,2,FALSE),\"\")","v":""},{"$f":"IF(B159>0,VLOOKUP(B159,Árlista!A:I,5,0),\"\")","v":""},{"$f":"IF(B159,VLOOKUP(B159,Árlista!A:I,3,0),\"\")","v":""},"","",{"$f":"SUMIF(Árlista!A:A,B159,Árlista!A:A)","v":0},{"$f":"IF(B159>0,(IF(C159>D159,VLOOKUP(B159,Árlista!A:I,9,FALSE),\"\")),\"\")","v":""},{"$f":"IF(B159>0,VLOOKUP(B159,Árlista!A:I,7,FALSE),\"\")","v":""}]
[151,null,null,{"$f":"IF(C160>0,IF(C160>VLOOKUP(B160,Árlista!A:I,6,0),VLOOKUP(B160,Árlista!A:I,6,0),C160),\"\")","v":""},{"$f":"IF(B160>0,VLOOKUP(B160,Árlista!A:I,2,FALSE),\"\")","v":""},{"$f":"IF(B160>0,VLOOKUP(B160,Árlista!A:I,5,0),\"\")","v":""},{"$f":"IF(B160,VLOOKUP(B160,Árlista!A:I,3,0),\"\")","v":""},"","",{"$f":"SUMIF(Árlista!A:A,B160,Árlista!A:A)","v":0},{"$f":"IF(B160>0,(IF(C160>D160,VLOOKUP(B160,Árlista!A:I,9,FALSE),\"\")),\"\")","v":""},{"$f":"IF(B160>0,VLOOKUP(B160,Árlista!A:I,7,FALSE),\"\")","v":""}]
[152,null,null,{"$f":"IF(C161>0,IF(C161>VLOOKUP(B161,Árlista!A:I,6,0),VLOOKUP(B161,Árlista!A:I,6,0),C161),\"\")","v":""},{"$f":"IF(B161>0,VLOOKUP(B161,Árlista!A:I,2,FALSE),\"\")","v":""},{"$f":"IF(B161>0,VLOOKUP(B161,Árlista!A:I,5,0),\"\")","v":""},{"$f":"IF(B161,VLOOKUP(B161,Árlista!A:I,3,0),\"\")","v":""},"","",{"$f":"SUMIF(Árlista!A:A,B161,Árlista!A:A)","v":0},{"$f":"IF(B161>0,(IF(C161>D161,VLOOKUP(B161,Árlista!A:I,9,FALSE),\"\")),\"\")","v":""},{"$f":"IF(B161>0,VLOOKUP(B161,Árlista!A:I,7,FALSE),\"\")","v":""}]
[153,null,null,{"$f":"IF(C162>0,IF(C162>VLOOKUP(B162,Árlista!A:I,6,0),VLOOKUP(B162,Árlista!A:I,6,0),C162),\"\")","v":""},{"$f":"IF(B162>0,VLOOKUP(B162,Árlista!A:I,2,FALSE),\"\")","v":""},{"$f":"IF(B162>0,VLOOKUP(B162,Árlista!A:I,5,0),\"\")","v":""},{"$f":"IF(B162,VLOOKUP(B162,Árlista!A:I,3,0),\"\")","v":""},"","",{"$f":"SUMIF(Árlista!A:A,B162,Árlista!A:A)","v":0},{"$f":"IF(B162>0,(IF(C162>D162,VLOOKUP(B162,Árlista!A:I,9,FALSE),\"\")),\"\")","v":""},{"$f":"IF(B162>0,VLOOKUP(B162,Árlista!A:I,7,FALSE),\"\")","v":""}]
[154,null,null,{"$f":"IF(C163>0,IF(C163>VLOOKUP(B163,Árlista!A:I,6,0),VLOOKUP(B163,Árlista!A:I,6,0),C163),\"\")","v":""},{"$f":"IF(B163>0,VLOOKUP(B163,Árlista!A:I,2,FALSE),\"\")","v":""},{"$f":"IF(B163>0,VLOOKUP(B163,Árlista!A:I,5,0),\"\")","v":""},{"$f":"IF(B163,VLOOKUP(B163,Árlista!A:I,3,0),\"\")","v":""},"","",{"$f":"SUMIF(Árlista!A:A,B163,Árlista!A:A)","v":0},{"$f":"IF(B163>0,(IF(C163>D163,VLOOKUP(B163,Árlista!A:I,9,FALSE),\"\")),\"\")","v":""},{"$f":"IF(B163>0,VLOOKUP(B163,Árlista!A:I,7,FALSE),\"\")","v":""}]
[155,null,null,{"$f":"IF(C164>0,IF(C164>VLOOKUP(B164,Árlista!A:I,6,0),VLOOKUP(B164,Árlista!A:I,6,0),C164),\"\")","v":""},{"$f":"IF(B164>0,VLOOKUP(B164,Árlista!A:I,2,FALSE),\"\")","v":""},{"$f":"IF(B164>0,VLOOKUP(B164,Árlista!A:I,5,0),\"\")","v":""},{"$f":"IF(B164,VLOOKUP(B164,Árlista!A:I,3,0),\"\")","v":""},"","",{"$f":"SUMIF(Árlista!A:A,B164,Árlista!A:A)","v":0},{"$f":"IF(B164>0,(IF(C164>D164,VLOOKUP(B164,Árlista!A:I,9,FALSE),\"\")),\"\")","v":""},{"$f":"IF(B164>0,VLOOKUP(B164,Árlista!A:I,7,FALSE),\"\")","v":""}]
[156,null,null,{"$f":"IF(C165>0,IF(C165>VLOOKUP(B165,Árlista!A:I,6,0),VLOOKUP(B165,Árlista!A:I,6,0),C165),\"\")","v":""},{"$f":"IF(B165>0,VLOOKUP(B165,Árlista!A:I,2,FALSE),\"\")","v":""},{"$f":"IF(B165>0,VLOOKUP(B165,Árlista!A:I,5,0),\"\")","v":""},{"$f":"IF(B165,VLOOKUP(B165,Árlista!A:I,3,0),\"\")","v":""},"","",{"$f":"SUMIF(Árlista!A:A,B165,Árlista!A:A)","v":0},{"$f":"IF(B165>0,(IF(C165>D165,VLOOKUP(B165,Árlista!A:I,9,FALSE),\"\")),\"\")","v":""},{"$f":"IF(B165>0,VLOOKUP(B165,Árlista!A:I,7,FALSE),\"\")","v":""}]
[157,null,null,{"$f":"IF(C166>0,IF(C166>VLOOKUP(B166,Árlista!A:I,6,0),VLOOKUP(B166,Árlista!A:I,6,0),C166),\"\")","v":""},{"$f":"IF(B166>0,VLOOKUP(B166,Árlista!A:I,2,FALSE),\"\")","v":""},{"$f":"IF(B166>0,VLOOKUP(B166,Árlista!A:I,5,0),\"\")","v":""},{"$f":"IF(B166,VLOOKUP(B166,Árlista!A:I,3,0),\"\")","v":""},"","",{"$f":"SUMIF(Árlista!A:A,B166,Árlista!A:A)","v":0},{"$f":"IF(B166>0,(IF(C166>D166,VLOOKUP(B166,Árlista!A:I,9,FALSE),\"\")),\"\")","v":""},{"$f":"IF(B166>0,VLOOKUP(B166,Árlista!A:I,7,FALSE),\"\")","v":""}]
[158,null,null,{"$f":"IF(C167>0,IF(C167>VLOOKUP(B167,Árlista!A:I,6,0),VLOOKUP(B167,Árlista!A:I,6,0),C167),\"\")","v":""},{"$f":"IF(B167>0,VLOOKUP(B167,Árlista!A:I,2,FALSE),\"\")","v":""},{"$f":"IF(B167>0,VLOOKUP(B167,Árlista!A:I,5,0),\"\")","v":""},{"$f":"IF(B167,VLOOKUP(B167,Árlista!A:I,3,0),\"\")","v":""},"","",{"$f":"SUMIF(Árlista!A:A,B167,Árlista!A:A)","v":0},{"$f":"IF(B167>0,(IF(C167>D167,VLOOKUP(B167,Árlista!A:I,9,FALSE),\"\")),\"\")","v":""},{"$f":"IF(B167>0,VLOOKUP(B167,Árlista!A:I,7,FALSE),\"\")","v":""}]
[159,null,null,{"$f":"IF(C168>0,IF(C168>VLOOKUP(B168,Árlista!A:I,6,0),VLOOKUP(B168,Árlista!A:I,6,0),C168),\"\")","v":""},{"$f":"IF(B168>0,VLOOKUP(B168,Árlista!A:I,2,FALSE),\"\")","v":""},{"$f":"IF(B168>0,VLOOKUP(B168,Árlista!A:I,5,0),\"\")","v":""},{"$f":"IF(B168,VLOOKUP(B168,Árlista!A:I,3,0),\"\")","v":""},"","",{"$f":"SUMIF(Árlista!A:A,B168,Árlista!A:A)","v":0},{"$f":"IF(B168>0,(IF(C168>D168,VLOOKUP(B168,Árlista!A:I,9,FALSE),\"\")),\"\")","v":""},{"$f":"IF(B168>0,VLOOKUP(B168,Árlista!A:I,7,FALSE),\"\")","v":""}]
[160,null,null,{"$f":"IF(C169>0,IF(C169>VLOOKUP(B169,Árlista!A:I,6,0),VLOOKUP(B169,Árlista!A:I,6,0),C169),\"\")","v":""},{"$f":"IF(B169>0,VLOOKUP(B169,Árlista!A:I,2,FALSE),\"\")","v":""},{"$f":"IF(B169>0,VLOOKUP(B169,Árlista!A:I,5,0),\"\")","v":""},{"$f":"IF(B169,VLOOKUP(B169,Árlista!A:I,3,0),\"\")","v":""},"","",{"$f":"SUMIF(Árlista!A:A,B169,Árlista!A:A)","v":0},{"$f":"IF(B169>0,(IF(C169>D169,VLOOKUP(B169,Árlista!A:I,9,FALSE),\"\")),\"\")","v":""},{"$f":"IF(B169>0,VLOOKUP(B169,Árlista!A:I,7,FALSE),\"\")","v":""}]
[161,null,null,{"$f":"IF(C170>0,IF(C170>VLOOKUP(B170,Árlista!A:I,6,0),VLOOKUP(B170,Árlista!A:I,6,0),C170),\"\")","v":""},{"$f":"IF(B170>0,VLOOKUP(B170,Árlista!A:I,2,FALSE),\"\")","v":""},{"$f":"IF(B170>0,VLOOKUP(B170,Árlista!A:I,5,0),\"\")","v":""},{"$f":"IF(B170,VLOOKUP(B170,Árlista!A:I,3,0),\"\")","v":""},"","",{"$f":"SUMIF(Árlista!A:A,B170,Árlista!A:A)","v":0},{"$f":"IF(B170>0,(IF(C170>D170,VLOOKUP(B170,Árlista!A:I,9,FALSE),\"\")),\"\")","v":""},{"$f":"IF(B170>0,VLOOKUP(B170,Árlista!A:I,7,FALSE),\"\")","v":""}]
[162,null,null,{"$f":"IF(C171>0,IF(C171>VLOOKUP(B171,Árlista!A:I,6,0),VLOOKUP(B171,Árlista!A:I,6,0),C171),\"\")","v":""},{"$f":"IF(B171>0,VLOOKUP(B171,Árlista!A:I,2,FALSE),\"\")","v":""},{"$f":"IF(B171>0,VLOOKUP(B171,Árlista!A:I,5,0),\"\")","v":""},{"$f":"IF(B171,VLOOKUP(B171,Árlista!A:I,3,0),\"\")","v":""},"","",{"$f":"SUMIF(Árlista!A:A,B171,Árlista!A:A)","v":0},{"$f":"IF(B171>0,(IF(C171>D171,VLOOKUP(B171,Árlista!A:I,9,FALSE),\"\")),\"\")","v":""},{"$f":"IF(B171>0,VLOOKUP(B171,Árlista!A:I,7,FALSE),\"\")","v":""}]
[163,null,null,{"$f":"IF(C172>0,IF(C172>VLOOKUP(B172,Árlista!A:I,6,0),VLOOKUP(B172,Árlista!A:I,6,0),C172),\"\")","v":""},{"$f":"IF(B172>0,VLOOKUP(B172,Árlista!A:I,2,FALSE),\"\")","v":""},{"$f":"IF(B172>0,VLOOKUP(B172,Árlista!A:I,5,0),\"\")","v":""},{"$f":"IF(B172,VLOOKUP(B172,Árlista!A:I,3,0),\"\")","v":""},"","",{"$f":"SUMIF(Árlista!A:A,B172,Árlista!A:A)","v":0},{"$f":"IF(B172>0,(IF(C172>D172,VLOOKUP(B172,Árlista!A:I,9,FALSE),\"\")),\"\")","v":""},{"$f":"IF(B172>0,VLOOKUP(B172,Árlista!A:I,7,FALSE),\"\")","v":""}]
[164,null,null,{"$f":"IF(C173>0,IF(C173>VLOOKUP(B173,Árlista!A:I,6,0),VLOOKUP(B173,Árlista!A:I,6,0),C173),\"\")","v":""},{"$f":"IF(B173>0,VLOOKUP(B173,Árlista!A:I,2,FALSE),\"\")","v":""},{"$f":"IF(B173>0,VLOOKUP(B173,Árlista!A:I,5,0),\"\")","v":""},{"$f":"IF(B173,VLOOKUP(B173,Árlista!A:I,3,0),\"\")","v":""},"","",{"$f":"SUMIF(Árlista!A:A,B173,Árlista!A:A)","v":0},{"$f":"IF(B173>0,(IF(C173>D173,VLOOKUP(B173,Árlista!A:I,9,FALSE),\"\")),\"\")","v":""},{"$f":"IF(B173>0,VLOOKUP(B173,Árlista!A:I,7,FALSE),\"\")","v":""}]
[165,null,null,{"$f":"IF(C174>0,IF(C174>VLOOKUP(B174,Árlista!A:I,6,0),VLOOKUP(B174,Árlista!A:I,6,0),C174),\"\")","v":""},{"$f":"IF(B174>0,VLOOKUP(B174,Árlista!A:I,2,FALSE),\"\")","v":""},{"$f":"IF(B174>0,VLOOKUP(B174,Árlista!A:I,5,0),\"\")","v":""},{"$f":"IF(B174,VLOOKUP(B174,Árlista!A:I,3,0),\"\")","v":""},"","",{"$f":"SUMIF(Árlista!A:A,B174,Árlista!A:A)","v":0},{"$f":"IF(B174>0,(IF(C174>D174,VLOOKUP(B174,Árlista!A:I,9,FALSE),\"\")),\"\")","v":""},{"$f":"IF(B174>0,VLOOKUP(B174,Árlista!A:I,7,FALSE),\"\")","v":""}]
[166,null,null,{"$f":"IF(C175>0,IF(C175>VLOOKUP(B175,Árlista!A:I,6,0),VLOOKUP(B175,Árlista!A:I,6,0),C175),\"\")","v":""},{"$f":"IF(B175>0,VLOOKUP(B175,Árlista!A:I,2,FALSE),\"\")","v":""},{"$f":"IF(B175>0,VLOOKUP(B175,Árlista!A:I,5,0),\"\")","v":""},{"$f":"IF(B175,VLOOKUP(B175,Árlista!A:I,3,0),\"\")","v":""},"","",{"$f":"SUMIF(Árlista!A:A,B175,Árlista!A:A)","v":0},{"$f":"IF(B175>0,(IF(C175>D175,VLOOKUP(B175,Árlista!A:I,9,FALSE),\"\")),\"\")","v":""},{"$f":"IF(B175>0,VLOOKUP(B175,Árlista!A:I,7,FALSE),\"\")","v":""}]
[167,null,null,{"$f":"IF(C176>0,IF(C176>VLOOKUP(B176,Árlista!A:I,6,0),VLOOKUP(B176,Árlista!A:I,6,0),C176),\"\")","v":""},{"$f":"IF(B176>0,VLOOKUP(B176,Árlista!A:I,2,FALSE),\"\")","v":""},{"$f":"IF(B176>0,VLOOKUP(B176,Árlista!A:I,5,0),\"\")","v":""},{"$f":"IF(B176,VLOOKUP(B176,Árlista!A:I,3,0),\"\")","v":""},"","",{"$f":"SUMIF(Árlista!A:A,B176,Árlista!A:A)","v":0},{"$f":"IF(B176>0,(IF(C176>D176,VLOOKUP(B176,Árlista!A:I,9,FALSE),\"\")),\"\")","v":""},{"$f":"IF(B176>0,VLOOKUP(B176,Árlista!A:I,7,FALSE),\"\")","v":""}]
[168,null,null,{"$f":"IF(C177>0,IF(C177>VLOOKUP(B177,Árlista!A:I,6,0),VLOOKUP(B177,Árlista!A:I,6,0),C177),\"\")","v":""},{"$f":"IF(B177>0,VLOOKUP(B177,Árlista!A:I,2,FALSE),\"\")","v":""},{"$f":"IF(B177>0,VLOOKUP(B177,Árlista!A:I,5,0),\"\")","v":""},{"$f":"IF(B177,VLOOKUP(B177,Árlista!A:I,3,0),\"\")","v":""},"","",{"$f":"SUMIF(Árlista!A:A,B177,Árlista!A:A)","v":0},{"$f":"IF(B177>0,(IF(C177>D177,VLOOKUP(B177,Árlista!A:I,9,FALSE),\"\")),\"\")","v":""},{"$f":"IF(B177>0,VLOOKUP(B177,Árlista!A:I,7,FALSE),\"\")","v":""}]
[169,null,null,{"$f":"IF(C178>0,IF(C178>VLOOKUP(B178,Árlista!A:I,6,0),VLOOKUP(B178,Árlista!A:I,6,0),C178),\"\")","v":""},{"$f":"IF(B178>0,VLOOKUP(B178,Árlista!A:I,2,FALSE),\"\")","v":""},{"$f":"IF(B178>0,VLOOKUP(B178,Árlista!A:I,5,0),\"\")","v":""},{"$f":"IF(B178,VLOOKUP(B178,Árlista!A:I,3,0),\"\")","v":""},"","",{"$f":"SUMIF(Árlista!A:A,B178,Árlista!A:A)","v":0},{"$f":"IF(B178>0,(IF(C178>D178,VLOOKUP(B178,Árlista!A:I,9,FALSE),\"\")),\"\")","v":""},{"$f":"IF(B178>0,VLOOKUP(B178,Árlista!A:I,7,FALSE),\"\")","v":""}]
[170,null,null,{"$f":"IF(C179>0,IF(C179>VLOOKUP(B179,Árlista!A:I,6,0),VLOOKUP(B179,Árlista!A:I,6,0),C179),\"\")","v":""},{"$f":"IF(B179>0,VLOOKUP(B179,Árlista!A:I,2,FALSE),\"\")","v":""},{"$f":"IF(B179>0,VLOOKUP(B179,Árlista!A:I,5,0),\"\")","v":""},{"$f":"IF(B179,VLOOKUP(B179,Árlista!A:I,3,0),\"\")","v":""},"","",{"$f":"SUMIF(Árlista!A:A,B179,Árlista!A:A)","v":0},{"$f":"IF(B179>0,(IF(C179>D179,VLOOKUP(B179,Árlista!A:I,9,FALSE),\"\")),\"\")","v":""},{"$f":"IF(B179>0,VLOOKUP(B179,Árlista!A:I,7,FALSE),\"\")","v":""}]
[171,null,null,{"$f":"IF(C180>0,IF(C180>VLOOKUP(B180,Árlista!A:I,6,0),VLOOKUP(B180,Árlista!A:I,6,0),C180),\"\")","v":""},{"$f":"IF(B180>0,VLOOKUP(B180,Árlista!A:I,2,FALSE),\"\")","v":""},{"$f":"IF(B180>0,VLOOKUP(B180,Árlista!A:I,5,0),\"\")","v":""},{"$f":"IF(B180,VLOOKUP(B180,Árlista!A:I,3,0),\"\")","v":""},"","",{"$f":"SUMIF(Árlista!A:A,B180,Árlista!A:A)","v":0},{"$f":"IF(B180>0,(IF(C180>D180,VLOOKUP(B180,Árlista!A:I,9,FALSE),\"\")),\"\")","v":""},{"$f":"IF(B180>0,VLOOKUP(B180,Árlista!A:I,7,FALSE),\"\")","v":""}]
[172,null,null,{"$f":"IF(C181>0,IF(C181>VLOOKUP(B181,Árlista!A:I,6,0),VLOOKUP(B181,Árlista!A:I,6,0),C181),\"\")","v":""},{"$f":"IF(B181>0,VLOOKUP(B181,Árlista!A:I,2,FALSE),\"\")","v":""},{"$f":"IF(B181>0,VLOOKUP(B181,Árlista!A:I,5,0),\"\")","v":""},{"$f":"IF(B181,VLOOKUP(B181,Árlista!A:I,3,0),\"\")","v":""},"","",{"$f":"SUMIF(Árlista!A:A,B181,Árlista!A:A)","v":0},{"$f":"IF(B181>0,(IF(C181>D181,VLOOKUP(B181,Árlista!A:I,9,FALSE),\"\")),\"\")","v":""},{"$f":"IF(B181>0,VLOOKUP(B181,Árlista!A:I,7,FALSE),\"\")","v":""}]
[173,null,null,{"$f":"IF(C182>0,IF(C182>VLOOKUP(B182,Árlista!A:I,6,0),VLOOKUP(B182,Árlista!A:I,6,0),C182),\"\")","v":""},{"$f":"IF(B182>0,VLOOKUP(B182,Árlista!A:I,2,FALSE),\"\")","v":""},{"$f":"IF(B182>0,VLOOKUP(B182,Árlista!A:I,5,0),\"\")","v":""},{"$f":"IF(B182,VLOOKUP(B182,Árlista!A:I,3,0),\"\")","v":""},"","",{"$f":"SUMIF(Árlista!A:A,B182,Árlista!A:A)","v":0},{"$f":"IF(B182>0,(IF(C182>D182,VLOOKUP(B182,Árlista!A:I,9,FALSE),\"\")),\"\")","v":""},{"$f":"IF(B182>0,VLOOKUP(B182,Árlista!A:I,7,FALSE),\"\")","v":""}]
[174,null,null,{"$f":"IF(C183>0,IF(C183>VLOOKUP(B183,Árlista!A:I,6,0),VLOOKUP(B183,Árlista!A:I,6,0),C183),\"\")","v":""},{"$f":"IF(B183>0,VLOOKUP(B183,Árlista!A:I,2,FALSE),\"\")","v":""},{"$f":"IF(B183>0,VLOOKUP(B183,Árlista!A:I,5,0),\"\")","v":""},{"$f":"IF(B183,VLOOKUP(B183,Árlista!A:I,3,0),\"\")","v":""},"","",{"$f":"SUMIF(Árlista!A:A,B183,Árlista!A:A)","v":0},{"$f":"IF(B183>0,(IF(C183>D183,VLOOKUP(B183,Árlista!A:I,9,FALSE),\"\")),\"\")","v":""},{"$f":"IF(B183>0,VLOOKUP(B183,Árlista!A:I,7,FALSE),\"\")","v":""}]
[175,null,null,{"$f":"IF(C184>0,IF(C184>VLOOKUP(B184,Árlista!A:I,6,0),VLOOKUP(B184,Árlista!A:I,6,0),C184),\"\")","v":""},{"$f":"IF(B184>0,VLOOKUP(B184,Árlista!A:I,2,FALSE),\"\")","v":""},{"$f":"IF(B184>0,VLOOKUP(B184,Árlista!A:I,5,0),\"\")","v":""},{"$f":"IF(B184,VLOOKUP(B184,Árlista!A:I,3,0),\"\")","v":""},"","",{"$f":"SUMIF(Árlista!A:A,B184,Árlista!A:A)","v":0},{"$f":"IF(B184>0,(IF(C184>D184,VLOOKUP(B184,Árlista!A:I,9,FALSE),\"\")),\"\")","v":""},{"$f":"IF(B184>0,VLOOKUP(B184,Árlista!A:I,7,FALSE),\"\")","v":""}]
[176,null,null,{"$f":"IF(C185>0,IF(C185>VLOOKUP(B185,Árlista!A:I,6,0),VLOOKUP(B185,Árlista!A:I,6,0),C185),\"\")","v":""},{"$f":"IF(B185>0,VLOOKUP(B185,Árlista!A:I,2,FALSE),\"\")","v":""},{"$f":"IF(B185>0,VLOOKUP(B185,Árlista!A:I,5,0),\"\")","v":""},{"$f":"IF(B185,VLOOKUP(B185,Árlista!A:I,3,0),\"\")","v":""},"","",{"$f":"SUMIF(Árlista!A:A,B185,Árlista!A:A)","v":0},{"$f":"IF(B185>0,(IF(C185>D185,VLOOKUP(B185,Árlista!A:I,9,FALSE),\"\")),\"\")","v":""},{"$f":"IF(B185>0,VLOOKUP(B185,Árlista!A:I,7,FALSE),\"\")","v":""}]
[177,null,null,{"$f":"IF(C186>0,IF(C186>VLOOKUP(B186,Árlista!A:I,6,0),VLOOKUP(B186,Árlista!A:I,6,0),C186),\"\")","v":""},{"$f":"IF(B186>0,VLOOKUP(B186,Árlista!A:I,2,FALSE),\"\")","v":""},{"$f":"IF(B186>0,VLOOKUP(B186,Árlista!A:I,5,0),\"\")","v":""},{"$f":"IF(B186,VLOOKUP(B186,Árlista!A:I,3,0),\"\")","v":""},"","",{"$f":"SUMIF(Árlista!A:A,B186,Árlista!A:A)","v":0},{"$f":"IF(B186>0,(IF(C186>D186,VLOOKUP(B186,Árlista!A:I,9,FALSE),\"\")),\"\")","v":""},{"$f":"IF(B186>0,VLOOKUP(B186,Árlista!A:I,7,FALSE),\"\")","v":""}]
[178,null,null,{"$f":"IF(C187>0,IF(C187>VLOOKUP(B187,Árlista!A:I,6,0),VLOOKUP(B187,Árlista!A:I,6,0),C187),\"\")","v":""},{"$f":"IF(B187>0,VLOOKUP(B187,Árlista!A:I,2,FALSE),\"\")","v":""},{"$f":"IF(B187>0,VLOOKUP(B187,Árlista!A:I,5,0),\"\")","v":""},{"$f":"IF(B187,VLOOKUP(B187,Árlista!A:I,3,0),\"\")","v":""},"","",{"$f":"SUMIF(Árlista!A:A,B187,Árlista!A:A)","v":0},{"$f":"IF(B187>0,(IF(C187>D187,VLOOKUP(B187,Árlista!A:I,9,FALSE),\"\")),\"\")","v":""},{"$f":"IF(B187>0,VLOOKUP(B187,Árlista!A:I,7,FALSE),\"\")","v":""}]
[179,null,null,{"$f":"IF(C188>0,IF(C188>VLOOKUP(B188,Árlista!A:I,6,0),VLOOKUP(B188,Árlista!A:I,6,0),C188),\"\")","v":""},{"$f":"IF(B188>0,VLOOKUP(B188,Árlista!A:I,2,FALSE),\"\")","v":""},{"$f":"IF(B188>0,VLOOKUP(B188,Árlista!A:I,5,0),\"\")","v":""},{"$f":"IF(B188,VLOOKUP(B188,Árlista!A:I,3,0),\"\")","v":""},"","",{"$f":"SUMIF(Árlista!A:A,B188,Árlista!A:A)","v":0},{"$f":"IF(B188>0,(IF(C188>D188,VLOOKUP(B188,Árlista!A:I,9,FALSE),\"\")),\"\")","v":""},{"$f":"IF(B188>0,VLOOKUP(B188,Árlista!A:I,7,FALSE),\"\")","v":""}]
[180,null,null,{"$f":"IF(C189>0,IF(C189>VLOOKUP(B189,Árlista!A:I,6,0),VLOOKUP(B189,Árlista!A:I,6,0),C189),\"\")","v":""},{"$f":"IF(B189>0,VLOOKUP(B189,Árlista!A:I,2,FALSE),\"\")","v":""},{"$f":"IF(B189>0,VLOOKUP(B189,Árlista!A:I,5,0),\"\")","v":""},{"$f":"IF(B189,VLOOKUP(B189,Árlista!A:I,3,0),\"\")","v":""},"","",{"$f":"SUMIF(Árlista!A:A,B189,Árlista!A:A)","v":0},{"$f":"IF(B189>0,(IF(C189>D189,VLOOKUP(B189,Árlista!A:I,9,FALSE),\"\")),\"\")","v":""},{"$f":"IF(B189>0,VLOOKUP(B189,Árlista!A:I,7,FALSE),\"\")","v":""}]
[181,null,null,{"$f":"IF(C190>0,IF(C190>VLOOKUP(B190,Árlista!A:I,6,0),VLOOKUP(B190,Árlista!A:I,6,0),C190),\"\")","v":""},{"$f":"IF(B190>0,VLOOKUP(B190,Árlista!A:I,2,FALSE),\"\")","v":""},{"$f":"IF(B190>0,VLOOKUP(B190,Árlista!A:I,5,0),\"\")","v":""},{"$f":"IF(B190,VLOOKUP(B190,Árlista!A:I,3,0),\"\")","v":""},"","",{"$f":"SUMIF(Árlista!A:A,B190,Árlista!A:A)","v":0},{"$f":"IF(B190>0,(IF(C190>D190,VLOOKUP(B190,Árlista!A:I,9,FALSE),\"\")),\"\")","v":""},{"$f":"IF(B190>0,VLOOKUP(B190,Árlista!A:I,7,FALSE),\"\")","v":""}]
[182,null,null,{"$f":"IF(C191>0,IF(C191>VLOOKUP(B191,Árlista!A:I,6,0),VLOOKUP(B191,Árlista!A:I,6,0),C191),\"\")","v":""},{"$f":"IF(B191>0,VLOOKUP(B191,Árlista!A:I,2,FALSE),\"\")","v":""},{"$f":"IF(B191>0,VLOOKUP(B191,Árlista!A:I,5,0),\"\")","v":""},{"$f":"IF(B191,VLOOKUP(B191,Árlista!A:I,3,0),\"\")","v":""},"","",{"$f":"SUMIF(Árlista!A:A,B191,Árlista!A:A)","v":0},{"$f":"IF(B191>0,(IF(C191>D191,VLOOKUP(B191,Árlista!A:I,9,FALSE),\"\")),\"\")","v":""},{"$f":"IF(B191>0,VLOOKUP(B191,Árlista!A:I,7,FALSE),\"\")","v":""}]
[183,null,null,{"$f":"IF(C192>0,IF(C192>VLOOKUP(B192,Árlista!A:I,6,0),VLOOKUP(B192,Árlista!A:I,6,0),C192),\"\")","v":""},{"$f":"IF(B192>0,VLOOKUP(B192,Árlista!A:I,2,FALSE),\"\")","v":""},{"$f":"IF(B192>0,VLOOKUP(B192,Árlista!A:I,5,0),\"\")","v":""},{"$f":"IF(B192,VLOOKUP(B192,Árlista!A:I,3,0),\"\")","v":""},"","",{"$f":"SUMIF(Árlista!A:A,B192,Árlista!A:A)","v":0},{"$f":"IF(B192>0,(IF(C192>D192,VLOOKUP(B192,Árlista!A:I,9,FALSE),\"\")),\"\")","v":""},{"$f":"IF(B192>0,VLOOKUP(B192,Árlista!A:I,7,FALSE),\"\")","v":""}]
[184,null,null,{"$f":"IF(C193>0,IF(C193>VLOOKUP(B193,Árlista!A:I,6,0),VLOOKUP(B193,Árlista!A:I,6,0),C193),\"\")","v":""},{"$f":"IF(B193>0,VLOOKUP(B193,Árlista!A:I,2,FALSE),\"\")","v":""},{"$f":"IF(B193>0,VLOOKUP(B193,Árlista!A:I,5,0),\"\")","v":""},{"$f":"IF(B193,VLOOKUP(B193,Árlista!A:I,3,0),\"\")","v":""},"","",{"$f":"SUMIF(Árlista!A:A,B193,Árlista!A:A)","v":0},{"$f":"IF(B193>0,(IF(C193>D193,VLOOKUP(B193,Árlista!A:I,9,FALSE),\"\")),\"\")","v":""},{"$f":"IF(B193>0,VLOOKUP(B193,Árlista!A:I,7,FALSE),\"\")","v":""}]
[185,null,null,{"$f":"IF(C194>0,IF(C194>VLOOKUP(B194,Árlista!A:I,6,0),VLOOKUP(B194,Árlista!A:I,6,0),C194),\"\")","v":""},{"$f":"IF(B194>0,VLOOKUP(B194,Árlista!A:I,2,FALSE),\"\")","v":""},{"$f":"IF(B194>0,VLOOKUP(B194,Árlista!A:I,5,0),\"\")","v":""},{"$f":"IF(B194,VLOOKUP(B194,Árlista!A:I,3,0),\"\")","v":""},"","",{"$f":"SUMIF(Árlista!A:A,B194,Árlista!A:A)","v":0},{"$f":"IF(B194>0,(IF(C194>D194,VLOOKUP(B194,Árlista!A:I,9,FALSE),\"\")),\"\")","v":""},{"$f":"IF(B194>0,VLOOKUP(B194,Árlista!A:I,7,FALSE),\"\")","v":""}]
[186,null,null,{"$f":"IF(C195>0,IF(C195>VLOOKUP(B195,Árlista!A:I,6,0),VLOOKUP(B195,Árlista!A:I,6,0),C195),\"\")","v":""},{"$f":"IF(B195>0,VLOOKUP(B195,Árlista!A:I,2,FALSE),\"\")","v":""},{"$f":"IF(B195>0,VLOOKUP(B195,Árlista!A:I,5,0),\"\")","v":""},{"$f":"IF(B195,VLOOKUP(B195,Árlista!A:I,3,0),\"\")","v":""},"","",{"$f":"SUMIF(Árlista!A:A,B195,Árlista!A:A)","v":0},{"$f":"IF(B195>0,(IF(C195>D195,VLOOKUP(B195,Árlista!A:I,9,FALSE),\"\")),\"\")","v":""},{"$f":"IF(B195>0,VLOOKUP(B195,Árlista!A:I,7,FALSE),\"\")","v":""}]
[187,null,null,{"$f":"IF(C196>0,IF(C196>VLOOKUP(B196,Árlista!A:I,6,0),VLOOKUP(B196,Árlista!A:I,6,0),C196),\"\")","v":""},{"$f":"IF(B196>0,VLOOKUP(B196,Árlista!A:I,2,FALSE),\"\")","v":""},{"$f":"IF(B196>0,VLOOKUP(B196,Árlista!A:I,5,0),\"\")","v":""},{"$f":"IF(B196,VLOOKUP(B196,Árlista!A:I,3,0),\"\")","v":""},"","",{"$f":"SUMIF(Árlista!A:A,B196,Árlista!A:A)","v":0},{"$f":"IF(B196>0,(IF(C196>D196,VLOOKUP(B196,Árlista!A:I,9,FALSE),\"\")),\"\")","v":""},{"$f":"IF(B196>0,VLOOKUP(B196,Árlista!A:I,7,FALSE),\"\")","v":""}]
[188,null,null,{"$f":"IF(C197>0,IF(C197>VLOOKUP(B197,Árlista!A:I,6,0),VLOOKUP(B197,Árlista!A:I,6,0),C197),\"\")","v":""},{"$f":"IF(B197>0,VLOOKUP(B197,Árlista!A:I,2,FALSE),\"\")","v":""},{"$f":"IF(B197>0,VLOOKUP(B197,Árlista!A:I,5,0),\"\")","v":""},{"$f":"IF(B197,VLOOKUP(B197,Árlista!A:I,3,0),\"\")","v":""},"","",{"$f":"SUMIF(Árlista!A:A,B197,Árlista!A:A)","v":0},{"$f":"IF(B197>0,(IF(C197>D197,VLOOKUP(B197,Árlista!A:I,9,FALSE),\"\")),\"\")","v":""},{"$f":"IF(B197>0,VLOOKUP(B197,Árlista!A:I,7,FALSE),\"\")","v":""}]
[189,null,null,{"$f":"IF(C198>0,IF(C198>VLOOKUP(B198,Árlista!A:I,6,0),VLOOKUP(B198,Árlista!A:I,6,0),C198),\"\")","v":""},{"$f":"IF(B198>0,VLOOKUP(B198,Árlista!A:I,2,FALSE),\"\")","v":""},{"$f":"IF(B198>0,VLOOKUP(B198,Árlista!A:I,5,0),\"\")","v":""},{"$f":"IF(B198,VLOOKUP(B198,Árlista!A:I,3,0),\"\")","v":""},"","",{"$f":"SUMIF(Árlista!A:A,B198,Árlista!A:A)","v":0},{"$f":"IF(B198>0,(IF(C198>D198,VLOOKUP(B198,Árlista!A:I,9,FALSE),\"\")),\"\")","v":""},{"$f":"IF(B198>0,VLOOKUP(B198,Árlista!A:I,7,FALSE),\"\")","v":""}]
[190,null,null,{"$f":"IF(C199>0,IF(C199>VLOOKUP(B199,Árlista!A:I,6,0),VLOOKUP(B199,Árlista!A:I,6,0),C199),\"\")","v":""},{"$f":"IF(B199>0,VLOOKUP(B199,Árlista!A:I,2,FALSE),\"\")","v":""},{"$f":"IF(B199>0,VLOOKUP(B199,Árlista!A:I,5,0),\"\")","v":""},{"$f":"IF(B199,VLOOKUP(B199,Árlista!A:I,3,0),\"\")","v":""},"","",{"$f":"SUMIF(Árlista!A:A,B199,Árlista!A:A)","v":0},{"$f":"IF(B199>0,(IF(C199>D199,VLOOKUP(B199,Árlista!A:I,9,FALSE),\"\")),\"\")","v":""},{"$f":"IF(B199>0,VLOOKUP(B199,Árlista!A:I,7,FALSE),\"\")","v":""}]
[191,null,null,{"$f":"IF(C200>0,IF(C200>VLOOKUP(B200,Árlista!A:I,6,0),VLOOKUP(B200,Árlista!A:I,6,0),C200),\"\")","v":""},{"$f":"IF(B200>0,VLOOKUP(B200,Árlista!A:I,2,FALSE),\"\")","v":""},{"$f":"IF(B200>0,VLOOKUP(B200,Árlista!A:I,5,0),\"\")","v":""},{"$f":"IF(B200,VLOOKUP(B200,Árlista!A:I,3,0),\"\")","v":""},"","",{"$f":"SUMIF(Árlista!A:A,B200,Árlista!A:A)","v":0},{"$f":"IF(B200>0,(IF(C200>D200,VLOOKUP(B200,Árlista!A:I,9,FALSE),\"\")),\"\")","v":""},{"$f":"IF(B200>0,VLOOKUP(B200,Árlista!A:I,7,FALSE),\"\")","v":""}]
[192,null,null,{"$f":"IF(C201>0,IF(C201>VLOOKUP(B201,Árlista!A:I,6,0),VLOOKUP(B201,Árlista!A:I,6,0),C201),\"\")","v":""},{"$f":"IF(B201>0,VLOOKUP(B201,Árlista!A:I,2,FALSE),\"\")","v":""},{"$f":"IF(B201>0,VLOOKUP(B201,Árlista!A:I,5,0),\"\")","v":""},{"$f":"IF(B201,VLOOKUP(B201,Árlista!A:I,3,0),\"\")","v":""},"","",{"$f":"SUMIF(Árlista!A:A,B201,Árlista!A:A)","v":0},{"$f":"IF(B201>0,(IF(C201>D201,VLOOKUP(B201,Árlista!A:I,9,FALSE),\"\")),\"\")","v":""},{"$f":"IF(B201>0,VLOOKUP(B201,Árlista!A:I,7,FALSE),\"\")","v":""}]
[193,null,null,{"$f":"IF(C202>0,IF(C202>VLOOKUP(B202,Árlista!A:I,6,0),VLOOKUP(B202,Árlista!A:I,6,0),C202),\"\")","v":""},{"$f":"IF(B202>0,VLOOKUP(B202,Árlista!A:I,2,FALSE),\"\")","v":""},{"$f":"IF(B202>0,VLOOKUP(B202,Árlista!A:I,5,0),\"\")","v":""},{"$f":"IF(B202,VLOOKUP(B202,Árlista!A:I,3,0),\"\")","v":""},"",{"$f":"IF(J202>0,IF(B202>0,D202*H202,\"\"),\"\")","v":""},{"$f":"SUMIF(Árlista!A:A,B202,Árlista!A:A)","v":0},{"$f":"IF(B202>0,(IF(C202>D202,VLOOKUP(B202,Árlista!A:I,9,FALSE),\"\")),\"\")","v":""},{"$f":"IF(B202>0,VLOOKUP(B202,Árlista!A:I,7,FALSE),\"\")","v":""}]
[194,null,null,{"$f":"IF(C203>0,IF(C203>VLOOKUP(B203,Árlista!A:I,6,0),VLOOKUP(B203,Árlista!A:I,6,0),C203),\"\")","v":""},{"$f":"IF(B203>0,VLOOKUP(B203,Árlista!A:I,2,FALSE),\"\")","v":""},{"$f":"IF(B203>0,VLOOKUP(B203,Árlista!A:I,5,0),\"\")","v":""},{"$f":"IF(B203,VLOOKUP(B203,Árlista!A:I,3,0),\"\")","v":""},{"$f":"IF(B203>0,G203*(1-$G$1),\"\")","v":""},"",{"$f":"SUMIF(Árlista!A:A,B203,Árlista!A:A)","v":0},{"$f":"IF(B203>0,(IF(C203>D203,VLOOKUP(B203,Árlista!A:I,9,FALSE),\"\")),\"\")","v":""},{"$f":"IF(B203>0,VLOOKUP(B203,Árlista!A:I,7,FALSE),\"\")","v":""}]
[195,null,null,{"$f":"IF(C204>0,IF(C204>VLOOKUP(B204,Árlista!A:I,6,0),VLOOKUP(B204,Árlista!A:I,6,0),C204),\"\")","v":""},{"$f":"IF(B204>0,VLOOKUP(B204,Árlista!A:I,2,FALSE),\"\")","v":""},{"$f":"IF(B204>0,VLOOKUP(B204,Árlista!A:I,5,0),\"\")","v":""},{"$f":"IF(B204,VLOOKUP(B204,Árlista!A:I,3,0),\"\")","v":""},"","",{"$f":"SUMIF(Árlista!A:A,B204,Árlista!A:A)","v":0},{"$f":"IF(B204>0,(IF(C204>D204,VLOOKUP(B204,Árlista!A:I,9,FALSE),\"\")),\"\")","v":""},{"$f":"IF(B204>0,VLOOKUP(B204,Árlista!A:I,7,FALSE),\"\")","v":""}]
[196,null,null,{"$f":"IF(C205>0,IF(C205>VLOOKUP(B205,Árlista!A:I,6,0),VLOOKUP(B205,Árlista!A:I,6,0),C205),\"\")","v":""},{"$f":"IF(B205>0,VLOOKUP(B205,Árlista!A:I,2,FALSE),\"\")","v":""},{"$f":"IF(B205>0,VLOOKUP(B205,Árlista!A:I,5,0),\"\")","v":""},{"$f":"IF(B205,VLOOKUP(B205,Árlista!A:I,3,0),\"\")","v":""},"","",{"$f":"SUMIF(Árlista!A:A,B205,Árlista!A:A)","v":0},{"$f":"IF(B205>0,(IF(C205>D205,VLOOKUP(B205,Árlista!A:I,9,FALSE),\"\")),\"\")","v":""},{"$f":"IF(B205>0,VLOOKUP(B205,Árlista!A:I,7,FALSE),\"\")","v":""}]
[197,null,null,{"$f":"IF(C206>0,IF(C206>VLOOKUP(B206,Árlista!A:I,6,0),VLOOKUP(B206,Árlista!A:I,6,0),C206),\"\")","v":""},{"$f":"IF(B206>0,VLOOKUP(B206,Árlista!A:I,2,FALSE),\"\")","v":""},{"$f":"IF(B206>0,VLOOKUP(B206,Árlista!A:I,5,0),\"\")","v":""},{"$f":"IF(B206,VLOOKUP(B206,Árlista!A:I,3,0),\"\")","v":""},"","",{"$f":"SUMIF(Árlista!A:A,B206,Árlista!A:A)","v":0},{"$f":"IF(B206>0,(IF(C206>D206,VLOOKUP(B206,Árlista!A:I,9,FALSE),\"\")),\"\")","v":""},{"$f":"IF(B206>0,VLOOKUP(B206,Árlista!A:I,7,FALSE),\"\")","v":""}]
[198,null,null,{"$f":"IF(C207>0,IF(C207>VLOOKUP(B207,Árlista!A:I,6,0),VLOOKUP(B207,Árlista!A:I,6,0),C207),\"\")","v":""},{"$f":"IF(B207>0,VLOOKUP(B207,Árlista!A:I,2,FALSE),\"\")","v":""},{"$f":"IF(B207>0,VLOOKUP(B207,Árlista!A:I,5,0),\"\")","v":""},{"$f":"IF(B207,VLOOKUP(B207,Árlista!A:I,3,0),\"\")","v":""},"","",{"$f":"SUMIF(Árlista!A:A,B207,Árlista!A:A)","v":0},{"$f":"IF(B207>0,(IF(C207>D207,VLOOKUP(B207,Árlista!A:I,9,FALSE),\"\")),\"\")","v":""},{"$f":"IF(B207>0,VLOOKUP(B207,Árlista!A:I,7,FALSE),\"\")","v":""}]
[199,null,null,{"$f":"IF(C208>0,IF(C208>VLOOKUP(B208,Árlista!A:I,6,0),VLOOKUP(B208,Árlista!A:I,6,0),C208),\"\")","v":""},{"$f":"IF(B208>0,VLOOKUP(B208,Árlista!A:I,2,FALSE),\"\")","v":""},{"$f":"IF(B208>0,VLOOKUP(B208,Árlista!A:I,5,0),\"\")","v":""},{"$f":"IF(B208,VLOOKUP(B208,Árlista!A:I,3,0),\"\")","v":""},"","",{"$f":"SUMIF(Árlista!A:A,B208,Árlista!A:A)","v":0},{"$f":"IF(B208>0,(IF(C208>D208,VLOOKUP(B208,Árlista!A:I,9,FALSE),\"\")),\"\")","v":""},{"$f":"IF(B208>0,VLOOKUP(B208,Árlista!A:I,7,FALSE),\"\")","v":""}]
[200,null,null,{"$f":"IF(C209>0,IF(C209>VLOOKUP(B209,Árlista!A:I,6,0),VLOOKUP(B209,Árlista!A:I,6,0),C209),\"\")","v":""},{"$f":"IF(B209>0,VLOOKUP(B209,Árlista!A:I,2,FALSE),\"\")","v":""},{"$f":"IF(B209>0,VLOOKUP(B209,Árlista!A:I,5,0),\"\")","v":""},{"$f":"IF(B209,VLOOKUP(B209,Árlista!A:I,3,0),\"\")","v":""},"","",{"$f":"SUMIF(Árlista!A:A,B209,Árlista!A:A)","v":0},{"$f":"IF(B209>0,(IF(C209>D209,VLOOKUP(B209,Árlista!A:I,9,FALSE),\"\")),\"\")","v":""},{"$f":"IF(B209>0,VLOOKUP(B209,Árlista!A:I,7,FALSE),\"\")","v":""}]
[201,null,null,{"$f":"IF(C210>0,IF(C210>VLOOKUP(B210,Árlista!A:I,6,0),VLOOKUP(B210,Árlista!A:I,6,0),C210),\"\")","v":""},{"$f":"IF(B210>0,VLOOKUP(B210,Árlista!A:I,2,FALSE),\"\")","v":""},{"$f":"IF(B210>0,VLOOKUP(B210,Árlista!A:I,5,0),\"\")","v":""},{"$f":"IF(B210,VLOOKUP(B210,Árlista!A:I,3,0),\"\")","v":""},"","",{"$f":"SUMIF(Árlista!A:A,B210,Árlista!A:A)","v":0},{"$f":"IF(B210>0,(IF(C210>D210,VLOOKUP(B210,Árlista!A:I,9,FALSE),\"\")),\"\")","v":""},{"$f":"IF(B210>0,VLOOKUP(B210,Árlista!A:I,7,FALSE),\"\")","v":""}]
[202,null,null,{"$f":"IF(C211>0,IF(C211>VLOOKUP(B211,Árlista!A:I,6,0),VLOOKUP(B211,Árlista!A:I,6,0),C211),\"\")","v":""},{"$f":"IF(B211>0,VLOOKUP(B211,Árlista!A:I,2,FALSE),\"\")","v":""},{"$f":"IF(B211>0,VLOOKUP(B211,Árlista!A:I,5,0),\"\")","v":""},{"$f":"IF(B211,VLOOKUP(B211,Árlista!A:I,3,0),\"\")","v":""},"","",{"$f":"SUMIF(Árlista!A:A,B211,Árlista!A:A)","v":0},{"$f":"IF(B211>0,(IF(C211>D211,VLOOKUP(B211,Árlista!A:I,9,FALSE),\"\")),\"\")","v":""},{"$f":"IF(B211>0,VLOOKUP(B211,Árlista!A:I,7,FALSE),\"\")","v":""}]
[203,null,null,{"$f":"IF(C212>0,IF(C212>VLOOKUP(B212,Árlista!A:I,6,0),VLOOKUP(B212,Árlista!A:I,6,0),C212),\"\")","v":""},{"$f":"IF(B212>0,VLOOKUP(B212,Árlista!A:I,2,FALSE),\"\")","v":""},{"$f":"IF(B212>0,VLOOKUP(B212,Árlista!A:I,5,0),\"\")","v":""},{"$f":"IF(B212,VLOOKUP(B212,Árlista!A:I,3,0),\"\")","v":""},"","",{"$f":"SUMIF(Árlista!A:A,B212,Árlista!A:A)","v":0},{"$f":"IF(B212>0,(IF(C212>D212,VLOOKUP(B212,Árlista!A:I,9,FALSE),\"\")),\"\")","v":""},{"$f":"IF(B212>0,VLOOKUP(B212,Árlista!A:I,7,FALSE),\"\")","v":""}]
[204,null,null,{"$f":"IF(C213>0,IF(C213>VLOOKUP(B213,Árlista!A:I,6,0),VLOOKUP(B213,Árlista!A:I,6,0),C213),\"\")","v":""},{"$f":"IF(B213>0,VLOOKUP(B213,Árlista!A:I,2,FALSE),\"\")","v":""},{"$f":"IF(B213>0,VLOOKUP(B213,Árlista!A:I,5,0),\"\")","v":""},{"$f":"IF(B213,VLOOKUP(B213,Árlista!A:I,3,0),\"\")","v":""},"","",{"$f":"SUMIF(Árlista!A:A,B213,Árlista!A:A)","v":0},{"$f":"IF(B213>0,(IF(C213>D213,VLOOKUP(B213,Árlista!A:I,9,FALSE),\"\")),\"\")","v":""},{"$f":"IF(B213>0,VLOOKUP(B213,Árlista!A:I,7,FALSE),\"\")","v":""}]
[205,null,null,{"$f":"IF(C214>0,IF(C214>VLOOKUP(B214,Árlista!A:I,6,0),VLOOKUP(B214,Árlista!A:I,6,0),C214),\"\")","v":""},{"$f":"IF(B214>0,VLOOKUP(B214,Árlista!A:I,2,FALSE),\"\")","v":""},{"$f":"IF(B214>0,VLOOKUP(B214,Árlista!A:I,5,0),\"\")","v":""},{"$f":"IF(B214,VLOOKUP(B214,Árlista!A:I,3,0),\"\")","v":""},"","",{"$f":"SUMIF(Árlista!A:A,B214,Árlista!A:A)","v":0},{"$f":"IF(B214>0,(IF(C214>D214,VLOOKUP(B214,Árlista!A:I,9,FALSE),\"\")),\"\")","v":""},{"$f":"IF(B214>0,VLOOKUP(B214,Árlista!A:I,7,FALSE),\"\")","v":""}]
[206,null,null,{"$f":"IF(C215>0,IF(C215>VLOOKUP(B215,Árlista!A:I,6,0),VLOOKUP(B215,Árlista!A:I,6,0),C215),\"\")","v":""},{"$f":"IF(B215>0,VLOOKUP(B215,Árlista!A:I,2,FALSE),\"\")","v":""},{"$f":"IF(B215>0,VLOOKUP(B215,Árlista!A:I,5,0),\"\")","v":""},{"$f":"IF(B215,VLOOKUP(B215,Árlista!A:I,3,0),\"\")","v":""},"","",{"$f":"SUMIF(Árlista!A:A,B215,Árlista!A:A)","v":0},{"$f":"IF(B215>0,(IF(C215>D215,VLOOKUP(B215,Árlista!A:I,9,FALSE),\"\")),\"\")","v":""},{"$f":"IF(B215>0,VLOOKUP(B215,Árlista!A:I,7,FALSE),\"\")","v":""}]
[207,null,null,{"$f":"IF(C216>0,IF(C216>VLOOKUP(B216,Árlista!A:I,6,0),VLOOKUP(B216,Árlista!A:I,6,0),C216),\"\")","v":""},{"$f":"IF(B216>0,VLOOKUP(B216,Árlista!A:I,2,FALSE),\"\")","v":""},{"$f":"IF(B216>0,VLOOKUP(B216,Árlista!A:I,5,0),\"\")","v":""},{"$f":"IF(B216,VLOOKUP(B216,Árlista!A:I,3,0),\"\")","v":""},"","",{"$f":"SUMIF(Árlista!A:A,B216,Árlista!A:A)","v":0},{"$f":"IF(B216>0,(IF(C216>D216,VLOOKUP(B216,Árlista!A:I,9,FALSE),\"\")),\"\")","v":""},{"$f":"IF(B216>0,VLOOKUP(B216,Árlista!A:I,7,FALSE),\"\")","v":""}]
[208,null,null,{"$f":"IF(C217>0,IF(C217>VLOOKUP(B217,Árlista!A:I,6,0),VLOOKUP(B217,Árlista!A:I,6,0),C217),\"\")","v":""},{"$f":"IF(B217>0,VLOOKUP(B217,Árlista!A:I,2,FALSE),\"\")","v":""},{"$f":"IF(B217>0,VLOOKUP(B217,Árlista!A:I,5,0),\"\")","v":""},{"$f":"IF(B217,VLOOKUP(B217,Árlista!A:I,3,0),\"\")","v":""},"","",{"$f":"SUMIF(Árlista!A:A,B217,Árlista!A:A)","v":0},{"$f":"IF(B217>0,(IF(C217>D217,VLOOKUP(B217,Árlista!A:I,9,FALSE),\"\")),\"\")","v":""},{"$f":"IF(B217>0,VLOOKUP(B217,Árlista!A:I,7,FALSE),\"\")","v":""}]
[209,null,null,{"$f":"IF(C218>0,IF(C218>VLOOKUP(B218,Árlista!A:I,6,0),VLOOKUP(B218,Árlista!A:I,6,0),C218),\"\")","v":""},{"$f":"IF(B218>0,VLOOKUP(B218,Árlista!A:I,2,FALSE),\"\")","v":""},{"$f":"IF(B218>0,VLOOKUP(B218,Árlista!A:I,5,0),\"\")","v":""},{"$f":"IF(B218,VLOOKUP(B218,Árlista!A:I,3,0),\"\")","v":""},"","",{"$f":"SUMIF(Árlista!A:A,B218,Árlista!A:A)","v":0},{"$f":"IF(B218>0,(IF(C218>D218,VLOOKUP(B218,Árlista!A:I,9,FALSE),\"\")),\"\")","v":""},{"$f":"IF(B218>0,VLOOKUP(B218,Árlista!A:I,7,FALSE),\"\")","v":""}]
[210,null,null,{"$f":"IF(C219>0,IF(C219>VLOOKUP(B219,Árlista!A:I,6,0),VLOOKUP(B219,Árlista!A:I,6,0),C219),\"\")","v":""},{"$f":"IF(B219>0,VLOOKUP(B219,Árlista!A:I,2,FALSE),\"\")","v":""},{"$f":"IF(B219>0,VLOOKUP(B219,Árlista!A:I,5,0),\"\")","v":""},{"$f":"IF(B219,VLOOKUP(B219,Árlista!A:I,3,0),\"\")","v":""},"","",{"$f":"SUMIF(Árlista!A:A,B219,Árlista!A:A)","v":0},{"$f":"IF(B219>0,(IF(C219>D219,VLOOKUP(B219,Árlista!A:I,9,FALSE),\"\")),\"\")","v":""},{"$f":"IF(B219>0,VLOOKUP(B219,Árlista!A:I,7,FALSE),\"\")","v":""}]
[211,null,null,{"$f":"IF(C220>0,IF(C220>VLOOKUP(B220,Árlista!A:I,6,0),VLOOKUP(B220,Árlista!A:I,6,0),C220),\"\")","v":""},{"$f":"IF(B220>0,VLOOKUP(B220,Árlista!A:I,2,FALSE),\"\")","v":""},{"$f":"IF(B220>0,VLOOKUP(B220,Árlista!A:I,5,0),\"\")","v":""},{"$f":"IF(B220,VLOOKUP(B220,Árlista!A:I,3,0),\"\")","v":""},"","",{"$f":"SUMIF(Árlista!A:A,B220,Árlista!A:A)","v":0},{"$f":"IF(B220>0,(IF(C220>D220,VLOOKUP(B220,Árlista!A:I,9,FALSE),\"\")),\"\")","v":""},{"$f":"IF(B220>0,VLOOKUP(B220,Árlista!A:I,7,FALSE),\"\")","v":""}]
[212,null,null,{"$f":"IF(C221>0,IF(C221>VLOOKUP(B221,Árlista!A:I,6,0),VLOOKUP(B221,Árlista!A:I,6,0),C221),\"\")","v":""},{"$f":"IF(B221>0,VLOOKUP(B221,Árlista!A:I,2,FALSE),\"\")","v":""},{"$f":"IF(B221>0,VLOOKUP(B221,Árlista!A:I,5,0),\"\")","v":""},{"$f":"IF(B221,VLOOKUP(B221,Árlista!A:I,3,0),\"\")","v":""},"","",{"$f":"SUMIF(Árlista!A:A,B221,Árlista!A:A)","v":0},{"$f":"IF(B221>0,(IF(C221>D221,VLOOKUP(B221,Árlista!A:I,9,FALSE),\"\")),\"\")","v":""},{"$f":"IF(B221>0,VLOOKUP(B221,Árlista!A:I,7,FALSE),\"\")","v":""}]
[213,null,null,{"$f":"IF(C222>0,IF(C222>VLOOKUP(B222,Árlista!A:I,6,0),VLOOKUP(B222,Árlista!A:I,6,0),C222),\"\")","v":""},{"$f":"IF(B222>0,VLOOKUP(B222,Árlista!A:I,2,FALSE),\"\")","v":""},{"$f":"IF(B222>0,VLOOKUP(B222,Árlista!A:I,5,0),\"\")","v":""},{"$f":"IF(B222,VLOOKUP(B222,Árlista!A:I,3,0),\"\")","v":""},"","",{"$f":"SUMIF(Árlista!A:A,B222,Árlista!A:A)","v":0},{"$f":"IF(B222>0,(IF(C222>D222,VLOOKUP(B222,Árlista!A:I,9,FALSE),\"\")),\"\")","v":""},{"$f":"IF(B222>0,VLOOKUP(B222,Árlista!A:I,7,FALSE),\"\")","v":""}]
[214,null,null,{"$f":"IF(C223>0,IF(C223>VLOOKUP(B223,Árlista!A:I,6,0),VLOOKUP(B223,Árlista!A:I,6,0),C223),\"\")","v":""},{"$f":"IF(B223>0,VLOOKUP(B223,Árlista!A:I,2,FALSE),\"\")","v":""},{"$f":"IF(B223>0,VLOOKUP(B223,Árlista!A:I,5,0),\"\")","v":""},{"$f":"IF(B223,VLOOKUP(B223,Árlista!A:I,3,0),\"\")","v":""},"","",{"$f":"SUMIF(Árlista!A:A,B223,Árlista!A:A)","v":0},{"$f":"IF(B223>0,(IF(C223>D223,VLOOKUP(B223,Árlista!A:I,9,FALSE),\"\")),\"\")","v":""},{"$f":"IF(B223>0,VLOOKUP(B223,Árlista!A:I,7,FALSE),\"\")","v":""}]
[215,null,null,{"$f":"IF(C224>0,IF(C224>VLOOKUP(B224,Árlista!A:I,6,0),VLOOKUP(B224,Árlista!A:I,6,0),C224),\"\")","v":""},{"$f":"IF(B224>0,VLOOKUP(B224,Árlista!A:I,2,FALSE),\"\")","v":""},{"$f":"IF(B224>0,VLOOKUP(B224,Árlista!A:I,5,0),\"\")","v":""},{"$f":"IF(B224,VLOOKUP(B224,Árlista!A:I,3,0),\"\")","v":""},"","",{"$f":"SUMIF(Árlista!A:A,B224,Árlista!A:A)","v":0},{"$f":"IF(B224>0,(IF(C224>D224,VLOOKUP(B224,Árlista!A:I,9,FALSE),\"\")),\"\")","v":""},{"$f":"IF(B224>0,VLOOKUP(B224,Árlista!A:I,7,FALSE),\"\")","v":""}]
[216,null,null,{"$f":"IF(C225>0,IF(C225>VLOOKUP(B225,Árlista!A:I,6,0),VLOOKUP(B225,Árlista!A:I,6,0),C225),\"\")","v":""},{"$f":"IF(B225>0,VLOOKUP(B225,Árlista!A:I,2,FALSE),\"\")","v":""},{"$f":"IF(B225>0,VLOOKUP(B225,Árlista!A:I,5,0),\"\")","v":""},{"$f":"IF(B225,VLOOKUP(B225,Árlista!A:I,3,0),\"\")","v":""},"","",{"$f":"SUMIF(Árlista!A:A,B225,Árlista!A:A)","v":0},{"$f":"IF(B225>0,(IF(C225>D225,VLOOKUP(B225,Árlista!A:I,9,FALSE),\"\")),\"\")","v":""},{"$f":"IF(B225>0,VLOOKUP(B225,Árlista!A:I,7,FALSE),\"\")","v":""}]
[217,null,null,{"$f":"IF(C226>0,IF(C226>VLOOKUP(B226,Árlista!A:I,6,0),VLOOKUP(B226,Árlista!A:I,6,0),C226),\"\")","v":""},{"$f":"IF(B226>0,VLOOKUP(B226,Árlista!A:I,2,FALSE),\"\")","v":""},{"$f":"IF(B226>0,VLOOKUP(B226,Árlista!A:I,5,0),\"\")","v":""},{"$f":"IF(B226,VLOOKUP(B226,Árlista!A:I,3,0),\"\")","v":""},"","",{"$f":"SUMIF(Árlista!A:A,B226,Árlista!A:A)","v":0},{"$f":"IF(B226>0,(IF(C226>D226,VLOOKUP(B226,Árlista!A:I,9,FALSE),\"\")),\"\")","v":""},{"$f":"IF(B226>0,VLOOKUP(B226,Árlista!A:I,7,FALSE),\"\")","v":""}]
[218,null,null,{"$f":"IF(C227>0,IF(C227>VLOOKUP(B227,Árlista!A:I,6,0),VLOOKUP(B227,Árlista!A:I,6,0),C227),\"\")","v":""},{"$f":"IF(B227>0,VLOOKUP(B227,Árlista!A:I,2,FALSE),\"\")","v":""},{"$f":"IF(B227>0,VLOOKUP(B227,Árlista!A:I,5,0),\"\")","v":""},{"$f":"IF(B227,VLOOKUP(B227,Árlista!A:I,3,0),\"\")","v":""},"","",{"$f":"SUMIF(Árlista!A:A,B227,Árlista!A:A)","v":0},{"$f":"IF(B227>0,(IF(C227>D227,VLOOKUP(B227,Árlista!A:I,9,FALSE),\"\")),\"\")","v":""},{"$f":"IF(B227>0,VLOOKUP(B227,Árlista!A:I,7,FALSE),\"\")","v":""}]
[219,null,null,{"$f":"IF(C228>0,IF(C228>VLOOKUP(B228,Árlista!A:I,6,0),VLOOKUP(B228,Árlista!A:I,6,0),C228),\"\")","v":""},{"$f":"IF(B228>0,VLOOKUP(B228,Árlista!A:I,2,FALSE),\"\")","v":""},{"$f":"IF(B228>0,VLOOKUP(B228,Árlista!A:I,5,0),\"\")","v":""},{"$f":"IF(B228,VLOOKUP(B228,Árlista!A:I,3,0),\"\")","v":""},"","",{"$f":"SUMIF(Árlista!A:A,B228,Árlista!A:A)","v":0},{"$f":"IF(B228>0,(IF(C228>D228,VLOOKUP(B228,Árlista!A:I,9,FALSE),\"\")),\"\")","v":""},{"$f":"IF(B228>0,VLOOKUP(B228,Árlista!A:I,7,FALSE),\"\")","v":""}]
[220,null,null,{"$f":"IF(C229>0,IF(C229>VLOOKUP(B229,Árlista!A:I,6,0),VLOOKUP(B229,Árlista!A:I,6,0),C229),\"\")","v":""},{"$f":"IF(B229>0,VLOOKUP(B229,Árlista!A:I,2,FALSE),\"\")","v":""},{"$f":"IF(B229>0,VLOOKUP(B229,Árlista!A:I,5,0),\"\")","v":""},{"$f":"IF(B229,VLOOKUP(B229,Árlista!A:I,3,0),\"\")","v":""},"","",{"$f":"SUMIF(Árlista!A:A,B229,Árlista!A:A)","v":0},{"$f":"IF(B229>0,(IF(C229>D229,VLOOKUP(B229,Árlista!A:I,9,FALSE),\"\")),\"\")","v":""},{"$f":"IF(B229>0,VLOOKUP(B229,Árlista!A:I,7,FALSE),\"\")","v":""}]
[221,null,null,{"$f":"IF(C230>0,IF(C230>VLOOKUP(B230,Árlista!A:I,6,0),VLOOKUP(B230,Árlista!A:I,6,0),C230),\"\")","v":""},{"$f":"IF(B230>0,VLOOKUP(B230,Árlista!A:I,2,FALSE),\"\")","v":""},{"$f":"IF(B230>0,VLOOKUP(B230,Árlista!A:I,5,0),\"\")","v":""},{"$f":"IF(B230,VLOOKUP(B230,Árlista!A:I,3,0),\"\")","v":""},"","",{"$f":"SUMIF(Árlista!A:A,B230,Árlista!A:A)","v":0},{"$f":"IF(B230>0,(IF(C230>D230,VLOOKUP(B230,Árlista!A:I,9,FALSE),\"\")),\"\")","v":""},{"$f":"IF(B230>0,VLOOKUP(B230,Árlista!A:I,7,FALSE),\"\")","v":""}]
[222,null,null,{"$f":"IF(C231>0,IF(C231>VLOOKUP(B231,Árlista!A:I,6,0),VLOOKUP(B231,Árlista!A:I,6,0),C231),\"\")","v":""},{"$f":"IF(B231>0,VLOOKUP(B231,Árlista!A:I,2,FALSE),\"\")","v":""},{"$f":"IF(B231>0,VLOOKUP(B231,Árlista!A:I,5,0),\"\")","v":""},{"$f":"IF(B231,VLOOKUP(B231,Árlista!A:I,3,0),\"\")","v":""},"","",{"$f":"SUMIF(Árlista!A:A,B231,Árlista!A:A)","v":0},{"$f":"IF(B231>0,(IF(C231>D231,VLOOKUP(B231,Árlista!A:I,9,FALSE),\"\")),\"\")","v":""},{"$f":"IF(B231>0,VLOOKUP(B231,Árlista!A:I,7,FALSE),\"\")","v":""}]
[223,null,null,{"$f":"IF(C232>0,IF(C232>VLOOKUP(B232,Árlista!A:I,6,0),VLOOKUP(B232,Árlista!A:I,6,0),C232),\"\")","v":""},{"$f":"IF(B232>0,VLOOKUP(B232,Árlista!A:I,2,FALSE),\"\")","v":""},{"$f":"IF(B232>0,VLOOKUP(B232,Árlista!A:I,5,0),\"\")","v":""},{"$f":"IF(B232,VLOOKUP(B232,Árlista!A:I,3,0),\"\")","v":""},"","",{"$f":"SUMIF(Árlista!A:A,B232,Árlista!A:A)","v":0},{"$f":"IF(B232>0,(IF(C232>D232,VLOOKUP(B232,Árlista!A:I,9,FALSE),\"\")),\"\")","v":""},{"$f":"IF(B232>0,VLOOKUP(B232,Árlista!A:I,7,FALSE),\"\")","v":""}]
[224,null,null,{"$f":"IF(C233>0,IF(C233>VLOOKUP(B233,Árlista!A:I,6,0),VLOOKUP(B233,Árlista!A:I,6,0),C233),\"\")","v":""},{"$f":"IF(B233>0,VLOOKUP(B233,Árlista!A:I,2,FALSE),\"\")","v":""},{"$f":"IF(B233>0,VLOOKUP(B233,Árlista!A:I,5,0),\"\")","v":""},{"$f":"IF(B233,VLOOKUP(B233,Árlista!A:I,3,0),\"\")","v":""},"","",{"$f":"SUMIF(Árlista!A:A,B233,Árlista!A:A)","v":0},{"$f":"IF(B233>0,(IF(C233>D233,VLOOKUP(B233,Árlista!A:I,9,FALSE),\"\")),\"\")","v":""},{"$f":"IF(B233>0,VLOOKUP(B233,Árlista!A:I,7,FALSE),\"\")","v":""}]
[225,null,null,{"$f":"IF(C234>0,IF(C234>VLOOKUP(B234,Árlista!A:I,6,0),VLOOKUP(B234,Árlista!A:I,6,0),C234),\"\")","v":""},{"$f":"IF(B234>0,VLOOKUP(B234,Árlista!A:I,2,FALSE),\"\")","v":""},{"$f":"IF(B234>0,VLOOKUP(B234,Árlista!A:I,5,0),\"\")","v":""},{"$f":"IF(B234,VLOOKUP(B234,Árlista!A:I,3,0),\"\")","v":""},"","",{"$f":"SUMIF(Árlista!A:A,B234,Árlista!A:A)","v":0},{"$f":"IF(B234>0,(IF(C234>D234,VLOOKUP(B234,Árlista!A:I,9,FALSE),\"\")),\"\")","v":""},{"$f":"IF(B234>0,VLOOKUP(B234,Árlista!A:I,7,FALSE),\"\")","v":""}]
[226,null,null,{"$f":"IF(C235>0,IF(C235>VLOOKUP(B235,Árlista!A:I,6,0),VLOOKUP(B235,Árlista!A:I,6,0),C235),\"\")","v":""},{"$f":"IF(B235>0,VLOOKUP(B235,Árlista!A:I,2,FALSE),\"\")","v":""},{"$f":"IF(B235>0,VLOOKUP(B235,Árlista!A:I,5,0),\"\")","v":""},{"$f":"IF(B235,VLOOKUP(B235,Árlista!A:I,3,0),\"\")","v":""},"","",{"$f":"SUMIF(Árlista!A:A,B235,Árlista!A:A)","v":0},{"$f":"IF(B235>0,(IF(C235>D235,VLOOKUP(B235,Árlista!A:I,9,FALSE),\"\")),\"\")","v":""},{"$f":"IF(B235>0,VLOOKUP(B235,Árlista!A:I,7,FALSE),\"\")","v":""}]
[227,null,null,{"$f":"IF(C236>0,IF(C236>VLOOKUP(B236,Árlista!A:I,6,0),VLOOKUP(B236,Árlista!A:I,6,0),C236),\"\")","v":""},{"$f":"IF(B236>0,VLOOKUP(B236,Árlista!A:I,2,FALSE),\"\")","v":""},{"$f":"IF(B236>0,VLOOKUP(B236,Árlista!A:I,5,0),\"\")","v":""},{"$f":"IF(B236,VLOOKUP(B236,Árlista!A:I,3,0),\"\")","v":""},"","",{"$f":"SUMIF(Árlista!A:A,B236,Árlista!A:A)","v":0},{"$f":"IF(B236>0,(IF(C236>D236,VLOOKUP(B236,Árlista!A:I,9,FALSE),\"\")),\"\")","v":""},{"$f":"IF(B236>0,VLOOKUP(B236,Árlista!A:I,7,FALSE),\"\")","v":""}]
[228,null,null,{"$f":"IF(C237>0,IF(C237>VLOOKUP(B237,Árlista!A:I,6,0),VLOOKUP(B237,Árlista!A:I,6,0),C237),\"\")","v":""},{"$f":"IF(B237>0,VLOOKUP(B237,Árlista!A:I,2,FALSE),\"\")","v":""},{"$f":"IF(B237>0,VLOOKUP(B237,Árlista!A:I,5,0),\"\")","v":""},{"$f":"IF(B237,VLOOKUP(B237,Árlista!A:I,3,0),\"\")","v":""},"","",{"$f":"SUMIF(Árlista!A:A,B237,Árlista!A:A)","v":0},{"$f":"IF(B237>0,(IF(C237>D237,VLOOKUP(B237,Árlista!A:I,9,FALSE),\"\")),\"\")","v":""},{"$f":"IF(B237>0,VLOOKUP(B237,Árlista!A:I,7,FALSE),\"\")","v":""}]
[229,null,null,{"$f":"IF(C238>0,IF(C238>VLOOKUP(B238,Árlista!A:I,6,0),VLOOKUP(B238,Árlista!A:I,6,0),C238),\"\")","v":""},{"$f":"IF(B238>0,VLOOKUP(B238,Árlista!A:I,2,FALSE),\"\")","v":""},{"$f":"IF(B238>0,VLOOKUP(B238,Árlista!A:I,5,0),\"\")","v":""},{"$f":"IF(B238,VLOOKUP(B238,Árlista!A:I,3,0),\"\")","v":""},"","",{"$f":"SUMIF(Árlista!A:A,B238,Árlista!A:A)","v":0},{"$f":"IF(B238>0,(IF(C238>D238,VLOOKUP(B238,Árlista!A:I,9,FALSE),\"\")),\"\")","v":""},{"$f":"IF(B238>0,VLOOKUP(B238,Árlista!A:I,7,FALSE),\"\")","v":""}]
[230,null,null,{"$f":"IF(C239>0,IF(C239>VLOOKUP(B239,Árlista!A:I,6,0),VLOOKUP(B239,Árlista!A:I,6,0),C239),\"\")","v":""},{"$f":"IF(B239>0,VLOOKUP(B239,Árlista!A:I,2,FALSE),\"\")","v":""},{"$f":"IF(B239>0,VLOOKUP(B239,Árlista!A:I,5,0),\"\")","v":""},{"$f":"IF(B239,VLOOKUP(B239,Árlista!A:I,3,0),\"\")","v":""},"","",{"$f":"SUMIF(Árlista!A:A,B239,Árlista!A:A)","v":0},{"$f":"IF(B239>0,(IF(C239>D239,VLOOKUP(B239,Árlista!A:I,9,FALSE),\"\")),\"\")","v":""},{"$f":"IF(B239>0,VLOOKUP(B239,Árlista!A:I,7,FALSE),\"\")","v":""}]
[231,null,null,{"$f":"IF(C240>0,IF(C240>VLOOKUP(B240,Árlista!A:I,6,0),VLOOKUP(B240,Árlista!A:I,6,0),C240),\"\")","v":""},{"$f":"IF(B240>0,VLOOKUP(B240,Árlista!A:I,2,FALSE),\"\")","v":""},{"$f":"IF(B240>0,VLOOKUP(B240,Árlista!A:I,5,0),\"\")","v":""},{"$f":"IF(B240,VLOOKUP(B240,Árlista!A:I,3,0),\"\")","v":""},"","",{"$f":"SUMIF(Árlista!A:A,B240,Árlista!A:A)","v":0},{"$f":"IF(B240>0,(IF(C240>D240,VLOOKUP(B240,Árlista!A:I,9,FALSE),\"\")),\"\")","v":""},{"$f":"IF(B240>0,VLOOKUP(B240,Árlista!A:I,7,FALSE),\"\")","v":""}]
[232,null,null,{"$f":"IF(C241>0,IF(C241>VLOOKUP(B241,Árlista!A:I,6,0),VLOOKUP(B241,Árlista!A:I,6,0),C241),\"\")","v":""},{"$f":"IF(B241>0,VLOOKUP(B241,Árlista!A:I,2,FALSE),\"\")","v":""},{"$f":"IF(B241>0,VLOOKUP(B241,Árlista!A:I,5,0),\"\")","v":""},{"$f":"IF(B241,VLOOKUP(B241,Árlista!A:I,3,0),\"\")","v":""},"","",{"$f":"SUMIF(Árlista!A:A,B241,Árlista!A:A)","v":0},{"$f":"IF(B241>0,(IF(C241>D241,VLOOKUP(B241,Árlista!A:I,9,FALSE),\"\")),\"\")","v":""},{"$f":"IF(B241>0,VLOOKUP(B241,Árlista!A:I,7,FALSE),\"\")","v":""}]
[233,null,null,{"$f":"IF(C242>0,IF(C242>VLOOKUP(B242,Árlista!A:I,6,0),VLOOKUP(B242,Árlista!A:I,6,0),C242),\"\")","v":""},{"$f":"IF(B242>0,VLOOKUP(B242,Árlista!A:I,2,FALSE),\"\")","v":""},{"$f":"IF(B242>0,VLOOKUP(B242,Árlista!A:I,5,0),\"\")","v":""},{"$f":"IF(B242,VLOOKUP(B242,Árlista!A:I,3,0),\"\")","v":""},"","",{"$f":"SUMIF(Árlista!A:A,B242,Árlista!A:A)","v":0},{"$f":"IF(B242>0,(IF(C242>D242,VLOOKUP(B242,Árlista!A:I,9,FALSE),\"\")),\"\")","v":""},{"$f":"IF(B242>0,VLOOKUP(B242,Árlista!A:I,7,FALSE),\"\")","v":""}]
[234,null,null,{"$f":"IF(C243>0,IF(C243>VLOOKUP(B243,Árlista!A:I,6,0),VLOOKUP(B243,Árlista!A:I,6,0),C243),\"\")","v":""},{"$f":"IF(B243>0,VLOOKUP(B243,Árlista!A:I,2,FALSE),\"\")","v":""},{"$f":"IF(B243>0,VLOOKUP(B243,Árlista!A:I,5,0),\"\")","v":""},{"$f":"IF(B243,VLOOKUP(B243,Árlista!A:I,3,0),\"\")","v":""},"","",{"$f":"SUMIF(Árlista!A:A,B243,Árlista!A:A)","v":0},{"$f":"IF(B243>0,(IF(C243>D243,VLOOKUP(B243,Árlista!A:I,9,FALSE),\"\")),\"\")","v":""},{"$f":"IF(B243>0,VLOOKUP(B243,Árlista!A:I,7,FALSE),\"\")","v":""}]
[235,null,null,{"$f":"IF(C244>0,IF(C244>VLOOKUP(B244,Árlista!A:I,6,0),VLOOKUP(B244,Árlista!A:I,6,0),C244),\"\")","v":""},{"$f":"IF(B244>0,VLOOKUP(B244,Árlista!A:I,2,FALSE),\"\")","v":""},{"$f":"IF(B244>0,VLOOKUP(B244,Árlista!A:I,5,0),\"\")","v":""},{"$f":"IF(B244,VLOOKUP(B244,Árlista!A:I,3,0),\"\")","v":""},"","",{"$f":"SUMIF(Árlista!A:A,B244,Árlista!A:A)","v":0},{"$f":"IF(B244>0,(IF(C244>D244,VLOOKUP(B244,Árlista!A:I,9,FALSE),\"\")),\"\")","v":""},{"$f":"IF(B244>0,VLOOKUP(B244,Árlista!A:I,7,FALSE),\"\")","v":""}]
[236,null,null,{"$f":"IF(C245>0,IF(C245>VLOOKUP(B245,Árlista!A:I,6,0),VLOOKUP(B245,Árlista!A:I,6,0),C245),\"\")","v":""},{"$f":"IF(B245>0,VLOOKUP(B245,Árlista!A:I,2,FALSE),\"\")","v":""},{"$f":"IF(B245>0,VLOOKUP(B245,Árlista!A:I,5,0),\"\")","v":""},{"$f":"IF(B245,VLOOKUP(B245,Árlista!A:I,3,0),\"\")","v":""},"","",{"$f":"SUMIF(Árlista!A:A,B245,Árlista!A:A)","v":0},{"$f":"IF(B245>0,(IF(C245>D245,VLOOKUP(B245,Árlista!A:I,9,FALSE),\"\")),\"\")","v":""},{"$f":"IF(B245>0,VLOOKUP(B245,Árlista!A:I,7,FALSE),\"\")","v":""}]
[237,null,null,{"$f":"IF(C246>0,IF(C246>VLOOKUP(B246,Árlista!A:I,6,0),VLOOKUP(B246,Árlista!A:I,6,0),C246),\"\")","v":""},{"$f":"IF(B246>0,VLOOKUP(B246,Árlista!A:I,2,FALSE),\"\")","v":""},{"$f":"IF(B246>0,VLOOKUP(B246,Árlista!A:I,5,0),\"\")","v":""},{"$f":"IF(B246,VLOOKUP(B246,Árlista!A:I,3,0),\"\")","v":""},"","",{"$f":"SUMIF(Árlista!A:A,B246,Árlista!A:A)","v":0},{"$f":"IF(B246>0,(IF(C246>D246,VLOOKUP(B246,Árlista!A:I,9,FALSE),\"\")),\"\")","v":""},{"$f":"IF(B246>0,VLOOKUP(B246,Árlista!A:I,7,FALSE),\"\")","v":""}]
[238,null,null,{"$f":"IF(C247>0,IF(C247>VLOOKUP(B247,Árlista!A:I,6,0),VLOOKUP(B247,Árlista!A:I,6,0),C247),\"\")","v":""},{"$f":"IF(B247>0,VLOOKUP(B247,Árlista!A:I,2,FALSE),\"\")","v":""},{"$f":"IF(B247>0,VLOOKUP(B247,Árlista!A:I,5,0),\"\")","v":""},{"$f":"IF(B247,VLOOKUP(B247,Árlista!A:I,3,0),\"\")","v":""},"","",{"$f":"SUMIF(Árlista!A:A,B247,Árlista!A:A)","v":0},{"$f":"IF(B247>0,(IF(C247>D247,VLOOKUP(B247,Árlista!A:I,9,FALSE),\"\")),\"\")","v":""},{"$f":"IF(B247>0,VLOOKUP(B247,Árlista!A:I,7,FALSE),\"\")","v":""}]
[239,null,null,{"$f":"IF(C248>0,IF(C248>VLOOKUP(B248,Árlista!A:I,6,0),VLOOKUP(B248,Árlista!A:I,6,0),C248),\"\")","v":""},{"$f":"IF(B248>0,VLOOKUP(B248,Árlista!A:I,2,FALSE),\"\")","v":""},{"$f":"IF(B248>0,VLOOKUP(B248,Árlista!A:I,5,0),\"\")","v":""},{"$f":"IF(B248,VLOOKUP(B248,Árlista!A:I,3,0),\"\")","v":""},"","",{"$f":"SUMIF(Árlista!A:A,B248,Árlista!A:A)","v":0},{"$f":"IF(B248>0,(IF(C248>D248,VLOOKUP(B248,Árlista!A:I,9,FALSE),\"\")),\"\")","v":""},{"$f":"IF(B248>0,VLOOKUP(B248,Árlista!A:I,7,FALSE),\"\")","v":""}]
[240,null,null,{"$f":"IF(C249>0,IF(C249>VLOOKUP(B249,Árlista!A:I,6,0),VLOOKUP(B249,Árlista!A:I,6,0),C249),\"\")","v":""},{"$f":"IF(B249>0,VLOOKUP(B249,Árlista!A:I,2,FALSE),\"\")","v":""},{"$f":"IF(B249>0,VLOOKUP(B249,Árlista!A:I,5,0),\"\")","v":""},{"$f":"IF(B249,VLOOKUP(B249,Árlista!A:I,3,0),\"\")","v":""},"","",{"$f":"SUMIF(Árlista!A:A,B249,Árlista!A:A)","v":0},{"$f":"IF(B249>0,(IF(C249>D249,VLOOKUP(B249,Árlista!A:I,9,FALSE),\"\")),\"\")","v":""},{"$f":"IF(B249>0,VLOOKUP(B249,Árlista!A:I,7,FALSE),\"\")","v":""}]
[241,null,null,{"$f":"IF(C250>0,IF(C250>VLOOKUP(B250,Árlista!A:I,6,0),VLOOKUP(B250,Árlista!A:I,6,0),C250),\"\")","v":""},{"$f":"IF(B250>0,VLOOKUP(B250,Árlista!A:I,2,FALSE),\"\")","v":""},{"$f":"IF(B250>0,VLOOKUP(B250,Árlista!A:I,5,0),\"\")","v":""},{"$f":"IF(B250,VLOOKUP(B250,Árlista!A:I,3,0),\"\")","v":""},"","",{"$f":"SUMIF(Árlista!A:A,B250,Árlista!A:A)","v":0},{"$f":"IF(B250>0,(IF(C250>D250,VLOOKUP(B250,Árlista!A:I,9,FALSE),\"\")),\"\")","v":""},{"$f":"IF(B250>0,VLOOKUP(B250,Árlista!A:I,7,FALSE),\"\")","v":""}]
[242,null,null,{"$f":"IF(C251>0,IF(C251>VLOOKUP(B251,Árlista!A:I,6,0),VLOOKUP(B251,Árlista!A:I,6,0),C251),\"\")","v":""},{"$f":"IF(B251>0,VLOOKUP(B251,Árlista!A:I,2,FALSE),\"\")","v":""},{"$f":"IF(B251>0,VLOOKUP(B251,Árlista!A:I,5,0),\"\")","v":""},{"$f":"IF(B251,VLOOKUP(B251,Árlista!A:I,3,0),\"\")","v":""},"","",{"$f":"SUMIF(Árlista!A:A,B251,Árlista!A:A)","v":0},{"$f":"IF(B251>0,(IF(C251>D251,VLOOKUP(B251,Árlista!A:I,9,FALSE),\"\")),\"\")","v":""},{"$f":"IF(B251>0,VLOOKUP(B251,Árlista!A:I,7,FALSE),\"\")","v":""}]
[243,null,null,{"$f":"IF(C252>0,IF(C252>VLOOKUP(B252,Árlista!A:I,6,0),VLOOKUP(B252,Árlista!A:I,6,0),C252),\"\")","v":""},{"$f":"IF(B252>0,VLOOKUP(B252,Árlista!A:I,2,FALSE),\"\")","v":""},{"$f":"IF(B252>0,VLOOKUP(B252,Árlista!A:I,5,0),\"\")","v":""},{"$f":"IF(B252,VLOOKUP(B252,Árlista!A:I,3,0),\"\")","v":""},"","",{"$f":"SUMIF(Árlista!A:A,B252,Árlista!A:A)","v":0},{"$f":"IF(B252>0,(IF(C252>D252,VLOOKUP(B252,Árlista!A:I,9,FALSE),\"\")),\"\")","v":""},{"$f":"IF(B252>0,VLOOKUP(B252,Árlista!A:I,7,FALSE),\"\")","v":""}]
[244,null,null,{"$f":"IF(C253>0,IF(C253>VLOOKUP(B253,Árlista!A:I,6,0),VLOOKUP(B253,Árlista!A:I,6,0),C253),\"\")","v":""},{"$f":"IF(B253>0,VLOOKUP(B253,Árlista!A:I,2,FALSE),\"\")","v":""},{"$f":"IF(B253>0,VLOOKUP(B253,Árlista!A:I,5,0),\"\")","v":""},{"$f":"IF(B253,VLOOKUP(B253,Árlista!A:I,3,0),\"\")","v":""},"","",{"$f":"SUMIF(Árlista!A:A,B253,Árlista!A:A)","v":0},{"$f":"IF(B253>0,(IF(C253>D253,VLOOKUP(B253,Árlista!A:I,9,FALSE),\"\")),\"\")","v":""},{"$f":"IF(B253>0,VLOOKUP(B253,Árlista!A:I,7,FALSE),\"\")","v":""}]
[245,null,null,{"$f":"IF(C254>0,IF(C254>VLOOKUP(B254,Árlista!A:I,6,0),VLOOKUP(B254,Árlista!A:I,6,0),C254),\"\")","v":""},{"$f":"IF(B254>0,VLOOKUP(B254,Árlista!A:I,2,FALSE),\"\")","v":""},{"$f":"IF(B254>0,VLOOKUP(B254,Árlista!A:I,5,0),\"\")","v":""},{"$f":"IF(B254,VLOOKUP(B254,Árlista!A:I,3,0),\"\")","v":""},"","",{"$f":"SUMIF(Árlista!A:A,B254,Árlista!A:A)","v":0},{"$f":"IF(B254>0,(IF(C254>D254,VLOOKUP(B254,Árlista!A:I,9,FALSE),\"\")),\"\")","v":""},{"$f":"IF(B254>0,VLOOKUP(B254,Árlista!A:I,7,FALSE),\"\")","v":""}]
[246,null,null,{"$f":"IF(C255>0,IF(C255>VLOOKUP(B255,Árlista!A:I,6,0),VLOOKUP(B255,Árlista!A:I,6,0),C255),\"\")","v":""},{"$f":"IF(B255>0,VLOOKUP(B255,Árlista!A:I,2,FALSE),\"\")","v":""},{"$f":"IF(B255>0,VLOOKUP(B255,Árlista!A:I,5,0),\"\")","v":""},{"$f":"IF(B255,VLOOKUP(B255,Árlista!A:I,3,0),\"\")","v":""},"","",{"$f":"SUMIF(Árlista!A:A,B255,Árlista!A:A)","v":0},{"$f":"IF(B255>0,(IF(C255>D255,VLOOKUP(B255,Árlista!A:I,9,FALSE),\"\")),\"\")","v":""},{"$f":"IF(B255>0,VLOOKUP(B255,Árlista!A:I,7,FALSE),\"\")","v":""}]
[247,null,null,{"$f":"IF(C256>0,IF(C256>VLOOKUP(B256,Árlista!A:I,6,0),VLOOKUP(B256,Árlista!A:I,6,0),C256),\"\")","v":""},{"$f":"IF(B256>0,VLOOKUP(B256,Árlista!A:I,2,FALSE),\"\")","v":""},{"$f":"IF(B256>0,VLOOKUP(B256,Árlista!A:I,5,0),\"\")","v":""},{"$f":"IF(B256,VLOOKUP(B256,Árlista!A:I,3,0),\"\")","v":""},"","",{"$f":"SUMIF(Árlista!A:A,B256,Árlista!A:A)","v":0},{"$f":"IF(B256>0,(IF(C256>D256,VLOOKUP(B256,Árlista!A:I,9,FALSE),\"\")),\"\")","v":""},{"$f":"IF(B256>0,VLOOKUP(B256,Árlista!A:I,7,FALSE),\"\")","v":""}]
[248,null,null,{"$f":"IF(C257>0,IF(C257>VLOOKUP(B257,Árlista!A:I,6,0),VLOOKUP(B257,Árlista!A:I,6,0),C257),\"\")","v":""},{"$f":"IF(B257>0,VLOOKUP(B257,Árlista!A:I,2,FALSE),\"\")","v":""},{"$f":"IF(B257>0,VLOOKUP(B257,Árlista!A:I,5,0),\"\")","v":""},{"$f":"IF(B257,VLOOKUP(B257,Árlista!A:I,3,0),\"\")","v":""},"","",{"$f":"SUMIF(Árlista!A:A,B257,Árlista!A:A)","v":0},{"$f":"IF(B257>0,(IF(C257>D257,VLOOKUP(B257,Árlista!A:I,9,FALSE),\"\")),\"\")","v":""},{"$f":"IF(B257>0,VLOOKUP(B257,Árlista!A:I,7,FALSE),\"\")","v":""}]
[249,null,null,{"$f":"IF(C258>0,IF(C258>VLOOKUP(B258,Árlista!A:I,6,0),VLOOKUP(B258,Árlista!A:I,6,0),C258),\"\")","v":""},{"$f":"IF(B258>0,VLOOKUP(B258,Árlista!A:I,2,FALSE),\"\")","v":""},{"$f":"IF(B258>0,VLOOKUP(B258,Árlista!A:I,5,0),\"\")","v":""},{"$f":"IF(B258,VLOOKUP(B258,Árlista!A:I,3,0),\"\")","v":""},"","",{"$f":"SUMIF(Árlista!A:A,B258,Árlista!A:A)","v":0},{"$f":"IF(B258>0,(IF(C258>D258,VLOOKUP(B258,Árlista!A:I,9,FALSE),\"\")),\"\")","v":""},{"$f":"IF(B258>0,VLOOKUP(B258,Árlista!A:I,7,FALSE),\"\")","v":""}]
[250,null,null,{"$f":"IF(C259>0,IF(C259>VLOOKUP(B259,Árlista!A:I,6,0),VLOOKUP(B259,Árlista!A:I,6,0),C259),\"\")","v":""},{"$f":"IF(B259>0,VLOOKUP(B259,Árlista!A:I,2,FALSE),\"\")","v":""},{"$f":"IF(B259>0,VLOOKUP(B259,Árlista!A:I,5,0),\"\")","v":""},{"$f":"IF(B259,VLOOKUP(B259,Árlista!A:I,3,0),\"\")","v":""},"","",{"$f":"SUMIF(Árlista!A:A,B259,Árlista!A:A)","v":0},{"$f":"IF(B259>0,(IF(C259>D259,VLOOKUP(B259,Árlista!A:I,9,FALSE),\"\")),\"\")","v":""},{"$f":"IF(B259>0,VLOOKUP(B259,Árlista!A:I,7,FALSE),\"\")","v":""}]
[251,null,null,{"$f":"IF(C260>0,IF(C260>VLOOKUP(B260,Árlista!A:I,6,0),VLOOKUP(B260,Árlista!A:I,6,0),C260),\"\")","v":""},{"$f":"IF(B260>0,VLOOKUP(B260,Árlista!A:I,2,FALSE),\"\")","v":""},{"$f":"IF(B260>0,VLOOKUP(B260,Árlista!A:I,5,0),\"\")","v":""},{"$f":"IF(B260,VLOOKUP(B260,Árlista!A:I,3,0),\"\")","v":""},"","",{"$f":"SUMIF(Árlista!A:A,B260,Árlista!A:A)","v":0},{"$f":"IF(B260>0,(IF(C260>D260,VLOOKUP(B260,Árlista!A:I,9,FALSE),\"\")),\"\")","v":""},{"$f":"IF(B260>0,VLOOKUP(B260,Árlista!A:I,7,FALSE),\"\")","v":""}]
[252,null,null,{"$f":"IF(C261>0,IF(C261>VLOOKUP(B261,Árlista!A:I,6,0),VLOOKUP(B261,Árlista!A:I,6,0),C261),\"\")","v":""},{"$f":"IF(B261>0,VLOOKUP(B261,Árlista!A:I,2,FALSE),\"\")","v":""},{"$f":"IF(B261>0,VLOOKUP(B261,Árlista!A:I,5,0),\"\")","v":""},{"$f":"IF(B261,VLOOKUP(B261,Árlista!A:I,3,0),\"\")","v":""},"","",{"$f":"SUMIF(Árlista!A:A,B261,Árlista!A:A)","v":0},{"$f":"IF(B261>0,(IF(C261>D261,VLOOKUP(B261,Árlista!A:I,9,FALSE),\"\")),\"\")","v":""},{"$f":"IF(B261>0,VLOOKUP(B261,Árlista!A:I,7,FALSE),\"\")","v":""}]
[253,null,null,{"$f":"IF(C262>0,IF(C262>VLOOKUP(B262,Árlista!A:I,6,0),VLOOKUP(B262,Árlista!A:I,6,0),C262),\"\")","v":""},{"$f":"IF(B262>0,VLOOKUP(B262,Árlista!A:I,2,FALSE),\"\")","v":""},{"$f":"IF(B262>0,VLOOKUP(B262,Árlista!A:I,5,0),\"\")","v":""},{"$f":"IF(B262,VLOOKUP(B262,Árlista!A:I,3,0),\"\")","v":""},"","",{"$f":"SUMIF(Árlista!A:A,B262,Árlista!A:A)","v":0},{"$f":"IF(B262>0,(IF(C262>D262,VLOOKUP(B262,Árlista!A:I,9,FALSE),\"\")),\"\")","v":""},{"$f":"IF(B262>0,VLOOKUP(B262,Árlista!A:I,7,FALSE),\"\")","v":""}]
[254,null,null,{"$f":"IF(C263>0,IF(C263>VLOOKUP(B263,Árlista!A:I,6,0),VLOOKUP(B263,Árlista!A:I,6,0),C263),\"\")","v":""},{"$f":"IF(B263>0,VLOOKUP(B263,Árlista!A:I,2,FALSE),\"\")","v":""},{"$f":"IF(B263>0,VLOOKUP(B263,Árlista!A:I,5,0),\"\")","v":""},{"$f":"IF(B263,VLOOKUP(B263,Árlista!A:I,3,0),\"\")","v":""},"","",{"$f":"SUMIF(Árlista!A:A,B263,Árlista!A:A)","v":0},{"$f":"IF(B263>0,(IF(C263>D263,VLOOKUP(B263,Árlista!A:I,9,FALSE),\"\")),\"\")","v":""},{"$f":"IF(B263>0,VLOOKUP(B263,Árlista!A:I,7,FALSE),\"\")","v":""}]
[255,null,null,{"$f":"IF(C264>0,IF(C264>VLOOKUP(B264,Árlista!A:I,6,0),VLOOKUP(B264,Árlista!A:I,6,0),C264),\"\")","v":""},{"$f":"IF(B264>0,VLOOKUP(B264,Árlista!A:I,2,FALSE),\"\")","v":""},{"$f":"IF(B264>0,VLOOKUP(B264,Árlista!A:I,5,0),\"\")","v":""},{"$f":"IF(B264,VLOOKUP(B264,Árlista!A:I,3,0),\"\")","v":""},"","",{"$f":"SUMIF(Árlista!A:A,B264,Árlista!A:A)","v":0},{"$f":"IF(B264>0,(IF(C264>D264,VLOOKUP(B264,Árlista!A:I,9,FALSE),\"\")),\"\")","v":""},{"$f":"IF(B264>0,VLOOKUP(B264,Árlista!A:I,7,FALSE),\"\")","v":""}]
[256,null,null,{"$f":"IF(C265>0,IF(C265>VLOOKUP(B265,Árlista!A:I,6,0),VLOOKUP(B265,Árlista!A:I,6,0),C265),\"\")","v":""},{"$f":"IF(B265>0,VLOOKUP(B265,Árlista!A:I,2,FALSE),\"\")","v":""},{"$f":"IF(B265>0,VLOOKUP(B265,Árlista!A:I,5,0),\"\")","v":""},{"$f":"IF(B265,VLOOKUP(B265,Árlista!A:I,3,0),\"\")","v":""},"","",{"$f":"SUMIF(Árlista!A:A,B265,Árlista!A:A)","v":0},{"$f":"IF(B265>0,(IF(C265>D265,VLOOKUP(B265,Árlista!A:I,9,FALSE),\"\")),\"\")","v":""},{"$f":"IF(B265>0,VLOOKUP(B265,Árlista!A:I,7,FALSE),\"\")","v":""}]
[{"$f":"A265+1","v":257},null,null,{"$f":"IF(C266>0,IF(C266>VLOOKUP(B266,Árlista!A:I,6,0),VLOOKUP(B266,Árlista!A:I,6,0),C266),\"\")","v":""},{"$f":"IF(B266>0,VLOOKUP(B266,Árlista!A:I,2,FALSE),\"\")","v":""},{"$f":"IF(B266>0,VLOOKUP(B266,Árlista!A:I,5,0),\"\")","v":""},{"$f":"IF(B266,VLOOKUP(B266,Árlista!A:I,3,0),\"\")","v":""},"",{"$f":"IF(J266>0,IF(B266>0,D266*H266,\"\"),\"\")","v":""},{"$f":"SUMIF(Árlista!A:A,B266,Árlista!A:A)","v":0},{"$f":"IF(B266>0,(IF(C266>D266,VLOOKUP(B266,Árlista!A:I,9,FALSE),\"\")),\"\")","v":""},{"$f":"IF(B266>0,VLOOKUP(B266,Árlista!A:I,7,FALSE),\"\")","v":""}]
[258,null,null,{"$f":"IF(C267>0,IF(C267>VLOOKUP(B267,Árlista!A:I,6,0),VLOOKUP(B267,Árlista!A:I,6,0),C267),\"\")","v":""},{"$f":"IF(B267>0,VLOOKUP(B267,Árlista!A:I,2,FALSE),\"\")","v":""},{"$f":"IF(B267>0,VLOOKUP(B267,Árlista!A:I,5,0),\"\")","v":""},{"$f":"IF(B267,VLOOKUP(B267,Árlista!A:I,3,0),\"\")","v":""},{"$f":"IF(B267>0,G267*(1-$G$1),\"\")","v":""},"",{"$f":"SUMIF(Árlista!A:A,B267,Árlista!A:A)","v":0},{"$f":"IF(B267>0,(IF(C267>D267,VLOOKUP(B267,Árlista!A:I,9,FALSE),\"\")),\"\")","v":""},{"$f":"IF(B267>0,VLOOKUP(B267,Árlista!A:I,7,FALSE),\"\")","v":""}]
[259,null,null,{"$f":"IF(C268>0,IF(C268>VLOOKUP(B268,Árlista!A:I,6,0),VLOOKUP(B268,Árlista!A:I,6,0),C268),\"\")","v":""},{"$f":"IF(B268>0,VLOOKUP(B268,Árlista!A:I,2,FALSE),\"\")","v":""},{"$f":"IF(B268>0,VLOOKUP(B268,Árlista!A:I,5,0),\"\")","v":""},{"$f":"IF(B268,VLOOKUP(B268,Árlista!A:I,3,0),\"\")","v":""},"","",{"$f":"SUMIF(Árlista!A:A,B268,Árlista!A:A)","v":0},{"$f":"IF(B268>0,(IF(C268>D268,VLOOKUP(B268,Árlista!A:I,9,FALSE),\"\")),\"\")","v":""},{"$f":"IF(B268>0,VLOOKUP(B268,Árlista!A:I,7,FALSE),\"\")","v":""}]
[260,null,null,{"$f":"IF(C269>0,IF(C269>VLOOKUP(B269,Árlista!A:I,6,0),VLOOKUP(B269,Árlista!A:I,6,0),C269),\"\")","v":""},{"$f":"IF(B269>0,VLOOKUP(B269,Árlista!A:I,2,FALSE),\"\")","v":""},{"$f":"IF(B269>0,VLOOKUP(B269,Árlista!A:I,5,0),\"\")","v":""},{"$f":"IF(B269,VLOOKUP(B269,Árlista!A:I,3,0),\"\")","v":""},"","",{"$f":"SUMIF(Árlista!A:A,B269,Árlista!A:A)","v":0},{"$f":"IF(B269>0,(IF(C269>D269,VLOOKUP(B269,Árlista!A:I,9,FALSE),\"\")),\"\")","v":""},{"$f":"IF(B269>0,VLOOKUP(B269,Árlista!A:I,7,FALSE),\"\")","v":""}]
[261,null,null,{"$f":"IF(C270>0,IF(C270>VLOOKUP(B270,Árlista!A:I,6,0),VLOOKUP(B270,Árlista!A:I,6,0),C270),\"\")","v":""},{"$f":"IF(B270>0,VLOOKUP(B270,Árlista!A:I,2,FALSE),\"\")","v":""},{"$f":"IF(B270>0,VLOOKUP(B270,Árlista!A:I,5,0),\"\")","v":""},{"$f":"IF(B270,VLOOKUP(B270,Árlista!A:I,3,0),\"\")","v":""},"","",{"$f":"SUMIF(Árlista!A:A,B270,Árlista!A:A)","v":0},{"$f":"IF(B270>0,(IF(C270>D270,VLOOKUP(B270,Árlista!A:I,9,FALSE),\"\")),\"\")","v":""},{"$f":"IF(B270>0,VLOOKUP(B270,Árlista!A:I,7,FALSE),\"\")","v":""}]
[262,null,null,{"$f":"IF(C271>0,IF(C271>VLOOKUP(B271,Árlista!A:I,6,0),VLOOKUP(B271,Árlista!A:I,6,0),C271),\"\")","v":""},{"$f":"IF(B271>0,VLOOKUP(B271,Árlista!A:I,2,FALSE),\"\")","v":""},{"$f":"IF(B271>0,VLOOKUP(B271,Árlista!A:I,5,0),\"\")","v":""},{"$f":"IF(B271,VLOOKUP(B271,Árlista!A:I,3,0),\"\")","v":""},"","",{"$f":"SUMIF(Árlista!A:A,B271,Árlista!A:A)","v":0},{"$f":"IF(B271>0,(IF(C271>D271,VLOOKUP(B271,Árlista!A:I,9,FALSE),\"\")),\"\")","v":""},{"$f":"IF(B271>0,VLOOKUP(B271,Árlista!A:I,7,FALSE),\"\")","v":""}]
[263,null,null,{"$f":"IF(C272>0,IF(C272>VLOOKUP(B272,Árlista!A:I,6,0),VLOOKUP(B272,Árlista!A:I,6,0),C272),\"\")","v":""},{"$f":"IF(B272>0,VLOOKUP(B272,Árlista!A:I,2,FALSE),\"\")","v":""},{"$f":"IF(B272>0,VLOOKUP(B272,Árlista!A:I,5,0),\"\")","v":""},{"$f":"IF(B272,VLOOKUP(B272,Árlista!A:I,3,0),\"\")","v":""},"","",{"$f":"SUMIF(Árlista!A:A,B272,Árlista!A:A)","v":0},{"$f":"IF(B272>0,(IF(C272>D272,VLOOKUP(B272,Árlista!A:I,9,FALSE),\"\")),\"\")","v":""},{"$f":"IF(B272>0,VLOOKUP(B272,Árlista!A:I,7,FALSE),\"\")","v":""}]
[264,null,null,{"$f":"IF(C273>0,IF(C273>VLOOKUP(B273,Árlista!A:I,6,0),VLOOKUP(B273,Árlista!A:I,6,0),C273),\"\")","v":""},{"$f":"IF(B273>0,VLOOKUP(B273,Árlista!A:I,2,FALSE),\"\")","v":""},{"$f":"IF(B273>0,VLOOKUP(B273,Árlista!A:I,5,0),\"\")","v":""},{"$f":"IF(B273,VLOOKUP(B273,Árlista!A:I,3,0),\"\")","v":""},"","",{"$f":"SUMIF(Árlista!A:A,B273,Árlista!A:A)","v":0},{"$f":"IF(B273>0,(IF(C273>D273,VLOOKUP(B273,Árlista!A:I,9,FALSE),\"\")),\"\")","v":""},{"$f":"IF(B273>0,VLOOKUP(B273,Árlista!A:I,7,FALSE),\"\")","v":""}]
[265,null,null,{"$f":"IF(C274>0,IF(C274>VLOOKUP(B274,Árlista!A:I,6,0),VLOOKUP(B274,Árlista!A:I,6,0),C274),\"\")","v":""},{"$f":"IF(B274>0,VLOOKUP(B274,Árlista!A:I,2,FALSE),\"\")","v":""},{"$f":"IF(B274>0,VLOOKUP(B274,Árlista!A:I,5,0),\"\")","v":""},{"$f":"IF(B274,VLOOKUP(B274,Árlista!A:I,3,0),\"\")","v":""},"","",{"$f":"SUMIF(Árlista!A:A,B274,Árlista!A:A)","v":0},{"$f":"IF(B274>0,(IF(C274>D274,VLOOKUP(B274,Árlista!A:I,9,FALSE),\"\")),\"\")","v":""},{"$f":"IF(B274>0,VLOOKUP(B274,Árlista!A:I,7,FALSE),\"\")","v":""}]
[266,null,null,{"$f":"IF(C275>0,IF(C275>VLOOKUP(B275,Árlista!A:I,6,0),VLOOKUP(B275,Árlista!A:I,6,0),C275),\"\")","v":""},{"$f":"IF(B275>0,VLOOKUP(B275,Árlista!A:I,2,FALSE),\"\")","v":""},{"$f":"IF(B275>0,VLOOKUP(B275,Árlista!A:I,5,0),\"\")","v":""},{"$f":"IF(B275,VLOOKUP(B275,Árlista!A:I,3,0),\"\")","v":""},"","",{"$f":"SUMIF(Árlista!A:A,B275,Árlista!A:A)","v":0},{"$f":"IF(B275>0,(IF(C275>D275,VLOOKUP(B275,Árlista!A:I,9,FALSE),\"\")),\"\")","v":""},{"$f":"IF(B275>0,VLOOKUP(B275,Árlista!A:I,7,FALSE),\"\")","v":""}]
[267,null,null,{"$f":"IF(C276>0,IF(C276>VLOOKUP(B276,Árlista!A:I,6,0),VLOOKUP(B276,Árlista!A:I,6,0),C276),\"\")","v":""},{"$f":"IF(B276>0,VLOOKUP(B276,Árlista!A:I,2,FALSE),\"\")","v":""},{"$f":"IF(B276>0,VLOOKUP(B276,Árlista!A:I,5,0),\"\")","v":""},{"$f":"IF(B276,VLOOKUP(B276,Árlista!A:I,3,0),\"\")","v":""},"","",{"$f":"SUMIF(Árlista!A:A,B276,Árlista!A:A)","v":0},{"$f":"IF(B276>0,(IF(C276>D276,VLOOKUP(B276,Árlista!A:I,9,FALSE),\"\")),\"\")","v":""},{"$f":"IF(B276>0,VLOOKUP(B276,Árlista!A:I,7,FALSE),\"\")","v":""}]
[268,null,null,{"$f":"IF(C277>0,IF(C277>VLOOKUP(B277,Árlista!A:I,6,0),VLOOKUP(B277,Árlista!A:I,6,0),C277),\"\")","v":""},{"$f":"IF(B277>0,VLOOKUP(B277,Árlista!A:I,2,FALSE),\"\")","v":""},{"$f":"IF(B277>0,VLOOKUP(B277,Árlista!A:I,5,0),\"\")","v":""},{"$f":"IF(B277,VLOOKUP(B277,Árlista!A:I,3,0),\"\")","v":""},"","",{"$f":"SUMIF(Árlista!A:A,B277,Árlista!A:A)","v":0},{"$f":"IF(B277>0,(IF(C277>D277,VLOOKUP(B277,Árlista!A:I,9,FALSE),\"\")),\"\")","v":""},{"$f":"IF(B277>0,VLOOKUP(B277,Árlista!A:I,7,FALSE),\"\")","v":""}]
[269,null,null,{"$f":"IF(C278>0,IF(C278>VLOOKUP(B278,Árlista!A:I,6,0),VLOOKUP(B278,Árlista!A:I,6,0),C278),\"\")","v":""},{"$f":"IF(B278>0,VLOOKUP(B278,Árlista!A:I,2,FALSE),\"\")","v":""},{"$f":"IF(B278>0,VLOOKUP(B278,Árlista!A:I,5,0),\"\")","v":""},{"$f":"IF(B278,VLOOKUP(B278,Árlista!A:I,3,0),\"\")","v":""},"","",{"$f":"SUMIF(Árlista!A:A,B278,Árlista!A:A)","v":0},{"$f":"IF(B278>0,(IF(C278>D278,VLOOKUP(B278,Árlista!A:I,9,FALSE),\"\")),\"\")","v":""},{"$f":"IF(B278>0,VLOOKUP(B278,Árlista!A:I,7,FALSE),\"\")","v":""}]
[270,null,null,{"$f":"IF(C279>0,IF(C279>VLOOKUP(B279,Árlista!A:I,6,0),VLOOKUP(B279,Árlista!A:I,6,0),C279),\"\")","v":""},{"$f":"IF(B279>0,VLOOKUP(B279,Árlista!A:I,2,FALSE),\"\")","v":""},{"$f":"IF(B279>0,VLOOKUP(B279,Árlista!A:I,5,0),\"\")","v":""},{"$f":"IF(B279,VLOOKUP(B279,Árlista!A:I,3,0),\"\")","v":""},"","",{"$f":"SUMIF(Árlista!A:A,B279,Árlista!A:A)","v":0},{"$f":"IF(B279>0,(IF(C279>D279,VLOOKUP(B279,Árlista!A:I,9,FALSE),\"\")),\"\")","v":""},{"$f":"IF(B279>0,VLOOKUP(B279,Árlista!A:I,7,FALSE),\"\")","v":""}]
[271,null,null,{"$f":"IF(C280>0,IF(C280>VLOOKUP(B280,Árlista!A:I,6,0),VLOOKUP(B280,Árlista!A:I,6,0),C280),\"\")","v":""},{"$f":"IF(B280>0,VLOOKUP(B280,Árlista!A:I,2,FALSE),\"\")","v":""},{"$f":"IF(B280>0,VLOOKUP(B280,Árlista!A:I,5,0),\"\")","v":""},{"$f":"IF(B280,VLOOKUP(B280,Árlista!A:I,3,0),\"\")","v":""},"","",{"$f":"SUMIF(Árlista!A:A,B280,Árlista!A:A)","v":0},{"$f":"IF(B280>0,(IF(C280>D280,VLOOKUP(B280,Árlista!A:I,9,FALSE),\"\")),\"\")","v":""},{"$f":"IF(B280>0,VLOOKUP(B280,Árlista!A:I,7,FALSE),\"\")","v":""}]
[272,null,null,{"$f":"IF(C281>0,IF(C281>VLOOKUP(B281,Árlista!A:I,6,0),VLOOKUP(B281,Árlista!A:I,6,0),C281),\"\")","v":""},{"$f":"IF(B281>0,VLOOKUP(B281,Árlista!A:I,2,FALSE),\"\")","v":""},{"$f":"IF(B281>0,VLOOKUP(B281,Árlista!A:I,5,0),\"\")","v":""},{"$f":"IF(B281,VLOOKUP(B281,Árlista!A:I,3,0),\"\")","v":""},"","",{"$f":"SUMIF(Árlista!A:A,B281,Árlista!A:A)","v":0},{"$f":"IF(B281>0,(IF(C281>D281,VLOOKUP(B281,Árlista!A:I,9,FALSE),\"\")),\"\")","v":""},{"$f":"IF(B281>0,VLOOKUP(B281,Árlista!A:I,7,FALSE),\"\")","v":""}]
[273,null,null,{"$f":"IF(C282>0,IF(C282>VLOOKUP(B282,Árlista!A:I,6,0),VLOOKUP(B282,Árlista!A:I,6,0),C282),\"\")","v":""},{"$f":"IF(B282>0,VLOOKUP(B282,Árlista!A:I,2,FALSE),\"\")","v":""},{"$f":"IF(B282>0,VLOOKUP(B282,Árlista!A:I,5,0),\"\")","v":""},{"$f":"IF(B282,VLOOKUP(B282,Árlista!A:I,3,0),\"\")","v":""},"","",{"$f":"SUMIF(Árlista!A:A,B282,Árlista!A:A)","v":0},{"$f":"IF(B282>0,(IF(C282>D282,VLOOKUP(B282,Árlista!A:I,9,FALSE),\"\")),\"\")","v":""},{"$f":"IF(B282>0,VLOOKUP(B282,Árlista!A:I,7,FALSE),\"\")","v":""}]
[274,null,null,{"$f":"IF(C283>0,IF(C283>VLOOKUP(B283,Árlista!A:I,6,0),VLOOKUP(B283,Árlista!A:I,6,0),C283),\"\")","v":""},{"$f":"IF(B283>0,VLOOKUP(B283,Árlista!A:I,2,FALSE),\"\")","v":""},{"$f":"IF(B283>0,VLOOKUP(B283,Árlista!A:I,5,0),\"\")","v":""},{"$f":"IF(B283,VLOOKUP(B283,Árlista!A:I,3,0),\"\")","v":""},"","",{"$f":"SUMIF(Árlista!A:A,B283,Árlista!A:A)","v":0},{"$f":"IF(B283>0,(IF(C283>D283,VLOOKUP(B283,Árlista!A:I,9,FALSE),\"\")),\"\")","v":""},{"$f":"IF(B283>0,VLOOKUP(B283,Árlista!A:I,7,FALSE),\"\")","v":""}]
[275,null,null,{"$f":"IF(C284>0,IF(C284>VLOOKUP(B284,Árlista!A:I,6,0),VLOOKUP(B284,Árlista!A:I,6,0),C284),\"\")","v":""},{"$f":"IF(B284>0,VLOOKUP(B284,Árlista!A:I,2,FALSE),\"\")","v":""},{"$f":"IF(B284>0,VLOOKUP(B284,Árlista!A:I,5,0),\"\")","v":""},{"$f":"IF(B284,VLOOKUP(B284,Árlista!A:I,3,0),\"\")","v":""},"","",{"$f":"SUMIF(Árlista!A:A,B284,Árlista!A:A)","v":0},{"$f":"IF(B284>0,(IF(C284>D284,VLOOKUP(B284,Árlista!A:I,9,FALSE),\"\")),\"\")","v":""},{"$f":"IF(B284>0,VLOOKUP(B284,Árlista!A:I,7,FALSE),\"\")","v":""}]
[276,null,null,{"$f":"IF(C285>0,IF(C285>VLOOKUP(B285,Árlista!A:I,6,0),VLOOKUP(B285,Árlista!A:I,6,0),C285),\"\")","v":""},{"$f":"IF(B285>0,VLOOKUP(B285,Árlista!A:I,2,FALSE),\"\")","v":""},{"$f":"IF(B285>0,VLOOKUP(B285,Árlista!A:I,5,0),\"\")","v":""},{"$f":"IF(B285,VLOOKUP(B285,Árlista!A:I,3,0),\"\")","v":""},"","",{"$f":"SUMIF(Árlista!A:A,B285,Árlista!A:A)","v":0},{"$f":"IF(B285>0,(IF(C285>D285,VLOOKUP(B285,Árlista!A:I,9,FALSE),\"\")),\"\")","v":""},{"$f":"IF(B285>0,VLOOKUP(B285,Árlista!A:I,7,FALSE),\"\")","v":""}]
[277,null,null,{"$f":"IF(C286>0,IF(C286>VLOOKUP(B286,Árlista!A:I,6,0),VLOOKUP(B286,Árlista!A:I,6,0),C286),\"\")","v":""},{"$f":"IF(B286>0,VLOOKUP(B286,Árlista!A:I,2,FALSE),\"\")","v":""},{"$f":"IF(B286>0,VLOOKUP(B286,Árlista!A:I,5,0),\"\")","v":""},{"$f":"IF(B286,VLOOKUP(B286,Árlista!A:I,3,0),\"\")","v":""},"","",{"$f":"SUMIF(Árlista!A:A,B286,Árlista!A:A)","v":0},{"$f":"IF(B286>0,(IF(C286>D286,VLOOKUP(B286,Árlista!A:I,9,FALSE),\"\")),\"\")","v":""},{"$f":"IF(B286>0,VLOOKUP(B286,Árlista!A:I,7,FALSE),\"\")","v":""}]
[278,null,null,{"$f":"IF(C287>0,IF(C287>VLOOKUP(B287,Árlista!A:I,6,0),VLOOKUP(B287,Árlista!A:I,6,0),C287),\"\")","v":""},{"$f":"IF(B287>0,VLOOKUP(B287,Árlista!A:I,2,FALSE),\"\")","v":""},{"$f":"IF(B287>0,VLOOKUP(B287,Árlista!A:I,5,0),\"\")","v":""},{"$f":"IF(B287,VLOOKUP(B287,Árlista!A:I,3,0),\"\")","v":""},"","",{"$f":"SUMIF(Árlista!A:A,B287,Árlista!A:A)","v":0},{"$f":"IF(B287>0,(IF(C287>D287,VLOOKUP(B287,Árlista!A:I,9,FALSE),\"\")),\"\")","v":""},{"$f":"IF(B287>0,VLOOKUP(B287,Árlista!A:I,7,FALSE),\"\")","v":""}]
[279,null,null,{"$f":"IF(C288>0,IF(C288>VLOOKUP(B288,Árlista!A:I,6,0),VLOOKUP(B288,Árlista!A:I,6,0),C288),\"\")","v":""},{"$f":"IF(B288>0,VLOOKUP(B288,Árlista!A:I,2,FALSE),\"\")","v":""},{"$f":"IF(B288>0,VLOOKUP(B288,Árlista!A:I,5,0),\"\")","v":""},{"$f":"IF(B288,VLOOKUP(B288,Árlista!A:I,3,0),\"\")","v":""},"","",{"$f":"SUMIF(Árlista!A:A,B288,Árlista!A:A)","v":0},{"$f":"IF(B288>0,(IF(C288>D288,VLOOKUP(B288,Árlista!A:I,9,FALSE),\"\")),\"\")","v":""},{"$f":"IF(B288>0,VLOOKUP(B288,Árlista!A:I,7,FALSE),\"\")","v":""}]
[280,null,null,{"$f":"IF(C289>0,IF(C289>VLOOKUP(B289,Árlista!A:I,6,0),VLOOKUP(B289,Árlista!A:I,6,0),C289),\"\")","v":""},{"$f":"IF(B289>0,VLOOKUP(B289,Árlista!A:I,2,FALSE),\"\")","v":""},{"$f":"IF(B289>0,VLOOKUP(B289,Árlista!A:I,5,0),\"\")","v":""},{"$f":"IF(B289,VLOOKUP(B289,Árlista!A:I,3,0),\"\")","v":""},"","",{"$f":"SUMIF(Árlista!A:A,B289,Árlista!A:A)","v":0},{"$f":"IF(B289>0,(IF(C289>D289,VLOOKUP(B289,Árlista!A:I,9,FALSE),\"\")),\"\")","v":""},{"$f":"IF(B289>0,VLOOKUP(B289,Árlista!A:I,7,FALSE),\"\")","v":""}]
[281,null,null,{"$f":"IF(C290>0,IF(C290>VLOOKUP(B290,Árlista!A:I,6,0),VLOOKUP(B290,Árlista!A:I,6,0),C290),\"\")","v":""},{"$f":"IF(B290>0,VLOOKUP(B290,Árlista!A:I,2,FALSE),\"\")","v":""},{"$f":"IF(B290>0,VLOOKUP(B290,Árlista!A:I,5,0),\"\")","v":""},{"$f":"IF(B290,VLOOKUP(B290,Árlista!A:I,3,0),\"\")","v":""},"","",{"$f":"SUMIF(Árlista!A:A,B290,Árlista!A:A)","v":0},{"$f":"IF(B290>0,(IF(C290>D290,VLOOKUP(B290,Árlista!A:I,9,FALSE),\"\")),\"\")","v":""},{"$f":"IF(B290>0,VLOOKUP(B290,Árlista!A:I,7,FALSE),\"\")","v":""}]
[282,null,null,{"$f":"IF(C291>0,IF(C291>VLOOKUP(B291,Árlista!A:I,6,0),VLOOKUP(B291,Árlista!A:I,6,0),C291),\"\")","v":""},{"$f":"IF(B291>0,VLOOKUP(B291,Árlista!A:I,2,FALSE),\"\")","v":""},{"$f":"IF(B291>0,VLOOKUP(B291,Árlista!A:I,5,0),\"\")","v":""},{"$f":"IF(B291,VLOOKUP(B291,Árlista!A:I,3,0),\"\")","v":""},"","",{"$f":"SUMIF(Árlista!A:A,B291,Árlista!A:A)","v":0},{"$f":"IF(B291>0,(IF(C291>D291,VLOOKUP(B291,Árlista!A:I,9,FALSE),\"\")),\"\")","v":""},{"$f":"IF(B291>0,VLOOKUP(B291,Árlista!A:I,7,FALSE),\"\")","v":""}]
[283,null,null,{"$f":"IF(C292>0,IF(C292>VLOOKUP(B292,Árlista!A:I,6,0),VLOOKUP(B292,Árlista!A:I,6,0),C292),\"\")","v":""},{"$f":"IF(B292>0,VLOOKUP(B292,Árlista!A:I,2,FALSE),\"\")","v":""},{"$f":"IF(B292>0,VLOOKUP(B292,Árlista!A:I,5,0),\"\")","v":""},{"$f":"IF(B292,VLOOKUP(B292,Árlista!A:I,3,0),\"\")","v":""},"","",{"$f":"SUMIF(Árlista!A:A,B292,Árlista!A:A)","v":0},{"$f":"IF(B292>0,(IF(C292>D292,VLOOKUP(B292,Árlista!A:I,9,FALSE),\"\")),\"\")","v":""},{"$f":"IF(B292>0,VLOOKUP(B292,Árlista!A:I,7,FALSE),\"\")","v":""}]
[284,null,null,{"$f":"IF(C293>0,IF(C293>VLOOKUP(B293,Árlista!A:I,6,0),VLOOKUP(B293,Árlista!A:I,6,0),C293),\"\")","v":""},{"$f":"IF(B293>0,VLOOKUP(B293,Árlista!A:I,2,FALSE),\"\")","v":""},{"$f":"IF(B293>0,VLOOKUP(B293,Árlista!A:I,5,0),\"\")","v":""},{"$f":"IF(B293,VLOOKUP(B293,Árlista!A:I,3,0),\"\")","v":""},"","",{"$f":"SUMIF(Árlista!A:A,B293,Árlista!A:A)","v":0},{"$f":"IF(B293>0,(IF(C293>D293,VLOOKUP(B293,Árlista!A:I,9,FALSE),\"\")),\"\")","v":""},{"$f":"IF(B293>0,VLOOKUP(B293,Árlista!A:I,7,FALSE),\"\")","v":""}]
[285,null,null,{"$f":"IF(C294>0,IF(C294>VLOOKUP(B294,Árlista!A:I,6,0),VLOOKUP(B294,Árlista!A:I,6,0),C294),\"\")","v":""},{"$f":"IF(B294>0,VLOOKUP(B294,Árlista!A:I,2,FALSE),\"\")","v":""},{"$f":"IF(B294>0,VLOOKUP(B294,Árlista!A:I,5,0),\"\")","v":""},{"$f":"IF(B294,VLOOKUP(B294,Árlista!A:I,3,0),\"\")","v":""},"","",{"$f":"SUMIF(Árlista!A:A,B294,Árlista!A:A)","v":0},{"$f":"IF(B294>0,(IF(C294>D294,VLOOKUP(B294,Árlista!A:I,9,FALSE),\"\")),\"\")","v":""},{"$f":"IF(B294>0,VLOOKUP(B294,Árlista!A:I,7,FALSE),\"\")","v":""}]
[286,null,null,{"$f":"IF(C295>0,IF(C295>VLOOKUP(B295,Árlista!A:I,6,0),VLOOKUP(B295,Árlista!A:I,6,0),C295),\"\")","v":""},{"$f":"IF(B295>0,VLOOKUP(B295,Árlista!A:I,2,FALSE),\"\")","v":""},{"$f":"IF(B295>0,VLOOKUP(B295,Árlista!A:I,5,0),\"\")","v":""},{"$f":"IF(B295,VLOOKUP(B295,Árlista!A:I,3,0),\"\")","v":""},"","",{"$f":"SUMIF(Árlista!A:A,B295,Árlista!A:A)","v":0},{"$f":"IF(B295>0,(IF(C295>D295,VLOOKUP(B295,Árlista!A:I,9,FALSE),\"\")),\"\")","v":""},{"$f":"IF(B295>0,VLOOKUP(B295,Árlista!A:I,7,FALSE),\"\")","v":""}]
[287,null,null,{"$f":"IF(C296>0,IF(C296>VLOOKUP(B296,Árlista!A:I,6,0),VLOOKUP(B296,Árlista!A:I,6,0),C296),\"\")","v":""},{"$f":"IF(B296>0,VLOOKUP(B296,Árlista!A:I,2,FALSE),\"\")","v":""},{"$f":"IF(B296>0,VLOOKUP(B296,Árlista!A:I,5,0),\"\")","v":""},{"$f":"IF(B296,VLOOKUP(B296,Árlista!A:I,3,0),\"\")","v":""},"","",{"$f":"SUMIF(Árlista!A:A,B296,Árlista!A:A)","v":0},{"$f":"IF(B296>0,(IF(C296>D296,VLOOKUP(B296,Árlista!A:I,9,FALSE),\"\")),\"\")","v":""},{"$f":"IF(B296>0,VLOOKUP(B296,Árlista!A:I,7,FALSE),\"\")","v":""}]
[288,null,null,{"$f":"IF(C297>0,IF(C297>VLOOKUP(B297,Árlista!A:I,6,0),VLOOKUP(B297,Árlista!A:I,6,0),C297),\"\")","v":""},{"$f":"IF(B297>0,VLOOKUP(B297,Árlista!A:I,2,FALSE),\"\")","v":""},{"$f":"IF(B297>0,VLOOKUP(B297,Árlista!A:I,5,0),\"\")","v":""},{"$f":"IF(B297,VLOOKUP(B297,Árlista!A:I,3,0),\"\")","v":""},"","",{"$f":"SUMIF(Árlista!A:A,B297,Árlista!A:A)","v":0},{"$f":"IF(B297>0,(IF(C297>D297,VLOOKUP(B297,Árlista!A:I,9,FALSE),\"\")),\"\")","v":""},{"$f":"IF(B297>0,VLOOKUP(B297,Árlista!A:I,7,FALSE),\"\")","v":""}]
[289,null,null,{"$f":"IF(C298>0,IF(C298>VLOOKUP(B298,Árlista!A:I,6,0),VLOOKUP(B298,Árlista!A:I,6,0),C298),\"\")","v":""},{"$f":"IF(B298>0,VLOOKUP(B298,Árlista!A:I,2,FALSE),\"\")","v":""},{"$f":"IF(B298>0,VLOOKUP(B298,Árlista!A:I,5,0),\"\")","v":""},{"$f":"IF(B298,VLOOKUP(B298,Árlista!A:I,3,0),\"\")","v":""},"","",{"$f":"SUMIF(Árlista!A:A,B298,Árlista!A:A)","v":0},{"$f":"IF(B298>0,(IF(C298>D298,VLOOKUP(B298,Árlista!A:I,9,FALSE),\"\")),\"\")","v":""},{"$f":"IF(B298>0,VLOOKUP(B298,Árlista!A:I,7,FALSE),\"\")","v":""}]
[290,null,null,{"$f":"IF(C299>0,IF(C299>VLOOKUP(B299,Árlista!A:I,6,0),VLOOKUP(B299,Árlista!A:I,6,0),C299),\"\")","v":""},{"$f":"IF(B299>0,VLOOKUP(B299,Árlista!A:I,2,FALSE),\"\")","v":""},{"$f":"IF(B299>0,VLOOKUP(B299,Árlista!A:I,5,0),\"\")","v":""},{"$f":"IF(B299,VLOOKUP(B299,Árlista!A:I,3,0),\"\")","v":""},"","",{"$f":"SUMIF(Árlista!A:A,B299,Árlista!A:A)","v":0},{"$f":"IF(B299>0,(IF(C299>D299,VLOOKUP(B299,Árlista!A:I,9,FALSE),\"\")),\"\")","v":""},{"$f":"IF(B299>0,VLOOKUP(B299,Árlista!A:I,7,FALSE),\"\")","v":""}]
[291,null,null,{"$f":"IF(C300>0,IF(C300>VLOOKUP(B300,Árlista!A:I,6,0),VLOOKUP(B300,Árlista!A:I,6,0),C300),\"\")","v":""},{"$f":"IF(B300>0,VLOOKUP(B300,Árlista!A:I,2,FALSE),\"\")","v":""},{"$f":"IF(B300>0,VLOOKUP(B300,Árlista!A:I,5,0),\"\")","v":""},{"$f":"IF(B300,VLOOKUP(B300,Árlista!A:I,3,0),\"\")","v":""},"","",{"$f":"SUMIF(Árlista!A:A,B300,Árlista!A:A)","v":0},{"$f":"IF(B300>0,(IF(C300>D300,VLOOKUP(B300,Árlista!A:I,9,FALSE),\"\")),\"\")","v":""},{"$f":"IF(B300>0,VLOOKUP(B300,Árlista!A:I,7,FALSE),\"\")","v":""}]
[292,null,null,{"$f":"IF(C301>0,IF(C301>VLOOKUP(B301,Árlista!A:I,6,0),VLOOKUP(B301,Árlista!A:I,6,0),C301),\"\")","v":""},{"$f":"IF(B301>0,VLOOKUP(B301,Árlista!A:I,2,FALSE),\"\")","v":""},{"$f":"IF(B301>0,VLOOKUP(B301,Árlista!A:I,5,0),\"\")","v":""},{"$f":"IF(B301,VLOOKUP(B301,Árlista!A:I,3,0),\"\")","v":""},"","",{"$f":"SUMIF(Árlista!A:A,B301,Árlista!A:A)","v":0},{"$f":"IF(B301>0,(IF(C301>D301,VLOOKUP(B301,Árlista!A:I,9,FALSE),\"\")),\"\")","v":""},{"$f":"IF(B301>0,VLOOKUP(B301,Árlista!A:I,7,FALSE),\"\")","v":""}]
[293,null,null,{"$f":"IF(C302>0,IF(C302>VLOOKUP(B302,Árlista!A:I,6,0),VLOOKUP(B302,Árlista!A:I,6,0),C302),\"\")","v":""},{"$f":"IF(B302>0,VLOOKUP(B302,Árlista!A:I,2,FALSE),\"\")","v":""},{"$f":"IF(B302>0,VLOOKUP(B302,Árlista!A:I,5,0),\"\")","v":""},{"$f":"IF(B302,VLOOKUP(B302,Árlista!A:I,3,0),\"\")","v":""},"","",{"$f":"SUMIF(Árlista!A:A,B302,Árlista!A:A)","v":0},{"$f":"IF(B302>0,(IF(C302>D302,VLOOKUP(B302,Árlista!A:I,9,FALSE),\"\")),\"\")","v":""},{"$f":"IF(B302>0,VLOOKUP(B302,Árlista!A:I,7,FALSE),\"\")","v":""}]
[294,null,null,{"$f":"IF(C303>0,IF(C303>VLOOKUP(B303,Árlista!A:I,6,0),VLOOKUP(B303,Árlista!A:I,6,0),C303),\"\")","v":""},{"$f":"IF(B303>0,VLOOKUP(B303,Árlista!A:I,2,FALSE),\"\")","v":""},{"$f":"IF(B303>0,VLOOKUP(B303,Árlista!A:I,5,0),\"\")","v":""},{"$f":"IF(B303,VLOOKUP(B303,Árlista!A:I,3,0),\"\")","v":""},"","",{"$f":"SUMIF(Árlista!A:A,B303,Árlista!A:A)","v":0},{"$f":"IF(B303>0,(IF(C303>D303,VLOOKUP(B303,Árlista!A:I,9,FALSE),\"\")),\"\")","v":""},{"$f":"IF(B303>0,VLOOKUP(B303,Árlista!A:I,7,FALSE),\"\")","v":""}]
[295,null,null,{"$f":"IF(C304>0,IF(C304>VLOOKUP(B304,Árlista!A:I,6,0),VLOOKUP(B304,Árlista!A:I,6,0),C304),\"\")","v":""},{"$f":"IF(B304>0,VLOOKUP(B304,Árlista!A:I,2,FALSE),\"\")","v":""},{"$f":"IF(B304>0,VLOOKUP(B304,Árlista!A:I,5,0),\"\")","v":""},{"$f":"IF(B304,VLOOKUP(B304,Árlista!A:I,3,0),\"\")","v":""},"","",{"$f":"SUMIF(Árlista!A:A,B304,Árlista!A:A)","v":0},{"$f":"IF(B304>0,(IF(C304>D304,VLOOKUP(B304,Árlista!A:I,9,FALSE),\"\")),\"\")","v":""},{"$f":"IF(B304>0,VLOOKUP(B304,Árlista!A:I,7,FALSE),\"\")","v":""}]
[296,null,null,{"$f":"IF(C305>0,IF(C305>VLOOKUP(B305,Árlista!A:I,6,0),VLOOKUP(B305,Árlista!A:I,6,0),C305),\"\")","v":""},{"$f":"IF(B305>0,VLOOKUP(B305,Árlista!A:I,2,FALSE),\"\")","v":""},{"$f":"IF(B305>0,VLOOKUP(B305,Árlista!A:I,5,0),\"\")","v":""},{"$f":"IF(B305,VLOOKUP(B305,Árlista!A:I,3,0),\"\")","v":""},"","",{"$f":"SUMIF(Árlista!A:A,B305,Árlista!A:A)","v":0},{"$f":"IF(B305>0,(IF(C305>D305,VLOOKUP(B305,Árlista!A:I,9,FALSE),\"\")),\"\")","v":""},{"$f":"IF(B305>0,VLOOKUP(B305,Árlista!A:I,7,FALSE),\"\")","v":""}]
[297,null,null,{"$f":"IF(C306>0,IF(C306>VLOOKUP(B306,Árlista!A:I,6,0),VLOOKUP(B306,Árlista!A:I,6,0),C306),\"\")","v":""},{"$f":"IF(B306>0,VLOOKUP(B306,Árlista!A:I,2,FALSE),\"\")","v":""},{"$f":"IF(B306>0,VLOOKUP(B306,Árlista!A:I,5,0),\"\")","v":""},{"$f":"IF(B306,VLOOKUP(B306,Árlista!A:I,3,0),\"\")","v":""},"","",{"$f":"SUMIF(Árlista!A:A,B306,Árlista!A:A)","v":0},{"$f":"IF(B306>0,(IF(C306>D306,VLOOKUP(B306,Árlista!A:I,9,FALSE),\"\")),\"\")","v":""},{"$f":"IF(B306>0,VLOOKUP(B306,Árlista!A:I,7,FALSE),\"\")","v":""}]
[298,null,null,{"$f":"IF(C307>0,IF(C307>VLOOKUP(B307,Árlista!A:I,6,0),VLOOKUP(B307,Árlista!A:I,6,0),C307),\"\")","v":""},{"$f":"IF(B307>0,VLOOKUP(B307,Árlista!A:I,2,FALSE),\"\")","v":""},{"$f":"IF(B307>0,VLOOKUP(B307,Árlista!A:I,5,0),\"\")","v":""},{"$f":"IF(B307,VLOOKUP(B307,Árlista!A:I,3,0),\"\")","v":""},"","",{"$f":"SUMIF(Árlista!A:A,B307,Árlista!A:A)","v":0},{"$f":"IF(B307>0,(IF(C307>D307,VLOOKUP(B307,Árlista!A:I,9,FALSE),\"\")),\"\")","v":""},{"$f":"IF(B307>0,VLOOKUP(B307,Árlista!A:I,7,FALSE),\"\")","v":""}]
[299,null,null,{"$f":"IF(C308>0,IF(C308>VLOOKUP(B308,Árlista!A:I,6,0),VLOOKUP(B308,Árlista!A:I,6,0),C308),\"\")","v":""},{"$f":"IF(B308>0,VLOOKUP(B308,Árlista!A:I,2,FALSE),\"\")","v":""},{"$f":"IF(B308>0,VLOOKUP(B308,Árlista!A:I,5,0),\"\")","v":""},{"$f":"IF(B308,VLOOKUP(B308,Árlista!A:I,3,0),\"\")","v":""},"","",{"$f":"SUMIF(Árlista!A:A,B308,Árlista!A:A)","v":0},{"$f":"IF(B308>0,(IF(C308>D308,VLOOKUP(B308,Árlista!A:I,9,FALSE),\"\")),\"\")","v":""},{"$f":"IF(B308>0,VLOOKUP(B308,Árlista!A:I,7,FALSE),\"\")","v":""}]
[300,null,null,{"$f":"IF(C309>0,IF(C309>VLOOKUP(B309,Árlista!A:I,6,0),VLOOKUP(B309,Árlista!A:I,6,0),C309),\"\")","v":""},{"$f":"IF(B309>0,VLOOKUP(B309,Árlista!A:I,2,FALSE),\"\")","v":""},{"$f":"IF(B309>0,VLOOKUP(B309,Árlista!A:I,5,0),\"\")","v":""},{"$f":"IF(B309,VLOOKUP(B309,Árlista!A:I,3,0),\"\")","v":""},"","",{"$f":"SUMIF(Árlista!A:A,B309,Árlista!A:A)","v":0},{"$f":"IF(B309>0,(IF(C309>D309,VLOOKUP(B309,Árlista!A:I,9,FALSE),\"\")),\"\")","v":""},{"$f":"IF(B309>0,VLOOKUP(B309,Árlista!A:I,7,FALSE),\"\")","v":""}]

{"sheet":"Árlista","index":1,"n_rows":3992,"n_cols":10,"rows_kept":3992,"cut":false,"hidden":false,"merged":[]}
[null,"Árlista",null,"Az árlistában szereplő termékek ÁFA nélkül értendők."]
[{"$f":"NOW()","v":"2024-10-04T10:52:46.620"},"Telefon: 06 30 411-6812,  06 70 399-8228 * e-mail: rendeles2@hamarbarkacs.hu * www.hamarbarkacs.hu ","Az árváltozás jogát fenntartjuk. Az árlista 2024.10.01-tól érvényes!"]
["Cikkszám","Megnevezés","Nettó lista ár","Category","State","Q-ty","Small pakage","Big package","Delivery","Képek"]
[10273,"Kalapacs, 300 g, ket oldalu utofej, uvegszalas, gumirozott nyel//GROSS",2684,"B","Active",9999,null,null,"No info",{"$f":"HYPERLINK(L4,\"линк\")","v":"линк"}]
[10274,"Kalapacs, 400 g, ket oldalu utofej, uvegszalas, gumirozott nyel//GROSS",3164,"B","Active",9999,null,null,"No info",{"$f":"HYPERLINK(L5,\"линк\")","v":"линк"}]
[10276,"Kalapacs, 500 g, ket oldalu utofej, uvegszalas, gumirozott nyel//GROSS",3494,"B","Active",9999,null,null,"No info","линк"]
[10277,"Kalapacs, 600 g, ket oldalu utofej, uvegszalas, gumirozott nyel//GROSS",3877,"B","Active",9999,null,null,"No info","линк"]
[10278,"Kalapacs, 800 g, ket oldalu utofej, uvegszalas, gumirozott nyel//GROSS",4618,"B","Active",9999,null,null,"No info","линк"]
[10279,"Kalapacs, 1000 g, ket oldalu utofej, uvegszalas, gumirozott nyel//GROSS",5242,"B","Active",9999,null,null,"No info","линк"]
[10319,"Kalapács 300 g. uvegszálas gumírozott nyéllel// Sibrtech",1346,"B","Active",9999,null,null,"No info","линк"]
[10323,"Kalapács 500g. üvegszálas gumírozott nyél// SIBRTEH",1882,"B","Active",9999,null,null,"No info","линк"]
[10327,"Kalapács 800 g. üvegszálas gumírozott fogantyú// Сибртех",2415,"B","Active",9999,null,null,"No info","линк"]
[10475,"Karmos kalapács üvegszálas háromkomponensű nyél 450g// GROSS",3961,"B","Active",9999,null,null,"No info","линк"]
[10905,"Szánkalapács, 1000 g, ejtőkovácsolt fej, fa kétszínű nyél// Sparta",1928,"B","Active",9999,null,null,"No info","линк"]
[10907,"Porolykalapacs, 1500g, stancolt fej, ket szinu, fa nyel// SPARTA",2629,"B","Active",9999,null,null,"No info","линк"]
[10909,"Porolylapàcs, 2000 g, ejtokovàcsolt fej, fa kåtszinu nyål// Sparta",3863,"B","Active",9999,null,null,"No info","линк"]
[10918,"Kalapács 2000g üvegszálas nyél// Сибртех",6021,"B","Active",9999,null,null,"No info","линк"]
[11211,"Set biti dubli Рh2-Рh1 х 45 mm, otel S2, 10 buc// GROSS",1385,"B","Active",9999,null,null,"No info","линк"]
[11217,"Set biti dubli Рh2-Рz2 х 45 mm, otel S2, 10 buc// GROSS",1403,"B","Active",9999,null,null,"No info","линк"]
[11312,"Csavarbehajto bit keszlet SPLINE, hex nyel 1 1/2, CrV, 10 mm, 11 darab, muanyag tokban//STELS",4582,"B","Active",9999,null,null,"No info","линк"]
[11313,"Csavarbehajto bit keszlet \"HEX\", hex nyel 1/2\", CrV, 10 mm, 15 darab, muanyag tokban//STELS",4555,"B","Active",9999,null,null,"No info","линк"]
[11317,"Csavarfej-rogzito csavar megallitoval es kettos magnessel, 1/4\" //GROSS",1599,"B","Active",9999,null,null,"No info","линк"]
[11318,"Csavarbehajto bit keszlet \"HEX\", \"TORX\", \"SPLINE\", hex nyel 3/8\", CrV, 42 darab, muanyag tokban//STELS",11569,"B","Active",9999,null,null,"No info","линк"]
[11342,"Csavarfej-rogzito csavar megallitoval es kettos magnessel, 1/4\" //GROSS",1468,"B","Active",9999,null,null,"No info","линк"]
[11347,"Forditott csavarhuzo fejkeszlettel, CrV, 12 db//SPARTA",2163,"B","Active",9999,null,null,"No info","линк"]
[11357,"Fejkeszlet Ði2x50, acel S2, 2 db// GROSS",407,"B","Active",9999,null,null,"No info","линк"]
[11359,"Fejkeszlet Ði3x50, acel S2, 2 db// GROSS",407,"B","Active",9999,null,null,"No info","линк"]
[11361,"Fej-, es kulcskeszlet, 1/4\", magnes adapter, acel S2, muanyag doboz, 26 db//GROSS",13567,"B","Active",9999,null,null,"No info","линк"]
[11363,"Fejkeszlet, magnes adapter, acel S2, muanyag doboz, 32 db//GROSS",10282,"B","Active",9999,null,null,"No info","линк"]
[11365,"Fejkeszlet, 1/4\", magnes adapter, acel S2, muanyag doboz, 33 db//GROSS",13359,"B","Active",9999,null,null,"No info","линк"]
[11367,"Rugalmas nyel csavarfejhez,145mm, 1/4\" //GROSS",1022,"B","Active",9999,null,null,"No info","линк"]
[11369,"Rugalmas nyel csavarfejhez,190mm, 1/4\" //GROSS",1179,"B","Active",9999,null,null,"No info","линк"]
[11376,"Fejkeszlet SL5,0x50, acel S2, 2db// GROSS",407,"B","Active",9999,null,null,"No info","линк"]
[11455,"Fej PH 2x25 mm megallitoval es magnessel gipsztablakhoz, S2 //GROSS",1116,"B","Active",9999,null,null,"No info","линк"]
[11456,"Fej PH 2x50 mm megallitoval es magnessel gipsztablakhoz, S2 //GROSS",1165,"B","Active",9999,null,null,"No info","линк"]
[11462,"Csavarbehajto bit keszlet HEX 3×50, S2, 10 darab//GROSS",1140,"B","Active",9999,null,null,"No info","линк"]
[11463,"Csavarbehajto bit keszlet HEX 4×50, S2, 10 darab//GROSS",1140,"B","Active",9999,null,null,"No info","линк"]
[11466,"Csavarbehajto bit keszlet TORX 6×50, S2, 10 darab//GROSS",1120,"B","Active",9999,null,null,"No info","линк"]
[11467,"Csavarbehajto bit keszlet TORX 8×50, S2, 10 darab//GROSS",1120,"B","Active",9999,null,null,"No info","линк"]
[11468,"Csavarbehajto bit keszlet TORX 10×50, S2, 10 darab//GROSS",1120,"B","Active",9999,null,null,"No info","линк"]
[11485,"Torziós bitkészlet, PH1x50mm, ütvefúróhoz, 2 db// Gross",468,"B","Active",9999,null,null,"No info","линк"]
[11492,"Torziós bitkészlet, PH1x50mm, ütvefúróhoz, 10 db.// Gross",1346,"B","Active",9999,null,null,"No info","линк"]
[11494,"Torziós bitkészlet, PH3x50mm, ütvefúróhoz, 10 db.// Bruttó",1354,"B","Active",9999,null,null,"No info","линк"]
[11599,"Csavarhúzó bitekkel és foglalatokkal a precíziós munkához, rugalmas csavarhúzó, 48 db, CrMo// Gross",10972,"B","Active",9999,null,null,"No info","линк"]
[11601,"Racsnitolto csavarhuzo, 11db, S2// GROSS",6076,"B","Active",9999,null,null,"No info","линк"]
[11611,"Racsnis csavarhúzó, mechanizmus SmartPush 12 db., S2// GROSS",4781,"B","Active",9999,null,null,"No info","линк"]
[11625,"Fej-, es kulcskeszlet, 1/4\", vezetokulcs, racsni, adapter, S2, 37 db//GROSS",16790,"B","Active",9999,null,null,"No info","линк"]
[11627,"Fúrószár készlet anyabeállítóval mágnessel, anyacsavarozó, 8,10,12,13 mm, S2// Gross",6721,"B","Active",9999,null,null,"No info","линк"]
[11762,"Csavarhuzo \"Hegyesvegu\",  SL3,0 x 100  mm, CrV, 2 komponensu nyel// SPARTA",189,"B","Active",9999,null,null,"No info","линк"]
[11763,"Csavarhuzo \"Hegyesvegu\", P SL4,0 x 100, CrV, 2 komponensu nyel// SPARTA",230,"B","Active",9999,null,null,"No info","линк"]
[11765,"Csavarhuzo \"Hegyesvegu\", SL5,0 x 75 mm, CrV, 2 komponensu nyel // SPARTA",220,"B","Active",9999,null,null,"No info","линк"]
[11771,"Csavarhuzo \"Hegyesvegu\", Ph1 x 38 mm, CrV, 2 komponensu nyel // SPARTA",220,"B","Active",9999,null,null,"No info","линк"]
[11772,"Csavarhuzo \"Hegyesvegu\", Ph2 x 38 mm, CrV, 2 komponensu nyel // SPARTA",220,"B","Active",9999,null,null,"No info","линк"]
[11773,"Csavarhuzo \"Hegyesvegu\", Ph0 x 80 mm, CrV, 2 komponensu nyel // SPARTA",189,"B","Active",9999,null,null,"No info","линк"]
[11781,"Csavarhuzo \"Hegyesvegu\", Ph3 x 150 mm, CrV, 2 komponensu nyel// SPARTA",483,"B","Active",9999,null,null,"No info","линк"]
[11841,"Csavarhúzó, PH1 х 100 mm, CrV, kétkomponensű fogantyú// Сибртех",389,"B","Active",9999,null,null,"No info","линк"]
[11845,"Csavarhúzó, PH2 х 100 mm, CrV, kétkomponensű fogantyú// Сибртех",409,"B","Active",9999,null,null,"No info","линк"]
[11861,"Csavarhúzó, SL4,0 х 100 mm, CrV, kétkomponensű fogantyú// Сибртех",334,"B","Active",9999,null,null,"No info","линк"]
[12101,"Csavarhuzo SL3,0 x 75 mm, S2, harom komponensu nyel// GROSS",815,"B","Active",9999,null,null,"No info","линк"]
[12105,"Csavarhuzo SL4,0 x 100 mm, S2, harom komponensu nyel//GROSS",1028,"B","Active",9999,null,null,"No info","линк"]
[12110,"Csavarhuzo SL5,5 x 100 mm, S2, harom komponensu nyel//GROSS",1472,"B","Active",9999,null,null,"No info","линк"]
[12112,"Csavarhuzo SL5,5 x 150 mm, S2, harom komponensu nyel//GROSS",1523,"B","Active",9999,null,null,"No info","линк"]
[12116,"Csavarhuzo SL6,5 x 100 mm, S2, harom komponensu nyel//GROSS",1531,"B","Active",9999,null,null,"No info","линк"]
[12117,"Csavarhuzo SL6,5 x 150 mm, S2, harom komponensu nyel//GROSS",1584,"B","Active",9999,null,null,"No info","линк"]
[12119,"Csavarhuzo SL8,0 x 150 mm, S2, harom komponensu nyel//GROSS",1910,"B","Active",9999,null,null,"No info","линк"]
[12131,"Csavarhuzo PH0 x 75 mm, S2, harom komponensu nyel//GROSS",751,"B","Active",9999,null,null,"No info","линк"]
[12140,"Csavarhuzo PH1 x 100 mm, S2, harom komponensu nyel//GROSS",1014,"B","Active",9999,null,null,"No info","линк"]
[12142,"Csavarhuzo PH1 x 150 mm, S2, harom komponensu nyel//GROSS",1134,"B","Active",9999,null,null,"No info",{"$f":"HYPERLINK(L68,\"линк\")","v":"линк"}]
[12144,"Csavarhuzo PH2 x 100 mm, S2, harom komponensu nyel// GROSS",1423,"B","Active",9999,null,null,"No info","линк"]
[12145,"Csavarhuzo PH2 x 150 mm, S2, harom komponensu nyel//GROSS",1476,"B","Active",9999,null,null,"No info","линк"]
[12149,"Csavarhuzo PH3 x 150 mm, S2, harom komponensu nyel//GROSS",1802,"B","Active",9999,null,null,"No info","линк"]
[12155,"Csavarhuzî PZ0 x 75 mm, S2, hàromkomponensu nyål// Gross",819,"B","Active",9999,null,null,"No info","линк"]
[12156,"Csavarhuzo PZ1 x 75 mm, S2, harom komponensu nyel//GROSS",1012,"B","Active",9999,null,null,"No info","линк"]
[12159,"Csavarhuzo PZ2 x 100 mm, S2, harom komponensu nyel//GROSS",1517,"B","Active",9999,null,null,"No info","линк"]
[12163,"Csavarhuzo PZ3 x 150 mm, S2, harom komponensu nyel//GROSS",1926,"B","Active",9999,null,null,"No info","линк"]
[12164,"Csavarhuzo keszlet, 6 db, S2, harom komponensu nyel//GROSS",7746,"B","Active",9999,null,null,"No info","линк"]
[12165,"Csavarhuzo keszlet SL, 3 db, S2, harom komponensu nyel//GROSS",3788,"B","Active",9999,null,null,"No info","линк"]
[12166,"Csavarhuzo keszlet PH, 3 db, S2, harom komponensu nyel//GROSS",3871,"B","Active",9999,null,null,"No info","линк"]
[12167,"Kombinalt csavarhuzo keszlet, 3 db, S2, harom komponensu nyel//GROSS",4252,"B","Active",9999,null,null,"No info","линк"]
[12168,"Kombinalt csavarhuzo keszlet, 2 db, S2, harom komponensu nyel//GROSS",3500,"B","Active",9999,null,null,"No info","линк"]
[12340,"Imbuszkulcs, 8mm, 45x, nikkel//",346,"B","Active",9999,null,null,"No info","линк"]
[12932,"Csavarhúzó dielektrikum 1000 V-ig, SL4х100 мм, 2c fogantyú// Сибртех",375,"B","Active",9999,null,null,"No info","линк"]
[12933,"Csavarhúzó dielektrikum 1000 V-ig, SL5,5x125 mm, 2c fogantyú// Сибртех",532,"B","Active",9999,null,null,"No info","линк"]
[12935,"Csavarhúzó dielektrikum 1000 V-ig, SL6,5х150 мм, 2c fogantyú// Сибртех",674,"B","Active",9999,null,null,"No info","линк"]
[13187,"1/2 Gyujtogyertya foglalat magneses tartoval 12 pt 14mm// GROSS",1743,"B","Active",9999,null,null,"No info","линк"]
[13188,"1/2 Gyujtogyertya foglalat magneses tartoval 12 pt 16mm// GROSS",1932,"B","Active",9999,null,null,"No info","линк"]
[13189,"1/2 Gyujtogyertya foglalat magneses tartoval 12 pt 21mm// GROSS",2506,"B","Active",9999,null,null,"No info","линк"]
[13190,"Vezetofoglalat eltero meretben, 1/2\", 11-32mm, CrV, krom lemezzel// GROSS",8481,"B","Active",9999,null,null,"No info","линк"]
[13191,"Vezetofoglalat eltero meretben, 3/8\", 6-21mm, CrV, krom lemezzel// GROSS",2659,"B","Active",9999,null,null,"No info","линк"]
[13201,"Csavarhuzo SL3*75mm, fekete nyel, szenacel// SPARTA",102,"B","Active",9999,null,null,"No info","линк"]
[13203,"Csavarhuzo SL4*75mm, fekete nyel, szenacel// SPARTA",124,"B","Active",9999,null,null,"No info","линк"]
[13206,"Csavarhuzo SL6*100mm, fekete nyel, szenacel// SPARTA",209,"B","Active",9999,null,null,"No info","линк"]
[13211,"Csavarhuzo PH1*75mm, fekete nyel, szenacel// SPARTA",143,"B","Active",9999,null,null,"No info","линк"]
[13213,"Csavarhuzo PH2*100mm, fekete nyel, szenacel// SPARTA",169,"B","Active",9999,null,null,"No info","линк"]
[13220,"Csavarhuzo keszlet, 4db, (SL5x100,6x100, PH1x100,2x100), fekete nyel, szenacel// SPARTA",900,"B","Active",9999,null,null,"No info","линк"]
[13334,"Precíziós csavarhúzó bitekkel, 21db, CrV// Сибртех",2165,"B","Active",9999,null,null,"No info","линк"]
[13364,"Változtatható irányú T-alakú csavarhúzó, kombinált, PH2/SL6, combined, CrV// SIBRTEH",1391,"B","Active",9999,null,null,"No info","линк"]
[13370,"Fordítható precíziós csavarhúzó  bit- és foglalatfejjel, 32 darab, CrV Sibrtech",2440,"B","Active",9999,null,null,"No info","линк"]
[13377,"Kombinált csavarhúzó SL5/PH SL6/PH2// Сибртех",1436,"B","Active",9999,null,null,"No info","линк"]
[13386,"Csavarhúzó cserélhető pengével, 8 db., PH2/SL5, PH1/SL4, PH0/SL3, PH00/SL2, CrV// Сибртех",1389,"B","Active",9999,null,null,"No info","линк"]
[13535,"Szerszamkeszlet 29db // SPARTA",4028,"B","Active",9999,null,null,"No info","линк"]
[13537,"Szerszamkeszlet, 21 db// SPARTA",3268,"B","Active",9999,null,null,"No info","линк"]
[13541,"Szerszamkeszlet, 37 db// SPARTA",3193,"B","Active",9999,null,null,"No info","линк"]
[13545,"3 db-os fogokeszlet №2 (fogo, oldalcsipofogo, csokulcs fogo)//SPARTA",2574,"B","Active",9999,null,null,"No info","линк"]
[13546,"Szerszamkeszlet, 19 db// SPARTA",3217,"B","Active",9999,null,null,"No info","линк"]
[13575,"Meghajtó aljzat készlet racsnis kulccsal, 1/4\" és 3/8\", 26 db.// Stels",21203,"B","Active",9999,null,null,"No info","линк"]
[13576,"Stels  Dugo keszlet racsnis kulccsal,1/2 - 1/4”, 68db// STELS",28517,"B","Active",9999,null,null,"No info","линк"]
[13601,"3/8\"-os aljzatkészlet, hatszögletű, CrV, 10db, 8-19 mm// Stels",3158,"B","Active",9999,null,null,"No info","линк"]
[13604,"3/8\" mély foglalat készlet, hatszögletű, CrV, 10 db., 8-19 mm// Stels",4922,"B","Active",9999,null,null,"No info","линк"]
[13606,"Meghajtó aljzat készlet., 1/4\", bi-hatszögletű, CrV, 10 db., 4-13 mm// Stels",2739,"B","Active",9999,null,null,"No info","линк"]
[13607,"Meghajtó aljzat készlet., 3/8\", bi-hatszögletű, CrV, 10 db., 8-19 mm// Stels",3698,"B","Active",9999,null,null,"No info","линк"]
[13636,"Gyujtogyertya foglalat, 16mm 1/2\"DR // STELS",411,"B","Active",9999,null,null,"No info","линк"]
[13637,"Gyujtogyertya foglalat, 21mm 1/2\"DR // STELS",470,"B","Active",9999,null,null,"No info","линк"]
[13638,"Meghajtó aljzat készlet., 1/2\", két-hatszögletű, CrV, 10 db., 10-22 mm// Stels",4763,"B","Active",9999,null,null,"No info","линк"]
[13649,"Meghajtó aljzat, 9 mm,kéttős-hatszögletű, CrV, for 1/2\" összekötő négyzet alakú, krómozott// Stels",267,"B","Active",9999,null,null,"No info","линк"]
[13655,"Meghajtó aljzat, 12 mm,kéttős-hatszögletű, CrV, for 1/2\" összekötő négyzet alakú, krómozott// Stels",394,"B","Active",9999,null,null,"No info","линк"]
[13659,"Meghajtó aljzat, 14 mm,kéttős-hatszögletű, CrV, for 1/2\" összekötő négyzet alakú, krómozott// Stels",394,"B","Active",9999,null,null,"No info","линк"]
[13660,"Meghajtó aljzat, 15 mm,kéttős-hatszögletű, CrV, for 1/2\" összekötő négyzet alakú, krómozott// Stels",394,"B","Active",9999,null,null,"No info","линк"]
[13668,"Meghajtó aljzat, 22 mm,kéttős-hatszögletű, CrV, for 1/2\" összekötő négyzet alakú, krómozott// Stels",655,"B","Active",9999,null,null,"No info","линк"]
[13669,"Meghajtó aljzat, 24 mm,kéttős-hatszögletű, CrV, for 1/2\" összekötő négyzet alakú, krómozott// Stels",721,"B","Active",9999,null,null,"No info","линк"]
[13671,"Meghajtó aljzat, 27 mm,kéttős-hatszögletű, CrV, for 1/2\" összekötő négyzet alakú, krómozott// Stels",979,"B","Active",9999,null,null,"No info","линк"]
[13673,"Meghajtó aljzat, 30 mm,kéttős-hatszögletű, CrV, for 1/2\" összekötő négyzet alakú, krómozott// Stels",1219,"B","Active",9999,null,null,"No info","линк"]
[13674,"Meghajtó aljzat, 32 mm,kéttős-hatszögletű, CrV, for 1/2\" összekötő négyzet alakú, krómozott// Stels",1323,"B","Active",9999,null,null,"No info","линк"]
[13721,"Spark plug tubular spanner 16x160 mm// Stels",648,"B","Active",9999,null,null,"No info","линк"]
[13722,"Gyújtógyertya csőkulcs 16x280 mm// Stels",920,"B","Active",9999,null,null,"No info","линк"]
[13723,"Gyújtógyertya csőkulcs 21x160 mm// Stels",687,"B","Active",9999,null,null,"No info","линк"]
[13801,"Csavarfej- T8  1/4\"DR // STELS",169,"B","Active",9999,null,null,"No info","линк"]
[13802,"Csavarfej- T10 1/4\"DR // STELS",217,"B","Active",9999,null,null,"No info","линк"]
[13805,"Csavarfej- T25 1/4\"DR // STELS",169,"B","Active",9999,null,null,"No info","линк"]
[13806,"Csavarfej- T30  1/4\"DR // STELS",169,"B","Active",9999,null,null,"No info","линк"]
[13807,"Csavarfej- SL4  1/4\"DR // STELS",169,"B","Active",9999,null,null,"No info","линк"]
[13808,"Csavarfej- SL5.5  1/4\"DR // STELS",169,"B","Active",9999,null,null,"No info",{"$f":"HYPERLINK(L132,\"линк\")","v":"линк"}]
[13809,"Csavarfej- SL7  1/4\"DR // STELS",169,"B","Active",9999,null,null,"No info","линк"]
[13810,"Csavarfej- H3  1/4\"DR // STELS",169,"B","Active",9999,null,null,"No info","линк"]
[13811,"Csavarfej- H4  1/4\"DR // STELS",169,"B","Active",9999,null,null,"No info","линк"]
[13814,"Csavarfej- PZ1  1/4\"DR // STELS",169,"B","Active",9999,null,null,"No info","линк"]
[13815,"Csavarfej- PZ2 1/4\"DR // STELS",217,"B","Active",9999,null,null,"No info","линк"]
[13816,"Csavarfej- PH1  1/4\"DR // STELS",169,"B","Active",9999,null,null,"No info","линк"]
[13841,"Gyujtogyertya fogo, forgathato 16x250mm// STELS",1373,"B","Active",9999,null,null,"No info","линк"]
[13843,"Gyujtogyertya fogo, forgathato 21x250mm// STELS",1409,"B","Active",9999,null,null,"No info","линк"]
[13844,"Cheie pentru bujii, cu cardan 21х500 mm //STELS",1564,"B","Active",9999,null,null,"No info","линк"]
[13863,"Meghajto foglalat 1/4 \", E4, CrV // Stels",136,"B","Active",9999,null,null,"No info","линк"]
[13864,"Meghajto foglalat 1/4 \", E5, CrV // Stels",136,"B","Active",9999,null,null,"No info","линк"]
[13865,"Meghajto foglalat 1/4 \", E6, CrV // Stels",136,"B","Active",9999,null,null,"No info","линк"]
[13866,"Meghajto foglalat 1/4 \", E7, CrV // Stels",136,"B","Active",9999,null,null,"No info","линк"]
[13867,"Meghajto foglalat 1/4 \", E8, CrV // Stels",136,"B","Active",9999,null,null,"No info","линк"]
[13900,"Hatszogletu dugofej, 8 mm, 1/2 \", Cr Mo // Stels",686,"B","Active",9999,null,null,"No info","линк"]
[13901,"atalakito 3/8\"(F)-1/4\"(M)// STELS",271,"B","Active",9999,null,null,"No info","линк"]
[13902,"Hosszabbító rúd 50mm 1/4\"DR// Stels",354,"B","Active",9999,null,null,"No info","линк"]
[13903,"Hosszabbító rúd 150mm 1/4\"DR// Stels",540,"B","Active",9999,null,null,"No info","линк"]
[13904,"Hosszabbító rúd 75mm 3/8\"DR// Stels",617,"B","Active",9999,null,null,"No info","линк"]
[13905,"Hosszabbító rúd 150mm 3/8\" DR// Stels",719,"B","Active",9999,null,null,"No info","линк"]
[13906,"Hosszabbító rúd 125mm 1/2\"DR// Stels",896,"B","Active",9999,null,null,"No info","линк"]
[13908,"Hosszabbító rúd 250mm 1/2\"DR// Stels",2152,"B","Active",9999,null,null,"No info","линк"]
[13909,"Rugalmas nyel 150mm  1/4\"DR // STELS",1161,"B","Active",9999,null,null,"No info","линк"]
[13913,"Hatszogletu dugofej, 9 mm, 1/2 \", Cr Mo // Stels",686,"B","Active",9999,null,null,"No info","линк"]
[13914,"Hatszogletu dugofej, 10 mm, 1/2 \", Cr Mo // Stels",686,"B","Active",9999,null,null,"No info","линк"]
[13915,"Hatszogletu dugofej, 11 mm, 1/2 \", Cr Mo // Stels",686,"B","Active",9999,null,null,"No info","линк"]
[13916,"Hatszogletu dugofej, 12 mm, 1/2 \", Cr Mo // Stels",686,"B","Active",9999,null,null,"No info","линк"]
[13918,"Hatszogletu dugofej, 14 mm, 1/2 \", Cr Mo // Stels",686,"B","Active",9999,null,null,"No info","линк"]
[13919,"Hatszogletu dugofej, 15 mm, 1/2 \", Cr Mo // Stels",859,"B","Active",9999,null,null,"No info","линк"]
[13921,"Hatszogletu dugofej, 16 mm, 1/2 \", Cr Mo // Stels",859,"B","Active",9999,null,null,"No info","линк"]
[13922,"Hatszogu utesallo dugofej, 17 mm, 1/2\", CrMo// Stels",859,"B","Active",9999,null,null,"No info","линк"]
[13924,"Hatszogu utesallo dugofej, 19 mm, 1/2\", CrMo// Stels",961,"B","Active",9999,null,null,"No info","линк"]
[13926,"Dugofej, hatszog, 22 mm, 1/2, CrMo Stels",1169,"B","Active",9999,null,null,"No info","линк"]
[13927,"Hatszogu utesallo dugofej, 24 mm, 1/2\", CrMo// Stels",1395,"B","Active",9999,null,null,"No info","линк"]
[13928,"Hatszogletu dugofej, 27 mm, 1/2 \", Cr Mo // Stels",1651,"B","Active",9999,null,null,"No info","линк"]
[13929,"Hatszogletu dugofej, 30 mm, 1/2 \", Cr Mo // Stels",1992,"B","Active",9999,null,null,"No info","линк"]
[13930,"Hatszogletu dugofej, 32 mm, 1/2 \", Cr Mo // Stels",2108,"B","Active",9999,null,null,"No info","линк"]
[13931,"Hatszogletu dugofej, 36 mm, 1/2 \", Cr Mo // Stels",4016,"B","Active",9999,null,null,"No info","линк"]
[13932,"Hosszitott hatszogu utesallo dugofej, 8 mm, CrMo// Stels",1397,"B","Active",9999,null,null,"No info","линк"]
[13933,"Hosszitott hatszogu utesallo dugofej, 9 mm, CrMo// Stels",1397,"B","Active",9999,null,null,"No info","линк"]
[13935,"Hosszu hatszogletu dugofej, 11 mm, 1/2 \", Cr Mo // Stels",1409,"B","Active",9999,null,null,"No info","линк"]
[13936,"Hosszitott hatszogu utesallo dugofej, 12 mm, CrMo// Stels",1409,"B","Active",9999,null,null,"No info","линк"]
[13941,"Hosszitott hatszogu utesallo dugofej, 14 mm, CrMo// Stels",1409,"B","Active",9999,null,null,"No info","линк"]
[13942,"Hosszitott hatszogu utesallo dugofej, 15 mm, 1/2\", CrMo// Stels",1937,"B","Active",9999,null,null,"No info","линк"]
[13944,"Hosszitott hatszogu utesallo dugofej, 17 mm, 1/2\", CrMo// Stels",1937,"B","Active",9999,null,null,"No info","линк"]
[13945,"Hosszu hatszogletu dugofej, 18 mm, 1/2 \", Cr Mo // Stels",1937,"B","Active",9999,null,null,"No info","линк"]
[13946,"Hosszitott hatszogu utesallo dugofej, 19 mm, 1/2\", CrMo// Stels",2014,"B","Active",9999,null,null,"No info","линк"]
[13947,"Hosszitott hatszogu utesallo dugofej, 21 mm, 1/2\", CrMo// Stels",2047,"B","Active",9999,null,null,"No info","линк"]
[13949,"Hosszitott hatszogu utesallo dugofej, 24 mm, 1/2\", CrMo// Stels",2401,"B","Active",9999,null,null,"No info","линк"]
[13950,"Hosszitott hatszogu utesallo dugofej, 27 mm, 1/2\", CrMo// Stels",2725,"B","Active",9999,null,null,"No info","линк"]
[13952,"Hosszitott hatszogu utesallo dugofej, 32 mm, 1/2\", CrMo// Stels",3183,"B","Active",9999,null,null,"No info","линк"]
[13953,"Hosszu hatszogletu dugofej, k?szlet felnikhez (17,19, 21 mm)1/2 \",3 db // Stels",9323,"B","Active",9999,null,null,"No info","линк"]
[13954,"utofoglalat felnikhez 17 mm 1/2 \"// STELS",2582,"B","Active",9999,null,null,"No info","линк"]
[13955,"utofoglalat felnikhez 19 mm 1/2 \"// STELS",2592,"B","Active",9999,null,null,"No info","линк"]
[13956,"Utesallo dugofej felnikhez 21 mm1/2//STELS",2607,"B","Active",9999,null,null,"No info","линк"]
[13966,"utofoglalat TORX 55 1/2 \"// STELS",1690,"B","Active",9999,null,null,"No info","линк"]
[13967,"utofoglalat TORX 60 1/2 \"// STELS",1690,"B","Active",9999,null,null,"No info","линк"]
[13968,"utofoglalat TORX 70 1/2 \"// STELS",1690,"B","Active",9999,null,null,"No info","линк"]
[13969,"utofoglalat TORX 80 1/2 \"// STELS",1690,"B","Active",9999,null,null,"No info","линк"]
[13974,"utofoglalat TORX 100 1/2 \"// STELS",1690,"B","Active",9999,null,null,"No info","линк"]
[13975,"Hosszabнto rud 75mm 1/2 \"// STELS",1590,"B","Active",9999,null,null,"No info","линк"]
[13976,"Hosszabнto rud 125mm 1/2 \"// STELS",1926,"B","Active",9999,null,null,"No info","линк"]
[13977,"Hosszabнto rud 250mm 1/2 \"// STELS",2839,"B","Active",9999,null,null,"No info","линк"]
[13978,"Impact kardánok 1/2\" // Stels",3780,"B","Active",9999,null,null,"No info",{"$f":"HYPERLINK(L196,\"линк\")","v":"линк"}]
[13996,"Ütésálló adapterek F3/4 x M1/2 // Stels",4077,"B","Active",9999,null,null,"No info","линк"]
[13997,"Hatszogletu utesallo aljzat keszlet 1/2 \", 10-24 mm, 10 db .// Stels",13915,"B","Active",9999,null,null,"No info","линк"]
[13998,"Mely utkozeses aljzatkeszlet 1/2 \", 10-24 mm, tokkal, 12 db .// Stels",26758,"B","Active",9999,null,null,"No info","линк"]
[13999,"TORX dugуfej szett 1/2\", dobozban 8 db",18478,"B","Active",9999,null,null,"No info","линк"]
[14011,"T-rud, 115 mm 1/4\"DR// STELS",497,"B","Active",9999,null,null,"No info","линк"]
[14012,"Csavarhuzo nyel 150mm 1/4\"DR// STELS",843,"B","Active",9999,null,null,"No info","линк"]
[14025,"Clichet 1/4,72 dinti, cu eliberare rapida, CrV // STELS",4343,"B","Active",9999,null,null,"No info","линк"]
[14026,"Clichet 3/8,72 dinti, cu eliberare rapida, CrV// STELS",4726,"B","Active",9999,null,null,"No info","линк"]
[14027,"Clichet 1/2,72 dinti, cu eliberare rapida, CrV// STELS",5368,"B","Active",9999,null,null,"No info","линк"]
[14028,"Clichet 1/4,72 dinti, cu eliberare rapida, CrV, maner doua componente// STELS",4524,"B","Active",9999,null,null,"No info","линк"]
[14029,"Clichet 3/8,72 dinti, cu eliberare rapida, CrV, maner doua componente// STELS",5356,"B","Active",9999,null,null,"No info","линк"]
[14030,"Clichet 1/2,72 dinti, cu eliberare rapida, CrV, maner doua componente// STELS",5726,"B","Active",9999,null,null,"No info","линк"]
[14070,"Bovitheto racsni kulcs, 1/2\", 305-445mm, CrV, krom lemezzel, ket komponensu nyel// GROSS",10261,"B","Active",9999,null,null,"No info","линк"]
[14072,"Bovitheto racsni kulcs, 3/8\", 215-315mm, CrV, krom lemezzel, ket komponensu nyel// GROSS",7675,"B","Active",9999,null,null,"No info","линк"]
[14074,"Bovitheto racsni kulcs, 1/4\", 150-200mm, CrV, krom lemezzel, ket komponensu nyel// GROSS",6264,"B","Active",9999,null,null,"No info","линк"]
[14082,"Racsni fogo, 1/2\", 72 foggal, gyors eresztek, ket komponensu nyel",7249,"B","Active",9999,null,null,"No info","линк"]
[14084,"Racsni fogo, 3/8\", 72 foggal, gyors eresztek, ket komponensu nyel",5832,"B","Active",9999,null,null,"No info","линк"]
[14086,"Racsni fogo, 1/4\", 72 foggal, gyors eresztek, ket komponensu nyel",4757,"B","Active",9999,null,null,"No info","линк"]
[14099,"47 db-os szerszamkeszlet, 1/4\" Cr-V, S2, eros tarolo doboz// STELS",16228,"B","Active",9999,null,null,"No info","линк"]
[14100,"Szerszamkeszlet 1/4\" muanyag dobozban 29 db // STELS",14727,"B","Active",9999,null,null,"No info","линк"]
[14101,"Szerszamkeszlet 1/4\", CrV, muanyag dobozban 57 db // STELS",17319,"B","Active",9999,null,null,"No info","линк"]
[14104,"Trusa scule, 1/2\", 1/4\", CrV, cutie din plastic, 76 piese// STELS",48351,"B","Active",9999,null,null,"No info","линк"]
[14105,"Szerszamkeszlet 1/4\", 1/2\" ,CrV,muanyag dobozban 82 db // STELS",43772,"B","Active",9999,null,null,"No info","линк"]
[14106,"Szerszamkeszlet 1/4\", 1/2\" ,CrV,muanyag dobozban 94 db// STELS",42894,"B","Active",9999,null,null,"No info","линк"]
[14107,"Trusa scule, 1/2\", 3/8\" 1/4\", CrV, cutie din plastic, 142 piese// STELS",99018,"B","Active",9999,null,null,"No info","линк"]
[14108,"Trusa scule, 1/2\", 1/4\", CrV, cutie din plastic, 69 piese// STELS",49687,"B","Active",9999,null,null,"No info","линк"]
[14109,"Trusa scule, 1/2\", 1/4\", CrV, cutie din plastic, 88 piese// STELS",40678,"B","Active",9999,null,null,"No info","линк"]
[14111,"Trusa scule, 1/2\", 1/4\", CrV, cutie din plastic, 98 piese// STELS",67809,"B","Active",9999,null,null,"No info","линк"]
[14112,"Trusa scule, 1/4\", 1/2\", Cr-V, S2, cutie armata, 119 piese// STELS",83271,"B","Active",9999,null,null,"No info","линк"]
[14113,"Trusa scule, 1/2\", Cr-V, S2, cutie armata, 58 piese// STELS",47734,"B","Active",9999,null,null,"No info","линк"]
[14114,"Trusa scule, 1/4\", 3/8\", 1/2\", Cr-V, S2, cutie armata, 151 piese// STELS",67253,"B","Active",9999,null,null,"No info","линк"]
[14115,"Trusa scule, 1/4\", 3/8\", 1/2\", Cr-V, S2, cutie armata, 216 piese// STELS",90814,"B","Active",9999,null,null,"No info","линк"]
[14122,"109 db-os szerszámkészlet, dodekaéder aljzatok// Stels",52274,"B","Active",9999,null,null,"No info","линк"]
[14125,"Set tubulare 1/4\", cap 4 - 13 mm, cu clichet, CrV, 11 piese// STELS",6707,"B","Active",9999,null,null,"No info","линк"]
[14126,"Set tubulare 3/8\", cap 7 - 22 mm, cu clichet, CrV, 11 piese// STELS",8164,"B","Active",9999,null,null,"No info","линк"]
[14127,"Set tubulare 1/2\", cap 10 - 22 mm, cu clichet, CrV, 11 piese STELS",10489,"B","Active",9999,null,null,"No info","линк"]
[14141,"Meghajtó foglalat készlet, racsni fogantyú 120 fog, 12 db, 1/4\", CrV// Gross",10554,"B","Active",9999,null,null,"No info","линк"]
[14143,"Meghajtó foglalat készlet, racsni fogantyú 120 fog, 41 db, 1/2\", 1/4\", CrV// GROSS",22488,"B","Active",9999,null,null,"No info","линк"]
[14144,"Meghajtó foglalat és bitkészlet racsnis fogantyúval 1/2\", 36 db.// Gross",24986,"B","Active",9999,null,null,"No info","линк"]
[14145,"Meghajtó foglalat készlet, racsni fogantyú 120 fog, 36 db, 1/2\", 3/8\", CrV// GROSS",23268,"B","Active",9999,null,null,"No info","линк"]
[14146,"Szerszàmkåszlet, 42 db, 120 fog, CrV, 1/4\"// Gross",33948,"B","Active",9999,null,null,"No info","линк"]
[14148,"Szerszámkészlet, 78 db, 120 fog, CrV, 1/4\", 1/2\"// Bruttó",118655,"B","Active",9999,null,null,"No info","линк"]
[14149,"Szerszàmkåszlet, 82 db, 120 fog, CrV, 1/4\", 1/2\"// GROSS",84568,"B","Active",9999,null,null,"No info","линк"]
[14155,"Szerszàmkåszlet, 109 db, 120 fog, CrV, 1/4\", 1/2\"// Gross",93737,"B","Active",9999,null,null,"No info","линк"]
[14156,"Szerszàmkåszlet, 76 db, 120 fog, CrV, 1/4\", 1/2\"// GROSS",99826,"B","Active",9999,null,null,"No info","линк"]
[14158,"Nyomatékkulcs, 5-24 Nm, 1/4\", CrV, krómozott// Stels",16900,"B","Active",9999,null,null,"No info","линк"]
[14159,"Nyomatékkulcs, 28 - 210 Nm, 1/2\", CrV, krómozott, gyorskioldó// Stels",19522,"B","Active",9999,null,null,"No info","линк"]
[14223,"Csokulcs ketoldalu 12x13 mm// STELS",401,"B","Active",9999,null,null,"No info","линк"]
[14224,"L típusú csavarkulcs 19mm// Stels",1403,"B","Active",9999,null,null,"No info","линк"]
[14225,"L típusú csavarkulcs 21 mm// Stels",1411,"B","Active",9999,null,null,"No info","линк"]
[14226,"L típusú csavarkulcs 22 mm// Stels",1419,"B","Active",9999,null,null,"No info","линк"]
[14231,"Csokulcs, nyilasmeret 10 mm// STELS",527,"B","Active",9999,null,null,"No info","линк"]
[14233,"Csokulcs, nyilasmeret 12 mm// STELS",646,"B","Active",9999,null,null,"No info","линк"]
[14234,"Csokulcs, nyilasmeret 13 mm// STELS",828,"B","Active",9999,null,null,"No info","линк"]
[14238,"Csokulcs, nyilasmeret 17 mm// STELS",1065,"B","Active",9999,null,null,"No info","линк"]
[14239,"Csokulcs, nyilasmeret 19 mm// STELS",1491,"B","Active",9999,null,null,"No info","линк"]
[14249,"Kereszt-kerekes csavarkulcs 17x19x21x22 megerositett, atalakitoval 1/2 huvelyk// STELS",4001,"B","Active",9999,null,null,"No info","линк"]
[14266,"Fеk lеgtelenítő kulcs 8x10 mm // Sibrtech",845,"B","Active",9999,null,null,"No info","линк"]
[14267,"Fеk légtelenítő kulcs 10x12 mm// Sibrtech",845,"B","Active",9999,null,null,"No info","линк"]
[14268,"Fék lеgtelenítő kulcs 10x13 mm// Sibrtech",845,"B","Active",9999,null,null,"No info","линк"]
[14270,"1/2\" szétválasztható keresztkulcs, összecsukható, 17mm, 19mm, 21mm, 23mm, CRV// GROSS",13418,"B","Active",9999,null,null,"No info","линк"]
[14298,"Kétoldalas kerékkulcs 22x38 mm// Stels",5502,"B","Active",9999,null,null,"No info","линк"]
[14299,"Kétoldalas kerékkulcs 32x38 mm// Stels",6256,"B","Active",9999,null,null,"No info","линк"]
[14301,"Kettos villas csavarkulcs 6x7 mm, sarga cink// SIBRTEH",179,"B","Active",9999,null,null,"No info",{"$f":"HYPERLINK(L260,\"линк\")","v":"линк"}]
[14302,"Kettos villas csavarkulcs 8x9 mm, sarga cink// SIBRTEH",185,"B","Active",9999,null,null,"No info","линк"]
[14303,"Kettos villas csavarkulcs 8x10 mm, sarga cink// SIBRTEH",195,"B","Active",9999,null,null,"No info","линк"]
[14304,"Kettos villas csavarkulcs 10x11 mm, sarga cink// SIBRTEH",204,"B","Active",9999,null,null,"No info","линк"]
[14306,"Kettos villas csavarkulcs 13x14 mm, sarga cink// SIBRTEH",261,"B","Active",9999,null,null,"No info","линк"]
[14307,"Kettos villas csavarkulcs 13x17mm, sarga cink// SIBRTEH",377,"B","Active",9999,null,null,"No info","линк"]
[14308,"Kettos villas csavarkulcs 14x15mm, sarga cink// SIBRTEH",299,"B","Active",9999,null,null,"No info","линк"]
[14310,"Kettos villas csavarkulcs 17x19mm, sarga cink// SIBRTEH",395,"B","Active",9999,null,null,"No info","линк"]
[14312,"Kettos villas csavarkulcs 20x22 mm, sarga cink// SIBRTEH",525,"B","Active",9999,null,null,"No info","линк"]
[14314,"Kettos villas csavarkulcs 24x27 mm, sarga cink// SIBRTEH",692,"B","Active",9999,null,null,"No info","линк"]
[14315,"Kettos villas csavarkulcs 30x32 mm, sarga cink// SIBRTEH",979,"B","Active",9999,null,null,"No info","линк"]
[14320,"Kettos villas csavarkulcs, 6 x 7 mm, CrV, fekete foszfat// SIBRTEH",173,"B","Active",9999,null,null,"No info","линк"]
[14321,"Kettos villas csavarkulcs, 8 x 10 mm, CrV, fekete foszfat// SIBRTEH",255,"B","Active",9999,null,null,"No info","линк"]
[14322,"Kettos villas csavarkulcs, 9 x 11 mm, CrV, fekete foszfat// SIBRTEH",319,"B","Active",9999,null,null,"No info","линк"]
[14323,"Kettos villas csavarkulcs, 10 x 12 mm, CrV, fekete foszfat// SIBRTEH",346,"B","Active",9999,null,null,"No info","линк"]
[14325,"Kettos villas csavarkulcs, 13 x 14 mm, CrV, fekete foszfat// SIBRTEH",432,"B","Active",9999,null,null,"No info","линк"]
[14329,"Kettos villas csavarkulcs, 19 x 22 mm, CrV, fekete foszfat// SIBRTEH",695,"B","Active",9999,null,null,"No info","линк"]
[14330,"Kettos villas csavarkulcs, 22 x 24 mm, CrV, fekete foszfat// SIBRTEH",751,"B","Active",9999,null,null,"No info","линк"]
[14331,"Kettos villas csavarkulcs, 27 x 30 mm, CrV, fekete foszfat// SIBRTEH",1427,"B","Active",9999,null,null,"No info","линк"]
[14333,"Kettos villas csavarkulcs, 32 x 36 mm, CrV, fekete foszfat// SIBRTEH",2933,"B","Active",9999,null,null,"No info","линк"]
[14336,"Nyitott végű csavarkulcs, 8 x 10 mm, horganyzott (KZSMI) RUSSIA",367,"B","Active",9999,null,null,"No info","линк"]
[14342,"Nyitott végű csavarkulcs, 10 x 12 mm, horganyzott (KZSMI) RUSSIA",412,"B","Active",9999,null,null,"No info","линк"]
[14345,"Nyitott csavarkulcs, 11 x 13 mm, horganyzott (KZSMI) RUSSIA",437,"B","Active",9999,null,null,"No info","линк"]
[14347,"Nyitott végű csavarkulcs, 12 x 13 mm, horganyzott (KZSMI) RUSSIA",455,"B","Active",9999,null,null,"No info","линк"]
[14349,"Kettos villás csavarkulcs, 13 x 14 mm, galvanizált (KZSMI) Russia",465,"B","Active",9999,null,null,"No info","линк"]
[14356,"Nyitott csavarkulcs, 14 x 17 mm, horganyzott (KZSMI) RUSSIA",499,"B","Active",9999,null,null,"No info","линк"]
[14362,"Kettos villás csavarkulcs, 19 x 22 mm, galvanizált (KZSMI) Russia",809,"B","Active",9999,null,null,"No info","линк"]
[14616,"Csillagkulcs 10 x11 mm, sarga cink// SIBRTEH",379,"B","Active",9999,null,null,"No info","линк"]
[14618,"Csillagkulcs 10x13 mm, sarga cink// SIBRTEH",594,"B","Active",9999,null,null,"No info","линк"]
[14622,"Cheie inelara dubla cotita, 13x17 mm, zinc galben// СИaРТЕХ",733,"B","Active",9999,null,null,"No info","линк"]
[14624,"Csillagkulcs 14 x15 mm, sarga cink// SIBRTEH",568,"B","Active",9999,null,null,"No info","линк"]
[14628,"Csillagkulcs 19 x22 mm, sarga cink// SIBRTEH",1002,"B","Active",9999,null,null,"No info","линк"]
[14632,"Csillagkulcs 22 x24 mm, sarga cink// SIBRTEH",1416,"B","Active",9999,null,null,"No info","линк"]
[14634,"Cheie inelara dubla cotita, 24x27 mm, zinc galben// СИaРТЕХ",1358,"B","Active",9999,null,null,"No info","линк"]
[14636,"Csillagkulcs 27 x32 mm, sarga cink// SIBRTEH",2539,"B","Active",9999,null,null,"No info","линк"]
[14638,"Csillagkulcs 30 x32 mm, sarga cink// SIBRTEH",2354,"B","Active",9999,null,null,"No info","линк"]
[14846,"Kombinalt racsnis kulcs 8 mm // GROSS",2678,"B","Active",9999,null,null,"No info","линк"]
[14847,"Kombinalt racsnis kulcs 9 mm // GROSS",2751,"B","Active",9999,null,null,"No info","линк"]
[14848,"Kombinalt racsnis kulcs, 10 mm, fogak szama 100 GROSS",2765,"B","Active",9999,null,null,"No info","линк"]
[14849,"Kombinalt racsnis kulcs 11 mm // GROSS",2794,"B","Active",9999,null,null,"No info","линк"]
[14850,"Kombinalt racsnis kulcs 12 mm // GROSS",2924,"B","Active",9999,null,null,"No info","линк"]
[14851,"Kombinalt racsnis kulcs 13 mm // GROSS",3014,"B","Active",9999,null,null,"No info","линк"]
[14852,"Kombinalt racsnis kulcs 14 mm // GROSS",3169,"B","Active",9999,null,null,"No info","линк"]
[14853,"Kombinalt racsnis kulcs 15 mm // GROSS",3688,"B","Active",9999,null,null,"No info","линк"]
[14854,"Kombinalt racsnis kulcs 16 mm // GROSS",3635,"B","Active",9999,null,null,"No info","линк"]
[14855,"Kombinalt racsnis kulcs 17 mm // GROSS",3881,"B","Active",9999,null,null,"No info","линк"]
[14856,"Kombinalt racsnis kulcs 18 mm // GROSS",4278,"B","Active",9999,null,null,"No info","линк"]
[14857,"Kombinalt racsnis kulcs 19 mm // GROSS",4285,"B","Active",9999,null,null,"No info","линк"]
[14858,"Kombinàlt racsnis kulcskåszlet, CRV, 8, 10, 12, 13, 17 mm// GROSS måret",18663,"B","Active",9999,null,null,"No info","линк"]
[14890,"Kombinalt csavarkulcs keszlet, 8-19mm,7 db// GROSS",21235,"B","Active",9999,null,null,"No info","линк"]
[14891,"7 db csuklós racsnis kulcskészlet,, 8-19mm// GROSS",32312,"B","Active",9999,null,null,"No info","линк"]
[14892,"Megfordithato kombinalt csavarkulcs keszlet, , 8-19mm, 7 db // GROSS",28882,"B","Active",9999,null,null,"No info","линк"]
[14893,"Racsnis kulcskeszlet 4 az 1-ben, 8-19 mm, eltero meretben, megfordithato, 2 db// GROSS",12204,"B","Active",9999,null,null,"No info","линк"]
[14901,"Kombinalt csavarkulcs, 6 mm, CrV, fekete foszfat// SIBRTEH",242,"B","Active",9999,null,null,"No info","линк"]
[14902,"Kombinalt csavarkulcs, 7 mm, CrV, fekete foszfat// SIBRTEH",255,"B","Active",9999,null,null,"No info","линк"]
[14903,"Kombinalt csavarkulcs, 8 mm, CrV, fekete foszfat// SIBRTEH",281,"B","Active",9999,null,null,"No info","линк"]
[14904,"Kombinalt csavarkulcs, 9 mm, CrV, fekete foszfat// SIBRTEH",289,"B","Active",9999,null,null,"No info","линк"]
[14905,"Kombinalt csavarkulcs, 10 mm, CrV, fekete foszfat// SIBRTEH",384,"B","Active",9999,null,null,"No info","линк"]
[14906,"Kombinalt csavarkulcs, 11 mm, CrV, fekete foszfat// SIBRTEH",314,"B","Active",9999,null,null,"No info","линк"]
[14907,"Kombinalt csavarkulcs, 12 mm, CrV, fekete foszfat// SIBRTEH",318,"B","Active",9999,null,null,"No info","линк"]
[14910,"Kombinalt csavarkulcs, 15 mm, CrV, fekete foszfat// SIBRTEH",472,"B","Active",9999,null,null,"No info","линк"]
[14913,"Kombinalt csavarkulcs, 22 mm, CrV, fekete foszfat// SIBRTEH",1183,"B","Active",9999,null,null,"No info","линк"]
[14914,"Kombinalt csavarkulcs, 24 mm, CrV, fekete foszfat// SIBRTEH",1230,"B","Active",9999,null,null,"No info","линк"]
[14915,"Kombinalt csavarkulcs, 27 mm, CrV, fekete foszfat// SIBRTEH",1737,"B","Active",9999,null,null,"No info","линк"]
[14916,"Kombinalt csavarkulcs, 30 mm, CrV, fekete foszfat// SIBRTEH",1922,"B","Active",9999,null,null,"No info",{"$f":"HYPERLINK(L324,\"линк\")","v":"линк"}]
[14917,"Kombinalt csavarkulcs, 32 mm, CrV, fekete foszfat// SIBRTEH",2344,"B","Active",9999,null,null,"No info","линк"]
[14936,"Kombinált villáskulcs, 8 mm, horganyzott (KZSMI) RUSSIA",377,"B","Active",9999,null,null,"No info","линк"]
[14939,"Kombinált villáskulcs, 12 mm, horganyzott (KZSMI) RUSSIA",462,"B","Active",9999,null,null,"No info","линк"]
[14941,"Kombinált villáskulcs, 14 mm, horganyzott (KZSMI) RUSSIA",515,"B","Active",9999,null,null,"No info","линк"]
[14944,"Kombinált villáskulcs, 17 mm, horganyzott (KZSMI) RUSSIA",584,"B","Active",9999,null,null,"No info","линк"]
[14946,"Kombinált villáskulcs, 19 mm, horganyzott (KZSMI) RUSSIA",758,"B","Active",9999,null,null,"No info","линк"]
[14949,"Kombinált villáskulcs, 22 mm, horganyzott (KZSMI) Oroszország",1042,"B","Active",9999,null,null,"No info","линк"]
[14950,"Elfordítható csavarkulcs 8х9 mm, CrV,12 lapos// Stels",853,"B","Active",9999,null,null,"No info","линк"]
[14952,"Elfordítható csavarkulcs 10x11 mm, CrV,12 lapos// Stels",937,"B","Active",9999,null,null,"No info","линк"]
[14953,"Elfordítható csavarkulcs 12x13 mm, CrV,12 lapos// Stels",1451,"B","Active",9999,null,null,"No info","линк"]
[14955,"Elfordítható csavarkulcs 14x15 mm, CrV,12 lapos// Stels",1289,"B","Active",9999,null,null,"No info","линк"]
[14961,"Elfordítható csavarkulcs 17х19 mm, CrV,12 lapos// Stels",1664,"B","Active",9999,null,null,"No info","линк"]
[14963,"Elfordítható csavarkulcs 18x19 mm, CrV,12 lapos// Stels",1694,"B","Active",9999,null,null,"No info","линк"]
[14965,"Elfordítható csavarkulcs kit, CrV, 8 pcs.,12 lapos.// Stels",14512,"B","Active",9999,null,null,"No info","линк"]
[14973,"Kombinalt csavarkulcs 7 mm, sarga cink// SIBRTEH",181,"B","Active",9999,null,null,"No info","линк"]
[14977,"Kombinalt csavarkulcs 11 mm, sarga cink// SIBRTEH",238,"B","Active",9999,null,null,"No info","линк"]
[14978,"Kombinalt csavarkulcs 12 mm, sarga cink// SIBRTEH",275,"B","Active",9999,null,null,"No info","линк"]
[14980,"Kombinalt csavarkulcs 14 mm, sarga cink// SIBRTEH",285,"B","Active",9999,null,null,"No info","линк"]
[14981,"Kombinalt csavarkulcs 15 mm, sarga cink// SIBRTEH",342,"B","Active",9999,null,null,"No info","линк"]
[14982,"Kombinalt csavarkulcs 17 mm, sarga cink// SIBRTEH",377,"B","Active",9999,null,null,"No info","линк"]
[14984,"Kombinalt csavarkulcs 22 mm, sarga cink// SIBRTEH",611,"B","Active",9999,null,null,"No info","линк"]
[14987,"Kombinalt csavarkulcs 27 mm, sarga cink// SIBRTEH",1525,"B","Active",9999,null,null,"No info","линк"]
[14988,"Kombinalt kulcs 30 mm, sarga cink//SUBRTEH",1735,"B","Active",9999,null,null,"No info","линк"]
[14989,"Kombinalt csavarkulcs 32 mm, sarga cink// SIBRTEH",1876,"B","Active",9999,null,null,"No info","линк"]
[15136,"Kombinalt csavarkulcs, 17 mm, CrV, hidegen sajtolt",755,"B","Active",9999,null,null,"No info","линк"]
[15148,"Kombinalt csavarkulcs keszlet, 8-19 mm, 8 db CrV, hidegen sajtolt",5824,"B","Active",9999,null,null,"No info","линк"]
[15149,"Villáskulcs készlet 6-22 mm, 12db CrV, hidegbélyegző// GROSS",7942,"B","Active",9999,null,null,"No info","линк"]
[15220,"Kettos villas csavarkulcs keszlet, 6 - 19 mm, CrV, fekete foszfat 6 db // SIBRTEH",2154,"B","Active",9999,null,null,"No info","линк"]
[15222,"Set chei fixe, 6-24 mm, 8 buc., fosfatate// СИaРТЕХ",3368,"B","Active",9999,null,null,"No info","линк"]
[15224,"Set chei fixe, 6-32 mm, 10 buc., fosfatate// СИaРТЕХ",6887,"B","Active",9999,null,null,"No info","линк"]
[15243,"Kombinált villáskulcs, 6 mm, CrV, csúszásgátló// Stels",238,"B","Active",9999,null,null,"No info","линк"]
[15244,"Kombinált villáskulcs, 7 mm, CrV, csúszásgátló// Stels",252,"B","Active",9999,null,null,"No info","линк"]
[15245,"Kombinált villáskulcs, 8 mm, CrV, csúszásgátló// Stels",271,"B","Active",9999,null,null,"No info","линк"]
[15246,"Kombinált villáskulcs, 9 mm, CrV, csúszásgátló// Stels",293,"B","Active",9999,null,null,"No info","линк"]
[15248,"Kombinált villáskulcs, 11 mm, CrV, csúszásgátló// Stels",310,"B","Active",9999,null,null,"No info","линк"]
[15249,"Kombinált villáskulcs, 12 mm, CrV, csúszásgátló// Stels",356,"B","Active",9999,null,null,"No info","линк"]
[15251,"Kombinált villáskulcs, 14 mm, CrV, csúszásgátló// Stels",409,"B","Active",9999,null,null,"No info","линк"]
[15252,"Kombinált villáskulcs, 15 mm, CrV, csúszásgátló// Stels",481,"B","Active",9999,null,null,"No info","линк"]
[15257,"Kombinált villáskulcs, 20 mm, CrV, csúszásgátló// STELS",790,"B","Active",9999,null,null,"No info","линк"]
[15414,"Kombinalt csavarkulcs keszlet, 6 - 17 mm, 6 db, CrV, csiszolt krom MTX",1945,"B","Active",9999,null,null,"No info","линк"]
[15427,"6 db Kombinàlt villàskulcs kåszlet, 8-17 mm, CrV, szatån kivitel// Stels",2381,"B","Active",9999,null,null,"No info","линк"]
[15429,"12 db-os kombinált villáskulcs készlet, 6-22 mm, CrV, szatén kivitel// Stels",4773,"B","Active",9999,null,null,"No info","линк"]
[15431,"26 db Kombinált villáskulcs készlet, 6-32 mm, CrV, szatén kivitel// Stels",25658,"B","Active",9999,null,null,"No info","линк"]
[15452,"Kombinalt csavarkulcs keszlet, 6-22 mm, CrV,12 db // SIBRTEH",4696,"B","Active",9999,null,null,"No info","линк"]
[15475,"Kombinalt csavarkulcs keszlet, 6 - 22 mm, CrV, fekete foszfat,10 db // SIBRTEH",5097,"B","Active",9999,null,null,"No info","линк"]
[15477,"Kombinalt csavarkulcs keszlet, 6 - 22 mm, CrV, fekete foszfat,12 db // SIBRTEH",5443,"B","Active",9999,null,null,"No info","линк"]
[15537,"Állítható csavarkulcs, vékony pofák, foszfátozott, 300 mm// Sibrtech",10234,"B","Active",9999,null,null,"No info","линк"]
[15561,"Állítható kulcs, 200mm, CrV kétkomponensú nyél//GROSS",6800,"B","Active",9999,null,null,"No info","линк"]
[15562,"Állítható csavarkulcs, 250mm, CrV kétkomponensű fogantyú// Bruttó",8446,"B","Active",9999,null,null,"No info","линк"]
[15564,"Állítható csavarkulcs, 120mm, CrV rövid nyél// Gross",5041,"B","Active",9999,null,null,"No info","линк"]
[15565,"Állítható csavarkulcs, 140mm, CrV rövid nyél// Gross",6307,"B","Active",9999,null,null,"No info","линк"]
[15566,"Állítható csavarkulcs, 160 mm, CrV rövid fogantyú// GROSS",8189,"B","Active",9999,null,null,"No info","линк"]
[15568,"Állítható villáskulcs, 200 mm, CrV, vékony pofákon védőbetéttel Gross",7946,"B","Active",9999,null,null,"No info","линк"]
[15569,"Állítható villáskulcs, 250 mm, CrV, vékony pofákon védőbetéttel Gross",10622,"B","Active",9999,null,null,"No info","линк"]
[15572,"Állítható csavarkulcs, mozgatható pofa, 200 mm, CRV //GROSS",8636,"B","Active",9999,null,null,"No info","линк"]
[15601,"Csokulcs, 1, 1\" CrV L tipus,tomorkovacsolt",3885,"B","Active",9999,null,null,"No info","линк"]
[15603,"Csokulcs, 2, 1,5\" CrV L tipus,tomorkovacsolt",6111,"B","Active",9999,null,null,"No info","линк"]
[15605,"Csokulcs, 3,2\" CrV L tipus,tomorkovacsolt",10100,"B","Active",9999,null,null,"No info","линк"]
[15606,"Csokulcs 4, 3\" tomorkovacsolt CrV L tipus GROSS",14385,"B","Active",9999,null,null,"No info","линк"]
[15610,"Csokulcs 0, 0,5\" tomorkovacsolt CrV S tipus GROSS",2745,"B","Active",9999,null,null,"No info","линк"]
[15611,"Csokulcs , 1, 1\" CrV S tipus,tomorkovacsolt",3788,"B","Active",9999,null,null,"No info","линк"]
[15613,"Csokulcs, 2, 1,5\" CrV S tipus,tomorkovacsolt",6052,"B","Active",9999,null,null,"No info","линк"]
[15615,"Csokulcs, 3, 2\" CrV S tipus,tomorkovacsolt",10072,"B","Active",9999,null,null,"No info","линк"]
[15616,"Csokulcs 4, 3\" tomorkovacsolt CrV S tipus GROSS",14122,"B","Active",9999,null,null,"No info",{"$f":"HYPERLINK(L388,\"линк\")","v":"линк"}]
[15620,"Csőkulcs ¹0, 0,5 tömör kovácsolt CrV B - típus// GROSS",3555,"B","Active",9999,null,null,"No info","линк"]
[15621,"Csőkulcs ¹1, 1 tömör kovácsolt CrV B - típus// GROSS",4464,"B","Active",9999,null,null,"No info","линк"]
[15622,"Csőkulcs №2, 1,5 tömör kovácsolt CrV B - típus// GROSS",8092,"B","Active",9999,null,null,"No info","линк"]
[15624,"Csőkulcs №4, 3 tömör kovácsolt CrV B - típus// GROSS",14259,"B","Active",9999,null,null,"No info","линк"]
[15711,"Vízpumpa fogó, gombos mechanizmus, hüvely fogantyúk 180 mm// Gross",9296,"B","Active",9999,null,null,"No info","линк"]
[15715,"Harapofogo 240 mm, befecskendezeses eljarassal megformalt nyel, CrV // GROSS",8109,"B","Active",9999,null,null,"No info","линк"]
[15723,"Vízpumpa fogó, fröccsöntött fogantyúk 180 mm// Gross",6095,"B","Active",9999,null,null,"No info","линк"]
[15724,"Csőfogó mártott nyéllel 300 mm// Gross",12793,"B","Active",9999,null,null,"No info","линк"]
[15761,"allithato csofogo №3, ontott // SPARTA",5791,"B","Active",9999,null,null,"No info","линк"]
[15762,"allithato csofogo №4, ontott // SPARTA",8638,"B","Active",9999,null,null,"No info","линк"]
[15924,"Négyzet alakú reszelő 150 mm, kétkomponensű nyél,¹ 2",536,"B","Active",9999,null,null,"No info","линк"]
[15927,"Négyzet alakú reszelő 200 mm, kétkomponensű nyél, №2",637,"B","Active",9999,null,null,"No info","линк"]
[15929,"Sorjazo 250 mm fa nyellel// SIBRTEH",670,"B","Active",9999,null,null,"No info","линк"]
[16032,"Haromszog alaku reszelo fa nyellel 300mm// SIBRTEH",867,"B","Active",9999,null,null,"No info","линк"]
[16126,"Lekerekitett reszelo 200 mm fa nyellel //SIBRTEX",448,"B","Active",9999,null,null,"No info","линк"]
[16129,"Lekerekitett reszelo 250 mm fa nyellel// SIBRTEH",582,"B","Active",9999,null,null,"No info","линк"]
[16132,"Lekerekitett reszelo 300 mm fa nyellel// SIBRTEH",821,"B","Active",9999,null,null,"No info","линк"]
[16133,"Körreszelő 300 mm, kétkomponensű nyél, ¹2",982,"B","Active",9999,null,null,"No info","линк"]
[16223,"Fem reszelo, 150 mm,lapos, fa nyellel // SIBERTECH",403,"B","Active",9999,null,null,"No info","линк"]
[16226,"Lapos reszelo fa nyellel 200 mm //SIBRTEX",560,"B","Active",9999,null,null,"No info","линк"]
[16232,"Lapos reszelo fa nyellel 300 mm// SIBRTEH",1059,"B","Active",9999,null,null,"No info","линк"]
[16326,"Felig lekerekitett reszelo 200 mm fa nyellel //SIBRTEX",578,"B","Active",9999,null,null,"No info","линк"]
[16329,"Felig lekerekitett reszelo 250 mm fa nyellel// SIBRTEH",886,"B","Active",9999,null,null,"No info","линк"]
[16402,"9 db. TORX extra hosszú lyukas kulcskészlet, hegy mágnessel, T10-T50, S2, króm/szín// Gross",12633,"B","Active",9999,null,null,"No info","линк"]
[16413,"Osszehajthato csavarkulcsok, Tamper-Torx, 7 db, TT10-TT40, CrV",3854,"B","Active",9999,null,null,"No info","линк"]
[16957,"160mm fogo muanyag nyellel, csiszolt, klasszikus kialakitas//SPARTA",973,"B","Active",9999,null,null,"No info","линк"]
[16958,"180mm fogo muanyag nyellel, csiszolt, klasszikus kialakitas//SPARTA",1120,"B","Active",9999,null,null,"No info","линк"]
[16962,"200mm fogo muanyag nyellel, csiszolt, klasszikus kialakitas//SPARTA",1285,"B","Active",9999,null,null,"No info","линк"]
[16972,"Kombinalt fogo 165 mm, harom komponensu nyel // GROSS",9816,"B","Active",9999,null,null,"No info","линк"]
[16975,"Kombinalt fogo 205 mm, harom komponensu nyel // GROSS",11121,"B","Active",9999,null,null,"No info","линк"]
[16989,"Kombinalt fogo, 180 mm, Sullyeszteklektromos 1000 V-ig, harom komponensu nyel// GROSS",10674,"B","Active",9999,null,null,"No info","линк"]
[17050,"160mm Kombinalt fogo ket komponensu markolattal//",1714,"B","Active",9999,null,null,"No info","линк"]
[17051,"180 mm-es kombinált fogó kétkomponensű nyéllel// Сибртех",2020,"B","Active",9999,null,null,"No info","линк"]
[17052,"200 mm-es kombinált fogó kétkomponensű nyéllel// Сибртех",1656,"B","Active",9999,null,null,"No info","линк"]
[17157,"160mm Hosszu csoru fogo muanyag nyellel, csiszolt klasszikus kialakitas//SPARTA",886,"B","Active",9999,null,null,"No info","линк"]
[17159,"Hosszu csoru fogo muanyag nyellel, csiszolt klasszikus kialakitas,180 mm //SPARTA",1002,"B","Active",9999,null,null,"No info","линк"]
[17163,"200mm Hosszu csoru fogo muanyag nyellel, csiszolt klasszikus kialakitas//SPARTA",1102,"B","Active",9999,null,null,"No info","линк"]
[17170,"Hosszu orru fogo, egyenes 170 mm, harom komponensu markolat GROSS",8410,"B","Active",9999,null,null,"No info","линк"]
[17171,"Hosszu csoru kombinalt fogo 205 mm, harom komponensu nyel// GROSS",11630,"B","Active",9999,null,null,"No info","линк"]
[17177,"Hosszu csoru fogo, 205 mm, Sullyeszteklektromos 1000 V-ig, harom komponensu nyel// GROSS",12666,"B","Active",9999,null,null,"No info","линк"]
[17411,"Hosszu orru fogo Classic, 160 mm, csiszolt, muanyag markolat SPARTA",894,"B","Active",9999,null,null,"No info","линк"]
[17521,"160mm Oldalvago fogo ket kompnensu markolattal//",1823,"B","Active",9999,null,null,"No info","линк"]
[17558,"Oldalcsipofogo 160mm muanyag nyellel, csiszolt, klasszikus kialakitas//SPARTA",931,"B","Active",9999,null,null,"No info","линк"]
[17560,"Oldalcsipofogo 180mm muanyag nyellel, csiszolt, klasszikus kialakitas//SPARTA",1041,"B","Active",9999,null,null,"No info","линк"]
[17562,"Oldalcsipofogo 200mm muanyag nyellel, csiszolt, klasszikus kialakitas//SPARTA",1151,"B","Active",9999,null,null,"No info","линк"]
[17570,"Oldalcsipofogo 200mm ket komponensu nyellel, csiszolt, komfort kialakitas//  SPARTA",1897,"B","Active",9999,null,null,"No info","линк"]
[17571,"Oldalcsipofogo 160 mm,  harom komponensu nyel // GROSS",9170,"B","Active",9999,null,null,"No info","линк"]
[17575,"Eros oldalcsipofogo 215 mm, harom komponensu nyel// GROSS",14053,"B","Active",9999,null,null,"No info","линк"]
[17582,"Oldalcsipofogo, 180 mm, Sullyeszteklektromos 1000 V-ig, harom komponensu nyel// GROSS",11237,"B","Active",9999,null,null,"No info","линк"]
[17584,"Side-cutting pliers 180 mm, reinforced, three component handles// Gross",11163,"B","Active",9999,null,null,"No info","линк"]
[17585,"Oldal csípő fogó 200 mm, megerősített, három komponensű fogantyú// GROSS",11497,"B","Active",9999,null,null,"No info","линк"]
[17610,"Mini szerszamkeszlet, 156mm, 15db, dobozzal // SPARTA",1458,"B","Active",9999,null,null,"No info","линк"]
[17612,"Mini szerszamkeszlet, 113mm, 13db// SPARTA",1167,"B","Active",9999,null,null,"No info","линк"]
[17718,"Kabelcsupaszolo, 0.05-8 sq. mm// GROSS",7121,"B","Active",9999,null,null,"No info","линк"]
[17719,"Krimpelofogo RJ-45,6P,8P es RJ-11 telefonos es halozati kabelekhez/12,6P,8P// GROSS",10076,"B","Active",9999,null,null,"No info","линк"]
[17721,"Huzalcsupaszító, 0,5; 1,0; 1,5; 2,5; 4,0; 8,0 mm2 (8-22AWG), SK5 penge// Gross",10243,"B","Active",9999,null,null,"No info","линк"]
[17723,"Krimpelő fogó telefon és számítógép csatlakozókhoz RJ45, 8P és RJ11/12, 6P, kompakt, CAT5// GROSS",9371,"B","Active",9999,null,null,"No info","линк"]
[17725,"Kabel csipofogo, 160 mm, Sullyeszteklektromos 1000 V-ig, harom komponensu nyel// GROSS",14313,"B","Active",9999,null,null,"No info","линк"]
[17726,"Kábelvágó fogó, 3 részes nyéllel, 160 mm// Gross",10994,"B","Active",9999,null,null,"No info","линк"]
[17727,"Kàbelvàgî fogî, hàrom komponensu fogantyu, 210 mm// Gross",15499,"B","Active",9999,null,null,"No info","линк"]
[17820,"130 mm Hosszu csoru fogo nikkel bevonatos, egyenes, automatikus nyitas//SPARTA",723,"B","Active",9999,null,null,"No info","линк"]
[17822,"130mm Hosszu csoru fogo nikkel bevonatos, hajlitott, automatikus nyitas//SPARTA",723,"B","Active",9999,null,null,"No info","линк"]
[17824,"130 mm oldalcsipofogo, mini, nikkel bevonatos, automatikus nyitas//SPARTA",692,"B","Active",9999,null,null,"No info","линк"]
[17826,"130mm fogo ket komponensu nyellel, nikkel bevonatos, automatikus nyitas//SPARTA",692,"B","Active",9999,null,null,"No info",{"$f":"HYPERLINK(L452,\"линк\")","v":"линк"}]
[17828,"Homlokcsipofogo 105 mm, nikkel bevonatos, automatikus nyitas// SPARTA",733,"B","Active",9999,null,null,"No info","линк"]
[17978,"Fogo, 180 mm (SMI) Russia",2621,"B","Active",9999,null,null,"No info","линк"]
[17984,"Fogo, 250 mm (SMI) Russia",5217,"B","Active",9999,null,null,"No info","линк"]
[17990,"Eros harapofogo, 200 mm, harom komponensu nyel// GROSS",13678,"B","Active",9999,null,null,"No info","линк"]
[17994,"Végvágó harapófogó, megerősített, fröccsöntött fogantyúk, 230 mm// Gross",5838,"B","Active",9999,null,null,"No info","линк"]
[17995,"Végfogó harapófogó, megerősített, fröccsöntött fogantyúk, 300 mm// Bruttó",11508,"B","Active",9999,null,null,"No info","линк"]
[18342,"Gyuru fogo, 175 mm, kulso biztosito gyuruhoz (19-60 mm), egyenes pofakhoz (nem rogzitheto) // Gross",5842,"B","Active",9999,null,null,"No info","линк"]
[18422,"Reteszelő fogó, félkör alakú markolat, 220 mm// Сибртех",1427,"B","Active",9999,null,null,"No info","линк"]
[18660,"Pad satu, 63 mm, asztali rögzítés, csavaros szorító (Glazov) RUSSIA",25285,"B","Active",9999,null,null,"No info","линк"]
[18715,"Vésőtartó, 215x60 mm-2-3/8\"// Bruttó",6008,"B","Active",9999,null,null,"No info","линк"]
[18805,"Magvéső, 300 mm// Bruttó",4550,"B","Active",9999,null,null,"No info","линк"]
[20563,"Gyorszáras F-bilincs, 150*70*360 mm, műanyag ház, rögzítővel, kétkomponensű markolat// Сибртех",3277,"B","Active",9999,null,null,"No info","линк"]
[20564,"Gyorszàras F-bilincs, 200*70*420 mm, muanyag hàz, rogzitovel, kåtkomponensu markolat// Sibrtech",2346,"B","Active",9999,null,null,"No info","линк"]
[20565,"Gyorszáras F-bilincs, 300*70*540 mm, műanyag ház, rögzítővel, kétkomponensű markolat// Сибртех",3806,"B","Active",9999,null,null,"No info","линк"]
[20566,"Gyorszáras F-bilincs, 450*70*660 mm, műanyag ház, rögzítővel, kétkomponensű markolat// Сибртех",4261,"B","Active",9999,null,null,"No info","линк"]
[20567,"Gyorszáras F-bilincs, 600*70*820 mm, műanyag ház, rögzítővel, kétkomponensű markolat// Сибртех",4757,"B","Active",9999,null,null,"No info","линк"]
[20568,"Gyorszáras F-bilincs, 900*70*1130 mm, műanyag ház, rögzítővel, kétkomponensű markolat// Сибртех",3802,"B","Active",9999,null,null,"No info","линк"]
[20700,"Gyorszár kar bilincs, pisztoly típusú, lépcsős mechanizmus, műanyag ház, 150mm// GROSS",8807,"B","Active",9999,null,null,"No info","линк"]
[20702,"Szorito allvany, gyorsszoritos, pisztoly tipusu, lepcsozetes mechanizmus, muanyag haz, 300 mm Gross",10310,"B","Active",9999,null,null,"No info","линк"]
[20704,"Gyorsrögzítő kar bilincs, pisztolytípus, lépcsős mechanizmus, műanyag test, 450mm// Gross",9261,"B","Active",9999,null,null,"No info","линк"]
[20706,"Gyorsrögzítő kar bilincs, pisztolytípus, lépcsős mechanizmus, műanyag test, 600mm// Gross",10174,"B","Active",9999,null,null,"No info","линк"]
[20708,"Gyorsrögzítő kar bilincs, pisztolytípus, lépcsős mechanizmus, műanyag test, 900mm// Gross",12342,"B","Active",9999,null,null,"No info","линк"]
[20717,"4\"/100mm Gyorszáras fogaskerekes bilincs, fém ház, karos kilincsmű// Bruttó",10375,"B","Active",9999,null,null,"No info","линк"]
[20719,"8\"/200mm Gyorszár fogaskerekes bilincs, fém ház, karos kilincsmű// GROSS",11263,"B","Active",9999,null,null,"No info","линк"]
[20721,"12\"/300mm Gyorszár fogaskerekes bilincs, fém ház, karos kilincsmű// GROSS",12609,"B","Active",9999,null,null,"No info","линк"]
[20784,"Power Clamp (két tónusú), műanyag test, kétkomponensű fogantyú, erőltetett rugó, 1-5/8\"/42mm// Сибртех",422,"B","Active",9999,null,null,"No info","линк"]
[20786,"Power Clamp (két tónusú), műanyag test, kétkomponensű fogantyú, erõsített rugó, 2-3/4\"/70mm",698,"B","Active",9999,null,null,"No info","линк"]
[20788,"Eroszoritî (kåt tînusu), muanyag test, kåtkomponensu fogantyu, erositett rugî, 3-3/16\"/82 mm// Ñèáðò",992,"B","Active",9999,null,null,"No info","линк"]
[20801,"38 mm-es Power Clamp (két tónusú), műanyag ház, racsnis mechanizmus 1-1/2\"/38 mm// Gross",2228,"B","Active",9999,null,null,"No info","линк"]
[20803,"58 mm-es Power Clamp (két tónusú), műanyag ház, racsnis mechanizmus 2-1/4\"/58 mm// Gross",2847,"B","Active",9999,null,null,"No info","линк"]
[20805,"100 mm-es Power Clamp (két tónusú), műanyag ház, racsnis mechanizmus 4\"/100 mm// Gross",3806,"B","Active",9999,null,null,"No info","линк"]
[21043,"Kezi gyalu, 165x60 mm ,fem vaz,vagokes szelesseg 60 mm // Russia",2816,"B","Active",9999,null,null,"No info","линк"]
[21044,"Fem nagyolo gyalu, 250 x 63 mm, penge szelesseg 50 mm (Stankosib) Oroszorszag",2527,"B","Active",9999,null,null,"No info","линк"]
[21065,"Kezi gyalu, 250x43 mm ,fem vaz,vagokes szelesseg 30 mm // Russia",2863,"B","Active",9999,null,null,"No info","линк"]
[21663,"Fejsze, 1200 g, osszeszerelt, kovacsolt, fa fejsze markolat, 500 mm AO (Izhevsk) Oroszorszag",7001,"B","Active",9999,null,null,"No info","линк"]
[21674,"Fejsze, 1700 g, osszeszerelt, kovacsolt, fa fejsze markolat, 500 mm A2 (Izhevsk) Oroszorszag",8111,"B","Active",9999,null,null,"No info","линк"]
[21682,"Kovácsolt hentes balta fa nyéllel, 2460/2870 g, 500 mm, Russia",17427,"B","Active",9999,null,null,"No info","линк"]
[21689,"Kovacsolt fejsze,fa nyel,A tipus, 680/980 g, 400 mm, Russia",6117,"B","Active",9999,null,null,"No info","линк"]
[22536,"Kék Műanyga gérvágó láda 4 szög fűrészeléshez+fűrész 350 mm",4003,"B","Active",9999,null,null,"No info","линк"]
[22538,"Kék Műanyga gérvágó láda 4 szög fűrészeléshez+fűrész 450 mm",4362,"B","Active",9999,null,null,"No info","линк"]
[22757,"Precizios pengeallvany, furesz 550 mm, 2 kapocs, korlatozott nyugvopont// GROSS",18610,"B","Active",9999,null,null,"No info","линк"]
[22759,"Precíziós gérvágó doboz, kétsík, 600 mm-es fűrész, 2 bilincs, korlátozott pihenő// Bruttó",24616,"B","Active",9999,null,null,"No info","линк"]
[22861,"Lapos penge, 2D lagyitott fogazat 14 TPI, 550mm// GROSS",1924,"B","Active",9999,null,null,"No info","линк"]
[22863,"Lapos penge, 2D lagyitott fogazat, 18 TPI 550mm// GROSS",2476,"B","Active",9999,null,null,"No info","линк"]
[22865,"Lapos penge, 2D lagyitott fogazat, 24 TPI 550mm// GROSS",2203,"B","Active",9999,null,null,"No info","линк"]
[22867,"Lapos penge, 2D lagyitott fogazat, 14 TPI 600mm// GROSS",2283,"B","Active",9999,null,null,"No info","линк"]
[22869,"Lapos penge, 2D lagyitott fogazat, 18 TPI 600mm// GROSS",2938,"B","Active",9999,null,null,"No info","линк"]
[22871,"Lapos penge, 2D lagyitott fogazat, 24 TPI 600mm// GROSS",2578,"B","Active",9999,null,null,"No info","линк"]
[22873,"Lapos penge, 3D lagyitott fogazat, 18 TPI 550mm// GROSS",3389,"B","Active",9999,null,null,"No info","линк"]
[22875,"Lapos penge, 3D lagyitott fogazat, 18 TPI 600mm// GROSS",3668,"B","Active",9999,null,null,"No info","линк"]
[23100,"PIRANHA kézi fűrész, 300 mm/12\",(11-12Tpi+3 Edge Grd), edzett fog, kétkomponensű nyéllel// GROSS",4181,"B","Active",9999,null,null,"No info","линк"]
[23612,"PIRANHA fafűrész, kempingbe és kertbe, 330 mm, (9-10Tpi+3 Edge Grd), edzett fog// Gross",5822,"B","Active",9999,null,null,"No info","линк"]
[23616,"Fafűrész PIRANHA, összecsukható, kemping és kert, 150mm, 9-10Tpi+3Edge Grd, 2 komponensű nyél// Gross",4639,"B","Active",9999,null,null,"No info","линк"]
[23818,"Kézifűrész fához 500mm, 4Tpi+2 Edge Grd, edzett fog// SIBRTECH",1916,"B","Active",9999,null,null,"No info","линк"]
[24050,"Lombfuresz pengek, 125 mm, gyemant, 20 darab. Russia",393,"B","Active",9999,null,null,"No info","линк"]
[24100,"Kezi furesz (8Tpi+3 Edge Grd), lagyitott fogazat 450mm// GROSS",5066,"B","Active",9999,null,null,"No info","линк"]
[24101,"Kezi furesz (8Tpi+3 Edge Grd), lagyitott fogazat 500mm // GROSS",7044,"B","Active",9999,null,null,"No info","линк"]
[24103,"Kezi furesz (12Tpi+3 Edge Grd), lagyitott fogazat 450mm// GROSS",4895,"B","Active",9999,null,null,"No info","линк"]
[24106,"450mm UltraTRT Kezi furesz w/12Tpi, 3 Edge Grd lagyitott fogazat//GROSS",5701,"B","Active",9999,null,null,"No info","линк"]
[24109,"400mm Kezi furesz (8Tpi+3 Edge Grd), lagyitott fogazat// GROSS",4836,"B","Active",9999,null,null,"No info","линк"]
[24110,"400mm Kezi furesz (12Tpi+3 Edge Grd), lagyitott fogazat // GROSS",4647,"B","Active",9999,null,null,"No info","линк"]
[24111,"UltraTRT Kezi furesz w/12Tpi, 3 Edge Grd lagyitott fogazat 400mm //GROSS",6191,"B","Active",9999,null,null,"No info","линк"]
[24119,"Kezi furesz (8Tpi+3 Edge Grd), lagyitott fogazat 550mm // GROSS",7937,"B","Active",9999,null,null,"No info","линк"]
[24121,"Kezi furesz laminalt laphoz (16Tpi), 2 Edge Grd lagyitott fogazat, 360mm// GROSS",3684,"B","Active",9999,null,null,"No info",{"$f":"HYPERLINK(L516,\"линк\")","v":"линк"}]
[24706,"Véső műanyag nyéllel 6 mm, lapos// Сибртех",668,"B","Active",9999,null,null,"No info","линк"]
[24710,"Véső műanyag nyéllel 10 mm, lapos// Сибртех",707,"B","Active",9999,null,null,"No info","линк"]
[24712,"Véső műanyag nyéllel 12 mm, lapos// Сибртех",727,"B","Active",9999,null,null,"No info","линк"]
[24716,"Véső műanyag nyéllel 16 mm, lapos// Сибртех",766,"B","Active",9999,null,null,"No info","линк"]
[24718,"Veso muanyag nyellel 18 mm, lapos// SIBRTEH",786,"B","Active",9999,null,null,"No info","линк"]
[25236,"Pajszer, kettos T alaku, 450x29x16 mm// GROSS",3464,"B","Active",9999,null,null,"No info","линк"]
[25237,"Pajszer, kettos T alaku, 600x30x17 mm// GROSS",4431,"B","Active",9999,null,null,"No info","линк"]
[25239,"Pajszer, kettos T alaku, 900x30x17 mm// GROSS",6292,"B","Active",9999,null,null,"No info","линк"]
[25251,"Körmös rúd mini, 250x21x9mm// Bruttó",6074,"B","Active",9999,null,null,"No info","линк"]
[25253,"Karomrúd, gumikar, 300x22x14mm// Bruttó",4926,"B","Active",9999,null,null,"No info","линк"]
[25255,"Karmos rúd, lapos profil, 380x35x8mm// Bruttó",6916,"B","Active",9999,null,null,"No info","линк"]
[30561,"Meropalca, 300 mm, fem Russia",1197,"B","Active",9999,null,null,"No info","линк"]
[31101,"Meroszalag, magneses gumis akasztoveg, 3m x 16mm // GROSS",1497,"B","Active",9999,null,null,"No info","линк"]
[31102,"Meroszalag, magneses gumis akasztoveg, 5m x 19mm // GROSS",1957,"B","Active",9999,null,null,"No info","линк"]
[31103,"Meroszalag, magneses gumis akasztoveg, 5m x 25mm // GROSS",2344,"B","Active",9999,null,null,"No info","линк"]
[31105,"Meroszalag, magneses gumis akasztoveg, 10m x 25mm // GROSS",3313,"B","Active",9999,null,null,"No info","линк"]
[31111,"Meroszalag, 2 oldalas felosztas, gumis akasztoveg 3m x 19mm// GROSS",2582,"B","Active",9999,null,null,"No info","линк"]
[31112,"Meroszalag, 2 oldalas felosztas, gumis akasztoveg 5m x 19mm // GROSS",3175,"B","Active",9999,null,null,"No info","линк"]
[31113,"Meroszalag, 2 oldalas felosztas, gumis akasztoveg 5m x 25mm// GROSS",3657,"B","Active",9999,null,null,"No info","линк"]
[31114,"Meroszalag, 2 oldalas felosztas, gumis akasztoveg 8m x 25mm // GROSS",4533,"B","Active",9999,null,null,"No info","линк"]
[31115,"Meroszalag, 2 oldalas felosztas, gumis akasztoveg 10m x 25mm// GROSS",4840,"B","Active",9999,null,null,"No info","линк"]
[31121,"Meroszalag, egy oldalas akaszto 2m x 16mm// GROSS",1820,"B","Active",9999,null,null,"No info","линк"]
[31122,"Meroszalag, 2 oldalas felosztas, egy oldalas akaszto 3m x 16mm // GROSS",1827,"B","Active",9999,null,null,"No info","линк"]
[31123,"Meroszalag, 5m x 19mm , 2 oldalas felosztas, dupla akasztoveg //SIBRTEX",2863,"B","Active",9999,null,null,"No info","линк"]
[31124,"Meroszalag, 2 oldalas felosztas, dupla akasztoveg 5m x 25mm // GROSS",3388,"B","Active",9999,null,null,"No info","линк"]
[31125,"Meroszalag, 2 oldalas felosztas, dupla akasztoveg 8m x 25mm// GROSS",4596,"B","Active",9999,null,null,"No info","линк"]
[31126,"Meroszalag, 2 oldalas felosztas, dupla akasztoveg 10m x 25mm// GROSS",5637,"B","Active",9999,null,null,"No info","линк"]
[31251,"Geodeziai meroszalag 20mx13mm, femszalag, zart tok, 2 oldalas felosztas// GROSS",6005,"B","Active",9999,null,null,"No info","линк"]
[32530,"Mérőszalag grafit, gumírozott test, ütköző, 3 m x 16 mm",650,"B","Active",9999,null,null,"No info","линк"]
[32533,"Mérőszalag grafit, gumírozott test, puffer, 7,5 m x 25 mm// Сибртех",2278,"B","Active",9999,null,null,"No info","линк"]
[32574,"Mérőszalag Experte, 3 m x 19 mm, kétkomponensű burkolat, mágnes, kétoldalas, nylon// GROSS",2269,"B","Active",9999,null,null,"No info","линк"]
[32575,"Tapeline Experte, 5 m x 27 mm, kétkomponensű burkolat, mágnes, kétoldalas, nylon// Bruttó",4460,"B","Active",9999,null,null,"No info","линк"]
[32576,"Måroszalag Experte, 8 m x 27 mm, kåtkomponensu burkolat, màgnes, kåtoldalas, nylon// GROSS",6009,"B","Active",9999,null,null,"No info","линк"]
[33624,"Aluminium vizmertek, megerositett, 400 mm, 3 ampulla// GROSS",6061,"B","Active",9999,null,null,"No info","линк"]
[33625,"Aluminium vizmertek, megerositett, 600 mm, 3 ampulla// GROSS",7308,"B","Active",9999,null,null,"No info","линк"]
[33628,"Aluminium vizmertek, megerositett, 800 mm, 3 ampulla// GROSS",8529,"B","Active",9999,null,null,"No info","линк"]
[33630,"Aluminium vizmertek, megerositett, 1000 mm, 3 ampulla// GROSS",9733,"B","Active",9999,null,null,"No info","линк"]
[33632,"Aluminium vizmertek, megerositett, 1200 mm, 3 ampulla// GROSS",11753,"B","Active",9999,null,null,"No info","линк"]
[33636,"Aluminium vizmertek, megerositett, 1500 mm, 3 ampulla// GROSS",13812,"B","Active",9999,null,null,"No info","линк"]
[33640,"Aluminium vizmertek, megerositett, 2000 mm, 3 ampulla// GROSS",17951,"B","Active",9999,null,null,"No info","линк"]
[34103,"Alumínium vízmérték, US-1,0-1000, mart, 3 fiola, fogantyúk, 1000 mm// Сибртех",3881,"B","Active",9999,null,null,"No info","линк"]
[34324,"Aluminium vizmertek, megerositett, utesallo boritas, 400 mm, recezett, 3 ampulla// GROSS",5853,"B","Active",9999,null,null,"No info","линк"]
[34326,"Aluminium vizmertek, megerositett, utesallo boritas, 600 mm, recezett, markolat, 3 ampulla// GROSS",7427,"B","Active",9999,null,null,"No info","линк"]
[34328,"Aluminium vizmertek, megerositett, utesallo boritas, 800 mm, recezett, markolat, 3 ampulla// GROSS",8349,"B","Active",9999,null,null,"No info","линк"]
[34330,"Aluminium vizmertek, megerositett, utesallo boritas, 1000 mm, recezett, markolat, 3 ampulla// GROSS",9339,"B","Active",9999,null,null,"No info","линк"]
[34332,"Aluminium vizmertek, megerositett, utesallo boritas, 1200 mm, recezett, markolat, 3 ampulla// GROSS",13630,"B","Active",9999,null,null,"No info","линк"]
[34335,"Aluminium vizmertek, megerositett, utesallo boritas, 1500 mm, markolat, 3 ampulla// GROSS",13807,"B","Active",9999,null,null,"No info","линк"]
[34340,"Aluminium vizmertek, megerositett, utesallo boritas, 2000 mm, markolat, 3 ampulla// GROSS",19332,"B","Active",9999,null,null,"No info","линк"]
[34370,"Alumínium vízmérték, 600 mm, felújított, fogantyúk, mart, 3 fiola, mágnes// Bruttó",10267,"B","Active",9999,null,null,"No info","линк"]
[34371,"Alumínium vízmérték, 800 mm, felújított, fogantyús, mart, 3 fiola, mágnes// Gross",12267,"B","Active",9999,null,null,"No info","линк"]
[34914,"Aluminium vizmertek, ontveny, 400 mm, 2 ampulla// GROSS",6286,"B","Active",9999,null,null,"No info","линк"]
[34915,"Aluminium vizmertek, ontveny, 500 mm, 2 ampulla// GROSS",5056,"B","Active",9999,null,null,"No info","линк"]
[34916,"Aluminium vizmertek, ontveny, 600 mm, 2 ampulla// GROSS",7295,"B","Active",9999,null,null,"No info","линк"]
[35070,"Lezer szintezo  LX3, 10 m, ±0,3mm/1m, 635 nm, menet 5/8\"// Denzel",31948,"B","Active",9999,null,null,"No info","линк"]
[40400,"Kézi szegecselő 258 mm, szegecsek 2,4-4,8 mm// Gross",7547,"B","Active",9999,null,null,"No info","линк"]
[40401,"Kezi szegecselo, formazott, szegecsek 2.4-4.8mm// GROSS",8840,"B","Active",9999,null,null,"No info","линк"]
[40403,"Kezi szegecselo, formazott, eros, 2.4-4.8mm// GROSS",10349,"B","Active",9999,null,null,"No info","линк"]
[40405,"Kezi szegecselo, formazott, forgathato 0-360, 2.4-4.8mm// GROSS",16480,"B","Active",9999,null,null,"No info","линк"]
[40711,"Szegecselo 225 mm, szegecsek 2,4-3,2-4,0-4,8 mm// SPARTA",1407,"B","Active",9999,null,null,"No info","линк"]
[41000,"Butortuzo, àllithatî (Handwerker), fåm, 53 tuzos tipus, 4-14 mm// Bruttî",5495,"B","Active",9999,null,null,"No info","линк"]
[41001,"Aluminium butor tuzogep, kapocs tipusa 13, 53, 300, 6-10mm// GROSS",7074,"B","Active",9999,null,null,"No info","линк"]
[41002,"Aluminium butor tuzogep, kapocs tipusa 13, 53, 300, 6-16mm// GROSS",8889,"B","Active",9999,null,null,"No info","линк"]
[41003,"Muanyag butor tuzogep, tipus 13, 53, 300, 6-16mm// GROSS",6150,"B","Active",9999,null,null,"No info","линк"]
[41005,"Stapler, multifunctional, type 36, 53, 300, 500, 8-14mm//GROSS",7496,"B","Active",9999,null,null,"No info",{"$f":"HYPERLINK(L580,\"линк\")","v":"линк"}]
[41007,"Bútor tűzőgép (Alumínium 140), timsó. karosszéria, lengéscsillapítás, típus 140, 300, 6-14mm// Gross",8341,"B","Active",9999,null,null,"No info","линк"]
[41613,"Kapcsok, 10 mm butor tuzogephez N53, 1000db// SPARTA",216,"B","Active",9999,null,null,"No info","линк"]
[41614,"Kapcsok, 12 mm butor tuzogephez N53, 1000db// SPARTA",242,"B","Active",9999,null,null,"No info","линк"]
[42001,"Butor tuzogep, 53-as tipus, kapcsok 4-8 mm, 100 db kapoccsal//SPARTA",1114,"B","Active",9999,null,null,"No info","линк"]
[47548,"Fem fogantyu tomlobilincsek 16-25mm,100darab/taska//PALISAD",6751,"B","Active",9999,null,null,"No info","линк"]
[47581,"Rozsdamentes acél tömlőszorítóek szabványos csavarral 25-40 mm, szélesség 9 mm, 50 db.// Сибртех",4761,"B","Active",9999,null,null,"No info","линк"]
[47592,"Rozsdamentes tömlőbilincsek szabványos csavarral 130-150 mm, szélesség 9 mm, 25 db.// Sibrtech",3954,"B","Active",9999,null,null,"No info","линк"]
[47652,"Fem csopant kulcs alaku markolattal, 20-35mm,2 db.",208,"B","Active",9999,null,null,"No info","линк"]
[50527,"Magas állvány- jack 3 t, emelési képesség 115-1030 mm// Stels",40831,"B","Active",9999,null,null,"No info","линк"]
[50529,"Magas- emelő 3 t, emelőképesség 115-1335 mm// Stels",42887,"B","Active",9999,null,null,"No info","линк"]
[51096,"Hidraulikus palack emelo, 3T, tartomany 178-343 mm//STELS",6109,"B","Active",9999,null,null,"No info","линк"]
[51097,"Hidraulikus palack emelo, 5T, tartomany 197-382 mm//STELS",9333,"B","Active",9999,null,null,"No info","линк"]
[51100,"Hidraulikus palack emelo, 2T, tartomany 158-308 mm//STELS",5402,"B","Active",9999,null,null,"No info","линк"]
[51101,"Hidraulikus palack emelo, 2T, tartomany 181-345 mm//STELS",5559,"B","Active",9999,null,null,"No info","линк"]
[51102,"Hidraulikus palack emelo, 4T, tartomany 194-372 mm//STELS",6512,"B","Active",9999,null,null,"No info","линк"]
[51103,"Hidraulikus palack emelo, 6T, tartomany 216-413 mm//STELS",9779,"B","Active",9999,null,null,"No info","линк"]
[51104,"Hidraulikus emelo, 8 t, emelesi tartomany 230-457 mm STELS",11290,"B","Active",9999,null,null,"No info","линк"]
[51106,"Hidraulikus palack emelo, 10T, tartomany 230-460 mm//STELS",12780,"B","Active",9999,null,null,"No info","линк"]
[51108,"Hidraulikus palack emelo, 12T, tartomany 230-465 mm//STELS",18207,"B","Active",9999,null,null,"No info","линк"]
[51109,"Hidraulikus palack emelo, 16T, tartomany 230-460 mm//STELS",14747,"B","Active",9999,null,null,"No info","линк"]
[51111,"Hidraulikus palack emelo, 20T, tartomany 244-449 mm//STELS",21621,"B","Active",9999,null,null,"No info","линк"]
[51112,"Hidraulikus palack emelo, 30T, tartomany 244-370 mm//STELS",39337,"B","Active",9999,null,null,"No info","линк"]
[51113,"Hidraulikus palack emelo, 50T, tartomany 236-356 mm//STELS",63977,"B","Active",9999,null,null,"No info","линк"]
[51118,"Kihuzhato hidraulikus palack emelo, 8T, 170-430 mm//STELS",40247,"B","Active",9999,null,null,"No info","линк"]
[51123,"Hidraulikus emelo, 4 t, emelesi tartomany 194-372 mm, muanyag tokban STELS",8789,"B","Active",9999,null,null,"No info","линк"]
[51125,"Hidraulikus palack emelo, 3T, tartomany 178-343 mm, buborek csomagolasban//STELS",11106,"B","Active",9999,null,null,"No info","линк"]
[51126,"Hidraulikus palack emelo, 5T, tartomany 197-382 mm, buborek csomagolasban//STELS",9852,"B","Active",9999,null,null,"No info","линк"]
[51134,"Hidraulikus emelo 3t, magas emeles, SUV, 190-535mm// STELS",48309,"B","Active",9999,null,null,"No info","линк"]
[51357,"Hydraulic pump with a hose for 4 t streamer// Stels",32895,"B","Active",9999,null,null,"No info","линк"]
[51358,"Hidraulikus szivattyú tömlővel 10 t szalaghoz// Stels",41643,"B","Active",9999,null,null,"No info","линк"]
[51361,"Hidraulikus 5t henger horgokkal megerősítve// Stels",35402,"B","Active",9999,null,null,"No info","линк"]
[51621,"Osszecsukhato jack-stand emelo 2t, emelesi magassag 290-420 mm, 2 db-os keszlet",10599,"B","Active",9999,null,null,"No info","линк"]
[51627,"Osszecsukhato jack-stand emelo 3t, emelesi magassag 280-430 mm, 2 db-os keszlet",11328,"B","Active",9999,null,null,"No info","линк"]
[51633,"Osszecsukhato jack-stand emelo 6t, emelesi magassag 415-605 mm, 2 db-os keszlet",18867,"B","Active",9999,null,null,"No info","линк"]
[52021,"Elektromos auto csorlo LB-2000, 2,2 t, 3,2 kW, 12 V//DENZEL",117366,"B","Active",9999,null,null,"No info","линк"]
[52023,"Elektromos auto csorlo LB- 3000, 3,6 t, 3,4 kW, 12 V//DENZEL",156971,"B","Active",9999,null,null,"No info","линк"]
[52026,"Elektromos auto csorlo LB- 4000, 4,5 t, 3,7 kW, 12 V//DENZEL",219626,"B","Active",9999,null,null,"No info","линк"]
[53205,"Zsirzopres, a fecskendo terfogata 445ml, adag 15ml//STELS",5466,"B","Active",9999,null,null,"No info","линк"]
[54393,"Autos ulestamla rendszerezo STELS",1904,"B","Active",9999,null,null,"No info","линк"]
[55218,"Gumi lehuzo 20 cm//STELS",994,"B","Active",9999,null,null,"No info","линк"]
[55219,"Gumibetetes ablaktorlo 16 cm// STELS",568,"B","Active",9999,null,null,"No info","линк"]
[55304,"Kefes,szelvedő hosepru, kaparoval, teleszkopos//STELS",1908,"B","Active",9999,null,null,"No info","линк"]
[55917,"Bikakabel 200 A, 2,3m, zipzaros zsakban// STELS",2226,"B","Active",9999,null,null,"No info","линк"]
[55919,"Bika kabel 400 A. 2.5m, zippzaras tasakban",4024,"B","Active",9999,null,null,"No info","линк"]
[57011,"Akasztos eszkoztarto//STELS",1226,"B","Active",9999,null,null,"No info","линк"]
[57056,"Gyorscsatlakozo anya, 3/8\", belso menet, 2 darab.//STELS",2271,"B","Active",9999,null,null,"No info","линк"]
[57440,"½”pneumatikus ütőkulcs, ikerkalapács 610 Nm, 9000 ford / perc szabad fordulatszám // GROSS",63276,"B","Active",9999,null,null,"No info","линк"]
[57441,"1/2 \"pneumatikus csavarkulcs, ikerkalapács, G1260, 813Nm, 7000 fordulat / perc szabad fordulatszám // Gross",64447,"B","Active",9999,null,null,"No info","линк"]
[57442,"½” Pneumatikus ütőkulcs G1285, , iker kalapács, 1220Nm, 6500 ford / perc, kompozit //Gross",53994,"B","Active",9999,null,null,"No info","линк"]
[57445,"Csavarkulcs, 1/2 , IKERKALAPACSR 610 Nm, 9000 ford / perc szabad fordulatszam, keszlet 17 db.",65536,"B","Active",9999,null,null,"No info","линк"]
[57446,"Sq. Dr. Levegos racsni G120, 1/2, 122Nm, 160 fordulatszam // Gross",25886,"B","Active",9999,null,null,"No info","линк"]
[57448,"Pneumatikus csavarhúzó G208, 1/4, 17Nm, 700 ford / perc Bruttó",40207,"B","Active",9999,null,null,"No info","линк"]
[57449,"3/8 \"-es fordítható pneumatikus fúró, G302, 1800 fordulat / perc fordulatszám, tokmány 10 mm // Gross",23487,"B","Active",9999,null,null,"No info","линк"]
[57454,"5” Sarokcsiszoló (biztonsági kar) G506, 11000 ford/perc szabad fordulat//Gross",46796,"B","Active",9999,null,null,"No info","линк"]
[60024,"Noi papucs 36//Russzia",1949,"B","Active",9999,null,null,"No info","линк"]
[60025,"NOI PAPUCS, MERET 37// Russia",1949,"B","Active",9999,null,null,"No info","линк"]
[60026,"NOI PAPUCS, MERET 38// Russia",1949,"B","Active",9999,null,null,"No info","линк"]
[60027,"NOI PAPUCS, MERET 39// Russia",1949,"B","Active",9999,null,null,"No info","линк"]
[60028,"NOI PAPUCS, MERET 40// Russia",1949,"B","Active",9999,null,null,"No info","линк"]
[60029,"NOI PAPUCS, MERET 41// Russia",1949,"B","Active",9999,null,null,"No info","линк"]
[60030,"Ferfi papucs 40//Russzia",2108,"B","Active",9999,null,null,"No info","линк"]
[60031,"Ferfi Papucs, meret 41// Russia",2108,"B","Active",9999,null,null,"No info","линк"]
[60032,"Ferfi Papucs, meret 42// Russia",2108,"B","Active",9999,null,null,"No info","линк"]
[60033,"Ferfi Papucs, meret 43// Russia",2108,"B","Active",9999,null,null,"No info",{"$f":"HYPERLINK(L644,\"линк\")","v":"линк"}]
[60034,"Komfort papucs noi 35//Russzia",2662,"B","Active",9999,null,null,"No info","линк"]
[60036,"Komfort papucs noi 37//Russzia",2662,"B","Active",9999,null,null,"No info","линк"]
[60037,"Noi komfort Papucs, meret 38// Russia",2662,"B","Active",9999,null,null,"No info","линк"]
[60038,"Noi komfort Papucs, meret 39// Russia",2662,"B","Active",9999,null,null,"No info","линк"]
[60040,"Komfort papucs ferfi meret41// Russia                 ",2662,"B","Active",9999,null,null,"No info","линк"]
[60041,"Komfort ferfi  papucs 42 meret//RUSSIA",2662,"B","Active",9999,null,null,"No info","линк"]
[60042,"Komfort kerti papucs női, méret 43// Russia",2662,"B","Active",9999,null,null,"No info","линк"]
[60043,"Komfort kerti papucs férfii, méret 44// Russia",2662,"B","Active",9999,null,null,"No info","линк"]
[61399,"Kerekeelu aso// Russia",1924,"B","Active",9999,null,null,"No info","линк"]
[61410,"Hegyes vegu aso, markolat nelkul// Russian",1853,"B","Active",9999,null,null,"No info","линк"]
[61411,"Kerekitett hegyes lapat merevito bordakkal, nyel nelkul (ÀÌÅÒ)// Russia",1869,"B","Active",9999,null,null,"No info","линк"]
[61437,"Hegyes vegu aso, 300x210mm, rozsdamentes acel, markolat nelkul //SIBRTEH Russian",3448,"B","Active",9999,null,null,"No info","линк"]
[61498,"Hotolo 820x380mm muanyag//SIBRTEH",8538,"B","Active",9999,null,null,"No info","линк"]
[61519,"Jegcsakany B3, 160 mm, 1.4kg, fem markolat 1370 mm SIBRTEH Russia",3042,"B","Active",9999,null,null,"No info","линк"]
[61520,"Hotorlo, 750 x 410x 0.8 (zinc) SIBRTEH Russia",7763,"B","Active",9999,null,null,"No info","линк"]
[61526,"Snow wiper, 750 x 460 (aluminium) SIBRTEH Russia",9396,"B","Active",9999,null,null,"No info","линк"]
[61541,"Pavement shovel 600x400x1.5 mm, without grip, aluminium, metal edging SIBRTEH Russia",4863,"B","Active",9999,null,null,"No info","линк"]
[61583,"Hotorlo, 750 x 420x 1.8 mm, aluminium megerositett SIBRTEH Russia",14210,"B","Active",9999,null,null,"No info","линк"]
[61593,"Műanyag hó toló, 735х555х1250 mm, acél nyél, Russia// Сибртех",4508,"B","Active",9999,null,null,"No info","линк"]
[61594,"Snow wiper 750 x 405 x 1.1 mm, plastic, U-shaped handle SIBRTEH Russia",8036,"B","Active",9999,null,null,"No info","линк"]
[61595,"Snow pusher 750 x 500 mm (zinc), Russia // SIBRTECH",7496,"B","Active",9999,null,null,"No info","линк"]
[61736,"Műanyag fűnyíró, 380 mm, 11 egyenes fog, megerősített, nyél nélkül, Oroszország// Сибртех",780,"B","Active",9999,null,null,"No info","линк"]
[61739,"Muanyag gereblye, 430 mm, 13 egyenes fog, megerositett, fem fogantyu, LUXE // Palisad",5087,"B","Active",9999,null,null,"No info","линк"]
[61759,"Gereblye, rozsdamentes acél, 340 mm, 14 csavart fog, fogantyú nélkül, Oroszország// Сибртех",1248,"B","Active",9999,null,null,"No info","линк"]
[62018,"Kézi kormányrúd magasságállítás nélkül// Palisad",4888,"B","Active",9999,null,null,"No info","линк"]
[62019,"Kézi kormányrúd magasságállítással// Palisad",8904,"B","Active",9999,null,null,"No info","линк"]
[62290,"Talajlazító, 120х885 mm, fa nyéllel, SUDOGDA// RUSSIA",1354,"B","Active",9999,null,null,"No info","линк"]
[62293,"Subsurface cultivator \"Пышка\" large, 170x1400 mm, wooden handle, SUDOGDA// Russia",4058,"B","Active",9999,null,null,"No info","линк"]
[62295,"Gyökér eltávolító \"Swift\" közepes, 150 x 1420 mm, fa nyél",4101,"B","Active",9999,null,null,"No info","линк"]
[62316,"Kapa 170 x 60 mm, fa markolat, 1330 mm// SIBRTEH Russia",2853,"B","Active",9999,null,null,"No info","линк"]
[62318,"Acél kapa, 60x80 mm, nyél nélkül, RUSSIA// Сибртех",591,"B","Active",9999,null,null,"No info","линк"]
[62338,"Kapa, rozsdamentes acél, 150x50 mm, fogantyú nélkül, Oroszország// Сибртех",945,"B","Active",9999,null,null,"No info","линк"]
[62612,"ulteto aso fa markolattal, keskeny kivitel// SIBRTEH Russian",647,"B","Active",9999,null,null,"No info","линк"]
[62909,"Szobanövények ápolására szolgáló készlet, teljesen fém, 3 elemes, LUXE// Palisad",1134,"B","Active",9999,null,null,"No info","линк"]
[63207,"Polipropilen sepru, 270 x 260 mm, puha, SIBRTEH Russia",1065,"B","Active",9999,null,null,"No info","линк"]
[63550,"Kasza, 600mm, ¹6// Russian",5250,"B","Active",9999,null,null,"No info","линк"]
[63580,"Kasza keszlet „Kosar M” No.7, kasza „Saiga Lux” + koszoruko, kovacsolt es elezett penge (ARTI) Oroszorszag",9683,"B","Active",9999,null,null,"No info","линк"]
[63838,"Villa 4-ágú, ásó, 190x220 mm, kovácsolt, szár nélkul, ARTI // Russia",3511,"B","Active",9999,null,null,"No info","линк"]
[63923,"Üvegház burkolat cipzárral 500x110 cm, SUF90// Palisad",7860,"B","Active",9999,null,null,"No info","линк"]
[64102,"Secera, 170 mm, dintata // RUSIA",2100,"B","Active",9999,null,null,"No info","линк"]
[64103,"Kampo, 325 mm, fogakkal, \"Gnece - 47\" (ÀÐÒÈ)// Russia",2297,"B","Active",9999,null,null,"No info","линк"]
[64301,"A csapágylemez 14 x 1,5 сm, 25 db-os készlet// Сибртех",491,"B","Active",9999,null,null,"No info","линк"]
[64364,"Palántázó edény, 80x80 mm, tőzeg, 5 db// RUSSIA",200,"B","Active",9999,null,null,"No info","линк"]
[64366,"Faiskola edény, 60x60 mm, tőzeg, 5 db// Oroszország",116,"B","Active",9999,null,null,"No info","линк"]
[64393,"ültető edény 5 L polipropilén//SIBRTECH",511,"B","Active",9999,null,null,"No info","линк"]
[64419,"Virag tamasztek  0,25m, magassag 1,3m, 1 db,huzal atmeroje 10mm // Russia",778,"B","Active",9999,null,null,"No info","линк"]
[64448,"Kerti furo// Sibrtech Russia",4168,"B","Active",9999,null,null,"No info","линк"]
[64449,"Gyomirtó, 640 mm, acél, fa nyél, АГРОНОМ, Oroszország// Сибртех",1104,"B","Active",9999,null,null,"No info","линк"]
[64461,"Virag tamasztek  0,4m, magassag 0,9m, 1db, huzal atmeroje 10mm // Russia",829,"B","Active",9999,null,null,"No info","линк"]
[64463,"Kerti virag tamasz 5mm// Russia",277,"B","Active",9999,null,null,"No info","линк"]
[65409,"Forgó műanyag permetező, 3 lapátos, szerelvény D 3/4\", tábla S 180 nm, D 15 m// Palisad",1413,"B","Active",9999,null,null,"No info","линк"]
[67561,"Mosdokagylo muanyag, 5L csappal es kagyloval// Russia",1393,"B","Active",9999,null,null,"No info","линк"]
[67830,"Pamutkesztyű nitril-butadién gumi bevonattal, mandzsetta, M// Сибртех\n",644,"B","Active",9999,null,null,"No info","линк"]
[67831,"Pamutkesztyű nitril-butadién gumi bevonattal, mandzsetta, L // Сибртех\n",644,"B","Active",9999,null,null,"No info","линк"]
[68428,"Műanyag nyél V-alakú hókotrókhoz, d-32 Oroszország// СИБРТЕХ",387,"B","Active",9999,null,null,"No info","линк"]
[68429,"Additional plastic handle, D 32 mm, Russia// Сибртех",562,"B","Active",9999,null,null,"No info","линк"]
[68438,"Műanyag fogantyú V-alakú, D 36 mm, megerősített, Oroszország// Сибртех",267,"B","Active",9999,null,null,"No info","линк"]
[68439,"Műanyag fogantyú V-alakú, D 32 mm, megerősített, Oroszország// Сибртех",489,"B","Active",9999,null,null,"No info","линк"]
[68630,"Dupla, félgyapjú kötött kesztyű, bőr tenyérfelső, 150 g, Oroszország// Сибртех\n",1574,"B","Active",9999,null,null,"No info","линк"]
[69015,"Fuggesztett kaspo, 26 cm atmero, magassag lanccal es kampoval 53,5 cm PALISAD",2900,"B","Active",9999,null,null,"No info","линк"]
[69016,"Fuggesztett kaspo, 25,4 cm atmero, magassag lanccal es kampoval 53,5 cm PALISAD",2806,"B","Active",9999,null,null,"No info","линк"]
[69133,"rács, háló, 0,35x1,3 m",2268,"B","Active",9999,null,null,"No info","линк"]
[69136,"Rács, kombinált, 0,95х2 m// Россия",4425,"B","Active",9999,null,null,"No info","линк"]
[69137,"Mintas viragallvany, 0,5 x 2,1 m//RUSSIA",4912,"B","Active",9999,null,null,"No info",{"$f":"HYPERLINK(L708,\"линк\")","v":"линк"}]
[69514,"Muanyag hotartó bögre, 350 ml// Palisad",346,"B","Active",9999,null,null,"No info","линк"]
[69546,"Könnyű tűzhely 350*250*350 PALISAD Camping",1258,"B","Active",9999,null,null,"No info","линк"]
[69547,"Grill sütő, merevítő bordákkal 500*300*500, 0,8 mm PALISAD Camping/RUSSIA",5543,"B","Active",9999,null,null,"No info","линк"]
[69548,"Brazier, erősítő bordákkal 700*300*700 PALISAD Camping/RUSSIA",3871,"B","Active",9999,null,null,"No info","линк"]
[70238,"Fa megmunkalo furo, 10 mm, egyenes szaru //SIBRTEX",173,"B","Active",9999,null,null,"No info","линк"]
[70239,"Fa megmunkalo furo, 12 mm, egyenes szaru //SIBRTEX",289,"B","Active",9999,null,null,"No info","линк"]
[70350,"Pontozó véső Rtec SDS MAX 400 mm önélező// Gross",4708,"B","Active",9999,null,null,"No info","линк"]
[70352,"Szeles veso SDS MAX 50 x 350 mm оnеlezo // Gross",5557,"B","Active",9999,null,null,"No info","линк"]
[70354,"Lapos veso Rtec SDS MAX 400 mm ?n?lez? // Brutt?",4708,"B","Active",9999,null,null,"No info","линк"]
[70366,"Lapos fúrószár, 16 mm// Сибртех",206,"B","Active",9999,null,null,"No info","линк"]
[70368,"Lapos fúrószár, 18 mm// Сибртех",226,"B","Active",9999,null,null,"No info","линк"]
[70372,"Lapos fúrófej, 22 mm// Сибртех",246,"B","Active",9999,null,null,"No info","линк"]
[70375,"Lapos fúrószár, 25 mm// Сибртех",289,"B","Active",9999,null,null,"No info","линк"]
[70378,"Lapos fúrófej, 28 mm// Сибртех",312,"B","Active",9999,null,null,"No info","линк"]
[70385,"Lapos fúrófej, 35 mm// Сибртех",399,"B","Active",9999,null,null,"No info","линк"]
[70386,"Lapos fúrószár, 36 mm// Сибртех",434,"B","Active",9999,null,null,"No info","линк"]
[70388,"Lapos fúrószár, 38 mm// Сибртех",442,"B","Active",9999,null,null,"No info","линк"]
[70552,"SDS-plus fúrószár, 6 x 110 mm, lapos TIP// Сибртех",265,"B","Active",9999,null,null,"No info","линк"]
[70555,"SDS-plus fúrószár, 6 x 160 mm, lapos TIP// Сибртех",365,"B","Active",9999,null,null,"No info","линк"]
[70616,"Multiconstruction PRO furofej falhoz, 6mm//GROSS",878,"B","Active",9999,null,null,"No info","линк"]
[70622,"Multiconstruction PRO furofej falhoz, 12mm//GROSS",1806,"B","Active",9999,null,null,"No info","линк"]
[70661,"SDS Plus PRO utvefuro fej, 8 x 160 mm// GROSS",1051,"B","Active",9999,null,null,"No info","линк"]
[71602,"Fem furo 2,0 mm, HSS, 338 W, 2øò.// GROSS",707,"B","Active",9999,null,null,"No info","линк"]
[71603,"Fem furo 2,5 mm, HSS, 338 W, 2øò.// GROSS",737,"B","Active",9999,null,null,"No info","линк"]
[71604,"Fem furo 3,0 mm, HSS, 338 W, 2øò.// GROSS",888,"B","Active",9999,null,null,"No info","линк"]
[71606,"Fem furo 3,5 mm, HSS, 338 W, 2øò.// GROSS",916,"B","Active",9999,null,null,"No info","линк"]
[71607,"Fem furo 4,0 mm, HSS, 338 W // GROSS",584,"B","Active",9999,null,null,"No info","линк"]
[71609,"Fem furo 4,5 mm, HSS, 338 W // GROSS",607,"B","Active",9999,null,null,"No info","линк"]
[71611,"Fem furo 5,0 mm, HSS, 338 W // GROSS",680,"B","Active",9999,null,null,"No info","линк"]
[71613,"Fem furo 5,5 mm, HSS, 338 W // GROSS",885,"B","Active",9999,null,null,"No info","линк"]
[71614,"Fem furo 6,0 mm, HSS, 338 W // GROSS",727,"B","Active",9999,null,null,"No info","линк"]
[71616,"Fem furo 7,0 mm, HSS, 338 W // GROSS",1098,"B","Active",9999,null,null,"No info","линк"]
[71617,"Fem furo 7,5 mm, HSS, 338 W // GROSS",986,"B","Active",9999,null,null,"No info","линк"]
[71618,"Fem furo 8,0 mm, HSS, 338 W // GROSS",1469,"B","Active",9999,null,null,"No info","линк"]
[71619,"Fem furo 8,5 mm, HSS, 338 W // GROSS",1450,"B","Active",9999,null,null,"No info","линк"]
[71620,"Fem furo 9,0 mm, HSS, 338 W // GROSS",1753,"B","Active",9999,null,null,"No info","линк"]
[71622,"Fem furo 10,0 mm, HSS, 338 W // GROSS",1997,"B","Active",9999,null,null,"No info","линк"]
[71627,"Fem furo 12,0 mm, HSS, 338 W // GROSS",3257,"B","Active",9999,null,null,"No info","линк"]
[72220,"Fém csavarfúró HSS-R 2,0 mm, 10 db// Сибртех",279,"B","Active",9999,null,null,"No info","линк"]
[72270,"Fém csavarfúró HSS-R 7,0 mm, 10 db// Сибртех",1474,"B","Active",9999,null,null,"No info","линк"]
[72303,"Fém csavarfúró 2,0 mm, HSS-Co, 2 db// GROSS",843,"B","Active",9999,null,null,"No info","линк"]
[72304,"Fém csavarfúró 2,5 mm, HSS-Co, 2 db// GROSS",843,"B","Active",9999,null,null,"No info","линк"]
[72306,"Fém csavarfúró 3,0 mm, HSS-Co, 2 db// GROSS",1060,"B","Active",9999,null,null,"No info","линк"]
[72309,"Fém csavarfúró 3,5 mm, HSS-Co, 2 db// GROSS",1002,"B","Active",9999,null,null,"No info","линк"]
[72312,"Metal twist drill 4,0 mm, HSS-Co//GROSS",591,"B","Active",9999,null,null,"No info","линк"]
[72314,"Fém csavarfúró 4,5 mm, HSS-Co// GROSS",621,"B","Active",9999,null,null,"No info","линк"]
[72317,"Fém csavarfúró 5,0 mm, HSS-Co// GROSS",703,"B","Active",9999,null,null,"No info","линк"]
[72319,"Fém csavarfúró 5,5 mm, HSS-Co// GROSS",1034,"B","Active",9999,null,null,"No info","линк"]
[72324,"Fém csavarfúró 6,5 mm, HSS-Co// GROSS",1036,"B","Active",9999,null,null,"No info","линк"]
[72328,"Fém csavarfúró 7,0 mm, HSS-Co// GROSS",1136,"B","Active",9999,null,null,"No info","линк"]
[72336,"Fém csavarfúró 8,5 mm, HSS-Co// Gross",1627,"B","Active",9999,null,null,"No info","линк"]
[72338,"Fém csavarfúró 9,0 mm, HSS-Co// GROSS",2417,"B","Active",9999,null,null,"No info","линк"]
[72343,"Fém csavarfúró 10 mm, HSS-Co// GROSS",2360,"B","Active",9999,null,null,"No info","линк"]
[72354,"Fém csavarfúró 12 mm, HSS-Co// Bruttó",3472,"B","Active",9999,null,null,"No info","линк"]
[72956,"Gyemant csiszolo, bumerang betetekkel, 125 mm",2774,"B","Active",9999,null,null,"No info","линк"]
[73002,"Szegmentalt gyemantvago penge 115x22,2mm, lezer hegesztett // GROSS",4673,"B","Active",9999,null,null,"No info","линк"]
[73003,"Szegmentalt gyemantvago penge 125x22,2mm, lezer hegesztett // GROSS",5219,"B","Active",9999,null,null,"No info","линк"]
[73006,"Segmented diamond saw blade ф180х22,2mm, laser welded // GROSS",7958,"B","Active",9999,null,null,"No info","линк"]
[73008,"Szegmentalt gyemantvago penge 230x22,2mm, lezer hegesztett // GROSS",9498,"B","Active",9999,null,null,"No info","линк"]
[73021,"Turbo-szegmentalt gyemant vagotarcsa 125 × 22,2 mm, szaraz vagashoz//GROSS",5863,"B","Active",9999,null,null,"No info","линк"]
[73029,"Turbo gyemant fureszlap 125 × 22,2 mm, lezervago nyilassal, szaraz vagashoz//GROSS",6089,"B","Active",9999,null,null,"No info","линк"]
[73038,"Folyamatos gyemant fureszlap ô125×22,2mm, lezeres vago nyilassal, nedves vagashoz//GROSS",5505,"B","Active",9999,null,null,"No info","линк"]
[73052,"Vekony, gyemant fureszlap ô115×22,2mm, folytonos (Jaguar), nedves vagashoz//GROSS",5529,"B","Active",9999,null,null,"No info","линк"]
[73053,"Vekony, gyemant fureszlap ô125×22,2mm, folytonos (Jaguar), nedves vagashoz//GROSS",6502,"B","Active",9999,null,null,"No info",{"$f":"HYPERLINK(L772,\"линк\")","v":"линк"}]
[73161,"Szegmentalt gyemantvago penge 115x22,2 mm, szaraz vagas// EUROPA STANDARD",566,"B","Active",9999,null,null,"No info","линк"]
[73337,"T.C.T. Favago penge 250 x 32/30 x 48Ò// GROSS",13519,"B","Active",9999,null,null,"No info","линк"]
[73346,"Favago tarcsafuresz, 305 х 38 x 96T// GROSS",19745,"B","Active",9999,null,null,"No info","линк"]
[73405,"Koszorukorong femhez, 115 x 6,0 x 22 mm// Russian",520,"B","Active",9999,null,null,"No info","линк"]
[73420,"Koszorukorong femhez, 180 x 6,0 x 22 mm// Russian",753,"B","Active",9999,null,null,"No info","линк"]
[73648,"Vagokorong femhez, 115 x 1 x 22 mm// Russian",196,"B","Active",9999,null,null,"No info","линк"]
[73654,"Vagokorong femhez, 125 x 1,0 x 22 mm// Russian",216,"B","Active",9999,null,null,"No info","линк"]
[73655,"Vagokorong femhez 125 x 1,2 x 22 mm// Russian",226,"B","Active",9999,null,null,"No info","линк"]
[73656,"Vagokorong femhez 125 x 1,6 x 22 mm// Russian",234,"B","Active",9999,null,null,"No info","линк"]
[73658,"Vagokorong femhez 150 x 1,6 x 22 mm// Russian",305,"B","Active",9999,null,null,"No info","линк"]
[73661,"Vagokorong femhez 180 x 1,6 x 22 mm// Russian",350,"B","Active",9999,null,null,"No info","линк"]
[73680,"Vagokorong femhez 230 x 2,0 x 22 mm// Russian",611,"B","Active",9999,null,null,"No info","линк"]
[73682,"Vagokorong femhez 230 x 3,0 x 22 mm// Russian",733,"B","Active",9999,null,null,"No info","линк"]
[73703,"Vagokorong femhez+rozsdamentes acelhoz 115 x 1,0 x 22 mm, Premium(Luga)// Russia",198,"B","Active",9999,null,null,"No info","линк"]
[73712,"Vagokorong femhez+rozsdamentes acelhoz 125 x 1,0 x 22 mm, Premium(Luga)// RUSSIA",218,"B","Active",9999,null,null,"No info","линк"]
[73713,"Vagokorong femhez+rozsdamentes acelhoz 125 x 1,2 x 22 mm, Premium(Luga)// RUSSIA",230,"B","Active",9999,null,null,"No info","линк"]
[73714,"Vagokorong femhez+rozsdamentes acelhoz 125 x 1,6 x 22 mm, Premium(Luga)// RUSSIA",230,"B","Active",9999,null,null,"No info","линк"]
[73743,"Vagokorong femhez+rozsdamentes acelhoz 230 x 2,0 x 22 mm, Premium(Luga)// RUSSIA",668,"B","Active",9999,null,null,"No info","линк"]
[73744,"Vagokorong femhez+rozsdamentes acelhoz 230 x 2,5 x 22 mm, Premium(Luga)// RUSSIA",753,"B","Active",9999,null,null,"No info","линк"]
[74077,"Lamellas tarcsa, kupos profil, szemcsezettseg 40, 115 x 22,2mm //SIBRTEX",238,"B","Active",9999,null,null,"No info","линк"]
[74078,"Lamellas tarcsa, kupos profil, szemcsezettseg 60, 115 x 22,2mm //SIBRTEX",238,"B","Active",9999,null,null,"No info","линк"]
[74082,"Lamellas tarcsa, kupos profil, szemcsezettseg 24, 125 x 22,2mm //SIBRTEX",269,"B","Active",9999,null,null,"No info","линк"]
[74084,"Lamellas tarcsa, kupos profil, szemcsezettseg 60, 125 x 22,2mm //SIBRTEX",269,"B","Active",9999,null,null,"No info","линк"]
[74085,"Lamellas tarcsa, kupos profil, szemcsezettseg 80, 125 x 22,2mm //SIBRTEX",269,"B","Active",9999,null,null,"No info","линк"]
[75655,"Szovet alapu csiszololap, szemcsemeret 5, 240 x 170 mm, 10 darab., vizallo (BAZ) Russia",1183,"B","Active",9999,null,null,"No info","линк"]
[75658,"Szovet alapu csiszololap, szemcsemeret 6, 240 x 170 mm, 10 darab., vizallo (BAZ) Russia",1183,"B","Active",9999,null,null,"No info","линк"]
[75661,"Szovet alapu csiszololap, szemcsemeret 8, 240 x 170 mm, 10 darab., vizallo (BAZ) Russia",1522,"B","Active",9999,null,null,"No info","линк"]
[75664,"Szovet alapu csiszololap, szemcsemeret 10, 240 x 170 mm, 10 darab., vizallo (BAZ) Russia",1183,"B","Active",9999,null,null,"No info","линк"]
[75667,"Szovet alapu csiszololap, szemcsemeret 12, 240 x 170 mm, 10 darab., vizallo (BAZ) Russia",1183,"B","Active",9999,null,null,"No info","линк"]
[75670,"Szovet alapu csiszololap, szemcsemeret 16, 240 x 170 mm, 10 darab., vizallo (BAZ) Russia",1258,"B","Active",9999,null,null,"No info","линк"]
[75682,"Szovet alapu csiszololap, szemcsemeret 40, 240 x 170 mm, 10 darab., vizallo (BAZ) Russia",1598,"B","Active",9999,null,null,"No info","линк"]
[75683,"Csiszolоlap papir alapu, CT10CW,  25H(P60), 230 х 280 mm, 10 db., vizаllо (БАЗ)// Russia",1258,"B","Active",9999,null,null,"No info","линк"]
[75687,"Csiszolоlap papir alapu, CT10CW, 10H(P120), 230 х 280 mm, 10 db., vizаllо (БАЗ)// Russia",1258,"B","Active",9999,null,null,"No info","линк"]
[75690,"Csiszolopapir CT10CW, szemcse 5H(P240), 230 х 280 mm, 10 db., vizallo (BAZ)// Russia",1258,"B","Active",9999,null,null,"No info","линк"]
[75692,"Csiszoli papir   CT10CW szemcse M40(P240), 230 x 280 mm, 10db vizallo(BAZ)//RUSSIA",2083,"B","Active",9999,null,null,"No info","линк"]
[75693,"Csiszoli papir   CT10CW szemcse M28(P600), 230 x 280 mm, 10db vizallo(BAZ)//RUSSIA",2083,"B","Active",9999,null,null,"No info","линк"]
[75695,"Csiszoli papir   CT10CW szemcse M28(P1000), 230 x 280 mm, 10db vizallo(BAZ)//RUSSIA",2083,"B","Active",9999,null,null,"No info","линк"]
[75697,"Csiszoló papír lap CT10CW, szemcse. M14 (P1500), 230 x 280 mm, 10 pcs.,vízálló//Russzia",2174,"B","Active",9999,null,null,"No info","линк"]
[75698,"Csiszolo papir , CT10CW, szemcse. M10 (P2000), 230 x 280 mm, 10 db., vizallo // RUSSIA",2083,"B","Active",9999,null,null,"No info","линк"]
[76425,"elezo ko 230mm //SIBRTEX",261,"B","Active",9999,null,null,"No info","линк"]
[76609,"Hand tap set, 2 pcs M4 x 0,7 mm",322,"B","Active",9999,null,null,"No info","линк"]
[76614,"Menetmetszo keszlet, 2 db M6 x 0,5 mm// SIBRTEH",381,"B","Active",9999,null,null,"No info","линк"]
[76620,"Menetmetszo keszlet, 2 db M8 x 1,0 mm// SIBERTECH",485,"B","Active",9999,null,null,"No info","линк"]
[76625,"Menetmetszo keszlet, 2 db M10 x 1,0 mm// SIBRTEH",637,"B","Active",9999,null,null,"No info","линк"]
[76627,"Tarod manual M10 x 1,25 mm, set 2 buc // SIBERTECH",644,"B","Active",9999,null,null,"No info","линк"]
[76631,"Menetmetszo keszlet, 2 db M12 x 1,25 mm// SIBERTECH",819,"B","Active",9999,null,null,"No info","линк"]
[76632,"Menetmetszo keszlet, 2 db M12 x 1,5 mm //SIBRTEX",819,"B","Active",9999,null,null,"No info","линк"]
[76635,"Menetmetszo keszlet, 2 db M14 x 1,25 mm //SIBRTEX",1079,"B","Active",9999,null,null,"No info","линк"]
[76636,"Menetmetszo keszlet, 2 db M14 x 1,5 mm //SIBRTEX",1079,"B","Active",9999,null,null,"No info","линк"]
[76637,"Menetmetszo keszlet, 2 db M14 x 2,0 mm //SIBRTEX",1208,"B","Active",9999,null,null,"No info","линк"]
[76644,"Menetmetszo keszlet, 2 db M16 x 1,5 mm //SIBRTEX",1324,"B","Active",9999,null,null,"No info","линк"]
[76646,"Menetmetszo keszlet, 2 db M16 x 2,0 mm //SIBRTEX",1267,"B","Active",9999,null,null,"No info","линк"]
[76648,"Menetmetszo keszlet, 2 db M18 x 2,5 mm //SIBRTEX",1690,"B","Active",9999,null,null,"No info","линк"]
[76654,"Menetmetszo keszlet, 2 db M20 x 1,5 mm //SIBRTEX",2022,"B","Active",9999,null,null,"No info","линк"]
[76656,"Menetmetszo keszlet, 2 db M20 x 2,5 mm //SIBRTEX",2118,"B","Active",9999,null,null,"No info","линк"]
[76660,"Menetmetszo keszlet, 2 db M22 x 2,5 mm //SIBRTEX",2470,"B","Active",9999,null,null,"No info","линк"]
[76665,"Menetmetszo keszlet, 2 db M24 x 3,0 mm //SIBRTEX",3059,"B","Active",9999,null,null,"No info","линк"]
[77013,"Menetvago M5 x 0,8 mm //SIBRTEX",342,"B","Active",9999,null,null,"No info","линк"]
[77017,"Filiera M6 x 1,0 mm // SIBERTECH",346,"B","Active",9999,null,null,"No info","линк"]
[77019,"Vágószerszám M8 x 1,0 mm// Сибртех",472,"B","Active",9999,null,null,"No info","линк"]
[77027,"Menetvago M10 x 1,5 mm// SIBERTECH",531,"B","Active",9999,null,null,"No info","линк"]
[77031,"Vágószerszám M12 x 1,5 mm// Сибртех",992,"B","Active",9999,null,null,"No info","линк"]
[77032,"Menetvago M12 x 1,75 mm //SIBRTEX",847,"B","Active",9999,null,null,"No info",{"$f":"HYPERLINK(L835,\"линк\")","v":"линк"}]
[77035,"Vágószerszám M14 x 1,25 mm// Сибртех",910,"B","Active",9999,null,null,"No info","линк"]
[77036,"Vágószerszám M14 x 1,5 mm// Сибртех",1036,"B","Active",9999,null,null,"No info","линк"]
[77037,"Vágószerszám M14 x 2,0 mm// Сибртех",1354,"B","Active",9999,null,null,"No info","линк"]
[77042,"Vágószerszám M16 x 1,5 mm// Сибртех",1566,"B","Active",9999,null,null,"No info","линк"]
[77044,"Vágószerszám M16 x 2,0 mm// Сибртех",1584,"B","Active",9999,null,null,"No info","линк"]
[77058,"Vágószerszám M20 x 2,5 mm// Сибртех",1662,"B","Active",9999,null,null,"No info","линк"]
[77112,"Die G1/2''// Сибртех",1686,"B","Active",9999,null,null,"No info","линк"]
[77305,"5 db-os fúrókészlet (2,5-10,2mm+csap М3х0,5-М4х0,7-М5х0,8-М6х1,0-М8х1,25-М10х1,5-М12х1,15)// Сибртех",5360,"B","Active",9999,null,null,"No info","линк"]
[77307,"21 db Tap készlet// Сибртех",7594,"B","Active",9999,null,null,"No info","линк"]
[77367,"Menetvago fej for bordaers 3/4\"// SIBERTECH",2488,"B","Active",9999,null,null,"No info","линк"]
[77369,"Menetvago fej for bordaers 1\" //SIBRTEX",2816,"B","Active",9999,null,null,"No info","линк"]
[77420,"Menetvago tarto 13/16'' (20mm)// SIBRTEH",713,"B","Active",9999,null,null,"No info","линк"]
[77425,"Menetvago tarto 1'' (25mm) //SIBRTEX",876,"B","Active",9999,null,null,"No info","линк"]
[77600,"Femfuresz High Tension, gumi markolat 300mm// GROSS",8031,"B","Active",9999,null,null,"No info","линк"]
[77604,"Femfuresz Thundering Pro, pengetenzios vedelemmel 300mm// GROSS",8669,"B","Active",9999,null,null,"No info","линк"]
[77762,"Fém fémfűrészlap, 300 mm, 2 db// Сибртех",236,"B","Active",9999,null,null,"No info","линк"]
[77764,"Fém fémfűrészlap, 300 mm, 12 db// Сибртех",1175,"B","Active",9999,null,null,"No info","линк"]
[78207,"Furesz pengek femhez, 3 db T118A, 50 x 1,2mm, HSS MTX Professional",688,"B","Active",9999,null,null,"No info","линк"]
[78252,"Penge keszlet fureszgephez, Univerzalis, 5 db // GROSS",1548,"B","Active",9999,null,null,"No info","линк"]
[78253,"Penge keszlet fureszgephez, fahoz, 5 db // GROSS",1572,"B","Active",9999,null,null,"No info","линк"]
[78260,"Penge fureszgephez, fahoz, 2 db ( 3101 - T101B ) // GROSS",784,"B","Active",9999,null,null,"No info","линк"]
[78262,"Penge fureszgephez, fahoz, 2 db ( 3103 - T101D ) // GROSS",784,"B","Active",9999,null,null,"No info","линк"]
[78264,"Penge fureszgephez, fahoz, 2 db ( 3160 - T101AI ) // GROSS",802,"B","Active",9999,null,null,"No info","линк"]
[78321,"250mm metszoollo, bal es egyenes vagas, CrMo, ket komponensu nyel",4623,"B","Active",9999,null,null,"No info","линк"]
[78323,"250mm metszoollo, egyenes es jobb vagas, CrMo, ket komponensu nyel// GROSS",5413,"B","Active",9999,null,null,"No info","линк"]
[78325,"250mm metszoollo, egyenes vagas, CrMo, ket komponensu nyel// GROSS",5413,"B","Active",9999,null,null,"No info","линк"]
[78327,"230mm metszoollo, egyenes vagas, CrMo, ket komponensu nyel// GROSS",5299,"B","Active",9999,null,null,"No info","линк"]
[78329,"Metszoollo \"PIRAHNA\", 270mm, egyenes vagas, CrMo acel, ket komponensu nyel",6734,"B","Active",9999,null,null,"No info","линк"]
[78347,"255mm metszoollo\"PIRANHA\", egyenes vagas, CrMo, ket komponensu nyel",7088,"B","Active",9999,null,null,"No info","линк"]
[78349,"255mm metszoollo\"PIRANHA\" megerositett, egyenes es bal vagas, CrMo, ket komponensu nyel",7902,"B","Active",9999,null,null,"No info","линк"]
[78351,"255mm metszoollo\"PIRANHA\" megerositett, egyenes es jobb vagas, CrMo, ket komponensu nyel",9260,"B","Active",9999,null,null,"No info","линк"]
[78357,"Metszoollo \"PIRANHA\",190 mm, egyenes es jobb vagas, ÑrMo acel, ket komponensu nyel",7900,"B","Active",9999,null,null,"No info","линк"]
[78359,"Metszoollo \"PIRANHA\",185mm, egyenes es bal vagas, ÑrMo acel, ket komponensu nyel",7907,"B","Active",9999,null,null,"No info","линк"]
[78361,"Metszoollo \"PIRANHA\",185mm, egyenes vagas, ÑrMo acel, ket komponensu nyel",7917,"B","Active",9999,null,null,"No info","линк"]
[78420,"PVC cso vago, D-36 mm, ket komponensu nyel, Festek boritas //GROSS",8264,"B","Active",9999,null,null,"No info","линк"]
[78424,"Univerzális olló PVC vágáshoz, D – 42mm, porszórt fogantyú// Gross",4730,"B","Active",9999,null,null,"No info","линк"]
[78450,"Kabelmetszo \"PIRANHA\", 240mm  ket komponensu nyel, kabel atmero max. 14 mm,14mm2. //GROSS",7798,"B","Active",9999,null,null,"No info","линк"]
[78870,"Nyomásvezérelt kés, háromkomponensű nyél, 170mm + 5 tartalék penge// GROSS",5639,"B","Active",9999,null,null,"No info","линк"]
[78879,"Barkacs szike, harom komponensu nyel, 175mm + 5 potpenge SO// GROSS",5672,"B","Active",9999,null,null,"No info","линк"]
[78882,"Hobbi kes, osszehajthato, harom komponensu markolat, penge tarto, 175 mm + 2 csere penge GROSS",5517,"B","Active",9999,null,null,"No info","линк"]
[78893,"Haszonkés 170 mm, gumi.abs test, behúzható.szegm.penge 18 mm (sk-5), fém vezető+5 penge// Bruttó",4246,"B","Active",9999,null,null,"No info","линк"]
[78895,"Svajci bicska 145 mm, ABS muanyag test, behuzhato szegmentalt enge 9 mm (SK-5), fem vezeto//GROSS",1240,"B","Active",9999,null,null,"No info","линк"]
[78897,"Szike 160 mm, fém test, visszahúzható. Kés 18 mm (sk-5), fémvezető, övcsipesz // Gross",3719,"B","Active",9999,null,null,"No info","линк"]
[78899,"Svajci bicska 130 mm, alum. test, behuzhato trapez penge 18 mm (SK-5), ovcsat + 4 penge//GROS",5266,"B","Active",9999,null,null,"No info","линк"]
[78968,"Kaparo pengek 9mm, 10db-os keszlet//SPARTA",106,"B","Active",9999,null,null,"No info","линк"]
[78976,"Pengek, 18 mm,  trapez, egyenes, 5 db.// SPARTA",136,"B","Active",9999,null,null,"No info","линк"]
[78997,"Univerzalis kes //Sibertech",696,"B","Active",9999,null,null,"No info","линк"]
[78998,"Jack vago fa nyellel 200MM//SPARTA",1010,"B","Active",9999,null,null,"No info","линк"]
[79112,"Elezo minden tipusu keshez, tapadokoronggal",884,"B","Active",9999,null,null,"No info","линк"]
[79122,"Multifunkcionalis elezo kesekhez, ollokhoz",766,"B","Active",9999,null,null,"No info","линк"]
[80101,"Habszivacs henger nyellel, 100 mm, a - 48 mm, a - nyel - 6 mm// SIBRTEX Russian",479,"B","Active",9999,null,null,"No info","линк"]
[80102,"Habszivacs henger nyellel, 150 mm, a - 48 mm, a - nyel - 6 mm// SIBRTEX Russian",550,"B","Active",9999,null,null,"No info","линк"]
[80103,"Habszivacs henger nyellel, 200 mm, a - 48 mm, a - nyel - 6 mm// SIBRTEX Russian",821,"B","Active",9999,null,null,"No info","линк"]
[80104,"Habszivacs henger nyellel, 250 mm, a - 48 mm, a - nyel - 6 mm// SIBRTEX Russian",916,"B","Active",9999,null,null,"No info","линк"]
[80108,"Habszivacs betet, 200 mm, a - 40 mm, äëÿ az alabbi elemhez: 80103// SIBRTEX Russian",141,"B","Active",9999,null,null,"No info","линк"]
[80121,"Henger, termeszetes, nyellel, 100 mm, bolyhossag 12mm, a - 48 mm, nyel a - 6 mm// SIBRTEX Russian",464,"B","Active",9999,null,null,"No info","линк"]
[80122,"Henger, termeszetes, nyellel, 150 mm, bolyhossag 12mm, a - 48 mm, nyel a - 6 mm// SIBRTEX Russian",479,"B","Active",9999,null,null,"No info",{"$f":"HYPERLINK(L892,\"линк\")","v":"линк"}]
[80123,"Henger, termeszetes, nyellel, 200 mm, bolyhossag 12mm, a - 48 mm, nyel a - 6 mm// SIBRTEX Russian",692,"B","Active",9999,null,null,"No info","линк"]
[80126,"Henger, termeszetes, nyellel, cserelheto, 100 mm, bolyhossag 12mm, a - 48 mm, nyel a - 6 mm// SIBRTEX Russian",331,"B","Active",9999,null,null,"No info","линк"]
[80127,"Henger, termeszetes, nyellel, cserelheto, 150 mm, bolyhossag 12mm, a - 48 mm, nyel a - 6 mm// SIBRTEX Russian",269,"B","Active",9999,null,null,"No info","линк"]
[80128,"Henger, termeszetes, nyellel, cserelheto, 200 mm, bolyhossag 12mm, a - 48 mm, nyel a - 6 mm// SIBRTEX Russian",312,"B","Active",9999,null,null,"No info","линк"]
[80129,"Henger, termeszetes, nyellel, cserelheto, 250 mm, bolyhossag 12mm, a - 48 mm, nyel a - 6 mm// SIBRTEX Russian",367,"B","Active",9999,null,null,"No info","линк"]
[80440,"Set: foam paint henger with handle, 2 henger sleves, 65 mm, D 42 mm, handle D 6 mm// PALISAD",470,"B","Active",9999,null,null,"No info","линк"]
[84876,"Horog armatúra szövéshez, 210 mm, fa nyél// Сибртех",1022,"B","Active",9999,null,null,"No info","линк"]
[84879,"Hok for armature weaving, 210 mm, plastic handle//PALISAD",1022,"B","Active",9999,null,null,"No info","линк"]
[85456,"Kaparo 200mm (lekerekitett fogazat 4x4mm) muanyag nyellel// SIBRTEH",444,"B","Active",9999,null,null,"No info","линк"]
[85459,"Kaparo 150mm (lekerekitett fogazat 6x6mm) muanyag nyellel// SIBRTEH",356,"B","Active",9999,null,null,"No info","линк"]
[85464,"Kaparo 200mm (lekerekitett fogazat 6x6mm) muanyag nyellel// SIBRTEH",444,"B","Active",9999,null,null,"No info","линк"]
[85465,"Kaparo 250mm (lekerekitett fogazat 6x6mm) muanyag nyellel// SIBRTEH",556,"B","Active",9999,null,null,"No info","линк"]
[85467,"Kaparo 300mm (lekerekitett fogazat 6x6mm) muanyag nyellel// SIBRTEH",692,"B","Active",9999,null,null,"No info","линк"]
[85476,"Kaparo 300mm (lekerekitett fogazat 8x8mm) muanyag nyellel// SIBRTEH",611,"B","Active",9999,null,null,"No info","линк"]
[86224,"Vakolokanal, acel, megerositett fa markolat Oroszroszag",874,"B","Active",9999,null,null,"No info","линк"]
[86241,"Stel marging trowel, reinforced woden handle// Russia",1041,"B","Active",9999,null,null,"No info","линк"]
[86341,"Stel brick trowel, plastic handle// Russia",477,"B","Active",9999,null,null,"No info","линк"]
[87822,"Csempefogó 200 mm, kemény egyenes szivacsok, polimer bevonat// Sparta",3513,"B","Active",9999,null,null,"No info","линк"]
[87952,"Vágó a fémprofilhoz (a kőzet alatt)// Sparta",5032,"B","Active",9999,null,null,"No info","линк"]
[88200,"Furo gazbetonhoz es habbetonhoz, atmero 40 mm// SIBRTEH",971,"B","Active",9999,null,null,"No info","линк"]
[88201,"Furo gazbetonhoz es habbetonhoz, atmero 60 mm// SIBRTEH",1186,"B","Active",9999,null,null,"No info","линк"]
[88202,"Furo gazbetonhoz es habbetonhoz, atmero 80 mm// SIBRTEH",1249,"B","Active",9999,null,null,"No info","линк"]
[88676,"STANDARD hab pisztoly, muanyag test//",2268,"B","Active",9999,null,null,"No info","линк"]
[88891,"Menetes tomitoszalag, 19 mm x 10 m//",183,"B","Active",9999,null,null,"No info","линк"]
[88892,"Menetes tomitoszalag, 25 mm x 10 m//",206,"B","Active",9999,null,null,"No info","линк"]
[89608,"Aluminium lebegomertek \"Trapezia\", 1 megerositett bordazat, , L-1,5 mSIBRTEH Russian",2932,"B","Active",9999,null,null,"No info","линк"]
[89609,"Aluminium lebegomertek \"Trapezia\", 1 megerositett bordazat, , L-1,5 mSIBRTEH Russian",3906,"B","Active",9999,null,null,"No info","линк"]
[89611,"Aluminium lebegomertek \"Trapezia\", 1 megerositett bordazat, , L-1,5 mSIBRTEH Russian",4885,"B","Active",9999,null,null,"No info","линк"]
[89612,"Aluminium lebegomertek \"Trapezia\", 1 megerositett bordazat, , L-1,5 mSIBRTEH Russian",5861,"B","Active",9999,null,null,"No info","линк"]
[90315,"Konnyu kombinalt kesztyu, ujjatlan, M// Gross",2751,"B","Active",9999,null,null,"No info","линк"]
[90316,"Univerzalis konnyu kombinalt kesztyu, nyitott ujjak, L GROSS",2751,"B","Active",9999,null,null,"No info","линк"]
[90317,"Univerzalis konnyu kombinalt kesztyu, nyitott ujjak, XL GROSS",2751,"B","Active",9999,null,null,"No info","линк"]
[90321,"altalanos celu kombinalt kesztyu URBANE, L// GROSS",3716,"B","Active",9999,null,null,"No info","линк"]
[90322,"Univerzalis kombinalt kesztyu URBANE XL GROSS",3716,"B","Active",9999,null,null,"No info","линк"]
[90323,"Univerzalis kombinalt kesztyu URBANE XXL GROSS",3716,"B","Active",9999,null,null,"No info","линк"]
[90327,"Univerzalis kombinalt kesztyu STYLISH L GROSS",3733,"B","Active",9999,null,null,"No info","линк"]
[90328,"Univerzalis kombinalt kesztyu STYLISH XL GROSS",3733,"B","Active",9999,null,null,"No info","линк"]
[90329,"altalanos celu kombinalt kesztyu STYLISH, XXL// GROSS",3733,"B","Active",9999,null,null,"No info","линк"]
[90333,"Univerzalis kombinalt kesztyu DELUXE L GROSS",4238,"B","Active",9999,null,null,"No info","линк"]
[90334,"altalanos celu kombinalt kesztyu DELUXE, XL// GROSS",4238,"B","Active",9999,null,null,"No info","линк"]
[90335,"altalanos celu kombinalt kesztyu DELUXE, XXL// GROSS",4238,"B","Active",9999,null,null,"No info","линк"]
[90342,"Dzseki M//Gross",14667,"B","Active",9999,null,null,"No info","линк"]
[90343,"Dzseki L//Gross",14667,"B","Active",9999,null,null,"No info","линк"]
[90344,"Dzseki XL//Gross",14667,"B","Active",9999,null,null,"No info","линк"]
[90345,"Dzseki XXL//Gross",14667,"B","Active",9999,null,null,"No info","линк"]
[90346,"Dzseki XXXL//Gross",14667,"B","Active",9999,null,null,"No info","линк"]
[90348,"Nadrag L//Gross",13653,"B","Active",9999,null,null,"No info","линк"]
[90349,"Nadrag XL//Gross",13653,"B","Active",9999,null,null,"No info","линк"]
[90350,"Nadrag XXL//Gross",13653,"B","Active",9999,null,null,"No info","линк"]
[90351,"Nadrag XXXL//Gross",13653,"B","Active",9999,null,null,"No info","линк"]
[91612,"Lakat ЗН2-M1, 70 mm// Сибртех",2546,"B","Active",9999,null,null,"No info","линк"]
[91613,"Lakat ЗН2-M1, 80 mm// Сибртех",3161,"B","Active",9999,null,null,"No info","линк"]
[91619,"Lakat ЗН2-7, 80 mm// Сибртех",2222,"B","Active",9999,null,null,"No info","линк"]
[91620,"Lakat ЗН2-9, 80 mm// Сибртех",2415,"B","Active",9999,null,null,"No info","линк"]
[91621,"Lakat ЗН2-21, 80 mm// Сибртех",3737,"B","Active",9999,null,null,"No info","линк"]
[91622,"Lakat ЗН2-4, 60 mm// Сибртех",1717,"B","Active",9999,null,null,"No info","линк"]
[91626,"Lakat ЗН2-26, 60 mm// Sibrteh",929,"B","Active",9999,null,null,"No info","линк"]
[92344,"Gofrikendő, sűrűsége 230 g/m2, 0,45x60 m",40077,"B","Active",9999,null,null,"No info","линк"]
[92345,"Műszaki kendő, 0,8x50 m",12479,"B","Active",9999,null,null,"No info",{"$f":"HYPERLINK(L951,\"линк\")","v":"линк"}]
[93823,"Haztartasi zsinor, 25m, D 5 mm, Russia//Sibrtech",196,"B","Active",9999,null,null,"No info","линк"]
[93879,"Huzal polipropilen, 100 m, 1600 tex// SIBRTECH Russian",621,"B","Active",9999,null,null,"No info","линк"]
[93889,"Megerositett fem patkanyfogo, 2 db// SPARTA",780,"B","Active",9999,null,null,"No info","линк"]
[93910,"Takaroanyag 17/2,1 x 10, feher // Russia",1073,"B","Active",9999,null,null,"No info","линк"]
[93911,"Covering material SUF17 3.2 x 10, white Russia",1521,"B","Active",9999,null,null,"No info","линк"]
[93913,"Takaroanyag 30/3,2 x 10, feher // Russia",2336,"B","Active",9999,null,null,"No info","линк"]
[93915,"Covering material SUF42 3.2 x 10, white Russia",2580,"B","Active",9999,null,null,"No info","линк"]
[93917,"Takaroanyag 2,1x10m, fekete// Russian",2049,"B","Active",9999,null,null,"No info","линк"]
[93919,"Burkolo anyag SUF60 3,2x10, fekete, Oroszorszag",3855,"B","Active",9999,null,null,"No info","линк"]
[94286,"Fúvóka teflon 20, 25, 32, 40 mm műanyag csőhegesztő géphez // Kronwerk",2586,"B","Active",9999,null,null,"No info","линк"]
[95421,"Betonkevero B-125, 550 W, 130 L // Denzel",163535,"B","Active",9999,null,null,"No info","линк"]
[95422,"Betonkevero B-160, 700 W, 160 L // Denzel",191181,"B","Active",9999,null,null,"No info","линк"]
[96151,"Funyiro kabel lekerekitett 1,3mm x 15m//  DENZEL// Russia",255,"B","Active",9999,null,null,"No info","линк"]
[96222,"Benzines bozótvágó DT-33 33 сс, 1,8 LE, egy darab tengely, 2 részből áll// Denzel",42780,"B","Active",9999,null,null,"No info","линк"]
[96302,"Fukasza vagotarcsa, anya M10x1,25 bal (DENZEL, MTD, GREEN LINE) DENZEL",1128,"B","Active",9999,null,null,"No info","линк"]
[96341,"3T penge fukaszahoz 230x25,4//KRONWERK",1079,"B","Active",9999,null,null,"No info","линк"]
[96343,"40T penge fukaszahoz 230x25,4//KRONWERK",1586,"B","Active",9999,null,null,"No info","линк"]
[96900,"Elektromos rönkhasító 1500W, nyomás 5t, rönkátmérő 250 mm // MTX",189022,"B","Active",9999,null,null,"No info","линк"]
[97202,"Kerti felszini szivattyu GP1000x 1000 W, 3500 l/h, magassag 44 m, rozsdamentes acel",48364,"B","Active",9999,null,null,"No info","линк"]
[97283,"Szívókészlet PK 7,7m szivattyúhoz, átmérő 1\", visszatérő szelep// Denzel",9628,"B","Active",9999,null,null,"No info","линк"]
[102085,"Kalapacs fa nyellel, 400 g, lekerekitett fej// SPARTA",1106,"B","Active",9999,null,null,"No info","линк"]
[102269,"Kalapacs 100 g fa nyel, lekerekitett fej// MTX",694,"B","Active",9999,null,null,"No info","линк"]
[102309,"Kalapacs 400 g fa nyel, lekerekitett fej// MTX",1421,"B","Active",9999,null,null,"No info","линк"]
[102329,"Kalapacs 500 g fa nyel, lekerekitett fej// MTX",1670,"B","Active",9999,null,null,"No info","линк"]
[102339,"MACHINIST'S HAMMER 600 g WOODEN HANDLE, square peen//MTX",1841,"B","Active",9999,null,null,"No info","линк"]
[102359,"Kalapacs 800 g fa nyel, lekerekitett fej// MTX",2336,"B","Active",9999,null,null,"No info","линк"]
[102369,"Kalapacs 1000 g fa nyel, lekerekitett fej// MTX",2863,"B","Active",9999,null,null,"No info","линк"]
[102379,"Kalapacs 1500 g fa nyel, lekerekitett fej// MTX",3641,"B","Active",9999,null,null,"No info","линк"]
[103057,"Gåpåsz kalapàcs fa nyållel, 100 g, szogletes toll, EFP// Denzel",962,"B","Active",9999,null,null,"No info","линк"]
[103067,"Gåpåsz kalapàcs fa nyållel, 200 g, szogletes toll, EFP// Denzel",1242,"B","Active",9999,null,null,"No info","линк"]
[103077,"Gåpåsz kalapàcs fa nyållel, 300 g, szogletes toll, EFP// Denzel",1423,"B","Active",9999,null,null,"No info","линк"]
[103087,"Gåpåsz kalapàcs fa nyållel, 400 g, szogletes toll, EFP// Denzel",1651,"B","Active",9999,null,null,"No info","линк"]
[103097,"Gåpåsz kalapàcs fa nyållel, 500 g, szogletes toll, EFP// Denzel",1861,"B","Active",9999,null,null,"No info","линк"]
[103107,"Gåpåsz kalapàcs fa nyållel, 600 g, szogletes toll, EFP// Denzel",2189,"B","Active",9999,null,null,"No info","линк"]
[103117,"Gåpåsz kalapàcs fa nyållel, 800 g, szogletes toll, EFP// Denzel",2543,"B","Active",9999,null,null,"No info","линк"]
[103127,"Gåpåsz kalapàcs fa nyållel, 1000 g, szogletes toll, EFP// Denzel",2875,"B","Active",9999,null,null,"No info","линк"]
[103137,"Gåpåsz kalapàcs fa nyållel, 1500 g, szogletes toll, EFP// Denzel",3649,"B","Active",9999,null,null,"No info","линк"]
[103159,"Kalapacs 100 g uvegszalas nyel gumi boritassal// MTX",843,"B","Active",9999,null,null,"No info","линк"]
[103179,"Kalapacs 200 g uvegszalas nyel gumi boritassal// MTX",1018,"B","Active",9999,null,null,"No info","линк"]
[103209,"Kalapacs 300 g uvegszalas nyel gumi boritassal// MTX",1320,"B","Active",9999,null,null,"No info","линк"]
[103229,"Kalapacs 400 g uvegszalas nyel gumi boritassal// MTX",1501,"B","Active",9999,null,null,"No info","линк"]
[103309,"Kalapacs 500 g uvegszalas nyel gumi boritassal// MTX",1737,"B","Active",9999,null,null,"No info","линк"]
[103409,"Kalapacs 600 g uvegszalas nyel gumi boritassal// MTX",1916,"B","Active",9999,null,null,"No info","линк"]
[103509,"Kalapacs 800 g uvegszalas nyel gumi boritassal// MTX",2332,"B","Active",9999,null,null,"No info","линк"]
[103609,"Kalapacs 1000 g uvegszalas nyel gumi boritassal// MTX",2702,"B","Active",9999,null,null,"No info","линк"]
[103639,"Kalapacs 1500 g uvegszalas nyel gumi boritassal// MTX",3670,"B","Active",9999,null,null,"No info","линк"]
[103727,"Machinist's hammer, fiberglass handle with rubber shaft, 200G// Sparta",951,"B","Active",9999,null,null,"No info","линк"]
[103737,"Gépész kalapács, üvegszálas nyél gumi szárral, 300G// Sparta",1106,"B","Active",9999,null,null,"No info","линк"]
[103747,"Gépész kalapács, üvegszálas nyél gumi szárral, 400G// Sparta",1350,"B","Active",9999,null,null,"No info","линк"]
[103757,"Gépész kalapács, üvegszálas nyél gumi szárral, 500G// Sparta",1635,"B","Active",9999,null,null,"No info","линк"]
[103767,"Gépész kalapács, üvegszálas nyél gumi szárral, 600G// Sparta",1831,"B","Active",9999,null,null,"No info","линк"]
[103777,"Gépész kalapács, üvegszálas nyél gumi szárral, 700G// Sparta",1628,"B","Active",9999,null,null,"No info","линк"]
[103787,"Gépész kalapács, üvegszálas nyél gumi szárral, 800G// Sparta",2232,"B","Active",9999,null,null,"No info","линк"]
[103807,"Gépész kalapács, üvegszálas nyél gumi szárral, 1000G// Sparta",2596,"B","Active",9999,null,null,"No info","линк"]
[103817,"Gépész kalapács, üvegszálas nyél gumi szárral, 1500G// Sparta",2657,"B","Active",9999,null,null,"No info","линк"]
[104405,"Szeghuzo kalapacs, 450g, 27 mm fem nyellel, gumi boritassal//SPARTA",1639,"B","Active",9999,null,null,"No info","линк"]
[104469,"Szeghuzo kalapacs, 450 g, fej 27 mm, magneses, uvegszalas ket komponensu nyel// MTX",2150,"B","Active",9999,null,null,"No info","линк"]
[104509,"Szeghuzo kalapacs, 450 g, fej 27 mm, uvegszalas ket komponensu nyel gumi boritassal// MTX",1863,"B","Active",9999,null,null,"No info","линк"]
[104609,"Szeghuzo kalapacs,450 g, fem, ket komponensu nyel// MTX",3525,"B","Active",9999,null,null,"No info","линк"]
[104639,"Szeghuzo kalapacs, 570 g, fem, ket komponensu nyel// MTX",3908,"B","Active",9999,null,null,"No info","линк"]
[106209,"Hosszufeju kalapacs",3983,"B","Active",9999,null,null,"No info","линк"]
[106309,"Tegla kalapacs, 600 g, fem, ket komponensu nyel// MTX",4519,"B","Active",9999,null,null,"No info","линк"]
[106409,"Téglakalapács, 400 g, fa nyél// MTX",3901,"B","Active",9999,null,null,"No info","линк"]
[108305,"Kiegyenesito kalapacs, fej: 35mm, kombinalt, fa nyel//SPARTA",1155,"B","Active",9999,null,null,"No info",{"$f":"HYPERLINK(L1015,\"линк\")","v":"линк"}]
[109029,"Porolykalapacs fa nyellel, 1000 g// MTX",2362,"B","Active",9999,null,null,"No info","линк"]
[109039,"Porolykalapacs fa nyellel, 1500 g// MTX",3248,"B","Active",9999,null,null,"No info","линк"]
[109049,"Porolykalapacs fa nyellel, 2000 g// MTX",3977,"B","Active",9999,null,null,"No info","линк"]
[109137,"Kalapács, 1000 g, üvegszálas gumi nyél// Sparta",2266,"B","Active",9999,null,null,"No info","линк"]
[109157,"Kalapács, 1500 g, üvegszálas gumi nyél// Sparta",2881,"B","Active",9999,null,null,"No info","линк"]
[109177,"Kalapács, 2000 g, üvegszálas gumi nyél// Sparta",3580,"B","Active",9999,null,null,"No info","линк"]
[109199,"Porolykalapacs uvegszalas nyellel, 1000 g// MTX",2393,"B","Active",9999,null,null,"No info","линк"]
[109209,"Porolykalapacs uvegszalas nyellel, 1500 g// MTX",3295,"B","Active",9999,null,null,"No info","линк"]
[109219,"Porolykalapacs uvegszalas nyellel, 2000 g// MTX",3790,"B","Active",9999,null,null,"No info","линк"]
[109249,"Porolykalapacs uvegszalas nyellel, 5000 g// MTX",9895,"B","Active",9999,null,null,"No info","линк"]
[109869,"Pörölykalapács rázkódásmentes 675G, gumi//MTX",1782,"B","Active",9999,null,null,"No info","линк"]
[111405,"Gumikalapacs fekete 340 g fa nyellel// SPARTA",568,"B","Active",9999,null,null,"No info","линк"]
[111605,"Gumikalapacs fekete 910G fa nyellel// SPARTA",1185,"B","Active",9999,null,null,"No info","линк"]
[111617,"Gumikalapács 1130G fekete gumi, fa nyél// Sparta",1454,"B","Active",9999,null,null,"No info","линк"]
[111709,"Gumikalapacs, 225 g, fekete es feher gumi anyag, uvegszalas nyel// MTX",1309,"B","Active",9999,null,null,"No info","линк"]
[111719,"Gumikalapacs, 450 g, fekete es feher gumi anyag, fiberglass nyel// MTX",1808,"B","Active",9999,null,null,"No info","линк"]
[111729,"Gumikalapacs, 680 g, fekete es feher gumi anyag, uvegszalas nyel// MTX",2409,"B","Active",9999,null,null,"No info","линк"]
[111759,"Gumikalapacs, 225 g, fekete gumi anyag, uvegszalas nyel// MTX",1010,"B","Active",9999,null,null,"No info","линк"]
[111859,"Gumikalapacs, 450 g, fekete gumi anyag, uvegszalas nyel// MTX",1470,"B","Active",9999,null,null,"No info","линк"]
[111939,"Gumikalapacs, 680 g, fekete gumi anyag, uvegszalas nyel// MTX",1867,"B","Active",9999,null,null,"No info","линк"]
[111959,"Gumikalapacs, 225 g, feher gumi anyag, fiberglass nyel// MTX",1212,"B","Active",9999,null,null,"No info","линк"]
[111969,"Gumikalapacs, 450 g, feher gumi anyag, fiberglass nyel// MTX",2016,"B","Active",9999,null,null,"No info","линк"]
[112059,"Imbuszkulcs, CrV, fekete foszfátozott 4 mm, sztenderd méret// MTX",55,"B","Active",9999,null,null,"No info","линк"]
[112129,"Imbuszkulcs, CrV, fekete foszfatozott 6 mm, sztenderd meret// MTX",118,"B","Active",9999,null,null,"No info","линк"]
[112149,"Imbuszkulcs, CrV, fekete foszfatozott 7 mm, sztenderd meret// MTX",147,"B","Active",9999,null,null,"No info","линк"]
[112169,"Imbuszkulcs, CrV, fekete foszfatozott 8 mm, sztenderd meret// MTX",187,"B","Active",9999,null,null,"No info","линк"]
[112229,"Imbuszkulcs szett, 2.0–12 mm,CrV, 9 db// MTX",1132,"B","Active",9999,null,null,"No info","линк"]
[112259,"Imbuszkulcs, CrV, fekete foszfatozott 5 mm, sztenderd meret// MTX",77,"B","Active",9999,null,null,"No info","линк"]
[112269,"Imbuszkulcs szett, 1.5–10 mm,CrV, 9 db// MTX",749,"B","Active",9999,null,null,"No info","линк"]
[112279,"Imbuszkulcs szett, 2.0–12 mm,CrV, 9 db, hosszitott// MTX",1507,"B","Active",9999,null,null,"No info","линк"]
[112309,"Cheie imbus HEX, 10 mm, CrV // MATRIX",316,"B","Active",9999,null,null,"No info","линк"]
[112319,"Imbuszkulcs szett, 1.5–10 mm,CrV, 9 db, hosszitott// MTX",1057,"B","Active",9999,null,null,"No info","линк"]
[112329,"IMBUSZKULCS KARBON ACÉL FEKETE FOSZFÁTOZOTT 12 mm, SZETNDERD HUSSZÚSÁG//MTX",493,"B","Active",9999,null,null,"No info","линк"]
[112339,"Imbuszkulcs szett, 1.5–10 mm,CrV, 9 db, golyos tipus, hosszitott// MTX",1283,"B","Active",9999,null,null,"No info","линк"]
[112685,"Imbuszkulcs szett, 1,5-10mm, CrV, 10 db, nikkel, gyurun// SPARTA",540,"B","Active",9999,null,null,"No info","линк"]
[113129,"Fejkeszlet \"SPLINE\", hatoldalu rud 1/2\", CrV, 10 mm, 11 db, muanyag dobozban// MTX",2853,"B","Active",9999,null,null,"No info","линк"]
[113139,"Fejkeszlet \"HEX\", hatoldalu rud 1/2\", CrV, 10 mm, 15 db, muanyag dobozban// MTX",3694,"B","Active",9999,null,null,"No info","линк"]
[113169,"fejkeszlet, bit adapter, acel S2, 18 db, muanyag dobozban// MTX",4089,"B","Active",9999,null,null,"No info","линк"]
[113189,"Fejkeszlet \"HEX\", \"TORX\", \"SPLINE\", hatoldalu rud 1/2\", CrV, 42 db, muanyag dobozban// MTX",9274,"B","Active",9999,null,null,"No info","линк"]
[113279,"Set biti, adaptor magnetic, 64 piese in cutie de plastic// MTX",5820,"B","Active",9999,null,null,"No info","линк"]
[113329,"Forditott csavarhuzo fejkeszlettel, 1/4\", 16 db //MTX",2018,"B","Active",9999,null,null,"No info","линк"]
[113509,"Fejkeszlet, PH1x25 mm, acel 45X, 20 db, muanyag dobozban// MTX",589,"B","Active",9999,null,null,"No info","линк"]
[113529,"Fejkeszlet, PH2x25 mm, acel 45X, 20 db, muanyag dobozban// MTX",589,"B","Active",9999,null,null,"No info","линк"]
[113809,"Fejkeszlet, PH1x50 mm, acel 45X, 10 db, muanyag dobozban// MTX",589,"B","Active",9999,null,null,"No info","линк"]
[113829,"Fejkeszlet, PH2x50 mm, acel 45X, 10 db, muanyag dobozban// MTX",589,"B","Active",9999,null,null,"No info","линк"]
[113869,"Fejkeszlet, PZ1x50 mm, acel 45X, 10 db, muanyag dobozban// MTX",589,"B","Active",9999,null,null,"No info","линк"]
[113879,"Fejkeszlet magneses tartoval, CrV, 61 elem// MTX",3199,"B","Active",9999,null,null,"No info","линк"]
[113889,"Fejkeszlet, PZ2x50 mm, acel 45X, 10 db, muanyag dobozban// MTX",589,"B","Active",9999,null,null,"No info","линк"]
[113929,"Fejkeszlet, megneses adapterrrel, acel 45X, 7 db, muanyag lezart dobozban// MTX",574,"B","Active",9999,null,null,"No info","линк"]
[113945,"Fejkeszlet, megneses adapterrrel, acel 45X, 7 db, muanyag dobozban// SPARTA",458,"B","Active",9999,null,null,"No info","линк"]
[113969,"Fejkeszlet 65 mm, SL-SL, Ph-Ph, Pz-Pz, acel CrV, 10 db, dupla vegu// MTX",756,"B","Active",9999,null,null,"No info","линк"]
[113989,"Hatoldalu fej adapter, 10 db// MTX",1379,"B","Active",9999,null,null,"No info","линк"]
[114009,"FUSION csavarhuzo, PZ 0 x 75 mm-es, CRV, csuszasmentes markolat 3 reszes // MTX",263,"B","Active",9999,null,null,"No info","линк"]
[114019,"FUSION csavarhuzo, PZ 1 x 75 mm-es, CRV, csuszasmentes markolat 3 reszes // MTX",365,"B","Active",9999,null,null,"No info","линк"]
[114029,"Fuzios csavarhuzo, SL5,0 x 38 mm, CrV, harom komponensu nyel \"csuszasmentes\"// MTX",299,"B","Active",9999,null,null,"No info","линк"]
[114039,"FUSION csavarhuzo, PZ 2 x 100 mm-es, CRV, csuszasmentes markolat 3 reszes // MTX",462,"B","Active",9999,null,null,"No info","линк"]
[114049,"Fuzios csavarhuzo, SL6,0 x 38 mm, CrV, harom komponensu nyel \"csuszasmentes\"// MTX",307,"B","Active",9999,null,null,"No info","линк"]
[114059,"FUSION csavarhuzo, PZ 3 x 150 mm-es, CRV, csuszasmentes markolat 3 reszes // MTX",698,"B","Active",9999,null,null,"No info","линк"]
[114069,"Fuzios csavarhuzo, SL3,0 x 80 mm, CrV, harom komponensu nyel \"csuszasmentes\"// MTX",255,"B","Active",9999,null,null,"No info","линк"]
[114089,"Fuzios csavarhuzo, SL3,0 x 100 mm, CrV, harom komponensu nyel \"csuszasmentes\"// MTX",279,"B","Active",9999,null,null,"No info","линк"]
[114109,"Fuzios csavarhuzo, SL3,0 x 200 mm, CrV, harom komponensu nyel \"csuszasmentes\"// MTX",332,"B","Active",9999,null,null,"No info",{"$f":"HYPERLINK(L1076,\"линк\")","v":"линк"}]
[114129,"Fuzios csavarhuzo, SL4,0 x 100 mm, CrV, harom komponensu nyel \"csuszasmentes\"// MTX",289,"B","Active",9999,null,null,"No info","линк"]
[114149,"Fuzios csavarhuzo, SL4,0 x 150 mm, CrV, harom komponensu nyel \"csuszasmentes\"// MTX",332,"B","Active",9999,null,null,"No info","линк"]
[114169,"Surubelnita Fusion, SL4, 0 x 200 mm, cu maner cu trei componente \"anti alunecare\"// MTX",371,"B","Active",9999,null,null,"No info","линк"]
[114179,"Fuzios csavarhuzo, SL5,0 x 75 mm, CrV, harom komponensu nyel \"csuszasmentes\"// MTX",346,"B","Active",9999,null,null,"No info","линк"]
[114189,"Fuzios csavarhuzo, SL6,0 x 200 mm, CrV, harom komponensu nyel \"csuszasmentes\"// MTX",521,"B","Active",9999,null,null,"No info","линк"]
[114199,"Fuzios csavarhuzo, SL5,0 x 100 mm, CrV, harom komponensu nyel \"csuszasmentes\"// MTX",358,"B","Active",9999,null,null,"No info","линк"]
[114209,"Fuzios csavarhuzo, SL5,0 x 150 mm, CrV, harom komponensu nyel \"csuszasmentes\"// MTX",379,"B","Active",9999,null,null,"No info","линк"]
[114239,"Fuzios csavarhuzo, SL6,0 x 100 mm, CrV, harom komponensu nyel \"csuszasmentes\"// MTX",462,"B","Active",9999,null,null,"No info","линк"]
[114249,"Fuzios csavarhuzo, SL6,0 x 150 mm, CrV, harom komponensu nyel \"csuszasmentes\"// MTX",495,"B","Active",9999,null,null,"No info","линк"]
[114259,"Fuzios csavarhuzo, SL8,0 x 150 mm, CrV, harom komponensu nyel \"csuszasmentes\"// MTX",631,"B","Active",9999,null,null,"No info","линк"]
[114269,"Fuzios csavarhuzo, SL8,0 x 200 mm, CrV, harom komponensu nyel \"csuszasmentes\"// MTX",698,"B","Active",9999,null,null,"No info","линк"]
[114279,"Fuzios csavarhuzo, SL8,0 x 250 mm, CrV, harom komponensu nyel \"csuszasmentes\"// MTX",760,"B","Active",9999,null,null,"No info","линк"]
[114299,"Fuzios csavarhuzo, Ph1 x38 ìì, CrV, harom komponensu nyel \"csuszasmentes\"// MTX",299,"B","Active",9999,null,null,"No info","линк"]
[114319,"Fuzios csavarhuzo, Ph2 x 38 ìì, CrV, harom komponensu nyel \"csuszasmentes\"// MTX",307,"B","Active",9999,null,null,"No info","линк"]
[114329,"Fuzios csavarhuzo, Ph0 x 80 ìì, CrV, harom komponensu nyel \"csuszasmentes\"// MTX",250,"B","Active",9999,null,null,"No info","линк"]
[114359,"Fuzios csavarhuzo, Ph0 x 100 ìì, CrV, harom komponensu nyel \"csuszasmentes\"// MTX",275,"B","Active",9999,null,null,"No info","линк"]
[114369,"Fuzios csavarhuzo, Ph0 x 150 ìì, CrV, harom komponensu nyel \"csuszasmentes\"// MTX",299,"B","Active",9999,null,null,"No info","линк"]
[114389,"Fuzios csavarhuzo, Ph1 x 100 ìì, CrV, harom komponensu nyel \"csuszasmentes\"// MTX",358,"B","Active",9999,null,null,"No info","линк"]
[114399,"Fuzios csavarhuzo, Ph1 x 150 ìì, CrV, harom komponensu nyel \"csuszasmentes\"// MTX",379,"B","Active",9999,null,null,"No info","линк"]
[114409,"Fuzios csavarhuzo, Ph1 x 75 ìì, CrV, harom komponensu nyel \"csuszasmentes\"// MTX",346,"B","Active",9999,null,null,"No info","линк"]
[114419,"Fuzios csavarhuzo, Ph2 x 100 ìì, CrV, harom komponensu nyel \"csuszasmentes\"// MTX",462,"B","Active",9999,null,null,"No info","линк"]
[114429,"Fuzios csavarhuzo, Ph2 x 200 ìì, CrV, harom komponensu nyel \"csuszasmentes\"// MTX",505,"B","Active",9999,null,null,"No info","линк"]
[114439,"Fuzios csavarhuzo, Ph2 x 150 ìì, CrV, harom komponensu nyel \"csuszasmentes\"// MTX",495,"B","Active",9999,null,null,"No info","линк"]
[114459,"Fuzios csavarhuzo, Ph3 x 150 ìì CrV, harom komponensu nyel \"csuszasmentes\"// MTX",635,"B","Active",9999,null,null,"No info","линк"]
[114479,"Fuzios csavarhuzo, Ph3 x 200 ìì, CrV, harom komponensu nyel \"csuszasmentes\"// MTX",711,"B","Active",9999,null,null,"No info","линк"]
[114499,"Fuzios csavarhuzo, Ph3 x 250 ìì, CrV, harom komponensu nyel \"csuszasmentes\"// MTX",760,"B","Active",9999,null,null,"No info","линк"]
[114519,"Fuzios kombinalt csavarhuzo,SL6,0/Ph2 mm, CrV, harom komponensu nyel \"csuszasmentes\"// MTX",774,"B","Active",9999,null,null,"No info","линк"]
[114539,"Csavarhuzo fejkeszlettel, 11 db, fuzios, harom komponensu nyel \"csuszasmentes\"//MTX",1069,"B","Active",9999,null,null,"No info","линк"]
[115455,"Forditott csavarhuzo, fejkeszlet,10 db, CrV// SPARTA",1120,"B","Active",9999,null,null,"No info","линк"]
[115499,"Forditott csavarhuzo, hatoldalu aljzat, fejkeszlet, CrV, 6 db// MTX",2505,"B","Active",9999,null,null,"No info","линк"]
[115509,"Forditott csavarhuzo, pisztolyos, hatoldalu aljzat, fejkeszlet, CrV, 6 db// MTX",2006,"B","Active",9999,null,null,"No info","линк"]
[115545,"Forditott csavarhuzo panttal, fejekkel, 18 db// SPARTA",1313,"B","Active",9999,null,null,"No info","линк"]
[115669,"Torx bit d=6 mm L=45 mm//MTX",242,"B","Active",9999,null,null,"No info","линк"]
[115679,"Csavarhuzo T-tipusu nyellel ergonomikus fogas and fejkeszlet, 11 db, CrV// MTX",812,"B","Active",9999,null,null,"No info","линк"]
[115689,"Bites anyacsavarozo d=7mm L=45mm// MTX",246,"B","Active",9999,null,null,"No info","линк"]
[115699,"Fej megszoritoval d=8mm  L=45mm// MTX",253,"B","Active",9999,null,null,"No info","линк"]
[115719,"Bitfej dugokulcs kikepzessel d=10 L=45mm // MTX",283,"B","Active",9999,null,null,"No info","линк"]
[115729,"Csavarhuzo T-tipusu nyellel ergonomikus fogas es fejkeszlet, 36 db, CrV, muanyag dobozban// MTX",1939,"B","Active",9999,null,null,"No info","линк"]
[115739,"Cheie tubulara pentru biti d=8 mm L=65 mm, 2шт// MATRIX",365,"B","Active",9999,null,null,"No info","линк"]
[115769,"Cheie tubulara pentru bit d=10 mm L=65 mm, 2шт// MATRIX",383,"B","Active",9999,null,null,"No info","линк"]
[115799,"Nyomofejes csavarhuzo 1/2\", fejkeszlet, 6 db, gumirozott - nyel, muanyag dobozban// MTX",3000,"B","Active",9999,null,null,"No info","линк"]
[115829,"Fuzios precizios csavarhuzo fejekkel, 11 db muanyag dobozban, ket komponensu nyel// MTX",1293,"B","Active",9999,null,null,"No info","линк"]
[115849,"Fuzios precizios csavarhuzo fejekkel, 22 db muanyag dobozban// MTX",1664,"B","Active",9999,null,null,"No info","линк"]
[115875,"Kombinalt csavarhuzo SL6,0 / Ði2// SPARTA",269,"B","Active",9999,null,null,"No info","линк"]
[115889,"Univerzalis csavarhuzo keszlet, 8 db, CRV // MTX",1770,"B","Active",9999,null,null,"No info","линк"]
[115899,"Set surubelnite pt mecanica fina, aparate mobile, 8 buc. Crv// MATRIX",1821,"B","Active",9999,null,null,"No info","линк"]
[117517,"Csavarhúzó \"Point\", SL6 х 38 mm, CrV, 2 komponensű fogantyú// Sparta",194,"B","Active",9999,null,null,"No info","линк"]
[117589,"Sula universal, patrata 6 x 100 mm// MATRIX",362,"B","Active",9999,null,null,"No info","линк"]
[117609,"Egyszeru lyukaszto 4x75 mm// MTX",263,"B","Active",9999,null,null,"No info","линк"]
[117647,"Csavarhúzó \"Point\", SL4,0 х 150 mm, 2 komponensű fogantyú// Sparta",316,"B","Active",9999,null,null,"No info","линк"]
[117667,"Screwdriver \"Point\", SL5,0 х 100 mm, 2 component handle// Sparta",308,"B","Active",9999,null,null,"No info","линк"]
[117687,"Csavarhúzó \"Point\", SL6,0 õ 100 mm, 2 komponensű fogantyú// Sparta",307,"B","Active",9999,null,null,"No info","линк"]
[117697,"Csavarhúzó \"Point\", SL6,0 х 150 mm, 2 komponensű fogantyú// Sparta",428,"B","Active",9999,null,null,"No info","линк"]
[117707,"Csavarhúzó \"Point\", SL8,0 х 150 mm, 2 komponensű fogantyú// Sparta",540,"B","Active",9999,null,null,"No info","линк"]
[117727,"Csavarhúzó \"Point\", PH2 õ 38 mm, 2 komponensű fogantyú// Sparta",224,"B","Active",9999,null,null,"No info","линк"]
[117747,"Csavarhuzo \"Point\", PH0 х 100 mm, 2 komponensu fogantyu// Sparta",209,"B","Active",9999,null,null,"No info","линк"]
[117757,"Csavarhuzo \"Point\", PH1 х 100 mm, 2 komponensu fogantyu// Sparta",308,"B","Active",9999,null,null,"No info","линк"]
[117767,"Csavarhúzó \"Point\", PH1 х 150 mm, 2 komponensű fogantyú// Sparta",326,"B","Active",9999,null,null,"No info","линк"]
[117787,"Csavarhúzó \"Point\", PH2 х 100 mm, 2 komponensű fogantyú// Sparta",311,"B","Active",9999,null,null,"No info","линк"]
[117807,"Point csavarhúzó, PH2 õ 150 mm, 2 komponensű fogantyú// Sparta",336,"B","Active",9999,null,null,"No info","линк"]
[117837,"Precíziós csavarhúzó készlet, 16 db.// Sparta\n",1185,"B","Active",9999,null,null,"No info","линк"]
[117889,"Fej megszoritoval d=12mm  L=45mm,2db//MTX",338,"B","Active",9999,null,null,"No info","линк"]
[117899,"Fej megszoritoval d=13mm  L=45mm,2db//MTX",354,"B","Active",9999,null,null,"No info","линк"]
[117909,"Fej megszoritoval d=12mm  L=65mm,2db//MTX",403,"B","Active",9999,null,null,"No info",{"$f":"HYPERLINK(L1140,\"линк\")","v":"линк"}]
[117919,"Fej megszoritoval d=13mm  L=65mm,2db//MTX",505,"B","Active",9999,null,null,"No info","линк"]
[117929,"Adaptor magnetic pentru biti hexagonal, 1шт// MATRIX",269,"B","Active",9999,null,null,"No info","линк"]
[119489,"Profi csavarhuzo, Pz0x75 mm, SVCM, ket komponensu nyel// MTX",456,"B","Active",9999,null,null,"No info","линк"]
[119589,"Profi csavarhuzo, SL 4,0 x 75 mm, SVCM, ket komponensu nyel// MTX",592,"B","Active",9999,null,null,"No info","линк"]
[119749,"Profi csavarhuzo, SL 6,5 x 200 mm, SVCM, ket komponensu nyel// MTX",914,"B","Active",9999,null,null,"No info","линк"]
[119789,"Profi csavarhuzo, SL 8,0 x 150 mm, SVCM, ket komponensu nyel// MTX",1144,"B","Active",9999,null,null,"No info","линк"]
[119809,"Profi csavarhuzo, SL 8,0 x 175 mm, SVCM, ket komponensu nyel// MTX",1197,"B","Active",9999,null,null,"No info","линк"]
[120079,"Euro csavarhuzo, SL5.0 x 150 mm,CrV, harom komponensu nyel// MTX MASTER",953,"B","Active",9999,null,null,"No info","линк"]
[120249,"Euro csavarhuzo, PH0 x 100 mm,CrV, harom komponensu nyel// MTX MASTER",630,"B","Active",9999,null,null,"No info","линк"]
[120279,"Euro csavarhuzo, Ph1 x 150 mm,CrV, harom komponensu nyel// MTX MASTER",953,"B","Active",9999,null,null,"No info","линк"]
[123059,"Torx fenyes rovid T10-T50,  CrV  /  9db// MTX",977,"B","Active",9999,null,null,"No info","линк"]
[123069,"Torx fenyes hosszu T10-T50,  CrV / 9db// MTX",1134,"B","Active",9999,null,null,"No info","линк"]
[123079,"Torx fenyes extra-hosszu T10-T50,  CrV / 9db// MTX",1342,"B","Active",9999,null,null,"No info","линк"]
[123129,"Rovidkulcs szett, 9 db T10,15,20,25,27,30,40,45,50,  CrV// MTX",1633,"B","Active",9999,null,null,"No info","линк"]
[123139,"TORX hosszukulcs szett, T10,15,20,25,27,30,40,45,50, CrV 9 db// MTX",2523,"B","Active",9999,null,null,"No info","линк"]
[123447,"HEX key, 12mm, 45x, nickel// MTX",767,"B","Active",9999,null,null,"No info","линк"]
[129149,"Szigetelt csavarhuzo, SL3.0x80 mm, max. 1000 V-ig, ket komponensu nyel//MTX PROFESSIONAL",735,"B","Active",9999,null,null,"No info","линк"]
[129169,"Szigetelt csavarhuzo, SL4.0x100 mm, max. 1000 V-ig, ket komponensu nyel//MTX PROFESSIONAL",910,"B","Active",9999,null,null,"No info","линк"]
[129189,"Szigetelt csavarhuzo, SL5.5x125 mm, max. 1000 V-ig, ket komponensu nyel//MTX PROFESSIONAL",986,"B","Active",9999,null,null,"No info","линк"]
[129209,"Szigetelt csavarhuzo, SL6.5x150 mm, max. 1000 V-ig, ket komponensu nyel//MTX PROFESSIONAL",1049,"B","Active",9999,null,null,"No info","линк"]
[129249,"Szigetelt csavarhuzo, PH0x75 mm, max. 1000 V-ig, ket komponensu nyel//MTX PROFESSIONAL",735,"B","Active",9999,null,null,"No info","линк"]
[129269,"Szigetelt csavarhuzo, PH1x75 mm, max. 1000 V-ig, ket komponensu nyel//MTX PROFESSIONAL",829,"B","Active",9999,null,null,"No info","линк"]
[129289,"Szigetelt csavarhuzo, PH2x100 mm, max. 1000 V-ig, ket komponensu nyel//MTX PROFESSIONAL",986,"B","Active",9999,null,null,"No info","линк"]
[130415,"Voltage tester 145 mm, 100-500 V//MTX",206,"B","Active",9999,null,null,"No info","линк"]
[130805,"Voltage Tester 12-220V, LCD display// SPARTA",259,"B","Active",9999,null,null,"No info","линк"]
[130855,"Voltage Tester 12-220V, LCD display with neon lamp// SPARTA",261,"B","Active",9999,null,null,"No info","линк"]
[131109,"Hatlapfeju hajtocsavar 10mm , CrV, 1/2\", krom// MTX MASTER",395,"B","Active",9999,null,null,"No info","линк"]
[131119,"Hatlapfeju hajtocsavar 11mm , CrV, 1/2\", krom// MTX MASTER",395,"B","Active",9999,null,null,"No info","линк"]
[131129,"Hatlapfeju hajtocsavar 12mm , CrV, 1/2\", krom// MTX MASTER",395,"B","Active",9999,null,null,"No info","линк"]
[131139,"Hatlapfeju hajtocsavar 13mm , CrV, 1/2\", krom// MTX MASTER",395,"B","Active",9999,null,null,"No info","линк"]
[131149,"Hatlapfeju hajtocsavar 14mm , CrV, 1/2\", krom// MTX MASTER",395,"B","Active",9999,null,null,"No info","линк"]
[131159,"Hatlapfeju hajtocsavar 15mm , CrV, 1/2\", krom// MTX MASTER",395,"B","Active",9999,null,null,"No info","линк"]
[131169,"Hatlapfeju hajtocsavar 16mm , CrV, 1/2\", krom// MTX MASTER",395,"B","Active",9999,null,null,"No info","линк"]
[131179,"Hatlapfeju hajtocsavar 17mm , CrV, 1/2\", krom// MTX MASTER",403,"B","Active",9999,null,null,"No info","линк"]
[131189,"Hatlapfeju hajtocsavar 18mm , CrV, 1/2\", krom// MTX MASTER",481,"B","Active",9999,null,null,"No info","линк"]
[131199,"Hatlapfeju hajtocsavar 19mm , CrV, 1/2\", krom// MTX MASTER",491,"B","Active",9999,null,null,"No info","линк"]
[131209,"Hatlapfeju hajtocsavar 20mm , CrV, 1/2\", krom// MTX MASTER",491,"B","Active",9999,null,null,"No info","линк"]
[131219,"Hatlapfeju hajtocsavar 21mm , CrV, 1/2\", krom// MTX MASTER",491,"B","Active",9999,null,null,"No info","линк"]
[131229,"Hatlapfeju hajtocsavar 22mm , CrV, 1/2\", krom// MTX MASTER",576,"B","Active",9999,null,null,"No info","линк"]
[131239,"Hatlapfeju hajtocsavar 23mm , CrV, 1/2\", krom// MTX MASTER",639,"B","Active",9999,null,null,"No info","линк"]
[131249,"Hatlapfeju hajtocsavar 24mm , CrV, 1/2\", krom// MTX MASTER",660,"B","Active",9999,null,null,"No info","линк"]
[131279,"Hatlapfeju hajtocsavar 27mm , CrV, 1/2\", krom// MTX MASTER",851,"B","Active",9999,null,null,"No info","линк"]
[131309,"Hatlapfeju hajtocsavar 30mm , CrV, 1/2\", krom// MTX MASTER",1100,"B","Active",9999,null,null,"No info","линк"]
[131329,"Hatlapfeju hajtocsavar 32mm , CrV, 1/2\", krom// MTX MASTER",1148,"B","Active",9999,null,null,"No info","линк"]
[133519,"Fuzios professzionalis csavarhuzo keszlet, CrV, harom komponensu, csuszasmentes nyel, 6 db// MTX",2397,"B","Active",9999,null,null,"No info","линк"]
[133619,"Fuzios professzionalis csavarhuzo keszlet, ket komponensu nyel, 6 db, muanyag dobozban// MTX",1933,"B","Active",9999,null,null,"No info","линк"]
[133637,"Racsnis csavarhúzó bitekkel, foglalatokkal, 61 db, CrV// MTX",6010,"B","Active",9999,null,null,"No info","линк"]
[135099,"Szerszámkészlet, 1/2”,1/4”,CrV, műanyag doboz 94 db.// MTX",33987,"B","Active",9999,null,null,"No info","линк"]
[135119,"Szerszám készlet,1/2”,1/4”, CrV, 108 db.// MTX",36027,"B","Active",9999,null,null,"No info","линк"]
[135149,"Szerszámkészlet,1/2”,1/4”,CrV, műanyag tok 82 db.// MTX",36686,"B","Active",9999,null,null,"No info","линк"]
[135239,"Szerszámkészlet, 1/4”, CrV, műanyag tok 29 db.// MTX",9248,"B","Active",9999,null,null,"No info","линк"]
[135259,"Szerszámkészlet, 1/4”, CrV, műanyag tok 56 db.// MTX",11764,"B","Active",9999,null,null,"No info","линк"]
[135269,"Meghajto foglalat keszlet, 12 db, 1/2\", foglalatok: 10 - 24 mm, racsnis kulcs// MTX MASTER",13866,"B","Active",9999,null,null,"No info","линк"]
[135279,"Szerszàmkåszlet, 1/2”, CrV, muanyag tok 32 db.// MTX",26143,"B","Active",9999,null,null,"No info","линк"]
[135289,"Szerszámkészlet,1/2”,1/4”,CrV, műanyag doboz 76 db.// MTX",42946,"B","Active",9999,null,null,"No info","линк"]
[135299,"Szerszàmkåszlet,1/2”,1/4”,CrV, muanyag tok 89 db.// MTX",45398,"B","Active",9999,null,null,"No info","линк"]
[135347,"25db Gépész szerszámkészlet// Sparta",2877,"B","Active",9999,null,null,"No info","линк"]
[135369,"Meghajto foglalat keszlet, 20 db, 3/4\", foglalatok: 19 x 50 mm, fem doboz// MTX",45503,"B","Active",9999,null,null,"No info","линк"]
[135399,"Set unelte, 26 piese, 3/4\"-1\", 21-65 mm, trusa din plastic// MTX",67273,"B","Active",9999,null,null,"No info","линк"]
[135407,"6 DB SZERSZAM KESZLET// Sparta",3174,"B","Active",9999,null,null,"No info","линк"]
[135425,"2 db-os csavarhuzo szett// SPARTA",605,"B","Active",9999,null,null,"No info","линк"]
[135435,"Csavarhúzó készlet, PH, SL - 5, 2 db dielektromos csavarhúzó, 1 db 220V feszültségmérő, 8 db// Sparta",2716,"B","Active",9999,null,null,"No info","линк"]
[135519,"Szerszamkeszlet, 58 db, 1/2\", megerositett tartodoboz, CrV, S2// MTX",44349,"B","Active",9999,null,null,"No info","линк"]
[135579,"Meghajto foglalat keszlet, 1/2\", hatoldalu, 10 db, 10 to 22 mm, CrV// MTX",5250,"B","Active",9999,null,null,"No info",{"$f":"HYPERLINK(L1204,\"линк\")","v":"линк"}]
[135589,"Meghajto foglalat keszlet, 3/8\", hatoldalu, 10 db, 8 to 19 mm, CrV// MTX",3942,"B","Active",9999,null,null,"No info","линк"]
[135619,"Szerszamkeszlet, 22db// MTX",5936,"B","Active",9999,null,null,"No info","линк"]
[135629,"Szerszamkeszlet, 12 db// MTX",9662,"B","Active",9999,null,null,"No info","линк"]
[135879,"Szerszamkeszlet 1/4\", 1/2\", muanyag tartodoboz,117 db// MTX",35056,"B","Active",9999,null,null,"No info","линк"]
[135909,"Hatlapfeju hajtocsavar szett, hosszitott, 10 db 1/2\",CrV, 10-22mm// MTX",8351,"B","Active",9999,null,null,"No info","линк"]
[135919,"Hatlapfeju hajtocsavar szett, hosszitott, 10 db 3/8\" ,CrV, 8-19mm// MTX",5787,"B","Active",9999,null,null,"No info","линк"]
[135929,"Hatlapfeju hajtocsavar szett, hosszitott, 10 db 1/4\", CrV, 4-13mm// MTX",3955,"B","Active",9999,null,null,"No info","линк"]
[135949,"Hatoldalu meghajto szett, 10 db 1/4\", CrV , 4-13 mm// MTX",3234,"B","Active",9999,null,null,"No info","линк"]
[135969,"Hatoldalu meghajto szett, 10 db 1/2\", CrV, 10-24mm// MTX",6490,"B","Active",9999,null,null,"No info","линк"]
[136769,"Hatoldalu meghajto 8mm, Cr-V, 1/2', krom// MTX MASTER",373,"B","Active",9999,null,null,"No info","линк"]
[136789,"Hatoldalu meghajto 9mm, Cr-V, 1/2', krom// MTX MASTER",432,"B","Active",9999,null,null,"No info","линк"]
[136809,"Hatoldalu meghajto 10mm, Cr-V, 1/2', krom// MTX MASTER",432,"B","Active",9999,null,null,"No info","линк"]
[136829,"Hatoldalu meghajto 11mm, Cr-V, 1/2', krom// MTX MASTER",373,"B","Active",9999,null,null,"No info","линк"]
[136849,"Hatoldalu meghajto 12mm, Cr-V, 1/2', krom// MTX MASTER",373,"B","Active",9999,null,null,"No info","линк"]
[136869,"Hatoldalu meghajto 13mm, Cr-V, 1/2', krom// MTX MASTER",373,"B","Active",9999,null,null,"No info","линк"]
[136889,"Hatoldalu meghajto 14mm, Cr-V, 1/2', krom// MTX MASTER",373,"B","Active",9999,null,null,"No info","линк"]
[136899,"Hatoldalu meghajto 15mm, Cr-V, 1/2', krom// MTX MASTER",373,"B","Active",9999,null,null,"No info","линк"]
[136919,"Hatoldalu meghajto 19mm, Cr-V, 1/2', krom// MTX MASTER",438,"B","Active",9999,null,null,"No info","линк"]
[136939,"Hatoldalu meghajto 24mm, Cr-V, 1/2', krom// MTX MASTER",623,"B","Active",9999,null,null,"No info","линк"]
[136979,"Hatoldalu meghajto 30mm, Cr-V, 1/2', krom// MTX MASTER",1373,"B","Active",9999,null,null,"No info","линк"]
[136989,"Hatoldalu meghajto 32mm, Cr-V, 1/2', krom// MTX MASTER",1181,"B","Active",9999,null,null,"No info","линк"]
[137109,"Cso alaku kulcs 8x10 mm, feher cink// MTX",263,"B","Active",9999,null,null,"No info","линк"]
[137129,"Cso alaku kulcs 10x12 mm, feher cink// MTX",356,"B","Active",9999,null,null,"No info","линк"]
[137149,"Cso alaku kulcs 12x13 mm, feher cink// MTX",356,"B","Active",9999,null,null,"No info","линк"]
[137169,"Cso alaku kulcs 14x15 mm, feher cink// MTX",424,"B","Active",9999,null,null,"No info","линк"]
[137199,"7 db-os cso csavarkulcs keszlet//MTX",2847,"B","Active",9999,null,null,"No info","линк"]
[137259,"Cso alaku kulcs szett, 9 db // MTX",3722,"B","Active",9999,null,null,"No info","линк"]
[137405,"Cso alaku kulcs szett, 8-17 mm, Emelovas, cink boritas, 6 db//SPARTA",1770,"B","Active",9999,null,null,"No info","линк"]
[138305,"Cheie pentru bujii, 16 mm, cu cardan// SPARTA",788,"B","Active",9999,null,null,"No info","линк"]
[138405,"Gyujtogyertya kulcs 21 mm konyokkel// SPARTA",831,"B","Active",9999,null,null,"No info","линк"]
[139209,"Csavarhuzo-nyel 1/4\", 150mm// MTX",648,"B","Active",9999,null,null,"No info","линк"]
[139709,"Bovito rud 100mm 1/4\", CrV, csiszolt krom// MTX MASTER",617,"B","Active",9999,null,null,"No info","линк"]
[139719,"Bovito rud 75mm 3/8\", CrV, csiszolt krom// MTX MASTER",829,"B","Active",9999,null,null,"No info","линк"]
[139729,"Bovito rud 125mm 1/2\", CrV, csiszolt krom// MTX MASTER",1045,"B","Active",9999,null,null,"No info","линк"]
[139739,"Bovito rud 250mm 1/2\", CrV, csiszolt krom// MTX MASTER",1924,"B","Active",9999,null,null,"No info","линк"]
[139799,"Bovito rud 125 mm 1/2\", CrV, csiszolt krom// MTX MASTER",1544,"B","Active",9999,null,null,"No info","линк"]
[139869,"Csusztathato emelovas, 115mm 1/4\", CrV, krom// MTX MASTER",523,"B","Active",9999,null,null,"No info","линк"]
[139889,"Csusztathato emelovas, 250 mm 1/2\", CrV, krom// MTX MASTER",2101,"B","Active",9999,null,null,"No info","линк"]
[139939,"Univerzalis konyok 1/4\", CrV, csiszolt krom// MTX MASTER",619,"B","Active",9999,null,null,"No info","линк"]
[139949,"Univerzalis konyok 3/8\", CrV, csiszolt krom// MTX MASTER",792,"B","Active",9999,null,null,"No info","линк"]
[139959,"Univerzalis konyok 1/2\", CrV, csiszolt krom// MTX MASTER",1723,"B","Active",9999,null,null,"No info","линк"]
[140109,"Racsnis kulcs kapcsoloval, 1/4\"// MTX MASTER",2132,"B","Active",9999,null,null,"No info","линк"]
[140139,"Racsnis kulcs kapcsoloval, 3/8\"// MTX MASTER",2780,"B","Active",9999,null,null,"No info","линк"]
[140159,"Racsnis kulcs kapcsoloval, 1/2\"// MTX MASTER",3458,"B","Active",9999,null,null,"No info","линк"]
[140669,"Emelovas, 1/2\", 380 mm, konyokkel, CRV krom// MTX MASTER",4014,"B","Active",9999,null,null,"No info","линк"]
[140909,"Racsnis kulcs, ket komponensu nyel, 1/2\", CrV, 72 fogas, gyors alaphelyzetbe allitas// MTX",7382,"B","Active",9999,null,null,"No info","линк"]
[140929,"Racsnis kulcs, ket komponensu nyel, 3/8\", CrV, 72 fogas, gyors alaphelyzetbe allitas// MTX",5407,"B","Active",9999,null,null,"No info","линк"]
[140949,"Racsnis kulcs, ket komponensu nyel, 1/4\", CrV, 72 fogas, gyors alaphelyzetbe allitas// MTX",4965,"B","Active",9999,null,null,"No info","линк"]
[141609,"Nyomatekkulcs, 42 - 210 Nm, 1/2\", CrV, kromozott// MTX",14083,"B","Active",9999,null,null,"No info","линк"]
[142379,"L alaku kerekkulcs, 1/2\", bovitheto, 17 x 19 mm// MTX",3126,"B","Active",9999,null,null,"No info","линк"]
[142449,"Kerekkulcs, 17 x 19 x 21 x 22 mm, kereszt, megerositett, vastagsag 16 mm// MTX PROFESSIONAL",3645,"B","Active",9999,null,null,"No info","линк"]
[142459,"Kerekkulcs, 17 x 19 x 21 mm lekerekitett 1/2\", kereszt, megerositett, vastagsag 16 mm// MTX PROFESSIONAL",3531,"B","Active",9999,null,null,"No info","линк"]
[142479,"Kerekkulcs, 17 x 19 x 21 mm lekerekitett 1/2\", kereszt, vastagsag 16 mm// MTX",3342,"B","Active",9999,null,null,"No info","линк"]
[142589,"Keresztkulcs 17x19x21 mm x1/2\", vastagság 14 mm// MTX",2366,"B","Active",9999,null,null,"No info","линк"]
[142599,"Keresztkulcs 17x19x21x22mm, vastagság 14mm// MTX",2391,"B","Active",9999,null,null,"No info","линк"]
[142697,"Gyűrűs kulcs, ütés 24 mm// Stels",1988,"B","Active",9999,null,null,"No info","линк"]
[142717,"Gyurus villàskulcs, utås 27 mm// Stels",2186,"B","Active",9999,null,null,"No info","линк"]
[142737,"Gyűrűs kulcs, ütés 30 mm// Stels",2447,"B","Active",9999,null,null,"No info","линк"]
[142747,"Gyűrűs villáskulcs, ütés 32 mm// Stels",2743,"B","Active",9999,null,null,"No info","линк"]
[142757,"Gyurus villàskulcs, utås 36 mm// Stels",3353,"B","Active",9999,null,null,"No info","линк"]
[142767,"Gyűrűs kulcs, ütés 41 mm// Stels",4347,"B","Active",9999,null,null,"No info","линк"]
[142777,"Gyűrűs villáskulcs, ütés 46 mm// Stels",4973,"B","Active",9999,null,null,"No info","линк"]
[142787,"Gyűrűs villáskulcs, ütés 50 mm// Stels",5658,"B","Active",9999,null,null,"No info","линк"]
[142797,"Gyűrűs villáskulcs, ütés 55 mm// Stels",5798,"B","Active",9999,null,null,"No info",{"$f":"HYPERLINK(L1268,\"линк\")","v":"линк"}]
[142807,"Ütő kulcs 60 mm// Stels",7430,"B","Active",9999,null,null,"No info","линк"]
[142959,"Kerekkulcs, 24 x 27 mm, 350 mm, kettos vegu, vastagsag 26 mm// MTX",5193,"B","Active",9999,null,null,"No info","линк"]
[142969,"Kerekkulcs, 30 x 32 mm, 350 mm, kettos vegu, vastagsag 26 mm// MTX",5313,"B","Active",9999,null,null,"No info","линк"]
[143037,"Dupla villáskulcs 8x10 mm, sárga cink// Sparta",204,"B","Active",9999,null,null,"No info","линк"]
[143057,"Dupla villáskulcs 12x13 mm, sárga cink// Sparta",232,"B","Active",9999,null,null,"No info","линк"]
[143077,"Dupla villáskulcs 13x17mm, sárga cink// Sparta",307,"B","Active",9999,null,null,"No info","линк"]
[143147,"Dupla villáskulcs 24x27 mm, sárga cink// Sparta",765,"B","Active",9999,null,null,"No info","линк"]
[143157,"Dupla villáskulcs 30x32 mm, sárga cink// Sparta",944,"B","Active",9999,null,null,"No info","линк"]
[143249,"Dupla villáskulcs, 12 õ 13 mm, CrV, fekete foszfáttal// MTX",314,"B","Active",9999,null,null,"No info","линк"]
[143269,"Dupla villáskulcs, 14 x 15 mm, CrV, fekete foszfáttal// MTX",388,"B","Active",9999,null,null,"No info","линк"]
[143289,"Dupla villáskulcs, 17 x 19 mm, CrV, fekete foszfáttal// MTX",475,"B","Active",9999,null,null,"No info","линк"]
[143329,"Dupla villáskulcs, 30 x 32 mm, CrV, fekete foszfáttal// MTX",1611,"B","Active",9999,null,null,"No info","линк"]
[144365,"Kettos villaskulcs 8 x 10 mm, krom// SPARTA",187,"B","Active",9999,null,null,"No info","линк"]
[144395,"Kettos villaskulcs 10 x 11 mm, krom// SPARTA",198,"B","Active",9999,null,null,"No info","линк"]
[144475,"Kettos villaskulcs 12 x 13 mm, krom// SPARTA",216,"B","Active",9999,null,null,"No info","линк"]
[144515,"Kettos villaskulcs 13 x 17mm, krom// SPARTA",295,"B","Active",9999,null,null,"No info","линк"]
[144645,"Kettos villaskulcs 19 x 22 mm, krom// SPARTA",483,"B","Active",9999,null,null,"No info","линк"]
[144715,"Kettos villaskulcs 22 x 24 mm, krom// SPARTA",599,"B","Active",9999,null,null,"No info","линк"]
[144775,"Kettos villaskulcs 24 x 27 mm, krom// SPARTA",711,"B","Active",9999,null,null,"No info","линк"]
[145049,"Kettos vegu racsnis kulcs, 14 x 15 mm, CrV, csiszolt krom// MTX PROFESSIONAL",2002,"B","Active",9999,null,null,"No info","линк"]
[146227,"Gyűrűs kulcs 13 x17 mm, sárga cink// Sparta",655,"B","Active",9999,null,null,"No info","линк"]
[146287,"Gyűrűs kulcs 19 x 22 mm, sárga cink// Sparta",949,"B","Active",9999,null,null,"No info","линк"]
[146307,"Gyűrűs kulcs 20 x 22 mm, sárga cink// Sparta",970,"B","Active",9999,null,null,"No info","линк"]
[146387,"Gyűrűs kulcs 30 x32 mm, sárga cink// Sparta",2180,"B","Active",9999,null,null,"No info","линк"]
[147365,"Hajlitott vegu csillagkulcs 8 x 10 mm, krom// SPARTA",505,"B","Active",9999,null,null,"No info","линк"]
[147395,"Hajlitott vegu csillagkulcs10 x 11 mm, krom// SPARTA",515,"B","Active",9999,null,null,"No info","линк"]
[147475,"Hajlitott vegu csillagkulcs12 x 13 mm, krom// SPARTA",554,"B","Active",9999,null,null,"No info","линк"]
[147535,"Hajlitott vegu csillagkulcs14 x 15 mm, krom// SPARTA",613,"B","Active",9999,null,null,"No info","линк"]
[147615,"Hajlitott vegu csillagkulcs17 x 19 mm, krom// SPARTA",827,"B","Active",9999,null,null,"No info","линк"]
[148019,"Kombinalt racsnis kulcs, krom, CrV, 8mm // MTX PROFESSIONAL",1177,"B","Active",9999,null,null,"No info","линк"]
[148029,"Kombinalt racsnis kulcs, krom, CrV, 9mm // MTX PROFESSIONAL",1183,"B","Active",9999,null,null,"No info","линк"]
[148039,"Kombinalt racsnis kulcs, krom, CrV, 10mm // MTX PROFESSIONAL",1258,"B","Active",9999,null,null,"No info","линк"]
[148049,"Kombinalt racsnis kulcs, krom, CrV, 11mm // MTX PROFESSIONAL",1350,"B","Active",9999,null,null,"No info","линк"]
[148059,"Kombinalt racsnis kulcs, krom, CrV, 12mm // MTX PROFESSIONAL",1354,"B","Active",9999,null,null,"No info","линк"]
[148069,"Kombinalt racsnis kulcs, krom, CrV, 13mm // MTX PROFESSIONAL",1558,"B","Active",9999,null,null,"No info","линк"]
[148079,"Kombinalt racsnis kulcs, krom, CrV, 14mm// MTX PROFESSIONAL",1601,"B","Active",9999,null,null,"No info","линк"]
[148089,"Kombinalt racsnis kulcs, krom, CrV, 15mm // MTX PROFESSIONAL",1686,"B","Active",9999,null,null,"No info","линк"]
[148099,"Kombinalt racsnis kulcs, krom, CrV, 16mm // MTX PROFESSIONAL",1851,"B","Active",9999,null,null,"No info","линк"]
[148109,"Kombinalt racsnis kulcs, krom, CrV, 17mm // MTX PROFESSIONAL",1932,"B","Active",9999,null,null,"No info","линк"]
[148119,"Kombinalt racsnis kulcs, krom, CrV, 18mm // MTX PROFESSIONAL",2106,"B","Active",9999,null,null,"No info","линк"]
[148129,"Kombinalt racsnis kulcs, krom, CrV, 19mm // MTX PROFESSIONAL",2238,"B","Active",9999,null,null,"No info","линк"]
[148609,"Cheie combinata cu clichet, 8 mm, CrV lustruita// MTX PROFESSIONAL",1228,"B","Active",9999,null,null,"No info","линк"]
[148629,"Cheie combinata cu clichet, 10 mm, CrV lustruita// MTX PROFESSIONAL",1330,"B","Active",9999,null,null,"No info","линк"]
[148649,"Cheie combinata cu clichet, 12 mm, CrV lustruita// MTX PROFESSIONAL",1444,"B","Active",9999,null,null,"No info","линк"]
[148659,"Cheie combinata cu clichet, 13 mm, CrV lustruita// MTX PROFESSIONAL",1491,"B","Active",9999,null,null,"No info","линк"]
[148699,"Cheie combinata cu clichet, 17 mm, CrV lustruita// MTX PROFESSIONAL",1849,"B","Active",9999,null,null,"No info","линк"]
[148719,"Cheie combinata cu clichet, 19 mm, CrV lustruita// MTX PROFESSIONAL",2266,"B","Active",9999,null,null,"No info","линк"]
[149049,"Kombinált villáskulcs, 9 mm, CrV, fekete foszfáttal// MTX",307,"B","Active",9999,null,null,"No info","линк"]
[149059,"Kombinált villáskulcs, 10 mm, CrV, fekete foszfáttal// MTX",318,"B","Active",9999,null,null,"No info","линк"]
[149079,"Kombinált villáskulcs, 12 mm, CrV, fekete foszfáttal// MTX",338,"B","Active",9999,null,null,"No info","линк"]
[149089,"Kombinált villáskulcs, 13 mm, CrV, fekete foszfáttal// MTX",367,"B","Active",9999,null,null,"No info","линк"]
[149109,"Kombinált villáskulcs, 15 mm, CrV, fekete foszfáttal// MTX",469,"B","Active",9999,null,null,"No info","линк"]
[149119,"Kombinált villáskulcs, 17 mm, CrV, fekete foszfáttal// MTX",512,"B","Active",9999,null,null,"No info","линк"]
[149129,"Kombinált villáskulcs, 19 mm, CrV, fekete foszfáttal// MTX",643,"B","Active",9999,null,null,"No info","линк"]
[149139,"Kombinált villáskulcs, 22 mm, CrV, fekete foszfáttal// MTX",1135,"B","Active",9999,null,null,"No info","линк"]
[149149,"Kombinált villáskulcs, 24 mm, CrV, fekete foszfáttal// MTX",1172,"B","Active",9999,null,null,"No info","линк"]
[149159,"Kombinált villáskulcs, 27 mm, CrV, fekete foszfáttal// MTX",1647,"B","Active",9999,null,null,"No info","линк"]
[149169,"Kombinált villáskulcs, 30 mm, CrV, fekete foszfáttal// MTX",2013,"B","Active",9999,null,null,"No info","линк"]
[149179,"Kombinált villáskulcs, 32 mm, CrV, fekete foszfáttal// MTX",2314,"B","Active",9999,null,null,"No info","линк"]
[149767,"Kombinált villáskulcs 10 mm, sárga cink// Sparta",212,"B","Active",9999,null,null,"No info","линк"]
[149797,"Kombinált villáskulcs 13 mm, sárga cink// Sparta",295,"B","Active",9999,null,null,"No info","линк"]
[149887,"Kombinált villáskulcs 30 mm, sárga cink// Sparta",1822,"B","Active",9999,null,null,"No info","линк"]
[150335,"Kombinalt kulcs 6 mm, krom// SPARTA",207,"B","Active",9999,null,null,"No info","линк"]
[150355,"Kombinalt kulcs 8 mm, krom// SPARTA",206,"B","Active",9999,null,null,"No info",{"$f":"HYPERLINK(L1332,\"линк\")","v":"линк"}]
[150375,"Kombinalt kulcs 10 mm, krom// SPARTA",252,"B","Active",9999,null,null,"No info","линк"]
[150405,"Kombinalt kulcs 13 mm, krom// SPARTA",318,"B","Active",9999,null,null,"No info","линк"]
[150425,"Kombinalt kulcs 15 mm, krom// SPARTA",356,"B","Active",9999,null,null,"No info","линк"]
[150445,"Kombinalt kulcs 17 mm, krom// SPARTA",474,"B","Active",9999,null,null,"No info","линк"]
[150465,"Kombinalt kulcs 19 mm, krom// SPARTA",513,"B","Active",9999,null,null,"No info","линк"]
[150495,"Kombinalt kulcs 22 mm, krom// SPARTA",776,"B","Active",9999,null,null,"No info","линк"]
[150525,"Kombinalt kulcs 24 mm, krom// SPARTA",1234,"B","Active",9999,null,null,"No info","линк"]
[151029,"Kombinalt kulcs, 6 mm, CrV, fenyes krom// MTX",301,"B","Active",9999,null,null,"No info","линк"]
[151039,"Kombinalt kulcs, 7 mm, CrV, fenyes krom// MTX",281,"B","Active",9999,null,null,"No info","линк"]
[151049,"Kombinalt kulcs, 8 mm, CrV, fenyes krom// MTX",348,"B","Active",9999,null,null,"No info","линк"]
[151059,"Kombinalt kulcs, 9 mm, CrV, fenyes krom// MTX",336,"B","Active",9999,null,null,"No info","линк"]
[151069,"Kombinalt kulcs, 10 mm, CrV, fenyes krom// MTX",389,"B","Active",9999,null,null,"No info","линк"]
[151079,"Kombinalt kulcs, 11 mm, CrV, fenyes krom// MTX",405,"B","Active",9999,null,null,"No info","линк"]
[151089,"Kombinalt kulcs, 12 mm, CrV, fenyes krom// MTX",436,"B","Active",9999,null,null,"No info","линк"]
[151099,"Kombinalt kulcs, 13 mm, CrV, fenyes krom// MTX",476,"B","Active",9999,null,null,"No info","линк"]
[151109,"Kombinalt kulcs, 14 mm, CrV, fenyes krom// MTX",501,"B","Active",9999,null,null,"No info","линк"]
[151119,"Kombinalt kulcs, 15 mm, CrV, fenyes krom// MTX",615,"B","Active",9999,null,null,"No info","линк"]
[151139,"Kombinalt kulcs, 17 mm, CrV, fenyes krom// MTX",719,"B","Active",9999,null,null,"No info","линк"]
[151159,"Kombinalt kulcs, 19 mm, CrV, fenyes krom// MTX",884,"B","Active",9999,null,null,"No info","линк"]
[151169,"Kombinalt kulcs, 20 mm, CrV, fenyes krom// MTX",1079,"B","Active",9999,null,null,"No info","линк"]
[151189,"Kombinalt kulcs, 22 mm, CrV, fenyes krom// MTX",1132,"B","Active",9999,null,null,"No info","линк"]
[151199,"Kombinalt kulcs, 24 mm, CrV, fenyes krom// MTX",1599,"B","Active",9999,null,null,"No info","линк"]
[151209,"Kombinalt kulcs, 27 mm, CrV, fenyes krom// MTX",1928,"B","Active",9999,null,null,"No info","линк"]
[151219,"Kombinalt kulcs, 32 mm, CrV, fenyes krom// MTX",2837,"B","Active",9999,null,null,"No info","линк"]
[151509,"Kombinalt kulcs, 6 mm, CrV, csiszolt// MTX",228,"B","Active",9999,null,null,"No info","линк"]
[151519,"Kombinalt kulcs, 7 mm, CrV, csiszolt// MTX",238,"B","Active",9999,null,null,"No info","линк"]
[151529,"Kombinalt kulcs, 8 mm, CrV, csiszolt// MTX",263,"B","Active",9999,null,null,"No info","линк"]
[151539,"Kombinalt kulcs, 9 mm, CrV, csiszolt// MTX",267,"B","Active",9999,null,null,"No info","линк"]
[151549,"Kombinalt kulcs, 10 mm, CrV, csiszolt// MTX",279,"B","Active",9999,null,null,"No info","линк"]
[151559,"Kombinalt kulcs, 11 mm, CrV, csiszolt// MTX",297,"B","Active",9999,null,null,"No info","линк"]
[151569,"Kombinalt kulcs, 12 mm, CrV, csiszolt// MTX",320,"B","Active",9999,null,null,"No info","линк"]
[151579,"Kombinalt kulcs, 13 mm, CrV, csiszolt// MTX",358,"B","Active",9999,null,null,"No info","линк"]
[151589,"Kombinalt kulcs, 14 mm, CrV, csiszolt// MTX",405,"B","Active",9999,null,null,"No info","линк"]
[151599,"Kombinalt kulcs, 15 mm, CrV, csiszolt// MTX",466,"B","Active",9999,null,null,"No info","линк"]
[151609,"Kombinált villáskulcs, 16 mm, CrV, polírozott// MTX",706,"B","Active",9999,null,null,"No info","линк"]
[151619,"Kombinalt kulcs, 17 mm, CrV, csiszolt// MTX",542,"B","Active",9999,null,null,"No info","линк"]
[151629,"Kombinált villáskulcs, 18 mm, CrV, polírozott// MTX",885,"B","Active",9999,null,null,"No info","линк"]
[151639,"Kombinalt kulcs, 19 mm, CrV, csiszolt// MTX",660,"B","Active",9999,null,null,"No info","линк"]
[151649,"Kombinalt kulcs, 20 mm, CrV, csiszolt// MTX",794,"B","Active",9999,null,null,"No info","линк"]
[151659,"Kombinált villáskulcs, 21 mm, CrV, polírozott// MTX",1158,"B","Active",9999,null,null,"No info","линк"]
[151669,"Kombinalt kulcs, 22 mm, CrV, csiszolt// MTX",845,"B","Active",9999,null,null,"No info","линк"]
[151679,"Kombinalt kulcs, 32 mm, CrV, csiszolt// MTX",2480,"B","Active",9999,null,null,"No info","линк"]
[151699,"Kombinált villáskulcs, 24 mm, CrV, polírozott// MTX",1651,"B","Active",9999,null,null,"No info","линк"]
[151759,"Kombinàlt villàskulcs, 36 mm, CrV, polirozott// MTX",8529,"B","Active",9999,null,null,"No info","линк"]
[152209,"Dupla villáskulcs készlet, 6 - 19 mm, 6 db, CrV, fekete foszfáttal// MTX",1964,"B","Active",9999,null,null,"No info","линк"]
[152229,"Dupla villáskulcs készlet, 6 - 24 mm, 8 db, CrV, fekete foszfáttal// MTX",3107,"B","Active",9999,null,null,"No info","линк"]
[152305,"Villaskulcss szett, CrV, krom, 6x17 mm, 6 db// SPARTA",1348,"B","Active",9999,null,null,"No info","линк"]
[152319,"Villaskulcss szett, CrV, krom, 6x17 mm, 6 db// MTX",2148,"B","Active",9999,null,null,"No info","линк"]
[152369,"Villaskulcss szett, elliptikus, tukros hatasura csiszolva, 6-17 mm , CrV, 6 db // MTX MASTER",2645,"B","Active",9999,null,null,"No info","линк"]
[152389,"Villaskulcss szett, elliptikus, tukros hatasura csiszolva, 6-22 mm , CrV, 8 db // MTX MASTER",4509,"B","Active",9999,null,null,"No info","линк"]
[152429,"Villaskulcss szett, elliptikus, tukros hatasura csiszolva, 6-32 mm , CrV, 12 db // MTX MASTER",10249,"B","Active",9999,null,null,"No info","линк"]
[152755,"Villaskulcs szett, 8 db, 6-22 mm, krom// SPARTA",2142,"B","Active",9999,null,null,"No info","линк"]
[152769,"Villaskulcss szett, CrV, csiszolt, 6x22 mm, 8 db // MTX",3364,"B","Active",9999,null,null,"No info","линк"]
[152945,"Villaskulcs szett, 12 db, 6-32 mm, krom// SPARTA",6982,"B","Active",9999,null,null,"No info","линк"]
[153305,"Csillagkulcs szett, 6 db, 6-17 mm, krom// SPARTA",2525,"B","Active",9999,null,null,"No info","линк"]
[153319,"Csillagkulcs szett, CrV, csiszolt krom, 6-17 mm, 6 db // MTX",3592,"B","Active",9999,null,null,"No info","линк"]
[153329,"Csillagkulcs szett, CrV, csiszolt krom, 6-22 mm, 8 db // MTX",5466,"B","Active",9999,null,null,"No info","линк"]
[153755,"Csillagkulcs szett, 8 db, 6-22 mm, krom// SPARTA",4663,"B","Active",9999,null,null,"No info","линк"]
[154029,"Kombinalt kulcs szett, 6 - 17 mm, CrV, fenyes veggel, 6 db // MTX",2260,"B","Active",9999,null,null,"No info","линк"]
[154089,"Kombinalt kulcs szett, 6 - 19 mm, CrV, fenyes veggel, 8 db // MTX",3853,"B","Active",9999,null,null,"No info","линк"]
[154109,"Kombinalt kulcs szett, 6 - 22 mm, CrV, fenyes veggel, 9 db // MTX",5048,"B","Active",9999,null,null,"No info","линк"]
[154129,"Kombinalt kulcs szett, 6 - 22 mm, CrV, fenyes veggel, 12 db // MTX",6038,"B","Active",9999,null,null,"No info",{"$f":"HYPERLINK(L1394,\"линк\")","v":"линк"}]
[154149,"Kombinalt kulcs szett, 6 - 17 mm, CrV, csiszolt, 6 db // MTX",1945,"B","Active",9999,null,null,"No info","линк"]
[154229,"Kombinalt kulcs szett, 6 - 19 mm, CrV, csiszolt, 8 db// MTX",3103,"B","Active",9999,null,null,"No info","линк"]
[154259,"Kombinalt kulcs szett, 6-32 mm, CrV, csiszolt, 25 db // MTX",22314,"B","Active",9999,null,null,"No info","линк"]
[154269,"Kombinalt kulcs szett, 6 - 22 mm, CrV, csiszolt, 12 db // MTX",5705,"B","Active",9999,null,null,"No info","линк"]
[154379,"Kombinált villáskulcs készlet, 8-17mm, 6 db// MTX",1981,"B","Active",9999,null,null,"No info","линк"]
[154389,"Kombinált villáskulcs készlet, 8-19 mm, 8 db.// MTX",2783,"B","Active",9999,null,null,"No info","линк"]
[154399,"Kombinált villáskulcs készlet, 6-22 mm, 12 db.// MTX",4289,"B","Active",9999,null,null,"No info","линк"]
[154419,"20 db-os Kombinált villáskulcs készlet, polírozott, 6-32 mm, CrV// MTX",19350,"B","Active",9999,null,null,"No info","линк"]
[154489,"Kombinált villáskulcs készlet, 8-19 mm, 8 db, CrV// MTX",2876,"B","Active",9999,null,null,"No info","линк"]
[154605,"Kombinalt kulcs szett, 8 db, 6-19 mm, krom// SPARTA",2460,"B","Active",9999,null,null,"No info","линк"]
[154719,"Kombinált villáskulcs készlet, 8 - 17 mm, CrV, 6 db, fekete foszfáttal// MTX",2248,"B","Active",9999,null,null,"No info","линк"]
[154739,"Kombinált villáskulcs készlet, 6 - 19 mm, CrV, 8 db, fekete foszfáttal// MTX",3136,"B","Active",9999,null,null,"No info","линк"]
[154759,"Kombinált villáskulcs készlet, 6 - 22 mm, CrV, 10 db, fekete foszfáttal// MTX",4797,"B","Active",9999,null,null,"No info","линк"]
[155019,"allithato csokulcs, 150 mm // MTX",1006,"B","Active",9999,null,null,"No info","линк"]
[155039,"allithato csokulcs, 200 mm // MTX",1358,"B","Active",9999,null,null,"No info","линк"]
[155059,"allithato csokulcs, 250 mm // MTX",1821,"B","Active",9999,null,null,"No info","линк"]
[155079,"allithato csokulcs, 300 mm // MTX",2511,"B","Active",9999,null,null,"No info","линк"]
[155099,"allithato csokulcs, 375 mm // MTX",4873,"B","Active",9999,null,null,"No info","линк"]
[155119,"allithato csokulcs, 450 mm // MTX",9475,"B","Active",9999,null,null,"No info","линк"]
[155169,"allithato csokulcs 150 mm, megfordithato pofa, ket komponensu nyel//MTX",1291,"B","Active",9999,null,null,"No info","линк"]
[155179,"allithato csokulcs, 200 mm, megfordithato pofa, ket komponensu nyel// MTX",1745,"B","Active",9999,null,null,"No info","линк"]
[155189,"allithato csokulcs, 250 mm, megfordithato pofa, ket komponensu nyel// MTX",2588,"B","Active",9999,null,null,"No info","линк"]
[155255,"allithato csokulcs, krom, 200 mm//SPARTA",1081,"B","Active",9999,null,null,"No info","линк"]
[155339,"Állítható csavarkulcs, vékony pofák, foszfátozott, 150 mm// MTX",2210,"B","Active",9999,null,null,"No info","линк"]
[155349,"Állítható csavarkulcs, vékony pofák, foszfátozott, 200 mm// MTX",3098,"B","Active",9999,null,null,"No info","линк"]
[155369,"Állítható csavarkulcs, vékony pofák, foszfátozott, 250 mm// MTX",4378,"B","Active",9999,null,null,"No info","линк"]
[155405,"allithato csokulcs, krom, 375 mm//SPARTA",3555,"B","Active",9999,null,null,"No info","линк"]
[155417,"Állítható csavarkulcs, 150 mm, kétkomponensű fogantyú// Sparta",1113,"B","Active",9999,null,null,"No info","линк"]
[155427,"Állítható csavarkulcs, 200 mm, kétkomponensű fogantyú// Sparta",1541,"B","Active",9999,null,null,"No info","линк"]
[155437,"Állítható csavarkulcs, 250 mm, kétkomponensű fogantyú// Sparta",2144,"B","Active",9999,null,null,"No info","линк"]
[157079,"Cso fogo, 165 mm, burkolt markolat// MTX",1250,"B","Active",9999,null,null,"No info","линк"]
[157089,"Cso fogo, 250 mm, burkolt markolat// MTX",1495,"B","Active",9999,null,null,"No info","линк"]
[157099,"Cso fogo, 300 mm, burkolt markolat// MTX",2342,"B","Active",9999,null,null,"No info","линк"]
[157185,"Cso fogo, PVC markolat 250 mm// SPARTA",1450,"B","Active",9999,null,null,"No info","линк"]
[157195,"Cso fogo, PVC markolat 300 mm// SPARTA",2503,"B","Active",9999,null,null,"No info","линк"]
[157369,"Csőkulcs ¹1, 1\", ívelt pofákkal// MTX",2706,"B","Active",9999,null,null,"No info","линк"]
[157409,"Csőkulcs ¹2, 1,5\", ívelt pofákkal// MTX",3293,"B","Active",9999,null,null,"No info","линк"]
[157449,"Csőkulcs ¹3, 2\", ívelt pofákkal / MTX",4466,"B","Active",9999,null,null,"No info","линк"]
[157565,"Csokulcs \"Stillson\" 2,0\"x254mm// SPARTA",1719,"B","Active",9999,null,null,"No info","линк"]
[157579,"Csőkulcs ¹0, öntött// MTX",2341,"B","Active",9999,null,null,"No info","линк"]
[157589,"Csőkulcs №1, öntött// MTX",2651,"B","Active",9999,null,null,"No info","линк"]
[157645,"Csokulcs \"Stillson\" 2,5\"x350mm// SPARTA",2602,"B","Active",9999,null,null,"No info","линк"]
[157685,"Csokulcs \"Stillson\" 3,3\" x 450 mm// SPARTA",3014,"B","Active",9999,null,null,"No info","линк"]
[158309,"5 db-os gyemant reszelo szett, 140x50x3// MTX",1120,"B","Active",9999,null,null,"No info","линк"]
[158319,"6 db-os gyemant reszelo szett, 140x50x3// MTX",1383,"B","Active",9999,null,null,"No info","линк"]
[158329,"9 db-os gyemant reszelos szett, 140x50x3// MTX",2321,"B","Active",9999,null,null,"No info","линк"]
[158339,"Gyemant reszelo szett, 140x70x3, 5 db// MTX",1218,"B","Active",9999,null,null,"No info","линк"]
[158349,"Gyemant reszelo szett, 140x70x3, 6 db // MTX",1464,"B","Active",9999,null,null,"No info","линк"]
[158359,"Gyemant reszelos szett, 140x50x3, 10 db // MTX",2876,"B","Active",9999,null,null,"No info","линк"]
[159237,"Szögletes reszelő 150 mm, fa nyél// Sparta",378,"B","Active",9999,null,null,"No info","линк"]
[159267,"Szögletes reszelő 200 mm, fa nyél// Sparta",494,"B","Active",9999,null,null,"No info","линк"]
[159297,"Szögletes reszelő 250 mm, fa nyél// Sparta",688,"B","Active",9999,null,null,"No info","линк"]
[159327,"Szögletes reszelő 300 mm, fa nyél// Sparta",867,"B","Active",9999,null,null,"No info","линк"]
[160237,"Háromszög reszelő 150 mm, fa nyél// Sparta",381,"B","Active",9999,null,null,"No info","линк"]
[160267,"Háromszög reszelő 200 mm, fa nyél// Sparta",491,"B","Active",9999,null,null,"No info","линк"]
[160297,"Háromszög reszelő 250 mm, fa nyél// Sparta",682,"B","Active",9999,null,null,"No info","линк"]
[161237,"Körreszelő 150 mm, fa nyél// Sparta",348,"B","Active",9999,null,null,"No info","линк"]
[161267,"Körreszelő 200 mm, fa nyél// Sparta",416,"B","Active",9999,null,null,"No info","линк"]
[161297,"Körreszelő 250 mm, fa nyél// Sparta",594,"B","Active",9999,null,null,"No info","линк"]
[162237,"Lapos reszelő 150 mm, fa nyél// Sparta",403,"B","Active",9999,null,null,"No info","линк"]
[162297,"Lapos reszelő 250 mm, fa nyél// Sparta",630,"B","Active",9999,null,null,"No info","линк"]
[163237,"Félkör reszelő 150 mm, fa nyél// Sparta",426,"B","Active",9999,null,null,"No info","линк"]
[163267,"Félkör reszelő 200 mm, fa nyél// Sparta",588,"B","Active",9999,null,null,"No info","линк"]
[163297,"Félkör reszelő 250 mm, fa nyél// Sparta",886,"B","Active",9999,null,null,"No info",{"$f":"HYPERLINK(L1458,\"линк\")","v":"линк"}]
[163327,"Félkör reszelő 300 mm, fa nyél// Sparta",1140,"B","Active",9999,null,null,"No info","линк"]
[168079,"Gyorszaro tokmany zarral 2-13 mm - 1/2\"//MTX",2588,"B","Active",9999,null,null,"No info","линк"]
[168089,"tokmany 1-10 mm - 1 / 2 \"//MTX",1146,"B","Active",9999,null,null,"No info","линк"]
[168099,"Gyorszaro tokmany zarral 2-13 mm - 1/2\"//MTX",1601,"B","Active",9999,null,null,"No info","линк"]
[168109,"tokmany 1-10 mm - 3 / 8 \"//MTX",1138,"B","Active",9999,null,null,"No info","линк"]
[168129,"tokmany 2-13 mm - 3 / 8 \"// MTX",1609,"B","Active",9999,null,null,"No info","линк"]
[168149,"Kulcs nélküli fúrótokmány 2-13 mm - M12х1,25// MTX",1605,"B","Active",9999,null,null,"No info","линк"]
[168179,"Kulcsos tokmany 1,5-13 mm - 1 / 2 \"// MTX",1277,"B","Active",9999,null,null,"No info","линк"]
[168189,"Kulcsos tokmany 1,5-13 mm - 3 / 8//MTX",1271,"B","Active",9999,null,null,"No info","линк"]
[168199,"Kulcsos tokmany 3-16 mm - B16 //MTX",2554,"B","Active",9999,null,null,"No info","линк"]
[168259,"Key type drill chuck 1,5-13 mm - M12x1, 25//MTX",1287,"B","Active",9999,null,null,"No info","линк"]
[168859,"Tokmanykulcs, 10 mm, //MTX",263,"B","Active",9999,null,null,"No info","линк"]
[168869,"Tokmanykulcs, 13 mm//MTX",285,"B","Active",9999,null,null,"No info","линк"]
[168899,"Tokmanykulcs, 16 mm //MTX",383,"B","Active",9999,null,null,"No info","линк"]
[169019,"Kombinalt fogo 160mm, ket komponensu nyel// MTX PROFESSIONAL",3063,"B","Active",9999,null,null,"No info","линк"]
[169029,"Lapos csoru fogo, 160 mm, ket komponensu nyel, nikkelezett// MTX",1334,"B","Active",9999,null,null,"No info","линк"]
[169039,"Kombinalt fogo 180mm, ket komponensu nyel// MTX PROFESSIONAL",3500,"B","Active",9999,null,null,"No info","линк"]
[169049,"Lapos csoru fogo, 180 mm, ket komponensu nyel, nikkelezett// MTX",1468,"B","Active",9999,null,null,"No info","линк"]
[169059,"Kombinalt fogo 200mm, ket komponensu nyel// MTX PROFESSIONAL",4142,"B","Active",9999,null,null,"No info","линк"]
[169069,"Lapos csoru fogo, 200 mm, ket komponensu nyel, nikkelezett// MTX",1753,"B","Active",9999,null,null,"No info","линк"]
[169119,"Lapos fogó, 200 mm, nikkelezett, kétkomponensű fogantyú, GRAND vonal// MTX",1967,"B","Active",9999,null,null,"No info","линк"]
[169647,"160mm-es kombinált fogó kétkomponensű nyéllel, polírozott, Comfort line// Sparta",1083,"B","Active",9999,null,null,"No info","линк"]
[169687,"180mm-es kombinált fogó kétkomponensű nyéllel, polírozott, Comfort vonal// Sparta",1193,"B","Active",9999,null,null,"No info","линк"]
[169699,"Lapos csoru kombinalt fogo, 160 mm, muanyag markolat, sztenderd kivitel// MTX",1175,"B","Active",9999,null,null,"No info","линк"]
[169709,"Lapos csoru kombinalt fogo, 180 mm, muanyag markolat, sztenderd kivitel// MTX",1358,"B","Active",9999,null,null,"No info","линк"]
[169717,"200mm-es kombinált fogó kétkomponensű nyéllel, polírozott, Comfort vonal// Sparta",1413,"B","Active",9999,null,null,"No info","линк"]
[169749,"Lapos csoru kombinalt fogo, 200 mm, muanyag markolat, sztenderd kivitel// MTX",1533,"B","Active",9999,null,null,"No info","линк"]
[169789,"Lapos csoru kombinalt fogo, 160 mm, ket komponensu nyel, fekete nikkelezett kivitel// MTX",1348,"B","Active",9999,null,null,"No info","линк"]
[169809,"Lapos csoru kombinalt fogo, 180 mm, ket komponensu nyel, fekete nikkelezett kivitel// MTX",1540,"B","Active",9999,null,null,"No info","линк"]
[169839,"Lapos csoru kombinalt fogo, 200 mm, ket komponensu nyel, fekete nikkelezett kivitel// MTX",1719,"B","Active",9999,null,null,"No info","линк"]
[169939,"Lapos csoru fogo, 180 mm, muanyag markolat, Kenyelmes kivitel// MTX",1303,"B","Active",9999,null,null,"No info","линк"]
[169949,"Lapos csoru fogo, 200 mm, muanyag markolat, Kenyelmes kivitel// MTX",1444,"B","Active",9999,null,null,"No info","линк"]
[170709,"Kombinàlt fogî \"Premium\", 160 mm, hàrom komponensu fogantyu// MTX",1250,"B","Active",9999,null,null,"No info","линк"]
[170719,"Kombinált fogó “PRÉMIUM”,180mm, 3 komponenesű nyél//MTX",1458,"B","Active",9999,null,null,"No info","линк"]
[170729,"Kombinàlt fogî \"Premium\", 200 mm, hàrom komponensu fogantyu// MTX",1652,"B","Active",9999,null,null,"No info","линк"]
[171019,"Hosszu csoru fogo 160 mm, ket komponensu nyel// MTX PROFESSIONAL",2839,"B","Active",9999,null,null,"No info","линк"]
[171039,"Hosszu csoru fogo 200 mm, ket komponensu nyel// MTX PROFESSIONAL",3376,"B","Active",9999,null,null,"No info","линк"]
[171369,"Hosszú orrú fogó, 160 mm, nikkelezett, kétkomponensű fogantyú, GRAND vonal// MTX",1340,"B","Active",9999,null,null,"No info","линк"]
[171389,"Hosszú orrú fogó, 200 mm, nikkelezett, kétkomponensű fogantyú, GRAND vonal// MTX",1678,"B","Active",9999,null,null,"No info","линк"]
[171509,"Hosszu csoru fogo, 160 mm, muanyag markolat, sztenderd kivitel, csiszolt// MTX",1049,"B","Active",9999,null,null,"No info","линк"]
[171529,"Hosszu csoru fogo, 180 mm, muanyag markolat, sztenderd kivitel, csiszolt// MTX",1171,"B","Active",9999,null,null,"No info","линк"]
[171549,"Hosszu csoru fogo, 200 mm, muanyag markolat, sztenderd kivitel, csiszolt// MTX",1332,"B","Active",9999,null,null,"No info","линк"]
[171589,"Hosszu csoru fogo, 160 mm, ket komponensu nyel, fekete nikkelezett kivitel// MTX",1173,"B","Active",9999,null,null,"No info","линк"]
[171609,"Hosszu csoru fogo, 180 mm, ket komponensu nyel, fekete nikkelezett kivitel// MTX",1344,"B","Active",9999,null,null,"No info","линк"]
[171629,"Hosszu csoru fogo, 200 mm, ket komponensu nyel, fekete nikkelezett kivitel// MTX",1560,"B","Active",9999,null,null,"No info","линк"]
[171649,"Hosszu csoru fogo, 160 mm, ket komponensu nyel, nikkelezett kivitel// MTX",1138,"B","Active",9999,null,null,"No info","линк"]
[171657,"160 mm hosszú fogó kétkomponensű fogantyúval, polírozott, Comfort line// Sparta",939,"B","Active",9999,null,null,"No info","линк"]
[171669,"Hosszu csoru fogo, 180 mm, ket komponensu nyel, nikkelezett kivitel// MTX",1258,"B","Active",9999,null,null,"No info","линк"]
[171689,"Hosszu csoru fogo, 200 mm, ket komponensu nyel, nikkelezett kivitel// MTX",1454,"B","Active",9999,null,null,"No info","линк"]
[171859,"Hosszu orru fogî \"Premium\", 160 mm, egyenes, hàrom komponensu fogantyu// MTX",1222,"B","Active",9999,null,null,"No info","линк"]
[171869,"Hosszu orru fogî \"Premium\", 180 mm, egyenes, hàromkomponensu nyål// MTX",1358,"B","Active",9999,null,null,"No info","линк"]
[171879,"Hosszu orru fogî \"Premium\", 200 mm, egyenes, hàrom komponensu fogantyu// MTX",1552,"B","Active",9999,null,null,"No info","линк"]
[171929,"Hosszu csoru fogo, 160 mm, muanyag markolat, Kenyelmes kivitel// MTX",1002,"B","Active",9999,null,null,"No info","линк"]
[171939,"Hosszu csoru fogo, 180 mm, muanyag markolat, Kenyelmes kivitel// MTX",1173,"B","Active",9999,null,null,"No info","линк"]
[171949,"Hosszu csoru fogo, 200 mm, muanyag markolat, Kenyelmes kivitel// MTX",1322,"B","Active",9999,null,null,"No info","линк"]
[174209,"Hajlitott hosszu csoru fogo, 160 mm, ket komponensu nyel, nikkelezett kivitel// MTX",1138,"B","Active",9999,null,null,"No info","линк"]
[174229,"Hajlitott hosszu csoru fogo, 180 mm, ket komponensu nyel, nikkelezett kivitel// MTX",1285,"B","Active",9999,null,null,"No info","линк"]
[174249,"Hajlitott hosszu csoru fogo, 200 mm, ket komponensu nyel, nikkelezett kivitel// MTX",1478,"B","Active",9999,null,null,"No info","линк"]
[174589,"Hajlitott hosszu csoru fogo, 160 mm, ket komponensu nyel, fekete nikkelezett kivitel// MTX",1197,"B","Active",9999,null,null,"No info","линк"]
[174609,"Hajlitott hosszu csoru fogo, 180 mm, ket komponensu nyel, fekete nikkelezett kivitel// MTX",1401,"B","Active",9999,null,null,"No info","линк"]
[174629,"Hajlitott hosszu csoru fogo, 200 mm, ket komponensu nyel, fekete nikkelezett kivitel// MTX",1421,"B","Active",9999,null,null,"No info","линк"]
[174729,"Hajlitott hosszu csoru fogo, 160 mm, Szigetelt, ket komponensu nyel// MTX PROFESSIONAL",2924,"B","Active",9999,null,null,"No info","линк"]
[174749,"Hajlitott hosszu csoru fogo, 200 mm, Szigetelt, ket komponensu nyel// MTX PROFESSIONAL",3307,"B","Active",9999,null,null,"No info","линк"]
[174949,"Hajlitott hosszu csoru fogo, 160 mm, muanyag markolat, Kenyelmes kivitel// MTX",1016,"B","Active",9999,null,null,"No info",{"$f":"HYPERLINK(L1522,\"линк\")","v":"линк"}]
[174959,"Hajlitott hosszu csoru fogo, 180 mm, muanyag markolat, Kenyelmes kivitel// MTX",1183,"B","Active",9999,null,null,"No info","линк"]
[174969,"Hajlitott hosszu csoru fogo, 200 mm, muanyag markolat, Kenyelmes kivitel// MTX",1313,"B","Active",9999,null,null,"No info","линк"]
[175089,"Szigetelt csipofogo 200mm, ket komponensu nyel// MTX PROFESSIONAL",3762,"B","Active",9999,null,null,"No info","линк"]
[175209,"Oldalcsipofogo, 160 mm, ket komponensu nyel, nikkelezett kivitel// MTX",1118,"B","Active",9999,null,null,"No info","линк"]
[175229,"Oldalcsipofogo, 180 mm, ket komponensu nyel, nikkelezett kivitel// MTX",1297,"B","Active",9999,null,null,"No info","линк"]
[175249,"Oldalcsipofogo, 200 mm, ket komponensu nyel, nikkelezett kivitel// MTX",1448,"B","Active",9999,null,null,"No info","линк"]
[175269,"Oldalvago fogo, 160 mm, nikelezett, ket kompnensu markolattal, GRAND termekcsalad// MTX",1458,"B","Active",9999,null,null,"No info","линк"]
[175329,"Oldalt vàgî fogî \"Premium\", 160 mm, hàrom komponensu fogantyu// MTX",1397,"B","Active",9999,null,null,"No info","линк"]
[175339,"Oldalt vàgî fogî \"Premium\", 180 mm, hàrom komponensu fogantyu// MTX",1639,"B","Active",9999,null,null,"No info","линк"]
[175349,"Oldalt vàgî fogî \"Premium\", 200 mm, hàrom komponensu fogantyu// MTX",1764,"B","Active",9999,null,null,"No info","линк"]
[175659,"Oldalcsipofogo, 160 mm, muanyag markolat, sztenderd kivitel// MTX",1085,"B","Active",9999,null,null,"No info","линк"]
[175667,"Oldalra vágó fogó 160mm kétkomponensű nyéllel, polírozott, Comfort line// Sparta",1018,"B","Active",9999,null,null,"No info","линк"]
[175679,"Oldalcsipofogo, 180 mm, muanyag markolat, sztenderd kivitel// MTX",1293,"B","Active",9999,null,null,"No info","линк"]
[175687,"Oldalra vágó fogó 180mm kétkomponensű nyéllel, polírozott, Comfort line// Sparta",1149,"B","Active",9999,null,null,"No info","линк"]
[175699,"Oldalcsipofogo, 200 mm, muanyag markolat, sztenderd kivitel// MTX",1316,"B","Active",9999,null,null,"No info","линк"]
[175707,"Oldalra vágó fogó 200mm kétkomponensű nyéllel, polírozott, Comfort line// Sparta",1474,"B","Active",9999,null,null,"No info","линк"]
[175729,"Oldalcsipofogo, 160 mm, ket komponensu nyel, fekete nikkelezett kivitel// MTX",1230,"B","Active",9999,null,null,"No info","линк"]
[175749,"Oldalcsipofogo, 180 mm, ket komponensu nyel, fekete nikkelezett kivitel// MTX",1427,"B","Active",9999,null,null,"No info","линк"]
[175769,"Oldalcsipofogo, 200 mm, ket komponensu nyel, fekete nikkelezett kivitel// MTX",1550,"B","Active",9999,null,null,"No info","линк"]
[175949,"Oldalcsipofogo, 160 mm, muanyag markolat, Kenyelmes kivitel// MTX",973,"B","Active",9999,null,null,"No info","линк"]
[175959,"Oldalcsipofogo, 180 mm, muanyag markolat, Kenyelmes kivitel// MTX",1108,"B","Active",9999,null,null,"No info","линк"]
[175969,"Oldalcsipofogo, 200 mm, muanyag markolat, Kenyelmes kivitel// MTX",1260,"B","Active",9999,null,null,"No info","линк"]
[176075,"Mini szerszamkeszlet, 12 db, tarolo dobozzal",2340,"B","Active",9999,null,null,"No info","линк"]
[177065,"Krimpelo fogo, 0,5-6 mm//SPARTA",2951,"B","Active",9999,null,null,"No info","линк"]
[177305,"Automata kabelcsupaszolo 170mm 1-3.2mm//SPARTA",1448,"B","Active",9999,null,null,"No info","линк"]
[177505,"Harapofogo 210 mm 1.5-6.5 mm//SPARTA",536,"B","Active",9999,null,null,"No info","линк"]
[178109,"Egyenes hosszu csoru fogo, 130 mm, nikkel, automatikusan nyilo, ket komponensu nyel, MINI line// MTX",955,"B","Active",9999,null,null,"No info","линк"]
[178129,"Hajlitott hosszu csoru fogo, 130 mm, nikkel, automatikusan nyilo, ket komponensu nyel, MINI line// MTX",922,"B","Active",9999,null,null,"No info","линк"]
[178149,"Oldalcsipofogo, 130 mm, nikkel, automatikusan nyilo, ket komponensu nyel, MINI line// MTX",945,"B","Active",9999,null,null,"No info","линк"]
[178169,"Lapos csoru fogo, 130 mm, nikkel, automatikusan nyilo, ket komponensu nyel, MINI line// MTX",945,"B","Active",9999,null,null,"No info","линк"]
[179469,"Végvágó harapófogó 180 mm, CRV// MTX",1568,"B","Active",9999,null,null,"No info","линк"]
[179479,"Végvágó harapófogó 200 mm, CRV// MTX",1739,"B","Active",9999,null,null,"No info","линк"]
[179849,"Fogó, 250 mm (SMI)// Sparta",5707,"B","Active",9999,null,null,"No info","линк"]
[183069,"Bor lyukasztî kåszlet 6 db 3, 4, 6, 8, 10, 12,5 mm, tàska// MTX",1627,"B","Active",9999,null,null,"No info","линк"]
[183205,"Emelofogo 150 mm, ivelt pofa //SPARTA",929,"B","Active",9999,null,null,"No info","линк"]
[183255,"Emelofogo 150 mm, ivelt pofa //SPARTA",929,"B","Active",9999,null,null,"No info","линк"]
[183305,"Emelofogo 150 mm, egyenes //SPARTA",939,"B","Active",9999,null,null,"No info","линк"]
[183355,"Emelofogo 150 mm, egyenes //SPARTA",939,"B","Active",9999,null,null,"No info","линк"]
[184205,"Zarofogo, 180 mm, felig lekerekitett markolat// SPARTA",1220,"B","Active",9999,null,null,"No info","линк"]
[185055,"Satu rogzitett alappal, 40 mm// SPARTA",1513,"B","Active",9999,null,null,"No info","линк"]
[185075,"Satu rogzitett alappal, 50 mm// SPARTA",1933,"B","Active",9999,null,null,"No info","линк"]
[185089,"Pad satu (asztal), többfunkciós, cserélhető fúróbilincs, forgatható típusú, csuklós mechanizmus .// MTX",8074,"B","Active",9999,null,null,"No info","линк"]
[185095,"Satu rogzitett alappal, 60 mm// SPARTA",2073,"B","Active",9999,null,null,"No info","линк"]
[185115,"Satu rogzitett alappal, 75 mm// SPARTA",2250,"B","Active",9999,null,null,"No info","линк"]
[186235,"Kovacssatu, 100 mm, forgathato, ullovel,",9713,"B","Active",9999,null,null,"No info","линк"]
[186295,"Kovacssatu, 200 mm, forgathato, ullovel,",35455,"B","Active",9999,null,null,"No info","линк"]
[186689,"Asztali satu, asztali, forgó, munkapofák szélessége 50 mm, üllő// МТХ",4417,"B","Active",9999,null,null,"No info","линк"]
[186729,"Pad satu, asztallap, forgî, munkapofa szålessåge 65 mm, ullo// MTX",4735,"B","Active",9999,null,null,"No info","линк"]
[188305,"Lyukaszto gumi boritassal 250 mm//SPARTA",597,"B","Active",9999,null,null,"No info","линк"]
[188345,"Lyukaszto muanyag boritassal 250 mm//SPARTA",1041,"B","Active",9999,null,null,"No info","линк"]
[191149,"Ütőcsavarhúzó, SL5 x 75 mm, kétkomponensű fogantyú, CrV// MTX",334,"B","Active",9999,null,null,"No info","линк"]
[191189,"Ütőcsavarhúzó, PH1 x 75 mm, kétkomponensű fogantyú, CrV// MTX",334,"B","Active",9999,null,null,"No info","линк"]
[191219,"Ütőcsavarhúzó készlet 2 db, PH2x100, SL6x100, CrV// MTX",1173,"B","Active",9999,null,null,"No info","линк"]
[203205,"Aluminium sarok satu 75mm//SPARTA",833,"B","Active",9999,null,null,"No info","линк"]
[203229,"Gyorszàr sarokszoritî, 65/65 mm, kåtkomponensu gumirozott fogantyuk// MTX",6506,"B","Active",9999,null,null,"No info","линк"]
[204009,"F-bilincs 150х80х230mm// MTX",2059,"B","Active",9999,null,null,"No info","линк"]
[204019,"F-bilincs 200х80х280mm// MTX",2165,"B","Active",9999,null,null,"No info","линк"]
[204029,"F rogzito 150x50x210mm// MTX",1295,"B","Active",9999,null,null,"No info","линк"]
[204039,"F rogzito 200x50x260mm// MTX",1362,"B","Active",9999,null,null,"No info","линк"]
[204049,"F rogzito 250x50x310mm// MTX",1425,"B","Active",9999,null,null,"No info","линк"]
[204059,"F rogzito 300x50x370mm// MTX",1487,"B","Active",9999,null,null,"No info","линк"]
[204069,"F-bilincs 300х80х380mm// MTX",2376,"B","Active",9999,null,null,"No info","линк"]
[204079,"F rogzito 500x120x600mm// MTX",4820,"B","Active",9999,null,null,"No info","линк"]
[204089,"F rogzito 800x120x900mm// MTX",5808,"B","Active",9999,null,null,"No info",{"$f":"HYPERLINK(L1586,\"линк\")","v":"линк"}]
[204099,"F-bilincs 400х80х480mm// MTX",2543,"B","Active",9999,null,null,"No info","линк"]
[204109,"F rogzito 1000x120x1100mm// MTX",6769,"B","Active",9999,null,null,"No info","линк"]
[204119,"F-szorító 400x120x500mm// MTX",4460,"B","Active",9999,null,null,"No info","линк"]
[204179,"F-szorító 600x120x700mm// MTX",5073,"B","Active",9999,null,null,"No info","линк"]
[204265,"F rogzito 200x50x250mm//SPARTA",764,"B","Active",9999,null,null,"No info","линк"]
[204355,"F rogzito 300x80x360mm//SPARTA",1303,"B","Active",9999,null,null,"No info","линк"]
[204385,"F rogzito 300x120x365mm//SPARTA",3158,"B","Active",9999,null,null,"No info","линк"]
[204415,"F rogzito 500x120x570mm//SPARTA",3005,"B","Active",9999,null,null,"No info","линк"]
[204445,"F rogzito 800x120x865mm//SPARTA",3660,"B","Active",9999,null,null,"No info","линк"]
[204475,"F rogzito 1000x120x1050mm//SPARTA",4206,"B","Active",9999,null,null,"No info","линк"]
[205619,"Univerzalis F rogzito 150 x 265 x 45 mm, muanyag tok// MTX",1004,"B","Active",9999,null,null,"No info","линк"]
[205629,"Univerzalis F rogzito 200 x 315 x 45 mm, muanyag tok// MTX",1114,"B","Active",9999,null,null,"No info","линк"]
[205807,"G-szoritî 50mm // MTX",617,"B","Active",9999,null,null,"No info","линк"]
[205827,"G-szoritî 75mm // MTX",1061,"B","Active",9999,null,null,"No info","линк"]
[205847,"G-szoritî 100mm // MTX",1409,"B","Active",9999,null,null,"No info","линк"]
[205867,"G-szoritî 150mm // MTX",2336,"B","Active",9999,null,null,"No info","линк"]
[205887,"G-szoritî 200mm // MTX",3061,"B","Active",9999,null,null,"No info","линк"]
[205907,"G-szoritî 250mm // MTX",4470,"B","Active",9999,null,null,"No info","линк"]
[205927,"G-szoritî 300mm // MTX",5433,"B","Active",9999,null,null,"No info","линк"]
[206039,"G rogzito 75mm// MTX",1713,"B","Active",9999,null,null,"No info","линк"]
[206049,"G rogzito 100mm// MTX",2197,"B","Active",9999,null,null,"No info","линк"]
[206059,"G rogzito 125mm// MTX",2918,"B","Active",9999,null,null,"No info","линк"]
[206069,"G rogzito 150mm// MTX",3401,"B","Active",9999,null,null,"No info","линк"]
[206565,"G rogzito 100 x 95 x 170 mm//SPARTA",1252,"B","Active",9999,null,null,"No info","линк"]
[206625,"G rogzito 150mm//SPARTA",2183,"B","Active",9999,null,null,"No info","линк"]
[206655,"G rogzito, 200 mm//SPARTA",3132,"B","Active",9999,null,null,"No info","линк"]
[207847,"eroszoritî (kåt tînusu), muanyag test, kåtkomponensu fogantyu, erositett rugî, 1-5/8\"/42mm // MTX",301,"B","Active",9999,null,null,"No info","линк"]
[207867,"eroszoritî (kåt tînusu), muanyag test, kåtkomponensu fogantyu, eroltetett rugî, 2-3/4\"/70mm // MTX",519,"B","Active",9999,null,null,"No info","линк"]
[207887,"eroszoritî (kåt tînusu), muanyag hàz, kåtkomponensu fogantyu, erositett rugî, 3-3/16\"/82 mm // MTX",755,"B","Active",9999,null,null,"No info","линк"]
[210225,"Gyalutest, 175 x 50 mm, fem, kompakt// SPARTA",2187,"B","Active",9999,null,null,"No info","линк"]
[210785,"Hantolo gyalu, 230 x 52 mm, fem// SPARTA",3655,"B","Active",9999,null,null,"No info","линк"]
[210795,"Hantolo gyalu, 245 x 58 mm, fem// SPARTA",5071,"B","Active",9999,null,null,"No info","линк"]
[216067,"Hidegen kovácsolt fejsze 600g, fa nyél// Sparta",2751,"B","Active",9999,null,null,"No info","линк"]
[216117,"Hidegen kovácsolt fejsze 800g, fa nyél// Sparta",3156,"B","Active",9999,null,null,"No info","линк"]
[216167,"Hidegen kovácsolt fejsze 1000 g, fa nyél// Sparta",3991,"B","Active",9999,null,null,"No info","линк"]
[216317,"Hidegen kovàcsolt fejsze 600g, fa nyål, EFP // Denzel",2945,"B","Active",9999,null,null,"No info","линк"]
[216337,"Hidegen kovàcsolt fejsze 800g, fa nyål, EFP// Denzel",3361,"B","Active",9999,null,null,"No info","линк"]
[216347,"Hidegen kovàcsolt fejsze 1000 g, fa nyål, EFP// Denzel",3830,"B","Active",9999,null,null,"No info","линк"]
[216397,"Axe, 800 g, üvegszálas nyél// Sparta",2628,"B","Active",9999,null,null,"No info","линк"]
[216417,"Axe, 1000 g, üvegszálas nyél// Sparta",2615,"B","Active",9999,null,null,"No info","линк"]
[218079,"Hasitî fejsze åkpengåvel, 1500 g, 430 mm, uvegszàlas gumi bevonatu nyål// MÒõ",3601,"B","Active",9999,null,null,"No info","линк"]
[218159,"Hasogato balta V alaku pengevel, 1000 g, 380 mm, uvegszalas gumi boritasu nyel // MTX",3492,"B","Active",9999,null,null,"No info","линк"]
[218169,"Hasogato balta V alaku pengevel, 2000 g, 880 mm, uvegszalas gumi boritasu nyel// MTX",6026,"B","Active",9999,null,null,"No info","линк"]
[218209,"Hasogato balta, 2700 g, 900 mm, uvegszalas gumi boritasu nyel// MTX",7144,"B","Active",9999,null,null,"No info","линк"]
[218229,"Hasogato balta, 3600 g, 900 mm, uvegszalas gumi boritasu nyel// MTX",8634,"B","Active",9999,null,null,"No info","линк"]
[218249,"Csakany Mini, 500 g, 385 mm, uvegszalas gumi boritasu nyel// MTX",2474,"B","Active",9999,null,null,"No info","линк"]
[218269,"Csakany Mini, 500 g, 385 mm, biplanar, uvegszalas gumi boritasu nyel// MTX",2501,"B","Active",9999,null,null,"No info","линк"]
[218289,"Csakany Mini, 400 g, 385 mm, uvegszalas, gumi boritasu nyel// MTX",2499,"B","Active",9999,null,null,"No info","линк"]
[218299,"Csakany, 1000 g, 900 mm, uvegszalas, gumi boritasu nyel// MTX",4726,"B","Active",9999,null,null,"No info","линк"]
[218309,"Csakany, 1500 g, 900 mm, uvegszalas, gumi boritasu nyel// MTX",5734,"B","Active",9999,null,null,"No info","линк"]
[218347,"Pick Mattok, 1500g, keskeny, 900mm TPR uvegszàlas fogantyu//Denzel",4707,"B","Active",9999,null,null,"No info","линк"]
[218357,"Pick Mattok, 2000g, keskeny, 900mm TPR Üvegszálas fogantyú//Denzel",5089,"B","Active",9999,null,null,"No info","линк"]
[218387,"Pick Mattok, 2250g, szåles, 900mm TPR uvegszàlas fogantyu//Denzel",5579,"B","Active",9999,null,null,"No info","линк"]
[218827,"Balta, 680 g, fa nyél, 360 mm, EFP//Denzel",3046,"B","Active",9999,null,null,"No info","линк"]
[218847,"Balta, 1130 g, fa nyål, 430 mm, EFP//Denzel",4124,"B","Active",9999,null,null,"No info","линк"]
[218907,"Balta, 680 g, 2 komponensu nyål, 360mm//Denzel",3046,"B","Active",9999,null,null,"No info","линк"]
[218917,"Balta, 900 g, 2 komponensu nyål, 430mm//Denzel",3652,"B","Active",9999,null,null,"No info","линк"]
[218927,"Balta, 1130 g, 2 komponensu nyål, 430mm//Denzel",4162,"B","Active",9999,null,null,"No info","линк"]
[225307,"Műanyag gérvágó doboz 300x65 mm + fűrész, 300 mm// Sparta",1149,"B","Active",9999,null,null,"No info","линк"]
[225509,"Műanyag gérvágó doboz, 300 x 100 mm + fűrész 350 mm, kétkomponensű fogantyú// MTX",4551,"B","Active",9999,null,null,"No info","линк"]
[227329,"Precision miter box, 420 mm// MTX",10326,"B","Active",9999,null,null,"No info","линк"]
[227409,"Precíziós gérvágó doboz, 550 mm, pengedőléssel// MTX",19476,"B","Active",9999,null,null,"No info","линк"]
[230335,"Garden Saw 300mm// SPARTA",835,"B","Active",9999,null,null,"No info","линк"]
[231039,"Kezifuresz, 300 mm, ket komponensu nyel, edzett fogazat// MTX",1478,"B","Active",9999,null,null,"No info",{"$f":"HYPERLINK(L1650,\"линк\")","v":"линк"}]
[231069,"Illesztofuresz kisebb fureszelesi munkakhoz, 320 mm, edzett fogazat egy komponensu nyel",1419,"B","Active",9999,null,null,"No info","линк"]
[231499,"Fűrész rétegelt lemezhez fűrészelt, 330 mm-es, kétkomponensű nyéllel// MTX",1104,"B","Active",9999,null,null,"No info","линк"]
[231515,"Penge gérfűrészhez 350 mm// Sparta",1330,"B","Active",9999,null,null,"No info","линк"]
[231875,"Fafuresz 450mm, 7-8 TPI, edzett fogazat vonalzoval es fa nyellel// SPARTA",1116,"B","Active",9999,null,null,"No info","линк"]
[231895,"Fafuresz 500mm ,7-8 TPI, edzett fogazat vonalzoval es fa nyellel//SPARTA",1395,"B","Active",9999,null,null,"No info","линк"]
[233809,"Kezi furesz habbetonhoz, 500mm, vedo boritas, ket komponensu nyel",4248,"B","Active",9999,null,null,"No info","линк"]
[233829,"Kezi furesz habbetonhoz, 700mm, vedo boritas, ket komponensu nyel",4950,"B","Active",9999,null,null,"No info","линк"]
[233905,"Kezi furesz gipszkartonhoz, 180 mm, fa nyel//SPARTA",348,"B","Active",9999,null,null,"No info","линк"]
[233929,"Ket elu egyenes furesz, 180 mm, ket komponensu nyel// MTX",1423,"B","Active",9999,null,null,"No info","линк"]
[235025,"Kezifuresz 450mm vonalvezetovel , ket komponensu nyel, 7-8Tpi, 2D edzett fogazat",1391,"B","Active",9999,null,null,"No info","линк"]
[235035,"Kezifuresz 500mm vonalvezetovel , ket komponensu nyel,7-8Tpi, 2D edzett fogazat",1678,"B","Active",9999,null,null,"No info","линк"]
[235409,"Illesztofuresz, 400 mm, 7 - 8 Tpi, 3D edzett fogazat, ket komponensu nyel// MTX",1761,"B","Active",9999,null,null,"No info","линк"]
[235419,"Illesztofuresz, 450 mm, 7 - 8 Tpi, 3D edzett fogazat, ket komponensu nyel// MTX",1908,"B","Active",9999,null,null,"No info","линк"]
[235429,"Illesztofuresz, 500 mm, 7 - 8 Tpi, 3D edzett fogazat, ket komponensu nyel// MTX",2059,"B","Active",9999,null,null,"No info","линк"]
[235499,"Illesztofuresz, 400 mm, 7 - 8 Tpi, 3D edzett fogazat, teflonos pengebevonat, ket komponensu nyel",2908,"B","Active",9999,null,null,"No info","линк"]
[235519,"Illesztofuresz, 500 mm, 7 - 8 Tpi, 3D edzett fogazat, teflonos pengebevonat, ket komponensu nyel",2767,"B","Active",9999,null,null,"No info","линк"]
[235799,"Illesztofuresz fekete sorozat, 550 mm, 7-8 Tpi, 3D edzett fogazat , teflonos pengebevonat",3317,"B","Active",9999,null,null,"No info","линк"]
[240245,"Lombfuresz 300 mm// SPARTA",922,"B","Active",9999,null,null,"No info","линк"]
[244075,"Veso muanyag markolattal 10 mm//SPARTA",776,"B","Active",9999,null,null,"No info","линк"]
[244105,"Veso muanyag markolattal 12 mm//SPARTA",812,"B","Active",9999,null,null,"No info","линк"]
[244175,"Veso muanyag markolattal 16 mm//SPARTA",872,"B","Active",9999,null,null,"No info","линк"]
[244205,"Véső műanyag nyéllel 18mm// Sparta",780,"B","Active",9999,null,null,"No info","линк"]
[244255,"Véső műanyag nyéllel 24mm// Sparta",880,"B","Active",9999,null,null,"No info","линк"]
[244305,"Véső műanyag nyéllel 30mm// Sparta",1299,"B","Active",9999,null,null,"No info","линк"]
[244329,"Tigrisszem lapos vésőkészlet, 4 db, 6-12-18-24 mm// MTX",8070,"B","Active",9999,null,null,"No info","линк"]
[245019,"Veso 6mm \"Tiger Eye\" gumi markolattal// MTX",1075,"B","Active",9999,null,null,"No info","линк"]
[245039,"Veso 8mm \"Tiger Eye\" gumi markolattal// MTX",1089,"B","Active",9999,null,null,"No info","линк"]
[245059,"Veso 10mm \"Tiger Eye\" gumi markolattal// MTX",1106,"B","Active",9999,null,null,"No info","линк"]
[245079,"Veso 12mm \"Tiger Eye\" gumi markolattal// MTX",1108,"B","Active",9999,null,null,"No info","линк"]
[245099,"Veso 14mm \"Tiger Eye\" gumi markolattal// MTX",1112,"B","Active",9999,null,null,"No info","линк"]
[245119,"Veso 16mm \"Tiger Eye\" gumi markolattal// MTX",1157,"B","Active",9999,null,null,"No info","линк"]
[245139,"Veso 18mm \"Tiger Eye\" gumi markolattal// MTX",1169,"B","Active",9999,null,null,"No info","линк"]
[245159,"Veso 20mm \"Tiger Eye\" gumi markolattal// MTX",1226,"B","Active",9999,null,null,"No info","линк"]
[245169,"Veso 22mm \"Tiger Eye\" gumi markolattal// MTX",1232,"B","Active",9999,null,null,"No info","линк"]
[245179,"Veso 24mm \"Tiger Eye\" gumi markolattal// MTX",1322,"B","Active",9999,null,null,"No info","линк"]
[245189,"Veso 26mm \"Tiger Eye\" gumi markolattal// MTX",1352,"B","Active",9999,null,null,"No info","линк"]
[245199,"Veso 30mm \"Tiger Eye\" gumi markolattal// MTX",1454,"B","Active",9999,null,null,"No info","линк"]
[245209,"Veso 28mm \"Tiger Eye\" gumi markolattal// MTX",1423,"B","Active",9999,null,null,"No info","линк"]
[245219,"Veso 32mm \"Tiger Eye\" gumi markolattal// MTX",1515,"B","Active",9999,null,null,"No info","линк"]
[245259,"Veso 38mm \"Tiger Eye\" gumi markolattal// MTX",1592,"B","Active",9999,null,null,"No info","линк"]
[252225,"Bontórúd, 300 mm, hatlapú, színes// Sparta",786,"B","Active",9999,null,null,"No info","линк"]
[252285,"Bontórúd, 900mm, hatlapú, színes// Sparta",2342,"B","Active",9999,null,null,"No info","линк"]
[252319,"Megerositett feszitovas, 450x25x12 mm// MTX",2203,"B","Active",9999,null,null,"No info","линк"]
[252359,"Megerositett feszitovas, 900x29x15 mm// MTX",5396,"B","Active",9999,null,null,"No info","линк"]
[260017,"Csavarhúzó, akkus CSL-3,6-01, Li-Ion, 3,6 V, 1,3 Ah, tartozékokkal// Denzel",15332,"B","Active",9999,null,null,"No info","линк"]
[260027,"Csavarhúzó, vezeték nélküli CSL-3,6-02, Li-Ion, 3,6 V, 1,3 Ah, bliszterben// Denzel",8990,"B","Active",9999,null,null,"No info","линк"]
[261167,"Csavarhúzó, vezeték nélküli, CDL-18-02BM, Li-Ion, 18 V, 2 Ah, 2 akkumulátor// Denzel",43679,"B","Active",9999,null,null,"No info","линк"]
[261217,"Csavarhúzó, vezeték nélküli, kefe nélküli, BLDL-IB-18-02, Li-Ion, 18 V, 2 Ah, 2 elem// Denzel",77955,"B","Active",9999,null,null,"No info","линк"]
[266107,"Elektromos kalapács RHV-1100-26, SDS-plus, 1100 W, 4 J, 3 funkció// Denzel",41211,"B","Active",9999,null,null,"No info","линк"]
[266127,"Elektromos ütvefúró RHV-1250-30, SDS-plus, 1250 W, 5 J, 3 plusz 1 funkció// Denzel",53809,"B","Active",9999,null,null,"No info","линк"]
[266207,"Elektromos ütvefúró RHV-1050-38-max, SDS-max, 1050 W, 10 J, 2 plusz 1 funkció// Denzel",64925,"B","Active",9999,null,null,"No info","линк"]
[269017,"Gloshlife AG115-750, 750 W, 115 mm, 11000 rpm// Denzel",15853,"B","Active",9999,null,null,"No info","линк"]
[269067,"Sarokcsiszoló AG125-1100, 1100 W, 125 mm, 3000-11000 ford.// Denzel",27492,"B","Active",9999,null,null,"No info","линк"]
[269087,"Sarokcsiszoló AG125-1100A, 1100 W, 125 mm, 3000-11000 ford.// Denzel",21196,"B","Active",9999,null,null,"No info","линк"]
[269157,"AG230-2400 sarokcsiszoló, 2400 W, 230 mm, 6000 ford.// Denzel",44113,"B","Active",9999,null,null,"No info","линк"]
[270027,"Akkus sarokcsiszoló, kefe nélküli BLG-IB-18-02, Li-ion, 18 V, 3 Ah, 115 mm// Denzel",74109,"B","Active",9999,null,null,"No info","линк"]
[305045,"Vonalzo 150mm fem// SPARTA",140,"B","Active",9999,null,null,"No info","линк"]
[305065,"Vonalzo 300mm fem// SPARTA",283,"B","Active",9999,null,null,"No info","линк"]
[305085,"Vonalzo 500mm fem// SPARTA",532,"B","Active",9999,null,null,"No info","линк"]
[305105,"Vonalzo 1000 mm fem//SPARTA",1146,"B","Active",9999,null,null,"No info","линк"]
[305739,"Fåm szintvonalzî, 600 mm, muanyag fogantyu, 2 fiola// MTX",2112,"B","Active",9999,null,null,"No info","линк"]
[305779,"Fem szintvonalzo, 1000 mm, muanyag nyel, 2 ampulla// MTX MASTER",2894,"B","Active",9999,null,null,"No info","линк"]
[305799,"Metal level ruler, 1200 mm, plastic handle, 2 vials//MTX",4032,"B","Active",9999,null,null,"No info","линк"]
[310009,"Meroszalag, 10mx32mm, kis szalagos, megnagyobbitott magneses akaszto// MTX",3763,"B","Active",9999,null,null,"No info",{"$f":"HYPERLINK(L1714,\"линк\")","v":"линк"}]
[310017,"Gumi mérőszalag 7,5m x 25mm, gumi test, CE// MTX",1368,"B","Active",9999,null,null,"No info","линк"]
[310027,"Gumi mérőszalag 5m x 19mm, СЕ// MTX",849,"B","Active",9999,null,null,"No info","линк"]
[310029,"Rubber measuring tape 5m x19mm, rubber body// MTX",836,"B","Active",9999,null,null,"No info","линк"]
[310037,"Gumi mérőszalag 3m x 16mm, CE// MTX",591,"B","Active",9999,null,null,"No info","линк"]
[310049,"Meroszalag, 3m x 16mm, megnagyobbitott magneses akaszto, 3 rogzites// MTX",836,"B","Active",9999,null,null,"No info","линк"]
[310059,"Meroszalag, 5m x 25mm,, megnagyobbitott magneses akaszto, 3 rogzites// MTX",1356,"B","Active",9999,null,null,"No info","линк"]
[310067,"Måroszalag àllapot màgneses rogzitås, 8m x 25mm, gumi test, màgneses våg horog,CE// MTX",2032,"B","Active",9999,null,null,"No info","линк"]
[310107,"Màgneses måroszalag 3m x 16 mm, màgneses horogvåg, CE// MTX",389,"B","Active",9999,null,null,"No info","линк"]
[310117,"Màgneses måroszalag 5m x 19 mm, màgneses våg horog, CE// MTX",695,"B","Active",9999,null,null,"No info","линк"]
[310127,"Màgneses måroszalag 7,5m x 25 mm, màgneses våg horog, CE// MTX",1065,"B","Active",9999,null,null,"No info","линк"]
[310167,"Mérőszalag \"Fine\" 3m x 16 mm, műanyag ház, СЕ// MTX",497,"B","Active",9999,null,null,"No info","линк"]
[310177,"Mérőszalag 5mx19m, műanyag ház, СЕ// MTX",751,"B","Active",9999,null,null,"No info","линк"]
[310187,"Måroszalag 7,5mx25mm, muanyag hàz, CE// MTX",970,"B","Active",9999,null,null,"No info","линк"]
[310197,"Mérőszalag Status mágneses rögzítés, 3m x 16mm, gumi test, mágneses horog, ÑÅ// MTX",876,"B","Active",9999,null,null,"No info","линк"]
[310237,"Mérőszalag Status mágneses rögzítés, 5m x 19mm, gumi test, mágneses horog, СЕ// M",1344,"B","Active",9999,null,null,"No info","линк"]
[310317,"Måroszalag àllapot màgneses rogzitås, 7,5m x 25mm, gumi test, màgneses våg horog,CE// MTX",2183,"B","Active",9999,null,null,"No info","линк"]
[310329,"Meroszalag, 2m x 13mm, zseb, krom test// MTX",515,"B","Active",9999,null,null,"No info","линк"]
[310369,"Meroszalag, 3m x 13mm, zseb, krom test// MTX",597,"B","Active",9999,null,null,"No info","линк"]
[310409,"Meroszalag, 5m x 13mm, zseb, krom test// MTX",819,"B","Active",9999,null,null,"No info","линк"]
[310529,"Meroszalag, 3mx16mm, zseb, gumi tok, kettos folyamatos rogzites// MTX",631,"B","Active",9999,null,null,"No info","линк"]
[310867,"Mérőszalag Folyamatos rögzítés, 3m x 16mm, gumi test, folyékony rögzítés, CE// MTX",629,"B","Active",9999,null,null,"No info","линк"]
[310869,"Meroszalag folyamatos rogzites, 3mx16mm, zseb, gumi tok, folyamatos rogzites// MTX",545,"B","Active",9999,null,null,"No info","линк"]
[310887,"Mérőszalag, 5m x 19mm, gumi test, folyékony rögzítés, CE// MTX",835,"B","Active",9999,null,null,"No info","линк"]
[310889,"Meroszalag, 5mx19mm, zseb, gumi tok, folyamatos rogzites// MTX",641,"B","Active",9999,null,null,"No info","линк"]
[310907,"Måroszalag, 7,5m x 25mm, gumi test, folyåkony rogzitås, CE// MTX",1127,"B","Active",9999,null,null,"No info","линк"]
[310909,"Meroszalag, 7.5mx25mm, zseb, gumi tok, folyamatos rogzites// MTX",1264,"B","Active",9999,null,null,"No info","линк"]
[312047,"Geodéziai mérőszalag 20 m x 12,5 mm, zárt test, üvegszálas szalag// Sparta",1903,"B","Active",9999,null,null,"No info","линк"]
[312057,"Geodéziai mérőszalag 30 m x 12,5 mm, zárt test, üvegszálas szalag// Sparta",2397,"B","Active",9999,null,null,"No info","линк"]
[312067,"Geodéziai mérőszalag 50 m x 12,5 mm, zárt test, üvegszálas szalag// Sparta",3443,"B","Active",9999,null,null,"No info","линк"]
[313017,"Mérőszalag Classic, 2 m * 13 mm, műanyag ház, ÑÅ// Sparta",320,"B","Active",9999,null,null,"No info","линк"]
[313037,"Mérőszalag Classic, 5 m * 18 mm, műanyag ház, СЕ// Sparta",601,"B","Active",9999,null,null,"No info","линк"]
[313047,"Mérőszalag Classic, 7,5 m x 25 mm, műanyag ház, СЕ// Sparta",982,"B","Active",9999,null,null,"No info","линк"]
[313057,"Mérőszalag Classic, 10 m * 25 mm, műanyag ház, ÑÅ// Sparta",1289,"B","Active",9999,null,null,"No info","линк"]
[313117,"Meroszalag rugalmasa, 3 m * 16 mm, gumi tok//SPARTA",464,"B","Active",9999,null,null,"No info","линк"]
[313127,"Meroszalag rugalmasa, 5 m * 18 mm, gumi tok//SPARTA",678,"B","Active",9999,null,null,"No info","линк"]
[313137,"Meroszalag rugalmasa, 7.5m x 24 mm, gumi boritasu keret// SPARTA",1114,"B","Active",9999,null,null,"No info","линк"]
[313147,"Meroszalag rugalmasa, 10m x 25 mm, gumi boritasu keret// SPARTA",1499,"B","Active",9999,null,null,"No info","линк"]
[314007,"Geodéziai mérőszalag 20 m x 12,5 mm, nyitott test, üvegszálas szalag// Sparta",2580,"B","Active",9999,null,null,"No info","линк"]
[314017,"Geodéziai mérőszalag 30 m x 12,5 mm, nyitott test, üvegszálas szalag// Sparta",2807,"B","Active",9999,null,null,"No info","линк"]
[316019,"Csúsztamérő 150 mm// MTX",9238,"B","Active",9999,null,null,"No info","линк"]
[323425,"Fem derekszog, 250 mm//SPARTA",523,"B","Active",9999,null,null,"No info","линк"]
[323445,"Fem derekszog, 300 mm//SPARTA",550,"B","Active",9999,null,null,"No info","линк"]
[323465,"Fem derekszog, 350 mm//SPARTA",605,"B","Active",9999,null,null,"No info","линк"]
[323525,"Fem derekszog, 500 mm//SPARTA",798,"B","Active",9999,null,null,"No info","линк"]
[323675,"Fem derekszog, vizimertekkel , 300mm// SPARTA",2603,"B","Active",9999,null,null,"No info","линк"]
[323709,"Fem derekszog, 300 mm// MTX",629,"B","Active",9999,null,null,"No info","линк"]
[323719,"Fem derekszog, 600 mm// MTX",1601,"B","Active",9999,null,null,"No info","линк"]
[324719,"Derekszog, aluminium 250mm// MTX",1140,"B","Active",9999,null,null,"No info","линк"]
[324729,"Derekszog, aluminium 300mm// MTX",1338,"B","Active",9999,null,null,"No info","линк"]
[324739,"Derekszog, aluminium 350mm// MTX",1540,"B","Active",9999,null,null,"No info","линк"]
[324749,"Derekszog, aluminium 400mm// MTX",1755,"B","Active",9999,null,null,"No info","линк"]
[325207,"Kvarc mérőszalag, átlátszó test, puffer, 3m x 16 mm// MTX",586,"B","Active",9999,null,null,"No info","линк"]
[325217,"Kvarc måroszalag, àtlàtszî test, puffer, 5m x 19 mm// MTX",878,"B","Active",9999,null,null,"No info","линк"]
[325237,"Kvarc mérőszalag, átlátszó test, puffer, 7,5m x 25 mm// MTX",1308,"B","Active",9999,null,null,"No info","линк"]
[330205,"Aluminium vizmertek, 3 libella, vonalzo, sarga, 400 mm// SPARTA",890,"B","Active",9999,null,null,"No info","линк"]
[330235,"Aluminium vizmertek, 3 libella, vonalzo, sarga, 600 mm// SPARTA",1167,"B","Active",9999,null,null,"No info","линк"]
[330265,"Aluminium vizmertek, 3 libella, vonalzo, sarga, 800 mm// SPARTA",1379,"B","Active",9999,null,null,"No info","линк"]
[330295,"Aluminium vizmertek, 3 libella, vonalzo,sarga, 1000 mm//SPARTA",1637,"B","Active",9999,null,null,"No info","линк"]
[330325,"Aluminium vizmertek, 3 libella, vonalzo, sarga, 1200 mm// SPARTA",1869,"B","Active",9999,null,null,"No info","линк"]
[331205,"Aluminium vizmertek, 3 libella, vonalzo 400 mm// SPARTA",851,"B","Active",9999,null,null,"No info","линк"]
[331235,"Aluminium vizmertek, 3 libella, vonalzo 600 mm// SPARTA",1053,"B","Active",9999,null,null,"No info","линк"]
[331265,"Aluminium vizmertek,3 libella, vonalzo 800 mm// SPARTA",1240,"B","Active",9999,null,null,"No info","линк"]
[331295,"Aluminium vizmertek, 3 libella, vonalzo 1000 mm// SPARTA",1517,"B","Active",9999,null,null,"No info","линк"]
[331325,"Aluminium vizmertek, 3 libella, vonalzo 1200 mm// SPARTA",1721,"B","Active",9999,null,null,"No info",{"$f":"HYPERLINK(L1778,\"линк\")","v":"линк"}]
[332209,"Aluminium vizmertek, 3 libella, vonalzo, piros, 400 mm// MTX",1368,"B","Active",9999,null,null,"No info","линк"]
[332219,"Aluminium vizmårtåk, mart, 3 fiola, 2 ergonomikus fogantyu, 600 mm// MTX",3313,"B","Active",9999,null,null,"No info","линк"]
[332239,"Aluminium vizmertek, 3 libella, vonalzo,piros, 600 mm// MTX",1729,"B","Active",9999,null,null,"No info","линк"]
[332269,"Aluminium vizmertek, 3 libella, vonalzo, piros, 800 mm// MTX",2036,"B","Active",9999,null,null,"No info","линк"]
[332299,"Aluminium vizmertek, 3 libella, vonalzo, piros, 1000 mm// MTX",2399,"B","Active",9999,null,null,"No info","линк"]
[332329,"Aluminium vizmertek, 3 libella, vonalzo, piros, 1200 mm// MTX",2747,"B","Active",9999,null,null,"No info","линк"]
[332359,"Aluminium vizmertek, 3 libella, vonalzo, piros, 1500 mm// MTX",3276,"B","Active",9999,null,null,"No info","линк"]
[332419,"Aluminium vizmertek, 3 libella, vonalzo, piros, 2000 mm// MTX",4128,"B","Active",9999,null,null,"No info","линк"]
[336049,"Aluminium vizmertek, 3 libella, 400 mm// MTX",1383,"B","Active",9999,null,null,"No info","линк"]
[336069,"Aluminium vizmertek, 3 libella, 600 mm// MTX",1708,"B","Active",9999,null,null,"No info","линк"]
[336089,"Aluminium vizmertek, 3 libella, 800 mm// MTX",2042,"B","Active",9999,null,null,"No info","линк"]
[336109,"Aluminium vizmertek, 3 libella, 1000 mm// MTX",2403,"B","Active",9999,null,null,"No info","линк"]
[337019,"Magneses vizmertek, 3 libella, 460 mm// MTX",1774,"B","Active",9999,null,null,"No info","линк"]
[337029,"Magneses vizmertek, 3 libella, 600 mm// MTX",2144,"B","Active",9999,null,null,"No info","линк"]
[340049,"Aluminium vizmertek \"sin\", 400 mm, 2 libella + 1 forgathato, megerositett// MTX",2089,"B","Active",9999,null,null,"No info","линк"]
[340069,"Aluminium vizmertek \"sin\", 600 mm, 2 libella + 1 forgathato, megerositett// MTX",2861,"B","Active",9999,null,null,"No info","линк"]
[340089,"Aluminium vizmertek \"sin\", 800 mm, 2 libella + 1 forgathato, megerositett// MTX",3925,"B","Active",9999,null,null,"No info","линк"]
[340109,"Aluminium vizmertek \"sin\", 1000 mm, 2 libella + 1 forgathato, megerositett// MTX",4058,"B","Active",9999,null,null,"No info","линк"]
[340129,"Aluminium vizmertek \"sin\", 1200 mm, 2 libella + 1 forgathato, megerositett// MTX",4735,"B","Active",9999,null,null,"No info","линк"]
[340209,"Aluminium vizmertek \"sin\", 400 mm, 2 libella + 1 forgathato// MTX",1340,"B","Active",9999,null,null,"No info","линк"]
[340239,"Aluminium vizmertek \"sin\", 600 mm, 2 libella+ 1 forgathato// MTX",1678,"B","Active",9999,null,null,"No info","линк"]
[340269,"Aluminium vizmertek \"sin\", 800 mm, 2 libella+ 1 forgathato// MTX",2161,"B","Active",9999,null,null,"No info","линк"]
[340299,"Aluminium vizmertek \"sin\", 1000 mm, 2 libella+ 1 forgathato// MTX",2334,"B","Active",9999,null,null,"No info","линк"]
[340329,"Aluminium vizmertek \"sin\", 1200 mm, 2 libella+ 1 forgathato// MTX",2657,"B","Active",9999,null,null,"No info","линк"]
[340359,"Aluminium vizmertek \"sin\", 1500 mm, 2 libella + 1 forgathato// MTX",3238,"B","Active",9999,null,null,"No info","линк"]
[340389,"Aluminium vizmertek \"sin\", 1800 mm, 2 libella + 1 forgathato// MTX",3423,"B","Active",9999,null,null,"No info","линк"]
[340419,"Aluminium vizmertek \"sin\", 2000 mm, 2 libella + 1 forgathato// MTX",3722,"B","Active",9999,null,null,"No info","линк"]
[346055,"Muanyag vizmertek tipus (II), 3 libella, magneses, 225mm//SPARTA",354,"B","Active",9999,null,null,"No info","линк"]
[346115,"Muanyag vizmertek tipus (IV), 3 libella, magneses, 230mm//SPARTA",692,"B","Active",9999,null,null,"No info","линк"]
[347049,"Aluminium vizmertek, magneses, 400 mm, 2 libella + 1 visszaverodo, recezett, megerositett// MTX",2330,"B","Active",9999,null,null,"No info","линк"]
[347069,"Aluminium vizmertek, magneses, 600 mm, 3 libella (1 visszaverodo), recezett, megerositett// MTX",2945,"B","Active",9999,null,null,"No info","линк"]
[347089,"Aluminium vizmertek, magneses, 800 mm, 2 libella+ 1 visszaverodo, recezett, megerositett// MTX",3688,"B","Active",9999,null,null,"No info","линк"]
[347109,"Aluminium vizmertek, magneses, 1000 mm, 2 libella + 1 visszaverodo, recezett, megerositett// MTX",4325,"B","Active",9999,null,null,"No info","линк"]
[347129,"Aluminium vizmertek, magneses, 1200 mm, 3 libella (1 visszaverodo), recezett, megerositett// MTX",5081,"B","Active",9999,null,null,"No info","линк"]
[347159,"Aluminium vizmertek, magneses, 1500 mm, 2 libella + 1 visszaverodo, recezett, megerositett// MTX",5926,"B","Active",9999,null,null,"No info","линк"]
[347189,"Aluminium vizmertek, magneses, 1800 mm, 2 libella + 1 visszaverodo, recezett, megerositett// MTX",7023,"B","Active",9999,null,null,"No info","линк"]
[347209,"Aluminium vizmertek, magneses, 2000 mm, 2 libella + 1 visszaverodo, recezett, megerositett// MTX",7830,"B","Active",9999,null,null,"No info","линк"]
[349079,"Aluminium vizmertek, 600 mm, 2 libella (1 elulso)// MTX",4574,"B","Active",9999,null,null,"No info","линк"]
[350339,"Lezeres szintezo, 150 mm, allvany 1150 mm, onbeallito, muanyag tokban // MTX",21015,"B","Active",9999,null,null,"No info","линк"]
[350879,"Menetes adapter 5/8 \"-1/4\" // MTX",861,"B","Active",9999,null,null,"No info","линк"]
[350899,"3 lábú állvány lézer szintezőhöz, 1100 mm, adapter 5/8\"-1/4\"// MTX",6091,"B","Active",9999,null,null,"No info","линк"]
[370489,"Vízszintmérő, 10 m, skálával// MTX",1154,"B","Active",9999,null,null,"No info","линк"]
[370519,"Vízszintmérő, 15 m, skálával// MTX",1630,"B","Active",9999,null,null,"No info","линк"]
[370579,"Vízszintmérő, 25 m, skálával// MTX",2554,"B","Active",9999,null,null,"No info","линк"]
[405159,"Szegecselo 225 mm, szegecsek 2,4-3,2-4,0-4,8 mm // MTX",2063,"B","Active",9999,null,null,"No info","линк"]
[405249,"Szegecselo, 250 mm, szegecsek 2.4–3.2–4.0–4.8 mm// MTX",2108,"B","Active",9999,null,null,"No info","линк"]
[405279,"Szegecselo, 250 mm, szegecsek 2.4–3.2–4.0–4.8 mm, allithato 0 - 90°// MTX",2731,"B","Active",9999,null,null,"No info","линк"]
[405339,"Szegecselo, 263 mm, szegecsek 2.4–3.2–4.0–4.8 mm, forgathato 0 - 360°// MTX",3753,"B","Active",9999,null,null,"No info","линк"]
[405385,"Szegecselo 450 mm, ket nyelu, megerositett, szegecsek 3,2-4,0-4,8 mm//SPARTA",3680,"B","Active",9999,null,null,"No info","линк"]
[406109,"Szegecsek 3,2x6 mm, 50 db-os keszlet// MTX",177,"B","Active",9999,null,null,"No info","линк"]
[406209,"Szegecsek 3,2x8 mm, 50 db-os keszlet// MTX",177,"B","Active",9999,null,null,"No info","линк"]
[406259,"Szegecsek 3,2x10 mm, 50 db-os keszlet// MTX",195,"B","Active",9999,null,null,"No info","линк"]
[406279,"Szegecsek 3,2x12 mm, 50 db-os keszlet// MTX",200,"B","Active",9999,null,null,"No info","линк"]
[406319,"Szegecsek 4,0x6 mm, 50 db-os keszlet// MTX",234,"B","Active",9999,null,null,"No info","линк"]
[406329,"Szegecsek 4.0x8 mm, 50 db-os keszlet// MTX",242,"B","Active",9999,null,null,"No info","линк"]
[406359,"Szegecsek 4.0 x 10 mm, 50 db-os keszlet// MTX",257,"B","Active",9999,null,null,"No info","линк"]
[406409,"Szegecsek 4.0 x 12 mm, 50 db-os keszlet// MTX",281,"B","Active",9999,null,null,"No info","линк"]
[406439,"Szegecsek 4.0 x 14 mm, 50 db-os keszlet// MTX",291,"B","Active",9999,null,null,"No info","линк"]
[406459,"Szegecsek 4.0 x 16 mm, 50 db-os keszlet// MTX",308,"B","Active",9999,null,null,"No info","линк"]
[406509,"Szegecsek 4.8 x 8 mm, 50 db-os keszlet// MTX",320,"B","Active",9999,null,null,"No info","линк"]
[406559,"Szegecsek 4.8 x 10 mm, 50 db-os keszlet// MTX",364,"B","Active",9999,null,null,"No info","линк"]
[406609,"Szegecsek 4.8 x 12 mm, 50 db-os keszlet// MTX",377,"B","Active",9999,null,null,"No info","линк"]
[406639,"Szegecsek 4.8 x 14 mm, 50 db-os keszlet// MTX",403,"B","Active",9999,null,null,"No info","линк"]
[406659,"Szegecsek 4.8 x 16 mm, 50 db-os keszlet// MTX",434,"B","Active",9999,null,null,"No info",{"$f":"HYPERLINK(L1842,\"линк\")","v":"линк"}]
[409019,"Butor tuzogep, tipus: 140, 36, 300, 500, 6-14mm// MTX",7241,"B","Active",9999,null,null,"No info","линк"]
[409029,"Butor tuzogep, allithato, kapocs tipusa: 53, 4-14mm// MTX",4415,"B","Active",9999,null,null,"No info","линк"]
[409039,"Butor tuzogep, tipus: 53, 4-8mm// MTX",2961,"B","Active",9999,null,null,"No info","линк"]
[409079,"Butor tuzogep, muanyag, kapocs tipusa: 53, 4-8mm// MTX",2248,"B","Active",9999,null,null,"No info","линк"]
[409139,"Butor tuzogep, fem, allithato, kapocs tipusa 53, 6 to 14 mm// MTX PROFESSIONAL",5505,"B","Active",9999,null,null,"No info","линк"]
[409169,"Butortuzo, fåm, gyorstartî, 53-as tuzos tipus, 6-10 mm// MTX",4460,"B","Active",9999,null,null,"No info","линк"]
[409179,"Butortuzo, fåm, gyorstartî, 53 tuzos tipus, 4-14 mm// MTX",5381,"B","Active",9999,null,null,"No info","линк"]
[411169,"Kapcsok, 6 mm butor tuzogephez N53, 1000db// MTX",159,"B","Active",9999,null,null,"No info","линк"]
[411189,"Kapcsok, 8 mm butor tuzogephez N53, 1000db// MTX",183,"B","Active",9999,null,null,"No info","линк"]
[411209,"Kapcsok 10 mm butor tuzogephez 1000db// MTX",216,"B","Active",9999,null,null,"No info","линк"]
[411249,"Kapcsok 14mm butor tuzogephez N 53, 1000db// MTX",275,"B","Active",9999,null,null,"No info","линк"]
[411369,"Kapcsok, 6 mm hegyes butor tuzogephez N53, 1000db// MTX",173,"B","Active",9999,null,null,"No info","линк"]
[411389,"Kapcsok, 8 mm hegyes butor tuzogephez N 53,1000db// MTX",196,"B","Active",9999,null,null,"No info","линк"]
[411409,"Kapcsok 10 mm hegyes butor tuzogephez, N 53, 1000db// MTX",230,"B","Active",9999,null,null,"No info","линк"]
[411449,"Kapcsok 14 mm butor tuzogephez hegyes N53, 1000db// MTX",293,"B","Active",9999,null,null,"No info","линк"]
[412069,"Kapcsok 6 mm butor tuzogephez edzett N53, 1000db// MTX",183,"B","Active",9999,null,null,"No info","линк"]
[412089,"Kapcsok 8 mm butor tuzogephez edzett N53, 1000db// MTX",206,"B","Active",9999,null,null,"No info","линк"]
[412109,"Kapcsok 10 mm butor tuzogephez edzett, N53, 1000 db// MTX",244,"B","Active",9999,null,null,"No info","линк"]
[412129,"Kapcsok 12 mm butor tuzogephez, edzett, N 53, 1000 db// MTX",283,"B","Active",9999,null,null,"No info","линк"]
[413069,"Kapcsok 6 mm butor tuzogephez edzett N140, 1000db// MTX",275,"B","Active",9999,null,null,"No info","линк"]
[413089,"Kapcsok 8 mm butor tuzogephez edzett N140, 1000db// MTX",308,"B","Active",9999,null,null,"No info","линк"]
[413129,"Kapcsok 12 mm butor tuzogephez, edzett, N 140, 1000 db// MTX",415,"B","Active",9999,null,null,"No info","линк"]
[413149,"Kapcsok 14 mm butor tuzogephez edzett N140, 1000db// MTX",458,"B","Active",9999,null,null,"No info","линк"]
[414109,"Kapcsok 12 mm tuzogephez ( 40905), edzett, N 28, 1000 db// MTX",446,"B","Active",9999,null,null,"No info","линк"]
[414129,"Kapcsok 12 mm tuzogephez ( 40901), edzett, N 36, 1000 db// MTX",607,"B","Active",9999,null,null,"No info","линк"]
[414149,"Kapcsok 14 mm tuzogephez (40901) edzett N36, 1000db// MTX",703,"B","Active",9999,null,null,"No info","линк"]
[415049,"Szegek 14 mm, butor tuzogephez, fej nelkuli, 500 tipus, 1000 db MASTER// MTX",391,"B","Active",9999,null,null,"No info","линк"]
[415109,"Szegek 10 mm, butor tuzogephez, fejjel, 300 tipus, 1000 db MASTER// MTX",259,"B","Active",9999,null,null,"No info","линк"]
[415129,"Szegek 12 mm, butor tuzogephez, fejjel, 300 tipus, 1000 db MASTER// MTX",279,"B","Active",9999,null,null,"No info","линк"]
[415149,"Szegek 14 mm, butor tuzogephez, fejjel, 300 tipus, 1000 db MASTER// MTX",373,"B","Active",9999,null,null,"No info","линк"]
[416117,"Kapcsok, 6 mm bútortűzőhöz N53, 1000db// Sparta",206,"B","Active",9999,null,null,"No info","линк"]
[420027,"Butor tuzogep, 53-as tipus, kapcsok 4-14 mm, 200 db kapoccsal//SPARTA",1876,"B","Active",9999,null,null,"No info","линк"]
[420037,"Bútorlépcső, 53 típusú kapocs 4-14 mm, tok 500 db kapocs és mérőszalag 2m// Sparta",2847,"B","Active",9999,null,null,"No info","линк"]
[455159,"Kábelkötegelők, 100 x 2,5 mm, műanyag, fehér, 100 db.// MTX",179,"B","Active",9999,null,null,"No info","линк"]
[455199,"Kábelkötegelők, 150 x 2,5 mm, műanyag, fehér, 100 db.// MTX",250,"B","Active",9999,null,null,"No info","линк"]
[455319,"Kábelkötegelők, 300 x 3,6 mm, műanyag, fehér, 100 db.// MTX",770,"B","Active",9999,null,null,"No info","линк"]
[455389,"Kábelkötegelők, 400 x 4,8 mm, műanyag, fehér, 50 db.// MTX",698,"B","Active",9999,null,null,"No info","линк"]
[455459,"Kábelkötegelők, 150 x 2,5 mm, műanyag, fekete, 100 db.// MTX",250,"B","Active",9999,null,null,"No info","линк"]
[455609,"Cable ties, 300 x 3,6 mm, plastic, black, 100 pcs.// MTX",770,"B","Active",9999,null,null,"No info","линк"]
[455679,"Kábelkötegelők, 400 x 4,8 mm, műanyag, fekete, 50 db.// MTX",698,"B","Active",9999,null,null,"No info","линк"]
[475487,"Fém tömlőbilincsek, kulcs alakú rögzítőelem 16-25 mm, 100 db// MTX",6874,"B","Active",9999,null,null,"No info","линк"]
[475497,"Fém tömlőbilincsek, kulcs alakú rögzítőelem 20-32 mm, 50 db// MTX",3333,"B","Active",9999,null,null,"No info","линк"]
[475767,"W2 acél bilincsek standard csavarozás 8*12 mm, 100db/zsák, szélesség 9mm// MTX",4143,"B","Active",9999,null,null,"No info","линк"]
[475777,"W2 acél bilincsek szabványos csavarozás 10*16 mm, 100db/zsák, szélesség 9mm// MTX",4336,"B","Active",9999,null,null,"No info","линк"]
[475787,"W2 acél bilincsek szabványos csavarozás 12*20 mm, 100db/zsák, szélesség 9mm// MTX",4434,"B","Active",9999,null,null,"No info","линк"]
[475797,"Rozsdamentes acel csobilincs, standard csavarok 16-27mm, 100 db/csomag, 9 mm szelesseg MTX",4859,"B","Active",9999,null,null,"No info","линк"]
[475977,"Tömítőgumi tömítéskészlet, D 7 - 53 mm, 406 db// MTX",3146,"B","Active",9999,null,null,"No info","линк"]
[475987,"Tömítő gumi tömítéskészlet D 3 - 22 mm, 279 db// MTX",1499,"B","Active",9999,null,null,"No info","линк"]
[476259,"Kábel átlátszó fém polimer PR-2.0, (2,0 mm vastag, 20 m.p. gombolyag) // MTX",2258,"B","Active",9999,null,null,"No info","линк"]
[476279,"Kábel átlátszó fém polimer PR-2.5, (2,5 mm vastag, 20 m.p. gombolyag) // MTX",2559,"B","Active",9999,null,null,"No info","линк"]
[476299,"Kábel átlátszó fém polimer PR-3.0, (3,0 mm vastag, 20 m.p. gombolyag) // MTX",3063,"B","Active",9999,null,null,"No info","линк"]
[476514,"Tömlőbilincsek, fém, kulccsal, 20-32 mm, 5x2 db// Sibrtech",1315,"B","Active",9999,null,null,"No info","линк"]
[476534,"Tömlőbilincsek, fém, kulccsal, 25-40 mm, 5x2 db// Sibrtech",1366,"B","Active",9999,null,null,"No info","линк"]
[476607,"Fém tömlőbilincsek, kulcs alakú rögzítőelem 10-16 mm, 2 db// MTX",158,"B","Active",9999,null,null,"No info","линк"]
[476617,"Fém tömlőbilincsek, kulcs alakú rögzítőelem 12-20 mm, 2 db// MTX",168,"B","Active",9999,null,null,"No info","линк"]
[476627,"Fém tömlőbilincsek, kulcs alakú rögzítőelem 16-25 mm, 2 db// MTX",172,"B","Active",9999,null,null,"No info","линк"]
[476637,"Fém tömlőbilincsek, kulcs alakú rögzítőelem 20-32 mm, 2 db// MTX",193,"B","Active",9999,null,null,"No info","линк"]
[476647,"Fém tömlőbilincsek, kulcs alakú rögzítőelem 20-35 mm, 2 db// MTX",195,"B","Active",9999,null,null,"No info","линк"]
[476657,"Fém tömlőbilincsek, kulcs alakú rögzítőelem 25-45 mm, 2 db// MTX",197,"B","Active",9999,null,null,"No info","линк"]
[477509,"Horganyzott acélhuzal 0,5 mm, hossza 200 m// MTX",726,"B","Active",9999,null,null,"No info","линк"]
[477519,"Horganyzott acélhuzal 0,7 mm, hossza 75 m// MTX",518,"B","Active",9999,null,null,"No info","линк"]
[477529,"Horganyzott acélhuzal 0,9 mm, hossza 50 m// MTX",534,"B","Active",9999,null,null,"No info","линк"]
[477539,"Horganyzott acélhuzal 1,2 mm, hossza 50 m// MTX",780,"B","Active",9999,null,null,"No info","линк"]
[507219,"Hidraulikus palackemelő, 5 t, emelkedő 216-413 mm// MTX",12158,"B","Active",9999,null,null,"No info",{"$f":"HYPERLINK(L1906,\"линк\")","v":"линк"}]
[507259,"Hidraulikus palackemelő 10 t, emelkedő 230-460 mm// MTX",15761,"B","Active",9999,null,null,"No info","линк"]
[507279,"Jack hidraulikus típusú \"palack\", 12 t, emelési magasság 230-465 mm// MTX MASTER",18121,"B","Active",9999,null,null,"No info","линк"]
[507569,"Hidraulikus palackemelő 5 t, emelkedés 216-413 mm, műanyag tokban// MTX",13324,"B","Active",9999,null,null,"No info","линк"]
[516239,"Összecsukható jack-állvány 3t, h emelés 295-425 mm 2 db készlet// MTX",10937,"B","Active",9999,null,null,"No info","линк"]
[520097,"Elektromos kocsi T-1000, 1 t, 540 W//DENZEL",79159,"B","Active",9999,null,null,"No info","линк"]
[520117,"Elektromos telpher TF-250, 0,25 t, 540 W, magasság 12 m 10 m/perc// Denzel",40059,"B","Active",9999,null,null,"No info","линк"]
[520127,"Elektromos csörlő TF-500, 0,5 t, 1020 W, magasság 12 m, 10 m/perc// Denzel",65712,"B","Active",9999,null,null,"No info","линк"]
[520167,"Elektromos csörlő TF-1000, 1t, 1600 W, magasság12 m, 8 m/min// Denzel",102366,"B","Active",9999,null,null,"No info","линк"]
[522209,"Karos csorlo, rud - 2t, emeles - 0,8t, szimpla racsnis kerek//MTX",8172,"B","Active",9999,null,null,"No info","линк"]
[522259,"Levered winch, rod - 4t, lifting - 1.6t, double ratchet whel//MTX",15945,"B","Active",9999,null,null,"No info","линк"]
[522609,"Levered winch, rod - 2t, lifting - 0.8t, double ratchet whel//MTX",8699,"B","Active",9999,null,null,"No info","линк"]
[525415,"Bearing puller 3 legs 250 mm//SPARTA",4950,"B","Active",9999,null,null,"No info","линк"]
[528205,"Olajszuro leszedo // SPARTA",912,"B","Active",9999,null,null,"No info","линк"]
[531305,"Olajozo, 0.3 ltr, rugalmas fejjel// SPARTA",1142,"B","Active",9999,null,null,"No info","линк"]
[540025,"Fem bilincs szett 8-18mm, 5 db-os keszlet// SPARTA",163,"B","Active",9999,null,null,"No info","линк"]
[540045,"Fem bilincs szett 11-20mm, 5 db-os keszlet// SPARTA",163,"B","Active",9999,null,null,"No info","линк"]
[540065,"Fem bilincs szett 13-23mm, 5 db-os keszlet// SPARTA",173,"B","Active",9999,null,null,"No info","линк"]
[540085,"Fem bilincs szett 18-25mm, 5 db-os keszlet// SPARTA",173,"B","Active",9999,null,null,"No info","линк"]
[540105,"Fem bilincs szett 14-27mm, 5 db-os keszlet// SPARTA",173,"B","Active",9999,null,null,"No info","линк"]
[543305,"Gumipok 8 akasztoval // SPARTA",523,"B","Active",9999,null,null,"No info","линк"]
[543345,"Gumipok szett 450-600-900mm, 3 db // SPARTA",371,"B","Active",9999,null,null,"No info","линк"]
[543385,"Csomagtarto szij akasztoval, 5m, automatikusan bepattinthato// SPARTA",906,"B","Active",9999,null,null,"No info","линк"]
[549125,"Areométer az elektrolit sűrűségének mérésére// Sparta",654,"B","Active",9999,null,null,"No info","линк"]
[552915,"Hokefe jegkaparoval, 415 mm // SIBRTEX Russian",772,"B","Active",9999,null,null,"No info","линк"]
[552935,"Autos ho sepru jegkaparoval, 550 mm / SPARTA Oroszorszag",1018,"B","Active",9999,null,null,"No info","линк"]
[552985,"Hokefe jegkaparoval, 530 mm // Sparta",880,"B","Active",9999,null,null,"No info","линк"]
[553237,"Hókefe jégkaparóval, 590 mm// Denzel",807,"B","Active",9999,null,null,"No info","линк"]
[553267,"Hókefe jégkaparóval, kihúzható, elforgatható kefefej, 750-1120 mm// Denzel",2841,"B","Active",9999,null,null,"No info","линк"]
[553287,"Jégkaparó puha markolattal//Denzel",589,"B","Active",9999,null,null,"No info","линк"]
[570029,"Spiral legtomlo, 5 m, gyors lecsatlakoztathatosag// MTX",1454,"B","Active",9999,null,null,"No info","линк"]
[570049,"Spiral legtomlo, 10 m, gyors lecsatlakoztathatosag// MTX",2167,"B","Active",9999,null,null,"No info","линк"]
[570069,"Spiral legtomlo, 15 m, gyors lecsatlakoztathatosag// MTX",2849,"B","Active",9999,null,null,"No info","линк"]
[570077,"PU spirál visszacsapó levegőtömlő gyorscsatlakozóval, BASF, 10 m// Stels",3560,"B","Active",9999,null,null,"No info","линк"]
[570089,"Para levalaszto, 1/4\"// MTX",1385,"B","Active",9999,null,null,"No info","линк"]
[570097,"PU spirális visszacsapó levegőtömlő gyorscsatlakozóval, BASF, 15 m// Stels",5107,"B","Active",9999,null,null,"No info","линк"]
[570169,"atalakito szett, gyors lecsatlakoztathatosag, menetes, 2 db,1/2\"// MTX",1100,"B","Active",9999,null,null,"No info","линк"]
[570197,"Spirális légtömlő 8x12 mm, 18 bar, gyorscsatlakozók, 15 m// Stels",3948,"B","Active",9999,null,null,"No info","линк"]
[570517,"Gyorscsatlakozó, 1/4\" külső menet, 2 db// Stels",1937,"B","Active",9999,null,null,"No info","линк"]
[570527,"Gyorscsatlakozó, 1/4\", tömlőhöz 6 mm, 2 db// Stels",1998,"B","Active",9999,null,null,"No info","линк"]
[570537,"Dugaszolható csatlakozó (\"apa\") külső menet 1/4\", 2 db// Stels",332,"B","Active",9999,null,null,"No info","линк"]
[570547,"Gyors csatlakozó, 1/4\", anyamentes, 2 db// Stels",363,"B","Active",9999,null,null,"No info","линк"]
[570557,"Dugaszolható csatlakozó, 1/4\", tömlőhöz 6 mm, 2 db// Stels",393,"B","Active",9999,null,null,"No info","линк"]
[570567,"Gyorscsatlakozó, 3/8\", belső menetes, 2 db// Stels",1931,"B","Active",9999,null,null,"No info","линк"]
[570577,"Gyorscsatlakozó, 3/8\", külső menet, 2 db// Stels",1931,"B","Active",9999,null,null,"No info","линк"]
[570587,"Gyorscsatlakozó, 3/8\", tömlőhöz 8 mm, 2 db// Stels",1564,"B","Active",9999,null,null,"No info","линк"]
[570607,"Dugaszolható csatlakozó (\"apa\") belső menet 3/8\", 2 db// Stels",487,"B","Active",9999,null,null,"No info","линк"]
[570617,"Dugaszolható csatlakozó, 3/8\", tömlőhöz 8 mm, 2 db// Stels",367,"B","Active",9999,null,null,"No info","линк"]
[570627,"Karos csatlakozó tömlőhöz 8 mm, 2 db// Stels",559,"B","Active",9999,null,null,"No info","линк"]
[570637,"Gyorscsatlakozó tömlőhöz 8 mm, 2 db// Stels",548,"B","Active",9999,null,null,"No info","линк"]
[570647,"Gyorscsatlakozó, 1/2\" belső menet, 1 db// Stels",1151,"B","Active",9999,null,null,"No info","линк"]
[570657,"Gyorscsatlakozo anya, 1/2\", kulso menet, 1 darab.//STELS",1151,"B","Active",9999,null,null,"No info","линк"]
[570667,"Gyorscsatlakozó, 1/2\", tömlőhöz 10 mm, 1 db// Stels",1061,"B","Active",9999,null,null,"No info","линк"]
[570677,"Dugaszolható csatlakozó, 1/2\", külső menet, 2 db// Stels",664,"B","Active",9999,null,null,"No info","линк"]
[570687,"Dugaszolható mellbimbó, 1/2\", belső menet, 2 db// Stels",664,"B","Active",9999,null,null,"No info","линк"]
[570697,"Dugaszolható csatlakozó (\"apa\") tömlőhöz 10 mm, 2 db// Stels",570,"B","Active",9999,null,null,"No info","линк"]
[570707,"Karos csatlakozó tömlőhöz 10 mm, 2 db// Stels",688,"B","Active",9999,null,null,"No info","линк"]
[573049,"Szoropisztoly keszlet, 5 egyseg, gyors csatlakoztatas, kompresszorhoz // MTX",12037,"B","Active",9999,null,null,"No info","линк"]
[573149,"Festekszoro pisztoly ,felso tartallyal 0.6L + fejatmero 1.2, 1.5, - 1.8 mm, kompresszorhoz // MTX",5962,"B","Active",9999,null,null,"No info","линк"]
[573159,"Festekszoro pisztoly ,felso tartallyal 1.0L + fejatmero 1.2, 1.5, - 1.8 mm, kompresszorhoz// MTX",6349,"B","Active",9999,null,null,"No info","линк"]
[573169,"Festekszoro pisztoly, also tartallyal 1.0L + fejatmero 1.2, 1.5, - 1.8 mm, kompresszorhoz // MTX",7133,"B","Active",9999,null,null,"No info","линк"]
[573179,"Festekszoro pisztoly ,also tartallyal 0.75L + fejatmero1.2, 1.5, - 1.8 mm, kompresszorhoz // MTX",6742,"B","Active",9999,null,null,"No info","линк"]
[573189,"Festekszoro pisztoly ,felso tartallyal 0.1L, fej 0.5 mm , kompresszorhoz // MTX",5846,"B","Active",9999,null,null,"No info","линк"]
[573229,"Kerekfuvato pisztoly oraval, tomlovel, kompresszorhoz // MTX",2769,"B","Active",9999,null,null,"No info","линк"]
[573269,"Homokszoro pisztoly also tartallyal, kompresszorhoz // MTX",5244,"B","Active",9999,null,null,"No info",{"$f":"HYPERLINK(L1970,\"линк\")","v":"линк"}]
[573289,"Homokszoro pisztoly tomlovel, kompresszorhoz // MTX",5093,"B","Active",9999,null,null,"No info","линк"]
[573309,"Levego fuvato pisztoly, kompresszorhoz // MTX",1089,"B","Active",9999,null,null,"No info","линк"]
[573329,"Levego fuvato pisztoly hosszitott fejjel, 135 mm, kompresszorhoz // MTX",1521,"B","Active",9999,null,null,"No info","линк"]
[573349,"Levego fuvato pisztoly hosszitott, hajlitott fejjel, 270 mm, kompresszorhoz // MTX",1171,"B","Active",9999,null,null,"No info","линк"]
[573369,"Levego fuvato pisztoly fejjel, 6 db, kompresszorhoz // MTX",1474,"B","Active",9999,null,null,"No info","линк"]
[573607,"AG 801 HVLP szórópisztoly, gravitációs, fúvóka 1,5 mm és 1,8 mm// Stels",12128,"B","Active",9999,null,null,"No info","линк"]
[573617,"AG 810 HVLP szórópisztoly, gravitációs, fúvóka 0,8 mm és 1 mm// Stels",8914,"B","Active",9999,null,null,"No info","линк"]
[573647,"AS 702 НP professzionális szórópisztoly, fogyasztási típus, fúvóka 1,8 mm és 2,0 mm// Stels",17036,"B","Active",9999,null,null,"No info","линк"]
[573657,"Szórópisztoly AG 901 LVMP professional, gravitációs, fúvóka 1,3 mm és 1,1 mm// Stels",23017,"B","Active",9999,null,null,"No info","линк"]
[573669,"AS 802 HVLP szórópisztoly, professzionális, fogyasztási típus, fúvóka 1,4mm// Stels",14324,"B","Active",9999,null,null,"No info","линк"]
[573677,"AG 950 LVLP szîrîpisztoly, professzionàlis, gravitàciîs tipusu, fuvîka 1,5mm// Stels",18718,"B","Active",9999,null,null,"No info","линк"]
[573687,"AS 951 LVLP szórópisztoly, professzionális, fogyasztási típus, fúvóka 1,5 mm// Stels",18900,"B","Active",9999,null,null,"No info","линк"]
[573697,"Szóró Pisztoly AG970 LVLP, Professzionális, Gravitációs, fúvóka 0,8mm//STELS",14854,"B","Active",9999,null,null,"No info","линк"]
[573809,"Javitokeszlet szoropisztolyhoz: fej 1.2mm+tu+szororesz+fejrogzito// MTX",973,"B","Active",9999,null,null,"No info","линк"]
[573829,"Javitokeszlet szoropisztolyhoz: fej 1.5mm+tu+szororesz+fejrogzito// MTX",973,"B","Active",9999,null,null,"No info","линк"]
[573849,"Javitokeszlet szoropisztolyhoz: fej 1.8mm+tu+szororesz+fejrogzito// MTX",975,"B","Active",9999,null,null,"No info","линк"]
[574059,"Pneumatikus szegező 10-32 mm// Mátrix",10830,"B","Active",9999,null,null,"No info","линк"]
[574159,"Pneumatikus tűzőgép téglalap alakú kapcsokhoz 6-13 mm// MTX",10752,"B","Active",9999,null,null,"No info","линк"]
[574259,"Pin Szegező, szögek 23GA hossz 12-30mm// MTX",13296,"B","Active",9999,null,null,"No info","линк"]
[574269,"Air brad szögező és tűző 2 az 1-ben, 18GA hossz 10-50mm, kapcsok 18GA hossz 25-40// MTX",15853,"B","Active",9999,null,null,"No info","линк"]
[574687,"Air Hammer + fejkészlet, ÍÐ4500, 113 L/perc, 4500 BPM//Denzel",8623,"B","Active",9999,null,null,"No info","линк"]
[574717,"1/2\" levegős csavarkulcs, IW680, 680 Nm, 7000 RPM// Denzel",24781,"B","Active",9999,null,null,"No info","линк"]
[574757,"1/2\" Sq. Dr. Air Ratchet Reinforced Wrench, 100Nm, 160 RPM// Denzel",11708,"B","Active",9999,null,null,"No info","линк"]
[574767,"Excentrikus csiszológép, EPG 150, 150 mm, 5 mm, 160 L/perc, 10000 RPM//Denzel",17607,"B","Active",9999,null,null,"No info","линк"]
[574787,"Pneumatikus fúró PD500, 500 ford./perc, 114 l/perc, 13 mm Denzel",15751,"B","Active",9999,null,null,"No info","линк"]
[576029,"Nails for pneumatic nailer, length - 10mm, width - 1,25mm, thickness - 1 mm, 5000pcs//MTX",882,"B","Active",9999,null,null,"No info","линк"]
[576049,"Nails for pneumatic nailer, length - 15 mm, width - 1,25mm, thickness - 1 mm, 5000pcs//MTX",1256,"B","Active",9999,null,null,"No info","линк"]
[576069,"Nails for pneumatic nailer, length - 20 mm, width - 1,25mm, thickness - 1 mm, 5000pcs//MTX",1562,"B","Active",9999,null,null,"No info","линк"]
[576089,"Nails for pneumatic nailer, length - 25 mm, width - 1,25mm, thickness - 1 mm, 5000pcs//MTX",1943,"B","Active",9999,null,null,"No info","линк"]
[576109,"Nails for pneumatic nailer, length - 30 mm, width - 1,25mm, thickness - 1 mm, 5000pcs//MTX",2387,"B","Active",9999,null,null,"No info","линк"]
[576129,"Nails for pneumatic nailer, length - 32 mm, width - 1,25mm, thickness - 1 mm, 5000pcs//MTX",2423,"B","Active",9999,null,null,"No info","линк"]
[576149,"Nails for pneumatic nailer, length - 35 mm, width - 1,25mm, thickness - 1 mm, 5000pcs//MTX",2735,"B","Active",9999,null,null,"No info","линк"]
[576169,"Nails for pneumatic nailer, length - 40 mm, width - 1,25mm, thickness - 1 mm, 5000pcs//MTX",3103,"B","Active",9999,null,null,"No info","линк"]
[576189,"Nails for pneumatic nailer, length - 45 mm, width - 1,25mm, thickness - 1 mm, 5000pcs//MTX",3350,"B","Active",9999,null,null,"No info","линк"]
[576209,"Nails for pneumatic nailer, length - 50 mm, width - 1,25mm, thickness - 1 mm, 5000pcs//MTX",3796,"B","Active",9999,null,null,"No info","линк"]
[576519,"Tűzőkapcsok 18GA pneumatikus tűzőgéphez 1,25x1,0 mm, hossz 13 mm, szélesség - 5,7 mm, 5000db// MTX",1656,"B","Active",9999,null,null,"No info","линк"]
[576529,"Staples for pneumatic stapler 6 mm, width - 1,2mm, thickness - 0,6mm, staple width 11,2 mm, 5000pcs/",902,"B","Active",9999,null,null,"No info","линк"]
[576539,"Tűzőkapcsok 18GA pneumatikus tűzőgéphez 1,25x1,0mm, hossz 16mm, szélesség - 5,7mm, 5000db// MTX",1955,"B","Active",9999,null,null,"No info","линк"]
[576549,"Staples for pneumatic stapler 8 mm, width - 1,2mm, thickness - 0,6mm, staple width 11,2 mm, 5000pcs/",890,"B","Active",9999,null,null,"No info","линк"]
[576559,"Tűzőkapcsok 18GA pneumatikus tűzőhöz 1,25x1,0 mm, hossz 19 mm, szélesség - 5,7 mm, 5000db// MTX",2240,"B","Active",9999,null,null,"No info","линк"]
[576569,"Staples for pneumatic stapler 10 mm, width - 1,2mm, thickness - 0,6mm, staple width 11,2 mm, 5000pcs",1187,"B","Active",9999,null,null,"No info","линк"]
[576579,"Tűzőkapcsok 18GA pneumatikus tűzőgéphez 1,25x1,0 mm, hossz 22 mm, szélesség - 5,7 mm, 5000db// MTX",2572,"B","Active",9999,null,null,"No info","линк"]
[576589,"Staples for pneumatic stapler 13 mm, width - 1,2mm, thickness - 0,6mm, staple width 11,2 mm, 5000pcs",1452,"B","Active",9999,null,null,"No info","линк"]
[576599,"Tűzőkapcsok 18GA pneumatikus tűzőhöz 1,25x1,0 mm, hossz 25 mm, szélesség - 5,7 mm, 5000db// MTX",2871,"B","Active",9999,null,null,"No info","линк"]
[576609,"Staples for pneumatic stapler 16 mm, width - 1,2mm, thickness - 0,6mm, staple width 11,2 mm, 5000pcs",1647,"B","Active",9999,null,null,"No info","линк"]
[576619,"Tűzőkapcsok 18GA pneumatikus tűzőhöz 1,25x1,0 mm, hossz 28 mm, szélesség - 5,7 mm, 5000db// MTX",3352,"B","Active",9999,null,null,"No info","линк"]
[576629,"Staples for pneumatic stapler 19 mm, width - 1,2mm, thickness - 0,6mm, staple width 11,2 mm, 5000pcs",1914,"B","Active",9999,null,null,"No info","линк"]
[576639,"Tűzőkapcsok 18GA pneumatikus tűzőhöz 1,25x1,0 mm, hossz 32 mm, szélesség - 5,7 mm, 5000db// MTX",3665,"B","Active",9999,null,null,"No info","линк"]
[576649,"Staples for pneumatic stapler 22 mm, width - 1,2mm, thickness - 0,6mm, staple width 11,2 mm, 5000pcs",2254,"B","Active",9999,null,null,"No info","линк"]
[576659,"Tűzőkapcsok 18GA pneumatikus tűzőgéphez 1,25x1,0 mm, hossz 35 mm, szélesség - 5,7 mm, 5000db// MTX",3896,"B","Active",9999,null,null,"No info","линк"]
[576679,"Tűzőkapcsok 18GA pneumatikus tűzőhöz 1,25x1,0 mm, hossz 38 mm, szélesség - 5,7 mm, 5000db// MTX",4156,"B","Active",9999,null,null,"No info","линк"]
[576699,"Csapszegek 23GA pneumatikus tűszegezőhöz, átm. 0,64 mm, hossz 12mm, 5000db// MTX",419,"B","Active",9999,null,null,"No info","линк"]
[576719,"Csapszegek 23GA pneumatikus tűszegezőhöz, átm. 0,64 mm, hossz 15mm, 5000db// MTX",540,"B","Active",9999,null,null,"No info","линк"]
[576739,"Csapszegek 23GA pneumatikus tűszegezőhöz, átm. 0,64 mm, hossz 18mm, 5000db// MTX",660,"B","Active",9999,null,null,"No info","линк"]
[576759,"Csapszegek 23GA pneumatikus tűszegezőhöz, átm. 0,64 mm, hossz 20mm, 5000db// MTX",703,"B","Active",9999,null,null,"No info","линк"]
[576779,"Csapszegek 23GA pneumatikus tűszegezőhöz, átm. 0,64 mm, hossz 22mm, 5000db// MTX",780,"B","Active",9999,null,null,"No info","линк"]
[576799,"Csapszegek 23GA pneumatikus tűszegezőhöz, átm. 0,64 mm, hossz 25mm, 5000db// MTX",890,"B","Active",9999,null,null,"No info","линк"]
[580547,"Járműkompresszor DC-20, 12V, 10 bar., 35 L/perc// Denzel",11284,"B","Active",9999,null,null,"No info","линк"]
[587107,"Vezeték nélküli fűkasza RT300-36, Li-ion, 36 V, 4 Ah, vágó szélesség 300 mm// Denzel",99379,"B","Active",9999,null,null,"No info","линк"]
[588027,"Benzines fűnyíró GLD-460, 146 cc, 457 mm, kézi toló, 50 L// Denzel",123907,"B","Active",9999,null,null,"No info","линк"]
[588037,"Benzines fűnyíró GLD-460SP, 146 cc, 457 mm, önjáró, 50 L// Denzel",140402,"B","Active",9999,null,null,"No info","линк"]
[588047,"Benzines fűnyíró GLD-520SP, 196 cc, 520 mm, önjáró, 60 L// Denzel",194395,"B","Active",9999,null,null,"No info","линк"]
[588057,"Benzines fűnyíró GLD-420, 146 cc, 420 mm, kézi toló, 40 L// Denzel",113180,"B","Active",9999,null,null,"No info","линк"]
[588077,"Benzines fűnyíró GLD-520SP-BS, 161 cc BRIGGS STRATTON, 520 mm, önjáró, 60 L// Denzel",266254,"B","Active",9999,null,null,"No info",{"$f":"HYPERLINK(L2034,\"линк\")","v":"линк"}]
[594107,"Vezeték nélküli vágó  RBC510-36, Li-ion, 36 V, 4 Ah, 510 mm kés, forgatható nyél // Denzel",77781,"B","Active",9999,null,null,"No info","линк"]
[598017,"Vezetőléc DGS-4516 láncfűrészhez, hossz 40 cm (16\"), emelkedés 3/8\", nyomtáv 1,3 mm, 57 fog// Denzel",2580,"B","Active",9999,null,null,"No info","линк"]
[598037,"Lancvezeto DGS-5820 benz.lancfureszhez, hossz 50cm (20\"), osztas 0,325\", vast.1,5mm, 76 szem//Denzel",3120,"B","Active",9999,null,null,"No info","линк"]
[598047,"Lánc DGS-4516 láncfűrészhez, vezetőléc 40 cm (16\"), osztás 3/8\", nyomtáv 1,3 mm, 57 lengőkar// Denzel",2311,"B","Active",9999,null,null,"No info","линк"]
[598057,"Lanc DGS-5218 benz.lancfureszhez, lancvezeto 45сm (18\"), osztas 0,325\", vast.1,5mm, 72 szem//Denzel",3279,"B","Active",9999,null,null,"No info","линк"]
[598067,"Lanc DGS-5820 benz.lancfureszhez, lancvezeto 50cm (20\"), osztas 0,325\", vast.1,5mm, 76 szem//Denzel",3439,"B","Active",9999,null,null,"No info","линк"]
[598097,"Vezetőlemez GCS-5850 láncfűrészhez, hossz 50 cm (20\"), emelkedés 0,325\", nyomtáv 1,5 mm, 76 lengőkar// MTX",2513,"B","Active",9999,null,null,"No info","линк"]
[598147,"Vezetőlemez DGS-4516P láncfűrészhez, hossz 40 cm (16\"), emelkedés 0,325\", nyomtáv 1,5 mm, 64 lengőkar// Denzel",2267,"B","Active",9999,null,null,"No info","линк"]
[598157,"Lánc DGS-4516P láncfűrészhez, vezetőrúd 40 cm (16\"), emelkedés 0,325\", nyomtáv 1,5 mm, 64 lengőkar// Denzel",2523,"B","Active",9999,null,null,"No info","линк"]
[604107,"Csúszó metszőfűrész, munkadarab 150 mm, műanyag nyél// Palisad",1354,"B","Active",9999,null,null,"No info","линк"]
[604118,"Osszecsukhato kerti furesz, 175 mm. 3Ds fogak vedo resszel ellatott gumi boritasu nyel//PALISAD",2185,"B","Active",9999,null,null,"No info","линк"]
[604148,"Firastrau gradina, pliabil, 250 mm, dinti caliti-3D, maner doua componente, cauciuc// PALISAD LUX",1680,"B","Active",9999,null,null,"No info","линк"]
[604158,"Összecsukható kerti fűrész, műanyag nyél// Palisad",1261,"B","Active",9999,null,null,"No info","линк"]
[604208,"Lombfuresz, vedo szarny, ket komponensu nyel, 530 mm//PALISAD",1743,"B","Active",9999,null,null,"No info","линк"]
[604218,"Penge lombfureszhez, 530 mm//PALISAD",389,"B","Active",9999,null,null,"No info","линк"]
[604407,"Kerti olló növényekhez, KS-610, LUXE// Palisad",1409,"B","Active",9999,null,null,"No info","линк"]
[604417,"Kerti olló növényekhez, KS-609, LUXE// Palisad",1409,"B","Active",9999,null,null,"No info","линк"]
[604677,"Bypass metszővágó, 255 mm, varrat nélküli kovácsolt, gumírozott fém fogantyúk// Palisad",1774,"B","Active",9999,null,null,"No info","линк"]
[604707,"Rugós metszővágó, 210 mm, megfogó állítás, alumínium fogantyúk, LUXE// Palisad",6826,"B","Active",9999,null,null,"No info","линк"]
[604717,"Rugós metszőolló, 230 mm, megerősített, alsó PVC köpenyben, LUXE// Palisad",6769,"B","Active",9999,null,null,"No info","линк"]
[604727,"Rugós metszőolló, 230mm, aluminium nyél LUXE//Palisad",3936,"B","Active",9999,null,null,"No info","линк"]
[604737,"Rugós metszőolló, 220 mm, alumínium nyél, LUXE// Palisad",2729,"B","Active",9999,null,null,"No info","линк"]
[604747,"Rugós metszővágó, 210 mm, megfogó állítás, alumínium fogantyúk, LUXE// Palisad",4477,"B","Active",9999,null,null,"No info","линк"]
[604757,"Üllő metsző, 205 mm, fogó állítás, alumínium fogantyúk, LUXE// Palisad",4404,"B","Active",9999,null,null,"No info","линк"]
[604767,"Virág metsző, 215 mm, markolat állítható, alumínium fogantyúk, LUXE// Palisad",4534,"B","Active",9999,null,null,"No info","линк"]
[604858,"Mellevago metszoollo, befogo beallitas// PALISAD",2552,"B","Active",9999,null,null,"No info","линк"]
[604868,"Utkozos metszoollo, befogo beallitas// PALISAD",2254,"B","Active",9999,null,null,"No info","линк"]
[604898,"Mellevago metszoollo, aluminium markolat// PALISAD",2376,"B","Active",9999,null,null,"No info","линк"]
[604908,"Utkozos metszoollo, aluminium markolat// PALISAD",1615,"B","Active",9999,null,null,"No info","линк"]
[604927,"Teljesen fém rugós metszőolló// Palisad",1409,"B","Active",9999,null,null,"No info","линк"]
[604937,"Rugós Metszőólló, 185 mm, műanyag nyél// Palisad",1041,"B","Active",9999,null,null,"No info","линк"]
[604947,"Kerti snips, 205 mm, műanyag fogantyúk// Palisad",1041,"B","Active",9999,null,null,"No info","линк"]
[604957,"Bypass pruner, 200 mm, metal handles, upper in PVC jacket//Palisad",1916,"B","Active",9999,null,null,"No info","линк"]
[605017,"Rugós metszőolló, 210 mm, megerősített, alsó nyél PVC kabátban, LUXE// Palisad",6604,"B","Active",9999,null,null,"No info","линк"]
[605037,"Rugós metszővágó, 180 mm, gumírozott fém fogantyúk// Palisad",1083,"B","Active",9999,null,null,"No info","линк"]
[605217,"Elágazó olló, egyenes vágás, 700 mm, acél gumírozott nyél// Palisad",1922,"B","Active",9999,null,null,"No info","линк"]
[605297,"Rugós metszővágó, 170 mm, megerősített, alsó nyél PVC kabátban, LUXE// Palisad",6129,"B","Active",9999,null,null,"No info","линк"]
[605318,"Metszoollo,210 mm,ket komponensu markolat, fogaskerekes//PALISAD",2211,"B","Active",9999,null,null,"No info","линк"]
[605328,"Metszoollo 210 mm, egyenes vagas, ket komponensu markolat, fogaskerekes//PALISAD",2100,"B","Active",9999,null,null,"No info","линк"]
[605367,"Rugós metszőolló, 200 mm, kétkomponensű fogantyú// Palisad",1990,"B","Active",9999,null,null,"No info","линк"]
[605518,"Metszoollo, 200 mm,spiral tipus rugos, teflon boritas, gumirozott 2-komp. muanyag markolat//PALISAD",2668,"B","Active",9999,null,null,"No info","линк"]
[605578,"Metszoollo, 200 mm,spiral tipus rugos, teflon boritas, gumirozott markolat//PALISAD",2085,"B","Active",9999,null,null,"No info","линк"]
[605608,"Metszoollo, 200 mm,rugos,Racsni, teflon boritas, gumirozott fem markolat//PALISAD",2812,"B","Active",9999,null,null,"No info","линк"]
[605617,"Rugós metszőolló  200 mm, gumibevonatú fogantyúk// Palisad",1478,"B","Active",9999,null,null,"No info","линк"]
[605628,"Sovenyvago 500 mm, acel gumi bevonatos markolat// PALISAD",2159,"B","Active",9999,null,null,"No info","линк"]
[605648,"Metszoollo 190 mm, egyenes vagas, muanyag gumi bevonatos markolat// PALISAD",794,"B","Active",9999,null,null,"No info","линк"]
[605658,"Metszoollo viragokhoz 190 mm, muanyag gumi bevonatos markolat// PALISAD",812,"B","Active",9999,null,null,"No info","линк"]
[605688,"Agvago 350 mm, acel gumi bevonatos markolat// PALISAD",1664,"B","Active",9999,null,null,"No info","линк"]
[605708,"Loppers 520 mm, egyenes vágású, gumival bevont fogantyúk// PALISAD",2199,"B","Active",9999,null,null,"No info","линк"]
[605718,"Ágvágó 530 mm, gumi borítású nyél/ PALISAD",2666,"B","Active",9999,null,null,"No info","линк"]
[605738,"Funyiro ollo 310 mm, fem gumi bevonatos markolat// PALISAD",1816,"B","Active",9999,null,null,"No info","линк"]
[605748,"Funyiro ollo 360 mm, 180° fordulat,muanyag gumi bevonatos markolat// PALISAD",2639,"B","Active",9999,null,null,"No info","линк"]
[605818,"Hosszu nyelu metszoollo furesszel//PALISAD",3757,"B","Active",9999,null,null,"No info","линк"]
[605977,"Rugos olló, 750 mm, kétkaros mechanizmus, kétkomponensű fogantyúk, LUXE// Palisad",6467,"B","Active",9999,null,null,"No info","линк"]
[605987,"Rugós Olló, 610 mm, kétkaros mechanizmus, kétkomponensű fogantyúk, LUXE// Palisad",6060,"B","Active",9999,null,null,"No info","линк"]
[608307,"Fűollók, 310 mm, fém fogantyúk// Palisad",1098,"B","Active",9999,null,null,"No info","линк"]
[608367,"Sövényolló, 560 mm, hullámos pengék, kétkomponensű nyél// Palisad",3191,"B","Active",9999,null,null,"No info","линк"]
[613607,"Professzionális körlapát, 225õ295õ1150 mm, teljesen fém// Palisad",3651,"B","Active",9999,null,null,"No info","линк"]
[613617,"Kerek hegyű lapát fogazott éllel, 220х290х1480 mm, üvegszálas nyél, LUXE// Palisad",5445,"B","Active",9999,null,null,"No info","линк"]
[613627,"Kerek hegyű lapát, 215х295х1480 mm, üvegszálas nyél, LUXE// Palisad",4936,"B","Active",9999,null,null,"No info","линк"]
[613697,"Teljesen acél szénavilla, 4 szarv, 205х310х1210 mm, kovácsolt, LUXE// Palisad",6105,"B","Active",9999,null,null,"No info","линк"]
[613707,"Kerekített lapát, 150x205x720 mm, teljesen acél, LUXE// Palisad",3107,"B","Active",9999,null,null,"No info","линк"]
[613717,"Kerek hegyű lapát, 195x285x1200 mm, teljesen acél, LUXE// Palisad",5905,"B","Active",9999,null,null,"No info","линк"]
[613727,"Szegélyásó, 195х285х1200 mm, teljesen acél, LUXE// Palisad",5610,"B","Active",9999,null,null,"No info",{"$f":"HYPERLINK(L2098,\"линк\")","v":"линк"}]
[613737,"Négyszögű lapát, 240х290х1200 mm, teljesen acél, LUXE// Palisad",5600,"B","Active",9999,null,null,"No info","линк"]
[613748,"Pitchfork 4 fogas, kerti, 180õ280õ1200 mm, teljesen acål, kovàcsolt, LUXE// Palisad",6266,"B","Active",9999,null,null,"No info","линк"]
[613757,"Kerek hegyű lapát, 150x205x720 mm, fa lakkozott nyél// Palisad",2493,"B","Active",9999,null,null,"No info","линк"]
[613767,"Négyszöglű ásó, 195х290х1150 mm, fa lakkozott nyél// Palisad",3596,"B","Active",9999,null,null,"No info","линк"]
[613777,"Kerek hegyű lapát amerikai típusú, 215x285x1500 mm, fa lakkozott nyél, LUXE// Palisad",4431,"B","Active",9999,null,null,"No info","линк"]
[613787,"Négyszögű lapát, 230х285х1500 mm, fa lakkozott nyél, LUXE// Palisad",4466,"B","Active",9999,null,null,"No info","линк"]
[613797,"Széna villa 4 fogas, kovácsolt, 210x340x1260 mm, fa lakkozott nyél// Palisad",4983,"B","Active",9999,null,null,"No info","линк"]
[613807,"Pitchfork 4 fogas, kerti, kovácsolt, 195х295х1165 mm, fa lakkozott nyél// Palisad",4370,"B","Active",9999,null,null,"No info","линк"]
[613997,"Kerek hegyű lapát, 205x275 mm, merevítő bordák, nyél nélkül, LUXE// Palisad",1885,"B","Active",9999,null,null,"No info","линк"]
[614028,"Kerek vegu aso, fem markolat, lekerekitett//PALISAD",3710,"B","Active",9999,null,null,"No info","линк"]
[614107,"Kerekhegyű lapát, 205х275 mm, nyél nélkül// Palisad",1885,"B","Active",9999,null,null,"No info","линк"]
[614117,"Kerek hegyű lapát, 205õ275 mm, merevítő bordák, nyél nélkül// Palisad",1902,"B","Active",9999,null,null,"No info","линк"]
[614157,"Szögletes lapát, 230х280, nyél nélkül// Palisad",2129,"B","Active",9999,null,null,"No info","линк"]
[614207,"Szögletes lapát, 230x280 mm, merevítő bordák, nyél nélkül// Palisad",1920,"B","Active",9999,null,null,"No info","линк"]
[614257,"Sapper lapát, 145х190х580 mm, fa nyél// Palisad",2377,"B","Active",9999,null,null,"No info","линк"]
[614575,"Bajonett lapát, 205x284x1340 mm, fa nyél impregnálással, RUSSIAország// Сибртех",4880,"B","Active",9999,null,null,"No info","линк"]
[614585,"Négyszögletes lapát, 200x285x1400 mm, fa nyél impregnálással, RUSSIAország// Сибртех",4880,"B","Active",9999,null,null,"No info","линк"]
[614627,"Mezei lapát, 150х205х253-590 mm, műanyag nyél, tokban összecsukható, LUXE// Palisad",3655,"B","Active",9999,null,null,"No info","линк"]
[614707,"Kerek hegyű lapát merevítő bordákkal, sín acél, nyél nélkül// Palisad",2049,"B","Active",9999,null,null,"No info","линк"]
[614717,"Négyszögletes lapát merevítő bordákkal, sín acél, nyél nélkül// Palisad",2238,"B","Active",9999,null,null,"No info","линк"]
[614737,"Négyszögű lapát, 245x295x1150 mm, teljesen acél // Palisad",3737,"B","Active",9999,null,null,"No info","линк"]
[614777,"Négyszögű lapát, 235x290x1150 mm, üvegszálas nyél// Palisad",4323,"B","Active",9999,null,null,"No info","линк"]
[614807,"Íves lapát, 250x295x850 mm, fa lakkozott nyél",3398,"B","Active",9999,null,null,"No info","линк"]
[614808,"Négyszögű lapát, 250x295x1150 mm, fa lakkozott nyél// Palisad",3619,"B","Active",9999,null,null,"No info","линк"]
[615247,"Jégaprító 200 mm, 1,1 kg, fém nyél// Palisad",2088,"B","Active",9999,null,null,"No info","линк"]
[616537,"Teljesen acél fűgereblye, 450x1540 mm, 22 fog, LUXE// Palisad",3362,"B","Active",9999,null,null,"No info","линк"]
[616547,"Teljesen acél kapa, megerősített, 180õ55õ1520 mm, LUXE// Palisad",3448,"B","Active",9999,null,null,"No info","линк"]
[616717,"Műanyag hókotró, 410x320x1230 mm, fa nyél// Palisad",2991,"B","Active",9999,null,null,"No info","линк"]
[616737,"Műanyag hókotró, 370x300x1150 mm, fa nyél// Palisad",2773,"B","Active",9999,null,null,"No info","линк"]
[617018,"Lombseprű, 22 fogas, nyél nélkül, infós// PALISAD",1601,"B","Active",9999,null,null,"No info","линк"]
[617327,"Műanyag gereblye, 400 mm, 12 egyenes fog, megerősített, LUXE// Palisad",2069,"B","Active",9999,null,null,"No info","линк"]
[617337,"Műanyag gereblye, 565 mm, 18 egyenes fog, megerősített, LUXE// Palisad",2884,"B","Active",9999,null,null,"No info","линк"]
[617417,"Acél gereblye, 300x1300 mm, 12 egyenes fog, fa nyél// Palisad",2549,"B","Active",9999,null,null,"No info","линк"]
[617427,"Acél gereblye, 360x1300 mm, 14 egyenes fog, fa nyél// Palisad",2563,"B","Active",9999,null,null,"No info","линк"]
[617447,"Acél gereblye, 300x1300 mm, 12 csavart fog, fa nyél// Palisad",2259,"B","Active",9999,null,null,"No info","линк"]
[617507,"Acél gereblye, 420 mm, 16 csavart fog, nyél nélkül// Palisad",1072,"B","Active",9999,null,null,"No info","линк"]
[617527,"Acél gereblye, 350 mm, 14 csavart fog, nyél nélkül// Palisad",878,"B","Active",9999,null,null,"No info","линк"]
[617558,"Gereblye 5 fogas, 90mm, fa nyel 340mm//PALISAD",819,"B","Active",9999,null,null,"No info","линк"]
[617568,"Gereblye, 15 fogas, hosszabbithato fem nyel//PALISAD",2330,"B","Active",9999,null,null,"No info","линк"]
[617587,"Csavart gereblye, 6 fog, 120x390 mm, acél, fa nyél// Palisad",990,"B","Active",9999,null,null,"No info","линк"]
[617678,"allithato lombgereblye 270-460mm nyel nelkul ,22 fogas//PALISAD",1318,"B","Active",9999,null,null,"No info","линк"]
[617707,"Gyepgereblye 22 fog, nyél nélkül// Palisad",861,"B","Active",9999,null,null,"No info","линк"]
[617718,"allithato lombgereblye , 22 fogas fem markolat//PALISAD",3382,"B","Active",9999,null,null,"No info","линк"]
[617767,"Acél gereblye, 370x1400 mm, csavart fogak, fa lakkozott nyél, LUXE// Palisad",3853,"B","Active",9999,null,null,"No info","линк"]
[617787,"Acél fűnyíró, 385 mm, 20 lapos fog, oxidált, nyél nélkül// Palisad",1168,"B","Active",9999,null,null,"No info","линк"]
[617797,"Acél fűnyíró, 385x1450 mm, 20 lapos fog, fa nyél// Palisad",2718,"B","Active",9999,null,null,"No info","линк"]
[617807,"Acål funyirî, 350 mm, 18 korfogu, horganyzott, nyål nålkul// Palisad",1026,"B","Active",9999,null,null,"No info","линк"]
[617817,"Acél fűnyíró, 350x1450 mm, 18 kerek fog, fa nyél// Palisad",2496,"B","Active",9999,null,null,"No info","линк"]
[617927,"Alumínium nyél, 1580 mm, zárral, gereblyékhez 617937, 617327, 617337, LUXE// Palisad",3885,"B","Active",9999,null,null,"No info","линк"]
[617937,"Műanyag fűnyíró, 485 mm, 23 lapos fog, megerősített, LUXE// Palisad",2059,"B","Active",9999,null,null,"No info","линк"]
[617947,"Acél gereblye, 350õ1400 mm, 14 egyenes fog, fa lakkozott nyél, LUXE// Palisad",3431,"B","Active",9999,null,null,"No info","линк"]
[620388,"Ripper, 3 fogú, műanyag nyél// Palisad",963,"B","Active",9999,null,null,"No info","линк"]
[620398,"Egyenes gereblye, 5 fogu, muanyag nyellel//PALISAD",1148,"B","Active",9999,null,null,"No info","линк"]
[620408,"Kombinalt kapa szirom forma+3 fogu, muanyag nyellel//PALISAS",1216,"B","Active",9999,null,null,"No info","линк"]
[620418,"Kombinalt kapa trapez+3 fogu, muanyag nyellel//PALISAS",1320,"B","Active",9999,null,null,"No info","линк"]
[620428,"Gyepgereblye, kerek fogak, műanyag nyél// Palisad",1261,"B","Active",9999,null,null,"No info","линк"]
[620458,"Furesz, 3-fogu, hosszabbitott, gumi bevonatos markolat// PALISAD",1332,"B","Active",9999,null,null,"No info","линк"]
[620488,"Kombinalt kapa „trapez + 3 fog”, hosszabbitott, gumi bevonatos markolat// PALISAD",2071,"B","Active",9999,null,null,"No info","линк"]
[620498,"Gyomlalo, hosszabbitott, gumi bevonatos markolat// PALISAD",1301,"B","Active",9999,null,null,"No info","линк"]
[620508,"Gyepsepru, kerekitett fogak, hosszabbitott, gumi bevonatos markolat// PALISAD",1383,"B","Active",9999,null,null,"No info","линк"]
[620607,"Kerti simító, 85x335 mm, acél, gumírozott ergonomikus nyél, LSR1// Palisad",821,"B","Active",9999,null,null,"No info","линк"]
[620617,"Gereblye 6 fogú, 110x300 mm, acél, gumírozott ergonomikus nyél, LSR1// Palisad",855,"B","Active",9999,null,null,"No info","линк"]
[620627,"Dupla kapa, 75x300 mm, acél, gumírozott ergonomikus nyél, LSR1// Palisad",977,"B","Active",9999,null,null,"No info","линк"]
[620637,"Kézi kultivátor, 3 fogas, 60x400 mm, acél, gumírozott ergonomikus nyél, LSR1// Palisad",729,"B","Active",9999,null,null,"No info",{"$f":"HYPERLINK(L2162,\"линк\")","v":"линк"}]
[620647,"Gyomirtó, 380 mm, acél, gumírozott ergonomikus nyél, LSR1// Palisad",709,"B","Active",9999,null,null,"No info","линк"]
[622857,"Acél kapa, 120х70х1500 mm, teljesen fém, LUXE// Palisad",3279,"B","Active",9999,null,null,"No info","линк"]
[622917,"Kengyelkapa 190х1400 mm, fa nyél// Palisad",3160,"B","Active",9999,null,null,"No info","линк"]
[622927,"Kengyelkapa 120x875 mm, fa nyél// Palisad",2274,"B","Active",9999,null,null,"No info","линк"]
[622937,"Kengyelkapa 170x1400 mm, fa nyél// Palisad",4133,"B","Active",9999,null,null,"No info","линк"]
[622957,"Kengyelkapa 150õ1420 mm, faszár// Palisad",3957,"B","Active",9999,null,null,"No info","линк"]
[623027,"Kapa, 110х465 mm, acél, fa nyél// Palisad",838,"B","Active",9999,null,null,"No info","линк"]
[623158,"Kombinalt kapa, \"trapez \" es \"szirom\", fa nyel, 350mm// PALISAD",669,"B","Active",9999,null,null,"No info","линк"]
[623417,"Kombinált kapa, 75х380 mm, acél, fa nyél// Palisad",1295,"B","Active",9999,null,null,"No info","линк"]
[623538,"Ripper 5 teeth with wooden handle 330mm// PALISAD",665,"B","Active",9999,null,null,"No info","линк"]
[623707,"Half round grub hoe, 280х100х1300 mm, solid forged, wooden handle// Palisad",4912,"B","Active",9999,null,null,"No info","линк"]
[623858,"Kerti foldlazito, 3-fogas, vedo boritas, muanyag nyel//PALISAD",267,"B","Active",9999,null,null,"No info","линк"]
[623868,"Fuszedo, vedo boritas, muanyag nyel//PALISAD",303,"B","Active",9999,null,null,"No info","линк"]
[623878,"ulteto villa, vedo boritas, muanyag nyel//PALISAD",281,"B","Active",9999,null,null,"No info","линк"]
[623888,"Kerti kapa, vedo boritas, muanyag nyel//PALISAD",312,"B","Active",9999,null,null,"No info","линк"]
[623898,"Kerti kapa,kombinált, 3 fogas, védőbevonat, műanyag nyél// PALISAD",399,"B","Active",9999,null,null,"No info","линк"]
[623908,"Műanyag széles simító, Nylon// Palisad",364,"B","Active",9999,null,null,"No info","линк"]
[623918,"Műanyag keskeny simító, Nylon// Palisad",336,"B","Active",9999,null,null,"No info","линк"]
[623928,"Muanyag hasadî, Nylon// Palisad",380,"B","Active",9999,null,null,"No info","линк"]
[623938,"Műanyag gyomirtó villa, Nylon// Palisad",392,"B","Active",9999,null,null,"No info","линк"]
[623948,"Műanyag kombinált kapa, Nylon// Palisad",947,"B","Active",9999,null,null,"No info","линк"]
[623958,"Műanyag fűnyíró, Nylon// Palisad",597,"B","Active",9999,null,null,"No info","линк"]
[626058,"Ultetokanal, keskeny fa markolattal 350 mm// PALISAD",754,"B","Active",9999,null,null,"No info","линк"]
[626068,"Ültetőkanál széles fa nyéllel 380mm// PALISAD",715,"B","Active",9999,null,null,"No info","линк"]
[626147,"Széles simító, 70x310 mm, acél, fa nyél// Palisad",658,"B","Active",9999,null,null,"No info","линк"]
[629018,"Kerti szerszámkészlet metszoolló, tömör alumíniumöntvény, 3 db, LUXE// Palisad",6005,"B","Active",9999,null,null,"No info","линк"]
[629048,"Kerti szerszámkészlet metszővágóval, műanyag fogantyúval, 3 darabos, STANDARD// Palisad",2216,"B","Active",9999,null,null,"No info","линк"]
[629098,"Szobanövények ápolására szolgáló készlet, teljesen fém, 3 db, LUXE// Palisad",1036,"B","Active",9999,null,null,"No info","линк"]
[629117,"Kerti szerszámkészlet, fa fogantyúk, 3 db// Palisad",7119,"B","Active",9999,null,null,"No info","линк"]
[629127,"Kerti Szerszám készlet, műanyganyél, 6 db os//PALISAD",12082,"B","Active",9999,null,null,"No info","линк"]
[629418,"Kerti szerszámkészlet, 4 db, polipropilén// Palisad",802,"B","Active",9999,null,null,"No info","линк"]
[630017,"Széles simító, 85х300 mm, acél, műanyag nyél// Palisad",731,"B","Active",9999,null,null,"No info","линк"]
[630027,"Keskeny simító, 62х315 mm, acél, műanyag nyél// Palisad",709,"B","Active",9999,null,null,"No info","линк"]
[630037,"Gereblye 5 fogú, 115x275 mm, acél, műanyag nyél// Palisad",731,"B","Active",9999,null,null,"No info","линк"]
[630038,"Gereblye, 5 fogas,115x280 mm gumirozott nyellel, hasznalhato kombinalva: 63016, 63017//PALISAD",810,"B","Active",9999,null,null,"No info","линк"]
[630057,"Kombinált kapa, 80х285 mm, acél, műanyag nyél// Palisad",755,"B","Active",9999,null,null,"No info","линк"]
[630068,"Foldlazito 3 fogas, gumirozott - nyel, hasznalhato kombinalva: 63016, 63017//PALISAD",749,"B","Active",9999,null,null,"No info","линк"]
[630077,"Gyepgereblye 9 fogú, 130x420 mm, acél, műanyag nyél// Palisad",729,"B","Active",9999,null,null,"No info","линк"]
[630087,"Kombinált kapa, 80х280 mm, acél, műanyag nyél// Palisad",790,"B","Active",9999,null,null,"No info","линк"]
[630098,"Gyokerszedo, gumirozott - nyel, hasznalhato kombinalva: 63016, 63017//PALISAD",721,"B","Active",9999,null,null,"No info","линк"]
[630108,"Trapez kapa, gumirozott - nyel, hasznalhato kombinalva: 63016, 63017//PALISAD",743,"B","Active",9999,null,null,"No info","линк"]
[630168,"Hosszabbito nyel 500mm//PALISAD",719,"B","Active",9999,null,null,"No info","линк"]
[630178,"Hosszabbito nyel 800mm, hasznalhato kombinalva: 63001-63010//PALISAD",924,"B","Active",9999,null,null,"No info","линк"]
[630208,"Kerti szerszamkezlet 7 db (lombsepru, gazolo, 5-fogas gereblye, kapa, hosszabbitott markolat szett)//PALISAD",3930,"B","Active",9999,null,null,"No info","линк"]
[630218,"Kerti szerszámkészlet, műanyag, zselés fogantyúk, 3 db, NYLON SOFT// Palisad",3784,"B","Active",9999,null,null,"No info","линк"]
[630428,"Szobanövény ápoló készlet, fa fogantyúk, 3 db// Palisad",548,"B","Active",9999,null,null,"No info","линк"]
[630438,"Szobanövény ápolási készlet, fa nyél, 3 db// Palisad",570,"B","Active",9999,null,null,"No info","линк"]
[635017,"Karosvilla, 4 fogas, kovácsolt,190õ295õ1150 mm, teljesen fém// Palisad",4234,"B","Active",9999,null,null,"No info","линк"]
[635047,"Vasvilla, 4 ágú, kovácsolt, 235х280х1150 mm, üvegszálas fogantyú// Palisad",4908,"B","Active",9999,null,null,"No info","линк"]
[638077,"4 fogas vasvilla, széna, 210x310x1400 mm, fa nyél// Palisad",3191,"B","Active",9999,null,null,"No info","линк"]
[638137,"Vasvilla, 9 ágú, kovácsolt, 235х355х1150 mm, fa lakkozott nyél// Palisad",8581,"B","Active",9999,null,null,"No info","линк"]
[638147,"Vasvilla, 9 ágú, kovácsolt 235х355х1500 mm, kovácsolt, fa lakkozott nyél// Palisad",9068,"B","Active",9999,null,null,"No info","линк"]
[638337,"4 fogas vasvilla, kerti, 185x270 mm, nyél nélkül// Palisad",1989,"B","Active",9999,null,null,"No info","линк"]
[638357,"4-szarvu vasvilla 200 x 290 mm, fogantyu nålkul// Palisad",1795,"B","Active",9999,null,null,"No info","линк"]
[639407,"Levélseprő, 100L// Denzel",38379,"B","Active",9999,null,null,"No info","линк"]
[643387,"Palántacserép, biológiailag lebomló, 65x60 mm, 5 db.// Palisad",142,"B","Active",9999,null,null,"No info","линк"]
[643397,"Palántacserép, biológiailag lebomló, 65x60 mm, 10 db.// Palisad",226,"B","Active",9999,null,null,"No info","линк"]
[643707,"Palántacserép, biológiailag lebomló, 80x80 mm, 5 db.// Palisad",216,"B","Active",9999,null,null,"No info","линк"]
[643717,"Palántacserép, biológiailag lebomló, 80x80 mm, 10 db.// Palisad",332,"B","Active",9999,null,null,"No info","линк"]
[643747,"Palántacserép, biológiailag lebomló, 100x100 mm, 5 db.// Palisad",380,"B","Active",9999,null,null,"No info","линк"]
[643757,"Palántacserép, biológiailag lebomló, 100x100 mm, 10 db.// Palisad",654,"B","Active",9999,null,null,"No info","линк"]
[643767,"Palántatálca, biológiailag lebomló, 160x120x45 mm, 12 cellás, 3 db.// Palisad",338,"B","Active",9999,null,null,"No info","линк"]
[643777,"Palántatálca, biológiailag lebomló, 160x120x45 mm, 12 cellás, 5 db.// Palisad",480,"B","Active",9999,null,null,"No info","линк"]
[643787,"Mini üvegház burkolattal, 180x150x100 mm, 9 cellás, szellõzõ, polisztirol// Palisad",340,"B","Active",9999,null,null,"No info",{"$f":"HYPERLINK(L2226,\"линк\")","v":"линк"}]
[643797,"Mini üvegház burkolattal, 380x180x110 mm, 24 cellás, szellőző, polisztirol// Palisad",616,"B","Active",9999,null,null,"No info","линк"]
[644038,"onzaro zsak 20l (30*30cm) kerti hulladekhoz// PALISAD",1228,"B","Active",9999,null,null,"No info","линк"]
[644408,"Gyumolcs szedo, tasakkal, belso atmero - 110 ìì//PALISAD",817,"B","Active",9999,null,null,"No info","линк"]
[644508,"Talajfuro 850 mm, csavaros//PALISAD",3509,"B","Active",9999,null,null,"No info","линк"]
[644888,"Kotozo, huzalos, tekercs meret: 20 m// PALISAD",307,"B","Active",9999,null,null,"No info","линк"]
[644898,"Kotozo, huzalos, tekercs meret: 30 m// PALISAD",330,"B","Active",9999,null,null,"No info","линк"]
[644938,"Tabele gradina, 35 x 55 mm, par 110 mm, 20 buc.// PALISAD",470,"B","Active",9999,null,null,"No info","линк"]
[644948,"Legaturi pentru plante, 13 cm, din plastic, 50 buc.// PALISAD",476,"B","Active",9999,null,null,"No info","линк"]
[644988,"Gyeplevegozteto szandal// PALISAD",2932,"B","Active",9999,null,null,"No info","линк"]
[645028,"Leszálló kúp, polipropilén// Palisad",416,"B","Active",9999,null,null,"No info","линк"]
[647328,"Spriccelofej//PALISAD",175,"B","Active",9999,null,null,"No info","линк"]
[647358,"Nyomos spriccelo 1,25l// PALISAD",589,"B","Active",9999,null,null,"No info","линк"]
[647368,"Kézi permetező, 1L, pumpával// Palisad",1193,"B","Active",9999,null,null,"No info","линк"]
[647408,"Suritett levegos spray 5l//PALISAD",4105,"B","Active",9999,null,null,"No info","линк"]
[647508,"Suritett levegos spray 7L pumpaval es csovel // PALISAD",7222,"B","Active",9999,null,null,"No info","линк"]
[650288,"Díszkerítés \"Gothic\", 59,5x24 cm, karó 10 cm, fekete// Palisad",1284,"B","Active",9999,null,null,"No info","линк"]
[650368,"Dekoratív kerítés \"Style\", 79x9 cm, karó 9,5 cm, szürke// Palisad",1037,"B","Active",9999,null,null,"No info","линк"]
[650378,"Dekoratív kerítés \"Smile\", 60x21,5 cm, karó 11 cm, fehér, 4db.// Palisad",2037,"B","Active",9999,null,null,"No info","линк"]
[650388,"Dekoratív kerítés \"Smile\", 60x21,5 cm, karó 11 cm, barna, 4db.// Palisad",2037,"B","Active",9999,null,null,"No info","линк"]
[650398,"Dekoratív kerítés \"Wave\", 16х14 cm, zöld, 4db.// Palisad",863,"B","Active",9999,null,null,"No info","линк"]
[651468,"Locsolofej + csatlakozassal 3/4\"//PALISAD",1120,"B","Active",9999,null,null,"No info","линк"]
[651498,"Locsolofej, allithato, ergonomikus//PALISAD",979,"B","Active",9999,null,null,"No info","линк"]
[651618,"Locsolofej, 5 uzemmod//PALISAD//PALISAD",698,"B","Active",9999,null,null,"No info","линк"]
[651768,"Tomlocsatlakoztato szett 1/2 \", 4 db//PALISAD//PALISAD",786,"B","Active",9999,null,null,"No info","линк"]
[651778,"3/4-es tomlocsatlakoztato szett (8-uzemmodu locsolo, atalakito, 2 csatlakozo), 4 db//PALISAD",1768,"B","Active",9999,null,null,"No info","линк"]
[651788,"Tomlocsatlakoztato szett 3/4 \", 4 db//PALISAD",1179,"B","Active",9999,null,null,"No info","линк"]
[651798,"Tomlocsatlakoztato szett 3/4 \", 4 db//PALISAD",841,"B","Active",9999,null,null,"No info","линк"]
[651828,"allithato locsolofej //PALISAD",248,"B","Active",9999,null,null,"No info","линк"]
[651938,"Kerti kefe készlet (kefe tömlőcsatlakozóval, csatlakozó 1/2\")// Palisad",2628,"B","Active",9999,null,null,"No info","линк"]
[652828,"allithato locsolofej, sargarez //PALISAD",1387,"B","Active",9999,null,null,"No info","линк"]
[654008,"Szorofej allvannyal 8 allasu, szabalyzoval// PALISAD",1814,"B","Active",9999,null,null,"No info","линк"]
[654018,"Kerti forgó öntöző, 3 karos, pillangó alakú talp, állítható// Palisad",2008,"B","Active",9999,null,null,"No info","линк"]
[654028,"Impulzus locsooo, pillango alappal, szabalyzoval//PALISAD",2073,"B","Active",9999,null,null,"No info","линк"]
[654098,"Forgo szorofej 3 / 4 \", S. 180 sq. m, D 15 m//PALISAD",1377,"B","Active",9999,null,null,"No info","линк"]
[654128,"Sargarez esozteto , impulzus, allithato vizszintes szog. 26 m lovotav//PALISAD",2877,"B","Active",9999,null,null,"No info","линк"]
[654158,"Muanyag esozteto. 26 m lovotav//PALISAD",975,"B","Active",9999,null,null,"No info","линк"]
[654608,"Muanyag esozteto, forgo, 19 lyuk, muanyag rud, D 3 / 4 \"//PALISAD",4087,"B","Active",9999,null,null,"No info","линк"]
[654638,"Esozteto, 5 modozat, allvanyon, fojtoval 1 / 2\"//PALISAD",1586,"B","Active",9999,null,null,"No info","линк"]
[654728,"Esozteto, leszurhato//PALISAD",387,"B","Active",9999,null,null,"No info","линк"]
[654878,"Universal irrigator with angle adjust (plastic), LUXE// PALISAD",7461,"B","Active",9999,null,null,"No info","линк"]
[657208,"Muanyag tomloveg belso csatlakozassal 1/2 \"-3/4\"//PALISAD",130,"B","Active",9999,null,null,"No info","линк"]
[657258,"Muanyag tomloveg belso csatlakozassal 3/4\"//PALISAD",100,"B","Active",9999,null,null,"No info","линк"]
[657308,"Muanyag tomloveg belso csatlakozassal 1\"// PALISAD",114,"B","Active",9999,null,null,"No info","линк"]
[657358,"Muanyag tomloveg belso csatlakozassal 1/2 \"-3/4\" - 1//PALISAD",187,"B","Active",9999,null,null,"No info","линк"]
[657408,"Muanyag tomloveg belso csatlakozassal 3/4\" - 1//PALISAD",173,"B","Active",9999,null,null,"No info","линк"]
[657508,"Muanyag adapter kulso csatlakozassal 3/4 \"//PALISAD",96,"B","Active",9999,null,null,"No info","линк"]
[657558,"Muanyag csatlakozo adapter , 3 / 4 \"apa menet, tomlocsatlakozas 3 / 4\"//PALISAD",277,"B","Active",9999,null,null,"No info","линк"]
[657608,"Muanyag adapter 3/4\" kulso szoritoval //PALISAD",470,"B","Active",9999,null,null,"No info","линк"]
[657618,"Adapter külső menettel 3/4\", LUXE// Palisad",212,"B","Active",9999,null,null,"No info","линк"]
[657628,"Adapter anyamenetes 1/2\", LUXE// Palisad",242,"B","Active",9999,null,null,"No info","линк"]
[657648,"Adapter anyamenetes 1\", LUXE// Palisad",273,"B","Active",9999,null,null,"No info","линк"]
[657658,"2-utas csatolás, LUXE// Palisad",299,"B","Active",9999,null,null,"No info","линк"]
[657668,"3-utas tengelykapcsoló, LUXE// Palisad",310,"B","Active",9999,null,null,"No info","линк"]
[657678,"Érintse meg a csatlakozót a menet nélküli leágazásokhoz 1/2\", LUXE// Palisad",503,"B","Active",9999,null,null,"No info","линк"]
[657748,"Kétcsapos csatlakozó belső menettel 3/4\"-1\" LUXE// Palisad",1452,"B","Active",9999,null,null,"No info","линк"]
[657758,"Gyorscsatlakozó 3/4\", kétkomponensű, LUXE// Palisad",521,"B","Active",9999,null,null,"No info","линк"]
[657768,"Gyorscsatlakozó 3/4\", aquastop, kétkomponensű, LUXE// Palisad",550,"B","Active",9999,null,null,"No info","линк"]
[657828,"Gyorskioldó csapcsatlakozó kapcsolóval, LUXE// Palisad",762,"B","Active",9999,null,null,"No info","линк"]
[657838,"Univerzális adapter 1/2\"-1\" zsanérral, LUXE// Palisad",1092,"B","Active",9999,null,null,"No info","линк"]
[657848,"Tömlőjavító csatlakozó 1/2\"-3/4\", kétkomponensű, LUXE// Palisad",424,"B","Active",9999,null,null,"No info","линк"]
[657858,"Univerzális gyorscsatlakozó 1/2\"-1\" kapcsolóval, LUXE// Palisad",747,"B","Active",9999,null,null,"No info","линк"]
[657868,"Dupla csapos csatlakozó, belső menettel 3/4\"-1\", LUXE// Palisad",2193,"B","Active",9999,null,null,"No info",{"$f":"HYPERLINK(L2288,\"линк\")","v":"линк"}]
[657878,"4-utas csapcsatlakozó, belső menettel 3/4\"-1\", LUXE// Palisad",3635,"B","Active",9999,null,null,"No info","линк"]
[657888,"Tömlőjavító csatlakozó 1/2\", kétkomponensű, LUXE// Palisad",391,"B","Active",9999,null,null,"No info","линк"]
[657898,"Tömlőjavító csatlakozó 3/4\", kétkomponensű, LUXE// Palisad",586,"B","Active",9999,null,null,"No info","линк"]
[657908,"Javítási tengelykapcsoló 1/2\" - 3/4\", LUXE// Palisad",395,"B","Active",9999,null,null,"No info","линк"]
[657948,"Oszcilláló sprinkler, 19 fúvóka, öntözési zóna állítás, LUXE// Palisad",7471,"B","Active",9999,null,null,"No info","линк"]
[657968,"Impulse Sprinkler, 390m2, LUXE// Palisad",2102,"B","Active",9999,null,null,"No info","линк"]
[657978,"Szórópisztoly, állítható, kioldóval, LUXE// Palisad",2411,"B","Active",9999,null,null,"No info","линк"]
[657988,"Szórópisztoly, állítható, fém, kioldóval, LUXE// Palisad",3372,"B","Active",9999,null,null,"No info","линк"]
[658008,"Szórópisztoly, 8 üzemmód, állítható, fém, kioldóval, LUXE// Palisad",3906,"B","Active",9999,null,null,"No info","линк"]
[658018,"Lance Spray, 10 mód, alumínium rúd, 850 mm, LUXE// Palisad",2914,"B","Active",9999,null,null,"No info","линк"]
[658028,"Lance Spray, 7 mód, alumínium rúd, 500 mm, forgófej, LUXE// Palisad",4942,"B","Active",9999,null,null,"No info","линк"]
[658048,"Sprinkler-permetező, 8 üzemmód, állítható, súlyozott talp, LUXE// Palisad",2649,"B","Active",9999,null,null,"No info","линк"]
[658058,"Sprinkler-permetező, 8 üzemmód, megnövelt alap, LUXE// Palisad",2877,"B","Active",9999,null,null,"No info","линк"]
[658068,"Forgó locsoló, 3 lapátos, súlyozott talp, LUXE// Palisad",2808,"B","Active",9999,null,null,"No info","линк"]
[658208,"Sargarez tomloveg belso csatlakozassal 1/2\"- 3/4\"// PALISAD",825,"B","Active",9999,null,null,"No info","линк"]
[658258,"Sargarez tomloveg belso csatlakozassal 3/4\"// PALISAD",513,"B","Active",9999,null,null,"No info","линк"]
[658308,"Sargarez tomloveg belso csatlakozassal 1\"// PALISAD",648,"B","Active",9999,null,null,"No info","линк"]
[658408,"Sargarez tomloveg belso csatlakozassal 3/4-1\"// PALISAD",1114,"B","Active",9999,null,null,"No info","линк"]
[658508,"Sargarez adapter kulso csatlakozassal 3/4 \"// PALISAD",479,"B","Active",9999,null,null,"No info","линк"]
[658518,"Sargarez adapter kulso csatlakozassal 1\"// PALISAD",819,"B","Active",9999,null,null,"No info","линк"]
[661358,"Muanyag gyorsan lecsatlakoztathato csatlakozas tomlohoz 1 / 2 \"//PALISAD",165,"B","Active",9999,null,null,"No info","линк"]
[661408,"Muanyag gyorsan lecsatlakoztathato csatlakozas tomlohoz 1 / 2 \", autostoppal//PALISAD",183,"B","Active",9999,null,null,"No info","линк"]
[661458,"Muanyag csatlakozo tomlohoz apa menettel 1 / 2 \"//PALISAD",157,"B","Active",9999,null,null,"No info","линк"]
[661558,"Muanyag gyorsan lecsatlakoztathato csatlakozas, belso menet 3 / 4 \"//PALISAD",165,"B","Active",9999,null,null,"No info","линк"]
[661608,"Muanyag gyorsan lecsatlakoztathato csatlakozas tomlohoz 3 / 4 \"//PALISAD",210,"B","Active",9999,null,null,"No info","линк"]
[661658,"Muanyag gyorsan lecsatlakoztathato csatlakozas tomlohoz 3 / 4 \", autostoppal//PALISAD",220,"B","Active",9999,null,null,"No info","линк"]
[661708,"Muanyag gyorsan lecsatlakoztathato csatlakozas, belso menet 3 / 4 \", autostoppal//PALISAD",183,"B","Active",9999,null,null,"No info","линк"]
[661758,"Muanyag gyorsan lecsatlakoztathato csatlakozas, apa menet 3 / 4 \"//PALISAD",165,"B","Active",9999,null,null,"No info","линк"]
[661808,"Muanyag adapter 3/4\" apa menet, adapter csatlakozas//PALISAD",94,"B","Active",9999,null,null,"No info","линк"]
[662108,"Tomlocsatlakoztato szett 1/2 \" (osztoegyseg es 2 csatlakozo), bronz,3 db // PALISAD",2947,"B","Active",9999,null,null,"No info","линк"]
[662408,"Sargarez csatlakozo tomlokhoz, gyorsan lecsatlakoztathato 1 / 2 \", autostoppal// PALISAD",1311,"B","Active",9999,null,null,"No info","линк"]
[662418,"Univerzalis csatlakozo 3/4 \"// PALISAD LUXE",1069,"B","Active",9999,null,null,"No info","линк"]
[662428,"Univerzalis vizmegallito csatlakozo 3 / 4\" zarral es TRP-vel// PALISAD LUXE",1214,"B","Active",9999,null,null,"No info","линк"]
[662448,"Csatlakozo 1/2\" tomlohoz, aqua-stop, ketkomponensu // PALISAD LUXE",1010,"B","Active",9999,null,null,"No info","линк"]
[662458,"Univerzalis tomlo csatlakozo zarral & TPR LUXE// PALISAD",1173,"B","Active",9999,null,null,"No info","линк"]
[662558,"Sargarez tomloelem, gyors csatlakozo, belso menet 3 / 4 \"// PALISAD",1151,"B","Active",9999,null,null,"No info","линк"]
[662608,"Sargarez tomloelem, gyorsan lecsatlakoztathato 3 / 4 \"// PALISAD",1690,"B","Active",9999,null,null,"No info","линк"]
[662648,"Sárgaréz tömlő gyorscsatlakozó 1/2\"// Palisad",1126,"B","Active",9999,null,null,"No info","линк"]
[662658,"Sargarez tomloelem, gyorsan lecsatlakoztathato 3 / 4 \", autostoppal// PALISAD",1759,"B","Active",9999,null,null,"No info","линк"]
[662708,"Gyors kioldo rez csatlakozo, 1/2” belso menet// PALISAD",1171,"B","Active",9999,null,null,"No info","линк"]
[662728,"1/2” rez csatlakozo, kulso menet// PALISAD",479,"B","Active",9999,null,null,"No info","линк"]
[662758,"Sargarez tomloelem, gyorsan lecsatlakoztathato, menet 3 / 4 \", D 3 / 4\"// PALISAD",1208,"B","Active",9999,null,null,"No info","линк"]
[664268,"Eloszto, 2 csatornas, allithato, szorofejes//PALISAD",513,"B","Active",9999,null,null,"No info","линк"]
[664318,"Csatlakozo tomlohoz 1/2\" - 3/4\"// PALISAD",252,"B","Active",9999,null,null,"No info","линк"]
[664338,"Csatlakozo tomlohoz 1\"// PALISAD",470,"B","Active",9999,null,null,"No info","линк"]
[664348,"Csatlakozo tomlohoz 3/4\"-1\"// PALISAD",297,"B","Active",9999,null,null,"No info","линк"]
[664358,"Javitoelem 1/2\"//PALISAD",151,"B","Active",9999,null,null,"No info","линк"]
[664368,"Javitoelem 1 / 2 \"// PALISAD LUXE",536,"B","Active",9999,null,null,"No info","линк"]
[664378,"Javitoelem 3 / 4 \"// PALISAD LUXE",731,"B","Active",9999,null,null,"No info","линк"]
[664418,"Javitoelem 3/4\"//PALISAD",183,"B","Active",9999,null,null,"No info","линк"]
[664658,"Adapter - csatlakozo, muanyag, tomlomeret: 1/2\"",104,"B","Active",9999,null,null,"No info","линк"]
[664688,"T-eloszto, folytas, tomlomeret: 1 / 2 \", muanyag//PALISAD",159,"B","Active",9999,null,null,"No info","линк"]
[665238,"Eloszto, 2 csatornas, allithato, kulso and belso menet 3 / 4\", sargarez// PALISAD",3250,"B","Active",9999,null,null,"No info","линк"]
[665358,"Javitoelem, sargarez 1/2\"// PALISAD",1195,"B","Active",9999,null,null,"No info","линк"]
[665418,"Javitoelem, sargarez 3/4\"// PALISAD",1605,"B","Active",9999,null,null,"No info","линк"]
[665658,"Adapter - csatlakozo, sargarez, tomlomeret: 1/2\"// PALISAD",601,"B","Active",9999,null,null,"No info","линк"]
[665688,"T-eloszto, folytas, sargarez, tomlomeret: 1 / 2 \"// PALISAD",1328,"B","Active",9999,null,null,"No info","линк"]
[674028,"Kerti tömlődob, 20 m// Palisad",6649,"B","Active",9999,null,null,"No info","линк"]
[674038,"Kerti tömlőkocsi, 30 m// Palisad",8563,"B","Active",9999,null,null,"No info","линк"]
[674058,"Slagcsorlo (45m) kerekekkel//PALISAD",9261,"B","Active",9999,null,null,"No info","линк"]
[674128,"Spiral tomlo, 7,5 m x 10 mm, muanyag csatlakozok (adapter 1/2-3/4\" + Tomlofej)//PALISAD",3482,"B","Active",9999,null,null,"No info","линк"]
[674998,"Furtun pentru irigare prin picaturi, triplu, 7,5 m// PALISAD",3533,"B","Active",9999,null,null,"No info","линк"]
[675058,"Öntözőkanna, 2 l, műanyag// Palisad",1401,"B","Active",9999,null,null,"No info",{"$f":"HYPERLINK(L2351,\"линк\")","v":"линк"}]
[675108,"Locsolókanna 5 l, műanyag// Palisad",1812,"B","Active",9999,null,null,"No info","линк"]
[675258,"Locsolókanna, 10 l, műanyag// Palisad",2666,"B","Active",9999,null,null,"No info","линк"]
[675308,"Öntözőgömb, műanyag// Palisad",624,"B","Active",9999,null,null,"No info","линк"]
[675388,"Öntözőkanna, 3 l, műanyag// Palisad",2223,"B","Active",9999,null,null,"No info","линк"]
[675468,"Ontozo szett erositett kitagulo locsolo tomlo 15m 7 allasu szorofej cstalakozo adapter//PALISAD",3297,"B","Active",9999,null,null,"No info","линк"]
[675478,"Ontozo keszlet, erositett kitagulo tomlovel 20m , 7 allasu locsolo fej  csatlakozoval//PALISAD",3999,"B","Active",9999,null,null,"No info","линк"]
[675638,"Öntöző kanna, 12 l, műanyag// Palisad",2986,"B","Active",9999,null,null,"No info","линк"]
[675668,"Vödör 10 l, horganyzott// Palisad",1558,"B","Active",9999,null,null,"No info","линк"]
[675680,"Megerositett kerti tomolo 1/2\", 15м // PALISAD",3108,"B","Active",9999,null,null,"No info","линк"]
[675690,"Megerositett kerti tomolo 1/2\", 20m",4112,"B","Active",9999,null,null,"No info","линк"]
[675700,"Megerositett kerti tomolo 1/2\", 30m",5892,"B","Active",9999,null,null,"No info","линк"]
[675730,"Megerositett kerti tomolo 1/2\", 50м // PALISAD",9670,"B","Active",9999,null,null,"No info","линк"]
[675740,"Megerositett kerti tomolo 3/4\", 15м // Palisad",4999,"B","Active",9999,null,null,"No info","линк"]
[675750,"Megerositett kerti tomolo 3/4\", 20m",6577,"B","Active",9999,null,null,"No info","линк"]
[675760,"Megerositett kerti tomolo 3/4\", 30м // Palisad",9733,"B","Active",9999,null,null,"No info","линк"]
[675767,"Erősített kerti tömlő 1/2\", 20 m, 6 rétegű, ftalát mentes, kék, Luxe// Palisad",7590,"B","Active",9999,null,null,"No info","линк"]
[675770,"Megerositett kerti tomolo 3/4\", 50м // Palisad",15395,"B","Active",9999,null,null,"No info","линк"]
[675777,"Erősített kerti tömlő 1/2\", 30 m, 6 rétegű, ftalátmentes, kék, Luxe// Palisad",11381,"B","Active",9999,null,null,"No info","линк"]
[675787,"Erősített kerti tömlő 1/2\", 50 m, 6 rétegű, ftalát mentes, kék, Luxe// Palisad",20746,"B","Active",9999,null,null,"No info","линк"]
[675797,"Erősített kerti tömlő 3/4\", 20 m, 6 rétegű, ftalát mentes, kék, Luxe// Palisad",14313,"B","Active",9999,null,null,"No info","линк"]
[675807,"Erоsitett kerti tomlo 3/4\", 30 m, 6 retegu, ftalatmentes, kek, Luxe// Palisad  ",20722,"B","Active",9999,null,null,"No info","линк"]
[675817,"Erősített kerti tömlő 3/4\", 50 m, 6 rétegű, ftalát mentes, kék, Luxe// Palisad",34527,"B","Active",9999,null,null,"No info","линк"]
[675880,"Megerositett kerti tomolo 1\", 25м // PALISAD",16687,"B","Active",9999,null,null,"No info","линк"]
[675918,"Vödör 12 l, horganyzott// Palisad",1776,"B","Active",9999,null,null,"No info","линк"]
[675928,"Vödör 15 l, horganyzott// Palisad",1990,"B","Active",9999,null,null,"No info","линк"]
[676788,"Permetező készlet, polietilén tömlő, hossza 9 m, fúvókák 9 db// Palisad",5213,"B","Active",9999,null,null,"No info","линк"]
[676798,"Permetező készlet, polietilén tömlő, hossza 15 m, fúvókák 15 db// Palisad",7754,"B","Active",9999,null,null,"No info","линк"]
[676847,"Erősített kerti tömlő 1/2\", 20 m, 4 rétegű, ftalát mentes, szürke// Palisad",3215,"B","Active",9999,null,null,"No info","линк"]
[676857,"Erősített kerti tömlő 1/2\", 30 m, 4 rétegű, ftalát mentes, szürke// Palisad",4830,"B","Active",9999,null,null,"No info","линк"]
[676867,"Erősített kerti tömlő 1/2\", 50 m, 4 rétegű, ftalát mentes, szürke// Palisad",8015,"B","Active",9999,null,null,"No info","линк"]
[676877,"Erősített kerti tömlő 3/4\", 20 m, 4 rétegű, ftalát mentes, szürke// Palisad",7331,"B","Active",9999,null,null,"No info","линк"]
[676887,"Erősített kerti tömlő 3/4\", 30 m, 4 rétegű, ftalát mentes, szürke// Palisad",9512,"B","Active",9999,null,null,"No info","линк"]
[676897,"Erősített kerti tömlő 3/4\", 50 m, 4 rétegű, ftalát mentes, szürke// Palisad",16930,"B","Active",9999,null,null,"No info","линк"]
[676907,"Erősített kerti tömlő 1/2\", 20 m, 4 rétegű, ftalát mentes, fekete// Palisad",4857,"B","Active",9999,null,null,"No info","линк"]
[676917,"Erősített kerti tömlő 1/2\", 30 m, 4 rétegű, ftalát mentes, fekete// Palisad",7284,"B","Active",9999,null,null,"No info","линк"]
[676927,"Erősített kerti tömlő 1/2\", 50 m, 4 rétegű, ftalát mentes, fekete// Palisad",12798,"B","Active",9999,null,null,"No info","линк"]
[676937,"Erősített kerti tömlő 3/4\", 20 m, 4 rétegű, ftalátmentes, fekete// Palisad",7455,"B","Active",9999,null,null,"No info","линк"]
[676947,"Erősített kerti tömlő 3/4\", 30 m, 4 rétegű, ftalát mentes, fekete// Palisad",12349,"B","Active",9999,null,null,"No info","линк"]
[676957,"Erősített kerti tömlő 3/4\", 50 m, 4 rétegű, ftalátmentes, fekete// Palisad",20581,"B","Active",9999,null,null,"No info","линк"]
[677137,"Pamut munkakesztyű, kockás PVC bevonat, 10 gauge// Palisad",257,"B","Active",9999,null,null,"No info","линк"]
[677248,"Pamut munkakesztyű, latex bevonat, 13-as méretű (Garden Star)\n",210,"B","Active",9999,null,null,"No info","линк"]
[677428,"Kerti polieszter kesztyu, tenyeren nitriles bevonat, zold, M//PALISAD",452,"B","Active",9999,null,null,"No info","линк"]
[684128,"Fa nyél, 32x1200 mm, bükk, EFP// Palisad",1603,"B","Active",9999,null,null,"No info","линк"]
[684148,"Fa nyél, 25x1200 mm, bükk, EFP// Palisad",1224,"B","Active",9999,null,null,"No info","линк"]
[684158,"Fa nyél, 30x1200 mm, bükk, EFP// Palisad",1584,"B","Active",9999,null,null,"No info","линк"]
[684258,"Faszár, 40x1200 mm, bükk, FSC 100% TUEV-COC-001998 EFP// Palisad",1878,"B","Active",9999,null,null,"No info","линк"]
[684265,"Műanyag fogantyú V-alakú, D 36 mm, RUSSIA// Сибртех",138,"B","Active",9999,null,null,"No info","линк"]
[687017,"Haztartasi kerek, M 50 mm // MTX",183,"B","Active",9999,null,null,"No info","линк"]
[687027,"Görgő konténer alá D 75mm//MTX",364,"B","Active",9999,null,null,"No info","линк"]
[687037,"Haztartasi kerek, D 100 mm // MTX",774,"B","Active",9999,null,null,"No info","линк"]
[687047,"Görgő konténer alá D125mm//MTX",959,"B","Active",9999,null,null,"No info","линк"]
[687067,"Haztartasi kerek, M 200 mm // MTX",2570,"B","Active",9999,null,null,"No info","линк"]
[687077,"nem forgó görgő D 50 mm szerelő platform",474,"B","Active",9999,null,null,"No info","линк"]
[687087,"nem forgó görgő D 75 mm szerelő platform",1098,"B","Active",9999,null,null,"No info","линк"]
[687097,"nem forgó görgő D 100 mm szerelő platform",1611,"B","Active",9999,null,null,"No info","линк"]
[687117,"Nem forgo Gorgo D 160 mm rogzito feltettel//MTX",3898,"B","Active",9999,null,null,"No info","линк"]
[687127,"Nem forgo Gorgo D 200 mm rogzito feltettel//MTX",4918,"B","Active",9999,null,null,"No info","линк"]
[687137,"Görgő konténer alá D50 szerlő platform//MTX",692,"B","Active",9999,null,null,"No info","линк"]
[687147,"Görgő konténer alá D75 szerlő platform//MTX",1320,"B","Active",9999,null,null,"No info","линк"]
[687157,"Görgő D100mm, szerelő lappal//MTX",1873,"B","Active",9999,null,null,"No info","линк"]
[687167,"Gorgo D 125 mm, f?kkel elemveny rogzites // MTX",2189,"B","Active",9999,null,null,"No info","линк"]
[687177,"Gorgo D 160 mm, elemveny rogzites // MTX",4521,"B","Active",9999,null,null,"No info","линк"]
[687187,"Gorgo D 200 mm, elemveny rogzites // MTX",5327,"B","Active",9999,null,null,"No info",{"$f":"HYPERLINK(L2414,\"линк\")","v":"линк"}]
[687197,"Görgő konténer alá fékkel D200 szerlő platform//MTX",853,"B","Active",9999,null,null,"No info","линк"]
[687207,"Görgő konténer alá fékkel D200 szerlő platform//MTX",1721,"B","Active",9999,null,null,"No info","линк"]
[687217,"Gorgo D 100 mm, f?kkel elemveny rogzites // MTX",2104,"B","Active",9999,null,null,"No info","линк"]
[687227,"Gorgo D 125 mm, f?kkel elemveny rogzites // MTX",2875,"B","Active",9999,null,null,"No info","линк"]
[687237,"Gorgo D 160 mm, f?kkel elemveny rogzites // MTX",4726,"B","Active",9999,null,null,"No info","линк"]
[687247,"Gorgo D 200 mm, f?kkel elemveny rogzites // MTX",6850,"B","Active",9999,null,null,"No info","линк"]
[689048,"Építőipari talicska, tálca térfogata 85 l// MTX",28125,"B","Active",9999,null,null,"No info","линк"]
[689058,"Construction wheelbarrow, tray volume 100 l// MTX",24705,"B","Active",9999,null,null,"No info","линк"]
[689108,"Kerti talicska, teherbiro kapacitas: 120kg, urtartalom: 58l//PALISAD",17413,"B","Active",9999,null,null,"No info","линк"]
[689148,"Talicska, 90 kg teherbiras, 65l urtartalom// PALISAD",16564,"B","Active",9999,null,null,"No info","линк"]
[689158,"Kerti talicska, teherbiro kapacitas: 160kg, urtartalom: 78l//PALISAD",16304,"B","Active",9999,null,null,"No info","линк"]
[689188,"Roaba universala, consolidata, capacitate de 200 kg, volum 90 L// PALISAD",20988,"B","Active",9999,null,null,"No info","линк"]
[689228,"Roaba de gradina, capacitate de 170 kg, volum de 78 L, 2 roti// PALISAD",21292,"B","Active",9999,null,null,"No info","линк"]
[689328,"Kerti talicska, űrtartalom 50 l, teherbírás 30 kg// Palisad",13956,"B","Active",9999,null,null,"No info","линк"]
[689388,"Talicska abroncs 4.00-6 D325 mm, belso csapagy D16 mm, hossz 100 mm//PALISAD",5187,"B","Active",9999,null,null,"No info","линк"]
[689408,"Talicska abroncs 3.00-8 D360 mm, belso csapagy D16 mm, hossz 92 mm//PALISAD",5421,"B","Active",9999,null,null,"No info","линк"]
[689438,"Talicska abroncs 3.25/3.00-8 D360 mm, belso csapagy D16 mm, hossz 94 mm//PALISAD",5445,"B","Active",9999,null,null,"No info","линк"]
[689468,"Talicska abroncs 4.80/4.00-8 D380 mm, belso csapagy D12 mm, hossz 80 mm//PALISAD",6757,"B","Active",9999,null,null,"No info","линк"]
[689478,"Pneumatikus kerék, 4,80/4-8 D380 mm, csapágy belső átm. 12mm, fejsze hossza 90mm// Palisad",4702,"B","Active",9999,null,null,"No info","линк"]
[689488,"Talicska abroncs 4.80/4.00-8  D380 mm, belso csapágy D12 mm, hossz 90 mm//PALISAD",6757,"B","Active",9999,null,null,"No info","линк"]
[689528,"Megerősített pneumatikus kerék, gumiabroncs 8PR, 4-8 D400 mm, csapágy belső átmérő 12 mm, tengelyhossz 90 m",7258,"B","Active",9999,null,null,"No info","линк"]
[689538,"Megerősített pneumatikus kerék, gumiabroncs 8PR, 4-8 D400 mm, csapágy belső átmérő 20 mm, tengelyhossz 90 m",7258,"B","Active",9999,null,null,"No info","линк"]
[689568,"Kerekbelso 4.80/4.00-8 D380 mm//PALISAD",1130,"B","Active",9999,null,null,"No info","линк"]
[689718,"Pneumatikus kerék 3-8, tengelyhossz 90 mm, csapágy 16 mm// Palisad",3244,"B","Active",9999,null,null,"No info","линк"]
[689738,"Pneumatikus kerék 3,25/3-8, tengelyhossz 90 mm, csapágy 16 mm// Palisad",3268,"B","Active",9999,null,null,"No info","линк"]
[689758,"Poliuretаn kerеk  3.00-8, tengely hossz. 90 mm, csapаgy 16 mm// PALISAD",5003,"B","Active",9999,null,null,"No info","линк"]
[689768,"Poliuretаn kerеk  3.00-8, tengely hossz. 90 mm, csapаgy 20 mm// PALISAD",5003,"B","Active",9999,null,null,"No info","линк"]
[689778,"Poliuretаn kerеk 4.80/4-8, tengely hossz. 90 mm, csapаgy 20 mm// PALISAD",7249,"B","Active",9999,null,null,"No info","линк"]
[689788,"Poliuretаn kerеk4.80/4-8, tengely hossz. 90 mm, csapаgy 12 mm// PALISAD",7249,"B","Active",9999,null,null,"No info","линк"]
[690018,"Hanging pots, 25 cm, with a coconut basket// PALISAD",1706,"B","Active",9999,null,null,"No info","линк"]
[690028,"Hanging pots, 30 cm, with a coconut basket// PALISAD",2047,"B","Active",9999,null,null,"No info","линк"]
[690048,"Ghiveci pentru agatat, cu ornamente, D 300 mm, din metal cu cos din cocos// PALISAD",2582,"B","Active",9999,null,null,"No info","линк"]
[690108,"30 cm-es függő edények, díszes, kókuszos kosárral// PALISAD",2598,"B","Active",9999,null,null,"No info","линк"]
[690178,"Lógas kosár kókuszbéléssel, félkör, D 30 cm// Palisad",2004,"B","Active",9999,null,null,"No info","линк"]
[690208,"Függesztett kosár kókusz béléssel, kúpos, D 25 cm// Palisad",1519,"B","Active",9999,null,null,"No info","линк"]
[690228,"Lógas kosár kókuszbéléssel, kúpos, D 35 cm// Palisad",2057,"B","Active",9999,null,null,"No info","линк"]
[690308,"Falra akaszthato dekorativ viragtarto //PALISAD",1258,"B","Active",9999,null,null,"No info","линк"]
[690318,"Viragallvany, falra szerelheto, 180° rotation// PALISAD",1766,"B","Active",9999,null,null,"No info","линк"]
[690328,"Viragallvany, padlora// PALISAD",2442,"B","Active",9999,null,null,"No info","линк"]
[691238,"Viragfuttato (Arch) 277x128cm// PALISAD",20977,"B","Active",9999,null,null,"No info","линк"]
[695818,"Hattamlas osszecsukhato horgasz szek 30*24,5*38//70 см Camping// Palisad",4099,"B","Active",9999,null,null,"No info","линк"]
[695828,"Osszecsukhato alumínium kemping asztal MDF lappal, 600x450x300/590 mm//Palisad Camping",9825,"B","Active",9999,null,null,"No info","линк"]
[695838,"Osszecsukhato alumínium kemping asztal MDF lappal, 900x600x300/700 mm//Palisad Camping",12719,"B","Active",9999,null,null,"No info","линк"]
[695858,"Függőágy terelőrudak nélkül 200x100 сm, Camping// Palisad",5431,"B","Active",9999,null,null,"No info","линк"]
[695888,"Osszecsukhato szek konyoklovel uveg tartoval 890*540*860 mm//Palisad Camping",6457,"B","Active",9999,null,null,"No info","линк"]
[695898,"Összecsukható szék 35x30x36 ñm, Camping// Palisad",2733,"B","Active",9999,null,null,"No info","линк"]
[695918,"Összecsukhato szek, konyok tamasszal 60*53*75 cm Camping// PALISAD",6602,"B","Active",9999,null,null,"No info","линк"]
[695928,"Palisad osszehajthato szek konyokloval,60x60x110/92cm Campinf //PALISAD",13644,"B","Active",9999,null,null,"No info","линк"]
[695958,"Huto taska 44x24x26 cm Kemping// PALISAD",5005,"B","Active",9999,null,null,"No info","линк"]
[701029,"Spiral fa furofej, 12 x 230 mm, hatoldalu rud// MTX",670,"B","Active",9999,null,null,"No info","линк"]
[701049,"Spiral fa furofej, 14 x 230 mm, hatoldalu rud// MTX",882,"B","Active",9999,null,null,"No info","линк"]
[701069,"Spiral fa furofej, 16 x 230 mm, hatoldalu rud// MTX",1032,"B","Active",9999,null,null,"No info","линк"]
[701089,"Spiral fa furofej, 20 x 230 mm, hatoldalu rud// MTX",1128,"B","Active",9999,null,null,"No info","линк"]
[701109,"Spiral fa furofej, 25 x 230 mm, hatoldalu rud// MTX",1484,"B","Active",9999,null,null,"No info","линк"]
[701129,"Spiral fa furofej, 32 x 230 mm, hatoldalu rud// MTX",2421,"B","Active",9999,null,null,"No info","линк"]
[701149,"Spiral fa furofej, 40 x 230 mm, hatoldalu rud// MTX",4181,"B","Active",9999,null,null,"No info","линк"]
[701169,"Spiral fa furofej, 52 x 230 mm, hatoldalu rud// MTX",7217,"B","Active",9999,null,null,"No info","линк"]
[701209,"Spiral fa furofej, 12 x 460 mm, hatoldalu rud// MTX",1047,"B","Active",9999,null,null,"No info","линк"]
[701229,"Spiral fa furofej, 14 x 460 mm, hatoldalu rud// MTX",1140,"B","Active",9999,null,null,"No info","линк"]
[701249,"Spiral fa furofej, 16 x 460 mm, hatoldalu rud// MTX",1285,"B","Active",9999,null,null,"No info","линк"]
[701269,"Spiral fa furofej, 20 x 460 mm, hatoldalu rud// MTX",1792,"B","Active",9999,null,null,"No info","линк"]
[701289,"Spiral fa furofej, 25 x 460 mm, hatoldalu rud// MTX",2702,"B","Active",9999,null,null,"No info","линк"]
[701309,"Spiral fa furofej, 32 x 460 mm, hatoldalu rud// MTX",4315,"B","Active",9999,null,null,"No info","линк"]
[702327,"Fa, csigafuro, 3 mm, egyenes szar// SPARTA",37,"B","Active",9999,null,null,"No info",{"$f":"HYPERLINK(L2478,\"линк\")","v":"линк"}]
[702337,"Fa, csigafuro, 4 mm, egyenes szar// SPARTA",37,"B","Active",9999,null,null,"No info","линк"]
[702347,"Famegmunkáló csigafúró, 5 mm, egyenes szár// SPARTA",47,"B","Active",9999,null,null,"No info","линк"]
[702357,"Famegmunkáló csigafúró, 6 mm, egyenes szár// SPARTA",57,"B","Active",9999,null,null,"No info","линк"]
[702377,"Famegmunkáló csigafúró, 8 mm, egyenes szár// SPARTA",99,"B","Active",9999,null,null,"No info","линк"]
[702387,"Famegmunkáló csigafúró, 10 mm, egyenes szár// SPARTA",152,"B","Active",9999,null,null,"No info","линк"]
[702397,"Famegmunkáló csigafúró, 12 mm, egyenes szár// SPARTA",239,"B","Active",9999,null,null,"No info","линк"]
[702407,"Famegmunkáló csigafúró, 6 x 300 mm, egyenes szár// SPARTA",295,"B","Active",9999,null,null,"No info","линк"]
[702427,"Famegmunkáló csigafúró, 8 x 300 mm, egyenes szár// SPARTA",371,"B","Active",9999,null,null,"No info","линк"]
[702447,"Famegmunkáló csigafúró, 10 x 300 mm, egyenes szár// SPARTA",479,"B","Active",9999,null,null,"No info","линк"]
[702467,"Famegmunkáló csigafúró, 12 x 300 mm, egyenes szár// SPARTA",633,"B","Active",9999,null,null,"No info","линк"]
[703019,"ureges veso, 14 x 22 x 250 mm, SDS PLUS// MTX",682,"B","Active",9999,null,null,"No info","линк"]
[703109,"asos veso, 14x40x250 mm, SDS PLUS// MTX",700,"B","Active",9999,null,null,"No info","линк"]
[703159,"asos veso, 14x40x250 mm, SDS PLUS, bent// MTX",747,"B","Active",9999,null,null,"No info","линк"]
[703209,"Lapos veso, 14 x 20 x 250 mm, SDS PLUS// MTX",591,"B","Active",9999,null,null,"No info","линк"]
[703299,"osszeszerelt fej ureges maggal Ì22 x 68 mm, SDS PLUS// MTX",2883,"B","Active",9999,null,null,"No info","линк"]
[703309,"osszeszerelt fej ureges maggal Ì22 x 65 mm, SDS PLUS// MTX",2782,"B","Active",9999,null,null,"No info","линк"]
[703319,"osszeszerelt fej ureges maggal Ì22 x 80 mm, SDS PLUS// MTX",3513,"B","Active",9999,null,null,"No info","линк"]
[703389,"Hosszabbito szar SDS plus, M22 x 250 mm, kozpontosito furofej// MTX",1440,"B","Active",9999,null,null,"No info","линк"]
[703399,"Hosszabbito szar SDS max, M22 x 350 mm, kozpontosito furofej// MTX",1774,"B","Active",9999,null,null,"No info","линк"]
[703409,"Hegyes veso, 14 x 250 mm, SDS PLUS// MTX",560,"B","Active",9999,null,null,"No info","линк"]
[703419,"Lapos veso, 18 x 25 x 280 mm, SDS MAX// MTX",1051,"B","Active",9999,null,null,"No info","линк"]
[703429,"Lapos veso, 18 x 25 x 400 mm, SDS MAX// MTX",1269,"B","Active",9999,null,null,"No info","линк"]
[703439,"Lapos veso, 18 x 25 x 600 mm, SDS MAX// MTX",2297,"B","Active",9999,null,null,"No info","линк"]
[703449,"asos veso, 25x50x360 mm, SDS MAX// MTX",2358,"B","Active",9999,null,null,"No info","линк"]
[703459,"ureges veso, 18 x 25 x 320 mm, SDS MAX// MTX",1185,"B","Active",9999,null,null,"No info","линк"]
[703469,"Hegyes veso, 18 x 280 mm, SDS MAX// MTX",971,"B","Active",9999,null,null,"No info","линк"]
[703479,"Hegyes veso, 18 x 280 mm, SDS MAX// MTX",1265,"B","Active",9999,null,null,"No info","линк"]
[703489,"Hegyes veso, 18 x 280 mm, SDS MAX// MTX",2071,"B","Active",9999,null,null,"No info","линк"]
[703499,"Hosszabbítószár SDS Plus, M22 x 120 mm, központosító fúrószár// MTX",943,"B","Active",9999,null,null,"No info","линк"]
[703519,"Hosszabbítószár SDS Plus, M22 x 400 mm, központosító fúrószár// MTX",2260,"B","Active",9999,null,null,"No info","линк"]
[703539,"Hosszabbítószár SDS Max, M22 х 160 mm, központosító fúrószár// MTX",1291,"B","Active",9999,null,null,"No info","линк"]
[703569,"Adapter, menet: 1/2'', SDS plus// MTX",224,"B","Active",9999,null,null,"No info","линк"]
[703579,"Adapter, menet: M12 x 1,25, SDS plusz// MTX",242,"B","Active",9999,null,null,"No info","линк"]
[703639,"Hosszabbítószár SDS Max, M22 х 600 mm, központosító fúrószár// MTX",4006,"B","Active",9999,null,null,"No info","линк"]
[704009,"Lapos fúrószár 6 mm, hatlapú szár// MTX",295,"B","Active",9999,null,null,"No info","линк"]
[704019,"Lapos furîszàr 8 mm, hatlapu szàr// MTX",305,"B","Active",9999,null,null,"No info","линк"]
[704069,"Kozpontfurofej szett 10-12-16-18-20-25 mm, kiegeszito 300 mm, 6 db// MTX",2309,"B","Active",9999,null,null,"No info","линк"]
[704089,"Kozpontfurofej 16 mm, hatoldalu rud// MTX",342,"B","Active",9999,null,null,"No info","линк"]
[704109,"Kozpontfurofej 18 mm, hatoldalu rud// MTX",362,"B","Active",9999,null,null,"No info","линк"]
[704129,"Kozpontfurofej 20 mm, hatoldalu rud// MTX",369,"B","Active",9999,null,null,"No info","линк"]
[704149,"Kozpontfurofej 22 mm, hatoldalu rud// MTX",375,"B","Active",9999,null,null,"No info","линк"]
[704159,"Kozpontfurofej 24 mm, hatoldalu rud// MTX",432,"B","Active",9999,null,null,"No info","линк"]
[704169,"Kozpontfurofej 25 mm, hatoldalu rud// MTX",436,"B","Active",9999,null,null,"No info","линк"]
[704209,"Kozpontfurofej 28 mm, hatoldalu rud// MTX",450,"B","Active",9999,null,null,"No info","линк"]
[704229,"Kozpontfurofej 30 mm, hatoldalu rud// MTX",470,"B","Active",9999,null,null,"No info","линк"]
[704249,"Kozpontfurofej 32 mm, hatoldalu rud// MTX",566,"B","Active",9999,null,null,"No info","линк"]
[704279,"Kozpontfurofej 35 mm, hatoldalu rud// MTX",595,"B","Active",9999,null,null,"No info","линк"]
[704299,"Kozpontfurofej 36 mm, hatoldalu rud// MTX",703,"B","Active",9999,null,null,"No info","линк"]
[704309,"Kozpontfurofej 38 mm, hatoldalu rud// MTX",709,"B","Active",9999,null,null,"No info","линк"]
[704329,"Kozpontfurofej 40 mm, hatoldalu rud// MTX",717,"B","Active",9999,null,null,"No info","линк"]
[704339,"Kozpontfurofej 45 mm, hatoldalu rud// MTX",780,"B","Active",9999,null,null,"No info","линк"]
[704349,"Kozpontfurofej 50 mm, hatoldalu rud// MTX",808,"B","Active",9999,null,null,"No info","линк"]
[704359,"Kozpontfuro 55 mm, hatoldalu rud// MTX",933,"B","Active",9999,null,null,"No info","линк"]
[704405,"5 db Forstner fúrókészlet 10-15-20-25-35mm, fa tok// Sparta",4130,"B","Active",9999,null,null,"No info","линк"]
[704527,"Falyukfűrész 26-63mm 2\"// Sparta",1122,"B","Active",9999,null,null,"No info","линк"]
[704709,"Lyukfuresz fahoz , 60-67-74-81-95mm 1 1/ 2\"// MTX",1945,"B","Active",9999,null,null,"No info","линк"]
[704729,"Lyukfuresz fahoz, szett 19-127mm, 13 db// MTX",2998,"B","Active",9999,null,null,"No info","линк"]
[704899,"Forstner fafuro 32 mm, karbid pengek, egyenes szaru// MTX",1077,"B","Active",9999,null,null,"No info","линк"]
[704909,"Forstner fafuro 35 mm, karbid pengek, egyenes szaru// MTX",1187,"B","Active",9999,null,null,"No info","линк"]
[704919,"Zarszerelo szett, 22 mm/48 mm, furoszerszam, 3 db// MTX PROFESSIONAL",2047,"B","Active",9999,null,null,"No info","линк"]
[704929,"Zarszerelo szett, 22 mm/54 mm, furoszerszam, 3 db// MTX PROFESSIONAL",2081,"B","Active",9999,null,null,"No info","линк"]
[704939,"3 db-os Zárszerelő készlet, 22 mm/48 mm, lapos fúró/lyukfűrész// MTX",833,"B","Active",9999,null,null,"No info","линк"]
[704979,"allithato lukvago 30-120mm// MTX",1680,"B","Active",9999,null,null,"No info","линк"]
[704999,"Rotacios reszelo fahoz, szett 5 db // MTX",1108,"B","Active",9999,null,null,"No info",{"$f":"HYPERLINK(L2542,\"линк\")","v":"линк"}]
[706269,"SDS-plus drill bit, 6 x 110 mm, Cross TIP//MTX",316,"B","Active",9999,null,null,"No info","линк"]
[706289,"SDS-plus drill bit, 8 x 110 mm, Cross TIP//MTX",324,"B","Active",9999,null,null,"No info","линк"]
[706309,"SDS-plus drill bit, 10 x 110 mm, Cross TIP//MTX",395,"B","Active",9999,null,null,"No info","линк"]
[706369,"SDS-plus drill bit, 6 x 160 mm, Cross TIP//MTX",348,"B","Active",9999,null,null,"No info","линк"]
[706389,"SDS-plus drill bit, 8 x 160 mm, Cross TIP//MTX",405,"B","Active",9999,null,null,"No info","линк"]
[706409,"SDS-plus drill bit, 10 x 160 mm, Cross TIP//MTX",495,"B","Active",9999,null,null,"No info","линк"]
[706429,"SDS-plus drill bit, 12 x 160 mm, Cross TIP//MTX",576,"B","Active",9999,null,null,"No info","линк"]
[706469,"SDS-plus drill bit, 6 x 210 mm, Cross TIP//MTX",430,"B","Active",9999,null,null,"No info","линк"]
[706489,"SDS-plus drill bit, 8 x 210 mm, Cross TIP//MTX",485,"B","Active",9999,null,null,"No info","линк"]
[706509,"SDS-plus drill bit, 10 x 210 mm, Cross TIP//MTX",566,"B","Active",9999,null,null,"No info","линк"]
[706529,"SDS-plus drill bit, 12 x 210 mm, Cross TIP//MTX",674,"B","Active",9999,null,null,"No info","линк"]
[707019,"Komuves furofej 4 x 75 mm, haromszog formaju szar// MTX",126,"B","Active",9999,null,null,"No info","линк"]
[707029,"Komuves furofej 5 x 85 mm, haromszog formaju szar// MTX",138,"B","Active",9999,null,null,"No info","линк"]
[707049,"Komuves furofej 6 x 100 mm, haromszog formaju szar// MTX",173,"B","Active",9999,null,null,"No info","линк"]
[707059,"Komuves furofej 6 x 150 mm, haromszog formaju szar// MTX",216,"B","Active",9999,null,null,"No info","линк"]
[707069,"Komuves furofej 6 x 200 mm, haromszog formaju szar// MTX",299,"B","Active",9999,null,null,"No info","линк"]
[707079,"Komuves furofej 8 x 120 mm, haromszog formaju szar// MTX",198,"B","Active",9999,null,null,"No info","линк"]
[707109,"Komuves furofej 10 x 120 mm, haromszog formaju szar// MTX",259,"B","Active",9999,null,null,"No info","линк"]
[707139,"Komuves furofej 12 x 150 mm, haromszog formaju szar// MTX",328,"B","Active",9999,null,null,"No info","линк"]
[707209,"Komuves furofej 4 x 75 mm, haromszog formaju szar, kozpontositott fej// MTX",112,"B","Active",9999,null,null,"No info","линк"]
[707219,"Komuves furofej 5 x 85 mm, haromszog formaju szar, kozpontositott fej// MTX",130,"B","Active",9999,null,null,"No info","линк"]
[707229,"Kőműves fúró 6 x 100 mm, háromszög alakú szár, központosító TIP// MTX",165,"B","Active",9999,null,null,"No info","линк"]
[707239,"Kőműves fúró 8 x 120 mm, háromszög alakú szár, központosító TIP// MTX",179,"B","Active",9999,null,null,"No info","линк"]
[707249,"Kőműves fúró 10 х 120 mm, háromszög szár, központosító TIPP// MTX",283,"B","Active",9999,null,null,"No info","линк"]
[707259,"Falazófúró 12 x 150 mm, háromszög szár, központosítás TIP// MTX",281,"B","Active",9999,null,null,"No info","линк"]
[708049,"Komuves furofej, 4 x 75 mm, Golden Line sorozat// MTX",126,"B","Active",9999,null,null,"No info","линк"]
[708059,"Komuves furofej, 5 x 85 mm, Golden Line sorozat// MTX",140,"B","Active",9999,null,null,"No info","линк"]
[708069,"Komuves furofej, 6 x 100 mm, Golden Line sorozat// MTX",183,"B","Active",9999,null,null,"No info","линк"]
[708089,"Komuves furofej, 8 x 120 mm, Golden Line sorozat// MTX",242,"B","Active",9999,null,null,"No info","линк"]
[708109,"Komuves furofej, 10 x 120 mm, Golden Line sorozat// MTX",289,"B","Active",9999,null,null,"No info","линк"]
[708129,"Komuves furofej, 12 x 150 mm, Golden Line sorozat// MTX",399,"B","Active",9999,null,null,"No info","линк"]
[708259,"Komuves furofej set  5-6-8-10 mm, Golden Line sorozat// MTX",737,"B","Active",9999,null,null,"No info","линк"]
[708559,"Komuves furofej, 5 x 85 mm, egyenes szaru// MTX",141,"B","Active",9999,null,null,"No info","линк"]
[708569,"Komuves furofej, 6 x 100 mm, egyenes szaru// MTX",163,"B","Active",9999,null,null,"No info","линк"]
[708589,"Komuves furofej, 8 x 120 mm, egyenes szaru// MTX",183,"B","Active",9999,null,null,"No info","линк"]
[708609,"Komuves furofej, 10 x 120 mm, egyenes szaru// MTX",250,"B","Active",9999,null,null,"No info","линк"]
[708629,"Komuves furofej, 12 x 150 mm, egyenes szaru// MTX",346,"B","Active",9999,null,null,"No info","линк"]
[708669,"Komuves furofej, 6 x 200 mm, egyenes szaru// MTX",275,"B","Active",9999,null,null,"No info","линк"]
[708689,"Komuves furofej, 8 x 200 mm, egyenes szaru// MTX",326,"B","Active",9999,null,null,"No info","линк"]
[708709,"Komuves furofej, 10 x 200 mm, egyenes szaru// MTX",381,"B","Active",9999,null,null,"No info","линк"]
[708729,"Komuves furofej, 12 x 200 mm, egyenes szaru// MTX",438,"B","Active",9999,null,null,"No info","линк"]
[708789,"Komuves furofej, 8 x 400 mm, egyenes szaru// MTX",426,"B","Active",9999,null,null,"No info","линк"]
[708809,"Komuves furofej, 10 x 400 mm, egyenes szaru// MTX",713,"B","Active",9999,null,null,"No info","линк"]
[708829,"Komuves furofej, 12 x 400 mm, egyenes szaru// MTX",819,"B","Active",9999,null,null,"No info","линк"]
[708849,"Komuves furofej, 12 x 600 mm, egyenes szaru// MTX",1179,"B","Active",9999,null,null,"No info","линк"]
[709129,"SDS-plus furofej, 18 x 300 mm, kozpontositott fej// MTX",1175,"B","Active",9999,null,null,"No info","линк"]
[709149,"SDS-plus furofej, 20 x 300 mm, kozpontositott fej// MTX",1509,"B","Active",9999,null,null,"No info","линк"]
[709189,"SDS-plus furofej, 24 x 300 mm, kozpontositott fej// MTX",2238,"B","Active",9999,null,null,"No info","линк"]
[709229,"SDS-plus furofej, 26 x 300 mm, kozpontositott fej// MTX",2554,"B","Active",9999,null,null,"No info","линк"]
[709269,"SDS-plus furofej, 28 x 300 mm, kozpontositott fej// MTX",2959,"B","Active",9999,null,null,"No info","линк"]
[709289,"SDS-plus furofej, 30 x 300 mm, kozpontositott fej// MTX",3441,"B","Active",9999,null,null,"No info","линк"]
[709329,"SDS-plus furofej, 32 x 300 mm, kozpontositott fej// MTX",4698,"B","Active",9999,null,null,"No info","линк"]
[709649,"SDS-plus furofej, 26 x 600 mm, kozpontositott fej// MTX",4783,"B","Active",9999,null,null,"No info","линк"]
[709689,"SDS-plus furofej, 30 x 600 mm, kozpontositott fej// MTX",7207,"B","Active",9999,null,null,"No info","линк"]
[709709,"SDS-plus furofej, 32 x 600 mm, kozpontositott fej// MTX",8347,"B","Active",9999,null,null,"No info","линк"]
[710019,"SDS-plus furofej, 4 x 110 mm, kozpontositott fej// MTX",234,"B","Active",9999,null,null,"No info","линк"]
[710029,"SDS-plus furofej, 5 x 110 mm, kozpontositott fej// MTX",244,"B","Active",9999,null,null,"No info","линк"]
[710039,"SDS-plus furofej, 6 x 110 mm, kozpontositott fej// MTX",253,"B","Active",9999,null,null,"No info","линк"]
[710049,"SDS-plus drill bit, 5,5 x 110 mm, Centering TIP//MTX",244,"B","Active",9999,null,null,"No info","линк"]
[710059,"SDS-plus furofej, 8 x 110 mm, kozpontositott fej// MTX",259,"B","Active",9999,null,null,"No info","линк"]
[710069,"SDS-plus drill bit, 5,5 x 160 mm, Centering TIP//MTX",279,"B","Active",9999,null,null,"No info","линк"]
[710079,"SDS-plus furofej, 10 x 110 mm, kozpontositott fej// MTX",316,"B","Active",9999,null,null,"No info","линк"]
[710099,"SDS-plus drill bit, 6,5 x 110 mm, Centering TIP//MTX",250,"B","Active",9999,null,null,"No info","линк"]
[710109,"SDS-plus drill bit, 6,5 x 160 mm, Centering TIP//MTX",293,"B","Active",9999,null,null,"No info",{"$f":"HYPERLINK(L2606,\"линк\")","v":"линк"}]
[710119,"SDS-plus drill bit, 6,5 x 210 mm, Centering TIP//MTX",364,"B","Active",9999,null,null,"No info","линк"]
[710169,"SDS-plus furofej, 6 x 160 mm, kozpontositott fej// MTX",281,"B","Active",9999,null,null,"No info","линк"]
[710189,"SDS-plus furofej, 8 x 160 mm, kozpontositott fej// MTX",334,"B","Active",9999,null,null,"No info","линк"]
[710239,"SDS-plus furofej, 12 x 160 mm, kozpontositott fej// MTX",420,"B","Active",9999,null,null,"No info","линк"]
[710249,"SDS-plus furofej, 14 x 160 mm, kozpontositott fej// MTX",507,"B","Active",9999,null,null,"No info","линк"]
[710269,"SDS-plus furofej, 6 x 210 mm, kozpontositott fej// MTX",338,"B","Active",9999,null,null,"No info","линк"]
[710279,"SDS-plus furofej, 8 x 210 mm, kozpontositott fej// MTX",395,"B","Active",9999,null,null,"No info","линк"]
[710299,"SDS-plus furofej, 10 x 210 mm, kozpontositott fej// MTX",448,"B","Active",9999,null,null,"No info","линк"]
[710319,"SDS-plus furofej, 12 x 210 mm, kozpontositott fej// MTX",485,"B","Active",9999,null,null,"No info","линк"]
[710339,"SDS-plus furofej, 14 x 210 mm, kozpontositott fej// MTX",644,"B","Active",9999,null,null,"No info","линк"]
[710389,"SDS-plus furofej, 8 x 300 mm, kozpontositott fej// MTX",505,"B","Active",9999,null,null,"No info","линк"]
[710399,"SDS-plus furofej, 14 x 300 mm, kozpontositott fej// MTX",808,"B","Active",9999,null,null,"No info","линк"]
[710409,"SDS-plus furofej, 10 x 300 mm, kozpontositott fej// MTX",597,"B","Active",9999,null,null,"No info","линк"]
[710419,"SDS-plus furofej, 16 x 300 mm, kozpontositott fej// MTX",949,"B","Active",9999,null,null,"No info","линк"]
[710429,"SDS-plus furofej, 12 x 400 mm, kozpontositott fej// MTX",817,"B","Active",9999,null,null,"No info","линк"]
[710449,"SDS-plus furofej, 14 x 400 mm, kozpontositott fej// MTX",1016,"B","Active",9999,null,null,"No info","линк"]
[710469,"SDS-plus furofej, 16 x 400 mm, kozpontositott fej// MTX",1462,"B","Active",9999,null,null,"No info","линк"]
[710489,"SDS-plus furofej, 18 x 400 mm, kozpontositott fej// MTX",1597,"B","Active",9999,null,null,"No info","линк"]
[710509,"SDS-plus furofej, 20 x 400 mm, kozpontositott fej// MTX",1841,"B","Active",9999,null,null,"No info","линк"]
[710529,"SDS-plus furofej, 22 x 400 mm, kozpontositott fej// MTX",2238,"B","Active",9999,null,null,"No info","линк"]
[710649,"SDS-plus furofej, 14 x 600 mm, kozpontositott fej// MTX",1656,"B","Active",9999,null,null,"No info","линк"]
[710669,"SDS-plus furofej, 16 x 600 mm, kozpontositott fej// MTX",1831,"B","Active",9999,null,null,"No info","линк"]
[710689,"SDS-plus furofej, 18 x 600 mm, kozpontositott fej// MTX",2273,"B","Active",9999,null,null,"No info","линк"]
[710729,"SDS-plus furofej, 22 x 600 mm, kozpontositott fej// MTX",3189,"B","Active",9999,null,null,"No info","линк"]
[710939,"Furofej szett 5x110mm, 6x110mm, 8x160mm, 3 db SDS-plus, muanyag tartodoboz// MTX",826,"B","Active",9999,null,null,"No info","линк"]
[710949,"SDS-plus furofej keszlet 5-6-8-10x160mm, muanyag tartodoboz, 4 db// MTX",1387,"B","Active",9999,null,null,"No info","линк"]
[710959,"SDS-plus furofej keszlet 5-6x110mm, 6-8-10x160mm, muanyag tartodoboz, 5 db// MTX",1382,"B","Active",9999,null,null,"No info","линк"]
[712279,"SDS-max utvefuro fej, 12 x 400 mm, // MTX",2002,"B","Active",9999,null,null,"No info","линк"]
[712289,"SDS-max utvefuro fej, 14 x 400 mm, kereszt TIP// MTX",2102,"B","Active",9999,null,null,"No info","линк"]
[712299,"SDS-max utvefuro fej, 16 x 400 mm, kereszt TIP// MTX",2309,"B","Active",9999,null,null,"No info","линк"]
[712309,"utvefuro fej, 18 x 400 mm, SDS MAX// MTX",2643,"B","Active",9999,null,null,"No info","линк"]
[712319,"SDS-max utvefuro fej, 20 x 400 mm, // MTX",2725,"B","Active",9999,null,null,"No info","линк"]
[712329,"SDS-max utvefuro fej, 22 x 400 mm, // MTX",3305,"B","Active",9999,null,null,"No info","линк"]
[712359,"SDS-max utvefuro fej, 26 x 400 mm, kereszt TIP// MTX",4260,"B","Active",9999,null,null,"No info","линк"]
[712369,"SDS-max utvefuro fej, 28 x 400 mm, kereszt TIP// MTX",4985,"B","Active",9999,null,null,"No info","линк"]
[712389,"SDS-max utvefuro fej, 32 x 400 mm, // MTX",6706,"B","Active",9999,null,null,"No info","линк"]
[712529,"SDS-max utvefuro fej, 12 x 600 mm, kereszt TIP// MTX",2751,"B","Active",9999,null,null,"No info","линк"]
[712539,"SDS-max utvefuro fej, 14 x 600 mm, kereszt TIP// MTX",2902,"B","Active",9999,null,null,"No info","линк"]
[712549,"SDS-max utvefuro fej, 16 x 600 mm, kereszt TIP// MTX",3077,"B","Active",9999,null,null,"No info","линк"]
[712559,"SDS-max utvefuro fej, 18 x 600 mm, // MTX",3496,"B","Active",9999,null,null,"No info","линк"]
[712569,"SDS-max utvefuro fej, 20 x 600 mm, kereszt TIP// MTX",3733,"B","Active",9999,null,null,"No info","линк"]
[712579,"SDS-max utvefuro fej, 22 x 600 mm, kereszt TIP// MTX",4327,"B","Active",9999,null,null,"No info","линк"]
[712589,"SDS-max utvefuro fej, 24 x 600 mm, // MTX",4537,"B","Active",9999,null,null,"No info","линк"]
[712609,"SDS-max utvefuro fej, 26 x 600 mm, // MTX",5588,"B","Active",9999,null,null,"No info","линк"]
[712619,"SDS-max utvefuro fej, 28 x 600 mm, kereszt TIP// MTX",6370,"B","Active",9999,null,null,"No info","линк"]
[712629,"SDS-max utvefuro fej, 30 x 600 mm, // MTX",7484,"B","Active",9999,null,null,"No info","линк"]
[712639,"SDS-max utvefuro fej, 32 x 600 mm, // MTX",8408,"B","Active",9999,null,null,"No info","линк"]
[712649,"SDS-max utvefuro fej, 35 x 600 mm, // MTX",9508,"B","Active",9999,null,null,"No info","линк"]
[712769,"SDS-max utvefuro fej, 30 x 800 mm, kereszt TIP// MTX",9679,"B","Active",9999,null,null,"No info","линк"]
[712779,"SDS-max utvefuro fej, 32 x 800 mm, kereszt TIP// MTX",10500,"B","Active",9999,null,null,"No info","линк"]
[712789,"SDS-max utvefuro fej, 35 x 800 mm, // MTX",12243,"B","Active",9999,null,null,"No info","линк"]
[714029,"Fem furofej HSS-Co, 2 mm, 2 db// MTX",216,"B","Active",9999,null,null,"No info","линк"]
[714069,"Fem furofej HSS-Co, 2,5 mm, 2 db//MTX",261,"B","Active",9999,null,null,"No info","линк"]
[714119,"Fem furofej HSS-Co, 3 mm, 2 db// MTX",299,"B","Active",9999,null,null,"No info","линк"]
[714129,"Fem furofej HSS-Co, 3,2 mm, 2 db// MTX",314,"B","Active",9999,null,null,"No info","линк"]
[714179,"Fem furofej HSS-Co, 3,5 mm, 2 db// MTX",348,"B","Active",9999,null,null,"No info","линк"]
[714199,"Fem furofej HSS-Co, 4 mm",253,"B","Active",9999,null,null,"No info","линк"]
[714229,"Fem furofej HSS-Co, 4,5 mm// MTX",303,"B","Active",9999,null,null,"No info","линк"]
[714239,"Fem furofej HSS-Co, 4,8 mm// MTX",383,"B","Active",9999,null,null,"No info","линк"]
[714269,"Fem furofej HSS-Co, 5 mm// MTX",399,"B","Active",9999,null,null,"No info","линк"]
[714299,"Fem furofej HSS-Co, 5,5 mm// MTX",460,"B","Active",9999,null,null,"No info","линк"]
[714369,"Fem furofej HSS-Co, 6 mm// MTX",483,"B","Active",9999,null,null,"No info","линк"]
[714399,"Fem furofej HSS-Co, 6,5 mm// MTX",591,"B","Active",9999,null,null,"No info","линк"]
[714479,"Fem furofej HSS-Co, 7 mm",676,"B","Active",9999,null,null,"No info",{"$f":"HYPERLINK(L2670,\"линк\")","v":"линк"}]
[714539,"Fem furofej HSS-Co, 7,5 mm// MTX",756,"B","Active",9999,null,null,"No info","линк"]
[714589,"Fem furofej HSS-Co, 8 mm// MTX",920,"B","Active",9999,null,null,"No info","линк"]
[714699,"Fem furofej HSS-Co, 9 mm//MTX",1206,"B","Active",9999,null,null,"No info","линк"]
[714729,"Fem furofej HSS-Co, 10 mm// MTX",1558,"B","Active",9999,null,null,"No info","линк"]
[714829,"Fem furofej HSS-Co, 12 mm// MTX",2317,"B","Active",9999,null,null,"No info","линк"]
[715109,"Csiszolt furofej, 1,0 mm, HSS, 10 db// MTX",206,"B","Active",9999,null,null,"No info","линк"]
[715159,"Csiszolt furofej, 1,5 mm, HSS, 10 db// MTX",232,"B","Active",9999,null,null,"No info","линк"]
[715209,"Csiszolt furofej, 2,0 mm, HSS, 10 db// MTX",265,"B","Active",9999,null,null,"No info","линк"]
[715239,"Csiszolt furofej, 2,3 mm, HSS, 10 db// MTX",204,"B","Active",9999,null,null,"No info","линк"]
[715259,"Csiszolt furofej, 2,5 mm, HSS, 10 db// MTX",310,"B","Active",9999,null,null,"No info","линк"]
[715269,"Csiszolt furofej, 2,6 mm, HSS, 10 db// MTX",240,"B","Active",9999,null,null,"No info","линк"]
[715279,"Csiszolt furofej, 2,7 mm, HSS, 10 db// MTX",240,"B","Active",9999,null,null,"No info","линк"]
[715289,"Csiszolt furofej, 2,8 mm, HSS, 10 db// MTX",364,"B","Active",9999,null,null,"No info","линк"]
[715299,"Csiszolt furofej, 2,9 mm, HSS, 10 db// MTX",240,"B","Active",9999,null,null,"No info","линк"]
[715309,"Csiszolt furofej, 3,0 mm, HSS, 10 db// MTX",393,"B","Active",9999,null,null,"No info","линк"]
[715339,"Csiszolt furofej, 3,3 mm, HSS, 10 db// MTX",430,"B","Active",9999,null,null,"No info","линк"]
[715349,"Csiszolt furofej, 3,4 mm, HSS, 10 db// MTX",354,"B","Active",9999,null,null,"No info","линк"]
[715359,"Csiszolt furofej, 3,5 mm, HSS, 10 db// MTX",485,"B","Active",9999,null,null,"No info","линк"]
[715369,"Csiszolt furofej, 3,6 mm, HSS, 10 db// MTX",381,"B","Active",9999,null,null,"No info","линк"]
[715379,"Csiszolt furofej, 3,7 mm, HSS, 10 db// MTX",381,"B","Active",9999,null,null,"No info","линк"]
[715389,"Csiszolt furofej, 3,8 mm, HSS, 10 db// MTX",458,"B","Active",9999,null,null,"No info","линк"]
[715399,"Csiszolt furofej, 3,9 mm, HSS, 10 db// MTX",381,"B","Active",9999,null,null,"No info","линк"]
[715409,"Csiszolt furofej, 4,0 mm, HSS, 10 db// MTX",505,"B","Active",9999,null,null,"No info","линк"]
[715449,"Csiszolt furofej, 4,4 mm, HSS, 10 db// MTX",430,"B","Active",9999,null,null,"No info","линк"]
[715459,"Csiszolt furofej, 4,5 mm, HSS, 10 db// MTX",639,"B","Active",9999,null,null,"No info","линк"]
[715469,"Csiszolt furofej, 4,6 mm, HSS, 10 db// MTX",532,"B","Active",9999,null,null,"No info","линк"]
[715479,"Csiszolt furofej, 4,7 mm, HSS, 10 db// MTX",540,"B","Active",9999,null,null,"No info","линк"]
[715499,"Csiszolt furofej, 4,9 mm, HSS, 10 db// MTX",784,"B","Active",9999,null,null,"No info","линк"]
[715509,"Csiszolt furofej, 5,0 mm, HSS, 10 db// MTX",760,"B","Active",9999,null,null,"No info","линк"]
[715539,"Csiszolt furofej, 5,3 mm, HSS, 10 db// MTX",650,"B","Active",9999,null,null,"No info","линк"]
[715559,"Csiszolt furofej, 5,5 mm, HSS, 10 db// MTX",796,"B","Active",9999,null,null,"No info","линк"]
[715569,"Csiszolt furofej, 5,6 mm, HSS, 10 db// MTX",727,"B","Active",9999,null,null,"No info","линк"]
[715579,"Csiszolt furofej, 5,7 mm, HSS, 10 db// MTX",727,"B","Active",9999,null,null,"No info","линк"]
[715589,"Csiszolt furofej, 5,8 mm, HSS, 10 db// MTX",727,"B","Active",9999,null,null,"No info","линк"]
[715599,"Csiszolt furofej, 5,9 mm, HSS, 10 db// MTX",727,"B","Active",9999,null,null,"No info","линк"]
[715609,"Csiszolt furofej, 6,0 mm, HSS, 10 db// MTX",1012,"B","Active",9999,null,null,"No info","линк"]
[715639,"Csiszolt furofej, 6,3 mm, HSS, 10 db// MTX",847,"B","Active",9999,null,null,"No info","линк"]
[715659,"Csiszolt furofej, 6,5 mm, HSS, 10 db// MTX",1199,"B","Active",9999,null,null,"No info","линк"]
[715709,"Csiszolt furofej, 7,0 mm, HSS, 10 db// MTX",1440,"B","Active",9999,null,null,"No info","линк"]
[715759,"Csiszolt furofej, 7,5 mm, HSS, 10 db// MTX",1373,"B","Active",9999,null,null,"No info","линк"]
[715809,"Csiszolt furofej, 8,0 mm, HSS, 10 db// MTX",1922,"B","Active",9999,null,null,"No info","линк"]
[715859,"Csiszolt furofej, 8,5 mm, HSS, 10 db// MTX",2161,"B","Active",9999,null,null,"No info","линк"]
[715909,"Csiszolt furofej, 9,0 mm, HSS, 10 db// MTX",2505,"B","Active",9999,null,null,"No info","линк"]
[715959,"Csiszolt furofej, 9,5 mm, HSS, 10 db// MTX",2635,"B","Active",9999,null,null,"No info","линк"]
[715999,"Csiszolt furofej, 10 mm, HSS, 10 db// MTX",3126,"B","Active",9999,null,null,"No info","линк"]
[720109,"Csiszolt furofej, 11 mm, HSS, 5 db// MTX",2004,"B","Active",9999,null,null,"No info","линк"]
[720209,"Csiszolt furofej, 12 mm, HSS, 5 db// MTX",2393,"B","Active",9999,null,null,"No info","линк"]
[720609,"Polírozott csavarfúró, 16 mm, HSS, 5 db// MTX",9632,"B","Active",9999,null,null,"No info","линк"]
[720999,"Burghiu pentru metal, 20,0 mm, lustruit, 5 buc., coada cilindrica// MTX",10689,"B","Active",9999,null,null,"No info","линк"]
[722985,"Fém csavarfúró HSS-R 12,0 mm, 5 db// Сибртех",2417,"B","Active",9999,null,null,"No info","линк"]
[723007,"Fåm csavarfurî kåszlet, HSS-Tin, Golden Tip, 2-3-4-5-6-8 mm, 6 db// Denzel",3328,"B","Active",9999,null,null,"No info","линк"]
[723105,"Femfuro keszlet 4-5-6-8-10 mm, HSS, 5 db // SPARTA",727,"B","Active",9999,null,null,"No info","линк"]
[723137,"Süllyesztett fúrókészlet, HSS, M3-M10, fém ház, 6 db // Denzel",4773,"B","Active",9999,null,null,"No info","линк"]
[723167,"Fåm csavarfurî kåszlet, HSS-Tin, Golden Tip, 1-10 mm, 10 db// Denzel",5891,"B","Active",9999,null,null,"No info","линк"]
[723187,"Fåm csavarfurî kåszlet, HSS-Tin, Golden Tip, 1,5-6,5 mm, 13 db// Denzel",4304,"B","Active",9999,null,null,"No info","линк"]
[723217,"Fåm csavarfurî kåszlet, HSS-Tin, Golden Tip, 1-10 mm, 19 db// Denzel",10187,"B","Active",9999,null,null,"No info","линк"]
[723237,"Fém csavarfúró készlet, HSS-Tin, Golden Tip, 1-13 mm, 25 db// Denzel",19008,"B","Active",9999,null,null,"No info","линк"]
[723355,"Csavart furo keszlet 2-8mm HSS,13 db //SPARTA",1324,"B","Active",9999,null,null,"No info","линк"]
[723579,"Haromszog szaru femfuro, 6-8-10-12-14-16-18-20 -22-24-26-28-30 mm, HSS, spiral prof., triang. Shank",3224,"B","Active",9999,null,null,"No info","линк"]
[723589,"Haromszog szaru femfuro, 9-12-15-18-21-24-27-30-33-36 mm, HSS, spiral profile, triangular shank// MTX",3562,"B","Active",9999,null,null,"No info","линк"]
[723599,"Haromszog szaru femfuro, 4-6-8-10-12-14-16-18-20-22-24-26-28-30-32 mm, HSS, spiral prof., triang. shank",3230,"B","Active",9999,null,null,"No info","линк"]
[723839,"Femfuro keszlet, 3–4–5–6–8 mm, HSS, egyenes szaru, 5 db., nitrid-titanboritas, muanyag dobozban// MTX",698,"B","Active",9999,null,null,"No info",{"$f":"HYPERLINK(L2732,\"линк\")","v":"линк"}]
[723869,"Csavart furo keszlet 1.5-6.5mm HSS fem tartodobozban, 13 db // MTX",1688,"B","Active",9999,null,null,"No info","линк"]
[723879,"Femfuro keszlet, 2–8 mm (in 0,5 mm), HSS, egyenes szaru, 13 db., fem tartodobozban// MTX",2446,"B","Active",9999,null,null,"No info","линк"]
[723889,"Femfuro keszlet, 1–10 mm (in 0,5 mm), HSS, egyenes szaru, 19 db., fem tartodobozban// MTX",3820,"B","Active",9999,null,null,"No info","линк"]
[724149,"Kettosfem lukfuresz, 14 mm// MTX",407,"B","Active",9999,null,null,"No info","линк"]
[724169,"Kettosfem lukfuresz, 16 mm// MTX",436,"B","Active",9999,null,null,"No info","линк"]
[724199,"Kettosfem lukfuresz, 19 mm// MTX",519,"B","Active",9999,null,null,"No info","линк"]
[724229,"Kettosfem lukfuresz, 22 mm// MTX",601,"B","Active",9999,null,null,"No info","линк"]
[724259,"Kettosfem lukfuresz, 25 mm// MTX",607,"B","Active",9999,null,null,"No info","линк"]
[724299,"Kettosfem lukfuresz, 29 mm// MTX",711,"B","Active",9999,null,null,"No info","линк"]
[724329,"Kettosfem lukfuresz, 32 mm// MTX",782,"B","Active",9999,null,null,"No info","линк"]
[724359,"Kettosfem lukfuresz, 35 mm// MTX",861,"B","Active",9999,null,null,"No info","линк"]
[724419,"Kettosfem lukfuresz, 41 mm// MTX",986,"B","Active",9999,null,null,"No info","линк"]
[724449,"Kettosfem lukfuresz, 44 mm// MTX",1055,"B","Active",9999,null,null,"No info","линк"]
[724519,"Kettosfem lukfuresz, 51 mm// MTX",1293,"B","Active",9999,null,null,"No info","линк"]
[724549,"Kettosfem lukfuresz, 54 mm// MTX",1305,"B","Active",9999,null,null,"No info","линк"]
[724609,"Kettosfem lukfuresz, 60 mm// MTX",1731,"B","Active",9999,null,null,"No info","линк"]
[724649,"Kettosfem lukfuresz, 64 mm// MTX",1847,"B","Active",9999,null,null,"No info","линк"]
[724689,"Kettosfem lukfuresz, 68 mm// MTX",1977,"B","Active",9999,null,null,"No info","линк"]
[724739,"Kettosfem lukfuresz, 73 mm// MTX",2136,"B","Active",9999,null,null,"No info","линк"]
[724839,"Kettosfem lukfuresz, 83 mm// MTX",2189,"B","Active",9999,null,null,"No info","линк"]
[724909,"SDS-plus lyukfuresz < 30 mm, pilot furofej// MTX",845,"B","Active",9999,null,null,"No info","линк"]
[724929,"SDS-plus lyukfuresz > 30 mm, pilot furofej// MTX",1470,"B","Active",9999,null,null,"No info","линк"]
[724949,"Hex plus lyukfuresz < 30 mm, pilot furofej// MTX",776,"B","Active",9999,null,null,"No info","линк"]
[725085,"Fureszfej keszlet betonhoz, femhez, fahoz 4-5-6-8-10 mm,15 db, muanyag box, hatoldalu rud //SPARTA",1470,"B","Active",9999,null,null,"No info","линк"]
[725305,"Kombinalt szett 3-4-5-6-8-10 mm (HSS+Komuves+fa) muanyag dobozban,18 db // SPARTA",1240,"B","Active",9999,null,null,"No info","линк"]
[725779,"Kombinalt furofej szett (beton 4-10mm, HSS 2-10mm, fa 4-10mm) + fuldugo, 300 db// MTX",3423,"B","Active",9999,null,null,"No info","линк"]
[726069,"Galvanizalt gyemant lukfuresz, 6 x 67 mm, hatoldalu rud, 2 db// MTX",872,"B","Active",9999,null,null,"No info","линк"]
[726089,"Galvanizalt gyemant lukfuresz, 8 x 67 mm, hatoldalu rud, 2 db// MTX",1149,"B","Active",9999,null,null,"No info","линк"]
[726109,"Galvanizalt gyemant lukfuresz, 10 x 67 mm, hatoldalu rud, 2 db// MTX",1397,"B","Active",9999,null,null,"No info","линк"]
[726129,"Galvanizalt gyemant lukfuresz, 12 x 67 mm, hatoldalu rud, 2 db// MTX",1682,"B","Active",9999,null,null,"No info","линк"]
[726149,"Galvanizalt gyemant lukfuresz, 14 x 67 mm hatoldalu rud// MTX",1028,"B","Active",9999,null,null,"No info","линк"]
[726169,"Galvanizalt gyemant lukfuresz, 16 x 67 mm hatoldalu rud// MTX",1181,"B","Active",9999,null,null,"No info","линк"]
[726189,"Galvanizalt gyemant lukfuresz, 18 x 67 mm hatoldalu rud// MTX",1326,"B","Active",9999,null,null,"No info","линк"]
[726209,"Galvanizalt gyemant lukfuresz, 20 x 67 mm hatoldalu rud// MTX",1478,"B","Active",9999,null,null,"No info","линк"]
[726229,"Galvanizalt gyemant lukfuresz, 22 x 67 mm hatoldalu rud// MTX",1613,"B","Active",9999,null,null,"No info","линк"]
[726259,"Galvanizalt gyemant lukfuresz, 25 x 67 mm hatoldalu rud// MTX",1833,"B","Active",9999,null,null,"No info","линк"]
[726289,"Galvanizalt gyemant lukfuresz, 28 x 67 mm hatoldalu rud// MTX",2053,"B","Active",9999,null,null,"No info","линк"]
[726309,"Galvanizalt gyemant lukfuresz, 30 x 67 mm hatoldalu rud// MTX",2203,"B","Active",9999,null,null,"No info","линк"]
[726329,"Galvanizalt gyemant lukfuresz, 32 x 67 mm hatoldalu rud// MTX",2380,"B","Active",9999,null,null,"No info","линк"]
[726359,"Galvanizalt gyemant lukfuresz, 35 x 67 mm hatoldalu rud// MTX",2572,"B","Active",9999,null,null,"No info","линк"]
[726409,"Galvanizalt gyemant lukfuresz, 40 x 67 mm hatoldalu rud// MTX",2955,"B","Active",9999,null,null,"No info","линк"]
[726459,"Galvanizalt gyemant lukfuresz, 45 x 67 mm hatoldalu rud// MTX",3215,"B","Active",9999,null,null,"No info","линк"]
[726509,"Galvanizalt gyemant lukfuresz, 50 x 67 mm hatoldalu rud// MTX",3450,"B","Active",9999,null,null,"No info","линк"]
[726559,"Galvanizalt gyemant lukfuresz, 55 x 67 mm hatoldalu rud// MTX",3676,"B","Active",9999,null,null,"No info","линк"]
[726609,"Galvanizalt gyemant lukfuresz, 60 x 67 mm hatoldalu rud// MTX",3834,"B","Active",9999,null,null,"No info","линк"]
[726659,"Galvanizalt gyemant lukfuresz, 65 x 67 mm hatoldalu rud// MTX",3938,"B","Active",9999,null,null,"No info","линк"]
[728045,"Galvanizalt gyemant lukfuresz 4mm//SPARTA",143,"B","Active",9999,null,null,"No info","линк"]
[728065,"Galvanizalt gyemant lukfuresz 6mm//SPARTA",183,"B","Active",9999,null,null,"No info","линк"]
[728085,"Galvanizalt gyemant lukfuresz 8 mm// SPARTA",250,"B","Active",9999,null,null,"No info","линк"]
[728105,"Galvanizalt gyemant lukfuresz 10 mm// SPARTA",338,"B","Active",9999,null,null,"No info","линк"]
[728139,"Csempe furofej 3 mm, egyenes szaru// MTX",293,"B","Active",9999,null,null,"No info","линк"]
[728149,"Csempe furofej 4 mm, egyenes szaru// MTX",330,"B","Active",9999,null,null,"No info","линк"]
[728159,"Csempe furofej 5 mm, egyenes szaru// MTX",354,"B","Active",9999,null,null,"No info","линк"]
[728169,"Csempe furofej 6 mm, egyenes szaru// MTX",395,"B","Active",9999,null,null,"No info","линк"]
[728189,"Csempe furofej 8 mm, egyenes szaru// MTX",452,"B","Active",9999,null,null,"No info","линк"]
[728209,"Csempe furofej 10 mm, egyenes szaru// MTX",550,"B","Active",9999,null,null,"No info","линк"]
[728229,"Csempe furofej 12 mm, egyenes szaru// MTX",568,"B","Active",9999,null,null,"No info","линк"]
[728259,"Csempe furofej set, 5-6-8mm, hatoldalu rud //MTX",1112,"B","Active",9999,null,null,"No info","линк"]
[728269,"Furesz furo HSS-TiN 6mm, egyenes szaru// MTX",287,"B","Active",9999,null,null,"No info","линк"]
[728289,"Furesz furo HSS-TiN 8mm, egyenes szaru// MTX",426,"B","Active",9999,null,null,"No info","линк"]
[728409,"Volfram szemcsezett vegu lukfuresz szett 33-53-67-73 mm, hatoldalu rud// MTX",5012,"B","Active",9999,null,null,"No info","линк"]
[728429,"Volfram szemcsezett vegu lukfuresz szett 33-53-67-73-83 mm, felig-lekerekitett// MTX",10512,"B","Active",9999,null,null,"No info","линк"]
[728469,"Volfram szemcsezett vegu lukfuresz 33 mm// MTX",599,"B","Active",9999,null,null,"No info","линк"]
[728489,"Volfram szemcsezett vegu lukfuresz 53 mm// MTX",967,"B","Active",9999,null,null,"No info",{"$f":"HYPERLINK(L2796,\"линк\")","v":"линк"}]
[728529,"Volfram szemcsezett vegu lukfuresz 67 mm// MTX",1232,"B","Active",9999,null,null,"No info","линк"]
[728549,"Volfram szemcsezett vegu lukfuresz 73 mm// MTX",1330,"B","Active",9999,null,null,"No info","линк"]
[728569,"Volfram szemcsezett vegu lukfuresz 83 mm// MTX",1501,"B","Active",9999,null,null,"No info","линк"]
[728609,"Aluminium otvozet alap lukfureszhez 33 - 103 mm, anyacsavar// MTX",1128,"B","Active",9999,null,null,"No info","линк"]
[728629,"Karbid vegu furofej 10 mm, hatoldalu rud// MTX",346,"B","Active",9999,null,null,"No info","линк"]
[729559,"Gyémánt csésze kerék Duplasoros 125 mm// Sparta",3119,"B","Active",9999,null,null,"No info","линк"]
[729569,"Gyémánt kupakerék Boomerang 125 mm// Sparta",3596,"B","Active",9999,null,null,"No info","линк"]
[729589,"Gyémánt kupakerék Kombinált 125 mm// Sparta",3175,"B","Active",9999,null,null,"No info","линк"]
[729809,"Diamond cup whel double rows 115 mm//MTX",2888,"B","Active",9999,null,null,"No info","линк"]
[729859,"Disc diamantat pentru slefuit, 125 mm, un rand //MTX",2395,"B","Active",9999,null,null,"No info","линк"]
[729909,"Gyemantvago korong 125 mm// MTX",4168,"B","Active",9999,null,null,"No info","линк"]
[729959,"Gyemantvago korong Turbo 125 mm// MTX",4280,"B","Active",9999,null,null,"No info","линк"]
[729989,"Gyémánt csésze kerék Duplasoros 180 mm// MTX",8655,"B","Active",9999,null,null,"No info","линк"]
[730497,"Folyamatos gyemantvago penge ô230x22,2mm // GROSS",9612,"B","Active",9999,null,null,"No info","линк"]
[731155,"Segmented diamond saw blade 230 x 22,2 mm, dry cutting//SPARTA",3476,"B","Active",9999,null,null,"No info","линк"]
[731175,"Turbo gyemantvago penge 115 x 22,2 mm, szaraz vagas// SPARTA",666,"B","Active",9999,null,null,"No info","линк"]
[731229,"Continious diamond saw blade 115×22,2 mm, dry cutting//MTX",1091,"B","Active",9999,null,null,"No info","линк"]
[731249,"Continious diamond saw blade 125×22,2 mm, dry cutting//MTX",1230,"B","Active",9999,null,null,"No info","линк"]
[731275,"Turbo gyemantvago penge 230 x 22,2 mm, szaraz vagas// SPARTA",2782,"B","Active",9999,null,null,"No info","линк"]
[731289,"Continious diamond saw blade 180×22,2 mm, dry cutting//MTX",2643,"B","Active",9999,null,null,"No info","линк"]
[731369,"Continious diamond saw blade 230×22,2 mm, dry cutting//MTX",4321,"B","Active",9999,null,null,"No info","линк"]
[731409,"Turbo-segmented diamond saw blade 115 × 22,2 mm, dry cutting//MTX",1045,"B","Active",9999,null,null,"No info","линк"]
[731429,"Turbo-segmented diamond saw blade 125 × 22,2 mm, dry cutting//MTX",1236,"B","Active",9999,null,null,"No info","линк"]
[731469,"Turbo-segmented diamond saw blade 180 × 22,2 mm, dry cutting//MTX",2564,"B","Active",9999,null,null,"No info","линк"]
[731509,"Turbo-segmented diamond saw blade 230 × 22,2 mm, dry cutting//MTX",4052,"B","Active",9999,null,null,"No info","линк"]
[731529,"Penge szegmentalt gyemantvagohoz vedo zonakkal 115 x 22,2 mm, szaraz vagas// MTX PROFESSIONAL",1324,"B","Active",9999,null,null,"No info","линк"]
[731539,"Penge szegmentalt gyemantvagohoz vedo zonakkal 125 x 22,2 mm, szaraz vagas// MTX PROFESSIONAL",1375,"B","Active",9999,null,null,"No info","линк"]
[731549,"Penge szegmentalt gyemantvagohoz vedo zonakkal 150 x 22,2 mm, szaraz vagas// MTX",1963,"B","Active",9999,null,null,"No info","линк"]
[731559,"Penge szegmentált gyémántvágóhoz védő zónákkal 180 x 22,2 mm, száraz vágás// MTX",2291,"B","Active",9999,null,null,"No info","линк"]
[731579,"Penge szegmentalt gyemantvagohoz vedo zonakkal 230 x 22,2 mm, szaraz vagas// MTX PROFESSIONAL",3792,"B","Active",9999,null,null,"No info","линк"]
[731739,"Penge szegmentalt gyemantvagohoz 125 x 22,2 mm, szaraz vagas// MTX",947,"B","Active",9999,null,null,"No info","линк"]
[731749,"Penge szegmentalt gyemantvagohoz 150 x 22,2 mm, szaraz vagas// MTX",1413,"B","Active",9999,null,null,"No info","линк"]
[731759,"Penge szegmentalt gyemantvagohoz 180 x 22,2 mm, szaraz vagas// MTX",2106,"B","Active",9999,null,null,"No info","линк"]
[731779,"Penge szegmentalt gyemantvagohoz 230 x 22,2 mm, szaraz vagas// MTX",3148,"B","Active",9999,null,null,"No info","линк"]
[731789,"Turbo gyemantvago penge 115 x 22,2 mm, szaraz vagas// MTX",912,"B","Active",9999,null,null,"No info","линк"]
[731799,"Turbo gyemantvago penge 125 x 22,2 mm, szaraz vagas// MTX",1063,"B","Active",9999,null,null,"No info","линк"]
[731819,"Turbo gyemantvago penge 180 x 22,2 mm, szaraz vagas// MTX",2028,"B","Active",9999,null,null,"No info","линк"]
[731829,"Turbo gyemantvago penge 200 x 22,2 mm, szaraz vagas// MTX",2888,"B","Active",9999,null,null,"No info","линк"]
[731839,"Turbo gyemantvago penge 230 x 22,2 mm, szaraz vagas// MTX",3236,"B","Active",9999,null,null,"No info","линк"]
[731879,"Folyamatos gyemantvago penge 180 x 22,2 mm, nedves vagas// MTX",1725,"B","Active",9999,null,null,"No info","линк"]
[731889,"Folyamatos gyemantvago penge 180 x 25,4 mm, nedves vagas// MTX",2000,"B","Active",9999,null,null,"No info","линк"]
[731899,"Folyamatos gyemantvago penge 200 x 22,2 mm, nedves vagas// MTX",2452,"B","Active",9999,null,null,"No info","линк"]
[731919,"Folyamatos gyemantvago penge 230 x 22,2 mm, nedves vagas// MTX",2998,"B","Active",9999,null,null,"No info","линк"]
[731939,"Turbo extra gyemantvago penge 115 x 22,2 mm, szaraz vagas// MTX PROFESSIONAL",1370,"B","Active",9999,null,null,"No info","линк"]
[731949,"Turbo extra gyemantvago penge 125 x 22,2 mm, szaraz vagas// MTX PROFESSIONAL",1413,"B","Active",9999,null,null,"No info","линк"]
[731959,"Turbó extra gyémántvágó penge 150 x 22,2 mm, száraz vágás// MTX PROFESSIONAL",1741,"B","Active",9999,null,null,"No info","линк"]
[731969,"Turbo Extra gyåmànt furåszlap 180 x 22,2 mm, szàraz vàgàs// MTX",2914,"B","Active",9999,null,null,"No info","линк"]
[731989,"Turbo extra gyemantvago penge 230 x 22,2 mm, szaraz vagas// MTX PROFESSIONAL",3837,"B","Active",9999,null,null,"No info","линк"]
[732109,"T.C.T. Favago penge, 140 x 20 mm, 20T, + gyuru 16/20// MTX",755,"B","Active",9999,null,null,"No info","линк"]
[732119,"T.C.T. Favago penge, 160 x 20 mm, 24T, + gyuru 16/20// MTX",961,"B","Active",9999,null,null,"No info","линк"]
[732129,"T.C.T. Favago penge, 160 x 20 mm, 48T, + gyuru 16/20// MTX",1193,"B","Active",9999,null,null,"No info","линк"]
[732139,"T.C.T. Favago penge, 190 x 20 mm, 24T + gyuru 16/20// MTX",1159,"B","Active",9999,null,null,"No info","линк"]
[732149,"T.C.T. Favago penge, 190 x 20 mm, 48T, + gyuru 16/20// MTX",1519,"B","Active",9999,null,null,"No info","линк"]
[732179,"T.C.T. Favago penge, 190 x 30 mm, 24T// MTX",1204,"B","Active",9999,null,null,"No info","линк"]
[732199,"T.C.T. Favago penge, 190 x 30 mm, 48T// MTX",1511,"B","Active",9999,null,null,"No info","линк"]
[732445,"T.C.T. Fűrészlap favágáshoz, 200 x 22 mm, 40T// Sparta",2080,"B","Active",9999,null,null,"No info","линк"]
[732499,"T.C.T. Favago penge, 160 x 32 mm, 24T// MTX",986,"B","Active",9999,null,null,"No info","линк"]
[732519,"T.C.T. Favago penge, 160 x 32 mm, 48T// MTX",1287,"B","Active",9999,null,null,"No info","линк"]
[732619,"T.C.T. Favago penge, 200 x 32 mm, 24T, + gyuru 30/32// MTX",1456,"B","Active",9999,null,null,"No info","линк"]
[732629,"T.C.T. Favago penge, 200 x 32 mm, 36T, + gyuru 30/32// MTX",1584,"B","Active",9999,null,null,"No info","линк"]
[732639,"T.C.T. Favago penge, 200 x 32 mm, 48T, + gyuru 30/32// MTX",1965,"B","Active",9999,null,null,"No info","линк"]
[732649,"T.C.T. Favago penge, 200 x 32 mm, 60T, + gyuru 30/32// MTX",2157,"B","Active",9999,null,null,"No info","линк"]
[732659,"T.C.T. Favago penge, 250 x 32 mm, 24T// MTX",2515,"B","Active",9999,null,null,"No info","линк"]
[732669,"T.C.T. Favago penge, 250 x 32 mm, 48T// MTX",2973,"B","Active",9999,null,null,"No info",{"$f":"HYPERLINK(L2860,\"линк\")","v":"линк"}]
[732679,"T.C.T. Favago penge, 250 x 32 mm, 60T// MTX",3002,"B","Active",9999,null,null,"No info","линк"]
[732689,"T.C.T. Favago penge, 250 x 32 mm, 80T// MTX",3482,"B","Active",9999,null,null,"No info","линк"]
[732699,"T.C.T. Favago penge, 300 x 32 mm, 48T// MTX",3792,"B","Active",9999,null,null,"No info","линк"]
[732709,"T.C.T. Favago penge, 300 x 32 mm, 60T// MTX",4401,"B","Active",9999,null,null,"No info","линк"]
[732729,"T.C.T. Favago penge, 150 x 20 mm, 24T + gyuru 16/20// MTX PROFESSIONAL",953,"B","Active",9999,null,null,"No info","линк"]
[732769,"T.C.T. Favago penge, 160 x 20 mm, 36T + gyuru 16/20// MTX PROFESSIONAL",1126,"B","Active",9999,null,null,"No info","линк"]
[732789,"T.C.T. Favago penge, 185 x 20 mm, 36T + gyuru 16/20// MTX PROFESSIONAL",1330,"B","Active",9999,null,null,"No info","линк"]
[732799,"T.C.T. Favago penge, 190 x 20 mm, 36T + gyuru 16/20// MTX PROFESSIONAL",1432,"B","Active",9999,null,null,"No info","линк"]
[732849,"T.C.T. Favago penge, 185 x 30 mm, 36T// MTX PROFESSIONAL",1313,"B","Active",9999,null,null,"No info","линк"]
[732869,"T.C.T. Favago penge, 190 x 30 mm, 36T// MTX PROFESSIONAL",1423,"B","Active",9999,null,null,"No info","линк"]
[732909,"T.C.T. Favago penge, 210 x 30 mm, 36T// MTX PROFESSIONAL",1867,"B","Active",9999,null,null,"No info","линк"]
[732969,"T.C.T. Favago penge, 230 x 32 mm, 36T + gyuru 30/32// MTX PROFESSIONAL",2497,"B","Active",9999,null,null,"No info","линк"]
[732989,"T.C.T. Favago penge, 250 x 32 mm, 36T + gyuru 30/32// MTX PROFESSIONAL",3303,"B","Active",9999,null,null,"No info","линк"]
[738009,"Velcro csiszolу korong, perforalt, P 24, 125 mm, 5 db// MTX",236,"B","Active",9999,null,null,"No info","линк"]
[738019,"Velcro csiszolу korong, perforalt, P 36, 125 mm, 5 db// MTX",236,"B","Active",9999,null,null,"No info","линк"]
[738029,"Velcro csiszolу korong, perforalt, P 40, 125 mm, 5 db// MTX",236,"B","Active",9999,null,null,"No info","линк"]
[738039,"Velcro csiszolу korong, perforalt, P 60, 125 mm, 5 db// MTX",236,"B","Active",9999,null,null,"No info","линк"]
[738049,"Velcro csiszolу korong, perforalt, P 80, 125 mm, 5 db// MTX",236,"B","Active",9999,null,null,"No info","линк"]
[738059,"Velcro csiszolу korong, perforalt, P 100, 125 mm, 5 db// MTX",236,"B","Active",9999,null,null,"No info","линк"]
[738069,"Velcro csiszolу korong, perforalt, P 120, 125 mm, 5 db// MTX",236,"B","Active",9999,null,null,"No info","линк"]
[738079,"Velcro csiszolу korong, perforalt, P 150, 125 mm, 5 db// MTX",236,"B","Active",9999,null,null,"No info","линк"]
[738089,"Velcro csiszolу korong, perforalt, P 180, 125 mm, 5 db// MTX",236,"B","Active",9999,null,null,"No info","линк"]
[738109,"Velcro csiszolу korong, P 24, 115 mm, 10 db// MTX",432,"B","Active",9999,null,null,"No info","линк"]
[738159,"Velcro csiszolу korong, P 40, 115 mm, 10 db// MTX",432,"B","Active",9999,null,null,"No info","линк"]
[738209,"Velcro csiszolу korong, P 60, 115 mm, 10 db// MTX",432,"B","Active",9999,null,null,"No info","линк"]
[738259,"Velcro csiszolу korong, P 80, 115 mm, 10 db// MTX",432,"B","Active",9999,null,null,"No info","линк"]
[738309,"Velcro csiszolу korong, P 24, 125 mm, 10 db// MTX",432,"B","Active",9999,null,null,"No info","линк"]
[738359,"Velcro csiszolу korong, P 40, 125 mm, 10 db// MTX",432,"B","Active",9999,null,null,"No info","линк"]
[738409,"Velcro csiszolу korong, P 60, 125 mm, 10 db// MTX",432,"B","Active",9999,null,null,"No info","линк"]
[738459,"Velcro csiszolу korong, P 80, 125 mm, 10 db// MTX",432,"B","Active",9999,null,null,"No info","линк"]
[738509,"Velcro csiszolу korong, P 100, 125 mm, 10 db// MTX",432,"B","Active",9999,null,null,"No info","линк"]
[738559,"Velcro csiszolу korong, P 120, 125 mm, 10 db// MTX",432,"B","Active",9999,null,null,"No info","линк"]
[738609,"Velcro csiszolу korong, P 150, 125 mm, 10 db// MTX",432,"B","Active",9999,null,null,"No info","линк"]
[740269,"Lamellas tarcsa, P 25, 115 x 22,2 mm// MTX",308,"B","Active",9999,null,null,"No info","линк"]
[740279,"Lamellas tarcsa, P 40, 115 x 22,2 mm// MTX",289,"B","Active",9999,null,null,"No info","линк"]
[740289,"Lamellas tarcsa, P 60, 115 x 22,2 mm// MTX",299,"B","Active",9999,null,null,"No info","линк"]
[740299,"Lamellas tarcsa, P 80, 115 x 22,2 mm// MTX",289,"B","Active",9999,null,null,"No info","линк"]
[740319,"Lamellas tarcsa, P 100, 115 x 22,2 mm//MTX",285,"B","Active",9999,null,null,"No info","линк"]
[740329,"Lamellas tarcsa, P 120, 115 x 22,2 mm//MTX",285,"B","Active",9999,null,null,"No info","линк"]
[740419,"Lamellas tarcsa, P 25, 125 x 22,2 mm// MTX",322,"B","Active",9999,null,null,"No info","линк"]
[740429,"Lamellas tarcsa, P 40, 125 x 22,2 mm// MTX",322,"B","Active",9999,null,null,"No info","линк"]
[740439,"Lamellas tarcsa, P 60, 125 x 22,2 mm// MTX",322,"B","Active",9999,null,null,"No info","линк"]
[740449,"Lamellas tarcsa, P 80, 125 x 22,2 mm// MTX",322,"B","Active",9999,null,null,"No info","линк"]
[740479,"Lamellas tarcsa, P 100, 125 x 22,2 mm//MTX",322,"B","Active",9999,null,null,"No info","линк"]
[740489,"Lamellas tarcsa, P 120, 125 x 22,2 mm//MTX",322,"B","Active",9999,null,null,"No info","линк"]
[740729,"Lamellas tarcsa, P 25, 180 x 22,2 mm// MTX",770,"B","Active",9999,null,null,"No info","линк"]
[740739,"Lamellas tarcsa, P 40, 180 x 22,2 mm// MTX",760,"B","Active",9999,null,null,"No info","линк"]
[740749,"Lamellas tarcsa, P 60, 180 x 22,2 mm// MTX",756,"B","Active",9999,null,null,"No info","линк"]
[740759,"Lamellas tarcsa, P 80, 180 x 22,2 mm// MTX",756,"B","Active",9999,null,null,"No info","линк"]
[740769,"Lapos csiszolîtàrcsa, kupos profil, P 24, 115 x 22,2 mm// Sparta",220,"B","Active",9999,null,null,"No info","линк"]
[740779,"Lamellàs csiszolîtàrcsa, kupos profil, P 40, 115 x 22,2 mm// Sparta",222,"B","Active",9999,null,null,"No info","линк"]
[740789,"Lamellàs csiszolîtàrcsa, kupos profil, P 60, 115 x 22,2 mm// Sparta",222,"B","Active",9999,null,null,"No info","линк"]
[740799,"Lamellàs csiszolîtàrcsa, kupos profil, P 80, 115 x 22,2 mm// Sparta",222,"B","Active",9999,null,null,"No info","линк"]
[740829,"Lapos csiszolîtàrcsa, kupos profil, P 24, 125 x 22,2 mm// Sparta",240,"B","Active",9999,null,null,"No info","линк"]
[740839,"Lamellàs csiszolîtàrcsa, kupos profil, P 40, 125 x 22,2 mm// Sparta",242,"B","Active",9999,null,null,"No info","линк"]
[740849,"Lapos csiszolótárcsa, kúpos profil, P 60, 125 x 22,2 mm// Sparta",242,"B","Active",9999,null,null,"No info","линк"]
[740859,"Lamellàs csiszolîtàrcsa, kupos profil, P 80, 125 x 22,2 mm// Sparta",242,"B","Active",9999,null,null,"No info","линк"]
[741109,"Tengelyre szerelt lamellas tarcsa, P 40, 60 x 20 x 6 mm // MTX",316,"B","Active",9999,null,null,"No info","линк"]
[741129,"Tengelyre szerelt lamellas tarcsa, P 60,  60 x 20 x 6 mm //MTX",316,"B","Active",9999,null,null,"No info","линк"]
[741149,"Tengelyre szerelt lamellas tarcsa, P 80,  60 x 20 x 6 mm// MTX",316,"B","Active",9999,null,null,"No info","линк"]
[741209,"Tengelyre szerelt lamellas tarcsa, P 40, 60 x 30 x 6 mm // MTX",399,"B","Active",9999,null,null,"No info","линк"]
[741229,"Tengelyre szerelt lamellas tarcsa, P 60, 60 x 30 x 6 mm // MTX",399,"B","Active",9999,null,null,"No info","линк"]
[741249,"Tengelyre szerelt lamellas tarcsa, Ð 80, 60 x 30 x 6 mm // MTX",399,"B","Active",9999,null,null,"No info","линк"]
[741409,"Tengelyre szerelt lamellas tarcsa, P 40, 80 x 30 x 6 mm // MTX",548,"B","Active",9999,null,null,"No info",{"$f":"HYPERLINK(L2924,\"линк\")","v":"линк"}]
[741429,"Tengelyre szerelt lamellas tarcsa, P 60, 80 x 30 x 6 mm // MTX",548,"B","Active",9999,null,null,"No info","линк"]
[741449,"Tengelyre szerelt lamellas tarcsa, P 80, 80 x 30 x 6 mm// MTX",548,"B","Active",9999,null,null,"No info","линк"]
[741509,"Tengelyre szerelt lamellas tarcsa, P 40, 80 x 40 x 6 mm // MTX",692,"B","Active",9999,null,null,"No info","линк"]
[741529,"Tengelyre szerelt lamellas tarcsa, P 60, 80 x 40 x 6 mm // MTX",692,"B","Active",9999,null,null,"No info","линк"]
[741549,"Tengelyre szerelt lamellas tarcsa, P 80, 80 x 40 x 6 mm // MTX",692,"B","Active",9999,null,null,"No info","линк"]
[742059,"Hartie abraziva pentru masina de slefuit cu banda, P 40, 75 x 457 mm, 10 buc.// MTX",1277,"B","Active",9999,null,null,"No info","линк"]
[742109,"Alumínium oxid végtelenített szíjak, P 60, 75 x 457 mm, 10 db// MTX",1277,"B","Active",9999,null,null,"No info","линк"]
[742179,"Alumínium oxid végtelenített szíjak, P 100, 75 х 457 mm, 10 db// MTX",1277,"B","Active",9999,null,null,"No info","линк"]
[742259,"Aluminium-oxid vegtelenitett szalag, P 40, 75x533 mm, 10 db//MTX",1474,"B","Active",9999,null,null,"No info","линк"]
[742309,"Aluminium-oxid vegtelenitett szalag, P 60, 75x533 mm, 10 db//MTX",1474,"B","Active",9999,null,null,"No info","линк"]
[742379,"Aluminium-oxid vegtelenitett szalag, P 100, 75x533 mm, 10 db//MTX",1474,"B","Active",9999,null,null,"No info","линк"]
[742509,"Alumínium-oxid végtelenített szíjak, P 40, 100 х 610 mm, 10 db// MTX",1749,"B","Active",9999,null,null,"No info","линк"]
[742559,"Hartie abraziva pentru masina de slefuit cu banda, P 60, 100 x 610 mm, 10 buc.// MTX",1749,"B","Active",9999,null,null,"No info","линк"]
[742609,"Hartie abraziva pentru masina de slefuit cu banda, P 80, 100 x 610 mm, 10 buc.// MTX",1749,"B","Active",9999,null,null,"No info","линк"]
[742659,"Hartie abraziva pentru masina de slefuit cu banda, P 8100, 100 x 610 mm, 10 buc.// MTX",2175,"B","Active",9999,null,null,"No info","линк"]
[742679,"Hartie abraziva pentru masina de slefuit cu banda, P 120, 100 x 610 mm, 10 buc.// MTX",1749,"B","Active",9999,null,null,"No info","линк"]
[742699,"Hartie abraziva pentru masina de slefuit cu banda, P 150, 100 x 610 mm, 10 buc.// MTX",1749,"B","Active",9999,null,null,"No info","линк"]
[742759,"Aluminium-oxid szalaggyuru, P 40, 75x457 mm, 3 db// MTX",568,"B","Active",9999,null,null,"No info","линк"]
[742769,"Aluminium-oxid szalaggyuru, P 60, 75x457 mm, 3 db// MTX",568,"B","Active",9999,null,null,"No info","линк"]
[742779,"Aluminium-oxid szalaggyuru, P 80, 75x457 mm, 3 db// MTX",568,"B","Active",9999,null,null,"No info","линк"]
[742789,"Aluminium-oxid szalaggyuru, P 100, 75x457 mm, 3 db// MTX",568,"B","Active",9999,null,null,"No info","линк"]
[742799,"Aluminium-oxid szalaggyuru, P 120 , 75x457 mm, 3 db// MTX",568,"B","Active",9999,null,null,"No info","линк"]
[742809,"Aluminium-oxid szalaggyuru, P 150, 75x457 mm, 3 db// MTX",568,"B","Active",9999,null,null,"No info","линк"]
[742819,"Aluminium-oxid szalaggyuru, P 40, 75x533 mm, 3 db// MTX",589,"B","Active",9999,null,null,"No info","линк"]
[742829,"Aluminium-oxid szalaggyuru, P 60, 75x533 mm, 3 db// MTX",589,"B","Active",9999,null,null,"No info","линк"]
[742839,"Aluminium-oxid szalaggyuru, P 80, 75x533 mm, 3 db// MTX",589,"B","Active",9999,null,null,"No info","линк"]
[742849,"Aluminium-oxid szalaggyuru, P 100, 75x533 mm, 3 db// MTX",589,"B","Active",9999,null,null,"No info","линк"]
[742859,"Aluminium-oxid szalaggyuru, P 120, 75x533 mm, 3 db// MTX",589,"B","Active",9999,null,null,"No info","линк"]
[742869,"Aluminium-oxid szalaggyuru, P 150, 75x533 mm, 3 db// MTX",589,"B","Active",9999,null,null,"No info","линк"]
[742879,"Aluminium-oxid szalaggyuru, P 40, 100x610 mm, 3 db// MTX",867,"B","Active",9999,null,null,"No info","линк"]
[742889,"Aluminium-oxid szalaggyuru, P 60, 100x610 mm, 3 db// MTX",867,"B","Active",9999,null,null,"No info","линк"]
[742909,"Aluminium-oxid szalaggyuru, P 100, 100x610 mm, 3 db// MTX",867,"B","Active",9999,null,null,"No info","линк"]
[742929,"Aluminium-oxid szalaggyuru, P 150, 100x610 mm, 3 db// MTX",867,"B","Active",9999,null,null,"No info","линк"]
[743269,"Fem vago korong, 115 х 1,0 х 22,2 mm// MTX",181,"B","Active",9999,null,null,"No info","линк"]
[743279,"Femvago Korong, 115x1,2x22,2 mm//MTX",181,"B","Active",9999,null,null,"No info","линк"]
[743349,"Femvago Korong, 125 x 1,2 x 22,2 mm//MTX",206,"B","Active",9999,null,null,"No info","линк"]
[743539,"Metal cutting disc, 230 õ 1,8 õ 22,2 mm// MTX",637,"B","Active",9999,null,null,"No info","линк"]
[743549,"Fem vago korong, 230 x 2,0 x 22,2 mm//MTX",643,"B","Active",9999,null,null,"No info","линк"]
[743559,"Fem vago tarcsa, 230 x 2,5 x 22,2 mm//MTX",733,"B","Active",9999,null,null,"No info","линк"]
[744409,"Hullamkreppelt tengelyre szerelt kefekorong 30mm, 6mm szar, bronz bevonatos acelszal// MTX",242,"B","Active",9999,null,null,"No info","линк"]
[744429,"Hullamkreppelt tengelyre szerelt kefekorong 40mm, 6mm szar, bronz bevonatos acelszal// MTX",250,"B","Active",9999,null,null,"No info","линк"]
[744449,"Hullamkreppelt tengelyre szerelt kefekorong 50mm, 6mm szar, bronz bevonatos acelszal// MTX",265,"B","Active",9999,null,null,"No info","линк"]
[744469,"Hullamkreppelt tengelyre szerelt kefekorong 60mm, 6mm szar, bronz bevonatos acelszal// MTX",308,"B","Active",9999,null,null,"No info","линк"]
[744489,"Hullamkreppelt tengelyre szerelt kefekorong 75mm, 6mm szar, bronz bevonatos acelszal// MTX",391,"B","Active",9999,null,null,"No info","линк"]
[744509,"Hullamkreppelt tengelyre szerelt kefekorong 100mm, 6mm szar, bronz bevonatos acelszal// MTX",564,"B","Active",9999,null,null,"No info","линк"]
[744649,"Tekert tengelyre szerelt ecset 25 mm, 6mm szar, lagyitott aceldrot// MTX",564,"B","Active",9999,null,null,"No info","линк"]
[744669,"Tekert tengelyre szerelt ecset 30 mm, 6mm szar, lagyitott aceldrot// MTX",644,"B","Active",9999,null,null,"No info","линк"]
[744709,"Drotkefe, 75 mm, \"cup\" with stud, tekert fem//MTX",878,"B","Active",9999,null,null,"No info","линк"]
[744759,"Hullamkreppelt tengelyre szerelt ecset 50 mm, 6mm szar, bronz bevonatos acelszal// MTX",365,"B","Active",9999,null,null,"No info","линк"]
[744779,"Hullamkreppelt tengelyre szerelt ecset 65 mm, 6mm szar, bronz bevonatos acelszal// MTX",448,"B","Active",9999,null,null,"No info","линк"]
[744789,"Hullamkreppelt tengelyre szerelt ecset 75 mm, 6mm szar, bronz bevonatos acelszal// MTX",481,"B","Active",9999,null,null,"No info","линк"]
[744849,"Hullamkreppelt tengelyre szerelt kefe keszlet, kefekorong 65 mm + kehely 50mm + keskefe, 2 db// MTX",1091,"B","Active",9999,null,null,"No info","линк"]
[744869,"Hullamkreppelt tengelyre szerelt kefe keszlet, kefekorong 50 mm + kehely 25-50 mm, 3 db// MTX",599,"B","Active",9999,null,null,"No info","линк"]
[744909,"Hullamkreppelt tengelyre szerelt kefekorong szett, 50-63-75 mm, 3 db// MTX",560,"B","Active",9999,null,null,"No info","линк"]
[744929,"Hullamkreppelt tengelyre szerelt kefe keszlet, kefekorong 50-75 mm + kehely 75mm, 5 db// MTX",1442,"B","Active",9999,null,null,"No info","линк"]
[744949,"Hullamkreppelt tengelyre szerelt kefekorong szett, 25-38-50-63-75 mm, 5 db// MTX",599,"B","Active",9999,null,null,"No info","линк"]
[746039,"Hullamkreppelt tengelyre szerelt csiszolo kefe 65 mm, Ì14, bronz bevonatos acelszal// MTX",588,"B","Active",9999,null,null,"No info","линк"]
[746049,"Hullamkreppelt tengelyre szerelt csiszolo kefe 75 mm, Ì14, bronz bevonatos acelszal// MTX",770,"B","Active",9999,null,null,"No info","линк"]
[746059,"Hullamkreppelt tengelyre szerelt csiszolo kefe 100 mm, Ì14, bronz bevonatos acelszal// MTX",1218,"B","Active",9999,null,null,"No info","линк"]
[746069,"Hullamkreppelt tengelyre szerelt csiszolo kefe 125 mm, Ì14, bronz bevonatos acelszal// MTX",1782,"B","Active",9999,null,null,"No info","линк"]
[746079,"Hullamkreppelt tengelyre szerelt csiszolo kefe 150 mm, Ì14, bronz bevonatos acelszal// MTX",2352,"B","Active",9999,null,null,"No info","линк"]
[746089,"Hullamkreppelt tengelyre szerelt csiszolo kefe, kupozott 100 mm, Ì14, aceldrot// MTX",727,"B","Active",9999,null,null,"No info","линк"]
[746097,"Lemezkefe sarokcsiszolóhoz, 100 mm, M14, sodrott acélhuzal 0,5 mm// Сибртех",770,"B","Active",9999,null,null,"No info","линк"]
[746099,"Drotkefe csavart sarokcsiszolohoz, 100mm, M14, 0,5mm aceldrot // MTX",804,"B","Active",9999,null,null,"No info",{"$f":"HYPERLINK(L2988,\"линк\")","v":"линк"}]
[746109,"Drotkefe csavart sarokcsiszolohoz, 115mm, M14, 0,5mm aceldrot // MTX",933,"B","Active",9999,null,null,"No info","линк"]
[746119,"Csavart korkefe sarokcsiszolohoz 125mm, M14, 0,5mm acel drot // MTX",1059,"B","Active",9999,null,null,"No info","линк"]
[746129,"Hullamkreppelt tengelyre szerelt csiszolo kefe, kupozott 115 mm, Ì14, aceldrot// MTX",847,"B","Active",9999,null,null,"No info","линк"]
[746169,"Hullamkreppelt tengelyre szerelt csiszolo kefe, kupozott 125 mm, Ì14, aceldrot// MTX",1012,"B","Active",9999,null,null,"No info","линк"]
[746209,"Csavart csiszolo kefe, 65 mm, 14, lagyitott aceldrot// MTX",804,"B","Active",9999,null,null,"No info","линк"]
[746229,"Fazék kefe sarokcsiszolóhoz, 75 mm, M14, csavart acélhuzal 0,8 mm// MTX",865,"B","Active",9999,null,null,"No info","линк"]
[746249,"Csavart csiszolo kefe, 75 mm, 14, lagyitott aceldrot// MTX",872,"B","Active",9999,null,null,"No info","линк"]
[746279,"Csavart csiszolo kefe, 125 mm, 14, lagyitott aceldrot// MTX",1865,"B","Active",9999,null,null,"No info","линк"]
[746289,"Csavart csiszolo kefe, 100 mm, 14, lagyitott aceldrot// MTX",1401,"B","Active",9999,null,null,"No info","линк"]
[746299,"Csavart csiszolo kefe, 150 mm, 14, lagyitott aceldrot// MTX",2277,"B","Active",9999,null,null,"No info","линк"]
[746329,"Csavart korongcsiszolo kefe, 125 mm, orsos lyuku 22,2 mm, lagyitott aceldrot// MTX",1026,"B","Active",9999,null,null,"No info","линк"]
[746339,"Lapos kefe szog csiszolashoz ,125mm,M14 csavart acel huzal 0,35mm/MTX",1199,"B","Active",9999,null,null,"No info","линк"]
[746369,"Csavart korongcsiszolo kefe, 175 mm, orsos lyuku 22,2 mm, lagyitott aceldrot// MTX",1816,"B","Active",9999,null,null,"No info","линк"]
[746389,"Csavart korongcsiszolo kefe, 200 mm, orsos lyuku 22,2 mm, lagyitott aceldrot// MTX",2114,"B","Active",9999,null,null,"No info","линк"]
[746449,"Csavart korongcsiszolo kefe 125 mm-es , M14, lapos, sodrott huzalu, 0,8 mm-es //MTX",1195,"B","Active",9999,null,null,"No info","линк"]
[746489,"Hullamkreppelt korongcsiszolo kefe 100 mm, orsos lyuku 22,2 mm, bronz bevonatos acelszal// MTX",424,"B","Active",9999,null,null,"No info","линк"]
[746569,"Hullamkreppelt korongcsiszolo kefe 125 mm, orsos lyuku 22,2 mm, bronz bevonatos acelszal// MTX",607,"B","Active",9999,null,null,"No info","линк"]
[746609,"Krimpelt drîtkorongcsiszolîkefe 150mm, peremlyuk 32mm, sàrgaråz bevonatu huzal// MTX",1556,"B","Active",9999,null,null,"No info","линк"]
[746619,"Hullàmos huzalcsiszolî kefe 175mm, peremlyuk 32mm, sàrgaråz bevonatu huzal// MTX",1794,"B","Active",9999,null,null,"No info","линк"]
[746629,"Krimpelt drîtkorongcsiszolîkefe 200mm, peremlyuk 32mm, sàrgaråz bevonatu huzal// MTX",2132,"B","Active",9999,null,null,"No info","линк"]
[746649,"Hullamkreppelt korongcsiszolo kefe 150 mm, orsos lyuku 22,2 mm, bronz bevonatos acelszal// MTX",886,"B","Active",9999,null,null,"No info","линк"]
[746669,"Hullamkreppelt korongcsiszolo kefe 175 mm, orsos lyuku 22,2 mm, bronz bevonatos acelszal //MTX",1258,"B","Active",9999,null,null,"No info","линк"]
[746689,"Hullamkreppelt korongcsiszolo kefe 200 mm, orsos lyuku 22,2 mm, bronz bevonatos acelszal//MTX",1324,"B","Active",9999,null,null,"No info","линк"]
[746889,"Pohárkefe sarokcsiszolóhoz, 125 mm, M14, kétsoros csavart acélhuzal 0,8 mm// MTX",4109,"B","Active",9999,null,null,"No info","линк"]
[748609,"Fem kezikefe szett, 3 db., kicsi, muanyag nyel// MTX",318,"B","Active",9999,null,null,"No info","линк"]
[748639,"Fem kezikefe szett, 3 db., nagy, muanyag nyel// MTX",709,"B","Active",9999,null,null,"No info","линк"]
[751185,"Szemcses csiszolo, P 40, 115 x 280 mm, 10db// SPARTA",479,"B","Active",9999,null,null,"No info","линк"]
[751205,"Szemcses csiszolo, P 60, 115 x 280 mm, 10db // SPARTA",479,"B","Active",9999,null,null,"No info","линк"]
[751225,"Szemcses csiszolo, P 80, 115 x 280 mm, 10 db// SPARTA",479,"B","Active",9999,null,null,"No info","линк"]
[751255,"Szemcses csiszolo, P 100, 115 x 280 mm, 10db // SPARTA",479,"B","Active",9999,null,null,"No info","линк"]
[751285,"Szemcses csiszolo, P 120, 115 x 280 mm, 10db // SPARTA",479,"B","Active",9999,null,null,"No info","линк"]
[751305,"Szemcses csiszolo, P 150, 115 x 280 mm, 10db// SPARTA",479,"B","Active",9999,null,null,"No info","линк"]
[751325,"Szemcses csiszolo, P 180, 115 x 280 mm, 10db// SPARTA",479,"B","Active",9999,null,null,"No info","линк"]
[751335,"Szemcses csiszolo, P 200, 115 x 280 mm, 10db// SPARTA",479,"B","Active",9999,null,null,"No info","линк"]
[751345,"Szemcses csiszolo, P 220, 115 x 280 mm, 10db// SPARTA",479,"B","Active",9999,null,null,"No info","линк"]
[751347,"Csiszolószita szemcseszemcse, P 220, 115 х 280mm, 5db// Сибртех",307,"B","Active",9999,null,null,"No info","линк"]
[751365,"Szemcses csiszolo, P 240, 115 x 280 mm, 10db // SPARTA",479,"B","Active",9999,null,null,"No info","линк"]
[751367,"Csiszoló szitaszemcse, P 240, 115 х 280mm, 5db// Сибртех",307,"B","Active",9999,null,null,"No info","линк"]
[751869,"Szemcses csiszolo, P 400, 106 x 280 mm, 25db// MTX",1474,"B","Active",9999,null,null,"No info","линк"]
[751889,"Szemcses csiszolo, P 600, 106 x 280 mm, 25db// MTX",1474,"B","Active",9999,null,null,"No info","линк"]
[751909,"Szemcses csiszolo, P 800, 106 x 280 mm, 25db// MTX",1474,"B","Active",9999,null,null,"No info","линк"]
[752829,"Rola abraziva pe suport textil, P 40, 1000 mm х 20 m, rezistenta la apa// MTX",41173,"B","Active",9999,null,null,"No info","линк"]
[752849,"Rola abraziva pe suport textil, P 46, 1000 mm х 20 m, rezistenta la apa// MTX",41173,"B","Active",9999,null,null,"No info","линк"]
[752929,"Rola abraziva pe suport textil, P 120, 1000 mm х 20 m, rezistenta la apa// MTX",41173,"B","Active",9999,null,null,"No info","линк"]
[756069,"Vizallo csiszolopapir, P 80, 230 x 280 mm, 10 db// MTX",354,"B","Active",9999,null,null,"No info","линк"]
[756089,"Vizallo csiszolopapir, P 100, 230 x 280 mm, 10 db// MTX",354,"B","Active",9999,null,null,"No info","линк"]
[756109,"Vizàllî csiszolîpapir, P 120, 230 õ 280 mm, 10 db// MTX",354,"B","Active",9999,null,null,"No info","линк"]
[756129,"Vizàllî csiszolîpapir, P 180, 230 õ 280 mm, 10 db// MTX",354,"B","Active",9999,null,null,"No info","линк"]
[756149,"Vizallo csiszolopapir, P 240, 230 x 280 mm, 10 db// MTX",354,"B","Active",9999,null,null,"No info","линк"]
[756169,"Vizallo csiszolopapir, P 320, 230 x 280 mm, 10 db// MTX",354,"B","Active",9999,null,null,"No info","линк"]
[756189,"Vizallo csiszolopapir, P 400, 230 x 280 mm, 10 db// MTX",354,"B","Active",9999,null,null,"No info","линк"]
[756209,"Vizallo csiszolopapir, P 600, 230 x 280 mm, 10 db// MTX",354,"B","Active",9999,null,null,"No info","линк"]
[756229,"Vizallo csiszolopapir, P 800, 230 x 280 mm, 10 db// MTX",354,"B","Active",9999,null,null,"No info","линк"]
[756249,"Vizallo csiszolopapir, P 1000, 230 x 280 mm, 10 db// MTX",354,"B","Active",9999,null,null,"No info","линк"]
[756289,"Vizallo csiszolopapir, P 1500, 230 x 280 mm, 10 db// MTX",354,"B","Active",9999,null,null,"No info","линк"]
[756299,"Vizallo csiszolopapir, P 2000, 230 x 280 mm, 10 db// MTX",354,"B","Active",9999,null,null,"No info","линк"]
[757059,"Csiszolo szivacs, 100 x 70 x 25 mm, puha, Ð 60/80, Ð 60/100, Ð 80/120, 3 db.// MTX",576,"B","Active",9999,null,null,"No info","линк"]
[757109,"Csiszolo szivacs, 100 x 70 x 25 mm, kozepes, Ð 60/80, Ð 60/100, Ð 80/120, 3 db.// MTX",745,"B","Active",9999,null,null,"No info","линк"]
[757159,"Csiszolo szivacs, 125 x 100 x 10 mm, puha, Ð 60/80, Ð 60/100, Ð 80/120, 3 db.// MTX",519,"B","Active",9999,null,null,"No info","линк"]
[758105,"Surolo szivacs 125 x 65mm gumi// SPARTA",599,"B","Active",9999,null,null,"No info","линк"]
[758159,"Surolo szivacs, 150 mm, ragasztott szalaggal// MTX",1277,"B","Active",9999,null,null,"No info","линк"]
[758309,"Surolo szivacs, 210 x 105 mm, muanyag kapcsokkal// MTX",1140,"B","Active",9999,null,null,"No info","линк"]
[758475,"Csiszolóblokk 230 х 105 mm, műanyag bilincsekkel// Sparta",1218,"B","Active",9999,null,null,"No info","линк"]
[758529,"Surolo, 230 x 105 mm, muanyag kapcsokkal// MTX",1155,"B","Active",9999,null,null,"No info",{"$f":"HYPERLINK(L3052,\"линк\")","v":"линк"}]
[758539,"Surolo, 230 x 120 mm, muanyag kapcsokkal// MTX",1252,"B","Active",9999,null,null,"No info","линк"]
[759209,"Simito korong ragasztott szalaggal, 115 x 7 mm// MTX",542,"B","Active",9999,null,null,"No info","линк"]
[759259,"Simito korong ragasztott szalaggal, 125 x 7 mm// MTX",578,"B","Active",9999,null,null,"No info","линк"]
[759309,"Simito korong ragasztott szalaggal, 150 x 7 mm// MTX",853,"B","Active",9999,null,null,"No info","линк"]
[760209,"Polirozo fejek 5 db// MTX",631,"B","Active",9999,null,null,"No info","линк"]
[762189,"Polirozo ( belsomenetes ) 115mm// MTX",611,"B","Active",9999,null,null,"No info","линк"]
[762209,"Polirozo (belsomenetes ) 125mm// MTX",715,"B","Active",9999,null,null,"No info","линк"]
[762909,"Csatolo polirozohoz, M14// MTX",151,"B","Active",9999,null,null,"No info","линк"]
[764159,"Csiszoló kő 150 mm// MTX",298,"B","Active",9999,null,null,"No info","линк"]
[764259,"Fenő kő 230 mm// MTX",267,"B","Active",9999,null,null,"No info","линк"]
[766099,"kézi menetvágó készlet, 2 db M4 x 0,7 mm// MTX",334,"B","Active",9999,null,null,"No info","линк"]
[766139,"kézi menetvágó készlet, 2 db M5 x 0,8 mm// MTX",379,"B","Active",9999,null,null,"No info","линк"]
[766179,"Kézi csap készlet, 2 db M6 x 1,0 mm// MTX",395,"B","Active",9999,null,null,"No info","линк"]
[766209,"Kézi csap készlet, 2 db M8 x 1,0 mm// MTX",507,"B","Active",9999,null,null,"No info","линк"]
[766229,"Kézicsap készlet, 2 db M8 x 1,25 mm// MTX",524,"B","Active",9999,null,null,"No info","линк"]
[766289,"kézi menetvágó készlet, 2 db M10 x 1,5 mm// MTX",668,"B","Active",9999,null,null,"No info","линк"]
[766349,"kézi menetvágó készlet, 2 db M12 x 1,75 mm// MTX",849,"B","Active",9999,null,null,"No info","линк"]
[766379,"Kézicsap készlet, 2 db M14 x 2,0 mm// MTX",1122,"B","Active",9999,null,null,"No info","линк"]
[766449,"Kézi csap készlet, 2 db M16 x 1,5 mm// MTX",1390,"B","Active",9999,null,null,"No info","линк"]
[766469,"kézi menetvágó készlet, 2 db M16 x 2,0 mm// MTX",1314,"B","Active",9999,null,null,"No info","линк"]
[766489,"kézi menetvágó készlet, 2 db M18 x 2,5 mm// MTX",1752,"B","Active",9999,null,null,"No info","линк"]
[766569,"Kézi csap készlet, 2 db M20 x 2,5 mm// MTX",2123,"B","Active",9999,null,null,"No info","линк"]
[766609,"Kézi csap készlet, 2 db M22 x 2,5 mm// MTX",2123,"B","Active",9999,null,null,"No info","линк"]
[766659,"kézi menetvágó készlet, 2 db M24 x 3,0 mm// MTX",2980,"B","Active",9999,null,null,"No info","линк"]
[766719,"Kezi keszrevago menetfuro Ì4 x 0,7 mm, Ð6Ì5// MTX",487,"B","Active",9999,null,null,"No info","линк"]
[766739,"Kezi keszrevago menetfuro Ì5 x 0,8 mm, Ð6Ì5// MTX",517,"B","Active",9999,null,null,"No info","линк"]
[766759,"Kezi keszrevago menetfuro Ì6 x 1,0 mm, Ð6Ì5// MTX",652,"B","Active",9999,null,null,"No info","линк"]
[766779,"Kezi keszrevago menetfuro Ì8 x 1,25 mm, Ð6Ì5// MTX",756,"B","Active",9999,null,null,"No info","линк"]
[766919,"Kezi keszrevago menetfuro Ì10 x 1,25 mm, Ð6Ì5// MTX",996,"B","Active",9999,null,null,"No info","линк"]
[766929,"Kezi keszrevago menetfuro Ì10 x 1,5 mm, Ð6Ì5// MTX",1000,"B","Active",9999,null,null,"No info","линк"]
[766949,"Kezi keszrevago menetfuro Ì12 x 1,25 mm, Ð6Ì5// MTX",1246,"B","Active",9999,null,null,"No info","линк"]
[766969,"Kezi keszrevago menetfuro Ì12 x 1,75 mm, Ð6Ì5// MTX",1260,"B","Active",9999,null,null,"No info","линк"]
[769059,"Kromozott menetvago tok racsnival, M3 – M8// MTX",1782,"B","Active",9999,null,null,"No info","линк"]
[769079,"Kromozott menetvago tok racsnival, M5 – M12// MTX",2110,"B","Active",9999,null,null,"No info","линк"]
[769129,"Csaptartó M3-M12// MTX",818,"B","Active",9999,null,null,"No info","линк"]
[769209,"Csaptartó M6-M20// MTX",2339,"B","Active",9999,null,null,"No info","линк"]
[770719,"Menetvago Ì4 x 0,7 mm// MTX",648,"B","Active",9999,null,null,"No info","линк"]
[770739,"Menetvago Ì5 x 0,8 mm// MTX",707,"B","Active",9999,null,null,"No info","линк"]
[770759,"Menetvago Ì6 x 1,0 mm// MTX",812,"B","Active",9999,null,null,"No info","линк"]
[770779,"Menetvago Ì8 x 1,25 mm// MTX",1045,"B","Active",9999,null,null,"No info","линк"]
[770919,"Menetvago Ì10 x 1,25 mm// MTX",1696,"B","Active",9999,null,null,"No info","линк"]
[770929,"Menetvago Ì10 x 1,5 mm// MTX",1576,"B","Active",9999,null,null,"No info","линк"]
[770949,"Menetvago Ì12 x 1,25 mm// MTX",2802,"B","Active",9999,null,null,"No info","линк"]
[770969,"Menetvago Ì12 x 1,75 mm// MTX",2855,"B","Active",9999,null,null,"No info","линк"]
[773097,"8 db-os Die készlet, M3-M12// SPARTA",2852,"B","Active",9999,null,null,"No info","линк"]
[773155,"40db Menetmetszo es menetvago szett M3-M12, metszo-vago fej tarto, muanyag tartodoboz// SPARTA",6091,"B","Active",9999,null,null,"No info","линк"]
[773329,"Menetvago szett, 1/4\"–1/2\"–3/4\"–1\"–1,25\" + racsnival, 8 egyseg// MTX",23050,"B","Active",9999,null,null,"No info","линк"]
[773345,"13 db-os készlet csővezetékekhez// Sparta",36793,"B","Active",9999,null,null,"No info","линк"]
[773355,"9 db Menetvago szett 1/4\"-3/8\"-1/2\"-3/4\"-1\"-1,25\" + racsnival// SPARTA",18431,"B","Active",9999,null,null,"No info","линк"]
[773379,"Menetmetszo szerszamkeszlet, 31 egyseg, metszo es vago szett Ì3 – Ì12// MTX",11237,"B","Active",9999,null,null,"No info","линк"]
[773399,"Menetvàgî szerszàmkåszlet, 36 db, menetfurî szerszàmkåszlet Ì3 – Ì16// MTX",23088,"B","Active",9999,null,null,"No info","линк"]
[773459,"Menetmetszo szerszamkeszlet, 14 egyseg, vago es metszo szett Ì3 – Ì10// MTX",6720,"B","Active",9999,null,null,"No info","линк"]
[773659,"Szerszámfej a taposókhoz 1/2\"// MTX\n",2316,"B","Active",9999,null,null,"No info","линк"]
[773739,"Kar racsnis tartóval a szerszámokhoz//MTX",4545,"B","Active",9999,null,null,"No info","линк"]
[774209,"Menetvágó tartó 13/16” (20mm)//MTX",632,"B","Active",9999,null,null,"No info","линк"]
[774259,"Menetvágó tartó (25mm)//MTX",800,"B","Active",9999,null,null,"No info","линк"]
[774389,"Menet metsző fogó 1 1/2'' (38mm)//MTX",1762,"B","Active",9999,null,null,"No info","линк"]
[774509,"Behajtófej tartó 2\" (45 mm)//MTX",2211,"B","Active",9999,null,null,"No info","линк"]
[775939,"Femfuresz, 300 mm, kettosfem blade, ket komponensu nyel// MTX",3376,"B","Active",9999,null,null,"No info","линк"]
[777105,"Femfuresz pengek, 150 mm, 10 db-os keszlet//SPARTA",248,"B","Active",9999,null,null,"No info","линк"]
[777455,"Femfuresz penge, 300 mm, 36 db// SPARTA",1228,"B","Active",9999,null,null,"No info","линк"]
[777729,"Femfuresz penge, 300 mm, 24TPI, Kettosfem, 2 db// MTX",729,"B","Active",9999,null,null,"No info","линк"]
[777749,"Femfuresz penge, 300 mm, 18TPI, rugalmas, 2 db// MTX",314,"B","Active",9999,null,null,"No info","линк"]
[779109,"Volfram femfuresz penge, 150 mm// MTX",365,"B","Active",9999,null,null,"No info",{"$f":"HYPERLINK(L3116,\"линк\")","v":"линк"}]
[779159,"Volfram femfuresz penge, 300 mm// MTX",692,"B","Active",9999,null,null,"No info","линк"]
[779259,"Gyemant femfuresz penge, 300 mm// MTX",1153,"B","Active",9999,null,null,"No info","линк"]
[781409,"Penge fureszgephez, fahoz, 3 db 50 x 1,2 mm HCS// MTX",232,"B","Active",9999,null,null,"No info","линк"]
[781419,"Penge fureszgephez, fahoz, 3 db 75 x 2,5 mm, HCS// MTX",232,"B","Active",9999,null,null,"No info","линк"]
[781429,"Penge fureszgephez, fahoz, 3 db 90 x 4 mm, HCS// MTX",255,"B","Active",9999,null,null,"No info","линк"]
[781439,"Penge fureszgephez, femhez, 3 db 50 x 0,8 mm, HSS// MTX",538,"B","Active",9999,null,null,"No info","линк"]
[781479,"Penge fureszgephez, femhez, 3 db 50 x 1,2 mm, HSS// MTX",491,"B","Active",9999,null,null,"No info","линк"]
[781509,"Lombfuresz pengek, univerzalis, 3 db 75 x 1,2 mm, kettosfem// MTX",556,"B","Active",9999,null,null,"No info","линк"]
[782019,"Penge fureszgephez, fahoz, 3 db T101B, 75 x 2,5 mm, HCS// MTX PROFESSIONAL",438,"B","Active",9999,null,null,"No info","линк"]
[782029,"Penge fureszgephez, fahoz, 3 db T101D, 75 x 4,0 mm, HCS// MTX PROFESSIONAL",480,"B","Active",9999,null,null,"No info","линк"]
[782039,"Penge fureszgephez, fahoz, 3 db T101BR, 75 x 2,5 mm, forgathato fogazat, HCS// MTX PROFESSIONAL",438,"B","Active",9999,null,null,"No info","линк"]
[782049,"Penge fureszgephez, fahoz, 3 db T144D, 75 x 4,0 mm, HCS// MTX PROFESSIONAL",379,"B","Active",9999,null,null,"No info","линк"]
[782059,"Penge fureszgephez, fahoz, 3 db T111C, 75 x 3,0 mm, HCS// MTX PROFESSIONAL",265,"B","Active",9999,null,null,"No info","линк"]
[782069,"Penge fureszgephez, femhez, 3 db T118G, 50 x 0,8 mm, HSS// MTX PROFESSIONAL",601,"B","Active",9999,null,null,"No info","линк"]
[782079,"Penge fureszgephez, femhez, 3 db T118A, 50 x 1,2 mm, HSS// MTX PROFESSIONAL",534,"B","Active",9999,null,null,"No info","линк"]
[782089,"Penge fureszgephez, femhez, 3 db T127D, 75 x 3,0 mm, HSS// MTX PROFESSIONAL",723,"B","Active",9999,null,null,"No info","линк"]
[782099,"Penge fureszgephez, femhez, 3 db T118AF, 55 x 1,2 mm, kettosfem// MTX PROFESSIONAL",641,"B","Active",9999,null,null,"No info","линк"]
[782109,"Penge fureszgephez, fahoz, 3 db T101AO, 50 x 1,4 mm, Precizios vagas, HCS// MTX PROFESSIONAL",469,"B","Active",9999,null,null,"No info","линк"]
[782119,"Penge fureszgephez, fahoz, 3 db T101BF, 75 x 2,5 mm, kettosfem// MTX PROFESSIONAL",879,"B","Active",9999,null,null,"No info","линк"]
[782129,"Penge fureszgephez, fahoz, 3 db T101DF, 75 x 4,0 mm, kettosfem// MTX PROFESSIONAL",869,"B","Active",9999,null,null,"No info","линк"]
[782139,"Penge fureszgephez, fahoz, 3 db T101BRF, 75 x 2,5 mm, forgathato fogazat, kettosfem// MTX PROFESSIONAL",874,"B","Active",9999,null,null,"No info","линк"]
[782159,"Penge fureszgephez, fahoz, 3 db T244D, 75 x 4,0 mm, HCS// MTX PROFESSIONAL",379,"B","Active",9999,null,null,"No info","линк"]
[782169,"Penge fureszgephez, fahoz, 3 db T301CD, 90 x 3,0 mm, HCS// MTX PROFESSIONAL",516,"B","Active",9999,null,null,"No info","линк"]
[782509,"Penge keszlet fureszgephez, fahoz, 5 db// MTX PROFESSIONAL",589,"B","Active",9999,null,null,"No info","линк"]
[782519,"Penge keszlet fureszgephez, Univerzalis, 5 db// MTX PROFESSIONAL",650,"B","Active",9999,null,null,"No info","линк"]
[783089,"Tobbfunkcios harapofogo, 200 mm",5183,"B","Active",9999,null,null,"No info","линк"]
[783125,"Badogmetszo ollo, rugos D/F 200 mm// SPARTA",729,"B","Active",9999,null,null,"No info","линк"]
[783135,"Badogmetszo ollo, rugos D/F 250 mm// SPARTA",1102,"B","Active",9999,null,null,"No info","линк"]
[783145,"Badogmetszo ollo, rugos D/F 300 mm// SPARTA",943,"B","Active",9999,null,null,"No info","линк"]
[783155,"Specialis metszoollo 250mm (egyenes) gumi markolattal// SPARTA",1124,"B","Active",9999,null,null,"No info","линк"]
[783179,"Metszoollo, 225 mm, eles vagas, glazed markolat// MTX",1853,"B","Active",9999,null,null,"No info","линк"]
[783309,"Metszoollo, egyenes vagas, 250 mm, gumi boritas markolat",1428,"B","Active",9999,null,null,"No info","линк"]
[783329,"Metszoollo 250 mm, gumi boritas markolat, jobb vagas",1301,"B","Active",9999,null,null,"No info","линк"]
[783349,"Metszoollo 250 mm, gumi boritas markolat, bal vagas",1301,"B","Active",9999,null,null,"No info","линк"]
[784047,"Csovàgî muanyaghoz, porszîrt, àtmåro42mm-ig// Sparta",965,"B","Active",9999,null,null,"No info","линк"]
[784069,"Csővágó műanyaghoz, automata, átmérő 35mm// MTX",1570,"B","Active",9999,null,null,"No info","линк"]
[784129,"Muanyagcso-metszo, D-42 mm// MTX",2857,"B","Active",9999,null,null,"No info","линк"]
[787209,"Cso vago, 3-28 mm//MTX",1045,"B","Active",9999,null,null,"No info","линк"]
[789099,"Konnyu papirvago, teleszkopos kaparo penge kenyelmes markolattal es fem vezetovel, 9 mm",165,"B","Active",9999,null,null,"No info","линк"]
[789119,"Konnyu papirvago, teleszkopos kaparo penge kenyelmes markolattal, 9 mm",77,"B","Active",9999,null,null,"No info","линк"]
[789149,"Konnyu papirvago,teleszkopos kaparo penge kenyelmes markolattal es fix vagas, 18 mm",521,"B","Active",9999,null,null,"No info","линк"]
[789189,"Konnyu papirvago, teleszkopos kaparo penge kenyelmes markolattal, 18 mm",224,"B","Active",9999,null,null,"No info","линк"]
[789219,"Szike, 18mm, leveheto penge, 5 potpenge, fem vezeto, gumi boritasu nyel",1539,"B","Active",9999,null,null,"No info","линк"]
[789299,"Konnyu papirvago 18 mm",122,"B","Active",9999,null,null,"No info","линк"]
[789599,"Konnyu papirvago 25mm, intenziv, fem, gumi markolat",1476,"B","Active",9999,null,null,"No info","линк"]
[789649,"Konnyu papirvago, teleszkopos trapez kaparo penge, fem test",863,"B","Active",9999,null,null,"No info","линк"]
[789679,"Konnyu papirvago, teleszkopos trapez kaparo penge",924,"B","Active",9999,null,null,"No info","линк"]
[789697,"Kaparókések 18mm, 10db készlet// Sparta",173,"B","Active",9999,null,null,"No info","линк"]
[789717,"Könnyű papírvágó, teleszkópos kaparókés, fémvezető, 9 mm// Sparta",116,"B","Active",9999,null,null,"No info","линк"]
[789727,"Könnyű papírvágó, teleszkópos kaparókés, 9 mm// Sparta",60,"B","Active",9999,null,null,"No info","линк"]
[789737,"Konnyu papirvàgî, 18 mm, teleszkîpos kaparîkås, fåmvezeto// Sparta",204,"B","Active",9999,null,null,"No info","линк"]
[789747,"Könnyű papírvágó 18 mm// Sparta",89,"B","Active",9999,null,null,"No info","линк"]
[789859,"Vago szett 9-9-18mm teleszkopos pengekkel 3 db // MTX",393,"B","Active",9999,null,null,"No info","линк"]
[789899,"Padloszonyeg-linoleum vago kes,180mm, ket komponensu nyel // MTX",784,"B","Active",9999,null,null,"No info","линк"]
[789919,"8 db vago szett 9-18mm teleszkopos pengekkel, + Kaparos, rogzitett teleszkopos pengek.",682,"B","Active",9999,null,null,"No info","линк"]
[790018,"Garden knife, 170 mm, folding, curved blade, woden handle// PALISAD",1252,"B","Active",9999,null,null,"No info","линк"]
[790028,"Graft/budding knife 173 mm, folding, woden handle// PALISAD",1261,"B","Active",9999,null,null,"No info","линк"]
[790038,"Garden knife, 173 mm, straight blade, woden handle// PALISAD",1370,"B","Active",9999,null,null,"No info","линк"]
[790547,"Kerti kés, 165 mm, összecsukható, bimbózó, műanyag nyél// Palisad",1373,"B","Active",9999,null,null,"No info","линк"]
[790557,"Kerti kés, 165 mm, összecsukható, kopuláló, műanyag nyél// Palisad",1333,"B","Active",9999,null,null,"No info","линк"]
[790567,"Kerti kés, 168 mm, összecsukható, két pengével, műanyag nyéllel// Palisad",1765,"B","Active",9999,null,null,"No info","линк"]
[791009,"elezo kesekhez es mas vagoeszkozokhoz// MTX",1908,"B","Active",9999,null,null,"No info","линк"]
[791019,"elezo kesekhez es mas vagoeszkozokhoz, kicsi// MTX",1821,"B","Active",9999,null,null,"No info","линк"]
[791029,"elezo kerti ollohoz es metszoollohoz// MTX",2605,"B","Active",9999,null,null,"No info",{"$f":"HYPERLINK(L3180,\"линк\")","v":"линк"}]
[791049,"elezo barmilyen kesekhez, fem vezeto// MTX",5394,"B","Active",9999,null,null,"No info","линк"]
[795305,"Kaparo, 40 mm, behuzhato penge SPARTA",187,"B","Active",9999,null,null,"No info","линк"]
[795405,"Glass scraper 51 mm// SPARTA",220,"B","Active",9999,null,null,"No info","линк"]
[795459,"Kaparo, 100 mm, rogzitett penge, fem gumi boritasu nyel// MTX",1081,"B","Active",9999,null,null,"No info","линк"]
[795609,"Kaparo, 250 mm, csempehez, volfram-karbid boritas// MTX",688,"B","Active",9999,null,null,"No info","линк"]
[802209,"Habhenger, 230 mm, D 80 mm, sima, szerkezeti, fogantyú D 6 mm// MTX",859,"B","Active",9999,null,null,"No info","линк"]
[802219,"Habhenger, 230 mm, D 80 mm, durva, szerkezeti, fogantyú D 6 mm// MTX",859,"B","Active",9999,null,null,"No info","линк"]
[806039,"Mini henger nejlon profi, cserelheto, 70 mm, bolyhossag 12mm, D 15mm, poliamid, nyel atm: 6mm// MTX",153,"B","Active",9999,null,null,"No info","линк"]
[806049,"Mini henger Nylon profi, cserélhető, 100 mm, cölöp 12 mm, D 16 mm, poliamid, nyél D 6 mm// MTX",214,"B","Active",9999,null,null,"No info","линк"]
[806069,"Mini-görgő Nylon profi, cserélhető, 150 mm, cölöp 12 mm, D 16 mm, poliamid, nyél D 6 mm// MTX",255,"B","Active",9999,null,null,"No info","линк"]
[806079,"Mini henger nejlon standard, cserelheto, 70mm, bolyhossag 9mm, atm: 44mm, poliamid, nyel atm: 6mm// MTX",141,"B","Active",9999,null,null,"No info","линк"]
[806099,"Mini henger nejlon standard, cserelheto, 100mm, bolyhossag 9 mm, atm: 44 mm, poliamid, nyel atm: 6 mm// MTX",183,"B","Active",9999,null,null,"No info","линк"]
[806109,"Mini henger nejlon standard, cserelheto, 150mm, bolyhossag 9mm, atm: 44 mm, poliamid, nyel atm: 6mm// MTX",252,"B","Active",9999,null,null,"No info","линк"]
[806129,"Mini henger szintex, cserelheto, 70mm, bolyhossag 12mm, atm: 44mm, nyel atm: 6mm, poliakril// MTX",110,"B","Active",9999,null,null,"No info","линк"]
[806139,"Mini henger szintex, cserelheto,100mm, bolyhossag 12mm, atm: 44mm, nyel atm: 6mm, poliakril// MTX",128,"B","Active",9999,null,null,"No info","линк"]
[806149,"Mini henger szintex, cserelheto,150mm, bolyhossag 12mm, atm: 44mm, nyel atm: 6mm, poliakril// MTX",157,"B","Active",9999,null,null,"No info","линк"]
[806179,"Mini henger velur, cserelheto, 150mm, bolyhossag 4 mm, atm: 44mm, nyel atm: 6mm, gyapju// MTX",252,"B","Active",9999,null,null,"No info","линк"]
[806359,"Henger szintex, 250 mm, bolyhossag 18 mm, atm: 38 mm, poliakril, nyellel// MTX",1356,"B","Active",9999,null,null,"No info","линк"]
[806369,"Tapéta varrathenger, \"hordó\" forma, 50mm, műanyag// MTX",297,"B","Active",9999,null,null,"No info","линк"]
[806379,"Nyomohenger, 50 mm, kupos, muanyag// MTX",328,"B","Active",9999,null,null,"No info","линк"]
[806459,"NYLON festőhenger, 180 mm, cölöp 9 mm, D 48 mm, fogantyú D 6 mm// MTX",736,"B","Active",9999,null,null,"No info","линк"]
[806469,"NYLON festőhenger, 250 mm, rúd 9 mm, D 48 mm, fogantyú D 6 mm// MTX",876,"B","Active",9999,null,null,"No info","линк"]
[806479,"Nylon profi. festo henger 180 mm, szál, 12 mm, D48 mm, nyél D 6mm poliamid//MTX",1364,"B","Active",9999,null,null,"No info","линк"]
[806499,"Nylon festohenger,250 mm, szalhossz 12 mm, D 48 mm, nyel D 6 mm, poliamid // MTX",1654,"B","Active",9999,null,null,"No info","линк"]
[806619,"Szintetikus festo henger belso munkakhoz, 2 komponensu nyél 250mm, szal 12 mm,D48mm,nyel, D6mm,poliakril//MTX",1446,"B","Active",9999,null,null,"No info","линк"]
[806639,"Velur festekhenger, ketkomponensu fogantyu, 250 mm, colop 4 mm, D 48 mm, fogantyu D 6 mm, gyapju // MTX",1517,"B","Active",9999,null,null,"No info","линк"]
[807239,"Mini-görgő, Polytex, 150mm, cölöp 12mm, D 16mm, fogantyú D 6mm, poliakril// MTX",134,"B","Active",9999,null,null,"No info","линк"]
[807269,"Mini henger , Girpaint, 150mm, bolyhossag 12mm, atm: 44mm, nyel atm: 6mm, poliakril// MTX",155,"B","Active",9999,null,null,"No info","линк"]
[807359,"henger Greytex, changeable, 180mm, pile 12 mm, D 44mm, handle D 8mm, polyacril// MTX",668,"B","Active",9999,null,null,"No info","линк"]
[807449,"Henger Girpaint, 180 mm, bolyhossag 12 mm, atm: 44 mm, poliakril, nyel atm: 44 mm, cserelheto// MTX",790,"B","Active",9999,null,null,"No info","линк"]
[807459,"Festo henger Girpaint, 8 mm-es markolattal, 180 mm, 12 mm-es anyagvastagsag, atmero 48 m, poliakril// MTX",1440,"B","Active",9999,null,null,"No info","линк"]
[807469,"Festo henger Girpaint, 8 mm-es markolattal, 250 mm, 12 mm-es anyagvastagsag, atmero 48 m, poliakril// MTX",1749,"B","Active",9999,null,null,"No info","линк"]
[807509,"Henger Girpaint, 250 mm, bolyhossag 12 mm, atm: 44 mm, poliakril, nyel atm: 44 mm, cserelheto// MTX",961,"B","Active",9999,null,null,"No info","линк"]
[807519,"Festohenger \"szintex\" nyellel 8mm, 180 mm, bolyhossag 18 mm, atm: 48 mm, poliakril// MTX",1637,"B","Active",9999,null,null,"No info","линк"]
[807539,"Henger szintex, 180 mm, bolyhossag 18 mm, atm: 44 mm, nyel atm: 44 mm, kulso, cserelheto, poliakril// MTX",996,"B","Active",9999,null,null,"No info","линк"]
[807549,"Festohenger \"Neylon Standard\" atm: nyel 8mm, 180 mm, bolyhossag 9 mm, atm: 48 mm, poliamid// MTX",1574,"B","Active",9999,null,null,"No info","линк"]
[807559,"Festohenger \"Neylon Standard\" atm: nyel 8mm, 250 mm, bolyhossag 9mm, atm: 48 mm, poliamid// MTX",1863,"B","Active",9999,null,null,"No info","линк"]
[807579,"Festohenger \"Neylon Profi\" nyellel 8mm, 180 mm, bolyhossag 12 mm, atm: 48 mm, poliamid// MTX",1548,"B","Active",9999,null,null,"No info","линк"]
[807589,"Festohenger \"Neylon Profi\" nyellel 8mm, 250 mm, bolyhossag 12 mm, atm: 48 mm, poliamid// MTX",1890,"B","Active",9999,null,null,"No info","линк"]
[807599,"Henger szintex, 250 mm, bolyhossag 18 mm, atm: 44 mm, nyel atm: 8 mm, kulso, cserelheto, poliakril// MTX",1279,"B","Active",9999,null,null,"No info","линк"]
[807689,"Rola trafalet p/u fatade \"Polytex\", 250 mm, fibre 18mm, D 69 mm, p/u maner D 8 mm, poliacril// MTX",729,"B","Active",9999,null,null,"No info","линк"]
[807729,"Festohenger \"Microfiber\" atm: nyel 8mm , 180 mm, bolyhossag 12 mm, atm: 44 mm, poliakril // MTX",1594,"B","Active",9999,null,null,"No info","линк"]
[807779,"Festőhenger ref. Tetracolor, kültéri munkákhoz,250mm,cölöp 18mm,D55mm,nyél D8mm,poliakril// MTX",1104,"B","Active",9999,null,null,"No info","линк"]
[807789,"Festohenger \"velur\" atm: nyel 8mm ,180 mm, bolyhossag 4 mm, atm: 44 mm, gyapju// MTX",1770,"B","Active",9999,null,null,"No info","линк"]
[807799,"Festohenger \"velur\" atm: nyel 8mm, 250 mm, bolyhossag 4 mm, atm: 44 mm, gyapju// MTX",2254,"B","Active",9999,null,null,"No info","линк"]
[807809,"Henger velur, gyapju, 180 mm, bolyhossag 4 mm, atm: 44 mm, nyel atm: 44 mm// MTX",1028,"B","Active",9999,null,null,"No info","линк"]
[807839,"Henger velur, gyapju, 250 mm, bolyhossag 4 mm, atm: 44 mm, nyel atm: 44 mm// MTX",1065,"B","Active",9999,null,null,"No info","линк"]
[808849,"NYLON festőhenger, 180 mm, cölöp 9 mm, D 36 mm, fogantyú D 6 mm// MTX",591,"B","Active",9999,null,null,"No info","линк"]
[808859,"NYLON festőhenger, 250 mm, rúd 9 mm, D 36 mm, fogantyú D 6 mm// MTX",713,"B","Active",9999,null,null,"No info","линк"]
[808869,"Festőhenger, 180mm, cölöp 18mm, D 40mm, fogantyú D 6mm, poliakril// MTX",1118,"B","Active",9999,null,null,"No info","линк"]
[808879,"Szintetikus festohenger homlokzatok fetesehez 250mm, szalhossz 18mm, D 36mm poliakril//MTX",1342,"B","Active",9999,null,null,"No info","линк"]
[808889,"VELOUR festőhenger, 180 mm, cölöp 4 mm, D 36 mm, fogantyú D 6 mm// MTX",707,"B","Active",9999,null,null,"No info","линк"]
[808899,"VELOUR festőhenger, 250 mm, cölöp 4 mm, D 36 mm, fogantyú D6 mm// MTX",863,"B","Active",9999,null,null,"No info","линк"]
[810159,"Simitohenger, 150 mm// MTX",768,"B","Active",9999,null,null,"No info","линк"]
[812159,"Keret 180 mm-es görgőkhöz , D 6 mm, nikkelezett// MTX",314,"B","Active",9999,null,null,"No info","линк"]
[812309,"Fem hosszabbito rud 0,75-1,5m// MTX",992,"B","Active",9999,null,null,"No info","линк"]
[812319,"Fem hosszabbito rud 1,0-2m// MTX",1132,"B","Active",9999,null,null,"No info","линк"]
[812329,"Fem hosszabbito rud 1,5-3m// MTX",1582,"B","Active",9999,null,null,"No info","линк"]
[812509,"Fem hosszabbito rud 1,20-2,40cm, menetes// MTX",1432,"B","Active",9999,null,null,"No info","линк"]
[814209,"Műanyag festéktálca hengerekhez, 255x330 mm // MTX",527,"B","Active",9999,null,null,"No info","линк"]
[814219,"Műanyag festéktálca hengerekhez, 320x350 mm // MTX",696,"B","Active",9999,null,null,"No info","линк"]
[814229,"Műanyag festéktálca hengerekhez, 120x220 mm // MTX",152,"B","Active",9999,null,null,"No info","линк"]
[814309,"Építőipari műanyag vödör 12 l// MTX\n",671,"B","Active",9999,null,null,"No info","линк"]
[814639,"Műanyag építési vödör, ütésálló, 16 L// MTX",876,"B","Active",9999,null,null,"No info",{"$f":"HYPERLINK(L3244,\"линк\")","v":"линк"}]
[814649,"Műanyag építési vödör, ütésálló, 20 L// ​​MTX",1100,"B","Active",9999,null,null,"No info","линк"]
[814679,"Műanyag kerek szerkezetű mosdó, ütésálló, 45 L// MTX",2798,"B","Active",9999,null,null,"No info","линк"]
[814689,"Műanyag kerek szerkezetű mosdó, ütésálló, 65 L// MTX",3006,"B","Active",9999,null,null,"No info","линк"]
[814699,"Műanyag kerek szerkezetű mosdó, ütésálló, 90 L// MTX",3568,"B","Active",9999,null,null,"No info","линк"]
[814709,"Műanyag négyszögletes konstrukciós mosdó, ütésálló, 40 L//MTX",2499,"B","Active",9999,null,null,"No info","линк"]
[814729,"Műanyag téglalap alakú mosdó, ütésálló, 80 L//MTX",4130,"B","Active",9999,null,null,"No info","линк"]
[820019,"Kerekfeju ecset Elite №18, termйszetes sцrte, harom komponensu nyйl// MTX",487,"B","Active",9999,null,null,"No info","линк"]
[820729,"Kerekfeju ecset ¹2 (20mm), termeszetes sorte, fa nyel// MTX",92,"B","Active",9999,null,null,"No info","линк"]
[820749,"Kerekfeju ecset ¹4 (25 mm), termeszetes sorte, fa nyel// MTX",114,"B","Active",9999,null,null,"No info","линк"]
[820769,"Kerekfeju ecset ¹6 (30 mm), termeszetes sorte, fa nyel// MTX",147,"B","Active",9999,null,null,"No info","линк"]
[820789,"Kerekfeju ecset ¹8 (35 mm), termeszetes sorte, fa nyel// MTX",196,"B","Active",9999,null,null,"No info","линк"]
[820809,"Kerekfeju ecset ¹10 (40 mm), termeszetes sorte, fa nyel// MTX",232,"B","Active",9999,null,null,"No info","линк"]
[820829,"Kerekfeju ecset ¹12 (45 mm), termeszetes sorte, fa nyel// MTX",354,"B","Active",9999,null,null,"No info","линк"]
[820849,"Kerekfeju ecset ¹14 (50mm), termeszetes sorte, fa nyel// MTX",464,"B","Active",9999,null,null,"No info","линк"]
[820869,"Kerekfeju ecset ¹16 (55mm), termeszetes sorte, fa nyel// MTX",601,"B","Active",9999,null,null,"No info","линк"]
[820889,"Kerekfeju ecset ¹18 (60 mm), termeszetes sorte, fa nyel// MTX",654,"B","Active",9999,null,null,"No info","линк"]
[820909,"Kerekfeju ecset ¹20 (65 mm), termeszetes sorte, fa nyel// MTX",918,"B","Active",9999,null,null,"No info","линк"]
[824155,"Laposfeju ecset Slimline 3/4\", termeszetes sorte, fa nyel//SPARTA",66,"B","Active",9999,null,null,"No info","линк"]
[824205,"Laposfeju ecset Slimline 1\", termeszetes sorte, fa nyel//SPARTA",79,"B","Active",9999,null,null,"No info","линк"]
[824255,"Laposfeju ecset Slimline 1,5\", termeszetes sorte, fa nyel//SPARTA",96,"B","Active",9999,null,null,"No info","линк"]
[824355,"Slimline laposecset 4\" (100 mm), termeszetes szor, fa nyel//SPARTA",169,"B","Active",9999,null,null,"No info","линк"]
[824455,"Laposfeju ecset Slimline 4\", termeszetes sorte, fa nyel//SPARTA",271,"B","Active",9999,null,null,"No info","линк"]
[825159,"Laposfeju ecset \"Standard\", 3/4\", termeszetes sorte, fa nyel// MTX",75,"B","Active",9999,null,null,"No info","линк"]
[825209,"Laposfeju ecset \"Standard\", 1\", termeszetes sorte, fa nyel// MTX",83,"B","Active",9999,null,null,"No info","линк"]
[825259,"Laposfeju ecset \"Standard\", 1,5\", termeszetes sorte, fa nyel// MTX",128,"B","Active",9999,null,null,"No info","линк"]
[825309,"Laposfeju ecset \"Standard\", 2\", termeszetes sorte, fa nyel// MTX",157,"B","Active",9999,null,null,"No info","линк"]
[825459,"Laposfeju ecset \"Standard\", 4\", termeszetes sorte, fa nyel// MTX",466,"B","Active",9999,null,null,"No info","линк"]
[827059,"Laposfeju ecset \"Elite\" 4\", termйszetes sцrte, harom komponensu nyйl// MTX",2820,"B","Active",9999,null,null,"No info","линк"]
[830509,"Lapos kefe \"Euro\" 3/4\", natúr sörtéjű, fa nyél// MTX",104,"B","Active",9999,null,null,"No info","линк"]
[830519,"Laposfeju ecset \"Euro\" 1\" ,termeszetes sorte, fa nyel// MTX",140,"B","Active",9999,null,null,"No info","линк"]
[830529,"Lapos ecset \"Euro\" 1,5\", természetes sörtéjű, fa nyél// MTX",196,"B","Active",9999,null,null,"No info","линк"]
[830539,"Lapos ecset \"Euro\" 2\", természetes sörtéjű, fa nyél// MTX",287,"B","Active",9999,null,null,"No info","линк"]
[830549,"Lapos ecset \"Euro\" 2,5\", természetes sörtéjű, fa nyél// MTX",387,"B","Active",9999,null,null,"No info","линк"]
[830569,"Laposfeju ecset \"Euro\" 3\", termeszetes sorte, fa nyel// MTX",476,"B","Active",9999,null,null,"No info","линк"]
[830579,"Laposfeju ecset \"Euro\" 4\", termeszetes sorte, fa nyel// MTX",1010,"B","Active",9999,null,null,"No info","линк"]
[830609,"Laposfeju ecset \"Euro\" 3/4\", termeszetes sorte, muanyag nyel// MTX",114,"B","Active",9999,null,null,"No info","линк"]
[830639,"Laposfeju ecset \"Euro\" 2\", termeszetes sorte, muanyag nyel// MTX",257,"B","Active",9999,null,null,"No info","линк"]
[830649,"Laposfeju ecset \"Euro\" 2,5\", termeszetes sorte, muanyag nyel// MTX",371,"B","Active",9999,null,null,"No info","линк"]
[830669,"Laposfeju ecset \"Euro\" 3\", termeszetes sorte, muanyag nyel// MTX",609,"B","Active",9999,null,null,"No info","линк"]
[830679,"Laposfeju ecset \"Euro\" 4\", termeszetes sorte, muanyag nyel// MTX",670,"B","Active",9999,null,null,"No info","линк"]
[831509,"Laposfeju ecset \"Profi\" 1 \", termeszetes sorte, fa nyel// MTX",157,"B","Active",9999,null,null,"No info","линк"]
[831529,"Flat brush \"Profi\" 2\", natural bristle, woden handle// MTX",330,"B","Active",9999,null,null,"No info","линк"]
[831539,"Flat brush \"Profi\" 2.5\", natural bristle, woden handle// MTX",481,"B","Active",9999,null,null,"No info","линк"]
[831549,"Flat brush \"Profi\" 3\", natural bristle, woden handle// MTX",692,"B","Active",9999,null,null,"No info","линк"]
[831559,"Laposfeju ecset \"Profi\" 4\", termeszetes sorte, fa nyel// MTX",945,"B","Active",9999,null,null,"No info","линк"]
[831629,"Lapos kefe \"Profi\" 2\", natúr sörtéjű, műanyag nyél// MTX",283,"B","Active",9999,null,null,"No info","линк"]
[833529,"Mazolo laposfeju ecset, 50*12 mm// MTX Color Line",442,"B","Active",9999,null,null,"No info","линк"]
[833539,"Mazolo laposfeju ecset, 70*12 mm// MTX Color Line",623,"B","Active",9999,null,null,"No info","линк"]
[833549,"Mazolo laposfeju ecset, 100*12 mm// MTX Color Line",1124,"B","Active",9999,null,null,"No info","линк"]
[833569,"Mazolo kisfeju ecset, 25*10 mm// MTX Color Line",293,"B","Active",9999,null,null,"No info","линк"]
[833579,"Mazolo kisfeju ecset, 35*10 mm// MTX Color Line",428,"B","Active",9999,null,null,"No info","линк"]
[833599,"Mazolo kisfeju ecset, 70*12 mm// MTX Color Line",641,"B","Active",9999,null,null,"No info","линк"]
[833619,"Fenyezo laposfeju ecset, 25*10 mm// MTX Color Line",191,"B","Active",9999,null,null,"No info","линк"]
[833629,"Fenyezo laposfeju ecset, 35*10 mm// MTX Color Line",262,"B","Active",9999,null,null,"No info","линк"]
[833639,"Fenyezo laposfeju ecset, 50*12 mm// MTX Color Line",346,"B","Active",9999,null,null,"No info","линк"]
[833659,"Fenyezo laposfeju ecset, 70*12 mm// MTX Color Line",481,"B","Active",9999,null,null,"No info","линк"]
[833669,"Fenyezo laposfeju ecset, 100*12 mm// MTX Color Line",865,"B","Active",9999,null,null,"No info","линк"]
[833719,"Laposfeju ecset fa kezelesehez, 25*10 mm// MTX Color Line",185,"B","Active",9999,null,null,"No info","линк"]
[833729,"Laposfeju ecset fa kezelesehez, 35*10 mm// MTX Color Line",245,"B","Active",9999,null,null,"No info","линк"]
[833739,"Laposfeju ecset fa kezelesehez, 50*12 mm// MTX Color Line",479,"B","Active",9999,null,null,"No info","линк"]
[833759,"Laposfeju ecset fa kezelesehez, 70*12 mm// MTX Color Line",705,"B","Active",9999,null,null,"No info","линк"]
[833769,"Laposfeju ecset fa kezelesehez, 100*12 mm// MTX Color Line",1146,"B","Active",9999,null,null,"No info","линк"]
[833789,"Laposfeju ecset fa kezelesehez, 120*35 mm// MTX Color Line",1763,"B","Active",9999,null,null,"No info","линк"]
[833819,"Laposfeju ecset vizbazisu festekekhez, 25*12 mm// MTX Color Line",243,"B","Active",9999,null,null,"No info",{"$f":"HYPERLINK(L3308,\"линк\")","v":"линк"}]
[833829,"Laposfeju ecset vizbazisu festekekhez, 35*12 mm// MTX Color Line",307,"B","Active",9999,null,null,"No info","линк"]
[833839,"Laposfeju ecset vizbazisu festekekhez, 50*15 mm// MTX Color Line",540,"B","Active",9999,null,null,"No info","линк"]
[833859,"Laposfeju ecset vizbazisu festekekhez, 75*15 mm// MTX Color Line",961,"B","Active",9999,null,null,"No info","линк"]
[833869,"Laposfeju ecset vizbazisu festekekhez, 100*17 mm// MTX Color Line",1261,"B","Active",9999,null,null,"No info","линк"]
[833879,"Laposfeju ecset vizbazisu festekekhez, 120*25 mm// MTX Color Line",1843,"B","Active",9999,null,null,"No info","линк"]
[833889,"Laposfeju ecset vizbazisu festekekhez, 120*35 mm// MTX Color Line",1884,"B","Active",9999,null,null,"No info","линк"]
[833929,"Homlokzati laposfeju ecset, 100*12 mm// MTX Color Line",692,"B","Active",9999,null,null,"No info","линк"]
[833939,"Homlokzati laposfeju ecset, 120*12 mm// MTX Color Line",961,"B","Active",9999,null,null,"No info","линк"]
[833969,"Homlokzati falfesto ecset 65mm// MTX Color Line",1708,"B","Active",9999,null,null,"No info","линк"]
[833989,"Homlokzati laposfeju ecset, 140*50 mm// MTX Color Line",3072,"B","Active",9999,null,null,"No info","линк"]
[838409,"Pensula pentru radiator 1\", cu par natural, maner din lemn// MTX",126,"B","Active",9999,null,null,"No info","линк"]
[838439,"Pensula pentru radiator 1_1 / 2\", cu par natural, maner din lemn// MTX",181,"B","Active",9999,null,null,"No info","линк"]
[838499,"Ecset radiátorfestéshez 2,5\", natúr sörtéjű, fa nyél// MTX",310,"B","Active",9999,null,null,"No info","линк"]
[840849,"Veglegesito ecset, 140 x 52 mm, szintetikus sorte, fa, muanyag nyel// MTX",417,"B","Active",9999,null,null,"No info","линк"]
[840869,"Veglegesito ecset, 170 x 70 mm, szintetikus sorte, fa, muanyag nyel// MTX",584,"B","Active",9999,null,null,"No info","линк"]
[840889,"Veglegesito ecset, 150 x 70 mm, szintetikus sorte, fa, muanyag nyel// MTX",544,"B","Active",9999,null,null,"No info","линк"]
[841145,"Ecsetkeszlet (Laposfeju ecsetek: 3/4'', 1'', 1/5; Kerekfeju ecsetek: 1, 2, 4), 6 db// SPARTA",589,"B","Active",9999,null,null,"No info","линк"]
[841209,"Veglegesito ecset, 30 x 70 mm, termeszetes sorte, muanyag tok, muanyag nyel// MTX",393,"B","Active",9999,null,null,"No info","линк"]
[841219,"Veglegesito ecset, 30 x 100 mm, termeszetes sorte, muanyag tok, muanyag nyel// MTX",507,"B","Active",9999,null,null,"No info","линк"]
[841229,"Veglegesito ecset, 30 x 120 mm, termeszetes sorte, muanyag tok, muanyag nyel// MTX",611,"B","Active",9999,null,null,"No info","линк"]
[841239,"Veglegesito ecset, 40 x 140 mm, termeszetes sorte, muanyag tok, muanyag nyel// MTX",1020,"B","Active",9999,null,null,"No info","линк"]
[841249,"Veglegesito ecset, 50 x 150 mm, termeszetes sorte, muanyag tok, muanyag nyel// MTX",1375,"B","Active",9999,null,null,"No info","линк"]
[841259,"Veglegesito ecset, 30 x 70 mm, szintetikus sorte, muanyag tok, muanyag nyel// MTX",326,"B","Active",9999,null,null,"No info","линк"]
[841269,"Veglegesito ecset, 30 x 100 mm, szintetikus sorte, muanyag tok, muanyag nyel// MTX",399,"B","Active",9999,null,null,"No info","линк"]
[841279,"Veglegesito ecset, 30 x 120 mm, szintetikus sorte, muanyag tok, muanyag nyel// MTX",497,"B","Active",9999,null,null,"No info","линк"]
[841289,"Veglegesito ecset, 40 x 140 mm, szintetikus sorte, muanyag tok, muanyag nyel// MTX",756,"B","Active",9999,null,null,"No info","линк"]
[841299,"Veglegesito ecset, 50 x 150 mm, szintetikus sorte, muanyag tok, muanyag nyel// MTX",957,"B","Active",9999,null,null,"No info","линк"]
[844049,"Festohenger keszlet \"Greytex\" set 180mm, fenyo 12mm,D 40mm,poliakril, es kuvetta 260*320mm // MTX/Ð",1548,"B","Active",9999,null,null,"No info","линк"]
[844059,"Festohenger keszlet \"Greytex\" 250mm, fenyo 12mm,D 40mm,poliakril, es kuvetta 330*350mm // MTX/Ð",2150,"B","Active",9999,null,null,"No info","линк"]
[844069,"Festohenger keszlet \"szintex\" 180mm, fenyo 18mm, D 40mm, poliakril, es kuvetta 260*320mm // MTX",1645,"B","Active",9999,null,null,"No info","линк"]
[844079,"Festohenger keszlet \"szintex\" 250mm, fenyo 18mm, D 40mm, poliakril, es kuvetta 330*350mm // MTX",2264,"B","Active",9999,null,null,"No info","линк"]
[846659,"Tapeta ecset 300 mm//MTX",1073,"B","Active",9999,null,null,"No info","линк"]
[848329,"Fuggoon, kup alaku 200g 5 m-es vezetekkel// MTX",621,"B","Active",9999,null,null,"No info","линк"]
[848339,"Fuggoon, kup alaku 300g 5 m-es vezetekkel// MTX",819,"B","Active",9999,null,null,"No info","линк"]
[848515,"Kicsapo zsinor, 15 m., muanyag tartodoboz// SPARTA",562,"B","Active",9999,null,null,"No info","линк"]
[848559,"Kicsapo zsinor muanyag gumirozott tartodobozban + piros festek// MTX",1409,"B","Active",9999,null,null,"No info","линк"]
[848579,"Festek piros 50g kicsapo zsinorhoz// MTX",261,"B","Active",9999,null,null,"No info","линк"]
[848589,"Festek piros 115g kicsapo zsinorhoz// MTX",393,"B","Active",9999,null,null,"No info","линк"]
[848609,"Festek kek 115g kicsapo zsinorhoz// MTX",393,"B","Active",9999,null,null,"No info","линк"]
[848619,"Festek kek 50g kicsapo zsinorhoz// MTX",261,"B","Active",9999,null,null,"No info","линк"]
[848709,"Festek kevero 60x8x400mm// MTX",723,"B","Active",9999,null,null,"No info","линк"]
[848749,"Festek kevero 85x8x400mm// MTX",863,"B","Active",9999,null,null,"No info","линк"]
[848759,"Festek kevero 100x8x600mm// MTX",1619,"B","Active",9999,null,null,"No info","линк"]
[848805,"Forgathato kevero, automatikus// SPARTA",3150,"B","Active",9999,null,null,"No info","линк"]
[848806,"Automata horog betonacél rögzítéséhez, 200 mm// Sparta",2144,"B","Active",9999,null,null,"No info","линк"]
[848829,"Univerzalis galvanizalt keveroszar festekhez es plaszter keverekekhez, 80 x 400 mm, szar SDS+ // MTX",1344,"B","Active",9999,null,null,"No info","линк"]
[848949,"Keverőlapát nehéz megoldásokhoz, 120x590mm, horganyzott, M14-es szár külső menettel// MTX",2920,"B","Active",9999,null,null,"No info","линк"]
[848959,"Mixer paddle for heavy solutions, 140x590mm, zinc-coated, M14 shank with external thread// MTX",4464,"B","Active",9999,null,null,"No info","линк"]
[848969,"Keverőlapát nehéz megoldásokhoz, 160x590mm, horganyzott, M14-es szár külső menettel// MTX",4551,"B","Active",9999,null,null,"No info","линк"]
[848979,"Keverőlapát könnyű megoldásokhoz, 120x590mm, horganyzott, M14 szár külső menettel// MTX",3158,"B","Active",9999,null,null,"No info","линк"]
[848989,"Keverőlapát könnyű megoldásokhoz, 140x590mm, horganyzott, M14 szár külső menettel// MTX",3439,"B","Active",9999,null,null,"No info","линк"]
[848999,"Keverőlapát könnyű megoldásokhoz, 160x590mm, horganyzott, M14 szár külső menettel// MTX",3617,"B","Active",9999,null,null,"No info","линк"]
[852035,"Spakli 30 mm, rozsdamentes acel, fa nyellel//SPARTA",141,"B","Active",9999,null,null,"No info","линк"]
[852065,"Spakli 40 mm, rozsdamentes acel, fa nyellel//SPARTA",151,"B","Active",9999,null,null,"No info","линк"]
[852095,"Spakli 50 mm, rozsdamentes acel, fa nyellel//SPARTA",153,"B","Active",9999,null,null,"No info","линк"]
[852125,"Spakli 60 mm, rozsdamentes acel, fa nyellel//SPARTA",165,"B","Active",9999,null,null,"No info","линк"]
[852155,"Spakli 80 mm, rozsdamentes acel, fa nyellel//SPARTA",183,"B","Active",9999,null,null,"No info","линк"]
[852185,"Spakli 100 mm, rozsdamentes acel, fa nyellel//SPARTA",189,"B","Active",9999,null,null,"No info","линк"]
[852305,"Spakli acel muanyag nyellel 25mm,csiszolt// SPARTA",179,"B","Active",9999,null,null,"No info","линк"]
[852425,"Spakli acel muanyag nyellel 100mm,csiszolt// SPARTA",283,"B","Active",9999,null,null,"No info","линк"]
[852485,"Spakli acel muanyag nyellel 150mm,csiszolt// SPARTA",377,"B","Active",9999,null,null,"No info","линк"]
[852605,"4 db-os spakli szett 50-80-100-120mm//SPARTA",393,"B","Active",9999,null,null,"No info","линк"]
[852999,"Tobbfunkcios spakli, acel muanyag nyellel// MTX",395,"B","Active",9999,null,null,"No info","линк"]
[855029,"Fali spatulya, rozsdamentes acel penge, 200 mm, ket komponensu nyel, szeles boritas// MTX",1183,"B","Active",9999,null,null,"No info",{"$f":"HYPERLINK(L3372,\"линк\")","v":"линк"}]
[855049,"Spatulya, rozsdamentes acel penge, 40 mm, ket komponensu nyel// MTX",383,"B","Active",9999,null,null,"No info","линк"]
[855059,"Spatulya, rozsdamentes acel penge, 50 mm, ket komponensu nyel// MTX",393,"B","Active",9999,null,null,"No info","линк"]
[855089,"Spatulya, rozsdamentes acel penge, 80 mm, ket komponensu nyel// MTX",444,"B","Active",9999,null,null,"No info","линк"]
[855119,"Spaclu-fatada, din otel, 150 mm, maner cu doua componente// MTX MASTER",1487,"B","Active",9999,null,null,"No info","линк"]
[855129,"Spatulya, rozsdamentes acel penge, 120 mm, ket komponensu nyel// MTX",550,"B","Active",9999,null,null,"No info","линк"]
[855139,"Kulteri spatulya rozsdamentes acel penge, 200 mm, vekony pengeju, ket komponensu nyel// MTX",1692,"B","Active",9999,null,null,"No info","линк"]
[855149,"Kulteri spatulya rozsdamentes acel penge, 250 mm, vekony pengeju, ket komponensu nyel// MTX",2283,"B","Active",9999,null,null,"No info","линк"]
[855169,"Kulteri spatulya rozsdamentes acel penge, 300 mm, vekony pengeju, ket komponensu nyel// MTX",2544,"B","Active",9999,null,null,"No info","линк"]
[855179,"Kulteri spatulya rozsdamentes acel penge, 350 mm, vekony pengeju, ket komponensu nyel// MTX",2670,"B","Active",9999,null,null,"No info","линк"]
[855189,"Kulteri spatulya rozsdamentes acel penge, 475 mm, vekony pengeju, ket komponensu nyel// MTX",3401,"B","Active",9999,null,null,"No info","линк"]
[855199,"Kulteri spatulya rozsdamentes acel penge, 600 mm, vekony pengeju, ket komponensu nyel// MTX",4127,"B","Active",9999,null,null,"No info","линк"]
[856909,"Rozsdamentes acél kaparó, 40 mm, fa reszelék nyél // MTX",546,"B","Active",9999,null,null,"No info","линк"]
[856919,"Rozsdamentes acél kaparó, 60 mm, fa reszelék nyél // MTX",607,"B","Active",9999,null,null,"No info","линк"]
[856929,"Rozsdamentes acél kaparó, 80 mm, fa reszelék nyél // MTX",597,"B","Active",9999,null,null,"No info","линк"]
[856939,"Rozsdamentes acél kaparó, 100 mm, fa reszelék nyél // MTX",544,"B","Active",9999,null,null,"No info","линк"]
[856949,"Rozsdamentes acél kaparó, 140 mm, fa reszelék nyél // MTX",756,"B","Active",9999,null,null,"No info","линк"]
[856959,"Rozsdamentes acél kaparó, 200 mm, fa reszelék nyél // MTX",943,"B","Active",9999,null,null,"No info","линк"]
[856969,"Rozsdamentes acél kaparó, 250 mm, fa reszelőnyél // MTX",939,"B","Active",9999,null,null,"No info","линк"]
[856979,"Rozsdamentes acél kaparó, 300 mm, fa reszelék nyél // MTX",1136,"B","Active",9999,null,null,"No info","линк"]
[856989,"Rozsdamentes acél kaparó, 350 mm, fa reszelék nyél // MTX",1222,"B","Active",9999,null,null,"No info","линк"]
[856999,"Rozsdamentes acél kaparó, 450 mm, fa reszelék nyél // MTX",1446,"B","Active",9999,null,null,"No info","линк"]
[857009,"Rozsdamentes acél kaparó, 600 mm, fa reszelék nyél // MTX",1928,"B","Active",9999,null,null,"No info","линк"]
[862257,"Tál építési munkákhoz, 160 mm, fa nyél// Sparta",1243,"B","Active",9999,null,null,"No info","линк"]
[862417,"Acél vakoló simító, megerősített fa nyél// Sparta",933,"B","Active",9999,null,null,"No info","линк"]
[862705,"Acel komuves kanal, 160 mm, fa nyel // SPARTA",474,"B","Active",9999,null,null,"No info","линк"]
[862725,"Komuves serpenyo, 200 mm, fa nyel // SPARTA",564,"B","Active",9999,null,null,"No info","линк"]
[862745,"Komuves kanal simito , 160 mm, fa nyel // SPARTA",454,"B","Active",9999,null,null,"No info","линк"]
[862765,"Komuves kanal simito , 200 mm, fa nyel // SPARTA",536,"B","Active",9999,null,null,"No info","линк"]
[862785,"Acel simito komuves kanal, 150 mm, fa nyel//SPARTA",424,"B","Active",9999,null,null,"No info","линк"]
[862805,"Acel simito komuves kanal, 200 mm, fa nyel//SPARTA",487,"B","Active",9999,null,null,"No info","линк"]
[863089,"Rozsdamentes acel simitokanal belso sarkokhoz, 80 x 60 x 60 mm, fa nyel// MTX",931,"B","Active",9999,null,null,"No info","линк"]
[863109,"Rozsdamentes acel simitokanal belso sarkokhoz, 110 x 75 x 75 mm, fa nyel// MTX",1083,"B","Active",9999,null,null,"No info","линк"]
[863129,"Rozsdamentes acel simitokanal kulso sarkokhoz, 80 x 60 x 60 mm, fa nyel// MTX",973,"B","Active",9999,null,null,"No info","линк"]
[863149,"Rozsdamentes acel simitokanal kulso sarkokhoz, 110 x 75 x 75 mm, fa nyel// MTX",1151,"B","Active",9999,null,null,"No info","линк"]
[863169,"Rozsdamentes acel komuves kanal, 120 x 79 mm, fa nyel// MTX",920,"B","Active",9999,null,null,"No info","линк"]
[863189,"Rozsdamentes acel komuves kanal, 140 x 82 mm, fa nyel// MTX",1045,"B","Active",9999,null,null,"No info","линк"]
[863209,"Rozsdamentes acel komuves kanal, 160 x 84 mm, fa nyel// MTX",1083,"B","Active",9999,null,null,"No info","линк"]
[867219,"Muanyag simito, 280 x 130 mm// MTX",1193,"B","Active",9999,null,null,"No info","линк"]
[867329,"Acel simito, 280x130 mm, tukor-csiszolt, fa nyel// MTX",1273,"B","Active",9999,null,null,"No info","линк"]
[867339,"Rozsdamentes acel simito, 280 x 130 mm, fa nyel// MTX",1482,"B","Active",9999,null,null,"No info","линк"]
[867349,"Rozsdamentes acel simito, 480 x 130 mm, fa nyel// MTX",3325,"B","Active",9999,null,null,"No info","линк"]
[867359,"Rozsdamentes acel simito, 600 x 130 mm, fa nyel// MTX",3486,"B","Active",9999,null,null,"No info","линк"]
[867379,"Rozsdamentes acel simito, 280 x 130 mm, fogazat 6 x 6 mm, fa nyel// MTX",1464,"B","Active",9999,null,null,"No info","линк"]
[867749,"Simito, 280 x 130 mm, acel, tukor-csiszolt, muanyag nyel// MTX",892,"B","Active",9999,null,null,"No info","линк"]
[867759,"Simito, 280 x 130 mm, fogazat 6 x 6 mm, tukor-csiszolt, muanyag nyel// MTX",729,"B","Active",9999,null,null,"No info","линк"]
[867769,"Float, 280 x 130 mm, stainless steel, mirror-finished, plastic handle// MTX",1240,"B","Active",9999,null,null,"No info","линк"]
[868029,"Muanyag bevonatos simito, 280 x 140 mm, szivacs bevonatos// MTX",1694,"B","Active",9999,null,null,"No info","линк"]
[872235,"uvegvago 6-Henger fa nyellel//SPARTA",525,"B","Active",9999,null,null,"No info","линк"]
[872405,"Gyemant uvegvago//SPARTA",707,"B","Active",9999,null,null,"No info","линк"]
[872649,"Hengeres uvegvago fem nyellel//MTX",935,"B","Active",9999,null,null,"No info","линк"]
[875155,"uvegemelo kettalpu// SPARTA",2662,"B","Active",9999,null,null,"No info","линк"]
[876059,"Csempe vago 400 x 16 mm, kemeny lemezes, eros markolat, csapagyas vezeto// MTX",23401,"B","Active",9999,null,null,"No info","линк"]
[876699,"Vagokerek csempe vagohoz, 22,0 x 6,0 x 2,0 mm// MTX",657,"B","Active",9999,null,null,"No info","линк"]
[876879,"Sínes csempevágó 500mm// MTX",38581,"B","Active",9999,null,null,"No info","линк"]
[876889,"Sínes csempevágó 600mm// MTX",39084,"B","Active",9999,null,null,"No info","линк"]
[879019,"Tarajos henger, 150 mm, gipsztablahoz , fa nyel 500 mm// MTX",2104,"B","Active",9999,null,null,"No info","линк"]
[879519,"Gipszkarton fem profil lyukaszto, egy kezes munkahoz// MTX",5354,"B","Active",9999,null,null,"No info","линк"]
[880225,"ek csempe fekteteshez30x6x5mm 200 db-os keszlet// SPARTA",369,"B","Active",9999,null,null,"No info","линк"]
[880645,"ek, 1,0 mm, 250 db-os keszlet//SPARTA",173,"B","Active",9999,null,null,"No info","линк"]
[880685,"Fugakereszt 2,0mm, 250 db-os keszlet// SPARTA",240,"B","Active",9999,null,null,"No info","линк"]
[880725,"Fugakereszt 3,0mm, 250 db-os keszlet// SPARTA",269,"B","Active",9999,null,null,"No info","линк"]
[880765,"Fugakereszt 4,0mm, 250 db-os keszlet// SPARTA",316,"B","Active",9999,null,null,"No info","линк"]
[880805,"Fugakereszt 5,0mm, 250 db-os keszlet// SPARTA",346,"B","Active",9999,null,null,"No info","линк"]
[881009,"Parketta rako keszelet// MTX",2625,"B","Active",9999,null,null,"No info",{"$f":"HYPERLINK(L3436,\"линк\")","v":"линк"}]
[881239,"Csempe szintező rendszer Gate XL - ékek, 50 db, zacskóban// MTX",1431,"B","Active",9999,null,null,"No info","линк"]
[881249,"Csempekiegyenlítő rendszer Gate XL, készlet: kapcsok + ékek 50/50 db, zacskóban// MTX",2048,"B","Active",9999,null,null,"No info","линк"]
[882409,"Csempefuro vedohaloval// MTX",3232,"B","Active",9999,null,null,"No info","линк"]
[886409,"Kinyomo pisztoly, felig nyitott, 310 ml, kromozott, recezett rud 7 mm// MTX",1531,"B","Active",9999,null,null,"No info","линк"]
[886669,"Kinyomo pisztoly, felig nyitott, 310 ml, ellen-sulyozott, lekerekitett atm: 8 mm// MTX",2957,"B","Active",9999,null,null,"No info","линк"]
[886689,"Tomitohab adagolo pisztoly// MTX",3973,"B","Active",9999,null,null,"No info","линк"]
[886699,"Tomitohab adagolo pisztoly, teflon bevonattal, ket komponensu nyel// MTX",6119,"B","Active",9999,null,null,"No info","линк"]
[886737,"Hab pisztoly, lightweight test// SPARTA",2297,"B","Active",9999,null,null,"No info","линк"]
[887509,"Masking film with tape, 550mm x 15m// MTX",535,"B","Active",9999,null,null,"No info","линк"]
[887519,"Masking film with tape, 1400mm x 15m// MTX",874,"B","Active",9999,null,null,"No info","линк"]
[887529,"Masking film with tape, 1700mm x 15m// MTX",981,"B","Active",9999,null,null,"No info","линк"]
[887539,"Masking film with tape, 2500mm x 15m// MTX",1421,"B","Active",9999,null,null,"No info","линк"]
[887709,"Szigetelőszalag PVC elektromos 15mm x 10m kék, 0,15mm// MTX",120,"B","Active",9999,null,null,"No info","линк"]
[887719,"Szigetelőszalag PVC elektromos 15mm x 10m fekete, 0,15mm// MTX",120,"B","Active",9999,null,null,"No info","линк"]
[887779,"Szigetelőszalag PVC elektromos 19mm x 20m kék, 0,15mm// MTX",252,"B","Active",9999,null,null,"No info","линк"]
[887789,"Szigetelőszalag PVC elektromos 19mm x 20m fekete, 0,15mm// MTX",252,"B","Active",9999,null,null,"No info","линк"]
[887869,"PVC szigetelőszalag készlet, 15mm x 10m, 5 szín, 5db/készlet, 0,15mm// MTX",519,"B","Active",9999,null,null,"No info","линк"]
[888029,"Takaro folia, 4 x 5 m, 7 mkm// MTX",308,"B","Active",9999,null,null,"No info","линк"]
[888039,"Takaro folia, 4 x 12,5 m, 7 mkm// MTX",713,"B","Active",9999,null,null,"No info","линк"]
[888589,"Szigeteloszalag, fekete, 50mmx10m // MTX",358,"B","Active",9999,null,null,"No info","линк"]
[891089,"ABS műanyag védősisak, W-001 modell, fokozatmentes méretállítás, sárga// Denzel",3054,"B","Active",9999,null,null,"No info","линк"]
[891099,"ABS műanyag védősisak, W-001 modell, simán állítható méret, fehér// Denzel",3054,"B","Active",9999,null,null,"No info","линк"]
[891789,"Arcvédő pajzs 190x345 mm, polikarbonát, OT-S modell",3833,"B","Active",9999,null,null,"No info","линк"]
[892607,"Összecsukható szűrő félálarc FFP2 NR, szelepek nélkül, D-4201 modell, 3db// Denzel",382,"B","Active",9999,null,null,"No info","линк"]
[892617,"Összecsukható szűrő félálarc FFP2 NR, kilégzőszeleppel, modell D-4201V// Denzel",186,"B","Active",9999,null,null,"No info","линк"]
[892627,"Csésze alakú szűrő félálarc FFP2 NR, szelepek nélkül, modell D-4101, 5db// Denzel",850,"B","Active",9999,null,null,"No info","линк"]
[892637,"Csésze alakú szűrő félálarc FFP2 NR, kilégzőszeleppel, modell D-4101V// Denzel",238,"B","Active",9999,null,null,"No info","линк"]
[893109,"Safety earmuffs, foldable, model E-2023, soft headband, enlarged cup, SNR 30dB// MTX",3313,"B","Active",9999,null,null,"No info","линк"]
[894109,"Védő térdvédő// MTX",1917,"B","Active",9999,null,null,"No info","линк"]
[896079,"Trapéz tollszegély, alumínium, egy merevítő borda, L-1,0 m// MTX",2118,"B","Active",9999,null,null,"No info","линк"]
[896089,"Trapéz tollszegély, alumínium, egy merevítő borda, L-1,5 m// MTX",3151,"B","Active",9999,null,null,"No info","линк"]
[896099,"Trapéz tollszegély, alumínium, egy merevítő borda, L-2,0 m// MTX",4185,"B","Active",9999,null,null,"No info","линк"]
[896119,"Trapéz tollszegély, alumínium, egy merevítő borda, L-2,5 m// MTX",5193,"B","Active",9999,null,null,"No info","линк"]
[896129,"Trapéz tollszegély, alumínium, egy merevítő borda, L-3,0 m// MTX",6197,"B","Active",9999,null,null,"No info","линк"]
[896379,"Aluminium vizmertek, 2 markolat, L-2,0 m// MTX",9320,"B","Active",9999,null,null,"No info","линк"]
[896399,"Aluminium vizmertek, 2 markolat, L-2,5 m// MTX",11467,"B","Active",9999,null,null,"No info","линк"]
[896419,"Aluminium vizmertek, 2 markolat, L-3,0 m// MTX",13699,"B","Active",9999,null,null,"No info","линк"]
[902409,"Dupla szerszamov, 20 zsebbel, kalapacs tarto// MTX",5445,"B","Active",9999,null,null,"No info","линк"]
[902439,"Csavarhuzo tarto zsebbel a csavaroknak es a furofejeknek// MTX",2653,"B","Active",9999,null,null,"No info","линк"]
[902449,"Derekra kotheto kalapacs tarto// MTX",959,"B","Active",9999,null,null,"No info","линк"]
[902459,"Fali szerszamtarto, 675 x 450 mm// MTX",2794,"B","Active",9999,null,null,"No info","линк"]
[902479,"Szerszamov es kalapacs tarto 810–1120 mm// MTX",825,"B","Active",9999,null,null,"No info","линк"]
[902499,"osszehajthato szek, 420 x 280 x 390 mm// MTX",7105,"B","Active",9999,null,null,"No info","линк"]
[902519,"Szerszamos taska, 14 zsebbel, 315 x 215 x 225 mm// MTX",2812,"B","Active",9999,null,null,"No info","линк"]
[902529,"Szerszamos taska, 18 zsebbel, 510 x 210 x 360 mm// MTX",5934,"B","Active",9999,null,null,"No info","линк"]
[902599,"Szerszamos taska, 18 zsebbel, 320 x 215 x 250 mm// MTX",4384,"B","Active",9999,null,null,"No info","линк"]
[902709,"Experte szerszámos hátizsák, 77 zseb, műanyag alsó, hordozható rendszerező, 360*205*470 mm// Bruttó",15719,"B","Active",9999,null,null,"No info","линк"]
[902719,"Meister szerszámtáska, 31 zseb, notebook szegmens, vállpánt, 400*170*300 mm// Bruttó",10383,"B","Active",9999,null,null,"No info","линк"]
[902729,"Handwerker szerszámtáska, 26 zseb, műanyag alsó, vállpánt, 400*225*310 mm// Bruttó",7276,"B","Active",9999,null,null,"No info","линк"]
[902739,"Handwerker szerszámtáska, 42 zseb, műanyag alsó, vállpánt, 475*260*360 mm// Bruttó",9337,"B","Active",9999,null,null,"No info","линк"]
[902749,"Szerszámkeret táska, 400x225x300mm, műanyag alsó, vállpánt// GROSS",16822,"B","Active",9999,null,null,"No info","линк"]
[902759,"Szerszámos hátizsák, 440х350х250mm, teleszkópos fogantyú, kerekek// GROSS",22570,"B","Active",9999,null,null,"No info","линк"]
[902769,"Szerszámtáska, 500x280x290mm, teleszkópos fogantyú, kerekek, vállpánt// GROSS",15564,"B","Active",9999,null,null,"No info","линк"]
[902779,"Szerszámtáska, 460x240x340mm, teleszkópos fogantyú, kerekek// GROSS",28405,"B","Active",9999,null,null,"No info","линк"]
[902789,"Szerszámos hátizsák,450x340x170mm// Bruttó",12518,"B","Active",9999,null,null,"No info","линк"]
[907409,"Szervező 300х220х55 mm// MTX",1523,"B","Active",9999,null,null,"No info","линк"]
[907419,"Organizer 345х245х60 mm// MTX",1979,"B","Active",9999,null,null,"No info","линк"]
[907429,"Organizer 460х325х80 mm// MTX",4555,"B","Active",9999,null,null,"No info","линк"]
[908037,"Szerszámosláda 13\", 310х170х130 mm// Sparta",1637,"B","Active",9999,null,null,"No info","линк"]
[908047,"Szerszámosláda 17\", 415х225х200 mm// Sparta",3613,"B","Active",9999,null,null,"No info","линк"]
[908057,"Szerszámosláda 21\", 525х255х245 mm// Sparta",6408,"B","Active",9999,null,null,"No info","линк"]
[908067,"Szerszámosláda 24\", 595х340х315 mm// Sparta",11542,"B","Active",9999,null,null,"No info","линк"]
[908109,"Szerszámosláda 15\", 375x200x190 mm, szervezővel// MTX",3281,"B","Active",9999,null,null,"No info","линк"]
[908119,"Szerszámosláda 19\", 460x255x240 mm, szervezővel// MTX",6174,"B","Active",9999,null,null,"No info",{"$f":"HYPERLINK(L3500,\"линк\")","v":"линк"}]
[908129,"Szerszámosláda 22\", 550x270x280 mm, szervezővel// MTX",7679,"B","Active",9999,null,null,"No info","линк"]
[908139,"Szerszámosláda 24\", 595x290x330 mm, rendszerezővel// MTX",9699,"B","Active",9999,null,null,"No info","линк"]
[912305,"Fúró élesebb, D 3,5 - 10 mm// Sparta",4081,"B","Active",9999,null,null,"No info","линк"]
[913102,"Forrasztópáka fa nyéllel, 40 W// Sparta",833,"B","Active",9999,null,null,"No info","линк"]
[913305,"Forrasztofem Sn60Pb40, D 1 mm, 10 g, muanyag csoben//SPARTA",224,"B","Active",9999,null,null,"No info","линк"]
[913315,"Forrasztofem Sn60Pb40, D 1 mm, 17 g muanyag csoben//SPARTA",340,"B","Active",9999,null,null,"No info","линк"]
[913325,"Forrasztofem Sn60Pb40, D 1 mm, 25 g, muanyag tekercsen//SPARTA",452,"B","Active",9999,null,null,"No info","линк"]
[913335,"Forrasztofem Sn60Pb40, D 1 mm, 50 g, muanyag tekercsen//SPARTA",872,"B","Active",9999,null,null,"No info","линк"]
[913344,"Forrasztó paszta, semleges, 20g Russia/Sibrtech",316,"B","Active",9999,null,null,"No info","линк"]
[913345,"Forrasztopaszta, 10 g//SPARTA",165,"B","Active",9999,null,null,"No info","линк"]
[913361,"Gyantamagos forrasztóanyag, D 1 mm, 10 g, POS61, műanyag csőben// Сибртех",281,"B","Active",9999,null,null,"No info","линк"]
[913367,"Gyantabelsővel forrasztó ón, D 1 mm, 100 g, POS61, műanyag orsón// SIBRTEH",2305,"B","Active",9999,null,null,"No info","линк"]
[913371,"Gyantamagos forrasztóanyag, D 1,5 mm, 10 g, POS61, műanyag csőben// Сибртех",283,"B","Active",9999,null,null,"No info","линк"]
[913372,"Gyantamagos forrasztás, D 1,5 mm, 25 g, POS61, műanyag orsón// Сибртех",599,"B","Active",9999,null,null,"No info","линк"]
[913377,"Gyantamag forrasztás, D 1,5 mm, 100 g, POS61, műanyag orsón// Сибртех",2523,"B","Active",9999,null,null,"No info","линк"]
[913381,"Gyantamagos forrasztóanyag, D 2 mm, 15 g, POS61, műanyag csőben// Сибртех",362,"B","Active",9999,null,null,"No info","линк"]
[913385,"Gyantamag forrasztás, D 2 mm, 50 g, POS61, műanyag orsón// Сибртех",1275,"B","Active",9999,null,null,"No info","линк"]
[913387,"Gyantamag forrasztás, D 2 mm, 100 g, POS61, műanyag orsón// Сибртех",3276,"B","Active",9999,null,null,"No info","линк"]
[914125,"Gázégő, \"ceruza\" típusú, 2 fúvóka forrasztáshoz, 130 mm// Sparta",2747,"B","Active",9999,null,null,"No info","линк"]
[914255,"Gázégő MT-4// Sparta",3949,"B","Active",9999,null,null,"No info","линк"]
[914305,"Gázégő \"TURBO\" kazettával 110 mm// Sparta",1568,"B","Active",9999,null,null,"No info","линк"]
[914785,"Badog forrasztoszal. Sn40Pb60, D1mm., muanyag csoben // SPARTA",159,"B","Active",9999,null,null,"No info","линк"]
[914805,"2 db Csipeszkészlet, rozsdamentes// Sparta",307,"B","Active",9999,null,null,"No info","линк"]
[914845,"4 db-os csipesz keszlet, rozsdamentes//SPARTA",395,"B","Active",9999,null,null,"No info","линк"]
[916117,"Lakat ЗН2-M1, 60 mm// MTX",1192,"B","Active",9999,null,null,"No info","линк"]
[918149,"Tobbcelu kabelzar, 10*650 mm// MTX",1000,"B","Active",9999,null,null,"No info","линк"]
[918169,"Tobbcelu kabelzar, 8*1200 mm// MTX",1181,"B","Active",9999,null,null,"No info","линк"]
[918179,"Tobbcelu kabelzar tartoval, 12*1200 mm// MTX",2132,"B","Active",9999,null,null,"No info","линк"]
[918189,"Tobbcelu kabelzar kod mechanizmussal, 10*950 mm// MTX",2156,"B","Active",9999,null,null,"No info","линк"]
[918209,"Vizallo biztonsagi lakat, 40 mm// MTX",1151,"B","Active",9999,null,null,"No info","линк"]
[918229,"Vizallo biztonsagi lakat, 40 mm, meghosszabbitott kar// MTX",1218,"B","Active",9999,null,null,"No info","линк"]
[918249,"Vizallo biztonsagi lakat, 50 mm// MTX",1470,"B","Active",9999,null,null,"No info","линк"]
[918269,"Vizallo biztonsagi lakat, 50 mm, meghosszabbitott kar// MTX",1594,"B","Active",9999,null,null,"No info","линк"]
[929285,"Hanger for light clothes with rubberized anti-slip coating 40 cm, Home// Palisad",196,"B","Active",9999,null,null,"No info","линк"]
[931065,"Szöszhenger, mosható, mindenféle szövethez, Home// Palisad",498,"B","Active",9999,null,null,"No info","линк"]
[933008,"Ablaktörlő 230х250 mm Kezdőlap// Palisad",462,"B","Active",9999,null,null,"No info","линк"]
[933438,"Természetes seprű, fa nyél, Home// Palisad",3073,"B","Active",9999,null,null,"No info","линк"]
[938018,"Household rope, D 9 mm, L 25 m, polyester// Palisad",922,"B","Active",9999,null,null,"No info","линк"]
[938198,"Len-kender kötél, D 6 mm, L 25 m// Palisad",251,"B","Active",9999,null,null,"No info","линк"]
[938208,"Hàztartàsi kotål, D 4 mm, L 25 m, poliåszter// Palisad",192,"B","Active",9999,null,null,"No info","линк"]
[938225,"Készülék rejtett vezetékek és fém észlelésére// Sparta",3500,"B","Active",9999,null,null,"No info","линк"]
[938238,"Len-kender kötél, D 5 mm, L 25 m// Palisad",200,"B","Active",9999,null,null,"No info","линк"]
[938295,"Egerfogo, 2 db-os keszlet// SPARTA",242,"B","Active",9999,null,null,"No info","линк"]
[938757,"Juta zsineg, 1 mm, L 140 m, 2 fonal// Palisad",334,"B","Active",9999,null,null,"No info","линк"]
[938768,"Juta zsineg, 1,5 m, L 100 m, 2 fonal// Palisad",448,"B","Active",9999,null,null,"No info","линк"]
[938777,"Juta zsineg, 1,5 mm, L 90 m, 4 fonal// Palisad",398,"B","Active",9999,null,null,"No info","линк"]
[938797,"Polipropilén zsineg, 2,5 mm, L 100 m// Palisad",486,"B","Active",9999,null,null,"No info","линк"]
[938807,"Polipropilén zsineg, 1,5 mm, L 150 m// Palisad",406,"B","Active",9999,null,null,"No info","линк"]
[938827,"Juta zsineg, 2,5 mm, hosszúság 60 m, 5 fonal// Palisad",558,"B","Active",9999,null,null,"No info","линк"]
[939115,"Kertészeti gyapjú, 30g/m2, 1,6 x 10, fehér// Россия",1129,"B","Active",9999,null,null,"No info","линк"]
[939135,"Kertészeti gyapjú, 60g/m2, 1,6 x 10, fehér// Россия",2633,"B","Active",9999,null,null,"No info","линк"]
[939628,"Sodrott polipropilén kötél, 2 mm, L 50 m, orsón// Palisad",175,"B","Active",9999,null,null,"No info","линк"]
[939648,"Sodrott nylon kötél, 2 mm, L 50 m, orsón// Palisad",207,"B","Active",9999,null,null,"No info","линк"]
[939747,"Polipropilén zsineg, sárga, 1,7 mm, L 60 m// Palisad",292,"B","Active",9999,null,null,"No info","линк"]
[939757,"Polipropilén zsineg, piros, 1,7 mm, L 60 m// Palisad",292,"B","Active",9999,null,null,"No info","линк"]
[939767,"Polipropilén zsineg, zöld, 1,7 mm, L 60 m// Palisad",292,"B","Active",9999,null,null,"No info","линк"]
[939777,"Polipropilén zsineg, kék, 1,7 mm, L 110 m// Palisad",426,"B","Active",9999,null,null,"No info","линк"]
[939787,"Polipropilén zsineg, sárga, 1,7 mm, L 110 m// Palisad",426,"B","Active",9999,null,null,"No info","линк"]
[939807,"Polipropilén zsineg, zöld, 1,7 mm, L 110 m// Palisad",426,"B","Active",9999,null,null,"No info","линк"]
[939817,"Polipropilén zsineg, kék, 1,7 mm, L 400 m// Palisad",1426,"B","Active",9999,null,null,"No info","линк"]
[939827,"Polipropilén zsineg, sárga, 1,7 mm, L 400 m// Palisad",1371,"B","Active",9999,null,null,"No info","линк"]
[939837,"Polipropilén zsineg, piros, 1,7 mm, L 400 m// Palisad",1426,"B","Active",9999,null,null,"No info","линк"]
[939847,"Polipropilén zsineg, zöld, 1,7 mm, L 400 m// Palisad",1426,"B","Active",9999,null,null,"No info","линк"]
[942847,"Teflon fúvóka 32, 40 mm műanyag csőhegesztő géphez// MTX",1106,"B","Active",9999,null,null,"No info",{"$f":"HYPERLINK(L3564,\"линк\")","v":"линк"}]
[942867,"Teflon fúvóka 20, 25, 32, 40 mm műanyag csőhegesztő géphez// MTX",2213,"B","Active",9999,null,null,"No info","линк"]
[943657,"Inverteres ívhegesztőgép TPARC-120, 120 À// Denzel",36326,"B","Active",9999,null,null,"No info","линк"]
[943667,"Inverteres ívhegesztőgép TPARC-140, 140 А// Denzel",47094,"B","Active",9999,null,null,"No info","линк"]
[943677,"Inverteres ívhegesztőgép TPARC-160, 160 А// Denzel",58881,"B","Active",9999,null,null,"No info","линк"]
[943687,"Inverteres ívhegesztőgép TPARC-180, 180 À// Denzel",63043,"B","Active",9999,null,null,"No info","линк"]
[943697,"Inverteres ívhegesztőgép TPARC-200, 200 А// Denzel",66685,"B","Active",9999,null,null,"No info","линк"]
[947047,"Inverter generátor GT-2500iF, 2,5 kW, 230 V, nyitott keretes, kézi indító// Denzel",166458,"B","Active",9999,null,null,"No info","линк"]
[952367,"DS-4516 benzines láncfűrész, 45 cm3, 1,7 kW, vezetőrúd 16\", 0,325\", 0,058\", 64 lengőkar// Denzel",46187,"B","Active",9999,null,null,"No info","линк"]
[952377,"DS-5218 benzines láncfűrész, 52 cc, 1,9 kW, vezetőlemez 18\", 0,325\", 0,058\", 72 lengőkar// Denzel",46979,"B","Active",9999,null,null,"No info","линк"]
[952387,"DS-5820 benzines láncfűrész, 58 cc, 2,4 kW, vezetőlemez 20\", 0,325\", szelvény 0,058\", 76 lengőkar// Denzel",47434,"B","Active",9999,null,null,"No info","линк"]
[952397,"DSX-4516 benzines lánc fűrész, 45,1 cc, 1,8 kW, hossz. 16\",mentemelkedés 0,325\", nyomtáv 0,058\", 64 fog// Denzel",54941,"B","Active",9999,null,null,"No info","линк"]
[952407,"DSX-5218 benzines lánc fűrész, 51,5 cc, 2,1 kW, hossz. 18\", menetemelkedés 0,325\", nyomtáv 0,058\", 72 fog// Denzel",55202,"B","Active",9999,null,null,"No info","линк"]
[952417,"DSX-5820 benzines láncfűrész, 56,5 cc, 2,5 kW, rúd 20\", menetemelkedés 0,325\", nyomtáv 0,058\", 76 fog// Denzel",56206,"B","Active",9999,null,null,"No info","линк"]
[954217,"Betonkeverő DCM-125, 550 W, 125L// Denzel",183838,"B","Active",9999,null,null,"No info","линк"]
[954247,"Betonkeverő DCM-200, 1000 W, 200L// Denzel",171953,"B","Active",9999,null,null,"No info","линк"]
[954817,"Betonkeverő CM-120M, 120 L, 500 W// MTX",104942,"B","Active",9999,null,null,"No info","линк"]
[954819,"Betonkeverő CM-120S, 120 L, teljesítmény 500 W// Sparta",109830,"B","Active",9999,null,null,"No info","линк"]
[954827,"Betonkeverő CM-140M, 140 L, teljesítmény 550 W// MTX",112528,"B","Active",9999,null,null,"No info","линк"]
[954829,"Betonkeverő CM-140S, 140 L, teljesítmény 550 W// Sparta",154252,"B","Active",9999,null,null,"No info","линк"]
[954839,"Betonkeverő CM-160S, 160 L, teljesítmény 650 W// Sparta",165631,"B","Active",9999,null,null,"No info","линк"]
[954847,"Betonkeverő CM-180M, 180 L, teljesítmény 800 W// MTX",101463,"B","Active",9999,null,null,"No info","линк"]
[954849,"Betonkeverő CM-180S, 180 L, teljesítmény 800 W// Sparta",132131,"B","Active",9999,null,null,"No info","линк"]
[954859,"Betonkeverő CM-200S, 200 L, teljesítmény 800 W// Sparta",135613,"B","Active",9999,null,null,"No info","линк"]
[956147,"Elektrotmos lancfuresz ECS-2200P keresztiranyu motorral, 2,2 Kw, 16” (40cm)//DENZEL",46607,"B","Active",9999,null,null,"No info","линк"]
[956167,"Elektromos láncfűrész EDS-2000P, 2 kW, oldalsó motor, rúd 40 cm, osztás 3/8, nyomtáv 1,3 mm, 57 lengőkar// Denzel",25408,"B","Active",9999,null,null,"No info","линк"]
[956177,"Elektromos láncfűrész EDS-2200P, 2,2 kW, oldalmotor, rúd 45 cm, osztás 3/8, nyomtáv 1,3 mm, 63 lengőkar// Denzel",32657,"B","Active",9999,null,null,"No info","линк"]
[958737,"25ì hosszabbítótekercs, 4 aljzat, IP44, H05RR-F, 3G*1,5mm, 14À// Denzel",23186,"B","Active",9999,null,null,"No info","линк"]
[958747,"30 m-es hosszabbítótekercs, 4 aljzat, IP44, H05RR-F, 3G*1,5mm, 14А// Denzel",26883,"B","Active",9999,null,null,"No info","линк"]
[961077,"Zsinór környíróhoz, 2,0mm x 15m, FLEX CORD// Denzel",407,"B","Active",9999,null,null,"No info","линк"]
[961087,"Zsinór környíróhoz, 2,4mm õ 15m, FLEX CORD// Denzel",479,"B","Active",9999,null,null,"No info","линк"]
[961127,"Fukasza damil, csillag profil, 2,4mmx15m, rugalmas zsinor//DENZEL",417,"B","Active",9999,null,null,"No info","линк"]
[962277,"Benzines Fűkasza DT-52S, 52 сс, 1.45 KW,kétrészes szár// Denzel",42246,"B","Active",9999,null,null,"No info","линк"]
[962278,"Fukasza GT-52S tobb funkcios, cm3 3LE ketreszes rud//Denzel",85281,"B","Active",9999,null,null,"No info","линк"]
[963307,"Penge elektromos fűnyíróhoz Denzel 966077 L1200, 32 cm// Denzel",2552,"B","Active",9999,null,null,"No info","линк"]
[963487,"Orsó félautomata trimmerhez DENZEL TE-250 (cikk 966197) buborékfóliához, anya M5 // DENZEL",1302,"B","Active",9999,null,null,"No info","линк"]
[963497,"Automata trimmer orsó DENZEL TE-550 (cikk 966207) buborékfóliához, anya M6 // DENZEL",2042,"B","Active",9999,null,null,"No info","линк"]
[963807,"Fűkasza biztonsági készlet alap: fűkaszadamil,2,4mm+15m 2 pcs, szemüveg, fülvédő//DENZEL",3351,"B","Active",9999,null,null,"No info","линк"]
[963817,"Trimmer biztonsági készlet Pro: trimmer zsinór 2,4mmx15m 2db,szemüveg,fülvédő,hálós napellenző,heveder öv// Denzel",7331,"B","Active",9999,null,null,"No info","линк"]
[964297,"Kerámia fűtőventilátor DHC 2-100, 230V, 0,025/1/2 kW// Denzel",10445,"B","Active",9999,null,null,"No info","линк"]
[964619,"Állvány kvarcfűtőhöz IQH, 1100-1800 mm// MTX",14431,"B","Active",9999,null,null,"No info","линк"]
[964639,"Infravörös kvarcfűtő IQH-2000, 230V, 2000W// MTX",30929,"B","Active",9999,null,null,"No info","линк"]
[966077,"Elktromos funyiro L-1200, 1200 W vagasi szelesseg 32 cm, muanyag futartaly 30L//Denzel",44189,"B","Active",9999,null,null,"No info","линк"]
[966207,"Elektromos trimmer TE-550, 550 W, 330 mm automata orsî teleszkîpos rud dolåsszog àllitàs// Denzel",19193,"B","Active",9999,null,null,"No info","линк"]
[968157,"Akkus kerti olló teleszkópos csővel G801E akkumulátorral 7,2В Li-Ion 1,5 Аh// Denzel",25616,"B","Active",9999,null,null,"No info","линк"]
[968177,"Akkumulatoros kerti ollo 3,6 V Li-Ion 1,5 Ah Denzel",15450,"B","Active",9999,null,null,"No info","линк"]
[972017,"Kerti felületi szivattyú GP600, 600 W, 3000 l/h, magasság 35 m, műanyag// Denzel",39322,"B","Active",9999,null,null,"No info","линк"]
[972027,"Kerti felületi szivattyú GP1000, 1000 W, 3500 l/h, magasság 44 m, rozsdamentes acél// Denzel",48364,"B","Active",9999,null,null,"No info","линк"]
[972257,"Merülő szivattyú DPÕ550, 550 W, magasság 7 m, 11500 l/h// Denzel",28114,"B","Active",9999,null,null,"No info","линк"]
[972267,"Vizelvezeto szivattyu DPx800, x-Pro, 800 W, magassag 8 m, 13500 l/h",33903,"B","Active",9999,null,null,"No info","линк"]
[972277,"Vizelvezeto szivattyu DPx950, x-Pro, 950 W, magassag 8.5 m, 15500 l/h",37428,"B","Active",9999,null,null,"No info","линк"]
[972837,"Szívókészlet PK 7 szivattyúhoz, 7m, átmérő 1\", visszatérő szelep// Denzel",9628,"B","Active",9999,null,null,"No info","линк"]
[977239,"Alumínium létra, 3 lépcső// Denzel",14043,"B","Active",9999,null,null,"No info","линк"]
[977249,"Alumínium létra, 4 lépcső// Denzel",17592,"B","Active",9999,null,null,"No info","линк"]
[977259,"Alumínium létra, 5 lépcső// Denzel",21186,"B","Active",9999,null,null,"No info","линк"]
[977269,"Alumínium létra, 6 lépcső// Denzel",25563,"B","Active",9999,null,null,"No info","линк"]
[981187,"Hibrid elektromos konvektoros fűtés HybridX-1000, IR fűtőelem, digitális termosztát // Denzel",39724,"B","Active",9999,null,null,"No info","линк"]
[981197,"Hybrid electric convector heater HybridX-1500, IR heating element, digital thermostat // Denzel",49090,"B","Active",9999,null,null,"No info","линк"]
[981207,"Hibrid elektromos konvektoros fűtés HybridX-2000, IR fűtőelem, digitális termosztát // Denzel",55422,"B","Active",9999,null,null,"No info","линк"]
[981217,"Elektromos konvektoros fűtés OptiPrime-1000, WiFi, érintőképernyő, digitális termosztát, 1000W// Denzel",53364,"B","Active",9999,null,null,"No info","линк"]
[981227,"Elektromos konvektoros fűtés OptiPrime-1500, WiFi, érintőképernyő, digitális termosztát, 1500W// Denzel",57152,"B","Active",9999,null,null,"No info","линк"]
[981237,"Elektromos konvektoros fűtés OptiPrime-2000, WiFi, érintőképernyő, digitális termosztát, 2000W// Denzel",60800,"B","Active",9999,null,null,"No info","линк"]
[982048,"Gyephenger 40 l, kézi, szivattyús, dugós csavar// Palisad",23579,"B","Active",9999,null,null,"No info","линк"]
[982069,"Összecsukható bevásárlókocsi, 2 kerék, teherbírása 80 kg //MTX",17087,"B","Active",9999,null,null,"No info","линк"]
[982079,"Összecsukható bevásárlókocsi, 2 kerék, teherbírása 80 kg //MTX",17805,"B","Active",9999,null,null,"No info",{"$f":"HYPERLINK(L3628,\"линк\")","v":"линк"}]
[993017,"Vibrációs szivattyú VP300-10, felső szívó, 300 W, fej 75 m, 1200 l/h, kábel 10 m// MTX",14130,"B","Active",9999,null,null,"No info","линк"]
[997027,"Vízszintes nyomású víztartály PWT-50, 50 liter, EPDM// Sparta",18429,"B","Active",9999,null,null,"No info","линк"]
[997037,"Vízszintes nyomású víztartály PWT-100, 100 liter, EPDM// Sparta",35287,"B","Active",9999,null,null,"No info","линк"]
[1020277,"Gépész kalapács fa nyéllel, 100 g, szögletes toll// Sparta",603,"B","Active",9999,null,null,"No info","линк"]
[1020477,"Gépészkalapács fa nyéllel, 200 g, szögletes fej// Sparta",798,"B","Active",9999,null,null,"No info","линк"]
[1020677,"Gépész kalapács fa nyéllel, 300 g, szögletes toll// Sparta",992,"B","Active",9999,null,null,"No info","линк"]
[1021077,"Gépészkalapács fa nyéllel, 500 g, szögletes toll// Sparta",1377,"B","Active",9999,null,null,"No info","линк"]
[1021277,"Gépészkalapács fa nyéllel, 600 g, szögletes toll// Sparta",1568,"B","Active",9999,null,null,"No info","линк"]
[1021377,"Gépészkalapács fa nyéllel, 700 g, szögletes toll// Sparta",1772,"B","Active",9999,null,null,"No info","линк"]
[1021577,"Gépész kalapács fa nyéllel, 800 g, szögletes toll// Sparta",2026,"B","Active",9999,null,null,"No info","линк"]
[1021877,"Machinist's hammer with wooden handle, 1000 g, square peen// Sparta",2332,"B","Active",9999,null,null,"No info","линк"]
[1022177,"Gépészkalapács fa nyéllel, 1500 g, szögletes // Sparta",3156,"B","Active",9999,null,null,"No info","линк"]
[1041067,"Karmos kalapács, 225g, 22 mm-es penge fa nyéllel// Sparta",896,"B","Active",9999,null,null,"No info","линк"]
[1042067,"Karmos kalapács, 450g, 27 mm-es penge fa nyéllel// Sparta",1288,"B","Active",9999,null,null,"No info","линк"]
[1044057,"Karmos kalapács, 450g, 27 mm, fém gumicső fogantyúval// Sparta",1731,"B","Active",9999,null,null,"No info","линк"]
[1083057,"Egyenesitokalapàcs, penge 35mm kombinàlt fej, fa nyål// Sparta",1176,"B","Active",9999,null,null,"No info","линк"]
[1093177,"Szánkó kalapács, 4000 g, kovácsolt fej, fa nyél, FSC// MTX",9433,"B","Active",9999,null,null,"No info","линк"]
[1113057,"Gumikalapács fekete 225G fa nyéllel// Sparta",481,"B","Active",9999,null,null,"No info","линк"]
[1114057,"Gumikalapacs fekete 340 g fa nyellel// SPARTA",568,"B","Active",9999,null,null,"No info","линк"]
[1115057,"Gumikalapács fekete 450G fa nyéllel// Sparta",737,"B","Active",9999,null,null,"No info","линк"]
[1115557,"Gumikalapács fekete 680G fa nyéllel// Sparta",982,"B","Active",9999,null,null,"No info","линк"]
[1116057,"Gumikalapács fekete 910G fa nyéllel// Sparta",1185,"B","Active",9999,null,null,"No info","линк"]
[1136755,"bitkészlet PH2 1/4 4 x 50, acél CrV, 5db// MTX",489,"B","Active",9999,null,null,"No info","линк"]
[1137155,"bitkészlet PH2 1/4 5 x 75, acél CrV, 5db// MTX",589,"B","Active",9999,null,null,"No info","линк"]
[1156557,"Csavarhúzó T-típusú nyéllel, bitkészlet, 11 db.// Sparta",500,"B","Active",9999,null,null,"No info","линк"]
[1217177,"Csavarhúzó PH0x75 mm, S2, 3c fogantyú// Denzel",419,"B","Active",9999,null,null,"No info","линк"]
[1217277,"Csavarhúzó PH0x100 mm, S2, 3c fogantyú// Denzel",419,"B","Active",9999,null,null,"No info","линк"]
[1217377,"Csavarhúzó PH1x75 mm, S2, 3c fogantyú// Denzel",495,"B","Active",9999,null,null,"No info","линк"]
[1217477,"Csavarhúzó PH1x100 mm, S2, 3c fogantyú// Denzel",513,"B","Active",9999,null,null,"No info","линк"]
[1217677,"Csavarhúzó PH1x150 mm, S2, 3c fogantyú// Denzel",548,"B","Active",9999,null,null,"No info","линк"]
[1217877,"Csavarhúzó PH2x100 mm, S2, 3c fogantyú// Denzel",599,"B","Active",9999,null,null,"No info","линк"]
[1218077,"Csavarhúzó PH2x150 mm, S2, 3c fogantyú// Denzel",642,"B","Active",9999,null,null,"No info","линк"]
[1218677,"Csavarhúzó PH2x38 mm, S2, 3c fogantyú// Denzel",452,"B","Active",9999,null,null,"No info","линк"]
[1218877,"Csavarhúzó SL3x75 mm, S2, 3c fogantyú// Denzel",419,"B","Active",9999,null,null,"No info","линк"]
[1219077,"Csavarhúzó SL3x100 mm, S2, 3c fogantyú// Denzel",419,"B","Active",9999,null,null,"No info","линк"]
[1219277,"Csavarhúzó SL4x100 mm, S2, 3c fogantyú// Denzel",452,"B","Active",9999,null,null,"No info","линк"]
[1219677,"Csavarhúzó SL5x100 mm, S2, 3c fogantyú// Denzel",513,"B","Active",9999,null,null,"No info","линк"]
[1219777,"Csavarhúzó SL5x150 mm, S2, 3c fogantyú// Denzel",538,"B","Active",9999,null,null,"No info","линк"]
[1219877,"Csavarhúzó SL6x100 mm, S2, 3c fogantyú// Denzel",599,"B","Active",9999,null,null,"No info","линк"]
[1219977,"Csavarhúzó SL6x150 mm, S2, 3c fogantyú// Denzel",642,"B","Active",9999,null,null,"No info","линк"]
[1220577,"Csavarhúzó PZ1x75 mm, S2, 3c fogantyú// Denzel",495,"B","Active",9999,null,null,"No info","линк"]
[1220777,"Csavarhúzó PZ2x100 mm, S2, 3c fogantyú// Denzel",599,"B","Active",9999,null,null,"No info","линк"]
[1221177,"Csavarhúzó készlet, 2 db, PH+SL, S2, 3c fogantyú// Denzel",1439,"B","Active",9999,null,null,"No info","линк"]
[1221577,"Csavarhúzó készlet, 5 db, PH+SL, S2, 3c fogantyú// Denzel",2919,"B","Active",9999,null,null,"No info","линк"]
[1334457,"Precíziós csavarhúzó készlet, 6 db.// Sparta",348,"B","Active",9999,null,null,"No info","линк"]
[1336057,"Precíziós csavarhúzó készlet, 11 db.// Sparta",592,"B","Active",9999,null,null,"No info","линк"]
[1356457,"Szerszámkészlet, 132 db.// Sparta\n",7897,"B","Active",9999,null,null,"No info","линк"]
[1374057,"Csővillás készlet, 8-17mm, 6 db, T-rúd, horganyzott// Sparta",1444,"B","Active",9999,null,null,"No info","линк"]
[1375257,"Csővillás készlet, 6-22mm, 9 db, T-rúd, horganyzott// Sparta",2472,"B","Active",9999,null,null,"No info","линк"]
[1529457,"12 db, Dupla villáskulcs készlet, 6x32 mm, krómozott// Sparta",5768,"B","Active",9999,null,null,"No info","линк"]
[1552057,"Allithato csavarkulcs, kromozott 150mm// Sparta",1019,"B","Active",9999,null,null,"No info","линк"]
[1552557,"Állítható csavarkulcs, krómozott, 200mm// Sparta",1401,"B","Active",9999,null,null,"No info","линк"]
[1553057,"Állítható csavarkulcs, krómozott, 250mm// Sparta",1572,"B","Active",9999,null,null,"No info","линк"]
[1553557,"Állítható csavarkulcs, krómozott, 300mm// Sparta",1894,"B","Active",9999,null,null,"No info","линк"]
[1554557,"Allithatî csavarkulcs, krîmozott, 450mm// Sparta",5160,"B","Active",9999,null,null,"No info","линк"]
[1584155,"Lapos reszelő 200 mm, kétkomponensű fogantyú",802,"B","Active",9999,null,null,"No info","линк"]
[1584255,"Hàromszog reszelo200mm, kåtkomponensu fogantyu// MTX",794,"B","Active",9999,null,null,"No info","линк"]
[1584455,"Någyzet alaku reszelo200 mm, kåtkomponensu fogantyu// MTX",739,"B","Active",9999,null,null,"No info","линк"]
[1584655,"Korreszelo200 mm, kåtkomponensu fogantyu// MTX",674,"B","Active",9999,null,null,"No info","линк"]
[1584855,"Fålkor reszelo200 mm, kåtkomponensu nyål",859,"B","Active",9999,null,null,"No info","линк"]
[1585255,"3 db-os Reszelőkészlet, 200 mm, kétkomponensű fogantyú",2649,"B","Active",9999,null,null,"No info","линк"]
[1585455,"5 db-os Reszelőkészlet, 200 mm, kétkomponensű fogantyú",4183,"B","Active",9999,null,null,"No info","линк"]
[1689559,"Kulcs a tokmànyhoz, 13 mm, T alaku// MTX",275,"B","Active",9999,null,null,"No info","линк"]
[1775155,"Kábelvágó fogó, hüvely nyelek, 165 mm// MTX",917,"B","Active",9999,null,null,"No info",{"$f":"HYPERLINK(L3692,\"линк\")","v":"линк"}]
[1775255,"Kábelvágó,ú fogó hüvely nylek, 215 mm// MTX",1242,"B","Active",9999,null,null,"No info","линк"]
[1843055,"Reteszelő fogó, félkör alakú markolat, 250 mm// MTX",1364,"B","Active",9999,null,null,"No info","линк"]
[1843057,"Reteszelő fogó, 250 mm, félkörfogó// Sparta",1334,"B","Active",9999,null,null,"No info","линк"]
[1843155,"Reteszelő fogó, lapos markolat, 250 mm// MTX",1381,"B","Active",9999,null,null,"No info","линк"]
[1843255,"Reteszelő fogó, lapos félkör markolat, 250 mm// MTX",1364,"B","Active",9999,null,null,"No info","линк"]
[1843355,"Reteszelofogî, hosszu markolat, 225 mm// MTX",1364,"B","Active",9999,null,null,"No info","линк"]
[1843455,"Reteszelő fogó, bilincs markolat, 280 mm// MTX",1963,"B","Active",9999,null,null,"No info","линк"]
[1843555,"Reteszelő fogó, láncmarkolat, 460 mm// MTX",2615,"B","Active",9999,null,null,"No info","линк"]
[1843655,"Reteszelofogî, kacsa markolat, 250 mm// MTX",1747,"B","Active",9999,null,null,"No info","линк"]
[1851157,"Satu fix talp, 75 mm// Sparta",2291,"B","Active",9999,null,null,"No info","линк"]
[1862557,"Bench-vice, 125 mm, rotary, with anvil// Sparta",10040,"B","Active",9999,null,null,"No info","линк"]
[1862757,"Padsatu, 150 mm, forgó, üllővel// Sparta",21447,"B","Active",9999,null,null,"No info","линк"]
[1862957,"Padsatu, 200 mm, forgó, üllővel// Sparta",27708,"B","Active",9999,null,null,"No info","линк"]
[1874957,"Vésőtartó védőburkolattal, 210x65 mm// Sparta",1307,"B","Active",9999,null,null,"No info","линк"]
[2032057,"Alumínium sarokbilincs 75mm// Sparta",931,"B","Active",9999,null,null,"No info","линк"]
[2042357,"F rogzito 150x50x200mm//SPARTA",876,"B","Active",9999,null,null,"No info","линк"]
[2042457,"F-szorító 150x80x210mm// Sparta",1401,"B","Active",9999,null,null,"No info","линк"]
[2042657,"F-szorító 200x50x250mm// Sparta",922,"B","Active",9999,null,null,"No info","линк"]
[2042757,"F-szorító 200x80x260mm// Sparta",1460,"B","Active",9999,null,null,"No info","линк"]
[2042957,"F rogzito 250x50x300mm//SPARTA",973,"B","Active",9999,null,null,"No info","линк"]
[2043257,"F rogzito 300x50x350mm//SPARTA",1010,"B","Active",9999,null,null,"No info","линк"]
[2043357,"F-bilincs 400х80х460mm// Sparta",1713,"B","Active",9999,null,null,"No info","линк"]
[2043557,"F rogzito 300x80x360mm//SPARTA",1609,"B","Active",9999,null,null,"No info","линк"]
[2043857,"F rogzito 300x120x365mm//SPARTA",2464,"B","Active",9999,null,null,"No info","линк"]
[2044057,"F-szorító 400x120x470mm// Sparta",2706,"B","Active",9999,null,null,"No info","линк"]
[2044157,"F-szorító 500x120x570mm// Sparta",2977,"B","Active",9999,null,null,"No info","линк"]
[2044257,"F-bilincs 600х120х670mm// Sparta",3169,"B","Active",9999,null,null,"No info","линк"]
[2044457,"F-szorító 800x120x865mm// Sparta",3623,"B","Active",9999,null,null,"No info","линк"]
[2044757,"F-szorító 1000x120x1050mm// Sparta",4166,"B","Active",9999,null,null,"No info","линк"]
[2044857,"F-szorító 1200x120x1250mm// Sparta",4559,"B","Active",9999,null,null,"No info","линк"]
[2044957,"F-szorító 1500x120x1550mm// Sparta",5221,"B","Active",9999,null,null,"No info","линк"]
[2065057,"G-szorító 50mm// Sparta",701,"B","Active",9999,null,null,"No info","линк"]
[2065357,"G-bilincs 75mm// Sparta",977,"B","Active",9999,null,null,"No info","линк"]
[2065657,"G-bilincs 100mm// Sparta",1252,"B","Active",9999,null,null,"No info","линк"]
[2066257,"G-bilincs 150mm// Sparta",2183,"B","Active",9999,null,null,"No info","линк"]
[2066557,"G-bilincs 200mm // Sparta",3132,"B","Active",9999,null,null,"No info","линк"]
[2066857,"G-szorító 250mm // Sparta",4828,"B","Active",9999,null,null,"No info","линк"]
[2067157,"G-bilincs 300mm // Sparta",5865,"B","Active",9999,null,null,"No info","линк"]
[2067557,"G- szorító szett 3 db 25-50-75mm// Sparta",1560,"B","Active",9999,null,null,"No info","линк"]
[2203777,"Feszeszàr, FSC , 360 mm// Palisad",929,"B","Active",9999,null,null,"No info","линк"]
[2204977,"Feszeszàr, FSC, 600 mm// Palisad",1530,"B","Active",9999,null,null,"No info","линк"]
[2286059,"Gervago furesz pot penge, lagyitott fogazat, 600mm// MTX",603,"B","Active",9999,null,null,"No info","линк"]
[2303357,"Metszőfűrész, munkadarab 310 mm, fa nyél// Sparta",743,"B","Active",9999,null,null,"No info","линк"]
[2318557,"Fafűrész 400mm, 7-8, edzett fogú, vonalzóval és fa nyéllel// Sparta",962,"B","Active",9999,null,null,"No info","линк"]
[2339057,"Hand saw for gypsum carton, 180 mm, wooden handle// Sparta",365,"B","Active",9999,null,null,"No info","линк"]
[2360357,"Metszőfűrész, munkarész 300 mm, kétkomponensű műanyag nyél, hüvely, felfüggesztés// Palisad",1633,"B","Active",9999,null,null,"No info","линк"]
[2402057,"Bordásfűrész 200 mm// Sparta",812,"B","Active",9999,null,null,"No info","линк"]
[2424057,"4 db Laposvéső készlet, 6-12-18-24mm fa fogantyúval// Sparta",1576,"B","Active",9999,null,null,"No info","линк"]
[2439757,"4 db Vésőkészlet, 6-12-18-24mm, lapos penge, ütős műanyag nyéllel// Sparta",2137,"B","Active",9999,null,null,"No info","линк"]
[3163159,"Tolómérő, 150 mm, osztásérték 0,02 mm, mélységmérővel, dupla skála, fém// MTX",4215,"B","Active",9999,null,null,"No info","линк"]
[3163359,"Tolómérő, 250 mm, osztásérték 0,02 mm, mélységmérővel, dupla skála, fém// MTX",8394,"B","Active",9999,null,null,"No info","линк"]
[3163459,"Tolómérő, 300 mm, osztásérték 0,02 mm, mélységmérővel, dupla skála, fém// MTX",9532,"B","Active",9999,null,null,"No info","линк"]
[3170059,"Mechanikus mikrométer, 75-100 mm// MTX",12757,"B","Active",9999,null,null,"No info","линк"]
[3172559,"Mechanikus mikrométer, 0-25 mm// MTX",8036,"B","Active",9999,null,null,"No info","линк"]
[4000199,"Műanyag tűzőgép, 53 tűzős típus, 6-10mm// MTX",2546,"B","Active",9999,null,null,"No info","линк"]
[4055059,"Megerositett szegecselo, 800 mm, szegecsek 3,2-4,0-4,8-6,0-6,4 mm.// MTX",7923,"B","Active",9999,null,null,"No info","линк"]
[4061094,"Pop-szegecsek, 3,2 x 6 mm, 5x50 db// MTX",1138,"B","Active",9999,null,null,"No info","линк"]
[5193659,"Láncblokk, 2 t, h emelés 2,5 m, horgok távolsága 380 mm// MTX",38671,"B","Active",9999,null,null,"No info","линк"]
[5193959,"Láncblokk, 3 t, h emelés 3 m, horgok távolsága 470 mm// MTX",52153,"B","Active",9999,null,null,"No info","линк"]
[5227159,"Pinion winch, rod - 0.8 t, band type//MTX",18432,"B","Active",9999,null,null,"No info","линк"]
[5227359,"Fogaskerek csorlo, rod - 0.8 t, koteles//MTX",27343,"B","Active",9999,null,null,"No info","линк"]
[5672059,"Állványok motorjavításhoz, 400 kg (1000 Lbs)// MTX",32368,"B","Active",9999,null,null,"No info","линк"]
[5673759,"Hidraulikus sebességváltó emelő, 0,5t, h emelés 1130-1945 mm//MTX",96111,"B","Active",9999,null,null,"No info","линк"]
[5674859,"Nyugágy 6 kerék 1000 х 475 х 128 mm műanyag// MTX",15985,"B","Active",9999,null,null,"No info",{"$f":"HYPERLINK(L3756,\"линк\")","v":"линк"}]
[5678959,"Motortartó, 500 kg// MTX",28723,"B","Active",9999,null,null,"No info","линк"]
[5741099,"Pneumatikus szegező szegekhez 10-50 mm// MTX",15385,"B","Active",9999,null,null,"No info","линк"]
[5742099,"Pneumatikus tűzőgép téglalap alakú kapcsokhoz 10-22 mm// MTX",13041,"B","Active",9999,null,null,"No info","линк"]
[6002478,"Noi szandal meret 36  (rozsaszin) //RUSSIA",1949,"B","Active",9999,null,null,"No info","линк"]
[6002978,"Noi szandal meret 41  (rozsaszin) //RUSSIA",1949,"B","Active",9999,null,null,"No info","линк"]
[6003277,"Sandals for men, size 42 (blue) // Россия",2108,"B","Active",9999,null,null,"No info","линк"]
[6003377,"Férfi szandál, méret 43 (kék) // Russia",2108,"B","Active",9999,null,null,"No info","линк"]
[6041188,"Összecsukható metszőfűrész, 175 mm, gumírozott műanyag nyél védő szektorral// Palisad",1728,"B","Active",9999,null,null,"No info","линк"]
[6047757,"Rugós metszővágó, 215 mm, kétkomponensű fogantyúk, LUXE// Palisad",2794,"B","Active",9999,null,null,"No info","линк"]
[6047957,"Rugós metszőolló, 225 mm, fogás állítás, fém háromkomponensű nyél, LUXE// Palisad",3173,"B","Active",9999,null,null,"No info","линк"]
[6048057,"Üllős metsző olló, 220 mm, fogó állítás, fém háromkomponensű fogantyúk, LUXE// Palisad",3183,"B","Active",9999,null,null,"No info","линк"]
[6050677,"Bypass lopper, 700 mm, kétkomponensű fogantyúk// Palisad",2733,"B","Active",9999,null,null,"No info","линк"]
[6054957,"Bypass metszővágó, 200 mm, gumírozott fém fogantyúk// Palisad",979,"B","Active",9999,null,null,"No info","линк"]
[6055488,"Kerti metsző, 180 mm, gumírozott fém fogantyúk// Palisad",1193,"B","Active",9999,null,null,"No info","линк"]
[6058177,"Rúdvágó fűrésszel, műanyag szárral 25 mm// Palisad",4352,"B","Active",9999,null,null,"No info","линк"]
[6083758,"Bozotvago, 580 mm, hullamos pengek, fa markolat",2733,"B","Active",9999,null,null,"No info","линк"]
[6145655,"Lapát laza anyagokhoz, 215x285x1325 mm, fa nyél impregnálással, Russia// Сибртех",5234,"B","Active",9999,null,null,"No info","линк"]
[6178858,"Acél fű gereblye, 430x1550 mm, 22 lapos fog, lakkozott nyél, LUXE// Palisad",4063,"B","Active",9999,null,null,"No info","линк"]
[6178988,"Acél gereblye, 360x1250 mm, 14 egyenes fog, lakkozott fa nyél, Russia// Сибртех",3834,"B","Active",9999,null,null,"No info","линк"]
[6179058,"Acél fű gereblye , 540x1450 mm, 24 lapos fog, lakkozott nyél, LUXE// Palisad",5378,"B","Active",9999,null,null,"No info","линк"]
[6260988,"Kombinált kapa, 3D szirom, 55x295 mm, teljesen fém// Palisad",684,"B","Active",9999,null,null,"No info","линк"]
[6321777,"Polipropilen sepru, 140х310х1550 mm, kerek, peremmel, fa nyellel// Palisad",2601,"B","Active",9999,null,null,"No info","линк"]
[6382127,"Karos 4 fogas, kerti, 180x280 mm, kovácsolt, nyél nélkül// Palisad",2574,"B","Active",9999,null,null,"No info","линк"]
[6448088,"Gyepszegély szalag, 10x900 cm, polipropilén, zöld// Palisad",1032,"B","Active",9999,null,null,"No info","линк"]
[6448188,"Gyepszegåly szalag, 15x900 cm, polipropilån, zold// Palisad",1518,"B","Active",9999,null,null,"No info","линк"]
[6448288,"Gyepszegély szalag, 20x900 cm, polipropilén, zöld// Palisad",1989,"B","Active",9999,null,null,"No info","линк"]
[6448388,"Gyepszegély szalag, 10x900 cm, polipropilén, barna// Palisad",1032,"B","Active",9999,null,null,"No info","линк"]
[6448488,"Gyepszegély szalag, 15x900 cm, polipropilén, barna// Palisad",1518,"B","Active",9999,null,null,"No info","линк"]
[6448588,"Gyepszegély szalag, 20x900 cm, polipropilén, barna// Palisad",1989,"B","Active",9999,null,null,"No info","линк"]
[6449088,"Kerti szerszámkészlet, teljes fém, 3 db, FRESH LINE// Palisad",2014,"B","Active",9999,null,null,"No info","линк"]
[6518758,"Tömlőfej, 8 minta// Palisad",1295,"B","Active",9999,null,null,"No info","линк"]
[6521258,"Vízpermetező rúd 8 mód, teljes hossz 750 mm, fém ház// Palisad",2831,"B","Active",9999,null,null,"No info","линк"]
[6525258,"Tömlőfej, állítható, fém tok// Palisad",3034,"B","Active",9999,null,null,"No info","линк"]
[6526358,"Tömlőfej, 10 mintás, fém tok// Palisad",3342,"B","Active",9999,null,null,"No info","линк"]
[6760388,"Megerősített kerti tömlő 3/4\", 15m, LUXE// Palisad",8422,"B","Active",9999,null,null,"No info","линк"]
[6841077,"Fa tengely, FSC, 30x1300 mm// Palisad",931,"B","Active",9999,null,null,"No info","линк"]
[6841277,"Fa tengely, FSC, 32x1300 mm// Palisad",1186,"B","Active",9999,null,null,"No info","линк"]
[6842377,"Fa tengely, FSC, 20x1300 mm// Palisad",472,"B","Active",9999,null,null,"No info","линк"]
[6842477,"Faszár, FSC, 28x1300 mm// Palisad",986,"B","Active",9999,null,null,"No info","линк"]
[6843177,"Fa tengely, FSC, 36x1300 mm// Palisad",1302,"B","Active",9999,null,null,"No info","линк"]
[6843277,"Faszár, FSC, 25x1300 mm// Palisad",802,"B","Active",9999,null,null,"No info","линк"]
[6843377,"Faszàr, FSC, 40x1300 mm// Palisad",1737,"B","Active",9999,null,null,"No info","линк"]
[6845477,"Kalapács nyél, FSC, 350 mm// Palisad",539,"B","Active",9999,null,null,"No info","линк"]
[6845777,"Kalapács nyél, FSC, 300 mm// Palisad",458,"B","Active",9999,null,null,"No info","линк"]
[6870557,"Görgő konténer alá",1761,"B","Active",9999,null,null,"No info","линк"]
[6871057,"Nem forgo Gorgo D 125 mm rogzito feltettel//MTX",1845,"B","Active",9999,null,null,"No info","линк"]
[6898457,"Kerti talicska, teherbírása 90 kg, tálca térfogata 65 l// Palisad",14178,"B","Active",9999,null,null,"No info","линк"]
[7021057,"5 pcs Wood drill set, 4-5-6-8-10 mm, straight shank// Sparta",400,"B","Active",9999,null,null,"No info","линк"]
[7021257,"8 pcs Wood drill set, 3-4-5-6-7-8-9-10 mm, straight shank// Sparta",567,"B","Active",9999,null,null,"No info","линк"]
[7040557,"6 db Lapos fúrókészlet 10-12-16-18-20-25 mm, hatlapú szár// Sparta",1523,"B","Active",9999,null,null,"No info","линк"]
[7042407,"Confirmat süllyesztő fúrókészlet, 3-5mm, 4 db. // Denzel",2826,"B","Active",9999,null,null,"No info","линк"]
[7042727,"Süllyesztett fúrókészlet fához, 3-10mm, 7 db // Denze",3271,"B","Active",9999,null,null,"No info","линк"]
[7047159,"Fa korkivago szett, 64-127mm, 8 db// MTX",2091,"B","Active",9999,null,null,"No info","линк"]
[7049309,"Állítható kör lyukvágó 30-300mm// MTX",2460,"B","Active",9999,null,null,"No info","линк"]
[7049559,"Lapos furofej bovito, 300mm, atm: 44-40mm, hatoldalu szar// MTX",688,"B","Active",9999,null,null,"No info","линк"]
[7124569,"Áttörő fúrószár 45 x 600 mm, SDS MAX// MTX",30098,"B","Active",9999,null,null,"No info","линк"]
[7125569,"Áttörő fúrószár 55 x 600 mm, SDS MAX// MTX",30957,"B","Active",9999,null,null,"No info","линк"]
[7126869,"Áttörő fúrószár 68 x 600 mm, SDS MAX// MTX",38976,"B","Active",9999,null,null,"No info","линк"]
[7128069,"Áttörő fúrószár 80 x 600 mm, SDS MAX// MTX",49651,"B","Active",9999,null,null,"No info","линк"]
[7172009,"Fem furofej HSS-TiN 2mm// MTX",106,"B","Active",9999,null,null,"No info","линк"]
[7172509,"Fem furofej HSS-TiN 2,5mm// MTX",116,"B","Active",9999,null,null,"No info","линк"]
[7172529,"Fem furofej HSS-TiN 2,5mm, hatoldalu szar// MTX",149,"B","Active",9999,null,null,"No info","линк"]
[7173009,"Fem furofej HSS-TiN 3mm// MTX",116,"B","Active",9999,null,null,"No info","линк"]
[7173029,"Fem furofej HSS-TiN 3mm, hatoldalu szar// MTX",159,"B","Active",9999,null,null,"No info",{"$f":"HYPERLINK(L3820,\"линк\")","v":"линк"}]
[7173209,"Fem furofej HSS-TiN 3,2mm// MTX",120,"B","Active",9999,null,null,"No info","линк"]
[7173229,"Fem furofej HSS-TiN 3,2mm, hatoldalu szar // MTX",163,"B","Active",9999,null,null,"No info","линк"]
[7173509,"Fem furofej HSS-TiN 3,5mm// MTX",126,"B","Active",9999,null,null,"No info","линк"]
[7173529,"Fem furofej HSS-TiN 3,5mm, hatoldalu szar// MTX",173,"B","Active",9999,null,null,"No info","линк"]
[7174009,"Fem furofej HSS-TiN 4mm// MTX",136,"B","Active",9999,null,null,"No info","линк"]
[7174029,"Fem furofej HSS-TiN 4mm, hatoldalu szar// MTX",193,"B","Active",9999,null,null,"No info","линк"]
[7174509,"Fem furofej HSS-TiN 4,5mm// MTX",149,"B","Active",9999,null,null,"No info","линк"]
[7174529,"Fem furofej HSS-TiN 4,5mm, hatoldalu szar// MTX",193,"B","Active",9999,null,null,"No info","линк"]
[7174809,"Fem furofej HSS-TiN 4,8mm// MTX",159,"B","Active",9999,null,null,"No info","линк"]
[7174829,"Fem furofej HSS-TiN 4,8mm, hatoldalu szar// MTX",206,"B","Active",9999,null,null,"No info","линк"]
[7175009,"Fem furofej HSS-TiN 5mm// MTX",159,"B","Active",9999,null,null,"No info","линк"]
[7175029,"Fem furofej HSS-TiN 5mm, hatoldalu szar// MTX",216,"B","Active",9999,null,null,"No info","линк"]
[7175509,"Fem furofej HSS-TiN 5,5mm// MTX",173,"B","Active",9999,null,null,"No info","линк"]
[7175529,"Fem furofej HSS-TiN 5,5mm, hatoldalu szar// MTX",242,"B","Active",9999,null,null,"No info","линк"]
[7176009,"Fem furofej HSS-TiN 6mm// MTX",193,"B","Active",9999,null,null,"No info","линк"]
[7176509,"Fem furofej HSS-TiN 6,5mm// MTX",237,"B","Active",9999,null,null,"No info","линк"]
[7176529,"Fem furofej HSS-TiN 6,5mm, hatoldalu szar// MTX",285,"B","Active",9999,null,null,"No info","линк"]
[7177009,"Fem furofej HSS-TiN 7mm// MTX",232,"B","Active",9999,null,null,"No info","линк"]
[7177029,"Fem furofej HSS-TiN 7mm, hatoldalu szar// MTX",308,"B","Active",9999,null,null,"No info","линк"]
[7177509,"Fem furofej HSS-TiN 7,5mm// MTX",242,"B","Active",9999,null,null,"No info","линк"]
[7177529,"Fem furofej HSS-TiN 7,5mm, hatoldalu szar// MTX",342,"B","Active",9999,null,null,"No info","линк"]
[7178009,"Fem furofej HSS-TiN 8mm// MTX",308,"B","Active",9999,null,null,"No info","линк"]
[7178529,"Fem furofej HSS-TiN 8,5mm, hatoldalu szar// MTX",391,"B","Active",9999,null,null,"No info","линк"]
[7179009,"Fem furofej HSS-TiN 9mm// MTX",356,"B","Active",9999,null,null,"No info","линк"]
[7179029,"Fem furofej HSS-TiN 9mm, hatoldalu szar// MTX",428,"B","Active",9999,null,null,"No info","линк"]
[7179509,"Fem furofej HSS-TiN 10mm// MTX",424,"B","Active",9999,null,null,"No info","линк"]
[7179529,"Fem furofej HSS-TiN 10mm, hatoldalu szar// MTX",491,"B","Active",9999,null,null,"No info","линк"]
[7179809,"Fem furofej HSS-TiN 12mm// MTX",578,"B","Active",9999,null,null,"No info","линк"]
[7250557,"9 db Kombinált falazófúró készlet 5-6-8mm + fém 5-6-8mm + fa 5-6-8mm// Sparta",835,"B","Active",9999,null,null,"No info","линк"]
[7250857,"Fúrókészlet betonhoz, fémhez, fához 4-5-6-8-10 mm, 15 db, műanyag doboz, hatlapú szár// Sparta",1905,"B","Active",9999,null,null,"No info","линк"]
[7280337,"Cserépfúró 5 mm, keresztlemez, hatlapú szár// Denzel",675,"B","Active",9999,null,null,"No info","линк"]
[7280537,"Cserépfúró 6 mm, keresztlemez, hatlapú szár// Denzel",695,"B","Active",9999,null,null,"No info","линк"]
[7280737,"Cserépfúró 8 mm, keresztlemez, hatlapú szár// Denzel",843,"B","Active",9999,null,null,"No info","линк"]
[7280937,"Cserépfúró 10 mm, keresztlemez, hatlapú szár// Denzel",988,"B","Active",9999,null,null,"No info","линк"]
[7311957,"Turbo diamond saw blade 125 õ 22,2 mm, dry cutting// Sparta",784,"B","Active",9999,null,null,"No info","линк"]
[7316377,"Szegmentált gyémánt fűrészlap 125 x 22,2 mm, száraz vágás// Sparta",765,"B","Active",9999,null,null,"No info","линк"]
[7375277,"Fem vago korong, 115х1,0х22,2 mm// Gross",244,"B","Active",9999,null,null,"No info","линк"]
[7375377,"Fеmvаgo korong, 115 x 1,2 x 22,2 mm// Gross",244,"B","Active",9999,null,null,"No info","линк"]
[7375477,"Fem vago korong 115x1,6x22,2 mm//GROSS",261,"B","Active",9999,null,null,"No info","линк"]
[7376277,"Fеmvаgo korong, 125 x 1,2 x 22,2 mm// Gross",261,"B","Active",9999,null,null,"No info","линк"]
[7379177,"Fem vago korong, 230 х 1,8 х 22,2 mm// Gross",794,"B","Active",9999,null,null,"No info","линк"]
[7379277,"Fem vago korong, 230 х 2,0 х 22,2 mm// Gross",810,"B","Active",9999,null,null,"No info","линк"]
[7379377,"Fém vágótárcsa, 230 х 2,5 х 22,2 mm// Bruttó",916,"B","Active",9999,null,null,"No info","линк"]
[7380694,"Kerek csiszolópapír csiszológéphez, öntapadó, perforált, P 120, 125 mm, 2x5 db// MTX",607,"B","Active",9999,null,null,"No info","линк"]
[7407644,"Lapos csiszolótárcsa, kúpos profil, P 24, 115 x 22,2 mm, SKU 74076 - 10 db.",2463,"B","Active",9999,null,null,"No info","линк"]
[7407944,"Lapos csiszolótárcsa, kúpos profil, P 80, 115 x 22,2 mm, SKU 74079 - 10 db.",2463,"B","Active",9999,null,null,"No info","линк"]
[7408344,"Lapos csiszolótárcsa, kúpos profil, P 40, 125 x 22,2 mm, SKU 74083 - 10 db.",2668,"B","Active",9999,null,null,"No info","линк"]
[7408444,"Lapos csiszolótárcsa, kúpos profil, P 60, 125 x 22,2 mm, SKU 74084 - 10 db.",2668,"B","Active",9999,null,null,"No info","линк"]
[7408544,"Lapos csiszolótárcsa, kúpos profil, P 80, 125 x 22,2 mm, SKU 74085 - 10 db.",2668,"B","Active",9999,null,null,"No info","линк"]
[7432794,"Fémvágó tárcsa, 115 x 1,2 x 22,2 mm, 743279 - 10 db.// MTX",2276,"B","Active",9999,null,null,"No info","линк"]
[7432894,"Fémvágó tárcsa, 115 x 1,6 x 22,2 mm, SKU 743289 - 10 db. // MTX",1847,"B","Active",9999,null,null,"No info","линк"]
[7433494,"Fémvágó tárcsa, 125 x 1,2 x 22,2 mm, SKU 743349 - 10 db.// MTX",2052,"B","Active",9999,null,null,"No info","линк"]
[7482257,"Acél drótkefe, 4 soros, fa nyéllel// Sparta",297,"B","Active",9999,null,null,"No info","линк"]
[7482457,"Acél drótkefe, 5 soros, fa nyéllel// Sparta",328,"B","Active",9999,null,null,"No info","линк"]
[7482657,"Acel drotkefe, 6 sor, fa nyellel// SPARTA",362,"B","Active",9999,null,null,"No info","линк"]
[7485057,"Fémkefe műanyag nyéllel// Sparta",342,"B","Active",9999,null,null,"No info","линк"]
[7718714,"Kőműves véső védőburkolattal, 8\"x 1 3/4\"// Denzel",3072,"B","Active",9999,null,null,"No info","линк"]
[7718715,"Kőműves véső védőburkolattal, 8 1/2\"x 2 3/8\"// Denzel",3635,"B","Active",9999,null,null,"No info","линк"]
[7733357,"6 db-os szerszámkészlet 1/2\" - 3/4\" -1\" matricatartó racsnis, 6 db// Sparta",15736,"B","Active",9999,null,null,"No info","линк"]
[7733557,"9 pcs Die set 1/4\"-3/8\"-1/2\"-3/4\"-1\"-1 1/4\" + die-holder with ratchet// Sparta",17980,"B","Active",9999,null,null,"No info","линк"]
[7734917,"5 1/2\" torpedîszint, 4 fiola, eloxàlt// Denzel",8590,"B","Active",9999,null,null,"No info","линк"]
[7734919,"9\" torpedîszint, 4 fiola, eloxàlt// Denzel",9170,"B","Active",9999,null,null,"No info","линк"]
[7735057,"5 db Elszívó készlet// Sparta",670,"B","Active",9999,null,null,"No info",{"$f":"HYPERLINK(L3883,\"линк\")","v":"линк"}]
[7754357,"ADJ fémfűrész keret fekete kivitelben 200-300mm// Sparta",1138,"B","Active",9999,null,null,"No info","линк"]
[7756059,"Femfuresz 250mm gumirozott nyellel",1203,"B","Active",9999,null,null,"No info","линк"]
[7777494,"Fém fémfűrészlap, 300 mm, 18TPI, elasztikus, SKU 777749 - 2x2 db// MTX",616,"B","Active",9999,null,null,"No info","линк"]
[7790345,"Munkakabát XXL// Denzel\n",17985,"B","Active",9999,null,null,"No info","линк"]
[7841059,"PVC/muanyag cso vago, max atmero: 42mm// MTX",1875,"B","Active",9999,null,null,"No info","линк"]
[7896877,"Kaparókések 9mm, 10db készlet// Sparta",138,"B","Active",9999,null,null,"No info","линк"]
[7931159,"Pengek szikehez 9mm, 10db-os keszlet",118,"B","Active",9999,null,null,"No info","линк"]
[7933159,"Pengek szikehez 18mm, 10db-os keszlet// MTX",193,"B","Active",9999,null,null,"No info","линк"]
[7933359,"Pengek szikehez 100mm, 10db-os keszlet // MTX",432,"B","Active",9999,null,null,"No info","линк"]
[7935559,"Pengek szikehez trapez, egyenes, 5 db-os keszlet",149,"B","Active",9999,null,null,"No info","линк"]
[8411457,"6 db-os ecsetkészlet (lapos ecsetek 3/4'', 1'', 1,5\", dekorecset №11, körkefék 1, 2)// Sparta",764,"B","Active",9999,null,null,"No info","линк"]
[8411557,"10 pcs Brush kit (flat brushes 3/4\"-2\", decor brush №8, 11, radiat.1\",1,5\", round №1,2)// Sparta",1365,"B","Active",9999,null,null,"No info","линк"]
[8480557,"Dekorációs ceruza 250 mm, 12 db-os készlet// Sparta",1026,"B","Active",9999,null,null,"No info","линк"]
[8543077,"Kaparî muanyag nyållel, rozsdamentes acål, 40mm//MTX",183,"B","Active",9999,null,null,"No info","линк"]
[8543277,"Kaparî 60mm muanyag nyållel, rozsdamentes acål// MTX",220,"B","Active",9999,null,null,"No info","линк"]
[8543577,"Kaparî 100mm muanyag nyållel, rozsdamentes// MTX",316,"B","Active",9999,null,null,"No info","линк"]
[8543677,"Kaparî muanyag nyållel, rozsdamentes acål, 150mm//MTX",322,"B","Active",9999,null,null,"No info","линк"]
[8543877,"Kaparó 200mm műanyag nyéllel, rozsdamentes acél// MTX",417,"B","Active",9999,null,null,"No info","линк"]
[8544277,"Kaparó 300mm műanyag nyéllel, rozsdamentes acél// MTX",582,"B","Active",9999,null,null,"No info","линк"]
[8544677,"Kaparó 350mm műanyag nyéllel, rozsdamentes acél// MTX",780,"B","Active",9999,null,null,"No info","линк"]
[8545077,"Kaparó 450mm műanyag nyéllel, rozsdamentes acél// MTX",1008,"B","Active",9999,null,null,"No info","линк"]
[8545277,"Kaparó műanyag nyéllel, rozsdamentes acél, 600mm// MTX",1230,"B","Active",9999,null,null,"No info","линк"]
[8545577,"Kaparî muanyag nyållel, rozsdamentes acål, fog 4x4 mm, 150 mm // MTX",358,"B","Active",9999,null,null,"No info","линк"]
[8545677,"Kaparî 200mm (någyzetfogu 4x4mm) muanyag nyållel, rozsdamentes acål// MTX",448,"B","Active",9999,null,null,"No info","линк"]
[8545777,"Kaparî 250mm (någyzetfogu 4x4mm) muanyag nyållel, rozsdamentes acål// MTX",617,"B","Active",9999,null,null,"No info","линк"]
[8545977,"Kaparî 150mm (någyzetfogu 6x6mm) muanyag nyållel, rozsdamentes acål// MTX",360,"B","Active",9999,null,null,"No info","линк"]
[8546477,"Kaparî 200mm (någyzetfogu 6x6mm) muanyag nyållel, rozsdamentes acål// MTX",456,"B","Active",9999,null,null,"No info","линк"]
[8546577,"Kaparî 250mm (någyzetfogu 6x6mm) muanyag nyållel, rozsdamentes acål// MTX",617,"B","Active",9999,null,null,"No info","линк"]
[8546777,"Kaparî 300mm (någyzetfogu 6x6mm) muanyag nyållel, rozsdamentes acål// MTX",705,"B","Active",9999,null,null,"No info","линк"]
[8547177,"Kaparî 150mm (någyzetfogu 8x8mm) muanyag nyållel, rozsdamentes acål// MTX",415,"B","Active",9999,null,null,"No info","линк"]
[8547377,"Kaparó műanyag nyéllel, rozsdamentes acél, fog 8x8 mm, 200 mm // MTX",462,"B","Active",9999,null,null,"No info","линк"]
[8547477,"Kaparî 250mm (någyzetfog 8x8mm) muanyag nyållel, rozsdamentes acål// MTX",611,"B","Active",9999,null,null,"No info","линк"]
[8547677,"Kaparî 300mm (någyzetfog 8x8mm) muanyag nyållel, rozsdamentes acål// MTX",654,"B","Active",9999,null,null,"No info","линк"]
[8548077,"Kaparó műanyag nyéllel, rozsdamentes acél, fog 10x10 mm, 150 mm // MTX",358,"B","Active",9999,null,null,"No info","линк"]
[8548277,"Kaparó műanyag nyéllel, rozsdamentes acél, fog 10x10 mm 200 mm // MTX",462,"B","Active",9999,null,null,"No info","линк"]
[8550077,"Kaparó 250mm (négyzetfog 10x10mm) műanyag nyéllel, rozsdamentes acél// MTX",617,"B","Active",9999,null,null,"No info","линк"]
[8752059,"uvegemelo, aluminium, double-action// MTX",5020,"B","Active",9999,null,null,"No info","линк"]
[8752559,"uvegemelo, aluminium, triple-action// MTX",7011,"B","Active",9999,null,null,"No info","линк"]
[8760597,"Cserépvágó 400 x 16 mm, tömör lemez, erős fogantyú, vezető csapággyal// MTX",19891,"B","Active",9999,null,null,"No info","линк"]
[8760997,"Cserépvágó 600 x 16 mm, tömör lemez, erős fogantyú, vezető csapággyal// MTX",23582,"B","Active",9999,null,null,"No info","линк"]
[8761397,"Cseråpvàgî 300 x12mm// MTX",4494,"B","Active",9999,null,null,"No info","линк"]
[8761997,"Cserépvágó 400 x 12 mm// MTX",4798,"B","Active",9999,null,null,"No info","линк"]
[8762297,"Cserépvágó 500 x 14 mm// MTX",8899,"B","Active",9999,null,null,"No info","линк"]
[8762597,"Csempe vago 600 x 14 mm//MTX",9732,"B","Active",9999,null,null,"No info","линк"]
[8765897,"Cserépvágó 600 x 16 mm-es forgatható fémszög// MTX",16216,"B","Active",9999,null,null,"No info","линк"]
[8766097,"Vágógörgő csempevágókhoz, 13,5 x 6,0 x 1,0 mm// MTX",352,"B","Active",9999,null,null,"No info","линк"]
[8766297,"Vágógörgő csempevágókhoz, 15,0 x 6,0 x 1,5 mm// MTX",373,"B","Active",9999,null,null,"No info","линк"]
[8766697,"Vágógörgő csempevágókhoz, 16,0 x 6,0 x 3,0 mm// MTX",460,"B","Active",9999,null,null,"No info","линк"]
[8766997,"Vágógörgő csempevágókhoz, 22,0 x 6,0 x 2,0 mm// MTX",540,"B","Active",9999,null,null,"No info","линк"]
[8767097,"Vágógörgő csempevágókhoz, 22,0 x 10,5 x 2,0 mm// MTX",521,"B","Active",9999,null,null,"No info","линк"]
[8768997,"Sínes csempevágó 700mm// MTX",31615,"B","Active",9999,null,null,"No info","линк"]
[8769197,"Sínes csempevágó 900mm// MTX",37686,"B","Active",9999,null,null,"No info","линк"]
[8769397,"Sínes csempevágó 1200mm// MTX",44917,"B","Active",9999,null,null,"No info","линк"]
[8783097,"Csempevágó 200 mm alumínium támasztékkal// MTX",1354,"B","Active",9999,null,null,"No info","линк"]
[8790659,"elgyalu, 140x42 mm, muanyag, gipszkartonhoz // MTX",1181,"B","Active",9999,null,null,"No info","линк"]
[8790859,"elgyalu, 250 x 42 mm, muanyag , gipszkartonhoz // MTX",1990,"B","Active",9999,null,null,"No info","линк"]
[8791459,"Csupaszító sík, 250 x 42 mm, fém gipszkartonhoz// MTX",3034,"B","Active",9999,null,null,"No info","линк"]
[8791659,"elgyalu, 250x42 mm, fem , gipszkartonhoz, allithato nyel// MTX",2995,"B","Active",9999,null,null,"No info","линк"]
[8793259,"Potracs elgyaluhoz, 140 x 40 mm, elemek: 87906, 87910// MTX",682,"B","Active",9999,null,null,"No info","линк"]
[8793659,"Potracs elgyaluhoz, 250 x 40 mm, elemek: 87908, 87914, 87912, 87916, 87918// MTX",1049,"B","Active",9999,null,null,"No info","линк"]
[8832390,"Acål szogletes någyzet, beosztàs, 250 mm// MTX",1252,"B","Active",9999,null,null,"No info",{"$f":"HYPERLINK(L3944,\"линк\")","v":"линк"}]
[8832391,"Acål szogletes någyzet, beosztàs, 250 mm// MTX",1554,"B","Active",9999,null,null,"No info","линк"]
[8861257,"Kinyomo pisztoly, nyitott tipus 310ml, rogzitovel, hatoldalu rud 7 mm// SPARTA",863,"B","Active",9999,null,null,"No info","линк"]
[8863257,"Kinyomo pisztoly, 310ml felig nyitott, lekerekitett rud atm: 8 mm, eros keret //SPARTA",1739,"B","Active",9999,null,null,"No info","линк"]
[8863657,"Kinyomo pisztoly, 310ml felig nyitott, lekerekitett rud atm: 7 mm, eros keret //SPARTA",837,"B","Active",9999,null,null,"No info","линк"]
[8864757,"Kinyomo pisztoly, 400 ml, zart, aluminium test, lekerekitett rud atm: 8 mm// SPARTA",2415,"B","Active",9999,null,null,"No info","линк"]
[8864857,"Tömítő pisztoly 750ml, zárt, alumínium ház, körrúd 8 mm// Sparta",3338,"B","Active",9999,null,null,"No info","линк"]
[9060259,"Műszerdoboz 484x154x165 mm, fém// MTX",8593,"B","Active",9999,null,null,"No info","линк"]
[9130039,"Forrasztópáka, műanyag fogantyú, réz hegy tartós védőbevonattal, 220 V, 30 W// MTX",912,"B","Active",9999,null,null,"No info","линк"]
[9130069,"Forrasztópáka, műanyag nyél, réz hegy tartós védőbevonattal, 220 V, 60 W// MTX",1424,"B","Active",9999,null,null,"No info","линк"]
[9130339,"Forrasztópáka, ABS műanyag nyél, réz hegy tartós védőbevonattal, 220V, 30W// MTX",1120,"B","Active",9999,null,null,"No info","линк"]
[9130349,"Forrasztópáka, ABS műanyag fogantyú, réz hegy tartós védőbevonattal, 220V, 40W// MTX",1404,"B","Active",9999,null,null,"No info","линк"]
[9130369,"Forrasztópáka, ABS műanyag fogantyú, réz hegy tartós védőbevonattal, 220V, 60W// MTX",1464,"B","Active",9999,null,null,"No info","линк"]
[9130439,"Forrasztópáka, ABS műanyag, 1. osztály, indikátor, rézcsúcs védőbevonattal, 220V, 30W// MTX",3128,"B","Active",9999,null,null,"No info","линк"]
[9130449,"Forrasztópáka, ABS műanyag, 1. osztály, indikátor, rézcsúcs védőbevonattal, 220V, 40W// MTX",2456,"B","Active",9999,null,null,"No info","линк"]
[9130469,"Forrasztópáka, ABS műanyag, 1. osztály, indikátor, rézcsúcs védőbevonattal, 220V, 60W// MTX",2602,"B","Active",9999,null,null,"No info","линк"]
[9307057,"Átlátszó melegen olvadó ragasztórudak, 11 x 300 mm, 33 db.// Sparta",3225,"B","Active",9999,null,null,"No info","линк"]
[9307209,"Átlátszó melegen olvadó ragasztórudak,11 x 200 mm, 6 db// MTX",680,"B","Active",9999,null,null,"No info","линк"]
[9307319,"Átlátszó melegen olvadó ragasztórudak,11 x 200 mm, 12 db// MTX",896,"B","Active",9999,null,null,"No info","линк"]
[9307329,"Átlátszó melegen olvadó ragasztórudak,11 x 200 mm, 12 db// MTX",833,"B","Active",9999,null,null,"No info","линк"]
[9307339,"Fehér olvadó ragasztórudak, 11 x 200 mm, 12 db/ MTX",867,"B","Active",9999,null,null,"No info","линк"]
[9622277,"Benzines bozótvágó DT-33, 32,5 mm, 1,05 kW, egy darabból álló tengely, 2 részből áll// Denzel",49057,"B","Active",9999,null,null,"No info","линк"]
[9622377,"Benzines bozótvágó DT-33S, 32,5 ññ, 1,05 kW, kétrészes tengely, 2 részből áll// Denzel",41263,"B","Active",9999,null,null,"No info","линк"]
[9622477,"Benzines bozótvágó DT-43, 43 mm, 1,25 kW, egyrészes tengely, 2 részből áll// Denzel",53103,"B","Active",9999,null,null,"No info","линк"]
[9622577,"Benzines bozótvágó DT-43S, 43 mm, 1,25 kW, kétrészes tengely, 2 részből áll// Denzel",53103,"B","Active",9999,null,null,"No info","линк"]
[9622677,"Benzines bozótvágó DT-52, 52 cc, 1,45 kW, egyrészes tengely, 2 részből áll// Denzel",42246,"B","Active",9999,null,null,"No info","линк"]
[9622777,"Benzines bozótvágó DT-52S, 52 cc, 1,45 kW, kétrészes tengely, 2 részből áll// Denzel",53356,"B","Active",9999,null,null,"No info","линк"]
[9648937,"Gáz infravörös fűtés GIH 5-15, 4,2 kW, propán-bután // Denzel",81278,"B","Active",9999,null,null,"No info","линк"]
[9649037,"Kombi kvarc gáz infrafűtő GIH 5-30, 5,7 kW, propán-bután // Denzel",88743,"B","Active",9999,null,null,"No info","линк"]
[9771577,"Alumínium létra, 6 lépcsős// MTX",47914,"B","Active",9999,null,null,"No info","линк"]
[9772277,"Alumínium létra, 3 lépcső// Denzel",19888,"B","Active",9999,null,null,"No info","линк"]
[9772577,"Alumínium létra, 6 lépcső// Denzel",34092,"B","Active",9999,null,null,"No info","линк"]
[9772677,"Alumínium létra, 7 lépcső// Denzel",40586,"B","Active",9999,null,null,"No info","линк"]
[10202577,"Gépészkalapács fa nyéllel, 100 g, szögletes toll, FSC// Sparta",785,"B","Active",9999,null,null,"No info","линк"]
[10206577,"Gépészkalapács fa nyéllel, 300 g, szögletes toll, FSC// Sparta",1189,"B","Active",9999,null,null,"No info","линк"]
[10208577,"Gépészkalapács fa nyéllel, 400 g, szögletes toll, FSC// Sparta",1302,"B","Active",9999,null,null,"No info","линк"]
[10210577,"Gépészkalapács fa nyéllel, 500 g, szögletes toll, FSC// Sparta",1495,"B","Active",9999,null,null,"No info","линк"]
[10215577,"Gépészkalapács fa nyéllel, 800 g, szögletes toll, FSC// Sparta",2061,"B","Active",9999,null,null,"No info","линк"]
[10221577,"Gépész kalapács fa nyéllel, 1500 g, szögletes toll, FSC// Sparta",3034,"B","Active",9999,null,null,"No info","линк"]
[10410577,"Karmos kalapács, 225g, 22 mm-es toll fa nyéllel, FSC// Sparta",1329,"B","Active",9999,null,null,"No info","линк"]
[60023788,"Clogs for men, size 45 (black) // Россия",1795,"B","Active",9999,null,null,"No info","линк"]
[60024788,"Női szandál, 36-os méret (fuschia) //RUSSIA",1949,"B","Active",9999,null,null,"No info","линк"]
[60028788,"Női szandál, 40-es méret (fuschia) //RUSSIA",1949,"B","Active",9999,null,null,"No info","линк"]
[60030788,"Férfi szandál, 40-es méret (fekete) // RUSSIA",2108,"B","Active",9999,null,null,"No info","линк"]
[60031788,"Férfi szandál, 41-es méret (fekete) // Россия",2147,"B","Active",9999,null,null,"No info","линк"]
[63821558,"Kerti villa 4 szarv, 185õ280x1450 mm, kovácsolt, fa lakkozott nyél, LUXE// Palisad",5160,"B","Active",9999,null,null,"No info","линк"]
[63836558,"Vas villa 4 szarv, 210х300x1480 mm, kovácsolt, fa lakkozott nyél, LUXE// Palisad",5405,"B","Active",9999,null,null,"No info","линк"]
[71730294,"Fém fúrószár 3,0 mm HSS titán-nitrid bevonatú hatlapú szár 10db// MTX",2048,"B","Active",9999,null,null,"No info","линк"]
[71740294,"Fém fúrószár 4,0 mm HSS titán-nitrid bevonatú hatlapú szár 10db// MTX",2478,"B","Active",9999,null,null,"No info","линк"]